Workbook

Sheet Feuil1
A6: N° d'activité | B6: C.ES.PRE.1
A7: Intitulé | B7: Aide méthodologique et pédagogique à domicile
A8: Thématique | B8: Parentalité - lien parents-enfants - scolarité
A9: Classes concernées | B9: Du CP au CM2
A10: Horaires | B10: Sur le temps extra scolaire du lundi au samedi
A11: Encadrants-nombre-qualité | B11: 4 agents recrutés par SAPIH insertion
A12: Nombres enfants inscrits | B12: 32 en 2023
A13: Mixité oui-non | B13: OUI
A14: Taux participation/fréquentation | B14: 1
A15: Satisfaction
A16: Contenu pédagogique/ Objectifs | B16: Accompagnement individuel de l'enfant en présence d'au moins un parent. L'objectif est de favoriser la mobilisation des parents dans l'accompagnement scolaire de leur enfant en favorisant à la maison un lieu propice aux devoirs, en proposant de revoir les notions scolaires et en apportant une aide méthodologique à la révision des leçons.
A17: Indicateurs d'évaluation | B17: Passage en année supérieure Amélioration de la moyenne scolaire Capacité des parents à accompagner leur enfant sur les devoirs
A18: Remarques particulières

Sheet Feuil2
A6: N° d'activité | B6: C.PS.GR.1
A7: Intitulé | B7: Jardin pédagogique
A8: Thématique | B8: environnement
A9: Classes concernées | B9: PS MS GS CP CE1 CE2 CM1 CM2
A10: Horaires | B10: 7h- 8h45 17h30- 19h
A11: Encadrants-nombre-qualité | B11: 3 animateurs diplômés BAFA
A12: Nombres enfants inscrits | B12: Nombre variable suivant les jours (moyenne de 10 enfants de maternelle 20 enfants de primaire)
A13: Mixité oui-non | B13: oui
A14: Taux participation/fréquentation | B14: variable suivant le nombre d’enfant inscrit
A15: Satisfaction | B15: Aucune enquête n’a été effectué, mais les enfants ont été satisfaits
A16: Contenu pédagogique/ Objectifs | B16: Objectifs du projet : - contribuer positivement à l’éveil des enfants et de leurs sens - connecter les enfants à la nature et permettre de gérer le stress quotidien - assumer des responsabilités (plantation, entretien des bacs, arrosage) - améliorer l’environnement scolaire - la joie de récolter le fruit de leur travail - apprendre à suivre les saisons pour les différentes plantations
A17: Indicateurs d'évaluation
A18: Remarques particulières

Sheet Feuil3
A6: N° d'activité | B6: C.PS.GR.2
A7: Intitulé | B7: activité recyclage
A8: Thématique | B8: environnement
A9: Classes concernées | B9: PS MS GS CP CE1 CE2 CM1 CM2
A10: Horaires | B10: 7H 8H45 17H30 19H
A11: Encadrants-nombre-qualité | B11: 3 animateurs diplômés BAFA
A12: Nombres enfants inscrits | B12: Nombre variable suivant les jours (moyenne de 10 enfants de maternelle 20 enfants de primaire)
A13: Mixité oui-non | B13: oui
A14: Taux participation/fréquentation | B14: variable suivant le nombre d’enfant inscrit
A15: Satisfaction | B15: Aucune enquête n’a été effectuée, mais les enfants ont été satisfaits
A16: Contenu pédagogique/ Objectifs | B16: Objectifs du projet : - Développer l’imagination et la créativité chez l’enfant - Rechercher et accéder à des expressions artistiques nouvelles, innovantes et écologiques - Faire prendre conscience de la quantité de déchets produite - Apprendre à valoriser les déchets lutter contre le gaspillage et le diminuer
A17: Indicateurs d'évaluation
A18: Remarques particulières

Sheet Feuil4
A6: N° d'activité | B6: C.PS.GR.3
A7: Intitulé | B7: Multi sports
A8: Thématique | B8: sport
A9: Classes concernées | B9: PS MS GS CP CE1 CE2 CM1 CM2
A10: Horaires | B10: 7h 8h45 17h30 19h
A11: Encadrants-nombre-qualité | B11: 3 animateurs diplômés BAFA
A12: Nombres enfants inscrits | B12: Nombre variable suivant les jours (moyenne de 10 enfants de maternelle et 20 enfants de primaire)
A13: Mixité oui-non | B13: oui
A14: Taux participation/fréquentation | B14: variable suivant le nombre d’enfant inscrit
A15: Satisfaction | B15: Aucune enquête n’a été effectué, mais les enfants ont été satisfaits
A16: Contenu pédagogique/ Objectifs | B16: Objectifs du projet : - favoriser le développement psychomoteur de l’enfant - la diversification sportive permet aux enfants de développer une multitude d’habilités motrices - favoriser l’intégration, des enfants et l’image de soi - Développer l’esprit d’équipe, la solidarité, la collaboration - Apprendre à atteindre des objectifs - Inculquer des valeurs - Développer et épanouir l’enfant par le jeu et l’activité dans le respect ses rythmes et ses besoins
A17: Indicateurs d'évaluation
A18: Remarques particulières

Sheet Synthèse_Générale
B1: Feuil1 | C1: Feuil2 | D1: Feuil3 | E1: Feuil4
A2: =Feuil1!A1 -> 0 | B2: =Feuil1!B1 -> 0
A3: =Feuil1!A2 -> 0 | B3: =Feuil1!B2 -> 0
A4: =Feuil1!A3 -> 0 | B4: =Feuil1!B3 -> 0
A5: =Feuil1!A4 -> 0 | B5: =Feuil1!B4 -> 0
A6: =Feuil1!A5 -> 0 | B6: =Feuil1!B5 -> 0
A7: =Feuil1!A6 -> N° d'activité | B7: =Feuil1!B6 -> C.ES.PRE.1
A8: =Feuil1!A7 -> Intitulé | B8: =Feuil1!B7 -> Aide méthodologique et pédagogique à domicile
A9: =Feuil1!A8 -> Thématique | B9: =Feuil1!B8 -> Parentalité - lien parents-enfants - scolarité
A10: =Feuil1!A9 -> Classes concernées | B10: =Feuil1!B9 -> Du CP au CM2
A11: =Feuil1!A10 -> Horaires | B11: =Feuil1!B10 -> Sur le temps extra scolaire du lundi au samedi
A12: =Feuil1!A11 -> Encadrants-nombre-qualité | B12: =Feuil1!B11 -> 4 agents recrutés par SAPIH insertion
A13: =Feuil1!A12 -> Nombres enfants inscrits | B13: =Feuil1!B12 -> 32 en 2023
... A21: =Feuil1!A20 -> 0 | B21: =Feuil1!B20 -> 0
