Workbook
Name Liste_des_géomètres: 'Liste clients'!$A$4:$A$15

Sheet Liste clients
A3: Liste des géomètres
A4: PIERRE
A5: PAUL
A6: JACQUES

Sheet STAT TOTALE
A1: STATISTIQUES | C1: 43861
A2: CLIENTS | B2: nom du demandeur | C2: ville | D2: diagnostic | E2: n° dossier | F2: DATE | G2: NB PRELEVEMENTS | H2: PRIX DES PRELEVEMENTS HT | I2: PRIX DU DIAGNOSTIC HT | J2: PRIX TOTAL
A3: PIERRE | B3: Pierrette | C3: soisy | D3: XX | E3: 1 | F3: 43983 | G3: 1 | H3: 5 | I3: 200 | J3: =SUM(H3:I3) -> 205
A4: PAUL | B4: Paulette | C4: groslay | D4: LL | E4: 2 | F4: 43994 | I4: 50 | J4: =SUM(H4:I4) -> 50
A5: JACQUES | B5: Jacqueline | C5: deuil | D5: MM | E5: 3 | F5: 43997 | G5: 2 | H5: 20 | J5: =SUM(H5:I5) -> 20
A6: PIERRE | B6: Maryse | C6: baillet | D6: BB | E6: 4 | F6: 44008 | I6: 300 | J6: =SUM(H6:I6) -> 300
A7: PAUL | B7: Marie | C7: nices | D7: vvvv | E7: 2 | F7: 44024 | G7: 1 | H7: 300 | J7: =SUM(H7:I7) -> 300
J8: =SUM(H8:I8) -> 0
J9: =SUM(H9:I9) -> 0
J10: =SUM(H10:I10) -> 0
J11: =SUM(H11:I11) -> 0
J12: =SUM(H12:I12) -> 0
J13: =SUM(H13:I13) -> 0
J14: =SUM(H14:I14) -> 0
J15: =SUM(H15:I15) -> 0
J16: =SUM(H16:I16) -> 0
J17: =SUM(H17:I17) -> 0
J18: =SUM(H18:I18) -> 0
J19: =SUM(H19:I19) -> 0
... J26: =SUM(H26:I26) -> 0
G27: TOTAL HT | H27: =SUM(H3:H26) -> 325 | I27: =SUM(I3:I26) -> 550 | J27: =SUM(J3:J26) -> 875

Sheet Client Pierre
A2: PIERRE
A6: Géomètres | B6: nom du demandeur | C6: ville | D6: diagnostic | E6: n° dossier | F6: DATE | G6: NB PRELEVEMENTS | H6: PRIX DES PRELEVEMENTS HT | I6: PRIX DU DIAGNOSTIC HT | J6: PRIX TOTAL
A7: =+'STAT TOTALE'!A3 -> PIERRE | B7: =+'STAT TOTALE'!B3 -> Pierrette | C7: =+'STAT TOTALE'!C3 -> soisy | D7: =+'STAT TOTALE'!D3 -> XX | E7: =+'STAT TOTALE'!E3 -> 1 | F7: =+'STAT TOTALE'!F3 -> 43983 | G7: =+'STAT TOTALE'!G3 -> 1 | H7: =+'STAT TOTALE'!H3 -> 5 | ... J7: =+'STAT TOTALE'!J3 -> 205
A8: =+'STAT TOTALE'!A4 -> PAUL | B8: =+'STAT TOTALE'!B4 -> Paulette | C8: =+'STAT TOTALE'!C4 -> groslay | D8: =+'STAT TOTALE'!D4 -> LL | E8: =+'STAT TOTALE'!E4 -> 2 | F8: =+'STAT TOTALE'!F4 -> 43994 | G8: =+'STAT TOTALE'!G4 -> 0 | H8: =+'STAT TOTALE'!H4 -> 0 | ... J8: =+'STAT TOTALE'!J4 -> 50
A9: =+'STAT TOTALE'!A5 -> JACQUES | B9: =+'STAT TOTALE'!B5 -> Jacqueline | C9: =+'STAT TOTALE'!C5 -> deuil | D9: =+'STAT TOTALE'!D5 -> MM | E9: =+'STAT TOTALE'!E5 -> 3 | F9: =+'STAT TOTALE'!F5 -> 43997 | G9: =+'STAT TOTALE'!G5 -> 2 | H9: =+'STAT TOTALE'!H5 -> 20 | ... J9: =+'STAT TOTALE'!J5 -> 20
A10: =+'STAT TOTALE'!A6 -> PIERRE | B10: =+'STAT TOTALE'!B6 -> Maryse | C10: =+'STAT TOTALE'!C6 -> baillet | D10: =+'STAT TOTALE'!D6 -> BB | E10: =+'STAT TOTALE'!E6 -> 4 | F10: =+'STAT TOTALE'!F6 -> 44008 | G10: =+'STAT TOTALE'!G6 -> 0 | H10: =+'STAT TOTALE'!H6 -> 0 | ... J10: =+'STAT TOTALE'!J6 -> 300
A11: =+'STAT TOTALE'!A7 -> PAUL | B11: =+'STAT TOTALE'!B7 -> Marie | C11: =+'STAT TOTALE'!C7 -> nices | D11: =+'STAT TOTALE'!D7 -> vvvv | E11: =+'STAT TOTALE'!E7 -> 2 | F11: =+'STAT TOTALE'!F7 -> 44024 | G11: =+'STAT TOTALE'!G7 -> 1 | H11: =+'STAT TOTALE'!H7 -> 300 | ... J11: =+'STAT TOTALE'!J7 -> 300
A12: =+'STAT TOTALE'!A8 -> 0 | B12: =+'STAT TOTALE'!B8 -> 0 | C12: =+'STAT TOTALE'!C8 -> 0 | D12: =+'STAT TOTALE'!D8 -> 0 | E12: =+'STAT TOTALE'!E8 -> 0 | F12: =+'STAT TOTALE'!F8 -> 0 | G12: =+'STAT TOTALE'!G8 -> 0 | H12: =+'STAT TOTALE'!H8 -> 0 | ... J12: =+'STAT TOTALE'!J8 -> 0
A13: =+'STAT TOTALE'!A9 -> 0 | B13: =+'STAT TOTALE'!B9 -> 0 | C13: =+'STAT TOTALE'!C9 -> 0 | D13: =+'STAT TOTALE'!D9 -> 0 | E13: =+'STAT TOTALE'!E9 -> 0 | F13: =+'STAT TOTALE'!F9 -> 0 | G13: =+'STAT TOTALE'!G9 -> 0 | H13: =+'STAT TOTALE'!H9 -> 0 | ... J13: =+'STAT TOTALE'!J9 -> 0
A14: =+'STAT TOTALE'!A10 -> 0 | B14: =+'STAT TOTALE'!B10 -> 0 | C14: =+'STAT TOTALE'!C10 -> 0 | D14: =+'STAT TOTALE'!D10 -> 0 | E14: =+'STAT TOTALE'!E10 -> 0 | F14: =+'STAT TOTALE'!F10 -> 0 | G14: =+'STAT TOTALE'!G10 -> 0 | H14: =+'STAT TOTALE'!H10 -> 0 | ... J14: =+'STAT TOTALE'!J10 -> 0
A15: =+'STAT TOTALE'!A11 -> 0 | B15: =+'STAT TOTALE'!B11 -> 0 | C15: =+'STAT TOTALE'!C11 -> 0 | D15: =+'STAT TOTALE'!D11 -> 0 | E15: =+'STAT TOTALE'!E11 -> 0 | F15: =+'STAT TOTALE'!F11 -> 0 | G15: =+'STAT TOTALE'!G11 -> 0 | H15: =+'STAT TOTALE'!H11 -> 0 | ... J15: =+'STAT TOTALE'!J11 -> 0
A16: =+'STAT TOTALE'!A12 -> 0 | B16: =+'STAT TOTALE'!B12 -> 0 | C16: =+'STAT TOTALE'!C12 -> 0 | D16: =+'STAT TOTALE'!D12 -> 0 | E16: =+'STAT TOTALE'!E12 -> 0 | F16: =+'STAT TOTALE'!F12 -> 0 | G16: =+'STAT TOTALE'!G12 -> 0 | H16: =+'STAT TOTALE'!H12 -> 0 | ... J16: =+'STAT TOTALE'!J12 -> 0
A17: =+'STAT TOTALE'!A13 -> 0 | B17: =+'STAT TOTALE'!B13 -> 0 | C17: =+'STAT TOTALE'!C13 -> 0 | D17: =+'STAT TOTALE'!D13 -> 0 | E17: =+'STAT TOTALE'!E13 -> 0 | F17: =+'STAT TOTALE'!F13 -> 0 | G17: =+'STAT TOTALE'!G13 -> 0 | H17: =+'STAT TOTALE'!H13 -> 0 | ... J17: =+'STAT TOTALE'!J13 -> 0
A18: =+'STAT TOTALE'!A14 -> 0 | B18: =+'STAT TOTALE'!B14 -> 0 | C18: =+'STAT TOTALE'!C14 -> 0 | D18: =+'STAT TOTALE'!D14 -> 0 | E18: =+'STAT TOTALE'!E14 -> 0 | F18: =+'STAT TOTALE'!F14 -> 0 | G18: =+'STAT TOTALE'!G14 -> 0 | H18: =+'STAT TOTALE'!H14 -> 0 | ... J18: =+'STAT TOTALE'!J14 -> 0
... A30: =+'STAT TOTALE'!A26 -> 0 | B30: =+'STAT TOTALE'!B26 -> 0 | C30: =+'STAT TOTALE'!C26 -> 0 | D30: =+'STAT TOTALE'!D26 -> 0 | E30: =+'STAT TOTALE'!E26 -> 0 | F30: =+'STAT TOTALE'!F26 -> 0 | G30: =+'STAT TOTALE'!G26 -> 0 | H30: =+'STAT TOTALE'!H26 -> 0 | ... J30: =+'STAT TOTALE'!J26 -> 0

Sheet Client Paul
A2: PAUL
A5: Géomètres | B5: nom du demandeur | C5: ville | D5: diagnostic | E5: n° dossier | F5: DATE | G5: NB PRELEVEMENTS | H5: PRIX DES PRELEVEMENTS HT | I5: PRIX DU DIAGNOSTIC HT | J5: PRIX TOTAL
A6: =+'STAT TOTALE'!A3 -> PIERRE | B6: =+'STAT TOTALE'!B3 -> Pierrette | C6: =+'STAT TOTALE'!C3 -> soisy | D6: =+'STAT TOTALE'!D3 -> XX | E6: =+'STAT TOTALE'!E3 -> 1 | F6: =+'STAT TOTALE'!F3 -> 43983 | G6: =+'STAT TOTALE'!G3 -> 1 | H6: =+'STAT TOTALE'!H3 -> 5 | ... J6: =+'STAT TOTALE'!J3 -> 205
A7: =+'STAT TOTALE'!A4 -> PAUL | B7: =+'STAT TOTALE'!B4 -> Paulette | C7: =+'STAT TOTALE'!C4 -> groslay | D7: =+'STAT TOTALE'!D4 -> LL | E7: =+'STAT TOTALE'!E4 -> 2 | F7: =+'STAT TOTALE'!F4 -> 43994 | G7: =+'STAT TOTALE'!G4 -> 0 | H7: =+'STAT TOTALE'!H4 -> 0 | ... J7: =+'STAT TOTALE'!J4 -> 50
A8: =+'STAT TOTALE'!A5 -> JACQUES | B8: =+'STAT TOTALE'!B5 -> Jacqueline | C8: =+'STAT TOTALE'!C5 -> deuil | D8: =+'STAT TOTALE'!D5 -> MM | E8: =+'STAT TOTALE'!E5 -> 3 | F8: =+'STAT TOTALE'!F5 -> 43997 | G8: =+'STAT TOTALE'!G5 -> 2 | H8: =+'STAT TOTALE'!H5 -> 20 | ... J8: =+'STAT TOTALE'!J5 -> 20
A9: =+'STAT TOTALE'!A6 -> PIERRE | B9: =+'STAT TOTALE'!B6 -> Maryse | C9: =+'STAT TOTALE'!C6 -> baillet | D9: =+'STAT TOTALE'!D6 -> BB | E9: =+'STAT TOTALE'!E6 -> 4 | F9: =+'STAT TOTALE'!F6 -> 44008 | G9: =+'STAT TOTALE'!G6 -> 0 | H9: =+'STAT TOTALE'!H6 -> 0 | ... J9: =+'STAT TOTALE'!J6 -> 300
A10: =+'STAT TOTALE'!A7 -> PAUL | B10: =+'STAT TOTALE'!B7 -> Marie | C10: =+'STAT TOTALE'!C7 -> nices | D10: =+'STAT TOTALE'!D7 -> vvvv | E10: =+'STAT TOTALE'!E7 -> 2 | F10: =+'STAT TOTALE'!F7 -> 44024 | G10: =+'STAT TOTALE'!G7 -> 1 | H10: =+'STAT TOTALE'!H7 -> 300 | ... J10: =+'STAT TOTALE'!J7 -> 300
A11: =+'STAT TOTALE'!A8 -> 0 | B11: =+'STAT TOTALE'!B8 -> 0 | C11: =+'STAT TOTALE'!C8 -> 0 | D11: =+'STAT TOTALE'!D8 -> 0 | E11: =+'STAT TOTALE'!E8 -> 0 | F11: =+'STAT TOTALE'!F8 -> 0 | G11: =+'STAT TOTALE'!G8 -> 0 | H11: =+'STAT TOTALE'!H8 -> 0 | ... J11: =+'STAT TOTALE'!J8 -> 0
A12: =+'STAT TOTALE'!A9 -> 0 | B12: =+'STAT TOTALE'!B9 -> 0 | C12: =+'STAT TOTALE'!C9 -> 0 | D12: =+'STAT TOTALE'!D9 -> 0 | E12: =+'STAT TOTALE'!E9 -> 0 | F12: =+'STAT TOTALE'!F9 -> 0 | G12: =+'STAT TOTALE'!G9 -> 0 | H12: =+'STAT TOTALE'!H9 -> 0 | ... J12: =+'STAT TOTALE'!J9 -> 0
A13: =+'STAT TOTALE'!A10 -> 0 | B13: =+'STAT TOTALE'!B10 -> 0 | C13: =+'STAT TOTALE'!C10 -> 0 | D13: =+'STAT TOTALE'!D10 -> 0 | E13: =+'STAT TOTALE'!E10 -> 0 | F13: =+'STAT TOTALE'!F10 -> 0 | G13: =+'STAT TOTALE'!G10 -> 0 | H13: =+'STAT TOTALE'!H10 -> 0 | ... J13: =+'STAT TOTALE'!J10 -> 0
A14: =+'STAT TOTALE'!A11 -> 0 | B14: =+'STAT TOTALE'!B11 -> 0 | C14: =+'STAT TOTALE'!C11 -> 0 | D14: =+'STAT TOTALE'!D11 -> 0 | E14: =+'STAT TOTALE'!E11 -> 0 | F14: =+'STAT TOTALE'!F11 -> 0 | G14: =+'STAT TOTALE'!G11 -> 0 | H14: =+'STAT TOTALE'!H11 -> 0 | ... J14: =+'STAT TOTALE'!J11 -> 0
A15: =+'STAT TOTALE'!A12 -> 0 | B15: =+'STAT TOTALE'!B12 -> 0 | C15: =+'STAT TOTALE'!C12 -> 0 | D15: =+'STAT TOTALE'!D12 -> 0 | E15: =+'STAT TOTALE'!E12 -> 0 | F15: =+'STAT TOTALE'!F12 -> 0 | G15: =+'STAT TOTALE'!G12 -> 0 | H15: =+'STAT TOTALE'!H12 -> 0 | ... J15: =+'STAT TOTALE'!J12 -> 0
A16: =+'STAT TOTALE'!A13 -> 0 | B16: =+'STAT TOTALE'!B13 -> 0 | C16: =+'STAT TOTALE'!C13 -> 0 | D16: =+'STAT TOTALE'!D13 -> 0 | E16: =+'STAT TOTALE'!E13 -> 0 | F16: =+'STAT TOTALE'!F13 -> 0 | G16: =+'STAT TOTALE'!G13 -> 0 | H16: =+'STAT TOTALE'!H13 -> 0 | ... J16: =+'STAT TOTALE'!J13 -> 0
A17: =+'STAT TOTALE'!A14 -> 0 | B17: =+'STAT TOTALE'!B14 -> 0 | C17: =+'STAT TOTALE'!C14 -> 0 | D17: =+'STAT TOTALE'!D14 -> 0 | E17: =+'STAT TOTALE'!E14 -> 0 | F17: =+'STAT TOTALE'!F14 -> 0 | G17: =+'STAT TOTALE'!G14 -> 0 | H17: =+'STAT TOTALE'!H14 -> 0 | ... J17: =+'STAT TOTALE'!J14 -> 0
... A29: =+'STAT TOTALE'!A26 -> 0 | B29: =+'STAT TOTALE'!B26 -> 0 | C29: =+'STAT TOTALE'!C26 -> 0 | D29: =+'STAT TOTALE'!D26 -> 0 | E29: =+'STAT TOTALE'!E26 -> 0 | F29: =+'STAT TOTALE'!F26 -> 0 | G29: =+'STAT TOTALE'!G26 -> 0 | H29: =+'STAT TOTALE'!H26 -> 0 | ... J29: =+'STAT TOTALE'!J26 -> 0

Sheet Client Jacques
B2: JACQUES | H2: 1.2
A7: Géomètres | B7: nom du demandeur | C7: ville | D7: diagnostic | E7: n° dossier | F7: DATE | G7: NB PRELEVEMENTS | H7: PRIX DES PRELEVEMENTS HT | I7: PRIX DU DIAGNOSTIC HT | J7: PRIX TOTAL
A8: =+'STAT TOTALE'!A3 -> PIERRE | B8: =+'STAT TOTALE'!B3 -> Pierrette | C8: =+'STAT TOTALE'!C3 -> soisy | D8: =+'STAT TOTALE'!D3 -> XX | E8: =+'STAT TOTALE'!E3 -> 1 | F8: =+'STAT TOTALE'!F3 -> 43983 | G8: =+'STAT TOTALE'!G3 -> 1 | H8: =+'STAT TOTALE'!H3 -> 5 | ... J8: =+'STAT TOTALE'!J3 -> 205
A9: =+'STAT TOTALE'!A4 -> PAUL | B9: =+'STAT TOTALE'!B4 -> Paulette | C9: =+'STAT TOTALE'!C4 -> groslay | D9: =+'STAT TOTALE'!D4 -> LL | E9: =+'STAT TOTALE'!E4 -> 2 | F9: =+'STAT TOTALE'!F4 -> 43994 | G9: =+'STAT TOTALE'!G4 -> 0 | H9: =+'STAT TOTALE'!H4 -> 0 | ... J9: =+'STAT TOTALE'!J4 -> 50
A10: =+'STAT TOTALE'!A5 -> JACQUES | B10: =+'STAT TOTALE'!B5 -> Jacqueline | C10: =+'STAT TOTALE'!C5 -> deuil | D10: =+'STAT TOTALE'!D5 -> MM | E10: =+'STAT TOTALE'!E5 -> 3 | F10: =+'STAT TOTALE'!F5 -> 43997 | G10: =+'STAT TOTALE'!G5 -> 2 | H10: =+'STAT TOTALE'!H5 -> 20 | ... J10: =+'STAT TOTALE'!J5 -> 20
A11: =+'STAT TOTALE'!A6 -> PIERRE | B11: =+'STAT TOTALE'!B6 -> Maryse | C11: =+'STAT TOTALE'!C6 -> baillet | D11: =+'STAT TOTALE'!D6 -> BB | E11: =+'STAT TOTALE'!E6 -> 4 | F11: =+'STAT TOTALE'!F6 -> 44008 | G11: =+'STAT TOTALE'!G6 -> 0 | H11: =+'STAT TOTALE'!H6 -> 0 | ... J11: =+'STAT TOTALE'!J6 -> 300
A12: =+'STAT TOTALE'!A7 -> PAUL | B12: =+'STAT TOTALE'!B7 -> Marie | C12: =+'STAT TOTALE'!C7 -> nices | D12: =+'STAT TOTALE'!D7 -> vvvv | E12: =+'STAT TOTALE'!E7 -> 2 | F12: =+'STAT TOTALE'!F7 -> 44024 | G12: =+'STAT TOTALE'!G7 -> 1 | H12: =+'STAT TOTALE'!H7 -> 300 | ... J12: =+'STAT TOTALE'!J7 -> 300
A13: =+'STAT TOTALE'!A8 -> 0 | B13: =+'STAT TOTALE'!B8 -> 0 | C13: =+'STAT TOTALE'!C8 -> 0 | D13: =+'STAT TOTALE'!D8 -> 0 | E13: =+'STAT TOTALE'!E8 -> 0 | F13: =+'STAT TOTALE'!F8 -> 0 | G13: =+'STAT TOTALE'!G8 -> 0 | H13: =+'STAT TOTALE'!H8 -> 0 | ... J13: =+'STAT TOTALE'!J8 -> 0
A14: =+'STAT TOTALE'!A9 -> 0 | B14: =+'STAT TOTALE'!B9 -> 0 | C14: =+'STAT TOTALE'!C9 -> 0 | D14: =+'STAT TOTALE'!D9 -> 0 | E14: =+'STAT TOTALE'!E9 -> 0 | F14: =+'STAT TOTALE'!F9 -> 0 | G14: =+'STAT TOTALE'!G9 -> 0 | H14: =+'STAT TOTALE'!H9 -> 0 | ... J14: =+'STAT TOTALE'!J9 -> 0
A15: =+'STAT TOTALE'!A10 -> 0 | B15: =+'STAT TOTALE'!B10 -> 0 | C15: =+'STAT TOTALE'!C10 -> 0 | D15: =+'STAT TOTALE'!D10 -> 0 | E15: =+'STAT TOTALE'!E10 -> 0 | F15: =+'STAT TOTALE'!F10 -> 0 | G15: =+'STAT TOTALE'!G10 -> 0 | H15: =+'STAT TOTALE'!H10 -> 0 | ... J15: =+'STAT TOTALE'!J10 -> 0
A16: =+'STAT TOTALE'!A11 -> 0 | B16: =+'STAT TOTALE'!B11 -> 0 | C16: =+'STAT TOTALE'!C11 -> 0 | D16: =+'STAT TOTALE'!D11 -> 0 | E16: =+'STAT TOTALE'!E11 -> 0 | F16: =+'STAT TOTALE'!F11 -> 0 | G16: =+'STAT TOTALE'!G11 -> 0 | H16: =+'STAT TOTALE'!H11 -> 0 | ... J16: =+'STAT TOTALE'!J11 -> 0
A17: =+'STAT TOTALE'!A12 -> 0 | B17: =+'STAT TOTALE'!B12 -> 0 | C17: =+'STAT TOTALE'!C12 -> 0 | D17: =+'STAT TOTALE'!D12 -> 0 | E17: =+'STAT TOTALE'!E12 -> 0 | F17: =+'STAT TOTALE'!F12 -> 0 | G17: =+'STAT TOTALE'!G12 -> 0 | H17: =+'STAT TOTALE'!H12 -> 0 | ... J17: =+'STAT TOTALE'!J12 -> 0
A18: =+'STAT TOTALE'!A13 -> 0 | B18: =+'STAT TOTALE'!B13 -> 0 | C18: =+'STAT TOTALE'!C13 -> 0 | D18: =+'STAT TOTALE'!D13 -> 0 | E18: =+'STAT TOTALE'!E13 -> 0 | F18: =+'STAT TOTALE'!F13 -> 0 | G18: =+'STAT TOTALE'!G13 -> 0 | H18: =+'STAT TOTALE'!H13 -> 0 | ... J18: =+'STAT TOTALE'!J13 -> 0
A19: =+'STAT TOTALE'!A14 -> 0 | B19: =+'STAT TOTALE'!B14 -> 0 | C19: =+'STAT TOTALE'!C14 -> 0 | D19: =+'STAT TOTALE'!D14 -> 0 | E19: =+'STAT TOTALE'!E14 -> 0 | F19: =+'STAT TOTALE'!F14 -> 0 | G19: =+'STAT TOTALE'!G14 -> 0 | H19: =+'STAT TOTALE'!H14 -> 0 | ... J19: =+'STAT TOTALE'!J14 -> 0
... A31: =+'STAT TOTALE'!A26 -> 0 | B31: =+'STAT TOTALE'!B26 -> 0 | C31: =+'STAT TOTALE'!C26 -> 0 | D31: =+'STAT TOTALE'!D26 -> 0 | E31: =+'STAT TOTALE'!E26 -> 0 | F31: =+'STAT TOTALE'!F26 -> 0 | G31: =+'STAT TOTALE'!G26 -> 0 | H31: =+'STAT TOTALE'!H26 -> 0 | ... J31: =+'STAT TOTALE'!J26 -> 0
