Workbook
Name Checked: DATA!$J$8
Name DATA_DQA_1: DATA!$A$19
Name DATA_DQA_10: DATA!$A$20
Name DATA_DQA_11: DATA!$A$21
Name DATA_DQA_14: DATA!$A$24
Name DATA_DQA_15: DATA!$A$25
Name DATA_DQA_16: DATA!$A$26
Name DATA_DQA_18: DATA!$A$28
Name DATA_DQA_2: DATA!$A$30
Name DATA_QDA_12: DATA!$A$22
Name DATA_QDA_13: DATA!$A$23
Name DATA_QDA_17: DATA!$A$27
Name DATA_QDA_19: DATA!$A$29
Name DATA_QDA_3: DATA!$A$31
Name DATA_QDA_4: DATA!$A$32
Name DATA_QDA_5: DATA!$A$33
Name DATA_QDA_6: DATA!$A$34
Name DATA_QDA_7: DATA!$A$34
Name DATA_QDA_8: DATA!$A$35
Name DATA_QDA_9: DATA!$A$36
Name DATA_Status_INPROGRESS: DATA!$J$5
Name DATA_Status_TOBESTARTED: DATA!$J$4
Name DateAbove: [1]Planning!A$7
Name Done: DATA!$J$6
Name full: DATA!$K$14
Name In_progress: DATA!$J$5
Name In_progress: DATA!$J$5
Name Progress_rate_0: DATA!$K$12
Name ReportingDate: #REF!
Name ReportingDate: SYNTHESIS!$B$10
Name Risk_accepted: DATA!$K$12
Name Status_No_Project: DATA!$J$3
Name Target_Not_Applicable: DATA!$M$12
Name THEME_P1: DATA!$AG:$AG
Name To_be_started: DATA!$J$4
Name ValidityChecks: GLOBAL_DATA[[To be started and > 0%]:[Done]]

Sheet SYNTHESIS
C2: DARWIN² REPORT | F2: Document C2-Confidential
B4: =INDEX(#REF!,1) -> #REF! | D4: =INDEX(GLOBAL_DATA[Region],1) -> XX | F4: =INDEX(GLOBAL_DATA[BU],1) -> XX
B5: ENTITY | D5: REGION | F5: BU
B7: Entity CISO
B8: Entity Sponsor
B10: 44084
B11: Reporting date
B13: =SUMPRODUCT((GLOBAL_DATA[CISO assessment]="Alert")*1) -> 0 | D13: =SUM(GLOBAL_DATA[DataInconsistency]) -> 2 | F13: =SUM(GLOBAL_DATA[EmptyFields]) -> 0
B14: CISO ALERTS | D14: Data inconsistencies | F14: Empty fields
B16: CISO Key Messages since last update
I17: CISO will indicate major information on the program since previous reporting, including : - major achievements (measures that reached 'done', 'Checked CISO' or 'Verified' status) - measures for which the work has started - encountered delays and explanation - resource problems - change of organisation if it impacts the program ...

Sheet SECURITY MEASURES
A1: XX | C1: IMPLEMENTATION at the end of the program | F1: PROJECT EXECUTION | J1: PLANNING | O1: BUDGET (k€) | AD1: CHECKS
C2: (including already implemented measures) | P2: TOTAL | S2: 2020 | V2: 2021 | Y2: 2022 | AB2: 2023 | AJ2: STATUS ALERTS | AR2: BUDGET ALERTS | AW2: RISK STATUS ALERT | AY2: DISMISS DATA QUALITY ANOMALIES | AZ2: HELPER - STATUS
A4: BU | B4: Region | C4: Target status | D4: Target scope | E4: Target justification (if<100%) | F4: Status | G4: Implementation progress rate | H4: CISO assessment | I4: CISO Comments | J4: Resource allocated | K4: Main actor | L4: Kick-off | M4: Initial end | N4: Re-estimated end | O4: Total Initial | P4: Total re-estimated | Q4: Total Spent | R4: Initial 2020 | S4: Reestimated 2020 | T4: Spent 2020 | U4: Initial 2021 | V4: Reestimated 2021 | W4: Spent 2021 | X4: Initial 2022 | Y4: Reestimated 2022 | Z4: Spent 2022 | AA4: Initial 2023 | AB4: Reestimated 2023 | AC4: Spent 2023 | AD4: Global Progress rate | AE4: Impl_Yes | AF4: Impl_Date | AG4: DataInconsistency | AH4: EmptyFields | AI4: Data Quality Anomalies | AJ4: To be started and > 0% | AK4: In progress and = 100% | AL4: In progress = 0% | AM4: Completed < 100% | AN4: No status selected | AO4: In progress and no planning | AP4: To be started and no planning | AQ4: In progress and budget = 0 | AR4: Budget but no kick-off | AS4: Budget but no end date | AT4: Today's date > Kick off & Not started | AU4: Kick-off > Reestimated end | AV4: Completed but wrong reestimated | AW4: Risk status warning | AX4: Risk status alert | AY4: Ignore/Accept the Data Quality Anomaly | AZ4: Will not be done | BA4: Will be done | BB4: Done
A5: XX | B5: XX | C5: =IF(GLOBAL_DATA[[#This Row],[Target scope]]="","",INDEX(DATA_TargetStatusChoice[Target_Status_Choice],MATCH(GLOBAL_DATA[[#This Row],[Target scope]],DATA_TargetStatusChoice[Value],1))) -> FULL IMPLEMENTATION | D5: 1 | E5: - | F5: TO BE STARTED | G5: 0.2 | H5: No alert | I5: XX | J5: Secured | K5: Local | L5: 44075 | M5: 44196 | O5: =SUM(GLOBAL_DATA[[#This Row],[Initial 2020]],GLOBAL_DATA[[#This Row],[Initial 2021]],GLOBAL_DATA[[#This Row],[Initial 2022]],GLOBAL_DATA[[#This Row],[Initial 2023]]) -> 2 | P5: =SUM(GLOBAL_DATA[[#This Row],[Reestimated 2020]],GLOBAL_DATA[[#This Row],[Reestimated 2021]],GLOBAL_DATA[[#This Row],[Reestimated 2022]],GLOBAL_DATA[[#This Row],[Reestimated 2023]]) -> 0 | Q5: =SUM(GLOBAL_DATA[[#This Row],[Spent 2020]],GLOBAL_DATA[[#This Row],[Spent 2021]],GLOBAL_DATA[[#This Row],[Spent 2022]],GLOBAL_DATA[[#This Row],[Spent 2023]]) -> 0 | U5: 2 | AA5: 0 | AB5: 0 | AC5: 0 | AD5: =IF(GLOBAL_DATA[[#This Row],[Target scope]]<>Target_Not_Applicable,GLOBAL_DATA[[#This Row],[Target scope]]*GLOBAL_DATA[[#This Row],[Implementation progress rate]],"") -> 0.2 | AE5: =IF(OR(GLOBAL_DATA[[#This Row],[Status]]=DATA!$J$6,GLOBAL_DATA[[#This Row],[Status]]=DATA!$J$7,GLOBAL_DATA[[#This Row],[Status]]=DATA!$J$8),1,0) -> 0 | AF5: =IF(GLOBAL_DATA[[#This Row],[Status]]=Status_No_Project,"",MAX(GLOBAL_DATA[[#This Row],[Initial end]],GLOBAL_DATA[[#This Row],[Re-estimated end]],43831)) -> 44196 | AG5: =IF(AND(GLOBAL_DATA[[#This Row],[Implementation progress rate]]<100%,GLOBAL_DATA[[#This Row],[Re-estimated end]]<=SYNTHESIS!ReportingDate,GLOBAL_DATA[[#This Row],[Re-estimated end]]<>""),1,0)+IF(AND(GLOBAL_DATA[[#This Row],[Implementation progress rate]]<100%,GLOBAL_DATA[[#This Row],[Initial end]]<=SYNTHESIS!ReportingDate,GLOBAL_DATA[[#This Row],[Re-estimated end]]<SYNTHESIS!ReportingDate,GLOBAL_DATA[[#This Row],[Re-estimated end]]<>""),1,0)+IF(AND(OR(GLOBAL_DATA[[#This Row],[Target scope]]=Target_Not_Applicable,GLOBAL_DATA[[#This Row],[Target scope]]=Risk_accepted),GLOBAL_DATA[[#This Row],[Kick-off]]<>""),1,0)+IF(AND(GLOBAL_DATA[[#This Row],[Status]]=In_progress,GLOBAL_DATA[[#This Row],[Implementation progress rate]]=Risk_accepted),1,0)+IF(AND(GLOBAL_DATA[[#This Row],[Status]]=In_progress,GLOBAL_DATA[[#This Row],[Implementation progress rate]]=full),1,0) -> 0 | AH5: =IF(GLOBAL_DATA[[#This Row],[Target scope]]<>Target_Not_Applicable,COUNTBLANK(GLOBAL_DATA[[#This Row],[Target scope]:[Target justification (if<100%)]]),0)+IF(GLOBAL_DATA[[#This Row],[Status]]<>Status_No_Project,COUNTBLANK(GLOBAL_DATA[[#This Row],[Implementation progress rate]:[CISO assessment]]),0) -> 0 | AI5: =SIERREUR(SI(ValidityChecks[@[Ignore/Accept the Data Quality Anomaly]]<>"Yes"; GAUCHE(CONCATENER(SI(ValidityChecks[@[To be started and > 0%]]="";"";ValidityChecks[@[To be started and > 0%]]& CAR(10)); SI(ValidityChecks[@[In progress and = 100%]]="";"";ValidityChecks[@[In progress and = 100%]]& CAR(10)); SI(ValidityChecks[@[In progress = 0%]]="";"";ValidityChecks[@[In progress = 0%]]& CAR(10)); SI(ValidityChecks[@[Completed < 100%]]="";"";ValidityChecks[@[Completed < 100%]]& CAR(10)); SI(ValidityChecks[@[No status selected]]="";"";ValidityChecks[@[No status selected]]& CAR(10)); SI(ValidityChecks[@[In progress and no planning]]="";"";ValidityChecks[@[In progress and no planning]]& CAR(10)); SI(ValidityChecks[@[To be started and no planning]]="";"";ValidityChecks[@[To be started and no planning]]& CAR(10)); SI(ValidityChecks[@[In progress and budget = 0]]="";"";ValidityChecks[@[In progress and budget = 0]]& CAR(10)); SI(ValidityChecks[@[Budget but no kick-off]]="";"";ValidityChecks[@[Budget but no kick-off]]& CAR(10)); SI(ValidityChecks[@[Budget but no end date]]="";"";ValidityChecks[@[Budget but no end date]]& CAR(10)); SI(ValidityChecks[@[Today''s date > Kick off & Not started]]="";"";ValidityChecks[@[Today''s date > Kick off & Not started]]& CAR(10)); SI(ValidityChecks[@[Kick-off > Reestimated end]]="";"";ValidityChecks[@[Kick-off > Reestimated end]]& CAR(10)); SI(ValidityChecks[@[Completed but wrong reestimated]]="";"";ValidityChecks[@[Completed but wrong reestimated]]& CAR(10)); SI(ValidityChecks[@[Risk status warning]]="";"";ValidityChecks[@[Risk status warning]]& CAR(10)); SI(ValidityChecks[@[Risk status alert]]="";"";ValidityChecks[@[Risk status alert]]& CAR(10)); NBCAR(CONCATENER(SI(ValidityChecks[@[To be started and > 0%]]="";"";ValidityChecks[@[To be started and > 0%]]& CAR(10)); SI(ValidityChecks[@[In progress and = 100%]]="";"";ValidityChecks[@[In progress and = 100%]]& CAR(10)); SI(ValidityChecks[@[In progress = 0%]]="";"";ValidityChecks[@[In progress = 0%]]& CAR(10)); SI(ValidityChecks[@[Completed < 100%]]="";"";ValidityChecks[@[Completed < 100%]]& CAR(10)); SI(ValidityChecks[@[No status selected]]="";"";ValidityChecks[@[No status selected]]& CAR(10)); SI(ValidityChecks[@[In progress and no planning]]="";"";ValidityChecks[@[In progress and no planning]]& CAR(10)); SI(ValidityChecks[@[To be started and no planning]]="";"";ValidityChecks[@[To be started and no planning]]& CAR(10)); SI(ValidityChecks[@[In progress and budget = 0]]="";"";ValidityChecks[@[In progress and budget = 0]]& CAR(10)); SI(ValidityChecks[@[Budget but no kick-off]]="";"";ValidityChecks[@[Budget but no kick-off]]& CAR(10)); SI(ValidityChecks[@[Budget but no end date]]="";"";ValidityChecks[@[Budget but no end date]]& CAR(10)); SI(ValidityChecks[@[Today''s date > Kick off & Not started]]="";"";ValidityChecks[@[Today''s date > Kick off & Not started]]& CAR(10)); SI(ValidityChecks[@[Kick-off > Reestimated end]]="";"";ValidityChecks[@[Kick-off > Reestimated end]]& CAR(10)); SI(ValidityChecks[@[Completed but wrong reestimated]]="";"";ValidityChecks[@[Completed but wrong reestimated]]& CAR(10)); SI(ValidityChecks[@[Risk status warning]]="";"";ValidityChecks[@[Risk status warning]]& CAR(10)); SI(ValidityChecks[@[Risk status alert]]="";"";ValidityChecks[@[Risk status alert]]& CAR(10))))-1);"");"") | AJ5: =IF(AND(GLOBAL_DATA[[#This Row],[Status]]=DATA_Status_TOBESTARTED,GLOBAL_DATA[[#This Row],[Implementation progress rate]]>0),DATA_DQA_1,"") -> TO BE STARTED and progress > 0% | AK5: =IF(AND(GLOBAL_DATA[[#This Row],[Status]]=In_progress,GLOBAL_DATA[[#This Row],[Implementation progress rate]]=1),DATA_DQA_2,"") | AL5: {=IF(AND(GLOBAL_DATA[[#This Row],[Status]]=In_progress,GLOBAL_DATA[[#This Row],[Implementation progress rate]]=0),DATA_DQA_3,"")} | AM5: =IF(AND(GLOBAL_DATA[[#This Row],[Status]]=Done,GLOBAL_DATA[[#This Row],[Implementation progress rate]]<1),DATA_QDA_4,"") | AN5: {=IF(GLOBAL_DATA[[#This Row],[Status]]="",DATA_QDA_7,"")} | AO5: =IF(AND(GLOBAL_DATA[[#This Row],[Initial end]]="",GLOBAL_DATA[[#This Row],[Re-estimated end]]="",GLOBAL_DATA[[#This Row],[Status]]=DATA_Status_INPROGRESS),DATA_QDA_12,"") | AP5: =IF(AND(GLOBAL_DATA[[#This Row],[Initial end]]="",GLOBAL_DATA[[#This Row],[Re-estimated end]]="",GLOBAL_DATA[[#This Row],[Status]]=DATA_Status_TOBESTARTED),DATA_QDA_13,"") | AQ5: =IF(AND(GLOBAL_DATA[[#This Row],[Status]]=DATA_Status_INPROGRESS,GLOBAL_DATA[[#This Row],[Total Initial]]=0,GLOBAL_DATA[[#This Row],[Total re-estimated]]=0),DATA_DQA_11,"") | AR5: =IF(AND(GLOBAL_DATA[[#This Row],[Will be done]]=1,SUM(GLOBAL_DATA[[#This Row],[Total Initial]]:GLOBAL_DATA[[#This Row],[Total Spent]])<>0,GLOBAL_DATA[[#This Row],[Kick-off]]=""),DATA_DQA_16,"") | AS5: =IF(AND(GLOBAL_DATA[[#This Row],[Will be done]]=1,SUM(GLOBAL_DATA[[#This Row],[Total Initial]]:GLOBAL_DATA[[#This Row],[Total Spent]])<>0,GLOBAL_DATA[[#This Row],[Initial end]]=""),DATA_QDA_17,"") | AT5: =IF(AND(IFERROR(DATEDIF(GLOBAL_DATA[[#This Row],[Kick-off]],TODAY(),"m"),0)<>0,OR(GLOBAL_DATA[[#This Row],[Status]]=DATA_Status_TOBESTARTED)),DATA_QDA_19,"") -> Kick-off < today's date and status is not IN PROGRESS | AU5: =IF(AND(GLOBAL_DATA[[#This Row],[Kick-off]]<>"",GLOBAL_DATA[[#This Row],[Kick-off]]>GLOBAL_DATA[[#This Row],[Re-estimated end]]),DATA_DQA_14,"") -> Kick-off scheduled after reestimated-end or intial-end | AV5: =IF(AND(IFERROR(DATEDIF(TODAY(),GLOBAL_DATA[[#This Row],[Re-estimated end]],"m"),0)>1,GLOBAL_DATA[[#This Row],[Implementation progress rate]]=1),DATA_QDA_8,"") | AW5: {=IF(AND(GLOBAL_DATA[[#This Row],[CISO assessment]]="Warning only",TRIM(GLOBAL_DATA[[#This Row],[CISO Comments]])=""),DATA_DQA_9,"")} | AX5: =IF(AND(GLOBAL_DATA[[#This Row],[CISO assessment]]="Alert",TRIM(GLOBAL_DATA[[#This Row],[CISO Comments]])=""),DATA_DQA_10,"") | AY5: No | AZ5: =IF(OR(GLOBAL_DATA[[#This Row],[Status]]="",GLOBAL_DATA[[#This Row],[Status]]=Risk_accepted,GLOBAL_DATA[[#This Row],[Status]]=Target_Not_Applicable),1,0) -> 0 | BA5: =IF(OR(GLOBAL_DATA[[#This Row],[Status]]=DATA_Status_TOBESTARTED,GLOBAL_DATA[[#This Row],[Status]]=DATA_Status_INPROGRESS),1,0) -> 1 | BB5: =IF(OR(GLOBAL_DATA[[#This Row],[Status]]=Done,GLOBAL_DATA[[#This Row],[Status]]=Checked),1,0) -> 0
A6: XX | B6: XX | C6: =IF(GLOBAL_DATA[[#This Row],[Target scope]]="","",INDEX(DATA_TargetStatusChoice[Target_Status_Choice],MATCH(GLOBAL_DATA[[#This Row],[Target scope]],DATA_TargetStatusChoice[Value],1))) -> FULL IMPLEMENTATION | D6: 1 | E6: - | F6: IN PROGRESS | G6: 1 | H6: No alert | I6: XX | J6: Not secured | K6: NC | L6: 44197 | M6: 44560 | N6: 44561 | O6: =SUM(GLOBAL_DATA[[#This Row],[Initial 2020]],GLOBAL_DATA[[#This Row],[Initial 2021]],GLOBAL_DATA[[#This Row],[Initial 2022]],GLOBAL_DATA[[#This Row],[Initial 2023]]) -> 50 | P6: =SUM(GLOBAL_DATA[[#This Row],[Reestimated 2020]],GLOBAL_DATA[[#This Row],[Reestimated 2021]],GLOBAL_DATA[[#This Row],[Reestimated 2022]],GLOBAL_DATA[[#This Row],[Reestimated 2023]]) -> 0 | Q6: =SUM(GLOBAL_DATA[[#This Row],[Spent 2020]],GLOBAL_DATA[[#This Row],[Spent 2021]],GLOBAL_DATA[[#This Row],[Spent 2022]],GLOBAL_DATA[[#This Row],[Spent 2023]]) -> 0 | U6: 50 | AA6: 0 | AB6: 0 | AC6: 0 | AD6: =IF(GLOBAL_DATA[[#This Row],[Target scope]]<>Target_Not_Applicable,GLOBAL_DATA[[#This Row],[Target scope]]*GLOBAL_DATA[[#This Row],[Implementation progress rate]],"") -> 1 | AE6: =IF(OR(GLOBAL_DATA[[#This Row],[Status]]=DATA!$J$6,GLOBAL_DATA[[#This Row],[Status]]=DATA!$J$7,GLOBAL_DATA[[#This Row],[Status]]=DATA!$J$8),1,0) -> 0 | AF6: =IF(GLOBAL_DATA[[#This Row],[Status]]=Status_No_Project,"",MAX(GLOBAL_DATA[[#This Row],[Initial end]],GLOBAL_DATA[[#This Row],[Re-estimated end]],43831)) -> 44561 | AG6: =IF(AND(GLOBAL_DATA[[#This Row],[Implementation progress rate]]<100%,GLOBAL_DATA[[#This Row],[Re-estimated end]]<=SYNTHESIS!ReportingDate,GLOBAL_DATA[[#This Row],[Re-estimated end]]<>""),1,0)+IF(AND(GLOBAL_DATA[[#This Row],[Implementation progress rate]]<100%,GLOBAL_DATA[[#This Row],[Initial end]]<=SYNTHESIS!ReportingDate,GLOBAL_DATA[[#This Row],[Re-estimated end]]<SYNTHESIS!ReportingDate,GLOBAL_DATA[[#This Row],[Re-estimated end]]<>""),1,0)+IF(AND(OR(GLOBAL_DATA[[#This Row],[Target scope]]=Target_Not_Applicable,GLOBAL_DATA[[#This Row],[Target scope]]=Risk_accepted),GLOBAL_DATA[[#This Row],[Kick-off]]<>""),1,0)+IF(AND(GLOBAL_DATA[[#This Row],[Status]]=In_progress,GLOBAL_DATA[[#This Row],[Implementation progress rate]]=Risk_accepted),1,0)+IF(AND(GLOBAL_DATA[[#This Row],[Status]]=In_progress,GLOBAL_DATA[[#This Row],[Implementation progress rate]]=full),1,0) -> 1 | AH6: =IF(GLOBAL_DATA[[#This Row],[Target scope]]<>Target_Not_Applicable,COUNTBLANK(GLOBAL_DATA[[#This Row],[Target scope]:[Target justification (if<100%)]]),0)+IF(GLOBAL_DATA[[#This Row],[Status]]<>Status_No_Project,COUNTBLANK(GLOBAL_DATA[[#This Row],[Implementation progress rate]:[CISO assessment]]),0) -> 0 | AJ6: =IF(AND(GLOBAL_DATA[[#This Row],[Status]]=DATA_Status_TOBESTARTED,GLOBAL_DATA[[#This Row],[Implementation progress rate]]>0),DATA_DQA_1,"") | AK6: =IF(AND(GLOBAL_DATA[[#This Row],[Status]]=In_progress,GLOBAL_DATA[[#This Row],[Implementation progress rate]]=1),DATA_DQA_2,"") -> IN PROGRESS and progress =100% | AL6: {=IF(AND(GLOBAL_DATA[[#This Row],[Status]]=In_progress,GLOBAL_DATA[[#This Row],[Implementation progress rate]]=0),DATA_DQA_3,"")} | AM6: =IF(AND(GLOBAL_DATA[[#This Row],[Status]]=Done,GLOBAL_DATA[[#This Row],[Implementation progress rate]]<1),DATA_QDA_4,"") | AN6: {=IF(GLOBAL_DATA[[#This Row],[Status]]="",DATA_QDA_7,"")} | AO6: =IF(AND(GLOBAL_DATA[[#This Row],[Initial end]]="",GLOBAL_DATA[[#This Row],[Re-estimated end]]="",GLOBAL_DATA[[#This Row],[Status]]=DATA_Status_INPROGRESS),DATA_QDA_12,"") | AP6: =IF(AND(GLOBAL_DATA[[#This Row],[Initial end]]="",GLOBAL_DATA[[#This Row],[Re-estimated end]]="",GLOBAL_DATA[[#This Row],[Status]]=DATA_Status_TOBESTARTED),DATA_QDA_13,"") | AQ6: =IF(AND(GLOBAL_DATA[[#This Row],[Status]]=DATA_Status_INPROGRESS,GLOBAL_DATA[[#This Row],[Total Initial]]=0,GLOBAL_DATA[[#This Row],[Total re-estimated]]=0),DATA_DQA_11,"") | AR6: =IF(AND(GLOBAL_DATA[[#This Row],[Will be done]]=1,SUM(GLOBAL_DATA[[#This Row],[Total Initial]]:GLOBAL_DATA[[#This Row],[Total Spent]])<>0,GLOBAL_DATA[[#This Row],[Kick-off]]=""),DATA_DQA_16,"") | AS6: =IF(AND(GLOBAL_DATA[[#This Row],[Will be done]]=1,SUM(GLOBAL_DATA[[#This Row],[Total Initial]]:GLOBAL_DATA[[#This Row],[Total Spent]])<>0,GLOBAL_DATA[[#This Row],[Initial end]]=""),DATA_QDA_17,"") | AT6: =IF(AND(IFERROR(DATEDIF(GLOBAL_DATA[[#This Row],[Kick-off]],TODAY(),"m"),0)<>0,OR(GLOBAL_DATA[[#This Row],[Status]]=DATA_Status_TOBESTARTED)),DATA_QDA_19,"") | AU6: =IF(AND(GLOBAL_DATA[[#This Row],[Kick-off]]<>"",GLOBAL_DATA[[#This Row],[Kick-off]]>GLOBAL_DATA[[#This Row],[Re-estimated end]]),DATA_DQA_14,"") | AV6: =IF(AND(IFERROR(DATEDIF(TODAY(),GLOBAL_DATA[[#This Row],[Re-estimated end]],"m"),0)>1,GLOBAL_DATA[[#This Row],[Implementation progress rate]]=1),DATA_QDA_8,"") -> DONE but wrong Re-estimated end date | AW6: {=IF(AND(GLOBAL_DATA[[#This Row],[CISO assessment]]="Warning only",TRIM(GLOBAL_DATA[[#This Row],[CISO Comments]])=""),DATA_DQA_9,"")} | AX6: =IF(AND(GLOBAL_DATA[[#This Row],[CISO assessment]]="Alert",TRIM(GLOBAL_DATA[[#This Row],[CISO Comments]])=""),DATA_DQA_10,"") | AY6: No | AZ6: =IF(OR(GLOBAL_DATA[[#This Row],[Status]]="",GLOBAL_DATA[[#This Row],[Status]]=Risk_accepted,GLOBAL_DATA[[#This Row],[Status]]=Target_Not_Applicable),1,0) -> 0 | BA6: =IF(OR(GLOBAL_DATA[[#This Row],[Status]]=DATA_Status_TOBESTARTED,GLOBAL_DATA[[#This Row],[Status]]=DATA_Status_INPROGRESS),1,0) -> 1 | BB6: =IF(OR(GLOBAL_DATA[[#This Row],[Status]]=Done,GLOBAL_DATA[[#This Row],[Status]]=Checked),1,0) -> 0
A7: XX | B7: XX | C7: =IF(GLOBAL_DATA[[#This Row],[Target scope]]="","",INDEX(DATA_TargetStatusChoice[Target_Status_Choice],MATCH(GLOBAL_DATA[[#This Row],[Target scope]],DATA_TargetStatusChoice[Value],1))) -> FULL IMPLEMENTATION | D7: 1 | E7: - | F7: IN PROGRESS | G7: 0 | H7: No alert | I7: XX | J7: Not secured | K7: Hub SSI | L7: 43466 | M7: 44195 | N7: 44560 | O7: =SUM(GLOBAL_DATA[[#This Row],[Initial 2020]],GLOBAL_DATA[[#This Row],[Initial 2021]],GLOBAL_DATA[[#This Row],[Initial 2022]],GLOBAL_DATA[[#This Row],[Initial 2023]]) -> 0 | P7: =SUM(GLOBAL_DATA[[#This Row],[Reestimated 2020]],GLOBAL_DATA[[#This Row],[Reestimated 2021]],GLOBAL_DATA[[#This Row],[Reestimated 2022]],GLOBAL_DATA[[#This Row],[Reestimated 2023]]) -> 0 | Q7: =SUM(GLOBAL_DATA[[#This Row],[Spent 2020]],GLOBAL_DATA[[#This Row],[Spent 2021]],GLOBAL_DATA[[#This Row],[Spent 2022]],GLOBAL_DATA[[#This Row],[Spent 2023]]) -> 0 | U7: 0 | X7: 0 | Y7: 0 | Z7: 0 | AA7: 0 | AB7: 0 | AC7: 0 | AD7: =IF(GLOBAL_DATA[[#This Row],[Target scope]]<>Target_Not_Applicable,GLOBAL_DATA[[#This Row],[Target scope]]*GLOBAL_DATA[[#This Row],[Implementation progress rate]],"") -> 0 | AE7: =IF(OR(GLOBAL_DATA[[#This Row],[Status]]=DATA!$J$6,GLOBAL_DATA[[#This Row],[Status]]=DATA!$J$7,GLOBAL_DATA[[#This Row],[Status]]=DATA!$J$8),1,0) -> 0 | AF7: =IF(GLOBAL_DATA[[#This Row],[Status]]=Status_No_Project,"",MAX(GLOBAL_DATA[[#This Row],[Initial end]],GLOBAL_DATA[[#This Row],[Re-estimated end]],43831)) -> 44560 | AG7: =IF(AND(GLOBAL_DATA[[#This Row],[Implementation progress rate]]<100%,GLOBAL_DATA[[#This Row],[Re-estimated end]]<=SYNTHESIS!ReportingDate,GLOBAL_DATA[[#This Row],[Re-estimated end]]<>""),1,0)+IF(AND(GLOBAL_DATA[[#This Row],[Implementation progress rate]]<100%,GLOBAL_DATA[[#This Row],[Initial end]]<=SYNTHESIS!ReportingDate,GLOBAL_DATA[[#This Row],[Re-estimated end]]<SYNTHESIS!ReportingDate,GLOBAL_DATA[[#This Row],[Re-estimated end]]<>""),1,0)+IF(AND(OR(GLOBAL_DATA[[#This Row],[Target scope]]=Target_Not_Applicable,GLOBAL_DATA[[#This Row],[Target scope]]=Risk_accepted),GLOBAL_DATA[[#This Row],[Kick-off]]<>""),1,0)+IF(AND(GLOBAL_DATA[[#This Row],[Status]]=In_progress,GLOBAL_DATA[[#This Row],[Implementation progress rate]]=Risk_accepted),1,0)+IF(AND(GLOBAL_DATA[[#This Row],[Status]]=In_progress,GLOBAL_DATA[[#This Row],[Implementation progress rate]]=full),1,0) -> 1 | AH7: =IF(GLOBAL_DATA[[#This Row],[Target scope]]<>Target_Not_Applicable,COUNTBLANK(GLOBAL_DATA[[#This Row],[Target scope]:[Target justification (if<100%)]]),0)+IF(GLOBAL_DATA[[#This Row],[Status]]<>Status_No_Project,COUNTBLANK(GLOBAL_DATA[[#This Row],[Implementation progress rate]:[CISO assessment]]),0) -> 0 | AJ7: =IF(AND(GLOBAL_DATA[[#This Row],[Status]]=DATA_Status_TOBESTARTED,GLOBAL_DATA[[#This Row],[Implementation progress rate]]>0),DATA_DQA_1,"") | AK7: =IF(AND(GLOBAL_DATA[[#This Row],[Status]]=In_progress,GLOBAL_DATA[[#This Row],[Implementation progress rate]]=1),DATA_DQA_2,"") | AL7: =IF(AND(GLOBAL_DATA[[#This Row],[Status]]=In_progress,GLOBAL_DATA[[#This Row],[Implementation progress rate]]=0),DATA_DQA_2,"") -> IN PROGRESS and progress =100% | AM7: =IF(AND(GLOBAL_DATA[[#This Row],[Status]]=Done,GLOBAL_DATA[[#This Row],[Implementation progress rate]]<1),DATA_QDA_4,"") | AN7: {=IF(GLOBAL_DATA[[#This Row],[Status]]="",DATA_QDA_7,"")} | AO7: =IF(AND(GLOBAL_DATA[[#This Row],[Initial end]]="",GLOBAL_DATA[[#This Row],[Re-estimated end]]="",GLOBAL_DATA[[#This Row],[Status]]=DATA_Status_INPROGRESS),DATA_QDA_12,"") | AP7: =IF(AND(GLOBAL_DATA[[#This Row],[Initial end]]="",GLOBAL_DATA[[#This Row],[Re-estimated end]]="",GLOBAL_DATA[[#This Row],[Status]]=DATA_Status_TOBESTARTED),DATA_QDA_13,"") | AQ7: =IF(AND(GLOBAL_DATA[[#This Row],[Status]]=DATA_Status_INPROGRESS,GLOBAL_DATA[[#This Row],[Total Initial]]=0,GLOBAL_DATA[[#This Row],[Total re-estimated]]=0),DATA_DQA_11,"") -> IN PROGRESS but no budget | AR7: =IF(AND(GLOBAL_DATA[[#This Row],[Will be done]]=1,SUM(GLOBAL_DATA[[#This Row],[Total Initial]]:GLOBAL_DATA[[#This Row],[Total Spent]])<>0,GLOBAL_DATA[[#This Row],[Kick-off]]=""),DATA_DQA_16,"") | AS7: =IF(AND(GLOBAL_DATA[[#This Row],[Will be done]]=1,SUM(GLOBAL_DATA[[#This Row],[Total Initial]]:GLOBAL_DATA[[#This Row],[Total Spent]])<>0,GLOBAL_DATA[[#This Row],[Initial end]]=""),DATA_QDA_17,"") | AT7: =IF(AND(IFERROR(DATEDIF(GLOBAL_DATA[[#This Row],[Kick-off]],TODAY(),"m"),0)<>0,OR(GLOBAL_DATA[[#This Row],[Status]]=DATA_Status_TOBESTARTED)),DATA_QDA_19,"") | AU7: =IF(AND(GLOBAL_DATA[[#This Row],[Kick-off]]<>"",GLOBAL_DATA[[#This Row],[Kick-off]]>GLOBAL_DATA[[#This Row],[Re-estimated end]]),DATA_DQA_14,"") | AV7: =IF(AND(IFERROR(DATEDIF(TODAY(),GLOBAL_DATA[[#This Row],[Re-estimated end]],"m"),0)>1,GLOBAL_DATA[[#This Row],[Implementation progress rate]]=1),DATA_QDA_8,"") | AW7: {=IF(AND(GLOBAL_DATA[[#This Row],[CISO assessment]]="Warning only",TRIM(GLOBAL_DATA[[#This Row],[CISO Comments]])=""),DATA_DQA_9,"")} | AX7: =IF(AND(GLOBAL_DATA[[#This Row],[CISO assessment]]="Alert",TRIM(GLOBAL_DATA[[#This Row],[CISO Comments]])=""),DATA_DQA_10,"") | AY7: No | AZ7: =IF(OR(GLOBAL_DATA[[#This Row],[Status]]="",GLOBAL_DATA[[#This Row],[Status]]=Risk_accepted,GLOBAL_DATA[[#This Row],[Status]]=Target_Not_Applicable),1,0) -> 0 | BA7: =IF(OR(GLOBAL_DATA[[#This Row],[Status]]=DATA_Status_TOBESTARTED,GLOBAL_DATA[[#This Row],[Status]]=DATA_Status_INPROGRESS),1,0) -> 1 | BB7: =IF(OR(GLOBAL_DATA[[#This Row],[Status]]=Done,GLOBAL_DATA[[#This Row],[Status]]=Checked),1,0) -> 0
A8: XX | B8: XX | C8: =IF(GLOBAL_DATA[[#This Row],[Target scope]]="","",INDEX(DATA_TargetStatusChoice[Target_Status_Choice],MATCH(GLOBAL_DATA[[#This Row],[Target scope]],DATA_TargetStatusChoice[Value],1))) -> FULL IMPLEMENTATION | D8: 1 | E8: - | F8: DONE | G8: 0.5 | H8: No alert | I8: XX | J8: Not secured | K8: Hub SSI | L8: 43466 | M8: 44195 | N8: 44560 | O8: =SUM(GLOBAL_DATA[[#This Row],[Initial 2020]],GLOBAL_DATA[[#This Row],[Initial 2021]],GLOBAL_DATA[[#This Row],[Initial 2022]],GLOBAL_DATA[[#This Row],[Initial 2023]]) -> 0 | P8: =SUM(GLOBAL_DATA[[#This Row],[Reestimated 2020]],GLOBAL_DATA[[#This Row],[Reestimated 2021]],GLOBAL_DATA[[#This Row],[Reestimated 2022]],GLOBAL_DATA[[#This Row],[Reestimated 2023]]) -> 0 | Q8: =SUM(GLOBAL_DATA[[#This Row],[Spent 2020]],GLOBAL_DATA[[#This Row],[Spent 2021]],GLOBAL_DATA[[#This Row],[Spent 2022]],GLOBAL_DATA[[#This Row],[Spent 2023]]) -> 0 | U8: 0 | X8: 0 | Y8: 0 | Z8: 0 | AA8: 0 | AB8: 0 | AC8: 0 | AD8: =IF(GLOBAL_DATA[[#This Row],[Target scope]]<>Target_Not_Applicable,GLOBAL_DATA[[#This Row],[Target scope]]*GLOBAL_DATA[[#This Row],[Implementation progress rate]],"") -> 0.5 | AE8: =IF(OR(GLOBAL_DATA[[#This Row],[Status]]=DATA!$J$6,GLOBAL_DATA[[#This Row],[Status]]=DATA!$J$7,GLOBAL_DATA[[#This Row],[Status]]=DATA!$J$8),1,0) -> 1 | AF8: =IF(GLOBAL_DATA[[#This Row],[Status]]=Status_No_Project,"",MAX(GLOBAL_DATA[[#This Row],[Initial end]],GLOBAL_DATA[[#This Row],[Re-estimated end]],43831)) -> 44560 | AG8: =IF(AND(GLOBAL_DATA[[#This Row],[Implementation progress rate]]<100%,GLOBAL_DATA[[#This Row],[Re-estimated end]]<=SYNTHESIS!ReportingDate,GLOBAL_DATA[[#This Row],[Re-estimated end]]<>""),1,0)+IF(AND(GLOBAL_DATA[[#This Row],[Implementation progress rate]]<100%,GLOBAL_DATA[[#This Row],[Initial end]]<=SYNTHESIS!ReportingDate,GLOBAL_DATA[[#This Row],[Re-estimated end]]<SYNTHESIS!ReportingDate,GLOBAL_DATA[[#This Row],[Re-estimated end]]<>""),1,0)+IF(AND(OR(GLOBAL_DATA[[#This Row],[Target scope]]=Target_Not_Applicable,GLOBAL_DATA[[#This Row],[Target scope]]=Risk_accepted),GLOBAL_DATA[[#This Row],[Kick-off]]<>""),1,0)+IF(AND(GLOBAL_DATA[[#This Row],[Status]]=In_progress,GLOBAL_DATA[[#This Row],[Implementation progress rate]]=Risk_accepted),1,0)+IF(AND(GLOBAL_DATA[[#This Row],[Status]]=In_progress,GLOBAL_DATA[[#This Row],[Implementation progress rate]]=full),1,0) -> 0 | AH8: =IF(GLOBAL_DATA[[#This Row],[Target scope]]<>Target_Not_Applicable,COUNTBLANK(GLOBAL_DATA[[#This Row],[Target scope]:[Target justification (if<100%)]]),0)+IF(GLOBAL_DATA[[#This Row],[Status]]<>Status_No_Project,COUNTBLANK(GLOBAL_DATA[[#This Row],[Implementation progress rate]:[CISO assessment]]),0) -> 0 | AJ8: =IF(AND(GLOBAL_DATA[[#This Row],[Status]]=DATA_Status_TOBESTARTED,GLOBAL_DATA[[#This Row],[Implementation progress rate]]>0),DATA_DQA_1,"") | AK8: =IF(AND(GLOBAL_DATA[[#This Row],[Status]]=In_progress,GLOBAL_DATA[[#This Row],[Implementation progress rate]]=1),DATA_DQA_2,"") | AL8: {=IF(AND(GLOBAL_DATA[[#This Row],[Status]]=In_progress,GLOBAL_DATA[[#This Row],[Implementation progress rate]]=0),DATA_DQA_3,"")} | AM8: =IF(AND(GLOBAL_DATA[[#This Row],[Status]]=Done,GLOBAL_DATA[[#This Row],[Implementation progress rate]]<1),DATA_QDA_4,"") -> DONE and progress < 100% | AN8: {=IF(GLOBAL_DATA[[#This Row],[Status]]="",DATA_QDA_7,"")} | AO8: =IF(AND(GLOBAL_DATA[[#This Row],[Initial end]]="",GLOBAL_DATA[[#This Row],[Re-estimated end]]="",GLOBAL_DATA[[#This Row],[Status]]=DATA_Status_INPROGRESS),DATA_QDA_12,"") | AP8: =IF(AND(GLOBAL_DATA[[#This Row],[Initial end]]="",GLOBAL_DATA[[#This Row],[Re-estimated end]]="",GLOBAL_DATA[[#This Row],[Status]]=DATA_Status_TOBESTARTED),DATA_QDA_13,"") | AQ8: =IF(AND(GLOBAL_DATA[[#This Row],[Status]]=DATA_Status_INPROGRESS,GLOBAL_DATA[[#This Row],[Total Initial]]=0,GLOBAL_DATA[[#This Row],[Total re-estimated]]=0),DATA_DQA_11,"") | AR8: =IF(AND(GLOBAL_DATA[[#This Row],[Will be done]]=1,SUM(GLOBAL_DATA[[#This Row],[Total Initial]]:GLOBAL_DATA[[#This Row],[Total Spent]])<>0,GLOBAL_DATA[[#This Row],[Kick-off]]=""),DATA_DQA_16,"") | AS8: =IF(AND(GLOBAL_DATA[[#This Row],[Will be done]]=1,SUM(GLOBAL_DATA[[#This Row],[Total Initial]]:GLOBAL_DATA[[#This Row],[Total Spent]])<>0,GLOBAL_DATA[[#This Row],[Initial end]]=""),DATA_QDA_17,"") | AT8: =IF(AND(IFERROR(DATEDIF(GLOBAL_DATA[[#This Row],[Kick-off]],TODAY(),"m"),0)<>0,OR(GLOBAL_DATA[[#This Row],[Status]]=DATA_Status_TOBESTARTED)),DATA_QDA_19,"") | AU8: =IF(AND(GLOBAL_DATA[[#This Row],[Kick-off]]<>"",GLOBAL_DATA[[#This Row],[Kick-off]]>GLOBAL_DATA[[#This Row],[Re-estimated end]]),DATA_DQA_14,"") | AV8: =IF(AND(IFERROR(DATEDIF(TODAY(),GLOBAL_DATA[[#This Row],[Re-estimated end]],"m"),0)>1,GLOBAL_DATA[[#This Row],[Implementation progress rate]]=1),DATA_QDA_8,"") | AW8: {=IF(AND(GLOBAL_DATA[[#This Row],[CISO assessment]]="Warning only",TRIM(GLOBAL_DATA[[#This Row],[CISO Comments]])=""),DATA_DQA_9,"")} | AX8: =IF(AND(GLOBAL_DATA[[#This Row],[CISO assessment]]="Alert",TRIM(GLOBAL_DATA[[#This Row],[CISO Comments]])=""),DATA_DQA_10,"") | AY8: No | AZ8: =IF(OR(GLOBAL_DATA[[#This Row],[Status]]="",GLOBAL_DATA[[#This Row],[Status]]=Risk_accepted,GLOBAL_DATA[[#This Row],[Status]]=Target_Not_Applicable),1,0) -> 0 | BA8: =IF(OR(GLOBAL_DATA[[#This Row],[Status]]=DATA_Status_TOBESTARTED,GLOBAL_DATA[[#This Row],[Status]]=DATA_Status_INPROGRESS),1,0) -> 0 | BB8: =IF(OR(GLOBAL_DATA[[#This Row],[Status]]=Done,GLOBAL_DATA[[#This Row],[Status]]=Checked),1,0) -> 1
A9: XX | B9: XX | C9: =IF(GLOBAL_DATA[[#This Row],[Target scope]]="","",INDEX(DATA_TargetStatusChoice[Target_Status_Choice],MATCH(GLOBAL_DATA[[#This Row],[Target scope]],DATA_TargetStatusChoice[Value],1))) -> FULL IMPLEMENTATION | D9: 1 | E9: - | G9: 1 | H9: No alert | I9: XX | J9: Secured | K9: Local | L9: 43891 | M9: 44084 | O9: =SUM(GLOBAL_DATA[[#This Row],[Initial 2020]],GLOBAL_DATA[[#This Row],[Initial 2021]],GLOBAL_DATA[[#This Row],[Initial 2022]],GLOBAL_DATA[[#This Row],[Initial 2023]]) -> 0 | P9: =SUM(GLOBAL_DATA[[#This Row],[Reestimated 2020]],GLOBAL_DATA[[#This Row],[Reestimated 2021]],GLOBAL_DATA[[#This Row],[Reestimated 2022]],GLOBAL_DATA[[#This Row],[Reestimated 2023]]) -> 0 | Q9: =SUM(GLOBAL_DATA[[#This Row],[Spent 2020]],GLOBAL_DATA[[#This Row],[Spent 2021]],GLOBAL_DATA[[#This Row],[Spent 2022]],GLOBAL_DATA[[#This Row],[Spent 2023]]) -> 0 | AA9: 0 | AB9: 0 | AC9: 0 | AD9: =IF(GLOBAL_DATA[[#This Row],[Target scope]]<>Target_Not_Applicable,GLOBAL_DATA[[#This Row],[Target scope]]*GLOBAL_DATA[[#This Row],[Implementation progress rate]],"") -> 1 | AE9: =IF(OR(GLOBAL_DATA[[#This Row],[Status]]=DATA!$J$6,GLOBAL_DATA[[#This Row],[Status]]=DATA!$J$7,GLOBAL_DATA[[#This Row],[Status]]=DATA!$J$8),1,0) -> 0 | AF9: =IF(GLOBAL_DATA[[#This Row],[Status]]=Status_No_Project,"",MAX(GLOBAL_DATA[[#This Row],[Initial end]],GLOBAL_DATA[[#This Row],[Re-estimated end]],43831)) -> 44084 | AG9: =IF(AND(GLOBAL_DATA[[#This Row],[Implementation progress rate]]<100%,GLOBAL_DATA[[#This Row],[Re-estimated end]]<=SYNTHESIS!ReportingDate,GLOBAL_DATA[[#This Row],[Re-estimated end]]<>""),1,0)+IF(AND(GLOBAL_DATA[[#This Row],[Implementation progress rate]]<100%,GLOBAL_DATA[[#This Row],[Initial end]]<=SYNTHESIS!ReportingDate,GLOBAL_DATA[[#This Row],[Re-estimated end]]<SYNTHESIS!ReportingDate,GLOBAL_DATA[[#This Row],[Re-estimated end]]<>""),1,0)+IF(AND(OR(GLOBAL_DATA[[#This Row],[Target scope]]=Target_Not_Applicable,GLOBAL_DATA[[#This Row],[Target scope]]=Risk_accepted),GLOBAL_DATA[[#This Row],[Kick-off]]<>""),1,0)+IF(AND(GLOBAL_DATA[[#This Row],[Status]]=In_progress,GLOBAL_DATA[[#This Row],[Implementation progress rate]]=Risk_accepted),1,0)+IF(AND(GLOBAL_DATA[[#This Row],[Status]]=In_progress,GLOBAL_DATA[[#This Row],[Implementation progress rate]]=full),1,0) -> 0 | AH9: =IF(GLOBAL_DATA[[#This Row],[Target scope]]<>Target_Not_Applicable,COUNTBLANK(GLOBAL_DATA[[#This Row],[Target scope]:[Target justification (if<100%)]]),0)+IF(GLOBAL_DATA[[#This Row],[Status]]<>Status_No_Project,COUNTBLANK(GLOBAL_DATA[[#This Row],[Implementation progress rate]:[CISO assessment]]),0) -> 0 | AJ9: =IF(AND(GLOBAL_DATA[[#This Row],[Status]]=DATA_Status_TOBESTARTED,GLOBAL_DATA[[#This Row],[Implementation progress rate]]>0),DATA_DQA_1,"") | AK9: =IF(AND(GLOBAL_DATA[[#This Row],[Status]]=In_progress,GLOBAL_DATA[[#This Row],[Implementation progress rate]]=1),DATA_DQA_2,"") | AL9: {=IF(AND(GLOBAL_DATA[[#This Row],[Status]]=In_progress,GLOBAL_DATA[[#This Row],[Implementation progress rate]]=0),DATA_DQA_3,"")} | AM9: =IF(AND(GLOBAL_DATA[[#This Row],[Status]]=Done,GLOBAL_DATA[[#This Row],[Implementation progress rate]]<1),DATA_QDA_4,"") | AN9: {=IF(GLOBAL_DATA[[#This Row],[Status]]="",DATA_QDA_7,"")} -> No status selected | AO9: =IF(AND(GLOBAL_DATA[[#This Row],[Initial end]]="",GLOBAL_DATA[[#This Row],[Re-estimated end]]="",GLOBAL_DATA[[#This Row],[Status]]=DATA_Status_INPROGRESS),DATA_QDA_12,"") | AP9: =IF(AND(GLOBAL_DATA[[#This Row],[Initial end]]="",GLOBAL_DATA[[#This Row],[Re-estimated end]]="",GLOBAL_DATA[[#This Row],[Status]]=DATA_Status_TOBESTARTED),DATA_QDA_13,"") | AQ9: =IF(AND(GLOBAL_DATA[[#This Row],[Status]]=DATA_Status_INPROGRESS,GLOBAL_DATA[[#This Row],[Total Initial]]=0,GLOBAL_DATA[[#This Row],[Total re-estimated]]=0),DATA_DQA_11,"") | AR9: =IF(AND(GLOBAL_DATA[[#This Row],[Will be done]]=1,SUM(GLOBAL_DATA[[#This Row],[Total Initial]]:GLOBAL_DATA[[#This Row],[Total Spent]])<>0,GLOBAL_DATA[[#This Row],[Kick-off]]=""),DATA_DQA_16,"") | AS9: =IF(AND(GLOBAL_DATA[[#This Row],[Will be done]]=1,SUM(GLOBAL_DATA[[#This Row],[Total Initial]]:GLOBAL_DATA[[#This Row],[Total Spent]])<>0,GLOBAL_DATA[[#This Row],[Initial end]]=""),DATA_QDA_17,"") | AT9: =IF(AND(IFERROR(DATEDIF(GLOBAL_DATA[[#This Row],[Kick-off]],TODAY(),"m"),0)<>0,OR(GLOBAL_DATA[[#This Row],[Status]]=DATA_Status_TOBESTARTED)),DATA_QDA_19,"") | AU9: =IF(AND(GLOBAL_DATA[[#This Row],[Kick-off]]<>"",GLOBAL_DATA[[#This Row],[Kick-off]]>GLOBAL_DATA[[#This Row],[Re-estimated end]]),DATA_DQA_14,"") -> Kick-off scheduled after reestimated-end or intial-end | AV9: =IF(AND(IFERROR(DATEDIF(TODAY(),GLOBAL_DATA[[#This Row],[Re-estimated end]],"m"),0)>1,GLOBAL_DATA[[#This Row],[Implementation progress rate]]=1),DATA_QDA_8,"") | AW9: {=IF(AND(GLOBAL_DATA[[#This Row],[CISO assessment]]="Warning only",TRIM(GLOBAL_DATA[[#This Row],[CISO Comments]])=""),DATA_DQA_9,"")} | AX9: =IF(AND(GLOBAL_DATA[[#This Row],[CISO assessment]]="Alert",TRIM(GLOBAL_DATA[[#This Row],[CISO Comments]])=""),DATA_DQA_10,"") | AY9: No | AZ9: =IF(OR(GLOBAL_DATA[[#This Row],[Status]]="",GLOBAL_DATA[[#This Row],[Status]]=Risk_accepted,GLOBAL_DATA[[#This Row],[Status]]=Target_Not_Applicable),1,0) -> 1 | BA9: =IF(OR(GLOBAL_DATA[[#This Row],[Status]]=DATA_Status_TOBESTARTED,GLOBAL_DATA[[#This Row],[Status]]=DATA_Status_INPROGRESS),1,0) -> 0 | BB9: =IF(OR(GLOBAL_DATA[[#This Row],[Status]]=Done,GLOBAL_DATA[[#This Row],[Status]]=Checked),1,0) -> 0
A10: XX | B10: XX | C10: =IF(GLOBAL_DATA[[#This Row],[Target scope]]="","",INDEX(DATA_TargetStatusChoice[Target_Status_Choice],MATCH(GLOBAL_DATA[[#This Row],[Target scope]],DATA_TargetStatusChoice[Value],1))) -> FULL IMPLEMENTATION | D10: 1 | E10: - | F10: IN PROGRESS | G10: 0.5 | H10: No alert | I10: XX | J10: Secured | K10: Local | O10: =SUM(GLOBAL_DATA[[#This Row],[Initial 2020]],GLOBAL_DATA[[#This Row],[Initial 2021]],GLOBAL_DATA[[#This Row],[Initial 2022]],GLOBAL_DATA[[#This Row],[Initial 2023]]) -> 3 | P10: =SUM(GLOBAL_DATA[[#This Row],[Reestimated 2020]],GLOBAL_DATA[[#This Row],[Reestimated 2021]],GLOBAL_DATA[[#This Row],[Reestimated 2022]],GLOBAL_DATA[[#This Row],[Reestimated 2023]]) -> 0 | Q10: =SUM(GLOBAL_DATA[[#This Row],[Spent 2020]],GLOBAL_DATA[[#This Row],[Spent 2021]],GLOBAL_DATA[[#This Row],[Spent 2022]],GLOBAL_DATA[[#This Row],[Spent 2023]]) -> 0 | X10: 3 | AA10: 0 | AB10: 0 | AC10: 0 | AD10: =IF(GLOBAL_DATA[[#This Row],[Target scope]]<>Target_Not_Applicable,GLOBAL_DATA[[#This Row],[Target scope]]*GLOBAL_DATA[[#This Row],[Implementation progress rate]],"") -> 0.5 | AE10: =IF(OR(GLOBAL_DATA[[#This Row],[Status]]=DATA!$J$6,GLOBAL_DATA[[#This Row],[Status]]=DATA!$J$7,GLOBAL_DATA[[#This Row],[Status]]=DATA!$J$8),1,0) -> 0 | AF10: =IF(GLOBAL_DATA[[#This Row],[Status]]=Status_No_Project,"",MAX(GLOBAL_DATA[[#This Row],[Initial end]],GLOBAL_DATA[[#This Row],[Re-estimated end]],43831)) -> 43831 | AG10: =IF(AND(GLOBAL_DATA[[#This Row],[Implementation progress rate]]<100%,GLOBAL_DATA[[#This Row],[Re-estimated end]]<=SYNTHESIS!ReportingDate,GLOBAL_DATA[[#This Row],[Re-estimated end]]<>""),1,0)+IF(AND(GLOBAL_DATA[[#This Row],[Implementation progress rate]]<100%,GLOBAL_DATA[[#This Row],[Initial end]]<=SYNTHESIS!ReportingDate,GLOBAL_DATA[[#This Row],[Re-estimated end]]<SYNTHESIS!ReportingDate,GLOBAL_DATA[[#This Row],[Re-estimated end]]<>""),1,0)+IF(AND(OR(GLOBAL_DATA[[#This Row],[Target scope]]=Target_Not_Applicable,GLOBAL_DATA[[#This Row],[Target scope]]=Risk_accepted),GLOBAL_DATA[[#This Row],[Kick-off]]<>""),1,0)+IF(AND(GLOBAL_DATA[[#This Row],[Status]]=In_progress,GLOBAL_DATA[[#This Row],[Implementation progress rate]]=Risk_accepted),1,0)+IF(AND(GLOBAL_DATA[[#This Row],[Status]]=In_progress,GLOBAL_DATA[[#This Row],[Implementation progress rate]]=full),1,0) -> 0 | AH10: =IF(GLOBAL_DATA[[#This Row],[Target scope]]<>Target_Not_Applicable,COUNTBLANK(GLOBAL_DATA[[#This Row],[Target scope]:[Target justification (if<100%)]]),0)+IF(GLOBAL_DATA[[#This Row],[Status]]<>Status_No_Project,COUNTBLANK(GLOBAL_DATA[[#This Row],[Implementation progress rate]:[CISO assessment]]),0) -> 0 | AJ10: =IF(AND(GLOBAL_DATA[[#This Row],[Status]]=DATA_Status_TOBESTARTED,GLOBAL_DATA[[#This Row],[Implementation progress rate]]>0),DATA_DQA_1,"") | AK10: =IF(AND(GLOBAL_DATA[[#This Row],[Status]]=In_progress,GLOBAL_DATA[[#This Row],[Implementation progress rate]]=1),DATA_DQA_2,"") | AL10: {=IF(AND(GLOBAL_DATA[[#This Row],[Status]]=In_progress,GLOBAL_DATA[[#This Row],[Implementation progress rate]]=0),DATA_DQA_3,"")} | AM10: =IF(AND(GLOBAL_DATA[[#This Row],[Status]]=Done,GLOBAL_DATA[[#This Row],[Implementation progress rate]]<1),DATA_QDA_4,"") | AN10: {=IF(GLOBAL_DATA[[#This Row],[Status]]="",DATA_QDA_7,"")} | AO10: =IF(AND(GLOBAL_DATA[[#This Row],[Initial end]]="",GLOBAL_DATA[[#This Row],[Re-estimated end]]="",GLOBAL_DATA[[#This Row],[Status]]=DATA_Status_INPROGRESS),DATA_QDA_12,"") -> IN PROGRESS but no planning defined | AP10: =IF(AND(GLOBAL_DATA[[#This Row],[Initial end]]="",GLOBAL_DATA[[#This Row],[Re-estimated end]]="",GLOBAL_DATA[[#This Row],[Status]]=DATA_Status_TOBESTARTED),DATA_QDA_13,"") | AQ10: =IF(AND(GLOBAL_DATA[[#This Row],[Status]]=DATA_Status_INPROGRESS,GLOBAL_DATA[[#This Row],[Total Initial]]=0,GLOBAL_DATA[[#This Row],[Total re-estimated]]=0),DATA_DQA_11,"") | AR10: =IF(AND(GLOBAL_DATA[[#This Row],[Will be done]]=1,SUM(GLOBAL_DATA[[#This Row],[Total Initial]]:GLOBAL_DATA[[#This Row],[Total Spent]])<>0,GLOBAL_DATA[[#This Row],[Kick-off]]=""),DATA_DQA_16,"") -> Budget but no kick-off date | AS10: =IF(AND(GLOBAL_DATA[[#This Row],[Will be done]]=1,SUM(GLOBAL_DATA[[#This Row],[Total Initial]]:GLOBAL_DATA[[#This Row],[Total Spent]])<>0,GLOBAL_DATA[[#This Row],[Initial end]]=""),DATA_QDA_17,"") -> Budget nut no end date | AT10: =IF(AND(IFERROR(DATEDIF(GLOBAL_DATA[[#This Row],[Kick-off]],TODAY(),"m"),0)<>0,OR(GLOBAL_DATA[[#This Row],[Status]]=DATA_Status_TOBESTARTED)),DATA_QDA_19,"") | AU10: =IF(AND(GLOBAL_DATA[[#This Row],[Kick-off]]<>"",GLOBAL_DATA[[#This Row],[Kick-off]]>GLOBAL_DATA[[#This Row],[Re-estimated end]]),DATA_DQA_14,"") | AV10: =IF(AND(IFERROR(DATEDIF(TODAY(),GLOBAL_DATA[[#This Row],[Re-estimated end]],"m"),0)>1,GLOBAL_DATA[[#This Row],[Implementation progress rate]]=1),DATA_QDA_8,"") | AW10: {=IF(AND(GLOBAL_DATA[[#This Row],[CISO assessment]]="Warning only",TRIM(GLOBAL_DATA[[#This Row],[CISO Comments]])=""),DATA_DQA_9,"")} | AX10: =IF(AND(GLOBAL_DATA[[#This Row],[CISO assessment]]="Alert",TRIM(GLOBAL_DATA[[#This Row],[CISO Comments]])=""),DATA_DQA_10,"") | AY10: No | AZ10: =IF(OR(GLOBAL_DATA[[#This Row],[Status]]="",GLOBAL_DATA[[#This Row],[Status]]=Risk_accepted,GLOBAL_DATA[[#This Row],[Status]]=Target_Not_Applicable),1,0) -> 0 | BA10: =IF(OR(GLOBAL_DATA[[#This Row],[Status]]=DATA_Status_TOBESTARTED,GLOBAL_DATA[[#This Row],[Status]]=DATA_Status_INPROGRESS),1,0) -> 1 | BB10: =IF(OR(GLOBAL_DATA[[#This Row],[Status]]=Done,GLOBAL_DATA[[#This Row],[Status]]=Checked),1,0) -> 0
A11: XX | B11: XX | C11: =IF(GLOBAL_DATA[[#This Row],[Target scope]]="","",INDEX(DATA_TargetStatusChoice[Target_Status_Choice],MATCH(GLOBAL_DATA[[#This Row],[Target scope]],DATA_TargetStatusChoice[Value],1))) -> FULL IMPLEMENTATION | D11: 1 | E11: - | F11: TO BE STARTED | G11: 0 | H11: No alert | I11: XX | J11: Not secured | K11: NC | O11: =SUM(GLOBAL_DATA[[#This Row],[Initial 2020]],GLOBAL_DATA[[#This Row],[Initial 2021]],GLOBAL_DATA[[#This Row],[Initial 2022]],GLOBAL_DATA[[#This Row],[Initial 2023]]) -> 25 | P11: =SUM(GLOBAL_DATA[[#This Row],[Reestimated 2020]],GLOBAL_DATA[[#This Row],[Reestimated 2021]],GLOBAL_DATA[[#This Row],[Reestimated 2022]],GLOBAL_DATA[[#This Row],[Reestimated 2023]]) -> 0 | Q11: =SUM(GLOBAL_DATA[[#This Row],[Spent 2020]],GLOBAL_DATA[[#This Row],[Spent 2021]],GLOBAL_DATA[[#This Row],[Spent 2022]],GLOBAL_DATA[[#This Row],[Spent 2023]]) -> 0 | U11: 25 | X11: 0 | Y11: 0 | Z11: 0 | AA11: 0 | AB11: 0 | AC11: 0 | AD11: =IF(GLOBAL_DATA[[#This Row],[Target scope]]<>Target_Not_Applicable,GLOBAL_DATA[[#This Row],[Target scope]]*GLOBAL_DATA[[#This Row],[Implementation progress rate]],"") -> 0 | AE11: =IF(OR(GLOBAL_DATA[[#This Row],[Status]]=DATA!$J$6,GLOBAL_DATA[[#This Row],[Status]]=DATA!$J$7,GLOBAL_DATA[[#This Row],[Status]]=DATA!$J$8),1,0) -> 0 | AF11: =IF(GLOBAL_DATA[[#This Row],[Status]]=Status_No_Project,"",MAX(GLOBAL_DATA[[#This Row],[Initial end]],GLOBAL_DATA[[#This Row],[Re-estimated end]],43831)) -> 43831 | AG11: =IF(AND(GLOBAL_DATA[[#This Row],[Implementation progress rate]]<100%,GLOBAL_DATA[[#This Row],[Re-estimated end]]<=SYNTHESIS!ReportingDate,GLOBAL_DATA[[#This Row],[Re-estimated end]]<>""),1,0)+IF(AND(GLOBAL_DATA[[#This Row],[Implementation progress rate]]<100%,GLOBAL_DATA[[#This Row],[Initial end]]<=SYNTHESIS!ReportingDate,GLOBAL_DATA[[#This Row],[Re-estimated end]]<SYNTHESIS!ReportingDate,GLOBAL_DATA[[#This Row],[Re-estimated end]]<>""),1,0)+IF(AND(OR(GLOBAL_DATA[[#This Row],[Target scope]]=Target_Not_Applicable,GLOBAL_DATA[[#This Row],[Target scope]]=Risk_accepted),GLOBAL_DATA[[#This Row],[Kick-off]]<>""),1,0)+IF(AND(GLOBAL_DATA[[#This Row],[Status]]=In_progress,GLOBAL_DATA[[#This Row],[Implementation progress rate]]=Risk_accepted),1,0)+IF(AND(GLOBAL_DATA[[#This Row],[Status]]=In_progress,GLOBAL_DATA[[#This Row],[Implementation progress rate]]=full),1,0) -> 0 | AH11: =IF(GLOBAL_DATA[[#This Row],[Target scope]]<>Target_Not_Applicable,COUNTBLANK(GLOBAL_DATA[[#This Row],[Target scope]:[Target justification (if<100%)]]),0)+IF(GLOBAL_DATA[[#This Row],[Status]]<>Status_No_Project,COUNTBLANK(GLOBAL_DATA[[#This Row],[Implementation progress rate]:[CISO assessment]]),0) -> 0 | AJ11: =IF(AND(GLOBAL_DATA[[#This Row],[Status]]=DATA_Status_TOBESTARTED,GLOBAL_DATA[[#This Row],[Implementation progress rate]]>0),DATA_DQA_1,"") | AK11: =IF(AND(GLOBAL_DATA[[#This Row],[Status]]=In_progress,GLOBAL_DATA[[#This Row],[Implementation progress rate]]=1),DATA_DQA_2,"") | AL11: {=IF(AND(GLOBAL_DATA[[#This Row],[Status]]=In_progress,GLOBAL_DATA[[#This Row],[Implementation progress rate]]=0),DATA_DQA_3,"")} | AM11: =IF(AND(GLOBAL_DATA[[#This Row],[Status]]=Done,GLOBAL_DATA[[#This Row],[Implementation progress rate]]<1),DATA_QDA_4,"") | AN11: {=IF(GLOBAL_DATA[[#This Row],[Status]]="",DATA_QDA_7,"")} | AO11: =IF(AND(GLOBAL_DATA[[#This Row],[Initial end]]="",GLOBAL_DATA[[#This Row],[Re-estimated end]]="",GLOBAL_DATA[[#This Row],[Status]]=DATA_Status_INPROGRESS),DATA_QDA_12,"") | AP11: =IF(AND(GLOBAL_DATA[[#This Row],[Initial end]]="",GLOBAL_DATA[[#This Row],[Re-estimated end]]="",GLOBAL_DATA[[#This Row],[Status]]=DATA_Status_TOBESTARTED),DATA_QDA_13,"") -> TO BE STARTED but no planning defined | AQ11: =IF(AND(GLOBAL_DATA[[#This Row],[Status]]=DATA_Status_INPROGRESS,GLOBAL_DATA[[#This Row],[Total Initial]]=0,GLOBAL_DATA[[#This Row],[Total re-estimated]]=0),DATA_DQA_11,"") | AR11: =IF(AND(GLOBAL_DATA[[#This Row],[Will be done]]=1,SUM(GLOBAL_DATA[[#This Row],[Total Initial]]:GLOBAL_DATA[[#This Row],[Total Spent]])<>0,GLOBAL_DATA[[#This Row],[Kick-off]]=""),DATA_DQA_16,"") -> Budget but no kick-off date | AS11: =IF(AND(GLOBAL_DATA[[#This Row],[Will be done]]=1,SUM(GLOBAL_DATA[[#This Row],[Total Initial]]:GLOBAL_DATA[[#This Row],[Total Spent]])<>0,GLOBAL_DATA[[#This Row],[Initial end]]=""),DATA_QDA_17,"") -> Budget nut no end date | AT11: =IF(AND(IFERROR(DATEDIF(GLOBAL_DATA[[#This Row],[Kick-off]],TODAY(),"m"),0)<>0,OR(GLOBAL_DATA[[#This Row],[Status]]=DATA_Status_TOBESTARTED)),DATA_QDA_19,"") -> Kick-off < today's date and status is not IN PROGRESS | AU11: =IF(AND(GLOBAL_DATA[[#This Row],[Kick-off]]<>"",GLOBAL_DATA[[#This Row],[Kick-off]]>GLOBAL_DATA[[#This Row],[Re-estimated end]]),DATA_DQA_14,"") | AV11: =IF(AND(IFERROR(DATEDIF(TODAY(),GLOBAL_DATA[[#This Row],[Re-estimated end]],"m"),0)>1,GLOBAL_DATA[[#This Row],[Implementation progress rate]]=1),DATA_QDA_8,"") | AW11: {=IF(AND(GLOBAL_DATA[[#This Row],[CISO assessment]]="Warning only",TRIM(GLOBAL_DATA[[#This Row],[CISO Comments]])=""),DATA_DQA_9,"")} | AX11: =IF(AND(GLOBAL_DATA[[#This Row],[CISO assessment]]="Alert",TRIM(GLOBAL_DATA[[#This Row],[CISO Comments]])=""),DATA_DQA_10,"") | AY11: No | AZ11: =IF(OR(GLOBAL_DATA[[#This Row],[Status]]="",GLOBAL_DATA[[#This Row],[Status]]=Risk_accepted,GLOBAL_DATA[[#This Row],[Status]]=Target_Not_Applicable),1,0) -> 0 | BA11: =IF(OR(GLOBAL_DATA[[#This Row],[Status]]=DATA_Status_TOBESTARTED,GLOBAL_DATA[[#This Row],[Status]]=DATA_Status_INPROGRESS),1,0) -> 1 | BB11: =IF(OR(GLOBAL_DATA[[#This Row],[Status]]=Done,GLOBAL_DATA[[#This Row],[Status]]=Checked),1,0) -> 0
A12: XX | B12: XX | C12: =IF(GLOBAL_DATA[[#This Row],[Target scope]]="","",INDEX(DATA_TargetStatusChoice[Target_Status_Choice],MATCH(GLOBAL_DATA[[#This Row],[Target scope]],DATA_TargetStatusChoice[Value],1))) -> FULL IMPLEMENTATION | D12: 1 | E12: - | F12: IN PROGRESS | G12: 0.3 | H12: No alert | I12: XX | J12: Not secured | K12: NC | L12: 44197 | M12: 44560 | N12: 44561 | O12: =SUM(GLOBAL_DATA[[#This Row],[Initial 2020]],GLOBAL_DATA[[#This Row],[Initial 2021]],GLOBAL_DATA[[#This Row],[Initial 2022]],GLOBAL_DATA[[#This Row],[Initial 2023]]) -> 0 | P12: =SUM(GLOBAL_DATA[[#This Row],[Reestimated 2020]],GLOBAL_DATA[[#This Row],[Reestimated 2021]],GLOBAL_DATA[[#This Row],[Reestimated 2022]],GLOBAL_DATA[[#This Row],[Reestimated 2023]]) -> 0 | Q12: =SUM(GLOBAL_DATA[[#This Row],[Spent 2020]],GLOBAL_DATA[[#This Row],[Spent 2021]],GLOBAL_DATA[[#This Row],[Spent 2022]],GLOBAL_DATA[[#This Row],[Spent 2023]]) -> 0 | U12: 0 | X12: 0 | Y12: 0 | Z12: 0 | AA12: 0 | AB12: 0 | AC12: 0 | AD12: =IF(GLOBAL_DATA[[#This Row],[Target scope]]<>Target_Not_Applicable,GLOBAL_DATA[[#This Row],[Target scope]]*GLOBAL_DATA[[#This Row],[Implementation progress rate]],"") -> 0.3 | AE12: =IF(OR(GLOBAL_DATA[[#This Row],[Status]]=DATA!$J$6,GLOBAL_DATA[[#This Row],[Status]]=DATA!$J$7,GLOBAL_DATA[[#This Row],[Status]]=DATA!$J$8),1,0) -> 0 | AF12: =IF(GLOBAL_DATA[[#This Row],[Status]]=Status_No_Project,"",MAX(GLOBAL_DATA[[#This Row],[Initial end]],GLOBAL_DATA[[#This Row],[Re-estimated end]],43831)) -> 44561 | AG12: =IF(AND(GLOBAL_DATA[[#This Row],[Implementation progress rate]]<100%,GLOBAL_DATA[[#This Row],[Re-estimated end]]<=SYNTHESIS!ReportingDate,GLOBAL_DATA[[#This Row],[Re-estimated end]]<>""),1,0)+IF(AND(GLOBAL_DATA[[#This Row],[Implementation progress rate]]<100%,GLOBAL_DATA[[#This Row],[Initial end]]<=SYNTHESIS!ReportingDate,GLOBAL_DATA[[#This Row],[Re-estimated end]]<SYNTHESIS!ReportingDate,GLOBAL_DATA[[#This Row],[Re-estimated end]]<>""),1,0)+IF(AND(OR(GLOBAL_DATA[[#This Row],[Target scope]]=Target_Not_Applicable,GLOBAL_DATA[[#This Row],[Target scope]]=Risk_accepted),GLOBAL_DATA[[#This Row],[Kick-off]]<>""),1,0)+IF(AND(GLOBAL_DATA[[#This Row],[Status]]=In_progress,GLOBAL_DATA[[#This Row],[Implementation progress rate]]=Risk_accepted),1,0)+IF(AND(GLOBAL_DATA[[#This Row],[Status]]=In_progress,GLOBAL_DATA[[#This Row],[Implementation progress rate]]=full),1,0) -> 0 | AH12: =IF(GLOBAL_DATA[[#This Row],[Target scope]]<>Target_Not_Applicable,COUNTBLANK(GLOBAL_DATA[[#This Row],[Target scope]:[Target justification (if<100%)]]),0)+IF(GLOBAL_DATA[[#This Row],[Status]]<>Status_No_Project,COUNTBLANK(GLOBAL_DATA[[#This Row],[Implementation progress rate]:[CISO assessment]]),0) -> 0 | AJ12: =IF(AND(GLOBAL_DATA[[#This Row],[Status]]=DATA_Status_TOBESTARTED,GLOBAL_DATA[[#This Row],[Implementation progress rate]]>0),DATA_DQA_1,"") | AK12: =IF(AND(GLOBAL_DATA[[#This Row],[Status]]=In_progress,GLOBAL_DATA[[#This Row],[Implementation progress rate]]=1),DATA_DQA_2,"") | AL12: {=IF(AND(GLOBAL_DATA[[#This Row],[Status]]=In_progress,GLOBAL_DATA[[#This Row],[Implementation progress rate]]=0),DATA_DQA_3,"")} | AM12: =IF(AND(GLOBAL_DATA[[#This Row],[Status]]=Done,GLOBAL_DATA[[#This Row],[Implementation progress rate]]<1),DATA_QDA_4,"") | AN12: {=IF(GLOBAL_DATA[[#This Row],[Status]]="",DATA_QDA_7,"")} | AO12: =IF(AND(GLOBAL_DATA[[#This Row],[Initial end]]="",GLOBAL_DATA[[#This Row],[Re-estimated end]]="",GLOBAL_DATA[[#This Row],[Status]]=DATA_Status_INPROGRESS),DATA_QDA_12,"") | AP12: =IF(AND(GLOBAL_DATA[[#This Row],[Initial end]]="",GLOBAL_DATA[[#This Row],[Re-estimated end]]="",GLOBAL_DATA[[#This Row],[Status]]=DATA_Status_TOBESTARTED),DATA_QDA_13,"") | AQ12: =IF(AND(GLOBAL_DATA[[#This Row],[Status]]=DATA_Status_INPROGRESS,GLOBAL_DATA[[#This Row],[Total Initial]]=0,GLOBAL_DATA[[#This Row],[Total re-estimated]]=0),DATA_DQA_11,"") -> IN PROGRESS but no budget | AR12: =IF(AND(GLOBAL_DATA[[#This Row],[Will be done]]=1,SUM(GLOBAL_DATA[[#This Row],[Total Initial]]:GLOBAL_DATA[[#This Row],[Total Spent]])<>0,GLOBAL_DATA[[#This Row],[Kick-off]]=""),DATA_DQA_16,"") | AS12: =IF(AND(GLOBAL_DATA[[#This Row],[Will be done]]=1,SUM(GLOBAL_DATA[[#This Row],[Total Initial]]:GLOBAL_DATA[[#This Row],[Total Spent]])<>0,GLOBAL_DATA[[#This Row],[Initial end]]=""),DATA_QDA_17,"") | AT12: =IF(AND(IFERROR(DATEDIF(GLOBAL_DATA[[#This Row],[Kick-off]],TODAY(),"m"),0)<>0,OR(GLOBAL_DATA[[#This Row],[Status]]=DATA_Status_TOBESTARTED)),DATA_QDA_19,"") | AU12: =IF(AND(GLOBAL_DATA[[#This Row],[Kick-off]]<>"",GLOBAL_DATA[[#This Row],[Kick-off]]>GLOBAL_DATA[[#This Row],[Re-estimated end]]),DATA_DQA_14,"") | AV12: =IF(AND(IFERROR(DATEDIF(TODAY(),GLOBAL_DATA[[#This Row],[Re-estimated end]],"m"),0)>1,GLOBAL_DATA[[#This Row],[Implementation progress rate]]=1),DATA_QDA_8,"") | AW12: {=IF(AND(GLOBAL_DATA[[#This Row],[CISO assessment]]="Warning only",TRIM(GLOBAL_DATA[[#This Row],[CISO Comments]])=""),DATA_DQA_9,"")} | AX12: =IF(AND(GLOBAL_DATA[[#This Row],[CISO assessment]]="Alert",TRIM(GLOBAL_DATA[[#This Row],[CISO Comments]])=""),DATA_DQA_10,"") | AY12: No | AZ12: =IF(OR(GLOBAL_DATA[[#This Row],[Status]]="",GLOBAL_DATA[[#This Row],[Status]]=Risk_accepted,GLOBAL_DATA[[#This Row],[Status]]=Target_Not_Applicable),1,0) -> 0 | BA12: =IF(OR(GLOBAL_DATA[[#This Row],[Status]]=DATA_Status_TOBESTARTED,GLOBAL_DATA[[#This Row],[Status]]=DATA_Status_INPROGRESS),1,0) -> 1 | BB12: =IF(OR(GLOBAL_DATA[[#This Row],[Status]]=Done,GLOBAL_DATA[[#This Row],[Status]]=Checked),1,0) -> 0
A13: XX | B13: XX | C13: =IF(GLOBAL_DATA[[#This Row],[Target scope]]="","",INDEX(DATA_TargetStatusChoice[Target_Status_Choice],MATCH(GLOBAL_DATA[[#This Row],[Target scope]],DATA_TargetStatusChoice[Value],1))) -> FULL IMPLEMENTATION | D13: 1 | E13: - | F13: TO BE STARTED | G13: 0 | H13: No alert | I13: XX | J13: Not secured | K13: NC | L13: 44197 | M13: 44560 | N13: 44561 | O13: =SUM(GLOBAL_DATA[[#This Row],[Initial 2020]],GLOBAL_DATA[[#This Row],[Initial 2021]],GLOBAL_DATA[[#This Row],[Initial 2022]],GLOBAL_DATA[[#This Row],[Initial 2023]]) -> 2 | P13: =SUM(GLOBAL_DATA[[#This Row],[Reestimated 2020]],GLOBAL_DATA[[#This Row],[Reestimated 2021]],GLOBAL_DATA[[#This Row],[Reestimated 2022]],GLOBAL_DATA[[#This Row],[Reestimated 2023]]) -> 0 | Q13: =SUM(GLOBAL_DATA[[#This Row],[Spent 2020]],GLOBAL_DATA[[#This Row],[Spent 2021]],GLOBAL_DATA[[#This Row],[Spent 2022]],GLOBAL_DATA[[#This Row],[Spent 2023]]) -> 0 | U13: 2 | X13: 0 | Y13: 0 | Z13: 0 | AA13: 0 | AB13: 0 | AC13: 0 | AD13: =IF(GLOBAL_DATA[[#This Row],[Target scope]]<>Target_Not_Applicable,GLOBAL_DATA[[#This Row],[Target scope]]*GLOBAL_DATA[[#This Row],[Implementation progress rate]],"") -> 0 | AE13: =IF(OR(GLOBAL_DATA[[#This Row],[Status]]=DATA!$J$6,GLOBAL_DATA[[#This Row],[Status]]=DATA!$J$7,GLOBAL_DATA[[#This Row],[Status]]=DATA!$J$8),1,0) -> 0 | AF13: =IF(GLOBAL_DATA[[#This Row],[Status]]=Status_No_Project,"",MAX(GLOBAL_DATA[[#This Row],[Initial end]],GLOBAL_DATA[[#This Row],[Re-estimated end]],43831)) -> 44561 | AG13: =IF(AND(GLOBAL_DATA[[#This Row],[Implementation progress rate]]<100%,GLOBAL_DATA[[#This Row],[Re-estimated end]]<=SYNTHESIS!ReportingDate,GLOBAL_DATA[[#This Row],[Re-estimated end]]<>""),1,0)+IF(AND(GLOBAL_DATA[[#This Row],[Implementation progress rate]]<100%,GLOBAL_DATA[[#This Row],[Initial end]]<=SYNTHESIS!ReportingDate,GLOBAL_DATA[[#This Row],[Re-estimated end]]<SYNTHESIS!ReportingDate,GLOBAL_DATA[[#This Row],[Re-estimated end]]<>""),1,0)+IF(AND(OR(GLOBAL_DATA[[#This Row],[Target scope]]=Target_Not_Applicable,GLOBAL_DATA[[#This Row],[Target scope]]=Risk_accepted),GLOBAL_DATA[[#This Row],[Kick-off]]<>""),1,0)+IF(AND(GLOBAL_DATA[[#This Row],[Status]]=In_progress,GLOBAL_DATA[[#This Row],[Implementation progress rate]]=Risk_accepted),1,0)+IF(AND(GLOBAL_DATA[[#This Row],[Status]]=In_progress,GLOBAL_DATA[[#This Row],[Implementation progress rate]]=full),1,0) -> 0 | AH13: =IF(GLOBAL_DATA[[#This Row],[Target scope]]<>Target_Not_Applicable,COUNTBLANK(GLOBAL_DATA[[#This Row],[Target scope]:[Target justification (if<100%)]]),0)+IF(GLOBAL_DATA[[#This Row],[Status]]<>Status_No_Project,COUNTBLANK(GLOBAL_DATA[[#This Row],[Implementation progress rate]:[CISO assessment]]),0) -> 0 | AJ13: =IF(AND(GLOBAL_DATA[[#This Row],[Status]]=DATA_Status_TOBESTARTED,GLOBAL_DATA[[#This Row],[Implementation progress rate]]>0),DATA_DQA_1,"") | AK13: =IF(AND(GLOBAL_DATA[[#This Row],[Status]]=In_progress,GLOBAL_DATA[[#This Row],[Implementation progress rate]]=1),DATA_DQA_2,"") | AL13: {=IF(AND(GLOBAL_DATA[[#This Row],[Status]]=In_progress,GLOBAL_DATA[[#This Row],[Implementation progress rate]]=0),DATA_DQA_3,"")} | AM13: =IF(AND(GLOBAL_DATA[[#This Row],[Status]]=Done,GLOBAL_DATA[[#This Row],[Implementation progress rate]]<1),DATA_QDA_4,"") | AN13: {=IF(GLOBAL_DATA[[#This Row],[Status]]="",DATA_QDA_7,"")} | AO13: =IF(AND(GLOBAL_DATA[[#This Row],[Initial end]]="",GLOBAL_DATA[[#This Row],[Re-estimated end]]="",GLOBAL_DATA[[#This Row],[Status]]=DATA_Status_INPROGRESS),DATA_QDA_12,"") | AP13: =IF(AND(GLOBAL_DATA[[#This Row],[Initial end]]="",GLOBAL_DATA[[#This Row],[Re-estimated end]]="",GLOBAL_DATA[[#This Row],[Status]]=DATA_Status_TOBESTARTED),DATA_QDA_13,"") | AQ13: =IF(AND(GLOBAL_DATA[[#This Row],[Status]]=DATA_Status_INPROGRESS,GLOBAL_DATA[[#This Row],[Total Initial]]=0,GLOBAL_DATA[[#This Row],[Total re-estimated]]=0),DATA_DQA_11,"") | AR13: =IF(AND(GLOBAL_DATA[[#This Row],[Will be done]]=1,SUM(GLOBAL_DATA[[#This Row],[Total Initial]]:GLOBAL_DATA[[#This Row],[Total Spent]])<>0,GLOBAL_DATA[[#This Row],[Kick-off]]=""),DATA_DQA_16,"") | AS13: =IF(AND(GLOBAL_DATA[[#This Row],[Will be done]]=1,SUM(GLOBAL_DATA[[#This Row],[Total Initial]]:GLOBAL_DATA[[#This Row],[Total Spent]])<>0,GLOBAL_DATA[[#This Row],[Initial end]]=""),DATA_QDA_17,"") | AT13: =IF(AND(IFERROR(DATEDIF(GLOBAL_DATA[[#This Row],[Kick-off]],TODAY(),"m"),0)<>0,OR(GLOBAL_DATA[[#This Row],[Status]]=DATA_Status_TOBESTARTED)),DATA_QDA_19,"") | AU13: =IF(AND(GLOBAL_DATA[[#This Row],[Kick-off]]<>"",GLOBAL_DATA[[#This Row],[Kick-off]]>GLOBAL_DATA[[#This Row],[Re-estimated end]]),DATA_DQA_14,"") | AV13: =IF(AND(IFERROR(DATEDIF(TODAY(),GLOBAL_DATA[[#This Row],[Re-estimated end]],"m"),0)>1,GLOBAL_DATA[[#This Row],[Implementation progress rate]]=1),DATA_QDA_8,"") | AW13: {=IF(AND(GLOBAL_DATA[[#This Row],[CISO assessment]]="Warning only",TRIM(GLOBAL_DATA[[#This Row],[CISO Comments]])=""),DATA_DQA_9,"")} | AX13: =IF(AND(GLOBAL_DATA[[#This Row],[CISO assessment]]="Alert",TRIM(GLOBAL_DATA[[#This Row],[CISO Comments]])=""),DATA_DQA_10,"") | AY13: No | AZ13: =IF(OR(GLOBAL_DATA[[#This Row],[Status]]="",GLOBAL_DATA[[#This Row],[Status]]=Risk_accepted,GLOBAL_DATA[[#This Row],[Status]]=Target_Not_Applicable),1,0) -> 0 | BA13: =IF(OR(GLOBAL_DATA[[#This Row],[Status]]=DATA_Status_TOBESTARTED,GLOBAL_DATA[[#This Row],[Status]]=DATA_Status_INPROGRESS),1,0) -> 1 | BB13: =IF(OR(GLOBAL_DATA[[#This Row],[Status]]=Done,GLOBAL_DATA[[#This Row],[Status]]=Checked),1,0) -> 0
A14: XX | B14: XX | C14: =IF(GLOBAL_DATA[[#This Row],[Target scope]]="","",INDEX(DATA_TargetStatusChoice[Target_Status_Choice],MATCH(GLOBAL_DATA[[#This Row],[Target scope]],DATA_TargetStatusChoice[Value],1))) -> FULL IMPLEMENTATION | D14: 1 | E14: - | F14: TO BE STARTED | G14: 0 | H14: No alert | I14: XX | J14: Not secured | K14: NC | L14: 44197 | M14: 44560 | N14: 44561 | O14: =SUM(GLOBAL_DATA[[#This Row],[Initial 2020]],GLOBAL_DATA[[#This Row],[Initial 2021]],GLOBAL_DATA[[#This Row],[Initial 2022]],GLOBAL_DATA[[#This Row],[Initial 2023]]) -> 15 | P14: =SUM(GLOBAL_DATA[[#This Row],[Reestimated 2020]],GLOBAL_DATA[[#This Row],[Reestimated 2021]],GLOBAL_DATA[[#This Row],[Reestimated 2022]],GLOBAL_DATA[[#This Row],[Reestimated 2023]]) -> 0 | Q14: =SUM(GLOBAL_DATA[[#This Row],[Spent 2020]],GLOBAL_DATA[[#This Row],[Spent 2021]],GLOBAL_DATA[[#This Row],[Spent 2022]],GLOBAL_DATA[[#This Row],[Spent 2023]]) -> 0 | U14: 15 | X14: 0 | Y14: 0 | Z14: 0 | AA14: 0 | AB14: 0 | AC14: 0 | AD14: =IF(GLOBAL_DATA[[#This Row],[Target scope]]<>Target_Not_Applicable,GLOBAL_DATA[[#This Row],[Target scope]]*GLOBAL_DATA[[#This Row],[Implementation progress rate]],"") -> 0 | AE14: =IF(OR(GLOBAL_DATA[[#This Row],[Status]]=DATA!$J$6,GLOBAL_DATA[[#This Row],[Status]]=DATA!$J$7,GLOBAL_DATA[[#This Row],[Status]]=DATA!$J$8),1,0) -> 0 | AF14: =IF(GLOBAL_DATA[[#This Row],[Status]]=Status_No_Project,"",MAX(GLOBAL_DATA[[#This Row],[Initial end]],GLOBAL_DATA[[#This Row],[Re-estimated end]],43831)) -> 44561 | AG14: =IF(AND(GLOBAL_DATA[[#This Row],[Implementation progress rate]]<100%,GLOBAL_DATA[[#This Row],[Re-estimated end]]<=SYNTHESIS!ReportingDate,GLOBAL_DATA[[#This Row],[Re-estimated end]]<>""),1,0)+IF(AND(GLOBAL_DATA[[#This Row],[Implementation progress rate]]<100%,GLOBAL_DATA[[#This Row],[Initial end]]<=SYNTHESIS!ReportingDate,GLOBAL_DATA[[#This Row],[Re-estimated end]]<SYNTHESIS!ReportingDate,GLOBAL_DATA[[#This Row],[Re-estimated end]]<>""),1,0)+IF(AND(OR(GLOBAL_DATA[[#This Row],[Target scope]]=Target_Not_Applicable,GLOBAL_DATA[[#This Row],[Target scope]]=Risk_accepted),GLOBAL_DATA[[#This Row],[Kick-off]]<>""),1,0)+IF(AND(GLOBAL_DATA[[#This Row],[Status]]=In_progress,GLOBAL_DATA[[#This Row],[Implementation progress rate]]=Risk_accepted),1,0)+IF(AND(GLOBAL_DATA[[#This Row],[Status]]=In_progress,GLOBAL_DATA[[#This Row],[Implementation progress rate]]=full),1,0) -> 0 | AH14: =IF(GLOBAL_DATA[[#This Row],[Target scope]]<>Target_Not_Applicable,COUNTBLANK(GLOBAL_DATA[[#This Row],[Target scope]:[Target justification (if<100%)]]),0)+IF(GLOBAL_DATA[[#This Row],[Status]]<>Status_No_Project,COUNTBLANK(GLOBAL_DATA[[#This Row],[Implementation progress rate]:[CISO assessment]]),0) -> 0 | AJ14: =IF(AND(GLOBAL_DATA[[#This Row],[Status]]=DATA_Status_TOBESTARTED,GLOBAL_DATA[[#This Row],[Implementation progress rate]]>0),DATA_DQA_1,"") | AK14: =IF(AND(GLOBAL_DATA[[#This Row],[Status]]=In_progress,GLOBAL_DATA[[#This Row],[Implementation progress rate]]=1),DATA_DQA_2,"") | AL14: {=IF(AND(GLOBAL_DATA[[#This Row],[Status]]=In_progress,GLOBAL_DATA[[#This Row],[Implementation progress rate]]=0),DATA_DQA_3,"")} | AM14: =IF(AND(GLOBAL_DATA[[#This Row],[Status]]=Done,GLOBAL_DATA[[#This Row],[Implementation progress rate]]<1),DATA_QDA_4,"") | AN14: {=IF(GLOBAL_DATA[[#This Row],[Status]]="",DATA_QDA_7,"")} | AO14: =IF(AND(GLOBAL_DATA[[#This Row],[Initial end]]="",GLOBAL_DATA[[#This Row],[Re-estimated end]]="",GLOBAL_DATA[[#This Row],[Status]]=DATA_Status_INPROGRESS),DATA_QDA_12,"") | AP14: =IF(AND(GLOBAL_DATA[[#This Row],[Initial end]]="",GLOBAL_DATA[[#This Row],[Re-estimated end]]="",GLOBAL_DATA[[#This Row],[Status]]=DATA_Status_TOBESTARTED),DATA_QDA_13,"") | AQ14: =IF(AND(GLOBAL_DATA[[#This Row],[Status]]=DATA_Status_INPROGRESS,GLOBAL_DATA[[#This Row],[Total Initial]]=0,GLOBAL_DATA[[#This Row],[Total re-estimated]]=0),DATA_DQA_11,"") | AR14: =IF(AND(GLOBAL_DATA[[#This Row],[Will be done]]=1,SUM(GLOBAL_DATA[[#This Row],[Total Initial]]:GLOBAL_DATA[[#This Row],[Total Spent]])<>0,GLOBAL_DATA[[#This Row],[Kick-off]]=""),DATA_DQA_16,"") | AS14: =IF(AND(GLOBAL_DATA[[#This Row],[Will be done]]=1,SUM(GLOBAL_DATA[[#This Row],[Total Initial]]:GLOBAL_DATA[[#This Row],[Total Spent]])<>0,GLOBAL_DATA[[#This Row],[Initial end]]=""),DATA_QDA_17,"") | AT14: =IF(AND(IFERROR(DATEDIF(GLOBAL_DATA[[#This Row],[Kick-off]],TODAY(),"m"),0)<>0,OR(GLOBAL_DATA[[#This Row],[Status]]=DATA_Status_TOBESTARTED)),DATA_QDA_19,"") | AU14: =IF(AND(GLOBAL_DATA[[#This Row],[Kick-off]]<>"",GLOBAL_DATA[[#This Row],[Kick-off]]>GLOBAL_DATA[[#This Row],[Re-estimated end]]),DATA_DQA_14,"") | AV14: =IF(AND(IFERROR(DATEDIF(TODAY(),GLOBAL_DATA[[#This Row],[Re-estimated end]],"m"),0)>1,GLOBAL_DATA[[#This Row],[Implementation progress rate]]=1),DATA_QDA_8,"") | AW14: {=IF(AND(GLOBAL_DATA[[#This Row],[CISO assessment]]="Warning only",TRIM(GLOBAL_DATA[[#This Row],[CISO Comments]])=""),DATA_DQA_9,"")} | AX14: =IF(AND(GLOBAL_DATA[[#This Row],[CISO assessment]]="Alert",TRIM(GLOBAL_DATA[[#This Row],[CISO Comments]])=""),DATA_DQA_10,"") | AY14: No | AZ14: =IF(OR(GLOBAL_DATA[[#This Row],[Status]]="",GLOBAL_DATA[[#This Row],[Status]]=Risk_accepted,GLOBAL_DATA[[#This Row],[Status]]=Target_Not_Applicable),1,0) -> 0 | BA14: =IF(OR(GLOBAL_DATA[[#This Row],[Status]]=DATA_Status_TOBESTARTED,GLOBAL_DATA[[#This Row],[Status]]=DATA_Status_INPROGRESS),1,0) -> 1 | BB14: =IF(OR(GLOBAL_DATA[[#This Row],[Status]]=Done,GLOBAL_DATA[[#This Row],[Status]]=Checked),1,0) -> 0
A15: XX | B15: XX | C15: =IF(GLOBAL_DATA[[#This Row],[Target scope]]="","",INDEX(DATA_TargetStatusChoice[Target_Status_Choice],MATCH(GLOBAL_DATA[[#This Row],[Target scope]],DATA_TargetStatusChoice[Value],1))) -> FULL IMPLEMENTATION | D15: 1 | E15: - | F15: TO BE STARTED | G15: 0 | H15: No alert | I15: XX | J15: Secured | K15: Local | L15: 44197 | M15: 44560 | N15: 44561 | O15: =SUM(GLOBAL_DATA[[#This Row],[Initial 2020]],GLOBAL_DATA[[#This Row],[Initial 2021]],GLOBAL_DATA[[#This Row],[Initial 2022]],GLOBAL_DATA[[#This Row],[Initial 2023]]) -> 5 | P15: =SUM(GLOBAL_DATA[[#This Row],[Reestimated 2020]],GLOBAL_DATA[[#This Row],[Reestimated 2021]],GLOBAL_DATA[[#This Row],[Reestimated 2022]],GLOBAL_DATA[[#This Row],[Reestimated 2023]]) -> 0 | Q15: =SUM(GLOBAL_DATA[[#This Row],[Spent 2020]],GLOBAL_DATA[[#This Row],[Spent 2021]],GLOBAL_DATA[[#This Row],[Spent 2022]],GLOBAL_DATA[[#This Row],[Spent 2023]]) -> 0 | U15: 5 | X15: 0 | Y15: 0 | Z15: 0 | AA15: 0 | AB15: 0 | AC15: 0 | AD15: =IF(GLOBAL_DATA[[#This Row],[Target scope]]<>Target_Not_Applicable,GLOBAL_DATA[[#This Row],[Target scope]]*GLOBAL_DATA[[#This Row],[Implementation progress rate]],"") -> 0 | AE15: =IF(OR(GLOBAL_DATA[[#This Row],[Status]]=DATA!$J$6,GLOBAL_DATA[[#This Row],[Status]]=DATA!$J$7,GLOBAL_DATA[[#This Row],[Status]]=DATA!$J$8),1,0) -> 0 | AF15: =IF(GLOBAL_DATA[[#This Row],[Status]]=Status_No_Project,"",MAX(GLOBAL_DATA[[#This Row],[Initial end]],GLOBAL_DATA[[#This Row],[Re-estimated end]],43831)) -> 44561 | AG15: =IF(AND(GLOBAL_DATA[[#This Row],[Implementation progress rate]]<100%,GLOBAL_DATA[[#This Row],[Re-estimated end]]<=SYNTHESIS!ReportingDate,GLOBAL_DATA[[#This Row],[Re-estimated end]]<>""),1,0)+IF(AND(GLOBAL_DATA[[#This Row],[Implementation progress rate]]<100%,GLOBAL_DATA[[#This Row],[Initial end]]<=SYNTHESIS!ReportingDate,GLOBAL_DATA[[#This Row],[Re-estimated end]]<SYNTHESIS!ReportingDate,GLOBAL_DATA[[#This Row],[Re-estimated end]]<>""),1,0)+IF(AND(OR(GLOBAL_DATA[[#This Row],[Target scope]]=Target_Not_Applicable,GLOBAL_DATA[[#This Row],[Target scope]]=Risk_accepted),GLOBAL_DATA[[#This Row],[Kick-off]]<>""),1,0)+IF(AND(GLOBAL_DATA[[#This Row],[Status]]=In_progress,GLOBAL_DATA[[#This Row],[Implementation progress rate]]=Risk_accepted),1,0)+IF(AND(GLOBAL_DATA[[#This Row],[Status]]=In_progress,GLOBAL_DATA[[#This Row],[Implementation progress rate]]=full),1,0) -> 0 | AH15: =IF(GLOBAL_DATA[[#This Row],[Target scope]]<>Target_Not_Applicable,COUNTBLANK(GLOBAL_DATA[[#This Row],[Target scope]:[Target justification (if<100%)]]),0)+IF(GLOBAL_DATA[[#This Row],[Status]]<>Status_No_Project,COUNTBLANK(GLOBAL_DATA[[#This Row],[Implementation progress rate]:[CISO assessment]]),0) -> 0 | AJ15: =IF(AND(GLOBAL_DATA[[#This Row],[Status]]=DATA_Status_TOBESTARTED,GLOBAL_DATA[[#This Row],[Implementation progress rate]]>0),DATA_DQA_1,"") | AK15: =IF(AND(GLOBAL_DATA[[#This Row],[Status]]=In_progress,GLOBAL_DATA[[#This Row],[Implementation progress rate]]=1),DATA_DQA_2,"") | AL15: {=IF(AND(GLOBAL_DATA[[#This Row],[Status]]=In_progress,GLOBAL_DATA[[#This Row],[Implementation progress rate]]=0),DATA_DQA_3,"")} | AM15: =IF(AND(GLOBAL_DATA[[#This Row],[Status]]=Done,GLOBAL_DATA[[#This Row],[Implementation progress rate]]<1),DATA_QDA_4,"") | AN15: {=IF(GLOBAL_DATA[[#This Row],[Status]]="",DATA_QDA_7,"")} | AO15: =IF(AND(GLOBAL_DATA[[#This Row],[Initial end]]="",GLOBAL_DATA[[#This Row],[Re-estimated end]]="",GLOBAL_DATA[[#This Row],[Status]]=DATA_Status_INPROGRESS),DATA_QDA_12,"") | AP15: =IF(AND(GLOBAL_DATA[[#This Row],[Initial end]]="",GLOBAL_DATA[[#This Row],[Re-estimated end]]="",GLOBAL_DATA[[#This Row],[Status]]=DATA_Status_TOBESTARTED),DATA_QDA_13,"") | AQ15: =IF(AND(GLOBAL_DATA[[#This Row],[Status]]=DATA_Status_INPROGRESS,GLOBAL_DATA[[#This Row],[Total Initial]]=0,GLOBAL_DATA[[#This Row],[Total re-estimated]]=0),DATA_DQA_11,"") | AR15: =IF(AND(GLOBAL_DATA[[#This Row],[Will be done]]=1,SUM(GLOBAL_DATA[[#This Row],[Total Initial]]:GLOBAL_DATA[[#This Row],[Total Spent]])<>0,GLOBAL_DATA[[#This Row],[Kick-off]]=""),DATA_DQA_16,"") | AS15: =IF(AND(GLOBAL_DATA[[#This Row],[Will be done]]=1,SUM(GLOBAL_DATA[[#This Row],[Total Initial]]:GLOBAL_DATA[[#This Row],[Total Spent]])<>0,GLOBAL_DATA[[#This Row],[Initial end]]=""),DATA_QDA_17,"") | AT15: =IF(AND(IFERROR(DATEDIF(GLOBAL_DATA[[#This Row],[Kick-off]],TODAY(),"m"),0)<>0,OR(GLOBAL_DATA[[#This Row],[Status]]=DATA_Status_TOBESTARTED)),DATA_QDA_19,"") | AU15: =IF(AND(GLOBAL_DATA[[#This Row],[Kick-off]]<>"",GLOBAL_DATA[[#This Row],[Kick-off]]>GLOBAL_DATA[[#This Row],[Re-estimated end]]),DATA_DQA_14,"") | AV15: =IF(AND(IFERROR(DATEDIF(TODAY(),GLOBAL_DATA[[#This Row],[Re-estimated end]],"m"),0)>1,GLOBAL_DATA[[#This Row],[Implementation progress rate]]=1),DATA_QDA_8,"") | AW15: {=IF(AND(GLOBAL_DATA[[#This Row],[CISO assessment]]="Warning only",TRIM(GLOBAL_DATA[[#This Row],[CISO Comments]])=""),DATA_DQA_9,"")} | AX15: =IF(AND(GLOBAL_DATA[[#This Row],[CISO assessment]]="Alert",TRIM(GLOBAL_DATA[[#This Row],[CISO Comments]])=""),DATA_DQA_10,"") | AY15: No | AZ15: =IF(OR(GLOBAL_DATA[[#This Row],[Status]]="",GLOBAL_DATA[[#This Row],[Status]]=Risk_accepted,GLOBAL_DATA[[#This Row],[Status]]=Target_Not_Applicable),1,0) -> 0 | BA15: =IF(OR(GLOBAL_DATA[[#This Row],[Status]]=DATA_Status_TOBESTARTED,GLOBAL_DATA[[#This Row],[Status]]=DATA_Status_INPROGRESS),1,0) -> 1 | BB15: =IF(OR(GLOBAL_DATA[[#This Row],[Status]]=Done,GLOBAL_DATA[[#This Row],[Status]]=Checked),1,0) -> 0
A16: XX | B16: XX | C16: =IF(GLOBAL_DATA[[#This Row],[Target scope]]="","",INDEX(DATA_TargetStatusChoice[Target_Status_Choice],MATCH(GLOBAL_DATA[[#This Row],[Target scope]],DATA_TargetStatusChoice[Value],1))) -> FULL IMPLEMENTATION | D16: 1 | E16: - | F16: TO BE STARTED | G16: 0 | H16: No alert | I16: XX | J16: Secured | K16: Local | L16: 44197 | M16: 44560 | N16: 44561 | O16: =SUM(GLOBAL_DATA[[#This Row],[Initial 2020]],GLOBAL_DATA[[#This Row],[Initial 2021]],GLOBAL_DATA[[#This Row],[Initial 2022]],GLOBAL_DATA[[#This Row],[Initial 2023]]) -> 0 | P16: =SUM(GLOBAL_DATA[[#This Row],[Reestimated 2020]],GLOBAL_DATA[[#This Row],[Reestimated 2021]],GLOBAL_DATA[[#This Row],[Reestimated 2022]],GLOBAL_DATA[[#This Row],[Reestimated 2023]]) -> 0 | Q16: =SUM(GLOBAL_DATA[[#This Row],[Spent 2020]],GLOBAL_DATA[[#This Row],[Spent 2021]],GLOBAL_DATA[[#This Row],[Spent 2022]],GLOBAL_DATA[[#This Row],[Spent 2023]]) -> 0 | X16: 0 | Y16: 0 | Z16: 0 | AA16: 0 | AB16: 0 | AC16: 0 | AD16: =IF(GLOBAL_DATA[[#This Row],[Target scope]]<>Target_Not_Applicable,GLOBAL_DATA[[#This Row],[Target scope]]*GLOBAL_DATA[[#This Row],[Implementation progress rate]],"") -> 0 | AE16: =IF(OR(GLOBAL_DATA[[#This Row],[Status]]=DATA!$J$6,GLOBAL_DATA[[#This Row],[Status]]=DATA!$J$7,GLOBAL_DATA[[#This Row],[Status]]=DATA!$J$8),1,0) -> 0 | AF16: =IF(GLOBAL_DATA[[#This Row],[Status]]=Status_No_Project,"",MAX(GLOBAL_DATA[[#This Row],[Initial end]],GLOBAL_DATA[[#This Row],[Re-estimated end]],43831)) -> 44561 | AG16: =IF(AND(GLOBAL_DATA[[#This Row],[Implementation progress rate]]<100%,GLOBAL_DATA[[#This Row],[Re-estimated end]]<=SYNTHESIS!ReportingDate,GLOBAL_DATA[[#This Row],[Re-estimated end]]<>""),1,0)+IF(AND(GLOBAL_DATA[[#This Row],[Implementation progress rate]]<100%,GLOBAL_DATA[[#This Row],[Initial end]]<=SYNTHESIS!ReportingDate,GLOBAL_DATA[[#This Row],[Re-estimated end]]<SYNTHESIS!ReportingDate,GLOBAL_DATA[[#This Row],[Re-estimated end]]<>""),1,0)+IF(AND(OR(GLOBAL_DATA[[#This Row],[Target scope]]=Target_Not_Applicable,GLOBAL_DATA[[#This Row],[Target scope]]=Risk_accepted),GLOBAL_DATA[[#This Row],[Kick-off]]<>""),1,0)+IF(AND(GLOBAL_DATA[[#This Row],[Status]]=In_progress,GLOBAL_DATA[[#This Row],[Implementation progress rate]]=Risk_accepted),1,0)+IF(AND(GLOBAL_DATA[[#This Row],[Status]]=In_progress,GLOBAL_DATA[[#This Row],[Implementation progress rate]]=full),1,0) -> 0 | AH16: =IF(GLOBAL_DATA[[#This Row],[Target scope]]<>Target_Not_Applicable,COUNTBLANK(GLOBAL_DATA[[#This Row],[Target scope]:[Target justification (if<100%)]]),0)+IF(GLOBAL_DATA[[#This Row],[Status]]<>Status_No_Project,COUNTBLANK(GLOBAL_DATA[[#This Row],[Implementation progress rate]:[CISO assessment]]),0) -> 0 | AJ16: =IF(AND(GLOBAL_DATA[[#This Row],[Status]]=DATA_Status_TOBESTARTED,GLOBAL_DATA[[#This Row],[Implementation progress rate]]>0),DATA_DQA_1,"") | AK16: =IF(AND(GLOBAL_DATA[[#This Row],[Status]]=In_progress,GLOBAL_DATA[[#This Row],[Implementation progress rate]]=1),DATA_DQA_2,"") | AL16: {=IF(AND(GLOBAL_DATA[[#This Row],[Status]]=In_progress,GLOBAL_DATA[[#This Row],[Implementation progress rate]]=0),DATA_DQA_3,"")} | AM16: =IF(AND(GLOBAL_DATA[[#This Row],[Status]]=Done,GLOBAL_DATA[[#This Row],[Implementation progress rate]]<1),DATA_QDA_4,"") | AN16: {=IF(GLOBAL_DATA[[#This Row],[Status]]="",DATA_QDA_7,"")} | AO16: =IF(AND(GLOBAL_DATA[[#This Row],[Initial end]]="",GLOBAL_DATA[[#This Row],[Re-estimated end]]="",GLOBAL_DATA[[#This Row],[Status]]=DATA_Status_INPROGRESS),DATA_QDA_12,"") | AP16: =IF(AND(GLOBAL_DATA[[#This Row],[Initial end]]="",GLOBAL_DATA[[#This Row],[Re-estimated end]]="",GLOBAL_DATA[[#This Row],[Status]]=DATA_Status_TOBESTARTED),DATA_QDA_13,"") | AQ16: =IF(AND(GLOBAL_DATA[[#This Row],[Status]]=DATA_Status_INPROGRESS,GLOBAL_DATA[[#This Row],[Total Initial]]=0,GLOBAL_DATA[[#This Row],[Total re-estimated]]=0),DATA_DQA_11,"") | AR16: =IF(AND(GLOBAL_DATA[[#This Row],[Will be done]]=1,SUM(GLOBAL_DATA[[#This Row],[Total Initial]]:GLOBAL_DATA[[#This Row],[Total Spent]])<>0,GLOBAL_DATA[[#This Row],[Kick-off]]=""),DATA_DQA_16,"") | AS16: =IF(AND(GLOBAL_DATA[[#This Row],[Will be done]]=1,SUM(GLOBAL_DATA[[#This Row],[Total Initial]]:GLOBAL_DATA[[#This Row],[Total Spent]])<>0,GLOBAL_DATA[[#This Row],[Initial end]]=""),DATA_QDA_17,"") | AT16: =IF(AND(IFERROR(DATEDIF(GLOBAL_DATA[[#This Row],[Kick-off]],TODAY(),"m"),0)<>0,OR(GLOBAL_DATA[[#This Row],[Status]]=DATA_Status_TOBESTARTED)),DATA_QDA_19,"") | AU16: =IF(AND(GLOBAL_DATA[[#This Row],[Kick-off]]<>"",GLOBAL_DATA[[#This Row],[Kick-off]]>GLOBAL_DATA[[#This Row],[Re-estimated end]]),DATA_DQA_14,"") | AV16: =IF(AND(IFERROR(DATEDIF(TODAY(),GLOBAL_DATA[[#This Row],[Re-estimated end]],"m"),0)>1,GLOBAL_DATA[[#This Row],[Implementation progress rate]]=1),DATA_QDA_8,"") | AW16: {=IF(AND(GLOBAL_DATA[[#This Row],[CISO assessment]]="Warning only",TRIM(GLOBAL_DATA[[#This Row],[CISO Comments]])=""),DATA_DQA_9,"")} | AX16: =IF(AND(GLOBAL_DATA[[#This Row],[CISO assessment]]="Alert",TRIM(GLOBAL_DATA[[#This Row],[CISO Comments]])=""),DATA_DQA_10,"") | AY16: No | AZ16: =IF(OR(GLOBAL_DATA[[#This Row],[Status]]="",GLOBAL_DATA[[#This Row],[Status]]=Risk_accepted,GLOBAL_DATA[[#This Row],[Status]]=Target_Not_Applicable),1,0) -> 0 | BA16: =IF(OR(GLOBAL_DATA[[#This Row],[Status]]=DATA_Status_TOBESTARTED,GLOBAL_DATA[[#This Row],[Status]]=DATA_Status_INPROGRESS),1,0) -> 1 | BB16: =IF(OR(GLOBAL_DATA[[#This Row],[Status]]=Done,GLOBAL_DATA[[#This Row],[Status]]=Checked),1,0) -> 0
A17: XX | B17: XX | C17: =IF(GLOBAL_DATA[[#This Row],[Target scope]]="","",INDEX(DATA_TargetStatusChoice[Target_Status_Choice],MATCH(GLOBAL_DATA[[#This Row],[Target scope]],DATA_TargetStatusChoice[Value],1))) -> FULL IMPLEMENTATION | D17: 1 | E17: - | F17: TO BE STARTED | G17: 0 | H17: No alert | I17: XX | J17: Not secured | K17: NC | L17: 44197 | M17: 44560 | N17: 44561 | O17: =SUM(GLOBAL_DATA[[#This Row],[Initial 2020]],GLOBAL_DATA[[#This Row],[Initial 2021]],GLOBAL_DATA[[#This Row],[Initial 2022]],GLOBAL_DATA[[#This Row],[Initial 2023]]) -> 0 | P17: =SUM(GLOBAL_DATA[[#This Row],[Reestimated 2020]],GLOBAL_DATA[[#This Row],[Reestimated 2021]],GLOBAL_DATA[[#This Row],[Reestimated 2022]],GLOBAL_DATA[[#This Row],[Reestimated 2023]]) -> 0 | Q17: =SUM(GLOBAL_DATA[[#This Row],[Spent 2020]],GLOBAL_DATA[[#This Row],[Spent 2021]],GLOBAL_DATA[[#This Row],[Spent 2022]],GLOBAL_DATA[[#This Row],[Spent 2023]]) -> 0 | X17: 0 | Y17: 0 | Z17: 0 | AA17: 0 | AB17: 0 | AC17: 0 | AD17: =IF(GLOBAL_DATA[[#This Row],[Target scope]]<>Target_Not_Applicable,GLOBAL_DATA[[#This Row],[Target scope]]*GLOBAL_DATA[[#This Row],[Implementation progress rate]],"") -> 0 | AE17: =IF(OR(GLOBAL_DATA[[#This Row],[Status]]=DATA!$J$6,GLOBAL_DATA[[#This Row],[Status]]=DATA!$J$7,GLOBAL_DATA[[#This Row],[Status]]=DATA!$J$8),1,0) -> 0 | AF17: =IF(GLOBAL_DATA[[#This Row],[Status]]=Status_No_Project,"",MAX(GLOBAL_DATA[[#This Row],[Initial end]],GLOBAL_DATA[[#This Row],[Re-estimated end]],43831)) -> 44561 | AG17: =IF(AND(GLOBAL_DATA[[#This Row],[Implementation progress rate]]<100%,GLOBAL_DATA[[#This Row],[Re-estimated end]]<=SYNTHESIS!ReportingDate,GLOBAL_DATA[[#This Row],[Re-estimated end]]<>""),1,0)+IF(AND(GLOBAL_DATA[[#This Row],[Implementation progress rate]]<100%,GLOBAL_DATA[[#This Row],[Initial end]]<=SYNTHESIS!ReportingDate,GLOBAL_DATA[[#This Row],[Re-estimated end]]<SYNTHESIS!ReportingDate,GLOBAL_DATA[[#This Row],[Re-estimated end]]<>""),1,0)+IF(AND(OR(GLOBAL_DATA[[#This Row],[Target scope]]=Target_Not_Applicable,GLOBAL_DATA[[#This Row],[Target scope]]=Risk_accepted),GLOBAL_DATA[[#This Row],[Kick-off]]<>""),1,0)+IF(AND(GLOBAL_DATA[[#This Row],[Status]]=In_progress,GLOBAL_DATA[[#This Row],[Implementation progress rate]]=Risk_accepted),1,0)+IF(AND(GLOBAL_DATA[[#This Row],[Status]]=In_progress,GLOBAL_DATA[[#This Row],[Implementation progress rate]]=full),1,0) -> 0 | AH17: =IF(GLOBAL_DATA[[#This Row],[Target scope]]<>Target_Not_Applicable,COUNTBLANK(GLOBAL_DATA[[#This Row],[Target scope]:[Target justification (if<100%)]]),0)+IF(GLOBAL_DATA[[#This Row],[Status]]<>Status_No_Project,COUNTBLANK(GLOBAL_DATA[[#This Row],[Implementation progress rate]:[CISO assessment]]),0) -> 0 | AJ17: =IF(AND(GLOBAL_DATA[[#This Row],[Status]]=DATA_Status_TOBESTARTED,GLOBAL_DATA[[#This Row],[Implementation progress rate]]>0),DATA_DQA_1,"") | AK17: =IF(AND(GLOBAL_DATA[[#This Row],[Status]]=In_progress,GLOBAL_DATA[[#This Row],[Implementation progress rate]]=1),DATA_DQA_2,"") | AL17: {=IF(AND(GLOBAL_DATA[[#This Row],[Status]]=In_progress,GLOBAL_DATA[[#This Row],[Implementation progress rate]]=0),DATA_DQA_3,"")} | AM17: =IF(AND(GLOBAL_DATA[[#This Row],[Status]]=Done,GLOBAL_DATA[[#This Row],[Implementation progress rate]]<1),DATA_QDA_4,"") | AN17: {=IF(GLOBAL_DATA[[#This Row],[Status]]="",DATA_QDA_7,"")} | AO17: =IF(AND(GLOBAL_DATA[[#This Row],[Initial end]]="",GLOBAL_DATA[[#This Row],[Re-estimated end]]="",GLOBAL_DATA[[#This Row],[Status]]=DATA_Status_INPROGRESS),DATA_QDA_12,"") | AP17: =IF(AND(GLOBAL_DATA[[#This Row],[Initial end]]="",GLOBAL_DATA[[#This Row],[Re-estimated end]]="",GLOBAL_DATA[[#This Row],[Status]]=DATA_Status_TOBESTARTED),DATA_QDA_13,"") | AQ17: =IF(AND(GLOBAL_DATA[[#This Row],[Status]]=DATA_Status_INPROGRESS,GLOBAL_DATA[[#This Row],[Total Initial]]=0,GLOBAL_DATA[[#This Row],[Total re-estimated]]=0),DATA_DQA_11,"") | AR17: =IF(AND(GLOBAL_DATA[[#This Row],[Will be done]]=1,SUM(GLOBAL_DATA[[#This Row],[Total Initial]]:GLOBAL_DATA[[#This Row],[Total Spent]])<>0,GLOBAL_DATA[[#This Row],[Kick-off]]=""),DATA_DQA_16,"") | AS17: =IF(AND(GLOBAL_DATA[[#This Row],[Will be done]]=1,SUM(GLOBAL_DATA[[#This Row],[Total Initial]]:GLOBAL_DATA[[#This Row],[Total Spent]])<>0,GLOBAL_DATA[[#This Row],[Initial end]]=""),DATA_QDA_17,"") | AT17: =IF(AND(IFERROR(DATEDIF(GLOBAL_DATA[[#This Row],[Kick-off]],TODAY(),"m"),0)<>0,OR(GLOBAL_DATA[[#This Row],[Status]]=DATA_Status_TOBESTARTED)),DATA_QDA_19,"") | AU17: =IF(AND(GLOBAL_DATA[[#This Row],[Kick-off]]<>"",GLOBAL_DATA[[#This Row],[Kick-off]]>GLOBAL_DATA[[#This Row],[Re-estimated end]]),DATA_DQA_14,"") | AV17: =IF(AND(IFERROR(DATEDIF(TODAY(),GLOBAL_DATA[[#This Row],[Re-estimated end]],"m"),0)>1,GLOBAL_DATA[[#This Row],[Implementation progress rate]]=1),DATA_QDA_8,"") | AW17: {=IF(AND(GLOBAL_DATA[[#This Row],[CISO assessment]]="Warning only",TRIM(GLOBAL_DATA[[#This Row],[CISO Comments]])=""),DATA_DQA_9,"")} | AX17: =IF(AND(GLOBAL_DATA[[#This Row],[CISO assessment]]="Alert",TRIM(GLOBAL_DATA[[#This Row],[CISO Comments]])=""),DATA_DQA_10,"") | AY17: No | AZ17: =IF(OR(GLOBAL_DATA[[#This Row],[Status]]="",GLOBAL_DATA[[#This Row],[Status]]=Risk_accepted,GLOBAL_DATA[[#This Row],[Status]]=Target_Not_Applicable),1,0) -> 0 | BA17: =IF(OR(GLOBAL_DATA[[#This Row],[Status]]=DATA_Status_TOBESTARTED,GLOBAL_DATA[[#This Row],[Status]]=DATA_Status_INPROGRESS),1,0) -> 1 | BB17: =IF(OR(GLOBAL_DATA[[#This Row],[Status]]=Done,GLOBAL_DATA[[#This Row],[Status]]=Checked),1,0) -> 0
A18: XX | B18: XX | C18: =IF(GLOBAL_DATA[[#This Row],[Target scope]]="","",INDEX(DATA_TargetStatusChoice[Target_Status_Choice],MATCH(GLOBAL_DATA[[#This Row],[Target scope]],DATA_TargetStatusChoice[Value],1))) -> FULL IMPLEMENTATION | D18: 1 | E18: - | F18: IN PROGRESS | G18: 0.4 | H18: No alert | I18: XX | J18: Secured | K18: Local | L18: 43831 | M18: 44560 | N18: 44561 | O18: =SUM(GLOBAL_DATA[[#This Row],[Initial 2020]],GLOBAL_DATA[[#This Row],[Initial 2021]],GLOBAL_DATA[[#This Row],[Initial 2022]],GLOBAL_DATA[[#This Row],[Initial 2023]]) -> 6 | P18: =SUM(GLOBAL_DATA[[#This Row],[Reestimated 2020]],GLOBAL_DATA[[#This Row],[Reestimated 2021]],GLOBAL_DATA[[#This Row],[Reestimated 2022]],GLOBAL_DATA[[#This Row],[Reestimated 2023]]) -> 0 | Q18: =SUM(GLOBAL_DATA[[#This Row],[Spent 2020]],GLOBAL_DATA[[#This Row],[Spent 2021]],GLOBAL_DATA[[#This Row],[Spent 2022]],GLOBAL_DATA[[#This Row],[Spent 2023]]) -> 0 | U18: 6 | X18: 0 | Y18: 0 | Z18: 0 | AA18: 0 | AB18: 0 | AC18: 0 | AD18: =IF(GLOBAL_DATA[[#This Row],[Target scope]]<>Target_Not_Applicable,GLOBAL_DATA[[#This Row],[Target scope]]*GLOBAL_DATA[[#This Row],[Implementation progress rate]],"") -> 0.4 | AE18: =IF(OR(GLOBAL_DATA[[#This Row],[Status]]=DATA!$J$6,GLOBAL_DATA[[#This Row],[Status]]=DATA!$J$7,GLOBAL_DATA[[#This Row],[Status]]=DATA!$J$8),1,0) -> 0 | AF18: =IF(GLOBAL_DATA[[#This Row],[Status]]=Status_No_Project,"",MAX(GLOBAL_DATA[[#This Row],[Initial end]],GLOBAL_DATA[[#This Row],[Re-estimated end]],43831)) -> 44561 | AG18: =IF(AND(GLOBAL_DATA[[#This Row],[Implementation progress rate]]<100%,GLOBAL_DATA[[#This Row],[Re-estimated end]]<=SYNTHESIS!ReportingDate,GLOBAL_DATA[[#This Row],[Re-estimated end]]<>""),1,0)+IF(AND(GLOBAL_DATA[[#This Row],[Implementation progress rate]]<100%,GLOBAL_DATA[[#This Row],[Initial end]]<=SYNTHESIS!ReportingDate,GLOBAL_DATA[[#This Row],[Re-estimated end]]<SYNTHESIS!ReportingDate,GLOBAL_DATA[[#This Row],[Re-estimated end]]<>""),1,0)+IF(AND(OR(GLOBAL_DATA[[#This Row],[Target scope]]=Target_Not_Applicable,GLOBAL_DATA[[#This Row],[Target scope]]=Risk_accepted),GLOBAL_DATA[[#This Row],[Kick-off]]<>""),1,0)+IF(AND(GLOBAL_DATA[[#This Row],[Status]]=In_progress,GLOBAL_DATA[[#This Row],[Implementation progress rate]]=Risk_accepted),1,0)+IF(AND(GLOBAL_DATA[[#This Row],[Status]]=In_progress,GLOBAL_DATA[[#This Row],[Implementation progress rate]]=full),1,0) -> 0 | AH18: =IF(GLOBAL_DATA[[#This Row],[Target scope]]<>Target_Not_Applicable,COUNTBLANK(GLOBAL_DATA[[#This Row],[Target scope]:[Target justification (if<100%)]]),0)+IF(GLOBAL_DATA[[#This Row],[Status]]<>Status_No_Project,COUNTBLANK(GLOBAL_DATA[[#This Row],[Implementation progress rate]:[CISO assessment]]),0) -> 0 | AJ18: =IF(AND(GLOBAL_DATA[[#This Row],[Status]]=DATA_Status_TOBESTARTED,GLOBAL_DATA[[#This Row],[Implementation progress rate]]>0),DATA_DQA_1,"") | AK18: =IF(AND(GLOBAL_DATA[[#This Row],[Status]]=In_progress,GLOBAL_DATA[[#This Row],[Implementation progress rate]]=1),DATA_DQA_2,"") | AL18: {=IF(AND(GLOBAL_DATA[[#This Row],[Status]]=In_progress,GLOBAL_DATA[[#This Row],[Implementation progress rate]]=0),DATA_DQA_3,"")} | AM18: =IF(AND(GLOBAL_DATA[[#This Row],[Status]]=Done,GLOBAL_DATA[[#This Row],[Implementation progress rate]]<1),DATA_QDA_4,"") | AN18: {=IF(GLOBAL_DATA[[#This Row],[Status]]="",DATA_QDA_7,"")} | AO18: =IF(AND(GLOBAL_DATA[[#This Row],[Initial end]]="",GLOBAL_DATA[[#This Row],[Re-estimated end]]="",GLOBAL_DATA[[#This Row],[Status]]=DATA_Status_INPROGRESS),DATA_QDA_12,"") | AP18: =IF(AND(GLOBAL_DATA[[#This Row],[Initial end]]="",GLOBAL_DATA[[#This Row],[Re-estimated end]]="",GLOBAL_DATA[[#This Row],[Status]]=DATA_Status_TOBESTARTED),DATA_QDA_13,"") | AQ18: =IF(AND(GLOBAL_DATA[[#This Row],[Status]]=DATA_Status_INPROGRESS,GLOBAL_DATA[[#This Row],[Total Initial]]=0,GLOBAL_DATA[[#This Row],[Total re-estimated]]=0),DATA_DQA_11,"") | AR18: =IF(AND(GLOBAL_DATA[[#This Row],[Will be done]]=1,SUM(GLOBAL_DATA[[#This Row],[Total Initial]]:GLOBAL_DATA[[#This Row],[Total Spent]])<>0,GLOBAL_DATA[[#This Row],[Kick-off]]=""),DATA_DQA_16,"") | AS18: =IF(AND(GLOBAL_DATA[[#This Row],[Will be done]]=1,SUM(GLOBAL_DATA[[#This Row],[Total Initial]]:GLOBAL_DATA[[#This Row],[Total Spent]])<>0,GLOBAL_DATA[[#This Row],[Initial end]]=""),DATA_QDA_17,"") | AT18: =IF(AND(IFERROR(DATEDIF(GLOBAL_DATA[[#This Row],[Kick-off]],TODAY(),"m"),0)<>0,OR(GLOBAL_DATA[[#This Row],[Status]]=DATA_Status_TOBESTARTED)),DATA_QDA_19,"") | AU18: =IF(AND(GLOBAL_DATA[[#This Row],[Kick-off]]<>"",GLOBAL_DATA[[#This Row],[Kick-off]]>GLOBAL_DATA[[#This Row],[Re-estimated end]]),DATA_DQA_14,"") | AV18: =IF(AND(IFERROR(DATEDIF(TODAY(),GLOBAL_DATA[[#This Row],[Re-estimated end]],"m"),0)>1,GLOBAL_DATA[[#This Row],[Implementation progress rate]]=1),DATA_QDA_8,"") | AW18: {=IF(AND(GLOBAL_DATA[[#This Row],[CISO assessment]]="Warning only",TRIM(GLOBAL_DATA[[#This Row],[CISO Comments]])=""),DATA_DQA_9,"")} | AX18: =IF(AND(GLOBAL_DATA[[#This Row],[CISO assessment]]="Alert",TRIM(GLOBAL_DATA[[#This Row],[CISO Comments]])=""),DATA_DQA_10,"") | AY18: No | AZ18: =IF(OR(GLOBAL_DATA[[#This Row],[Status]]="",GLOBAL_DATA[[#This Row],[Status]]=Risk_accepted,GLOBAL_DATA[[#This Row],[Status]]=Target_Not_Applicable),1,0) -> 0 | BA18: =IF(OR(GLOBAL_DATA[[#This Row],[Status]]=DATA_Status_TOBESTARTED,GLOBAL_DATA[[#This Row],[Status]]=DATA_Status_INPROGRESS),1,0) -> 1 | BB18: =IF(OR(GLOBAL_DATA[[#This Row],[Status]]=Done,GLOBAL_DATA[[#This Row],[Status]]=Checked),1,0) -> 0
A19: XX | B19: XX | C19: =IF(GLOBAL_DATA[[#This Row],[Target scope]]="","",INDEX(DATA_TargetStatusChoice[Target_Status_Choice],MATCH(GLOBAL_DATA[[#This Row],[Target scope]],DATA_TargetStatusChoice[Value],1))) -> FULL IMPLEMENTATION | D19: 1 | E19: - | F19: IN PROGRESS | G19: 0.6 | H19: No alert | I19: XX | J19: Not secured | K19: Hub SSI | L19: 43831 | M19: 44560 | N19: 44561 | O19: =SUM(GLOBAL_DATA[[#This Row],[Initial 2020]],GLOBAL_DATA[[#This Row],[Initial 2021]],GLOBAL_DATA[[#This Row],[Initial 2022]],GLOBAL_DATA[[#This Row],[Initial 2023]]) -> 0 | P19: =SUM(GLOBAL_DATA[[#This Row],[Reestimated 2020]],GLOBAL_DATA[[#This Row],[Reestimated 2021]],GLOBAL_DATA[[#This Row],[Reestimated 2022]],GLOBAL_DATA[[#This Row],[Reestimated 2023]]) -> 0 | Q19: =SUM(GLOBAL_DATA[[#This Row],[Spent 2020]],GLOBAL_DATA[[#This Row],[Spent 2021]],GLOBAL_DATA[[#This Row],[Spent 2022]],GLOBAL_DATA[[#This Row],[Spent 2023]]) -> 0 | U19: 0 | X19: 0 | Y19: 0 | Z19: 0 | AA19: 0 | AB19: 0 | AC19: 0 | AD19: =IF(GLOBAL_DATA[[#This Row],[Target scope]]<>Target_Not_Applicable,GLOBAL_DATA[[#This Row],[Target scope]]*GLOBAL_DATA[[#This Row],[Implementation progress rate]],"") -> 0.6 | AE19: =IF(OR(GLOBAL_DATA[[#This Row],[Status]]=DATA!$J$6,GLOBAL_DATA[[#This Row],[Status]]=DATA!$J$7,GLOBAL_DATA[[#This Row],[Status]]=DATA!$J$8),1,0) -> 0 | AF19: =IF(GLOBAL_DATA[[#This Row],[Status]]=Status_No_Project,"",MAX(GLOBAL_DATA[[#This Row],[Initial end]],GLOBAL_DATA[[#This Row],[Re-estimated end]],43831)) -> 44561 | AG19: =IF(AND(GLOBAL_DATA[[#This Row],[Implementation progress rate]]<100%,GLOBAL_DATA[[#This Row],[Re-estimated end]]<=SYNTHESIS!ReportingDate,GLOBAL_DATA[[#This Row],[Re-estimated end]]<>""),1,0)+IF(AND(GLOBAL_DATA[[#This Row],[Implementation progress rate]]<100%,GLOBAL_DATA[[#This Row],[Initial end]]<=SYNTHESIS!ReportingDate,GLOBAL_DATA[[#This Row],[Re-estimated end]]<SYNTHESIS!ReportingDate,GLOBAL_DATA[[#This Row],[Re-estimated end]]<>""),1,0)+IF(AND(OR(GLOBAL_DATA[[#This Row],[Target scope]]=Target_Not_Applicable,GLOBAL_DATA[[#This Row],[Target scope]]=Risk_accepted),GLOBAL_DATA[[#This Row],[Kick-off]]<>""),1,0)+IF(AND(GLOBAL_DATA[[#This Row],[Status]]=In_progress,GLOBAL_DATA[[#This Row],[Implementation progress rate]]=Risk_accepted),1,0)+IF(AND(GLOBAL_DATA[[#This Row],[Status]]=In_progress,GLOBAL_DATA[[#This Row],[Implementation progress rate]]=full),1,0) -> 0 | AH19: =IF(GLOBAL_DATA[[#This Row],[Target scope]]<>Target_Not_Applicable,COUNTBLANK(GLOBAL_DATA[[#This Row],[Target scope]:[Target justification (if<100%)]]),0)+IF(GLOBAL_DATA[[#This Row],[Status]]<>Status_No_Project,COUNTBLANK(GLOBAL_DATA[[#This Row],[Implementation progress rate]:[CISO assessment]]),0) -> 0 | AJ19: =IF(AND(GLOBAL_DATA[[#This Row],[Status]]=DATA_Status_TOBESTARTED,GLOBAL_DATA[[#This Row],[Implementation progress rate]]>0),DATA_DQA_1,"") | AK19: =IF(AND(GLOBAL_DATA[[#This Row],[Status]]=In_progress,GLOBAL_DATA[[#This Row],[Implementation progress rate]]=1),DATA_DQA_2,"") | AL19: {=IF(AND(GLOBAL_DATA[[#This Row],[Status]]=In_progress,GLOBAL_DATA[[#This Row],[Implementation progress rate]]=0),DATA_DQA_3,"")} | AM19: =IF(AND(GLOBAL_DATA[[#This Row],[Status]]=Done,GLOBAL_DATA[[#This Row],[Implementation progress rate]]<1),DATA_QDA_4,"") | AN19: {=IF(GLOBAL_DATA[[#This Row],[Status]]="",DATA_QDA_7,"")} | AO19: =IF(AND(GLOBAL_DATA[[#This Row],[Initial end]]="",GLOBAL_DATA[[#This Row],[Re-estimated end]]="",GLOBAL_DATA[[#This Row],[Status]]=DATA_Status_INPROGRESS),DATA_QDA_12,"") | AP19: =IF(AND(GLOBAL_DATA[[#This Row],[Initial end]]="",GLOBAL_DATA[[#This Row],[Re-estimated end]]="",GLOBAL_DATA[[#This Row],[Status]]=DATA_Status_TOBESTARTED),DATA_QDA_13,"") | AQ19: =IF(AND(GLOBAL_DATA[[#This Row],[Status]]=DATA_Status_INPROGRESS,GLOBAL_DATA[[#This Row],[Total Initial]]=0,GLOBAL_DATA[[#This Row],[Total re-estimated]]=0),DATA_DQA_11,"") -> IN PROGRESS but no budget | AR19: =IF(AND(GLOBAL_DATA[[#This Row],[Will be done]]=1,SUM(GLOBAL_DATA[[#This Row],[Total Initial]]:GLOBAL_DATA[[#This Row],[Total Spent]])<>0,GLOBAL_DATA[[#This Row],[Kick-off]]=""),DATA_DQA_16,"") | AS19: =IF(AND(GLOBAL_DATA[[#This Row],[Will be done]]=1,SUM(GLOBAL_DATA[[#This Row],[Total Initial]]:GLOBAL_DATA[[#This Row],[Total Spent]])<>0,GLOBAL_DATA[[#This Row],[Initial end]]=""),DATA_QDA_17,"") | AT19: =IF(AND(IFERROR(DATEDIF(GLOBAL_DATA[[#This Row],[Kick-off]],TODAY(),"m"),0)<>0,OR(GLOBAL_DATA[[#This Row],[Status]]=DATA_Status_TOBESTARTED)),DATA_QDA_19,"") | AU19: =IF(AND(GLOBAL_DATA[[#This Row],[Kick-off]]<>"",GLOBAL_DATA[[#This Row],[Kick-off]]>GLOBAL_DATA[[#This Row],[Re-estimated end]]),DATA_DQA_14,"") | AV19: =IF(AND(IFERROR(DATEDIF(TODAY(),GLOBAL_DATA[[#This Row],[Re-estimated end]],"m"),0)>1,GLOBAL_DATA[[#This Row],[Implementation progress rate]]=1),DATA_QDA_8,"") | AW19: {=IF(AND(GLOBAL_DATA[[#This Row],[CISO assessment]]="Warning only",TRIM(GLOBAL_DATA[[#This Row],[CISO Comments]])=""),DATA_DQA_9,"")} | AX19: =IF(AND(GLOBAL_DATA[[#This Row],[CISO assessment]]="Alert",TRIM(GLOBAL_DATA[[#This Row],[CISO Comments]])=""),DATA_DQA_10,"") | AY19: No | AZ19: =IF(OR(GLOBAL_DATA[[#This Row],[Status]]="",GLOBAL_DATA[[#This Row],[Status]]=Risk_accepted,GLOBAL_DATA[[#This Row],[Status]]=Target_Not_Applicable),1,0) -> 0 | BA19: =IF(OR(GLOBAL_DATA[[#This Row],[Status]]=DATA_Status_TOBESTARTED,GLOBAL_DATA[[#This Row],[Status]]=DATA_Status_INPROGRESS),1,0) -> 1 | BB19: =IF(OR(GLOBAL_DATA[[#This Row],[Status]]=Done,GLOBAL_DATA[[#This Row],[Status]]=Checked),1,0) -> 0
A20: XX | B20: XX | C20: =IF(GLOBAL_DATA[[#This Row],[Target scope]]="","",INDEX(DATA_TargetStatusChoice[Target_Status_Choice],MATCH(GLOBAL_DATA[[#This Row],[Target scope]],DATA_TargetStatusChoice[Value],1))) -> FULL IMPLEMENTATION | D20: 1 | E20: - | F20: TO BE STARTED | G20: 0 | H20: No alert | I20: XX | J20: Secured | K20: Local | L20: 44197 | M20: 44560 | N20: 44561 | O20: =SUM(GLOBAL_DATA[[#This Row],[Initial 2020]],GLOBAL_DATA[[#This Row],[Initial 2021]],GLOBAL_DATA[[#This Row],[Initial 2022]],GLOBAL_DATA[[#This Row],[Initial 2023]]) -> 0 | P20: =SUM(GLOBAL_DATA[[#This Row],[Reestimated 2020]],GLOBAL_DATA[[#This Row],[Reestimated 2021]],GLOBAL_DATA[[#This Row],[Reestimated 2022]],GLOBAL_DATA[[#This Row],[Reestimated 2023]]) -> 0 | Q20: =SUM(GLOBAL_DATA[[#This Row],[Spent 2020]],GLOBAL_DATA[[#This Row],[Spent 2021]],GLOBAL_DATA[[#This Row],[Spent 2022]],GLOBAL_DATA[[#This Row],[Spent 2023]]) -> 0 | U20: 0 | X20: 0 | Y20: 0 | Z20: 0 | AA20: 0 | AB20: 0 | AC20: 0 | AD20: =IF(GLOBAL_DATA[[#This Row],[Target scope]]<>Target_Not_Applicable,GLOBAL_DATA[[#This Row],[Target scope]]*GLOBAL_DATA[[#This Row],[Implementation progress rate]],"") -> 0 | AE20: =IF(OR(GLOBAL_DATA[[#This Row],[Status]]=DATA!$J$6,GLOBAL_DATA[[#This Row],[Status]]=DATA!$J$7,GLOBAL_DATA[[#This Row],[Status]]=DATA!$J$8),1,0) -> 0 | AF20: =IF(GLOBAL_DATA[[#This Row],[Status]]=Status_No_Project,"",MAX(GLOBAL_DATA[[#This Row],[Initial end]],GLOBAL_DATA[[#This Row],[Re-estimated end]],43831)) -> 44561 | AG20: =IF(AND(GLOBAL_DATA[[#This Row],[Implementation progress rate]]<100%,GLOBAL_DATA[[#This Row],[Re-estimated end]]<=SYNTHESIS!ReportingDate,GLOBAL_DATA[[#This Row],[Re-estimated end]]<>""),1,0)+IF(AND(GLOBAL_DATA[[#This Row],[Implementation progress rate]]<100%,GLOBAL_DATA[[#This Row],[Initial end]]<=SYNTHESIS!ReportingDate,GLOBAL_DATA[[#This Row],[Re-estimated end]]<SYNTHESIS!ReportingDate,GLOBAL_DATA[[#This Row],[Re-estimated end]]<>""),1,0)+IF(AND(OR(GLOBAL_DATA[[#This Row],[Target scope]]=Target_Not_Applicable,GLOBAL_DATA[[#This Row],[Target scope]]=Risk_accepted),GLOBAL_DATA[[#This Row],[Kick-off]]<>""),1,0)+IF(AND(GLOBAL_DATA[[#This Row],[Status]]=In_progress,GLOBAL_DATA[[#This Row],[Implementation progress rate]]=Risk_accepted),1,0)+IF(AND(GLOBAL_DATA[[#This Row],[Status]]=In_progress,GLOBAL_DATA[[#This Row],[Implementation progress rate]]=full),1,0) -> 0 | AH20: =IF(GLOBAL_DATA[[#This Row],[Target scope]]<>Target_Not_Applicable,COUNTBLANK(GLOBAL_DATA[[#This Row],[Target scope]:[Target justification (if<100%)]]),0)+IF(GLOBAL_DATA[[#This Row],[Status]]<>Status_No_Project,COUNTBLANK(GLOBAL_DATA[[#This Row],[Implementation progress rate]:[CISO assessment]]),0) -> 0 | AJ20: =IF(AND(GLOBAL_DATA[[#This Row],[Status]]=DATA_Status_TOBESTARTED,GLOBAL_DATA[[#This Row],[Implementation progress rate]]>0),DATA_DQA_1,"") | AK20: =IF(AND(GLOBAL_DATA[[#This Row],[Status]]=In_progress,GLOBAL_DATA[[#This Row],[Implementation progress rate]]=1),DATA_DQA_2,"") | AL20: {=IF(AND(GLOBAL_DATA[[#This Row],[Status]]=In_progress,GLOBAL_DATA[[#This Row],[Implementation progress rate]]=0),DATA_DQA_3,"")} | AM20: =IF(AND(GLOBAL_DATA[[#This Row],[Status]]=Done,GLOBAL_DATA[[#This Row],[Implementation progress rate]]<1),DATA_QDA_4,"") | AN20: {=IF(GLOBAL_DATA[[#This Row],[Status]]="",DATA_QDA_7,"")} | AO20: =IF(AND(GLOBAL_DATA[[#This Row],[Initial end]]="",GLOBAL_DATA[[#This Row],[Re-estimated end]]="",GLOBAL_DATA[[#This Row],[Status]]=DATA_Status_INPROGRESS),DATA_QDA_12,"") | AP20: =IF(AND(GLOBAL_DATA[[#This Row],[Initial end]]="",GLOBAL_DATA[[#This Row],[Re-estimated end]]="",GLOBAL_DATA[[#This Row],[Status]]=DATA_Status_TOBESTARTED),DATA_QDA_13,"") | AQ20: =IF(AND(GLOBAL_DATA[[#This Row],[Status]]=DATA_Status_INPROGRESS,GLOBAL_DATA[[#This Row],[Total Initial]]=0,GLOBAL_DATA[[#This Row],[Total re-estimated]]=0),DATA_DQA_11,"") | AR20: =IF(AND(GLOBAL_DATA[[#This Row],[Will be done]]=1,SUM(GLOBAL_DATA[[#This Row],[Total Initial]]:GLOBAL_DATA[[#This Row],[Total Spent]])<>0,GLOBAL_DATA[[#This Row],[Kick-off]]=""),DATA_DQA_16,"") | AS20: =IF(AND(GLOBAL_DATA[[#This Row],[Will be done]]=1,SUM(GLOBAL_DATA[[#This Row],[Total Initial]]:GLOBAL_DATA[[#This Row],[Total Spent]])<>0,GLOBAL_DATA[[#This Row],[Initial end]]=""),DATA_QDA_17,"") | AT20: =IF(AND(IFERROR(DATEDIF(GLOBAL_DATA[[#This Row],[Kick-off]],TODAY(),"m"),0)<>0,OR(GLOBAL_DATA[[#This Row],[Status]]=DATA_Status_TOBESTARTED)),DATA_QDA_19,"") | AU20: =IF(AND(GLOBAL_DATA[[#This Row],[Kick-off]]<>"",GLOBAL_DATA[[#This Row],[Kick-off]]>GLOBAL_DATA[[#This Row],[Re-estimated end]]),DATA_DQA_14,"") | AV20: =IF(AND(IFERROR(DATEDIF(TODAY(),GLOBAL_DATA[[#This Row],[Re-estimated end]],"m"),0)>1,GLOBAL_DATA[[#This Row],[Implementation progress rate]]=1),DATA_QDA_8,"") | AW20: {=IF(AND(GLOBAL_DATA[[#This Row],[CISO assessment]]="Warning only",TRIM(GLOBAL_DATA[[#This Row],[CISO Comments]])=""),DATA_DQA_9,"")} | AX20: =IF(AND(GLOBAL_DATA[[#This Row],[CISO assessment]]="Alert",TRIM(GLOBAL_DATA[[#This Row],[CISO Comments]])=""),DATA_DQA_10,"") | AY20: No | AZ20: =IF(OR(GLOBAL_DATA[[#This Row],[Status]]="",GLOBAL_DATA[[#This Row],[Status]]=Risk_accepted,GLOBAL_DATA[[#This Row],[Status]]=Target_Not_Applicable),1,0) -> 0 | BA20: =IF(OR(GLOBAL_DATA[[#This Row],[Status]]=DATA_Status_TOBESTARTED,GLOBAL_DATA[[#This Row],[Status]]=DATA_Status_INPROGRESS),1,0) -> 1 | BB20: =IF(OR(GLOBAL_DATA[[#This Row],[Status]]=Done,GLOBAL_DATA[[#This Row],[Status]]=Checked),1,0) -> 0

Sheet CALCULATION
A1: C2-Confidential
A2: PACK | B2: PACKFORMULA | C2: END | D2: Before DARWIN² | E2: NO PROJECT P0 | F2: NO PROJECT P1 | G2: NO PROJECT P2&P3 | H2: NO PROJECT | I2: TO BE STARTED P0 | J2: TO BE STARTED P1 | K2: TO BE STARTED P2&P3 | L2: TO BE STARTED | M2: IN PROGRESS P0 | N2: IN PROGRESS P1 | O2: IN PROGRESS P2&P3 | P2: IN PROGRESS | Q2: DONE P0 | R2: DONE P1 | S2: DONE P2&P3 | T2: DONE | U2: CHECKED CISO P0 | V2: CHECKED CISO P1 | W2: CHECKED CISO P2&P3 | X2: CHECKED CISO | Y2: VERIFIED P0 | Z2: VERIFIED P1 | AA2: VERIFIED P2&P3 | AB2: VERIFIED | AC2: PR_EX P0 | AD2: PR_EX P1 | AE2: PR_EX P2&P3 | AF2: TOTAL PR_EX | AG2: RISK ACCEPTED P0 | AH2: RISK ACCEPTED P1 | AI2: RISK ACCEPTED P2&3 | AJ2: RISK ACCEPTED (FULL MEASURE) | AK2: PARTIAL IMPLEMENTATION + RA P0 | AL2: PARTIAL IMPLEMENTATION + RA P1 | AM2: PARTIAL IMPLEMENTATION + RA P2&P3 | AN2: PARTIAL IMPLEMENTATION + RA | AO2: RISK ACCEPTANCE | AP2: FULL IMPLEMENTATION | AQ2: NOT APPLICABLE | AR2: LEFT P0 | AS2: LEFT P1 | AT2: LEFT P2&3 | AU2: TOTAL Impl | AV2: WIP | AW2: COMPLETED P0 | AX2: COMPLETED P1 | AY2: COMPLETED P2&3 | AZ2: COMPLETED | BA2: COMPLETED % | BB2: IN SCOPE | BC2: IN SCOPE % | BD2: % RISK ACCEPTED | BE2: Risk situation comment | BF2: RISK STATUS (Alert/Warning) | BG2: DELTA (No risk/empty) | BH2: TARGET IMPLEMENTATION | BI2: CURRENT IMPL DONE | BJ2: CURRENT IMPL CHECKED CISO & VERIFIED | BK2: CURRENT IMPL DONE & CHECKED CISO & VERIFIED | BL2: WIP % | BM2: CURRENT IMPLEMENTATION | BN2: 2020 IMLP | BO2: 2020 COMMITTED | BP2: % 2020 COMMITTED | BQ2: 2021 IMPL | BR2: 2021 COMMITTED | BS2: % 2021 COMMITTED | BT2: 2022 IMPL | BU2: 2022 COMMITTED | BV2: % 2022 COMMITTED | BW2: 2023 IMPL | BX2: 2023 COMMITTED | BY2: % 2023 COMMITTED | BZ2: COMMITTED | CA2: Total IMPLEMENTED | CB2: DELTA
A3: Operational security | B3: Operational security | C3: 1 | D3: 0.05 | E3: =COUNTIFS(#REF!,CALCULATION[[#This Row],[PACKFORMULA]],#REF!,"P0",GLOBAL_DATA[Status],Status_No_Project) -> #REF! | F3: =COUNTIFS(#REF!,CALCULATION[[#This Row],[PACKFORMULA]],#REF!,"P1",GLOBAL_DATA[Status],Status_No_Project) -> #REF! | G3: =COUNTIFS(#REF!,CALCULATION[[#This Row],[PACKFORMULA]],#REF!,">=P2",GLOBAL_DATA[Status],Status_No_Project) -> #REF! | H3: =COUNTIFS(#REF!,CALCULATION[[#This Row],[PACKFORMULA]],GLOBAL_DATA[Status],CALCULATION[[#Headers],[NO PROJECT]]) -> #REF! | I3: =COUNTIFS(#REF!,CALCULATION[[#This Row],[PACKFORMULA]],#REF!,"P0",GLOBAL_DATA[Status],DATA!$J$4) -> #REF! | J3: =COUNTIFS(#REF!,CALCULATION[[#This Row],[PACKFORMULA]],#REF!,"P1",GLOBAL_DATA[Status],DATA!$J$4) -> #REF! | K3: =COUNTIFS(#REF!,CALCULATION[[#This Row],[PACKFORMULA]],#REF!,">=P2",GLOBAL_DATA[Status],DATA!$J$4) -> #REF! | L3: =COUNTIFS(#REF!,CALCULATION[[#This Row],[PACKFORMULA]],GLOBAL_DATA[Status],CALCULATION[[#Headers],[TO BE STARTED]]) -> #REF! | M3: =COUNTIFS(#REF!,CALCULATION[[#This Row],[PACKFORMULA]],#REF!,"P0",GLOBAL_DATA[Status],DATA!$J$5) -> #REF! | N3: =COUNTIFS(#REF!,CALCULATION[[#This Row],[PACKFORMULA]],#REF!,"P1",GLOBAL_DATA[Status],DATA!$J$5) -> #REF! | O3: =COUNTIFS(#REF!,CALCULATION[[#This Row],[PACKFORMULA]],#REF!,">=P2",GLOBAL_DATA[Status],DATA!$J$5) -> #REF! | P3: =COUNTIFS(#REF!,CALCULATION[[#This Row],[PACKFORMULA]],GLOBAL_DATA[Status],CALCULATION[[#Headers],[IN PROGRESS]]) -> #REF! | Q3: =COUNTIFS(#REF!,CALCULATION[[#This Row],[PACKFORMULA]],#REF!,"P0",GLOBAL_DATA[Status],DATA!$J$6) -> #REF! | R3: =COUNTIFS(#REF!,CALCULATION[[#This Row],[PACKFORMULA]],#REF!,"P1",GLOBAL_DATA[Status],DATA!$J$6) -> #REF! | S3: =COUNTIFS(#REF!,CALCULATION[[#This Row],[PACKFORMULA]],#REF!,">=P2",GLOBAL_DATA[Status],DATA!$J$6) -> #REF! | T3: =COUNTIFS(#REF!,CALCULATION[[#This Row],[PACKFORMULA]],GLOBAL_DATA[Status],CALCULATION[[#Headers],[DONE]]) -> #REF! | U3: =COUNTIFS(#REF!,CALCULATION[[#This Row],[PACKFORMULA]],#REF!,"P0",GLOBAL_DATA[Status],DATA!$J$7) -> #REF! | V3: =COUNTIFS(#REF!,CALCULATION[[#This Row],[PACKFORMULA]],#REF!,"P1",GLOBAL_DATA[Status],DATA!$J$7) -> #REF! | W3: =COUNTIFS(#REF!,CALCULATION[[#This Row],[PACKFORMULA]],#REF!,">=P2",GLOBAL_DATA[Status],DATA!$J$7) -> #REF! | X3: =COUNTIFS(#REF!,CALCULATION[[#This Row],[PACKFORMULA]],GLOBAL_DATA[Status],CALCULATION[[#Headers],[CHECKED CISO]]) -> #REF! | Y3: =COUNTIFS(#REF!,CALCULATION[[#This Row],[PACKFORMULA]],#REF!,"P0",GLOBAL_DATA[Status],DATA!$J$8) -> #REF! | Z3: =COUNTIFS(#REF!,CALCULATION[[#This Row],[PACKFORMULA]],#REF!,"P1",GLOBAL_DATA[Status],DATA!$J$8) -> #REF! | AA3: =COUNTIFS(#REF!,CALCULATION[[#This Row],[PACKFORMULA]],#REF!,">=P2",GLOBAL_DATA[Status],DATA!$J$8) -> #REF! | AB3: =COUNTIFS(#REF!,CALCULATION[[#This Row],[PACKFORMULA]],GLOBAL_DATA[Status],CALCULATION[[#Headers],[VERIFIED]]) -> #REF! | AC3: =COUNTIFS(#REF!,CALCULATION[[#This Row],[PACKFORMULA]],#REF!,"P0",GLOBAL_DATA[Status],"<>"&Status_No_Project) -> #REF! | AD3: =COUNTIFS(#REF!,CALCULATION[[#This Row],[PACKFORMULA]],#REF!,"P1",GLOBAL_DATA[Status],"<>"&Status_No_Project) -> #REF! | AE3: =COUNTIFS(#REF!,CALCULATION[[#This Row],[PACKFORMULA]],#REF!,">=P2",GLOBAL_DATA[Status],"<>"&Status_No_Project) -> #REF! | AF3: =COUNTIFS(#REF!,CALCULATION[[#This Row],[PACKFORMULA]],GLOBAL_DATA[Status],"<>"&Status_No_Project) -> #REF! | AG3: =COUNTIFS(#REF!,CALCULATION[[#This Row],[PACKFORMULA]],#REF!,"P0",GLOBAL_DATA[Target status],DATA!$J$12) -> #REF! | AH3: =COUNTIFS(#REF!,CALCULATION[[#This Row],[PACKFORMULA]],#REF!,"P1",GLOBAL_DATA[Target status],DATA!$J$12) -> #REF! | AI3: =COUNTIFS(#REF!,CALCULATION[[#This Row],[PACKFORMULA]],#REF!,">P1",GLOBAL_DATA[Target status],DATA!$J$12) -> #REF! | AJ3: =COUNTIFS(#REF!,CALCULATION[[#This Row],[PACKFORMULA]],GLOBAL_DATA[Target status],DATA!$J$12) -> #REF! | AK3: =COUNTIFS(#REF!,CALCULATION[[#This Row],[PACKFORMULA]],GLOBAL_DATA[Target status],DATA!$J$13,#REF!,"P0") -> #REF! | AL3: =COUNTIFS(#REF!,CALCULATION[[#This Row],[PACKFORMULA]],GLOBAL_DATA[Target status],DATA!$J$13,#REF!,"P1") -> #REF! | AM3: =COUNTIFS(#REF!,CALCULATION[[#This Row],[PACKFORMULA]],GLOBAL_DATA[Target status],DATA!$J$13,#REF!,">P1") -> #REF! | AN3: =COUNTIFS(#REF!,CALCULATION[[#This Row],[PACKFORMULA]],GLOBAL_DATA[Target status],CALCULATION[[#Headers],[PARTIAL IMPLEMENTATION + RA]]) -> #REF! | AO3: =1-CALCULATION[[#This Row],[IN SCOPE %]] -> 1 | AP3: =COUNTIFS(#REF!,CALCULATION[[#This Row],[PACKFORMULA]],GLOBAL_DATA[Target status],CALCULATION[[#Headers],[FULL IMPLEMENTATION]]) -> #REF! | AQ3: =COUNTIFS(#REF!,CALCULATION[[#This Row],[PACKFORMULA]],GLOBAL_DATA[Target status],CALCULATION[[#Headers],[NOT APPLICABLE]]) -> #REF! | AR3: =COUNTIFS(#REF!,CALCULATION[[#This Row],[PACKFORMULA]],#REF!,"P0",GLOBAL_DATA[Target status],DATA!$J$13)+COUNTIFS(#REF!,CALCULATION[[#This Row],[PACKFORMULA]],#REF!,"P0",GLOBAL_DATA[Target status],DATA!$J$14)-CALCULATION[[#This Row],[COMPLETED P0]] -> #REF! | AS3: =COUNTIFS(#REF!,CALCULATION[[#This Row],[PACKFORMULA]],#REF!,"P1",GLOBAL_DATA[Target status],DATA!$J$13)+COUNTIFS(#REF!,CALCULATION[[#This Row],[PACKFORMULA]],#REF!,"P1",GLOBAL_DATA[Target status],DATA!$J$14)-CALCULATION[[#This Row],[COMPLETED P1]] -> #REF! | AT3: =COUNTIFS(#REF!,CALCULATION[[#This Row],[PACKFORMULA]],#REF!,">P1",GLOBAL_DATA[Target status],DATA!$J$13)+COUNTIFS(#REF!,CALCULATION[[#This Row],[PACKFORMULA]],#REF!,">P1",GLOBAL_DATA[Target status],DATA!$J$14)-CALCULATION[[#This Row],[COMPLETED P2&3]] -> #REF! | AU3: =CALCULATION[[#This Row],[PARTIAL IMPLEMENTATION + RA]]+CALCULATION[[#This Row],[FULL IMPLEMENTATION]] -> #REF! | AV3: =CALCULATION[[#This Row],[IN PROGRESS]]+CALCULATION[[#This Row],[TO BE STARTED]] -> #REF! | AW3: =COUNTIFS(#REF!,CALCULATION[[#This Row],[PACKFORMULA]],#REF!,"P0",GLOBAL_DATA[Impl_Yes],1) -> #REF! | AX3: =COUNTIFS(#REF!,CALCULATION[[#This Row],[PACKFORMULA]],#REF!,"P1",GLOBAL_DATA[Impl_Yes],1) -> #REF! | AY3: =COUNTIFS(#REF!,CALCULATION[[#This Row],[PACKFORMULA]],#REF!,">P1",GLOBAL_DATA[Impl_Yes],1) -> #REF! | AZ3: =COUNTIFS(#REF!,CALCULATION[[#This Row],[PACKFORMULA]],GLOBAL_DATA[Impl_Yes],1) -> #REF! | BA3: =IFERROR(CALCULATION[[#This Row],[COMPLETED]]/CALCULATION[[#This Row],[IN SCOPE]],0) -> 0 | BB3: =COUNTIFS(#REF!,CALCULATION[[#This Row],[PACKFORMULA]],GLOBAL_DATA[Target status],"<>"&DATA!$J$15) -> #REF! | BC3: =IFERROR(ROUND(SUMIFS(GLOBAL_DATA[Target scope],#REF!,CALCULATION[[#This Row],[PACKFORMULA]],GLOBAL_DATA[Target status],"<>"&DATA!$J$15)/CALCULATION[[#This Row],[IN SCOPE]],4),0) -> 0 | BD3: =IFERROR(ROUND(CALCULATION[[#This Row],[RISK ACCEPTED (FULL MEASURE)]]/CALCULATION[[#This Row],[IN SCOPE]],4),0) -> 0 | BE3: =IF((COUNTIFS(#REF!,CALCULATION[[#This Row],[PACKFORMULA]],GLOBAL_DATA[CISO Comments]," ")>0),(COUNTIFS(#REF!,CALCULATION[[#This Row],[PACKFORMULA]],GLOBAL_DATA[CISO Comments],"<>"&DATA!$A$15)),(COUNTIFS(#REF!,CALCULATION[[#This Row],[PACKFORMULA]],GLOBAL_DATA[CISO Comments]," ")&" CISO assessment still empty")) -> #REF! | BF3: =COUNTIFS(#REF!,CALCULATION[[#This Row],[PACKFORMULA]],GLOBAL_DATA[CISO assessment],"<>"&DATA!$A$15)-COUNTIFS(#REF!,CALCULATION[[#This Row],[PACKFORMULA]],GLOBAL_DATA[CISO assessment],"") -> #REF! | BG3: =COUNTIFS(#REF!,CALCULATION[[#This Row],[PACKFORMULA]],GLOBAL_DATA[CISO assessment],DATA!$A$15)+COUNTIFS(#REF!,CALCULATION[[#This Row],[PACKFORMULA]],GLOBAL_DATA[CISO assessment],"") -> #REF! | BH3: =IFERROR(ROUND(SUMIF(#REF!,CALCULATION[[#This Row],[PACKFORMULA]],GLOBAL_DATA[Target scope])/CALCULATION[[#This Row],[IN SCOPE]],4),0) -> 0 | BI3: =IFERROR(ROUND(SUMIFS(GLOBAL_DATA[Global Progress rate],#REF!,CALCULATION[[#This Row],[PACKFORMULA]],GLOBAL_DATA[Status],DATA!$J$6)/CALCULATION[[#This Row],[IN SCOPE]],4),0) -> 0 | BJ3: =IF((IFERROR(ROUND(SUMIFS(GLOBAL_DATA[Global Progress rate],#REF!,CALCULATION[[#This Row],[PACKFORMULA]],GLOBAL_DATA[Impl_Yes],1)/CALCULATION[[#This Row],[IN SCOPE]],4),0)-CALCULATION[[#This Row],[CURRENT IMPL DONE ]])<0,0,(IFERROR(ROUND(SUMIFS(GLOBAL_DATA[Global Progress rate],#REF!,CALCULATION[[#This Row],[PACKFORMULA]],GLOBAL_DATA[Impl_Yes],1)/CALCULATION[[#This Row],[IN SCOPE]],4),0)-CALCULATION[[#This Row],[CURRENT IMPL DONE ]])) -> 0 | BK3: =CALCULATION[[#This Row],[CURRENT IMPL DONE ]]+CALCULATION[[#This Row],[CURRENT IMPL CHECKED CISO & VERIFIED]] -> 0 | BL3: =CALCULATION[[#This Row],[CURRENT IMPLEMENTATION]]-CALCULATION[[#This Row],[CURRENT IMPL DONE ]]-CALCULATION[[#This Row],[CURRENT IMPL CHECKED CISO & VERIFIED]] -> 0 | BM3: =IFERROR(ROUND(SUMIF(#REF!,CALCULATION[[#This Row],[PACKFORMULA]],GLOBAL_DATA[Global Progress rate])/CALCULATION[[#This Row],[IN SCOPE]],4),0) -> 0 | BN3: =COUNTIFS(#REF!,CALCULATION[[#This Row],[PACKFORMULA]],GLOBAL_DATA[Impl_Date],">31/12/2019",GLOBAL_DATA[Impl_Date],"<01/01/2021",GLOBAL_DATA[Impl_Yes],1) -> #REF! | BO3: =COUNTIFS(#REF!,CALCULATION[[#This Row],[PACKFORMULA]],GLOBAL_DATA[Impl_Date],">31/12/2019",GLOBAL_DATA[Impl_Date],"<01/01/2021") -> #REF! | BP3: =IFERROR(ROUND(SUMIFS(GLOBAL_DATA[Target scope],#REF!,CALCULATION[[#This Row],[PACKFORMULA]],GLOBAL_DATA[Impl_Date],">31/12/2019",GLOBAL_DATA[Impl_Date],"<01/01/2021")/CALCULATION[[#This Row],[IN SCOPE]],4),0) -> 0 | BQ3: =COUNTIFS(#REF!,CALCULATION[[#This Row],[PACKFORMULA]],GLOBAL_DATA[Impl_Date],">31/12/2020",GLOBAL_DATA[Impl_Date],"<01/01/2022",GLOBAL_DATA[Impl_Yes],1) -> #REF! | BR3: =COUNTIFS(#REF!,CALCULATION[[#This Row],[PACKFORMULA]],GLOBAL_DATA[Impl_Date],">31/12/2020",GLOBAL_DATA[Impl_Date],"<01/01/2022") -> #REF! | BS3: =IFERROR(ROUND(SUMIFS(GLOBAL_DATA[Target scope],#REF!,CALCULATION[[#This Row],[PACKFORMULA]],GLOBAL_DATA[Impl_Date],">31/12/2020",GLOBAL_DATA[Impl_Date],"<01/01/2022")/CALCULATION[[#This Row],[IN SCOPE]],4),0) -> 0 | BT3: =COUNTIFS(#REF!,CALCULATION[[#This Row],[PACKFORMULA]],GLOBAL_DATA[Impl_Date],">31/12/2021",GLOBAL_DATA[Impl_Date],"<01/01/2023",GLOBAL_DATA[Impl_Yes],1) -> #REF! | BU3: =COUNTIFS(#REF!,CALCULATION[[#This Row],[PACKFORMULA]],GLOBAL_DATA[Impl_Date],">31/12/2021",GLOBAL_DATA[Impl_Date],"<01/01/2023") -> #REF! | BV3: =IFERROR(ROUND(SUMIFS(GLOBAL_DATA[Target scope],#REF!,CALCULATION[[#This Row],[PACKFORMULA]],GLOBAL_DATA[Impl_Date],">31/12/2021",GLOBAL_DATA[Impl_Date],"<01/01/2023")/CALCULATION[[#This Row],[IN SCOPE]],4),0) -> 0 | BW3: =COUNTIFS(#REF!,CALCULATION[[#This Row],[PACKFORMULA]],GLOBAL_DATA[Impl_Date],">31/12/2022",GLOBAL_DATA[Impl_Date],"<01/01/2024",GLOBAL_DATA[Impl_Yes],1) -> #REF! | BX3: =COUNTIFS(#REF!,CALCULATION[[#This Row],[PACKFORMULA]],GLOBAL_DATA[Impl_Date],">31/12/2022") -> #REF! | BY3: =IFERROR(ROUND(SUMIFS(GLOBAL_DATA[Target scope],#REF!,CALCULATION[[#This Row],[PACKFORMULA]],GLOBAL_DATA[Impl_Date],">31/12/2022",GLOBAL_DATA[Impl_Date],"<01/01/2024")/CALCULATION[[#This Row],[IN SCOPE]],4),0) -> 0 | BZ3: =CALCULATION[[#This Row],[% 2020 COMMITTED]]+CALCULATION[[#This Row],[% 2021 COMMITTED]]+CALCULATION[[#This Row],[% 2022 COMMITTED]]+CALCULATION[[#This Row],[% 2023 COMMITTED]] -> 0 | CA3: =CALCULATION[[#This Row],[CURRENT IMPLEMENTATION]] -> 0 | CB3: =CALCULATION[[#This Row],[% 2020 COMMITTED]]+CALCULATION[[#This Row],[% 2021 COMMITTED]]+CALCULATION[[#This Row],[% 2022 COMMITTED]]+CALCULATION[[#This Row],[% 2023 COMMITTED]]-CALCULATION[[#This Row],[CURRENT IMPLEMENTATION]] -> 0
A4: Training and awareness | B4: Training and awareness | C4: 1 | D4: 0.05 | E4: =COUNTIFS(#REF!,CALCULATION[[#This Row],[PACKFORMULA]],#REF!,"P0",GLOBAL_DATA[Status],Status_No_Project) -> #REF! | F4: =COUNTIFS(#REF!,CALCULATION[[#This Row],[PACKFORMULA]],#REF!,"P1",GLOBAL_DATA[Status],Status_No_Project) -> #REF! | G4: =COUNTIFS(#REF!,CALCULATION[[#This Row],[PACKFORMULA]],#REF!,">=P2",GLOBAL_DATA[Status],Status_No_Project) -> #REF! | H4: =COUNTIFS(#REF!,CALCULATION[[#This Row],[PACKFORMULA]],GLOBAL_DATA[Status],CALCULATION[[#Headers],[NO PROJECT]]) -> #REF! | I4: =COUNTIFS(#REF!,CALCULATION[[#This Row],[PACKFORMULA]],#REF!,"P0",GLOBAL_DATA[Status],DATA!$J$4) -> #REF! | J4: =COUNTIFS(#REF!,CALCULATION[[#This Row],[PACKFORMULA]],#REF!,"P1",GLOBAL_DATA[Status],DATA!$J$4) -> #REF! | K4: =COUNTIFS(#REF!,CALCULATION[[#This Row],[PACKFORMULA]],#REF!,">=P2",GLOBAL_DATA[Status],DATA!$J$4) -> #REF! | L4: =COUNTIFS(#REF!,CALCULATION[[#This Row],[PACKFORMULA]],GLOBAL_DATA[Status],CALCULATION[[#Headers],[TO BE STARTED]]) -> #REF! | M4: =COUNTIFS(#REF!,CALCULATION[[#This Row],[PACKFORMULA]],#REF!,"P0",GLOBAL_DATA[Status],DATA!$J$5) -> #REF! | N4: =COUNTIFS(#REF!,CALCULATION[[#This Row],[PACKFORMULA]],#REF!,"P1",GLOBAL_DATA[Status],DATA!$J$5) -> #REF! | O4: =COUNTIFS(#REF!,CALCULATION[[#This Row],[PACKFORMULA]],#REF!,">=P2",GLOBAL_DATA[Status],DATA!$J$5) -> #REF! | P4: =COUNTIFS(#REF!,CALCULATION[[#This Row],[PACKFORMULA]],GLOBAL_DATA[Status],CALCULATION[[#Headers],[IN PROGRESS]]) -> #REF! | Q4: =COUNTIFS(#REF!,CALCULATION[[#This Row],[PACKFORMULA]],#REF!,"P0",GLOBAL_DATA[Status],DATA!$J$6) -> #REF! | R4: =COUNTIFS(#REF!,CALCULATION[[#This Row],[PACKFORMULA]],#REF!,"P1",GLOBAL_DATA[Status],DATA!$J$6) -> #REF! | S4: =COUNTIFS(#REF!,CALCULATION[[#This Row],[PACKFORMULA]],#REF!,">=P2",GLOBAL_DATA[Status],DATA!$J$6) -> #REF! | T4: =COUNTIFS(#REF!,CALCULATION[[#This Row],[PACKFORMULA]],GLOBAL_DATA[Status],CALCULATION[[#Headers],[DONE]]) -> #REF! | U4: =COUNTIFS(#REF!,CALCULATION[[#This Row],[PACKFORMULA]],#REF!,"P0",GLOBAL_DATA[Status],DATA!$J$7) -> #REF! | V4: =COUNTIFS(#REF!,CALCULATION[[#This Row],[PACKFORMULA]],#REF!,"P1",GLOBAL_DATA[Status],DATA!$J$7) -> #REF! | W4: =COUNTIFS(#REF!,CALCULATION[[#This Row],[PACKFORMULA]],#REF!,">=P2",GLOBAL_DATA[Status],DATA!$J$7) -> #REF! | X4: =COUNTIFS(#REF!,CALCULATION[[#This Row],[PACKFORMULA]],GLOBAL_DATA[Status],CALCULATION[[#Headers],[CHECKED CISO]]) -> #REF! | Y4: =COUNTIFS(#REF!,CALCULATION[[#This Row],[PACKFORMULA]],#REF!,"P0",GLOBAL_DATA[Status],DATA!$J$8) -> #REF! | Z4: =COUNTIFS(#REF!,CALCULATION[[#This Row],[PACKFORMULA]],#REF!,"P1",GLOBAL_DATA[Status],DATA!$J$8) -> #REF! | AA4: =COUNTIFS(#REF!,CALCULATION[[#This Row],[PACKFORMULA]],#REF!,">=P2",GLOBAL_DATA[Status],DATA!$J$8) -> #REF! | AB4: =COUNTIFS(#REF!,CALCULATION[[#This Row],[PACKFORMULA]],GLOBAL_DATA[Status],CALCULATION[[#Headers],[VERIFIED]]) -> #REF! | AC4: =COUNTIFS(#REF!,CALCULATION[[#This Row],[PACKFORMULA]],#REF!,"P0",GLOBAL_DATA[Status],"<>"&Status_No_Project) -> #REF! | AD4: =COUNTIFS(#REF!,CALCULATION[[#This Row],[PACKFORMULA]],#REF!,"P1",GLOBAL_DATA[Status],"<>"&Status_No_Project) -> #REF! | AE4: =COUNTIFS(#REF!,CALCULATION[[#This Row],[PACKFORMULA]],#REF!,">=P2",GLOBAL_DATA[Status],"<>"&Status_No_Project) -> #REF! | AF4: =COUNTIFS(#REF!,CALCULATION[[#This Row],[PACKFORMULA]],GLOBAL_DATA[Status],"<>"&Status_No_Project) -> #REF! | AG4: =COUNTIFS(#REF!,CALCULATION[[#This Row],[PACKFORMULA]],#REF!,"P0",GLOBAL_DATA[Target status],DATA!$J$12) -> #REF! | AH4: =COUNTIFS(#REF!,CALCULATION[[#This Row],[PACKFORMULA]],#REF!,"P1",GLOBAL_DATA[Target status],DATA!$J$12) -> #REF! | AI4: =COUNTIFS(#REF!,CALCULATION[[#This Row],[PACKFORMULA]],#REF!,">P1",GLOBAL_DATA[Target status],DATA!$J$12) -> #REF! | AJ4: =COUNTIFS(#REF!,CALCULATION[[#This Row],[PACKFORMULA]],GLOBAL_DATA[Target status],DATA!$J$12) -> #REF! | AK4: =COUNTIFS(#REF!,CALCULATION[[#This Row],[PACKFORMULA]],GLOBAL_DATA[Target status],DATA!$J$13,#REF!,"P0") -> #REF! | AL4: =COUNTIFS(#REF!,CALCULATION[[#This Row],[PACKFORMULA]],GLOBAL_DATA[Target status],DATA!$J$13,#REF!,"P1") -> #REF! | AM4: =COUNTIFS(#REF!,CALCULATION[[#This Row],[PACKFORMULA]],GLOBAL_DATA[Target status],DATA!$J$13,#REF!,">P1") -> #REF! | AN4: =COUNTIFS(#REF!,CALCULATION[[#This Row],[PACKFORMULA]],GLOBAL_DATA[Target status],CALCULATION[[#Headers],[PARTIAL IMPLEMENTATION + RA]]) -> #REF! | AO4: =1-CALCULATION[[#This Row],[IN SCOPE %]] -> 1 | AP4: =COUNTIFS(#REF!,CALCULATION[[#This Row],[PACKFORMULA]],GLOBAL_DATA[Target status],CALCULATION[[#Headers],[FULL IMPLEMENTATION]]) -> #REF! | AQ4: =COUNTIFS(#REF!,CALCULATION[[#This Row],[PACKFORMULA]],GLOBAL_DATA[Target status],CALCULATION[[#Headers],[NOT APPLICABLE]]) -> #REF! | AR4: =COUNTIFS(#REF!,CALCULATION[[#This Row],[PACKFORMULA]],#REF!,"P0",GLOBAL_DATA[Target status],DATA!$J$13)+COUNTIFS(#REF!,CALCULATION[[#This Row],[PACKFORMULA]],#REF!,"P0",GLOBAL_DATA[Target status],DATA!$J$14)-CALCULATION[[#This Row],[COMPLETED P0]] -> #REF! | AS4: =COUNTIFS(#REF!,CALCULATION[[#This Row],[PACKFORMULA]],#REF!,"P1",GLOBAL_DATA[Target status],DATA!$J$13)+COUNTIFS(#REF!,CALCULATION[[#This Row],[PACKFORMULA]],#REF!,"P1",GLOBAL_DATA[Target status],DATA!$J$14)-CALCULATION[[#This Row],[COMPLETED P1]] -> #REF! | AT4: =COUNTIFS(#REF!,CALCULATION[[#This Row],[PACKFORMULA]],#REF!,">P1",GLOBAL_DATA[Target status],DATA!$J$13)+COUNTIFS(#REF!,CALCULATION[[#This Row],[PACKFORMULA]],#REF!,">P1",GLOBAL_DATA[Target status],DATA!$J$14)-CALCULATION[[#This Row],[COMPLETED P2&3]] -> #REF! | AU4: =CALCULATION[[#This Row],[PARTIAL IMPLEMENTATION + RA]]+CALCULATION[[#This Row],[FULL IMPLEMENTATION]] -> #REF! | AV4: =CALCULATION[[#This Row],[IN PROGRESS]]+CALCULATION[[#This Row],[TO BE STARTED]] -> #REF! | AW4: =COUNTIFS(#REF!,CALCULATION[[#This Row],[PACKFORMULA]],#REF!,"P0",GLOBAL_DATA[Impl_Yes],1) -> #REF! | AX4: =COUNTIFS(#REF!,CALCULATION[[#This Row],[PACKFORMULA]],#REF!,"P1",GLOBAL_DATA[Impl_Yes],1) -> #REF! | AY4: =COUNTIFS(#REF!,CALCULATION[[#This Row],[PACKFORMULA]],#REF!,">P1",GLOBAL_DATA[Impl_Yes],1) -> #REF! | AZ4: =COUNTIFS(#REF!,CALCULATION[[#This Row],[PACKFORMULA]],GLOBAL_DATA[Impl_Yes],1) -> #REF! | BA4: =IFERROR(CALCULATION[[#This Row],[COMPLETED]]/CALCULATION[[#This Row],[IN SCOPE]],0) -> 0 | BB4: =COUNTIFS(#REF!,CALCULATION[[#This Row],[PACKFORMULA]],GLOBAL_DATA[Target status],"<>"&DATA!$J$15) -> #REF! | BC4: =IFERROR(ROUND(SUMIFS(GLOBAL_DATA[Target scope],#REF!,CALCULATION[[#This Row],[PACKFORMULA]],GLOBAL_DATA[Target status],"<>"&DATA!$J$15)/CALCULATION[[#This Row],[IN SCOPE]],4),0) -> 0 | BD4: =IFERROR(ROUND(CALCULATION[[#This Row],[RISK ACCEPTED (FULL MEASURE)]]/CALCULATION[[#This Row],[IN SCOPE]],4),0) -> 0 | BE4: =IF((COUNTIFS(#REF!,CALCULATION[[#This Row],[PACKFORMULA]],GLOBAL_DATA[CISO Comments]," ")>0),(COUNTIFS(#REF!,CALCULATION[[#This Row],[PACKFORMULA]],GLOBAL_DATA[CISO Comments],"<>"&DATA!$A$15)),(COUNTIFS(#REF!,CALCULATION[[#This Row],[PACKFORMULA]],GLOBAL_DATA[CISO Comments]," ")&" CISO assessment still empty")) -> #REF! | BF4: =COUNTIFS(#REF!,CALCULATION[[#This Row],[PACKFORMULA]],GLOBAL_DATA[CISO assessment],"<>"&DATA!$A$15)-COUNTIFS(#REF!,CALCULATION[[#This Row],[PACKFORMULA]],GLOBAL_DATA[CISO assessment],"") -> #REF! | BG4: =COUNTIFS(#REF!,CALCULATION[[#This Row],[PACKFORMULA]],GLOBAL_DATA[CISO assessment],DATA!$A$15)+COUNTIFS(#REF!,CALCULATION[[#This Row],[PACKFORMULA]],GLOBAL_DATA[CISO assessment],"") -> #REF! | BH4: =IFERROR(ROUND(SUMIF(#REF!,CALCULATION[[#This Row],[PACKFORMULA]],GLOBAL_DATA[Target scope])/CALCULATION[[#This Row],[IN SCOPE]],4),0) -> 0 | BI4: =IFERROR(ROUND(SUMIFS(GLOBAL_DATA[Global Progress rate],#REF!,CALCULATION[[#This Row],[PACKFORMULA]],GLOBAL_DATA[Status],DATA!$J$6)/CALCULATION[[#This Row],[IN SCOPE]],4),0) -> 0 | BJ4: =IF((IFERROR(ROUND(SUMIFS(GLOBAL_DATA[Global Progress rate],#REF!,CALCULATION[[#This Row],[PACKFORMULA]],GLOBAL_DATA[Impl_Yes],1)/CALCULATION[[#This Row],[IN SCOPE]],4),0)-CALCULATION[[#This Row],[CURRENT IMPL DONE ]])<0,0,(IFERROR(ROUND(SUMIFS(GLOBAL_DATA[Global Progress rate],#REF!,CALCULATION[[#This Row],[PACKFORMULA]],GLOBAL_DATA[Impl_Yes],1)/CALCULATION[[#This Row],[IN SCOPE]],4),0)-CALCULATION[[#This Row],[CURRENT IMPL DONE ]])) -> 0 | BK4: =CALCULATION[[#This Row],[CURRENT IMPL DONE ]]+CALCULATION[[#This Row],[CURRENT IMPL CHECKED CISO & VERIFIED]] -> 0 | BL4: =CALCULATION[[#This Row],[CURRENT IMPLEMENTATION]]-CALCULATION[[#This Row],[CURRENT IMPL DONE ]]-CALCULATION[[#This Row],[CURRENT IMPL CHECKED CISO & VERIFIED]] -> 0 | BM4: =IFERROR(ROUND(SUMIF(#REF!,CALCULATION[[#This Row],[PACKFORMULA]],GLOBAL_DATA[Global Progress rate])/CALCULATION[[#This Row],[IN SCOPE]],4),0) -> 0 | BN4: =COUNTIFS(#REF!,CALCULATION[[#This Row],[PACKFORMULA]],GLOBAL_DATA[Impl_Date],">31/12/2019",GLOBAL_DATA[Impl_Date],"<01/01/2021",GLOBAL_DATA[Impl_Yes],1) -> #REF! | BO4: =COUNTIFS(#REF!,CALCULATION[[#This Row],[PACKFORMULA]],GLOBAL_DATA[Impl_Date],">31/12/2019",GLOBAL_DATA[Impl_Date],"<01/01/2021") -> #REF! | BP4: =IFERROR(ROUND(SUMIFS(GLOBAL_DATA[Target scope],#REF!,CALCULATION[[#This Row],[PACKFORMULA]],GLOBAL_DATA[Impl_Date],">31/12/2019",GLOBAL_DATA[Impl_Date],"<01/01/2021")/CALCULATION[[#This Row],[IN SCOPE]],4),0) -> 0 | BQ4: =COUNTIFS(#REF!,CALCULATION[[#This Row],[PACKFORMULA]],GLOBAL_DATA[Impl_Date],">31/12/2020",GLOBAL_DATA[Impl_Date],"<01/01/2022",GLOBAL_DATA[Impl_Yes],1) -> #REF! | BR4: =COUNTIFS(#REF!,CALCULATION[[#This Row],[PACKFORMULA]],GLOBAL_DATA[Impl_Date],">31/12/2020",GLOBAL_DATA[Impl_Date],"<01/01/2022") -> #REF! | BS4: =IFERROR(ROUND(SUMIFS(GLOBAL_DATA[Target scope],#REF!,CALCULATION[[#This Row],[PACKFORMULA]],GLOBAL_DATA[Impl_Date],">31/12/2020",GLOBAL_DATA[Impl_Date],"<01/01/2022")/CALCULATION[[#This Row],[IN SCOPE]],4),0) -> 0 | BT4: =COUNTIFS(#REF!,CALCULATION[[#This Row],[PACKFORMULA]],GLOBAL_DATA[Impl_Date],">31/12/2021",GLOBAL_DATA[Impl_Date],"<01/01/2023",GLOBAL_DATA[Impl_Yes],1) -> #REF! | BU4: =COUNTIFS(#REF!,CALCULATION[[#This Row],[PACKFORMULA]],GLOBAL_DATA[Impl_Date],">31/12/2021",GLOBAL_DATA[Impl_Date],"<01/01/2023") -> #REF! | BV4: =IFERROR(ROUND(SUMIFS(GLOBAL_DATA[Target scope],#REF!,CALCULATION[[#This Row],[PACKFORMULA]],GLOBAL_DATA[Impl_Date],">31/12/2021",GLOBAL_DATA[Impl_Date],"<01/01/2023")/CALCULATION[[#This Row],[IN SCOPE]],4),0) -> 0 | BW4: =COUNTIFS(#REF!,CALCULATION[[#This Row],[PACKFORMULA]],GLOBAL_DATA[Impl_Date],">31/12/2022",GLOBAL_DATA[Impl_Date],"<01/01/2024",GLOBAL_DATA[Impl_Yes],1) -> #REF! | BX4: =COUNTIFS(#REF!,CALCULATION[[#This Row],[PACKFORMULA]],GLOBAL_DATA[Impl_Date],">31/12/2022") -> #REF! | BY4: =IFERROR(ROUND(SUMIFS(GLOBAL_DATA[Target scope],#REF!,CALCULATION[[#This Row],[PACKFORMULA]],GLOBAL_DATA[Impl_Date],">31/12/2022",GLOBAL_DATA[Impl_Date],"<01/01/2024")/CALCULATION[[#This Row],[IN SCOPE]],4),0) -> 0 | BZ4: =CALCULATION[[#This Row],[% 2020 COMMITTED]]+CALCULATION[[#This Row],[% 2021 COMMITTED]]+CALCULATION[[#This Row],[% 2022 COMMITTED]]+CALCULATION[[#This Row],[% 2023 COMMITTED]] -> 0 | CA4: =CALCULATION[[#This Row],[CURRENT IMPLEMENTATION]] -> 0 | CB4: =CALCULATION[[#This Row],[% 2020 COMMITTED]]+CALCULATION[[#This Row],[% 2021 COMMITTED]]+CALCULATION[[#This Row],[% 2022 COMMITTED]]+CALCULATION[[#This Row],[% 2023 COMMITTED]]-CALCULATION[[#This Row],[CURRENT IMPLEMENTATION]] -> 0
A5: Data protection | B5: Data protection | C5: 1 | D5: 0.05 | E5: =COUNTIFS(#REF!,CALCULATION[[#This Row],[PACKFORMULA]],#REF!,"P0",GLOBAL_DATA[Status],Status_No_Project) -> #REF! | F5: =COUNTIFS(#REF!,CALCULATION[[#This Row],[PACKFORMULA]],#REF!,"P1",GLOBAL_DATA[Status],Status_No_Project) -> #REF! | G5: =COUNTIFS(#REF!,CALCULATION[[#This Row],[PACKFORMULA]],#REF!,">=P2",GLOBAL_DATA[Status],Status_No_Project) -> #REF! | H5: =COUNTIFS(#REF!,CALCULATION[[#This Row],[PACKFORMULA]],GLOBAL_DATA[Status],CALCULATION[[#Headers],[NO PROJECT]]) -> #REF! | I5: =COUNTIFS(#REF!,CALCULATION[[#This Row],[PACKFORMULA]],#REF!,"P0",GLOBAL_DATA[Status],DATA!$J$4) -> #REF! | J5: =COUNTIFS(#REF!,CALCULATION[[#This Row],[PACKFORMULA]],#REF!,"P1",GLOBAL_DATA[Status],DATA!$J$4) -> #REF! | K5: =COUNTIFS(#REF!,CALCULATION[[#This Row],[PACKFORMULA]],#REF!,">=P2",GLOBAL_DATA[Status],DATA!$J$4) -> #REF! | L5: =COUNTIFS(#REF!,CALCULATION[[#This Row],[PACKFORMULA]],GLOBAL_DATA[Status],CALCULATION[[#Headers],[TO BE STARTED]]) -> #REF! | M5: =COUNTIFS(#REF!,CALCULATION[[#This Row],[PACKFORMULA]],#REF!,"P0",GLOBAL_DATA[Status],DATA!$J$5) -> #REF! | N5: =COUNTIFS(#REF!,CALCULATION[[#This Row],[PACKFORMULA]],#REF!,"P1",GLOBAL_DATA[Status],DATA!$J$5) -> #REF! | O5: =COUNTIFS(#REF!,CALCULATION[[#This Row],[PACKFORMULA]],#REF!,">=P2",GLOBAL_DATA[Status],DATA!$J$5) -> #REF! | P5: =COUNTIFS(#REF!,CALCULATION[[#This Row],[PACKFORMULA]],GLOBAL_DATA[Status],CALCULATION[[#Headers],[IN PROGRESS]]) -> #REF! | Q5: =COUNTIFS(#REF!,CALCULATION[[#This Row],[PACKFORMULA]],#REF!,"P0",GLOBAL_DATA[Status],DATA!$J$6) -> #REF! | R5: =COUNTIFS(#REF!,CALCULATION[[#This Row],[PACKFORMULA]],#REF!,"P1",GLOBAL_DATA[Status],DATA!$J$6) -> #REF! | S5: =COUNTIFS(#REF!,CALCULATION[[#This Row],[PACKFORMULA]],#REF!,">=P2",GLOBAL_DATA[Status],DATA!$J$6) -> #REF! | T5: =COUNTIFS(#REF!,CALCULATION[[#This Row],[PACKFORMULA]],GLOBAL_DATA[Status],CALCULATION[[#Headers],[DONE]]) -> #REF! | U5: =COUNTIFS(#REF!,CALCULATION[[#This Row],[PACKFORMULA]],#REF!,"P0",GLOBAL_DATA[Status],DATA!$J$7) -> #REF! | V5: =COUNTIFS(#REF!,CALCULATION[[#This Row],[PACKFORMULA]],#REF!,"P1",GLOBAL_DATA[Status],DATA!$J$7) -> #REF! | W5: =COUNTIFS(#REF!,CALCULATION[[#This Row],[PACKFORMULA]],#REF!,">=P2",GLOBAL_DATA[Status],DATA!$J$7) -> #REF! | X5: =COUNTIFS(#REF!,CALCULATION[[#This Row],[PACKFORMULA]],GLOBAL_DATA[Status],CALCULATION[[#Headers],[CHECKED CISO]]) -> #REF! | Y5: =COUNTIFS(#REF!,CALCULATION[[#This Row],[PACKFORMULA]],#REF!,"P0",GLOBAL_DATA[Status],DATA!$J$8) -> #REF! | Z5: =COUNTIFS(#REF!,CALCULATION[[#This Row],[PACKFORMULA]],#REF!,"P1",GLOBAL_DATA[Status],DATA!$J$8) -> #REF! | AA5: =COUNTIFS(#REF!,CALCULATION[[#This Row],[PACKFORMULA]],#REF!,">=P2",GLOBAL_DATA[Status],DATA!$J$8) -> #REF! | AB5: =COUNTIFS(#REF!,CALCULATION[[#This Row],[PACKFORMULA]],GLOBAL_DATA[Status],CALCULATION[[#Headers],[VERIFIED]]) -> #REF! | AC5: =COUNTIFS(#REF!,CALCULATION[[#This Row],[PACKFORMULA]],#REF!,"P0",GLOBAL_DATA[Status],"<>"&Status_No_Project) -> #REF! | AD5: =COUNTIFS(#REF!,CALCULATION[[#This Row],[PACKFORMULA]],#REF!,"P1",GLOBAL_DATA[Status],"<>"&Status_No_Project) -> #REF! | AE5: =COUNTIFS(#REF!,CALCULATION[[#This Row],[PACKFORMULA]],#REF!,">=P2",GLOBAL_DATA[Status],"<>"&Status_No_Project) -> #REF! | AF5: =COUNTIFS(#REF!,CALCULATION[[#This Row],[PACKFORMULA]],GLOBAL_DATA[Status],"<>"&Status_No_Project) -> #REF! | AG5: =COUNTIFS(#REF!,CALCULATION[[#This Row],[PACKFORMULA]],#REF!,"P0",GLOBAL_DATA[Target status],DATA!$J$12) -> #REF! | AH5: =COUNTIFS(#REF!,CALCULATION[[#This Row],[PACKFORMULA]],#REF!,"P1",GLOBAL_DATA[Target status],DATA!$J$12) -> #REF! | AI5: =COUNTIFS(#REF!,CALCULATION[[#This Row],[PACKFORMULA]],#REF!,">P1",GLOBAL_DATA[Target status],DATA!$J$12) -> #REF! | AJ5: =COUNTIFS(#REF!,CALCULATION[[#This Row],[PACKFORMULA]],GLOBAL_DATA[Target status],DATA!$J$12) -> #REF! | AK5: =COUNTIFS(#REF!,CALCULATION[[#This Row],[PACKFORMULA]],GLOBAL_DATA[Target status],DATA!$J$13,#REF!,"P0") -> #REF! | AL5: =COUNTIFS(#REF!,CALCULATION[[#This Row],[PACKFORMULA]],GLOBAL_DATA[Target status],DATA!$J$13,#REF!,"P1") -> #REF! | AM5: =COUNTIFS(#REF!,CALCULATION[[#This Row],[PACKFORMULA]],GLOBAL_DATA[Target status],DATA!$J$13,#REF!,">P1") -> #REF! | AN5: =COUNTIFS(#REF!,CALCULATION[[#This Row],[PACKFORMULA]],GLOBAL_DATA[Target status],CALCULATION[[#Headers],[PARTIAL IMPLEMENTATION + RA]]) -> #REF! | AO5: =1-CALCULATION[[#This Row],[IN SCOPE %]] -> 1 | AP5: =COUNTIFS(#REF!,CALCULATION[[#This Row],[PACKFORMULA]],GLOBAL_DATA[Target status],CALCULATION[[#Headers],[FULL IMPLEMENTATION]]) -> #REF! | AQ5: =COUNTIFS(#REF!,CALCULATION[[#This Row],[PACKFORMULA]],GLOBAL_DATA[Target status],CALCULATION[[#Headers],[NOT APPLICABLE]]) -> #REF! | AR5: =COUNTIFS(#REF!,CALCULATION[[#This Row],[PACKFORMULA]],#REF!,"P0",GLOBAL_DATA[Target status],DATA!$J$13)+COUNTIFS(#REF!,CALCULATION[[#This Row],[PACKFORMULA]],#REF!,"P0",GLOBAL_DATA[Target status],DATA!$J$14)-CALCULATION[[#This Row],[COMPLETED P0]] -> #REF! | AS5: =COUNTIFS(#REF!,CALCULATION[[#This Row],[PACKFORMULA]],#REF!,"P1",GLOBAL_DATA[Target status],DATA!$J$13)+COUNTIFS(#REF!,CALCULATION[[#This Row],[PACKFORMULA]],#REF!,"P1",GLOBAL_DATA[Target status],DATA!$J$14)-CALCULATION[[#This Row],[COMPLETED P1]] -> #REF! | AT5: =COUNTIFS(#REF!,CALCULATION[[#This Row],[PACKFORMULA]],#REF!,">P1",GLOBAL_DATA[Target status],DATA!$J$13)+COUNTIFS(#REF!,CALCULATION[[#This Row],[PACKFORMULA]],#REF!,">P1",GLOBAL_DATA[Target status],DATA!$J$14)-CALCULATION[[#This Row],[COMPLETED P2&3]] -> #REF! | AU5: =CALCULATION[[#This Row],[PARTIAL IMPLEMENTATION + RA]]+CALCULATION[[#This Row],[FULL IMPLEMENTATION]] -> #REF! | AV5: =CALCULATION[[#This Row],[IN PROGRESS]]+CALCULATION[[#This Row],[TO BE STARTED]] -> #REF! | AW5: =COUNTIFS(#REF!,CALCULATION[[#This Row],[PACKFORMULA]],#REF!,"P0",GLOBAL_DATA[Impl_Yes],1) -> #REF! | AX5: =COUNTIFS(#REF!,CALCULATION[[#This Row],[PACKFORMULA]],#REF!,"P1",GLOBAL_DATA[Impl_Yes],1) -> #REF! | AY5: =COUNTIFS(#REF!,CALCULATION[[#This Row],[PACKFORMULA]],#REF!,">P1",GLOBAL_DATA[Impl_Yes],1) -> #REF! | AZ5: =COUNTIFS(#REF!,CALCULATION[[#This Row],[PACKFORMULA]],GLOBAL_DATA[Impl_Yes],1) -> #REF! | BA5: =IFERROR(CALCULATION[[#This Row],[COMPLETED]]/CALCULATION[[#This Row],[IN SCOPE]],0) -> 0 | BB5: =COUNTIFS(#REF!,CALCULATION[[#This Row],[PACKFORMULA]],GLOBAL_DATA[Target status],"<>"&DATA!$J$15) -> #REF! | BC5: =IFERROR(ROUND(SUMIFS(GLOBAL_DATA[Target scope],#REF!,CALCULATION[[#This Row],[PACKFORMULA]],GLOBAL_DATA[Target status],"<>"&DATA!$J$15)/CALCULATION[[#This Row],[IN SCOPE]],4),0) -> 0 | BD5: =IFERROR(ROUND(CALCULATION[[#This Row],[RISK ACCEPTED (FULL MEASURE)]]/CALCULATION[[#This Row],[IN SCOPE]],4),0) -> 0 | BE5: =IF((COUNTIFS(#REF!,CALCULATION[[#This Row],[PACKFORMULA]],GLOBAL_DATA[CISO Comments]," ")>0),(COUNTIFS(#REF!,CALCULATION[[#This Row],[PACKFORMULA]],GLOBAL_DATA[CISO Comments],"<>"&DATA!$A$15)),(COUNTIFS(#REF!,CALCULATION[[#This Row],[PACKFORMULA]],GLOBAL_DATA[CISO Comments]," ")&" CISO assessment still empty")) -> #REF! | BF5: =COUNTIFS(#REF!,CALCULATION[[#This Row],[PACKFORMULA]],GLOBAL_DATA[CISO assessment],"<>"&DATA!$A$15)-COUNTIFS(#REF!,CALCULATION[[#This Row],[PACKFORMULA]],GLOBAL_DATA[CISO assessment],"") -> #REF! | BG5: =COUNTIFS(#REF!,CALCULATION[[#This Row],[PACKFORMULA]],GLOBAL_DATA[CISO assessment],DATA!$A$15)+COUNTIFS(#REF!,CALCULATION[[#This Row],[PACKFORMULA]],GLOBAL_DATA[CISO assessment],"") -> #REF! | BH5: =IFERROR(ROUND(SUMIF(#REF!,CALCULATION[[#This Row],[PACKFORMULA]],GLOBAL_DATA[Target scope])/CALCULATION[[#This Row],[IN SCOPE]],4),0) -> 0 | BI5: =IFERROR(ROUND(SUMIFS(GLOBAL_DATA[Global Progress rate],#REF!,CALCULATION[[#This Row],[PACKFORMULA]],GLOBAL_DATA[Status],DATA!$J$6)/CALCULATION[[#This Row],[IN SCOPE]],4),0) -> 0 | BJ5: =IF((IFERROR(ROUND(SUMIFS(GLOBAL_DATA[Global Progress rate],#REF!,CALCULATION[[#This Row],[PACKFORMULA]],GLOBAL_DATA[Impl_Yes],1)/CALCULATION[[#This Row],[IN SCOPE]],4),0)-CALCULATION[[#This Row],[CURRENT IMPL DONE ]])<0,0,(IFERROR(ROUND(SUMIFS(GLOBAL_DATA[Global Progress rate],#REF!,CALCULATION[[#This Row],[PACKFORMULA]],GLOBAL_DATA[Impl_Yes],1)/CALCULATION[[#This Row],[IN SCOPE]],4),0)-CALCULATION[[#This Row],[CURRENT IMPL DONE ]])) -> 0 | BK5: =CALCULATION[[#This Row],[CURRENT IMPL DONE ]]+CALCULATION[[#This Row],[CURRENT IMPL CHECKED CISO & VERIFIED]] -> 0 | BL5: =CALCULATION[[#This Row],[CURRENT IMPLEMENTATION]]-CALCULATION[[#This Row],[CURRENT IMPL DONE ]]-CALCULATION[[#This Row],[CURRENT IMPL CHECKED CISO & VERIFIED]] -> 0 | BM5: =IFERROR(ROUND(SUMIF(#REF!,CALCULATION[[#This Row],[PACKFORMULA]],GLOBAL_DATA[Global Progress rate])/CALCULATION[[#This Row],[IN SCOPE]],4),0) -> 0 | BN5: =COUNTIFS(#REF!,CALCULATION[[#This Row],[PACKFORMULA]],GLOBAL_DATA[Impl_Date],">31/12/2019",GLOBAL_DATA[Impl_Date],"<01/01/2021",GLOBAL_DATA[Impl_Yes],1) -> #REF! | BO5: =COUNTIFS(#REF!,CALCULATION[[#This Row],[PACKFORMULA]],GLOBAL_DATA[Impl_Date],">31/12/2019",GLOBAL_DATA[Impl_Date],"<01/01/2021") -> #REF! | BP5: =IFERROR(ROUND(SUMIFS(GLOBAL_DATA[Target scope],#REF!,CALCULATION[[#This Row],[PACKFORMULA]],GLOBAL_DATA[Impl_Date],">31/12/2019",GLOBAL_DATA[Impl_Date],"<01/01/2021")/CALCULATION[[#This Row],[IN SCOPE]],4),0) -> 0 | BQ5: =COUNTIFS(#REF!,CALCULATION[[#This Row],[PACKFORMULA]],GLOBAL_DATA[Impl_Date],">31/12/2020",GLOBAL_DATA[Impl_Date],"<01/01/2022",GLOBAL_DATA[Impl_Yes],1) -> #REF! | BR5: =COUNTIFS(#REF!,CALCULATION[[#This Row],[PACKFORMULA]],GLOBAL_DATA[Impl_Date],">31/12/2020",GLOBAL_DATA[Impl_Date],"<01/01/2022") -> #REF! | BS5: =IFERROR(ROUND(SUMIFS(GLOBAL_DATA[Target scope],#REF!,CALCULATION[[#This Row],[PACKFORMULA]],GLOBAL_DATA[Impl_Date],">31/12/2020",GLOBAL_DATA[Impl_Date],"<01/01/2022")/CALCULATION[[#This Row],[IN SCOPE]],4),0) -> 0 | BT5: =COUNTIFS(#REF!,CALCULATION[[#This Row],[PACKFORMULA]],GLOBAL_DATA[Impl_Date],">31/12/2021",GLOBAL_DATA[Impl_Date],"<01/01/2023",GLOBAL_DATA[Impl_Yes],1) -> #REF! | BU5: =COUNTIFS(#REF!,CALCULATION[[#This Row],[PACKFORMULA]],GLOBAL_DATA[Impl_Date],">31/12/2021",GLOBAL_DATA[Impl_Date],"<01/01/2023") -> #REF! | BV5: =IFERROR(ROUND(SUMIFS(GLOBAL_DATA[Target scope],#REF!,CALCULATION[[#This Row],[PACKFORMULA]],GLOBAL_DATA[Impl_Date],">31/12/2021",GLOBAL_DATA[Impl_Date],"<01/01/2023")/CALCULATION[[#This Row],[IN SCOPE]],4),0) -> 0 | BW5: =COUNTIFS(#REF!,CALCULATION[[#This Row],[PACKFORMULA]],GLOBAL_DATA[Impl_Date],">31/12/2022",GLOBAL_DATA[Impl_Date],"<01/01/2024",GLOBAL_DATA[Impl_Yes],1) -> #REF! | BX5: =COUNTIFS(#REF!,CALCULATION[[#This Row],[PACKFORMULA]],GLOBAL_DATA[Impl_Date],">31/12/2022") -> #REF! | BY5: =IFERROR(ROUND(SUMIFS(GLOBAL_DATA[Target scope],#REF!,CALCULATION[[#This Row],[PACKFORMULA]],GLOBAL_DATA[Impl_Date],">31/12/2022",GLOBAL_DATA[Impl_Date],"<01/01/2024")/CALCULATION[[#This Row],[IN SCOPE]],4),0) -> 0 | BZ5: =CALCULATION[[#This Row],[% 2020 COMMITTED]]+CALCULATION[[#This Row],[% 2021 COMMITTED]]+CALCULATION[[#This Row],[% 2022 COMMITTED]]+CALCULATION[[#This Row],[% 2023 COMMITTED]] -> 0 | CA5: =CALCULATION[[#This Row],[CURRENT IMPLEMENTATION]] -> 0 | CB5: =CALCULATION[[#This Row],[% 2020 COMMITTED]]+CALCULATION[[#This Row],[% 2021 COMMITTED]]+CALCULATION[[#This Row],[% 2022 COMMITTED]]+CALCULATION[[#This Row],[% 2023 COMMITTED]]-CALCULATION[[#This Row],[CURRENT IMPLEMENTATION]] -> 0
A6: Internal fraud protection | B6: Internal fraud protection | C6: 1 | D6: 0.05 | E6: =COUNTIFS(#REF!,CALCULATION[[#This Row],[PACKFORMULA]],#REF!,"P0",GLOBAL_DATA[Status],Status_No_Project) -> #REF! | F6: =COUNTIFS(#REF!,CALCULATION[[#This Row],[PACKFORMULA]],#REF!,"P1",GLOBAL_DATA[Status],Status_No_Project) -> #REF! | G6: =COUNTIFS(#REF!,CALCULATION[[#This Row],[PACKFORMULA]],#REF!,">=P2",GLOBAL_DATA[Status],Status_No_Project) -> #REF! | H6: =COUNTIFS(#REF!,CALCULATION[[#This Row],[PACKFORMULA]],GLOBAL_DATA[Status],CALCULATION[[#Headers],[NO PROJECT]]) -> #REF! | I6: =COUNTIFS(#REF!,CALCULATION[[#This Row],[PACKFORMULA]],#REF!,"P0",GLOBAL_DATA[Status],DATA!$J$4) -> #REF! | J6: =COUNTIFS(#REF!,CALCULATION[[#This Row],[PACKFORMULA]],#REF!,"P1",GLOBAL_DATA[Status],DATA!$J$4) -> #REF! | K6: =COUNTIFS(#REF!,CALCULATION[[#This Row],[PACKFORMULA]],#REF!,">=P2",GLOBAL_DATA[Status],DATA!$J$4) -> #REF! | L6: =COUNTIFS(#REF!,CALCULATION[[#This Row],[PACKFORMULA]],GLOBAL_DATA[Status],CALCULATION[[#Headers],[TO BE STARTED]]) -> #REF! | M6: =COUNTIFS(#REF!,CALCULATION[[#This Row],[PACKFORMULA]],#REF!,"P0",GLOBAL_DATA[Status],DATA!$J$5) -> #REF! | N6: =COUNTIFS(#REF!,CALCULATION[[#This Row],[PACKFORMULA]],#REF!,"P1",GLOBAL_DATA[Status],DATA!$J$5) -> #REF! | O6: =COUNTIFS(#REF!,CALCULATION[[#This Row],[PACKFORMULA]],#REF!,">=P2",GLOBAL_DATA[Status],DATA!$J$5) -> #REF! | P6: =COUNTIFS(#REF!,CALCULATION[[#This Row],[PACKFORMULA]],GLOBAL_DATA[Status],CALCULATION[[#Headers],[IN PROGRESS]]) -> #REF! | Q6: =COUNTIFS(#REF!,CALCULATION[[#This Row],[PACKFORMULA]],#REF!,"P0",GLOBAL_DATA[Status],DATA!$J$6) -> #REF! | R6: =COUNTIFS(#REF!,CALCULATION[[#This Row],[PACKFORMULA]],#REF!,"P1",GLOBAL_DATA[Status],DATA!$J$6) -> #REF! | S6: =COUNTIFS(#REF!,CALCULATION[[#This Row],[PACKFORMULA]],#REF!,">=P2",GLOBAL_DATA[Status],DATA!$J$6) -> #REF! | T6: =COUNTIFS(#REF!,CALCULATION[[#This Row],[PACKFORMULA]],GLOBAL_DATA[Status],CALCULATION[[#Headers],[DONE]]) -> #REF! | U6: =COUNTIFS(#REF!,CALCULATION[[#This Row],[PACKFORMULA]],#REF!,"P0",GLOBAL_DATA[Status],DATA!$J$7) -> #REF! | V6: =COUNTIFS(#REF!,CALCULATION[[#This Row],[PACKFORMULA]],#REF!,"P1",GLOBAL_DATA[Status],DATA!$J$7) -> #REF! | W6: =COUNTIFS(#REF!,CALCULATION[[#This Row],[PACKFORMULA]],#REF!,">=P2",GLOBAL_DATA[Status],DATA!$J$7) -> #REF! | X6: =COUNTIFS(#REF!,CALCULATION[[#This Row],[PACKFORMULA]],GLOBAL_DATA[Status],CALCULATION[[#Headers],[CHECKED CISO]]) -> #REF! | Y6: =COUNTIFS(#REF!,CALCULATION[[#This Row],[PACKFORMULA]],#REF!,"P0",GLOBAL_DATA[Status],DATA!$J$8) -> #REF! | Z6: =COUNTIFS(#REF!,CALCULATION[[#This Row],[PACKFORMULA]],#REF!,"P1",GLOBAL_DATA[Status],DATA!$J$8) -> #REF! | AA6: =COUNTIFS(#REF!,CALCULATION[[#This Row],[PACKFORMULA]],#REF!,">=P2",GLOBAL_DATA[Status],DATA!$J$8) -> #REF! | AB6: =COUNTIFS(#REF!,CALCULATION[[#This Row],[PACKFORMULA]],GLOBAL_DATA[Status],CALCULATION[[#Headers],[VERIFIED]]) -> #REF! | AC6: =COUNTIFS(#REF!,CALCULATION[[#This Row],[PACKFORMULA]],#REF!,"P0",GLOBAL_DATA[Status],"<>"&Status_No_Project) -> #REF! | AD6: =COUNTIFS(#REF!,CALCULATION[[#This Row],[PACKFORMULA]],#REF!,"P1",GLOBAL_DATA[Status],"<>"&Status_No_Project) -> #REF! | AE6: =COUNTIFS(#REF!,CALCULATION[[#This Row],[PACKFORMULA]],#REF!,">=P2",GLOBAL_DATA[Status],"<>"&Status_No_Project) -> #REF! | AF6: =COUNTIFS(#REF!,CALCULATION[[#This Row],[PACKFORMULA]],GLOBAL_DATA[Status],"<>"&Status_No_Project) -> #REF! | AG6: =COUNTIFS(#REF!,CALCULATION[[#This Row],[PACKFORMULA]],#REF!,"P0",GLOBAL_DATA[Target status],DATA!$J$12) -> #REF! | AH6: =COUNTIFS(#REF!,CALCULATION[[#This Row],[PACKFORMULA]],#REF!,"P1",GLOBAL_DATA[Target status],DATA!$J$12) -> #REF! | AI6: =COUNTIFS(#REF!,CALCULATION[[#This Row],[PACKFORMULA]],#REF!,">P1",GLOBAL_DATA[Target status],DATA!$J$12) -> #REF! | AJ6: =COUNTIFS(#REF!,CALCULATION[[#This Row],[PACKFORMULA]],GLOBAL_DATA[Target status],DATA!$J$12) -> #REF! | AK6: =COUNTIFS(#REF!,CALCULATION[[#This Row],[PACKFORMULA]],GLOBAL_DATA[Target status],DATA!$J$13,#REF!,"P0") -> #REF! | AL6: =COUNTIFS(#REF!,CALCULATION[[#This Row],[PACKFORMULA]],GLOBAL_DATA[Target status],DATA!$J$13,#REF!,"P1") -> #REF! | AM6: =COUNTIFS(#REF!,CALCULATION[[#This Row],[PACKFORMULA]],GLOBAL_DATA[Target status],DATA!$J$13,#REF!,">P1") -> #REF! | AN6: =COUNTIFS(#REF!,CALCULATION[[#This Row],[PACKFORMULA]],GLOBAL_DATA[Target status],CALCULATION[[#Headers],[PARTIAL IMPLEMENTATION + RA]]) -> #REF! | AO6: =1-CALCULATION[[#This Row],[IN SCOPE %]] -> 1 | AP6: =COUNTIFS(#REF!,CALCULATION[[#This Row],[PACKFORMULA]],GLOBAL_DATA[Target status],CALCULATION[[#Headers],[FULL IMPLEMENTATION]]) -> #REF! | AQ6: =COUNTIFS(#REF!,CALCULATION[[#This Row],[PACKFORMULA]],GLOBAL_DATA[Target status],CALCULATION[[#Headers],[NOT APPLICABLE]]) -> #REF! | AR6: =COUNTIFS(#REF!,CALCULATION[[#This Row],[PACKFORMULA]],#REF!,"P0",GLOBAL_DATA[Target status],DATA!$J$13)+COUNTIFS(#REF!,CALCULATION[[#This Row],[PACKFORMULA]],#REF!,"P0",GLOBAL_DATA[Target status],DATA!$J$14)-CALCULATION[[#This Row],[COMPLETED P0]] -> #REF! | AS6: =COUNTIFS(#REF!,CALCULATION[[#This Row],[PACKFORMULA]],#REF!,"P1",GLOBAL_DATA[Target status],DATA!$J$13)+COUNTIFS(#REF!,CALCULATION[[#This Row],[PACKFORMULA]],#REF!,"P1",GLOBAL_DATA[Target status],DATA!$J$14)-CALCULATION[[#This Row],[COMPLETED P1]] -> #REF! | AT6: =COUNTIFS(#REF!,CALCULATION[[#This Row],[PACKFORMULA]],#REF!,">P1",GLOBAL_DATA[Target status],DATA!$J$13)+COUNTIFS(#REF!,CALCULATION[[#This Row],[PACKFORMULA]],#REF!,">P1",GLOBAL_DATA[Target status],DATA!$J$14)-CALCULATION[[#This Row],[COMPLETED P2&3]] -> #REF! | AU6: =CALCULATION[[#This Row],[PARTIAL IMPLEMENTATION + RA]]+CALCULATION[[#This Row],[FULL IMPLEMENTATION]] -> #REF! | AV6: =CALCULATION[[#This Row],[IN PROGRESS]]+CALCULATION[[#This Row],[TO BE STARTED]] -> #REF! | AW6: =COUNTIFS(#REF!,CALCULATION[[#This Row],[PACKFORMULA]],#REF!,"P0",GLOBAL_DATA[Impl_Yes],1) -> #REF! | AX6: =COUNTIFS(#REF!,CALCULATION[[#This Row],[PACKFORMULA]],#REF!,"P1",GLOBAL_DATA[Impl_Yes],1) -> #REF! | AY6: =COUNTIFS(#REF!,CALCULATION[[#This Row],[PACKFORMULA]],#REF!,">P1",GLOBAL_DATA[Impl_Yes],1) -> #REF! | AZ6: =COUNTIFS(#REF!,CALCULATION[[#This Row],[PACKFORMULA]],GLOBAL_DATA[Impl_Yes],1) -> #REF! | BA6: =IFERROR(CALCULATION[[#This Row],[COMPLETED]]/CALCULATION[[#This Row],[IN SCOPE]],0) -> 0 | BB6: =COUNTIFS(#REF!,CALCULATION[[#This Row],[PACKFORMULA]],GLOBAL_DATA[Target status],"<>"&DATA!$J$15) -> #REF! | BC6: =IFERROR(ROUND(SUMIFS(GLOBAL_DATA[Target scope],#REF!,CALCULATION[[#This Row],[PACKFORMULA]],GLOBAL_DATA[Target status],"<>"&DATA!$J$15)/CALCULATION[[#This Row],[IN SCOPE]],4),0) -> 0 | BD6: =IFERROR(ROUND(CALCULATION[[#This Row],[RISK ACCEPTED (FULL MEASURE)]]/CALCULATION[[#This Row],[IN SCOPE]],4),0) -> 0 | BE6: =IF((COUNTIFS(#REF!,CALCULATION[[#This Row],[PACKFORMULA]],GLOBAL_DATA[CISO Comments]," ")>0),(COUNTIFS(#REF!,CALCULATION[[#This Row],[PACKFORMULA]],GLOBAL_DATA[CISO Comments],"<>"&DATA!$A$15)),(COUNTIFS(#REF!,CALCULATION[[#This Row],[PACKFORMULA]],GLOBAL_DATA[CISO Comments]," ")&" CISO assessment still empty")) -> #REF! | BF6: =COUNTIFS(#REF!,CALCULATION[[#This Row],[PACKFORMULA]],GLOBAL_DATA[CISO assessment],"<>"&DATA!$A$15)-COUNTIFS(#REF!,CALCULATION[[#This Row],[PACKFORMULA]],GLOBAL_DATA[CISO assessment],"") -> #REF! | BG6: =COUNTIFS(#REF!,CALCULATION[[#This Row],[PACKFORMULA]],GLOBAL_DATA[CISO assessment],DATA!$A$15)+COUNTIFS(#REF!,CALCULATION[[#This Row],[PACKFORMULA]],GLOBAL_DATA[CISO assessment],"") -> #REF! | BH6: =IFERROR(ROUND(SUMIF(#REF!,CALCULATION[[#This Row],[PACKFORMULA]],GLOBAL_DATA[Target scope])/CALCULATION[[#This Row],[IN SCOPE]],4),0) -> 0 | BI6: =IFERROR(ROUND(SUMIFS(GLOBAL_DATA[Global Progress rate],#REF!,CALCULATION[[#This Row],[PACKFORMULA]],GLOBAL_DATA[Status],DATA!$J$6)/CALCULATION[[#This Row],[IN SCOPE]],4),0) -> 0 | BJ6: =IF((IFERROR(ROUND(SUMIFS(GLOBAL_DATA[Global Progress rate],#REF!,CALCULATION[[#This Row],[PACKFORMULA]],GLOBAL_DATA[Impl_Yes],1)/CALCULATION[[#This Row],[IN SCOPE]],4),0)-CALCULATION[[#This Row],[CURRENT IMPL DONE ]])<0,0,(IFERROR(ROUND(SUMIFS(GLOBAL_DATA[Global Progress rate],#REF!,CALCULATION[[#This Row],[PACKFORMULA]],GLOBAL_DATA[Impl_Yes],1)/CALCULATION[[#This Row],[IN SCOPE]],4),0)-CALCULATION[[#This Row],[CURRENT IMPL DONE ]])) -> 0 | BK6: =CALCULATION[[#This Row],[CURRENT IMPL DONE ]]+CALCULATION[[#This Row],[CURRENT IMPL CHECKED CISO & VERIFIED]] -> 0 | BL6: =CALCULATION[[#This Row],[CURRENT IMPLEMENTATION]]-CALCULATION[[#This Row],[CURRENT IMPL DONE ]]-CALCULATION[[#This Row],[CURRENT IMPL CHECKED CISO & VERIFIED]] -> 0 | BM6: =IFERROR(ROUND(SUMIF(#REF!,CALCULATION[[#This Row],[PACKFORMULA]],GLOBAL_DATA[Global Progress rate])/CALCULATION[[#This Row],[IN SCOPE]],4),0) -> 0 | BN6: =COUNTIFS(#REF!,CALCULATION[[#This Row],[PACKFORMULA]],GLOBAL_DATA[Impl_Date],">31/12/2019",GLOBAL_DATA[Impl_Date],"<01/01/2021",GLOBAL_DATA[Impl_Yes],1) -> #REF! | BO6: =COUNTIFS(#REF!,CALCULATION[[#This Row],[PACKFORMULA]],GLOBAL_DATA[Impl_Date],">31/12/2019",GLOBAL_DATA[Impl_Date],"<01/01/2021") -> #REF! | BP6: =IFERROR(ROUND(SUMIFS(GLOBAL_DATA[Target scope],#REF!,CALCULATION[[#This Row],[PACKFORMULA]],GLOBAL_DATA[Impl_Date],">31/12/2019",GLOBAL_DATA[Impl_Date],"<01/01/2021")/CALCULATION[[#This Row],[IN SCOPE]],4),0) -> 0 | BQ6: =COUNTIFS(#REF!,CALCULATION[[#This Row],[PACKFORMULA]],GLOBAL_DATA[Impl_Date],">31/12/2020",GLOBAL_DATA[Impl_Date],"<01/01/2022",GLOBAL_DATA[Impl_Yes],1) -> #REF! | BR6: =COUNTIFS(#REF!,CALCULATION[[#This Row],[PACKFORMULA]],GLOBAL_DATA[Impl_Date],">31/12/2020",GLOBAL_DATA[Impl_Date],"<01/01/2022") -> #REF! | BS6: =IFERROR(ROUND(SUMIFS(GLOBAL_DATA[Target scope],#REF!,CALCULATION[[#This Row],[PACKFORMULA]],GLOBAL_DATA[Impl_Date],">31/12/2020",GLOBAL_DATA[Impl_Date],"<01/01/2022")/CALCULATION[[#This Row],[IN SCOPE]],4),0) -> 0 | BT6: =COUNTIFS(#REF!,CALCULATION[[#This Row],[PACKFORMULA]],GLOBAL_DATA[Impl_Date],">31/12/2021",GLOBAL_DATA[Impl_Date],"<01/01/2023",GLOBAL_DATA[Impl_Yes],1) -> #REF! | BU6: =COUNTIFS(#REF!,CALCULATION[[#This Row],[PACKFORMULA]],GLOBAL_DATA[Impl_Date],">31/12/2021",GLOBAL_DATA[Impl_Date],"<01/01/2023") -> #REF! | BV6: =IFERROR(ROUND(SUMIFS(GLOBAL_DATA[Target scope],#REF!,CALCULATION[[#This Row],[PACKFORMULA]],GLOBAL_DATA[Impl_Date],">31/12/2021",GLOBAL_DATA[Impl_Date],"<01/01/2023")/CALCULATION[[#This Row],[IN SCOPE]],4),0) -> 0 | BW6: =COUNTIFS(#REF!,CALCULATION[[#This Row],[PACKFORMULA]],GLOBAL_DATA[Impl_Date],">31/12/2022",GLOBAL_DATA[Impl_Date],"<01/01/2024",GLOBAL_DATA[Impl_Yes],1) -> #REF! | BX6: =COUNTIFS(#REF!,CALCULATION[[#This Row],[PACKFORMULA]],GLOBAL_DATA[Impl_Date],">31/12/2022") -> #REF! | BY6: =IFERROR(ROUND(SUMIFS(GLOBAL_DATA[Target scope],#REF!,CALCULATION[[#This Row],[PACKFORMULA]],GLOBAL_DATA[Impl_Date],">31/12/2022",GLOBAL_DATA[Impl_Date],"<01/01/2024")/CALCULATION[[#This Row],[IN SCOPE]],4),0) -> 0 | BZ6: =CALCULATION[[#This Row],[% 2020 COMMITTED]]+CALCULATION[[#This Row],[% 2021 COMMITTED]]+CALCULATION[[#This Row],[% 2022 COMMITTED]]+CALCULATION[[#This Row],[% 2023 COMMITTED]] -> 0 | CA6: =CALCULATION[[#This Row],[CURRENT IMPLEMENTATION]] -> 0 | CB6: =CALCULATION[[#This Row],[% 2020 COMMITTED]]+CALCULATION[[#This Row],[% 2021 COMMITTED]]+CALCULATION[[#This Row],[% 2022 COMMITTED]]+CALCULATION[[#This Row],[% 2023 COMMITTED]]-CALCULATION[[#This Row],[CURRENT IMPLEMENTATION]] -> 0
A7: Advanced protection | B7: Advanced protection | C7: 1 | D7: 0.05 | E7: =COUNTIFS(#REF!,CALCULATION[[#This Row],[PACKFORMULA]],#REF!,"P0",GLOBAL_DATA[Status],Status_No_Project) -> #REF! | F7: =COUNTIFS(#REF!,CALCULATION[[#This Row],[PACKFORMULA]],#REF!,"P1",GLOBAL_DATA[Status],Status_No_Project) -> #REF! | G7: =COUNTIFS(#REF!,CALCULATION[[#This Row],[PACKFORMULA]],#REF!,">=P2",GLOBAL_DATA[Status],Status_No_Project) -> #REF! | H7: =COUNTIFS(#REF!,CALCULATION[[#This Row],[PACKFORMULA]],GLOBAL_DATA[Status],CALCULATION[[#Headers],[NO PROJECT]]) -> #REF! | I7: =COUNTIFS(#REF!,CALCULATION[[#This Row],[PACKFORMULA]],#REF!,"P0",GLOBAL_DATA[Status],DATA!$J$4) -> #REF! | J7: =COUNTIFS(#REF!,CALCULATION[[#This Row],[PACKFORMULA]],#REF!,"P1",GLOBAL_DATA[Status],DATA!$J$4) -> #REF! | K7: =COUNTIFS(#REF!,CALCULATION[[#This Row],[PACKFORMULA]],#REF!,">=P2",GLOBAL_DATA[Status],DATA!$J$4) -> #REF! | L7: =COUNTIFS(#REF!,CALCULATION[[#This Row],[PACKFORMULA]],GLOBAL_DATA[Status],CALCULATION[[#Headers],[TO BE STARTED]]) -> #REF! | M7: =COUNTIFS(#REF!,CALCULATION[[#This Row],[PACKFORMULA]],#REF!,"P0",GLOBAL_DATA[Status],DATA!$J$5) -> #REF! | N7: =COUNTIFS(#REF!,CALCULATION[[#This Row],[PACKFORMULA]],#REF!,"P1",GLOBAL_DATA[Status],DATA!$J$5) -> #REF! | O7: =COUNTIFS(#REF!,CALCULATION[[#This Row],[PACKFORMULA]],#REF!,">=P2",GLOBAL_DATA[Status],DATA!$J$5) -> #REF! | P7: =COUNTIFS(#REF!,CALCULATION[[#This Row],[PACKFORMULA]],GLOBAL_DATA[Status],CALCULATION[[#Headers],[IN PROGRESS]]) -> #REF! | Q7: =COUNTIFS(#REF!,CALCULATION[[#This Row],[PACKFORMULA]],#REF!,"P0",GLOBAL_DATA[Status],DATA!$J$6) -> #REF! | R7: =COUNTIFS(#REF!,CALCULATION[[#This Row],[PACKFORMULA]],#REF!,"P1",GLOBAL_DATA[Status],DATA!$J$6) -> #REF! | S7: =COUNTIFS(#REF!,CALCULATION[[#This Row],[PACKFORMULA]],#REF!,">=P2",GLOBAL_DATA[Status],DATA!$J$6) -> #REF! | T7: =COUNTIFS(#REF!,CALCULATION[[#This Row],[PACKFORMULA]],GLOBAL_DATA[Status],CALCULATION[[#Headers],[DONE]]) -> #REF! | U7: =COUNTIFS(#REF!,CALCULATION[[#This Row],[PACKFORMULA]],#REF!,"P0",GLOBAL_DATA[Status],DATA!$J$7) -> #REF! | V7: =COUNTIFS(#REF!,CALCULATION[[#This Row],[PACKFORMULA]],#REF!,"P1",GLOBAL_DATA[Status],DATA!$J$7) -> #REF! | W7: =COUNTIFS(#REF!,CALCULATION[[#This Row],[PACKFORMULA]],#REF!,">=P2",GLOBAL_DATA[Status],DATA!$J$7) -> #REF! | X7: =COUNTIFS(#REF!,CALCULATION[[#This Row],[PACKFORMULA]],GLOBAL_DATA[Status],CALCULATION[[#Headers],[CHECKED CISO]]) -> #REF! | Y7: =COUNTIFS(#REF!,CALCULATION[[#This Row],[PACKFORMULA]],#REF!,"P0",GLOBAL_DATA[Status],DATA!$J$8) -> #REF! | Z7: =COUNTIFS(#REF!,CALCULATION[[#This Row],[PACKFORMULA]],#REF!,"P1",GLOBAL_DATA[Status],DATA!$J$8) -> #REF! | AA7: =COUNTIFS(#REF!,CALCULATION[[#This Row],[PACKFORMULA]],#REF!,">=P2",GLOBAL_DATA[Status],DATA!$J$8) -> #REF! | AB7: =COUNTIFS(#REF!,CALCULATION[[#This Row],[PACKFORMULA]],GLOBAL_DATA[Status],CALCULATION[[#Headers],[VERIFIED]]) -> #REF! | AC7: =COUNTIFS(#REF!,CALCULATION[[#This Row],[PACKFORMULA]],#REF!,"P0",GLOBAL_DATA[Status],"<>"&Status_No_Project) -> #REF! | AD7: =COUNTIFS(#REF!,CALCULATION[[#This Row],[PACKFORMULA]],#REF!,"P1",GLOBAL_DATA[Status],"<>"&Status_No_Project) -> #REF! | AE7: =COUNTIFS(#REF!,CALCULATION[[#This Row],[PACKFORMULA]],#REF!,">=P2",GLOBAL_DATA[Status],"<>"&Status_No_Project) -> #REF! | AF7: =COUNTIFS(#REF!,CALCULATION[[#This Row],[PACKFORMULA]],GLOBAL_DATA[Status],"<>"&Status_No_Project) -> #REF! | AG7: =COUNTIFS(#REF!,CALCULATION[[#This Row],[PACKFORMULA]],#REF!,"P0",GLOBAL_DATA[Target status],DATA!$J$12) -> #REF! | AH7: =COUNTIFS(#REF!,CALCULATION[[#This Row],[PACKFORMULA]],#REF!,"P1",GLOBAL_DATA[Target status],DATA!$J$12) -> #REF! | AI7: =COUNTIFS(#REF!,CALCULATION[[#This Row],[PACKFORMULA]],#REF!,">P1",GLOBAL_DATA[Target status],DATA!$J$12) -> #REF! | AJ7: =COUNTIFS(#REF!,CALCULATION[[#This Row],[PACKFORMULA]],GLOBAL_DATA[Target status],DATA!$J$12) -> #REF! | AK7: =COUNTIFS(#REF!,CALCULATION[[#This Row],[PACKFORMULA]],GLOBAL_DATA[Target status],DATA!$J$13,#REF!,"P0") -> #REF! | AL7: =COUNTIFS(#REF!,CALCULATION[[#This Row],[PACKFORMULA]],GLOBAL_DATA[Target status],DATA!$J$13,#REF!,"P1") -> #REF! | AM7: =COUNTIFS(#REF!,CALCULATION[[#This Row],[PACKFORMULA]],GLOBAL_DATA[Target status],DATA!$J$13,#REF!,">P1") -> #REF! | AN7: =COUNTIFS(#REF!,CALCULATION[[#This Row],[PACKFORMULA]],GLOBAL_DATA[Target status],CALCULATION[[#Headers],[PARTIAL IMPLEMENTATION + RA]]) -> #REF! | AO7: =1-CALCULATION[[#This Row],[IN SCOPE %]] -> 1 | AP7: =COUNTIFS(#REF!,CALCULATION[[#This Row],[PACKFORMULA]],GLOBAL_DATA[Target status],CALCULATION[[#Headers],[FULL IMPLEMENTATION]]) -> #REF! | AQ7: =COUNTIFS(#REF!,CALCULATION[[#This Row],[PACKFORMULA]],GLOBAL_DATA[Target status],CALCULATION[[#Headers],[NOT APPLICABLE]]) -> #REF! | AR7: =COUNTIFS(#REF!,CALCULATION[[#This Row],[PACKFORMULA]],#REF!,"P0",GLOBAL_DATA[Target status],DATA!$J$13)+COUNTIFS(#REF!,CALCULATION[[#This Row],[PACKFORMULA]],#REF!,"P0",GLOBAL_DATA[Target status],DATA!$J$14)-CALCULATION[[#This Row],[COMPLETED P0]] -> #REF! | AS7: =COUNTIFS(#REF!,CALCULATION[[#This Row],[PACKFORMULA]],#REF!,"P1",GLOBAL_DATA[Target status],DATA!$J$13)+COUNTIFS(#REF!,CALCULATION[[#This Row],[PACKFORMULA]],#REF!,"P1",GLOBAL_DATA[Target status],DATA!$J$14)-CALCULATION[[#This Row],[COMPLETED P1]] -> #REF! | AT7: =COUNTIFS(#REF!,CALCULATION[[#This Row],[PACKFORMULA]],#REF!,">P1",GLOBAL_DATA[Target status],DATA!$J$13)+COUNTIFS(#REF!,CALCULATION[[#This Row],[PACKFORMULA]],#REF!,">P1",GLOBAL_DATA[Target status],DATA!$J$14)-CALCULATION[[#This Row],[COMPLETED P2&3]] -> #REF! | AU7: =CALCULATION[[#This Row],[PARTIAL IMPLEMENTATION + RA]]+CALCULATION[[#This Row],[FULL IMPLEMENTATION]] -> #REF! | AV7: =CALCULATION[[#This Row],[IN PROGRESS]]+CALCULATION[[#This Row],[TO BE STARTED]] -> #REF! | AW7: =COUNTIFS(#REF!,CALCULATION[[#This Row],[PACKFORMULA]],#REF!,"P0",GLOBAL_DATA[Impl_Yes],1) -> #REF! | AX7: =COUNTIFS(#REF!,CALCULATION[[#This Row],[PACKFORMULA]],#REF!,"P1",GLOBAL_DATA[Impl_Yes],1) -> #REF! | AY7: =COUNTIFS(#REF!,CALCULATION[[#This Row],[PACKFORMULA]],#REF!,">P1",GLOBAL_DATA[Impl_Yes],1) -> #REF! | AZ7: =COUNTIFS(#REF!,CALCULATION[[#This Row],[PACKFORMULA]],GLOBAL_DATA[Impl_Yes],1) -> #REF! | BA7: =IFERROR(CALCULATION[[#This Row],[COMPLETED]]/CALCULATION[[#This Row],[IN SCOPE]],0) -> 0 | BB7: =COUNTIFS(#REF!,CALCULATION[[#This Row],[PACKFORMULA]],GLOBAL_DATA[Target status],"<>"&DATA!$J$15) -> #REF! | BC7: =IFERROR(ROUND(SUMIFS(GLOBAL_DATA[Target scope],#REF!,CALCULATION[[#This Row],[PACKFORMULA]],GLOBAL_DATA[Target status],"<>"&DATA!$J$15)/CALCULATION[[#This Row],[IN SCOPE]],4),0) -> 0 | BD7: =IFERROR(ROUND(CALCULATION[[#This Row],[RISK ACCEPTED (FULL MEASURE)]]/CALCULATION[[#This Row],[IN SCOPE]],4),0) -> 0 | BE7: =IF((COUNTIFS(#REF!,CALCULATION[[#This Row],[PACKFORMULA]],GLOBAL_DATA[CISO Comments]," ")>0),(COUNTIFS(#REF!,CALCULATION[[#This Row],[PACKFORMULA]],GLOBAL_DATA[CISO Comments],"<>"&DATA!$A$15)),(COUNTIFS(#REF!,CALCULATION[[#This Row],[PACKFORMULA]],GLOBAL_DATA[CISO Comments]," ")&" CISO assessment still empty")) -> #REF! | BF7: =COUNTIFS(#REF!,CALCULATION[[#This Row],[PACKFORMULA]],GLOBAL_DATA[CISO assessment],"<>"&DATA!$A$15)-COUNTIFS(#REF!,CALCULATION[[#This Row],[PACKFORMULA]],GLOBAL_DATA[CISO assessment],"") -> #REF! | BG7: =COUNTIFS(#REF!,CALCULATION[[#This Row],[PACKFORMULA]],GLOBAL_DATA[CISO assessment],DATA!$A$15)+COUNTIFS(#REF!,CALCULATION[[#This Row],[PACKFORMULA]],GLOBAL_DATA[CISO assessment],"") -> #REF! | BH7: =IFERROR(ROUND(SUMIF(#REF!,CALCULATION[[#This Row],[PACKFORMULA]],GLOBAL_DATA[Target scope])/CALCULATION[[#This Row],[IN SCOPE]],4),0) -> 0 | BI7: =IFERROR(ROUND(SUMIFS(GLOBAL_DATA[Global Progress rate],#REF!,CALCULATION[[#This Row],[PACKFORMULA]],GLOBAL_DATA[Status],DATA!$J$6)/CALCULATION[[#This Row],[IN SCOPE]],4),0) -> 0 | BJ7: =IF((IFERROR(ROUND(SUMIFS(GLOBAL_DATA[Global Progress rate],#REF!,CALCULATION[[#This Row],[PACKFORMULA]],GLOBAL_DATA[Impl_Yes],1)/CALCULATION[[#This Row],[IN SCOPE]],4),0)-CALCULATION[[#This Row],[CURRENT IMPL DONE ]])<0,0,(IFERROR(ROUND(SUMIFS(GLOBAL_DATA[Global Progress rate],#REF!,CALCULATION[[#This Row],[PACKFORMULA]],GLOBAL_DATA[Impl_Yes],1)/CALCULATION[[#This Row],[IN SCOPE]],4),0)-CALCULATION[[#This Row],[CURRENT IMPL DONE ]])) -> 0 | BK7: =CALCULATION[[#This Row],[CURRENT IMPL DONE ]]+CALCULATION[[#This Row],[CURRENT IMPL CHECKED CISO & VERIFIED]] -> 0 | BL7: =CALCULATION[[#This Row],[CURRENT IMPLEMENTATION]]-CALCULATION[[#This Row],[CURRENT IMPL DONE ]]-CALCULATION[[#This Row],[CURRENT IMPL CHECKED CISO & VERIFIED]] -> 0 | BM7: =IFERROR(ROUND(SUMIF(#REF!,CALCULATION[[#This Row],[PACKFORMULA]],GLOBAL_DATA[Global Progress rate])/CALCULATION[[#This Row],[IN SCOPE]],4),0) -> 0 | BN7: =COUNTIFS(#REF!,CALCULATION[[#This Row],[PACKFORMULA]],GLOBAL_DATA[Impl_Date],">31/12/2019",GLOBAL_DATA[Impl_Date],"<01/01/2021",GLOBAL_DATA[Impl_Yes],1) -> #REF! | BO7: =COUNTIFS(#REF!,CALCULATION[[#This Row],[PACKFORMULA]],GLOBAL_DATA[Impl_Date],">31/12/2019",GLOBAL_DATA[Impl_Date],"<01/01/2021") -> #REF! | BP7: =IFERROR(ROUND(SUMIFS(GLOBAL_DATA[Target scope],#REF!,CALCULATION[[#This Row],[PACKFORMULA]],GLOBAL_DATA[Impl_Date],">31/12/2019",GLOBAL_DATA[Impl_Date],"<01/01/2021")/CALCULATION[[#This Row],[IN SCOPE]],4),0) -> 0 | BQ7: =COUNTIFS(#REF!,CALCULATION[[#This Row],[PACKFORMULA]],GLOBAL_DATA[Impl_Date],">31/12/2020",GLOBAL_DATA[Impl_Date],"<01/01/2022",GLOBAL_DATA[Impl_Yes],1) -> #REF! | BR7: =COUNTIFS(#REF!,CALCULATION[[#This Row],[PACKFORMULA]],GLOBAL_DATA[Impl_Date],">31/12/2020",GLOBAL_DATA[Impl_Date],"<01/01/2022") -> #REF! | BS7: =IFERROR(ROUND(SUMIFS(GLOBAL_DATA[Target scope],#REF!,CALCULATION[[#This Row],[PACKFORMULA]],GLOBAL_DATA[Impl_Date],">31/12/2020",GLOBAL_DATA[Impl_Date],"<01/01/2022")/CALCULATION[[#This Row],[IN SCOPE]],4),0) -> 0 | BT7: =COUNTIFS(#REF!,CALCULATION[[#This Row],[PACKFORMULA]],GLOBAL_DATA[Impl_Date],">31/12/2021",GLOBAL_DATA[Impl_Date],"<01/01/2023",GLOBAL_DATA[Impl_Yes],1) -> #REF! | BU7: =COUNTIFS(#REF!,CALCULATION[[#This Row],[PACKFORMULA]],GLOBAL_DATA[Impl_Date],">31/12/2021",GLOBAL_DATA[Impl_Date],"<01/01/2023") -> #REF! | BV7: =IFERROR(ROUND(SUMIFS(GLOBAL_DATA[Target scope],#REF!,CALCULATION[[#This Row],[PACKFORMULA]],GLOBAL_DATA[Impl_Date],">31/12/2021",GLOBAL_DATA[Impl_Date],"<01/01/2023")/CALCULATION[[#This Row],[IN SCOPE]],4),0) -> 0 | BW7: =COUNTIFS(#REF!,CALCULATION[[#This Row],[PACKFORMULA]],GLOBAL_DATA[Impl_Date],">31/12/2022",GLOBAL_DATA[Impl_Date],"<01/01/2024",GLOBAL_DATA[Impl_Yes],1) -> #REF! | BX7: =COUNTIFS(#REF!,CALCULATION[[#This Row],[PACKFORMULA]],GLOBAL_DATA[Impl_Date],">31/12/2022") -> #REF! | BY7: =IFERROR(ROUND(SUMIFS(GLOBAL_DATA[Target scope],#REF!,CALCULATION[[#This Row],[PACKFORMULA]],GLOBAL_DATA[Impl_Date],">31/12/2022",GLOBAL_DATA[Impl_Date],"<01/01/2024")/CALCULATION[[#This Row],[IN SCOPE]],4),0) -> 0 | BZ7: =CALCULATION[[#This Row],[% 2020 COMMITTED]]+CALCULATION[[#This Row],[% 2021 COMMITTED]]+CALCULATION[[#This Row],[% 2022 COMMITTED]]+CALCULATION[[#This Row],[% 2023 COMMITTED]] -> 0 | CA7: =CALCULATION[[#This Row],[CURRENT IMPLEMENTATION]] -> 0 | CB7: =CALCULATION[[#This Row],[% 2020 COMMITTED]]+CALCULATION[[#This Row],[% 2021 COMMITTED]]+CALCULATION[[#This Row],[% 2022 COMMITTED]]+CALCULATION[[#This Row],[% 2023 COMMITTED]]-CALCULATION[[#This Row],[CURRENT IMPLEMENTATION]] -> 0
A8: Exposed services | B8: Exposed services | C8: 1 | D8: 0.05 | E8: =COUNTIFS(#REF!,CALCULATION[[#This Row],[PACKFORMULA]],#REF!,"P0",GLOBAL_DATA[Status],Status_No_Project) -> #REF! | F8: =COUNTIFS(#REF!,CALCULATION[[#This Row],[PACKFORMULA]],#REF!,"P1",GLOBAL_DATA[Status],Status_No_Project) -> #REF! | G8: =COUNTIFS(#REF!,CALCULATION[[#This Row],[PACKFORMULA]],#REF!,">=P2",GLOBAL_DATA[Status],Status_No_Project) -> #REF! | H8: =COUNTIFS(#REF!,CALCULATION[[#This Row],[PACKFORMULA]],GLOBAL_DATA[Status],CALCULATION[[#Headers],[NO PROJECT]]) -> #REF! | I8: =COUNTIFS(#REF!,CALCULATION[[#This Row],[PACKFORMULA]],#REF!,"P0",GLOBAL_DATA[Status],DATA!$J$4) -> #REF! | J8: =COUNTIFS(#REF!,CALCULATION[[#This Row],[PACKFORMULA]],#REF!,"P1",GLOBAL_DATA[Status],DATA!$J$4) -> #REF! | K8: =COUNTIFS(#REF!,CALCULATION[[#This Row],[PACKFORMULA]],#REF!,">=P2",GLOBAL_DATA[Status],DATA!$J$4) -> #REF! | L8: =COUNTIFS(#REF!,CALCULATION[[#This Row],[PACKFORMULA]],GLOBAL_DATA[Status],CALCULATION[[#Headers],[TO BE STARTED]]) -> #REF! | M8: =COUNTIFS(#REF!,CALCULATION[[#This Row],[PACKFORMULA]],#REF!,"P0",GLOBAL_DATA[Status],DATA!$J$5) -> #REF! | N8: =COUNTIFS(#REF!,CALCULATION[[#This Row],[PACKFORMULA]],#REF!,"P1",GLOBAL_DATA[Status],DATA!$J$5) -> #REF! | O8: =COUNTIFS(#REF!,CALCULATION[[#This Row],[PACKFORMULA]],#REF!,">=P2",GLOBAL_DATA[Status],DATA!$J$5) -> #REF! | P8: =COUNTIFS(#REF!,CALCULATION[[#This Row],[PACKFORMULA]],GLOBAL_DATA[Status],CALCULATION[[#Headers],[IN PROGRESS]]) -> #REF! | Q8: =COUNTIFS(#REF!,CALCULATION[[#This Row],[PACKFORMULA]],#REF!,"P0",GLOBAL_DATA[Status],DATA!$J$6) -> #REF! | R8: =COUNTIFS(#REF!,CALCULATION[[#This Row],[PACKFORMULA]],#REF!,"P1",GLOBAL_DATA[Status],DATA!$J$6) -> #REF! | S8: =COUNTIFS(#REF!,CALCULATION[[#This Row],[PACKFORMULA]],#REF!,">=P2",GLOBAL_DATA[Status],DATA!$J$6) -> #REF! | T8: =COUNTIFS(#REF!,CALCULATION[[#This Row],[PACKFORMULA]],GLOBAL_DATA[Status],CALCULATION[[#Headers],[DONE]]) -> #REF! | U8: =COUNTIFS(#REF!,CALCULATION[[#This Row],[PACKFORMULA]],#REF!,"P0",GLOBAL_DATA[Status],DATA!$J$7) -> #REF! | V8: =COUNTIFS(#REF!,CALCULATION[[#This Row],[PACKFORMULA]],#REF!,"P1",GLOBAL_DATA[Status],DATA!$J$7) -> #REF! | W8: =COUNTIFS(#REF!,CALCULATION[[#This Row],[PACKFORMULA]],#REF!,">=P2",GLOBAL_DATA[Status],DATA!$J$7) -> #REF! | X8: =COUNTIFS(#REF!,CALCULATION[[#This Row],[PACKFORMULA]],GLOBAL_DATA[Status],CALCULATION[[#Headers],[CHECKED CISO]]) -> #REF! | Y8: =COUNTIFS(#REF!,CALCULATION[[#This Row],[PACKFORMULA]],#REF!,"P0",GLOBAL_DATA[Status],DATA!$J$8) -> #REF! | Z8: =COUNTIFS(#REF!,CALCULATION[[#This Row],[PACKFORMULA]],#REF!,"P1",GLOBAL_DATA[Status],DATA!$J$8) -> #REF! | AA8: =COUNTIFS(#REF!,CALCULATION[[#This Row],[PACKFORMULA]],#REF!,">=P2",GLOBAL_DATA[Status],DATA!$J$8) -> #REF! | AB8: =COUNTIFS(#REF!,CALCULATION[[#This Row],[PACKFORMULA]],GLOBAL_DATA[Status],CALCULATION[[#Headers],[VERIFIED]]) -> #REF! | AC8: =COUNTIFS(#REF!,CALCULATION[[#This Row],[PACKFORMULA]],#REF!,"P0",GLOBAL_DATA[Status],"<>"&Status_No_Project) -> #REF! | AD8: =COUNTIFS(#REF!,CALCULATION[[#This Row],[PACKFORMULA]],#REF!,"P1",GLOBAL_DATA[Status],"<>"&Status_No_Project) -> #REF! | AE8: =COUNTIFS(#REF!,CALCULATION[[#This Row],[PACKFORMULA]],#REF!,">=P2",GLOBAL_DATA[Status],"<>"&Status_No_Project) -> #REF! | AF8: =COUNTIFS(#REF!,CALCULATION[[#This Row],[PACKFORMULA]],GLOBAL_DATA[Status],"<>"&Status_No_Project) -> #REF! | AG8: =COUNTIFS(#REF!,CALCULATION[[#This Row],[PACKFORMULA]],#REF!,"P0",GLOBAL_DATA[Target status],DATA!$J$12) -> #REF! | AH8: =COUNTIFS(#REF!,CALCULATION[[#This Row],[PACKFORMULA]],#REF!,"P1",GLOBAL_DATA[Target status],DATA!$J$12) -> #REF! | AI8: =COUNTIFS(#REF!,CALCULATION[[#This Row],[PACKFORMULA]],#REF!,">P1",GLOBAL_DATA[Target status],DATA!$J$12) -> #REF! | AJ8: =COUNTIFS(#REF!,CALCULATION[[#This Row],[PACKFORMULA]],GLOBAL_DATA[Target status],DATA!$J$12) -> #REF! | AK8: =COUNTIFS(#REF!,CALCULATION[[#This Row],[PACKFORMULA]],GLOBAL_DATA[Target status],DATA!$J$13,#REF!,"P0") -> #REF! | AL8: =COUNTIFS(#REF!,CALCULATION[[#This Row],[PACKFORMULA]],GLOBAL_DATA[Target status],DATA!$J$13,#REF!,"P1") -> #REF! | AM8: =COUNTIFS(#REF!,CALCULATION[[#This Row],[PACKFORMULA]],GLOBAL_DATA[Target status],DATA!$J$13,#REF!,">P1") -> #REF! | AN8: =COUNTIFS(#REF!,CALCULATION[[#This Row],[PACKFORMULA]],GLOBAL_DATA[Target status],CALCULATION[[#Headers],[PARTIAL IMPLEMENTATION + RA]]) -> #REF! | AO8: =1-CALCULATION[[#This Row],[IN SCOPE %]] -> 1 | AP8: =COUNTIFS(#REF!,CALCULATION[[#This Row],[PACKFORMULA]],GLOBAL_DATA[Target status],CALCULATION[[#Headers],[FULL IMPLEMENTATION]]) -> #REF! | AQ8: =COUNTIFS(#REF!,CALCULATION[[#This Row],[PACKFORMULA]],GLOBAL_DATA[Target status],CALCULATION[[#Headers],[NOT APPLICABLE]]) -> #REF! | AR8: =COUNTIFS(#REF!,CALCULATION[[#This Row],[PACKFORMULA]],#REF!,"P0",GLOBAL_DATA[Target status],DATA!$J$13)+COUNTIFS(#REF!,CALCULATION[[#This Row],[PACKFORMULA]],#REF!,"P0",GLOBAL_DATA[Target status],DATA!$J$14)-CALCULATION[[#This Row],[COMPLETED P0]] -> #REF! | AS8: =COUNTIFS(#REF!,CALCULATION[[#This Row],[PACKFORMULA]],#REF!,"P1",GLOBAL_DATA[Target status],DATA!$J$13)+COUNTIFS(#REF!,CALCULATION[[#This Row],[PACKFORMULA]],#REF!,"P1",GLOBAL_DATA[Target status],DATA!$J$14)-CALCULATION[[#This Row],[COMPLETED P1]] -> #REF! | AT8: =COUNTIFS(#REF!,CALCULATION[[#This Row],[PACKFORMULA]],#REF!,">P1",GLOBAL_DATA[Target status],DATA!$J$13)+COUNTIFS(#REF!,CALCULATION[[#This Row],[PACKFORMULA]],#REF!,">P1",GLOBAL_DATA[Target status],DATA!$J$14)-CALCULATION[[#This Row],[COMPLETED P2&3]] -> #REF! | AU8: =CALCULATION[[#This Row],[PARTIAL IMPLEMENTATION + RA]]+CALCULATION[[#This Row],[FULL IMPLEMENTATION]] -> #REF! | AV8: =CALCULATION[[#This Row],[IN PROGRESS]]+CALCULATION[[#This Row],[TO BE STARTED]] -> #REF! | AW8: =COUNTIFS(#REF!,CALCULATION[[#This Row],[PACKFORMULA]],#REF!,"P0",GLOBAL_DATA[Impl_Yes],1) -> #REF! | AX8: =COUNTIFS(#REF!,CALCULATION[[#This Row],[PACKFORMULA]],#REF!,"P1",GLOBAL_DATA[Impl_Yes],1) -> #REF! | AY8: =COUNTIFS(#REF!,CALCULATION[[#This Row],[PACKFORMULA]],#REF!,">P1",GLOBAL_DATA[Impl_Yes],1) -> #REF! | AZ8: =COUNTIFS(#REF!,CALCULATION[[#This Row],[PACKFORMULA]],GLOBAL_DATA[Impl_Yes],1) -> #REF! | BA8: =IFERROR(CALCULATION[[#This Row],[COMPLETED]]/CALCULATION[[#This Row],[IN SCOPE]],0) -> 0 | BB8: =COUNTIFS(#REF!,CALCULATION[[#This Row],[PACKFORMULA]],GLOBAL_DATA[Target status],"<>"&DATA!$J$15) -> #REF! | BC8: =IFERROR(ROUND(SUMIFS(GLOBAL_DATA[Target scope],#REF!,CALCULATION[[#This Row],[PACKFORMULA]],GLOBAL_DATA[Target status],"<>"&DATA!$J$15)/CALCULATION[[#This Row],[IN SCOPE]],4),0) -> 0 | BD8: =IFERROR(ROUND(CALCULATION[[#This Row],[RISK ACCEPTED (FULL MEASURE)]]/CALCULATION[[#This Row],[IN SCOPE]],4),0) -> 0 | BE8: =IF((COUNTIFS(#REF!,CALCULATION[[#This Row],[PACKFORMULA]],GLOBAL_DATA[CISO Comments]," ")>0),(COUNTIFS(#REF!,CALCULATION[[#This Row],[PACKFORMULA]],GLOBAL_DATA[CISO Comments],"<>"&DATA!$A$15)),(COUNTIFS(#REF!,CALCULATION[[#This Row],[PACKFORMULA]],GLOBAL_DATA[CISO Comments]," ")&" CISO assessment still empty")) -> #REF! | BF8: =COUNTIFS(#REF!,CALCULATION[[#This Row],[PACKFORMULA]],GLOBAL_DATA[CISO assessment],"<>"&DATA!$A$15)-COUNTIFS(#REF!,CALCULATION[[#This Row],[PACKFORMULA]],GLOBAL_DATA[CISO assessment],"") -> #REF! | BG8: =COUNTIFS(#REF!,CALCULATION[[#This Row],[PACKFORMULA]],GLOBAL_DATA[CISO assessment],DATA!$A$15)+COUNTIFS(#REF!,CALCULATION[[#This Row],[PACKFORMULA]],GLOBAL_DATA[CISO assessment],"") -> #REF! | BH8: =IFERROR(ROUND(SUMIF(#REF!,CALCULATION[[#This Row],[PACKFORMULA]],GLOBAL_DATA[Target scope])/CALCULATION[[#This Row],[IN SCOPE]],4),0) -> 0 | BI8: =IFERROR(ROUND(SUMIFS(GLOBAL_DATA[Global Progress rate],#REF!,CALCULATION[[#This Row],[PACKFORMULA]],GLOBAL_DATA[Status],DATA!$J$6)/CALCULATION[[#This Row],[IN SCOPE]],4),0) -> 0 | BJ8: =IF((IFERROR(ROUND(SUMIFS(GLOBAL_DATA[Global Progress rate],#REF!,CALCULATION[[#This Row],[PACKFORMULA]],GLOBAL_DATA[Impl_Yes],1)/CALCULATION[[#This Row],[IN SCOPE]],4),0)-CALCULATION[[#This Row],[CURRENT IMPL DONE ]])<0,0,(IFERROR(ROUND(SUMIFS(GLOBAL_DATA[Global Progress rate],#REF!,CALCULATION[[#This Row],[PACKFORMULA]],GLOBAL_DATA[Impl_Yes],1)/CALCULATION[[#This Row],[IN SCOPE]],4),0)-CALCULATION[[#This Row],[CURRENT IMPL DONE ]])) -> 0 | BK8: =CALCULATION[[#This Row],[CURRENT IMPL DONE ]]+CALCULATION[[#This Row],[CURRENT IMPL CHECKED CISO & VERIFIED]] -> 0 | BL8: =CALCULATION[[#This Row],[CURRENT IMPLEMENTATION]]-CALCULATION[[#This Row],[CURRENT IMPL DONE ]]-CALCULATION[[#This Row],[CURRENT IMPL CHECKED CISO & VERIFIED]] -> 0 | BM8: =IFERROR(ROUND(SUMIF(#REF!,CALCULATION[[#This Row],[PACKFORMULA]],GLOBAL_DATA[Global Progress rate])/CALCULATION[[#This Row],[IN SCOPE]],4),0) -> 0 | BN8: =COUNTIFS(#REF!,CALCULATION[[#This Row],[PACKFORMULA]],GLOBAL_DATA[Impl_Date],">31/12/2019",GLOBAL_DATA[Impl_Date],"<01/01/2021",GLOBAL_DATA[Impl_Yes],1) -> #REF! | BO8: =COUNTIFS(#REF!,CALCULATION[[#This Row],[PACKFORMULA]],GLOBAL_DATA[Impl_Date],">31/12/2019",GLOBAL_DATA[Impl_Date],"<01/01/2021") -> #REF! | BP8: =IFERROR(ROUND(SUMIFS(GLOBAL_DATA[Target scope],#REF!,CALCULATION[[#This Row],[PACKFORMULA]],GLOBAL_DATA[Impl_Date],">31/12/2019",GLOBAL_DATA[Impl_Date],"<01/01/2021")/CALCULATION[[#This Row],[IN SCOPE]],4),0) -> 0 | BQ8: =COUNTIFS(#REF!,CALCULATION[[#This Row],[PACKFORMULA]],GLOBAL_DATA[Impl_Date],">31/12/2020",GLOBAL_DATA[Impl_Date],"<01/01/2022",GLOBAL_DATA[Impl_Yes],1) -> #REF! | BR8: =COUNTIFS(#REF!,CALCULATION[[#This Row],[PACKFORMULA]],GLOBAL_DATA[Impl_Date],">31/12/2020",GLOBAL_DATA[Impl_Date],"<01/01/2022") -> #REF! | BS8: =IFERROR(ROUND(SUMIFS(GLOBAL_DATA[Target scope],#REF!,CALCULATION[[#This Row],[PACKFORMULA]],GLOBAL_DATA[Impl_Date],">31/12/2020",GLOBAL_DATA[Impl_Date],"<01/01/2022")/CALCULATION[[#This Row],[IN SCOPE]],4),0) -> 0 | BT8: =COUNTIFS(#REF!,CALCULATION[[#This Row],[PACKFORMULA]],GLOBAL_DATA[Impl_Date],">31/12/2021",GLOBAL_DATA[Impl_Date],"<01/01/2023",GLOBAL_DATA[Impl_Yes],1) -> #REF! | BU8: =COUNTIFS(#REF!,CALCULATION[[#This Row],[PACKFORMULA]],GLOBAL_DATA[Impl_Date],">31/12/2021",GLOBAL_DATA[Impl_Date],"<01/01/2023") -> #REF! | BV8: =IFERROR(ROUND(SUMIFS(GLOBAL_DATA[Target scope],#REF!,CALCULATION[[#This Row],[PACKFORMULA]],GLOBAL_DATA[Impl_Date],">31/12/2021",GLOBAL_DATA[Impl_Date],"<01/01/2023")/CALCULATION[[#This Row],[IN SCOPE]],4),0) -> 0 | BW8: =COUNTIFS(#REF!,CALCULATION[[#This Row],[PACKFORMULA]],GLOBAL_DATA[Impl_Date],">31/12/2022",GLOBAL_DATA[Impl_Date],"<01/01/2024",GLOBAL_DATA[Impl_Yes],1) -> #REF! | BX8: =COUNTIFS(#REF!,CALCULATION[[#This Row],[PACKFORMULA]],GLOBAL_DATA[Impl_Date],">31/12/2022") -> #REF! | BY8: =IFERROR(ROUND(SUMIFS(GLOBAL_DATA[Target scope],#REF!,CALCULATION[[#This Row],[PACKFORMULA]],GLOBAL_DATA[Impl_Date],">31/12/2022",GLOBAL_DATA[Impl_Date],"<01/01/2024")/CALCULATION[[#This Row],[IN SCOPE]],4),0) -> 0 | BZ8: =CALCULATION[[#This Row],[% 2020 COMMITTED]]+CALCULATION[[#This Row],[% 2021 COMMITTED]]+CALCULATION[[#This Row],[% 2022 COMMITTED]]+CALCULATION[[#This Row],[% 2023 COMMITTED]] -> 0 | CA8: =CALCULATION[[#This Row],[CURRENT IMPLEMENTATION]] -> 0 | CB8: =CALCULATION[[#This Row],[% 2020 COMMITTED]]+CALCULATION[[#This Row],[% 2021 COMMITTED]]+CALCULATION[[#This Row],[% 2022 COMMITTED]]+CALCULATION[[#This Row],[% 2023 COMMITTED]]-CALCULATION[[#This Row],[CURRENT IMPLEMENTATION]] -> 0
A9: Cloud | B9: Cloud | C9: 1 | D9: 0.05 | E9: =COUNTIFS(#REF!,CALCULATION[[#This Row],[PACKFORMULA]],#REF!,"P0",GLOBAL_DATA[Status],Status_No_Project) -> #REF! | F9: =COUNTIFS(#REF!,CALCULATION[[#This Row],[PACKFORMULA]],#REF!,"P1",GLOBAL_DATA[Status],Status_No_Project) -> #REF! | G9: =COUNTIFS(#REF!,CALCULATION[[#This Row],[PACKFORMULA]],#REF!,">=P2",GLOBAL_DATA[Status],Status_No_Project) -> #REF! | H9: =COUNTIFS(#REF!,CALCULATION[[#This Row],[PACKFORMULA]],GLOBAL_DATA[Status],CALCULATION[[#Headers],[NO PROJECT]]) -> #REF! | I9: =COUNTIFS(#REF!,CALCULATION[[#This Row],[PACKFORMULA]],#REF!,"P0",GLOBAL_DATA[Status],DATA!$J$4) -> #REF! | J9: =COUNTIFS(#REF!,CALCULATION[[#This Row],[PACKFORMULA]],#REF!,"P1",GLOBAL_DATA[Status],DATA!$J$4) -> #REF! | K9: =COUNTIFS(#REF!,CALCULATION[[#This Row],[PACKFORMULA]],#REF!,">=P2",GLOBAL_DATA[Status],DATA!$J$4) -> #REF! | L9: =COUNTIFS(#REF!,CALCULATION[[#This Row],[PACKFORMULA]],GLOBAL_DATA[Status],CALCULATION[[#Headers],[TO BE STARTED]]) -> #REF! | M9: =COUNTIFS(#REF!,CALCULATION[[#This Row],[PACKFORMULA]],#REF!,"P0",GLOBAL_DATA[Status],DATA!$J$5) -> #REF! | N9: =COUNTIFS(#REF!,CALCULATION[[#This Row],[PACKFORMULA]],#REF!,"P1",GLOBAL_DATA[Status],DATA!$J$5) -> #REF! | O9: =COUNTIFS(#REF!,CALCULATION[[#This Row],[PACKFORMULA]],#REF!,">=P2",GLOBAL_DATA[Status],DATA!$J$5) -> #REF! | P9: =COUNTIFS(#REF!,CALCULATION[[#This Row],[PACKFORMULA]],GLOBAL_DATA[Status],CALCULATION[[#Headers],[IN PROGRESS]]) -> #REF! | Q9: =COUNTIFS(#REF!,CALCULATION[[#This Row],[PACKFORMULA]],#REF!,"P0",GLOBAL_DATA[Status],DATA!$J$6) -> #REF! | R9: =COUNTIFS(#REF!,CALCULATION[[#This Row],[PACKFORMULA]],#REF!,"P1",GLOBAL_DATA[Status],DATA!$J$6) -> #REF! | S9: =COUNTIFS(#REF!,CALCULATION[[#This Row],[PACKFORMULA]],#REF!,">=P2",GLOBAL_DATA[Status],DATA!$J$6) -> #REF! | T9: =COUNTIFS(#REF!,CALCULATION[[#This Row],[PACKFORMULA]],GLOBAL_DATA[Status],CALCULATION[[#Headers],[DONE]]) -> #REF! | U9: =COUNTIFS(#REF!,CALCULATION[[#This Row],[PACKFORMULA]],#REF!,"P0",GLOBAL_DATA[Status],DATA!$J$7) -> #REF! | V9: =COUNTIFS(#REF!,CALCULATION[[#This Row],[PACKFORMULA]],#REF!,"P1",GLOBAL_DATA[Status],DATA!$J$7) -> #REF! | W9: =COUNTIFS(#REF!,CALCULATION[[#This Row],[PACKFORMULA]],#REF!,">=P2",GLOBAL_DATA[Status],DATA!$J$7) -> #REF! | X9: =COUNTIFS(#REF!,CALCULATION[[#This Row],[PACKFORMULA]],GLOBAL_DATA[Status],CALCULATION[[#Headers],[CHECKED CISO]]) -> #REF! | Y9: =COUNTIFS(#REF!,CALCULATION[[#This Row],[PACKFORMULA]],#REF!,"P0",GLOBAL_DATA[Status],DATA!$J$8) -> #REF! | Z9: =COUNTIFS(#REF!,CALCULATION[[#This Row],[PACKFORMULA]],#REF!,"P1",GLOBAL_DATA[Status],DATA!$J$8) -> #REF! | AA9: =COUNTIFS(#REF!,CALCULATION[[#This Row],[PACKFORMULA]],#REF!,">=P2",GLOBAL_DATA[Status],DATA!$J$8) -> #REF! | AB9: =COUNTIFS(#REF!,CALCULATION[[#This Row],[PACKFORMULA]],GLOBAL_DATA[Status],CALCULATION[[#Headers],[VERIFIED]]) -> #REF! | AC9: =COUNTIFS(#REF!,CALCULATION[[#This Row],[PACKFORMULA]],#REF!,"P0",GLOBAL_DATA[Status],"<>"&Status_No_Project) -> #REF! | AD9: =COUNTIFS(#REF!,CALCULATION[[#This Row],[PACKFORMULA]],#REF!,"P1",GLOBAL_DATA[Status],"<>"&Status_No_Project) -> #REF! | AE9: =COUNTIFS(#REF!,CALCULATION[[#This Row],[PACKFORMULA]],#REF!,">=P2",GLOBAL_DATA[Status],"<>"&Status_No_Project) -> #REF! | AF9: =COUNTIFS(#REF!,CALCULATION[[#This Row],[PACKFORMULA]],GLOBAL_DATA[Status],"<>"&Status_No_Project) -> #REF! | AG9: =COUNTIFS(#REF!,CALCULATION[[#This Row],[PACKFORMULA]],#REF!,"P0",GLOBAL_DATA[Target status],DATA!$J$12) -> #REF! | AH9: =COUNTIFS(#REF!,CALCULATION[[#This Row],[PACKFORMULA]],#REF!,"P1",GLOBAL_DATA[Target status],DATA!$J$12) -> #REF! | AI9: =COUNTIFS(#REF!,CALCULATION[[#This Row],[PACKFORMULA]],#REF!,">P1",GLOBAL_DATA[Target status],DATA!$J$12) -> #REF! | AJ9: =COUNTIFS(#REF!,CALCULATION[[#This Row],[PACKFORMULA]],GLOBAL_DATA[Target status],DATA!$J$12) -> #REF! | AK9: =COUNTIFS(#REF!,CALCULATION[[#This Row],[PACKFORMULA]],GLOBAL_DATA[Target status],DATA!$J$13,#REF!,"P0") -> #REF! | AL9: =COUNTIFS(#REF!,CALCULATION[[#This Row],[PACKFORMULA]],GLOBAL_DATA[Target status],DATA!$J$13,#REF!,"P1") -> #REF! | AM9: =COUNTIFS(#REF!,CALCULATION[[#This Row],[PACKFORMULA]],GLOBAL_DATA[Target status],DATA!$J$13,#REF!,">P1") -> #REF! | AN9: =COUNTIFS(#REF!,CALCULATION[[#This Row],[PACKFORMULA]],GLOBAL_DATA[Target status],CALCULATION[[#Headers],[PARTIAL IMPLEMENTATION + RA]]) -> #REF! | AO9: =1-CALCULATION[[#This Row],[IN SCOPE %]] -> 1 | AP9: =COUNTIFS(#REF!,CALCULATION[[#This Row],[PACKFORMULA]],GLOBAL_DATA[Target status],CALCULATION[[#Headers],[FULL IMPLEMENTATION]]) -> #REF! | AQ9: =COUNTIFS(#REF!,CALCULATION[[#This Row],[PACKFORMULA]],GLOBAL_DATA[Target status],CALCULATION[[#Headers],[NOT APPLICABLE]]) -> #REF! | AR9: =COUNTIFS(#REF!,CALCULATION[[#This Row],[PACKFORMULA]],#REF!,"P0",GLOBAL_DATA[Target status],DATA!$J$13)+COUNTIFS(#REF!,CALCULATION[[#This Row],[PACKFORMULA]],#REF!,"P0",GLOBAL_DATA[Target status],DATA!$J$14)-CALCULATION[[#This Row],[COMPLETED P0]] -> #REF! | AS9: =COUNTIFS(#REF!,CALCULATION[[#This Row],[PACKFORMULA]],#REF!,"P1",GLOBAL_DATA[Target status],DATA!$J$13)+COUNTIFS(#REF!,CALCULATION[[#This Row],[PACKFORMULA]],#REF!,"P1",GLOBAL_DATA[Target status],DATA!$J$14)-CALCULATION[[#This Row],[COMPLETED P1]] -> #REF! | AT9: =COUNTIFS(#REF!,CALCULATION[[#This Row],[PACKFORMULA]],#REF!,">P1",GLOBAL_DATA[Target status],DATA!$J$13)+COUNTIFS(#REF!,CALCULATION[[#This Row],[PACKFORMULA]],#REF!,">P1",GLOBAL_DATA[Target status],DATA!$J$14)-CALCULATION[[#This Row],[COMPLETED P2&3]] -> #REF! | AU9: =CALCULATION[[#This Row],[PARTIAL IMPLEMENTATION + RA]]+CALCULATION[[#This Row],[FULL IMPLEMENTATION]] -> #REF! | AV9: =CALCULATION[[#This Row],[IN PROGRESS]]+CALCULATION[[#This Row],[TO BE STARTED]] -> #REF! | AW9: =COUNTIFS(#REF!,CALCULATION[[#This Row],[PACKFORMULA]],#REF!,"P0",GLOBAL_DATA[Impl_Yes],1) -> #REF! | AX9: =COUNTIFS(#REF!,CALCULATION[[#This Row],[PACKFORMULA]],#REF!,"P1",GLOBAL_DATA[Impl_Yes],1) -> #REF! | AY9: =COUNTIFS(#REF!,CALCULATION[[#This Row],[PACKFORMULA]],#REF!,">P1",GLOBAL_DATA[Impl_Yes],1) -> #REF! | AZ9: =COUNTIFS(#REF!,CALCULATION[[#This Row],[PACKFORMULA]],GLOBAL_DATA[Impl_Yes],1) -> #REF! | BA9: =IFERROR(CALCULATION[[#This Row],[COMPLETED]]/CALCULATION[[#This Row],[IN SCOPE]],0) -> 0 | BB9: =COUNTIFS(#REF!,CALCULATION[[#This Row],[PACKFORMULA]],GLOBAL_DATA[Target status],"<>"&DATA!$J$15) -> #REF! | BC9: =IFERROR(ROUND(SUMIFS(GLOBAL_DATA[Target scope],#REF!,CALCULATION[[#This Row],[PACKFORMULA]],GLOBAL_DATA[Target status],"<>"&DATA!$J$15)/CALCULATION[[#This Row],[IN SCOPE]],4),0) -> 0 | BD9: =IFERROR(ROUND(CALCULATION[[#This Row],[RISK ACCEPTED (FULL MEASURE)]]/CALCULATION[[#This Row],[IN SCOPE]],4),0) -> 0 | BE9: =IF((COUNTIFS(#REF!,CALCULATION[[#This Row],[PACKFORMULA]],GLOBAL_DATA[CISO Comments]," ")>0),(COUNTIFS(#REF!,CALCULATION[[#This Row],[PACKFORMULA]],GLOBAL_DATA[CISO Comments],"<>"&DATA!$A$15)),(COUNTIFS(#REF!,CALCULATION[[#This Row],[PACKFORMULA]],GLOBAL_DATA[CISO Comments]," ")&" CISO assessment still empty")) -> #REF! | BF9: =COUNTIFS(#REF!,CALCULATION[[#This Row],[PACKFORMULA]],GLOBAL_DATA[CISO assessment],"<>"&DATA!$A$15)-COUNTIFS(#REF!,CALCULATION[[#This Row],[PACKFORMULA]],GLOBAL_DATA[CISO assessment],"") -> #REF! | BG9: =COUNTIFS(#REF!,CALCULATION[[#This Row],[PACKFORMULA]],GLOBAL_DATA[CISO assessment],DATA!$A$15)+COUNTIFS(#REF!,CALCULATION[[#This Row],[PACKFORMULA]],GLOBAL_DATA[CISO assessment],"") -> #REF! | BH9: =IFERROR(ROUND(SUMIF(#REF!,CALCULATION[[#This Row],[PACKFORMULA]],GLOBAL_DATA[Target scope])/CALCULATION[[#This Row],[IN SCOPE]],4),0) -> 0 | BI9: =IFERROR(ROUND(SUMIFS(GLOBAL_DATA[Global Progress rate],#REF!,CALCULATION[[#This Row],[PACKFORMULA]],GLOBAL_DATA[Status],DATA!$J$6)/CALCULATION[[#This Row],[IN SCOPE]],4),0) -> 0 | BJ9: =IF((IFERROR(ROUND(SUMIFS(GLOBAL_DATA[Global Progress rate],#REF!,CALCULATION[[#This Row],[PACKFORMULA]],GLOBAL_DATA[Impl_Yes],1)/CALCULATION[[#This Row],[IN SCOPE]],4),0)-CALCULATION[[#This Row],[CURRENT IMPL DONE ]])<0,0,(IFERROR(ROUND(SUMIFS(GLOBAL_DATA[Global Progress rate],#REF!,CALCULATION[[#This Row],[PACKFORMULA]],GLOBAL_DATA[Impl_Yes],1)/CALCULATION[[#This Row],[IN SCOPE]],4),0)-CALCULATION[[#This Row],[CURRENT IMPL DONE ]])) -> 0 | BK9: =CALCULATION[[#This Row],[CURRENT IMPL DONE ]]+CALCULATION[[#This Row],[CURRENT IMPL CHECKED CISO & VERIFIED]] -> 0 | BL9: =CALCULATION[[#This Row],[CURRENT IMPLEMENTATION]]-CALCULATION[[#This Row],[CURRENT IMPL DONE ]]-CALCULATION[[#This Row],[CURRENT IMPL CHECKED CISO & VERIFIED]] -> 0 | BM9: =IFERROR(ROUND(SUMIF(#REF!,CALCULATION[[#This Row],[PACKFORMULA]],GLOBAL_DATA[Global Progress rate])/CALCULATION[[#This Row],[IN SCOPE]],4),0) -> 0 | BN9: =COUNTIFS(#REF!,CALCULATION[[#This Row],[PACKFORMULA]],GLOBAL_DATA[Impl_Date],">31/12/2019",GLOBAL_DATA[Impl_Date],"<01/01/2021",GLOBAL_DATA[Impl_Yes],1) -> #REF! | BO9: =COUNTIFS(#REF!,CALCULATION[[#This Row],[PACKFORMULA]],GLOBAL_DATA[Impl_Date],">31/12/2019",GLOBAL_DATA[Impl_Date],"<01/01/2021") -> #REF! | BP9: =IFERROR(ROUND(SUMIFS(GLOBAL_DATA[Target scope],#REF!,CALCULATION[[#This Row],[PACKFORMULA]],GLOBAL_DATA[Impl_Date],">31/12/2019",GLOBAL_DATA[Impl_Date],"<01/01/2021")/CALCULATION[[#This Row],[IN SCOPE]],4),0) -> 0 | BQ9: =COUNTIFS(#REF!,CALCULATION[[#This Row],[PACKFORMULA]],GLOBAL_DATA[Impl_Date],">31/12/2020",GLOBAL_DATA[Impl_Date],"<01/01/2022",GLOBAL_DATA[Impl_Yes],1) -> #REF! | BR9: =COUNTIFS(#REF!,CALCULATION[[#This Row],[PACKFORMULA]],GLOBAL_DATA[Impl_Date],">31/12/2020",GLOBAL_DATA[Impl_Date],"<01/01/2022") -> #REF! | BS9: =IFERROR(ROUND(SUMIFS(GLOBAL_DATA[Target scope],#REF!,CALCULATION[[#This Row],[PACKFORMULA]],GLOBAL_DATA[Impl_Date],">31/12/2020",GLOBAL_DATA[Impl_Date],"<01/01/2022")/CALCULATION[[#This Row],[IN SCOPE]],4),0) -> 0 | BT9: =COUNTIFS(#REF!,CALCULATION[[#This Row],[PACKFORMULA]],GLOBAL_DATA[Impl_Date],">31/12/2021",GLOBAL_DATA[Impl_Date],"<01/01/2023",GLOBAL_DATA[Impl_Yes],1) -> #REF! | BU9: =COUNTIFS(#REF!,CALCULATION[[#This Row],[PACKFORMULA]],GLOBAL_DATA[Impl_Date],">31/12/2021",GLOBAL_DATA[Impl_Date],"<01/01/2023") -> #REF! | BV9: =IFERROR(ROUND(SUMIFS(GLOBAL_DATA[Target scope],#REF!,CALCULATION[[#This Row],[PACKFORMULA]],GLOBAL_DATA[Impl_Date],">31/12/2021",GLOBAL_DATA[Impl_Date],"<01/01/2023")/CALCULATION[[#This Row],[IN SCOPE]],4),0) -> 0 | BW9: =COUNTIFS(#REF!,CALCULATION[[#This Row],[PACKFORMULA]],GLOBAL_DATA[Impl_Date],">31/12/2022",GLOBAL_DATA[Impl_Date],"<01/01/2024",GLOBAL_DATA[Impl_Yes],1) -> #REF! | BX9: =COUNTIFS(#REF!,CALCULATION[[#This Row],[PACKFORMULA]],GLOBAL_DATA[Impl_Date],">31/12/2022") -> #REF! | BY9: =IFERROR(ROUND(SUMIFS(GLOBAL_DATA[Target scope],#REF!,CALCULATION[[#This Row],[PACKFORMULA]],GLOBAL_DATA[Impl_Date],">31/12/2022",GLOBAL_DATA[Impl_Date],"<01/01/2024")/CALCULATION[[#This Row],[IN SCOPE]],4),0) -> 0 | BZ9: =CALCULATION[[#This Row],[% 2020 COMMITTED]]+CALCULATION[[#This Row],[% 2021 COMMITTED]]+CALCULATION[[#This Row],[% 2022 COMMITTED]]+CALCULATION[[#This Row],[% 2023 COMMITTED]] -> 0 | CA9: =CALCULATION[[#This Row],[CURRENT IMPLEMENTATION]] -> 0 | CB9: =CALCULATION[[#This Row],[% 2020 COMMITTED]]+CALCULATION[[#This Row],[% 2021 COMMITTED]]+CALCULATION[[#This Row],[% 2022 COMMITTED]]+CALCULATION[[#This Row],[% 2023 COMMITTED]]-CALCULATION[[#This Row],[CURRENT IMPLEMENTATION]] -> 0
A10: Third parties and supply chain | B10: Third parties and supply chain | C10: 1 | D10: 0.05 | E10: =COUNTIFS(#REF!,CALCULATION[[#This Row],[PACKFORMULA]],#REF!,"P0",GLOBAL_DATA[Status],Status_No_Project) -> #REF! | F10: =COUNTIFS(#REF!,CALCULATION[[#This Row],[PACKFORMULA]],#REF!,"P1",GLOBAL_DATA[Status],Status_No_Project) -> #REF! | G10: =COUNTIFS(#REF!,CALCULATION[[#This Row],[PACKFORMULA]],#REF!,">=P2",GLOBAL_DATA[Status],Status_No_Project) -> #REF! | H10: =COUNTIFS(#REF!,CALCULATION[[#This Row],[PACKFORMULA]],GLOBAL_DATA[Status],CALCULATION[[#Headers],[NO PROJECT]]) -> #REF! | I10: =COUNTIFS(#REF!,CALCULATION[[#This Row],[PACKFORMULA]],#REF!,"P0",GLOBAL_DATA[Status],DATA!$J$4) -> #REF! | J10: =COUNTIFS(#REF!,CALCULATION[[#This Row],[PACKFORMULA]],#REF!,"P1",GLOBAL_DATA[Status],DATA!$J$4) -> #REF! | K10: =COUNTIFS(#REF!,CALCULATION[[#This Row],[PACKFORMULA]],#REF!,">=P2",GLOBAL_DATA[Status],DATA!$J$4) -> #REF! | L10: =COUNTIFS(#REF!,CALCULATION[[#This Row],[PACKFORMULA]],GLOBAL_DATA[Status],CALCULATION[[#Headers],[TO BE STARTED]]) -> #REF! | M10: =COUNTIFS(#REF!,CALCULATION[[#This Row],[PACKFORMULA]],#REF!,"P0",GLOBAL_DATA[Status],DATA!$J$5) -> #REF! | N10: =COUNTIFS(#REF!,CALCULATION[[#This Row],[PACKFORMULA]],#REF!,"P1",GLOBAL_DATA[Status],DATA!$J$5) -> #REF! | O10: =COUNTIFS(#REF!,CALCULATION[[#This Row],[PACKFORMULA]],#REF!,">=P2",GLOBAL_DATA[Status],DATA!$J$5) -> #REF! | P10: =COUNTIFS(#REF!,CALCULATION[[#This Row],[PACKFORMULA]],GLOBAL_DATA[Status],CALCULATION[[#Headers],[IN PROGRESS]]) -> #REF! | Q10: =COUNTIFS(#REF!,CALCULATION[[#This Row],[PACKFORMULA]],#REF!,"P0",GLOBAL_DATA[Status],DATA!$J$6) -> #REF! | R10: =COUNTIFS(#REF!,CALCULATION[[#This Row],[PACKFORMULA]],#REF!,"P1",GLOBAL_DATA[Status],DATA!$J$6) -> #REF! | S10: =COUNTIFS(#REF!,CALCULATION[[#This Row],[PACKFORMULA]],#REF!,">=P2",GLOBAL_DATA[Status],DATA!$J$6) -> #REF! | T10: =COUNTIFS(#REF!,CALCULATION[[#This Row],[PACKFORMULA]],GLOBAL_DATA[Status],CALCULATION[[#Headers],[DONE]]) -> #REF! | U10: =COUNTIFS(#REF!,CALCULATION[[#This Row],[PACKFORMULA]],#REF!,"P0",GLOBAL_DATA[Status],DATA!$J$7) -> #REF! | V10: =COUNTIFS(#REF!,CALCULATION[[#This Row],[PACKFORMULA]],#REF!,"P1",GLOBAL_DATA[Status],DATA!$J$7) -> #REF! | W10: =COUNTIFS(#REF!,CALCULATION[[#This Row],[PACKFORMULA]],#REF!,">=P2",GLOBAL_DATA[Status],DATA!$J$7) -> #REF! | X10: =COUNTIFS(#REF!,CALCULATION[[#This Row],[PACKFORMULA]],GLOBAL_DATA[Status],CALCULATION[[#Headers],[CHECKED CISO]]) -> #REF! | Y10: =COUNTIFS(#REF!,CALCULATION[[#This Row],[PACKFORMULA]],#REF!,"P0",GLOBAL_DATA[Status],DATA!$J$8) -> #REF! | Z10: =COUNTIFS(#REF!,CALCULATION[[#This Row],[PACKFORMULA]],#REF!,"P1",GLOBAL_DATA[Status],DATA!$J$8) -> #REF! | AA10: =COUNTIFS(#REF!,CALCULATION[[#This Row],[PACKFORMULA]],#REF!,">=P2",GLOBAL_DATA[Status],DATA!$J$8) -> #REF! | AB10: =COUNTIFS(#REF!,CALCULATION[[#This Row],[PACKFORMULA]],GLOBAL_DATA[Status],CALCULATION[[#Headers],[VERIFIED]]) -> #REF! | AC10: =COUNTIFS(#REF!,CALCULATION[[#This Row],[PACKFORMULA]],#REF!,"P0",GLOBAL_DATA[Status],"<>"&Status_No_Project) -> #REF! | AD10: =COUNTIFS(#REF!,CALCULATION[[#This Row],[PACKFORMULA]],#REF!,"P1",GLOBAL_DATA[Status],"<>"&Status_No_Project) -> #REF! | AE10: =COUNTIFS(#REF!,CALCULATION[[#This Row],[PACKFORMULA]],#REF!,">=P2",GLOBAL_DATA[Status],"<>"&Status_No_Project) -> #REF! | AF10: =COUNTIFS(#REF!,CALCULATION[[#This Row],[PACKFORMULA]],GLOBAL_DATA[Status],"<>"&Status_No_Project) -> #REF! | AG10: =COUNTIFS(#REF!,CALCULATION[[#This Row],[PACKFORMULA]],#REF!,"P0",GLOBAL_DATA[Target status],DATA!$J$12) -> #REF! | AH10: =COUNTIFS(#REF!,CALCULATION[[#This Row],[PACKFORMULA]],#REF!,"P1",GLOBAL_DATA[Target status],DATA!$J$12) -> #REF! | AI10: =COUNTIFS(#REF!,CALCULATION[[#This Row],[PACKFORMULA]],#REF!,">P1",GLOBAL_DATA[Target status],DATA!$J$12) -> #REF! | AJ10: =COUNTIFS(#REF!,CALCULATION[[#This Row],[PACKFORMULA]],GLOBAL_DATA[Target status],DATA!$J$12) -> #REF! | AK10: =COUNTIFS(#REF!,CALCULATION[[#This Row],[PACKFORMULA]],GLOBAL_DATA[Target status],DATA!$J$13,#REF!,"P0") -> #REF! | AL10: =COUNTIFS(#REF!,CALCULATION[[#This Row],[PACKFORMULA]],GLOBAL_DATA[Target status],DATA!$J$13,#REF!,"P1") -> #REF! | AM10: =COUNTIFS(#REF!,CALCULATION[[#This Row],[PACKFORMULA]],GLOBAL_DATA[Target status],DATA!$J$13,#REF!,">P1") -> #REF! | AN10: =COUNTIFS(#REF!,CALCULATION[[#This Row],[PACKFORMULA]],GLOBAL_DATA[Target status],CALCULATION[[#Headers],[PARTIAL IMPLEMENTATION + RA]]) -> #REF! | AO10: =1-CALCULATION[[#This Row],[IN SCOPE %]] -> 1 | AP10: =COUNTIFS(#REF!,CALCULATION[[#This Row],[PACKFORMULA]],GLOBAL_DATA[Target status],CALCULATION[[#Headers],[FULL IMPLEMENTATION]]) -> #REF! | AQ10: =COUNTIFS(#REF!,CALCULATION[[#This Row],[PACKFORMULA]],GLOBAL_DATA[Target status],CALCULATION[[#Headers],[NOT APPLICABLE]]) -> #REF! | AR10: =COUNTIFS(#REF!,CALCULATION[[#This Row],[PACKFORMULA]],#REF!,"P0",GLOBAL_DATA[Target status],DATA!$J$13)+COUNTIFS(#REF!,CALCULATION[[#This Row],[PACKFORMULA]],#REF!,"P0",GLOBAL_DATA[Target status],DATA!$J$14)-CALCULATION[[#This Row],[COMPLETED P0]] -> #REF! | AS10: =COUNTIFS(#REF!,CALCULATION[[#This Row],[PACKFORMULA]],#REF!,"P1",GLOBAL_DATA[Target status],DATA!$J$13)+COUNTIFS(#REF!,CALCULATION[[#This Row],[PACKFORMULA]],#REF!,"P1",GLOBAL_DATA[Target status],DATA!$J$14)-CALCULATION[[#This Row],[COMPLETED P1]] -> #REF! | AT10: =COUNTIFS(#REF!,CALCULATION[[#This Row],[PACKFORMULA]],#REF!,">P1",GLOBAL_DATA[Target status],DATA!$J$13)+COUNTIFS(#REF!,CALCULATION[[#This Row],[PACKFORMULA]],#REF!,">P1",GLOBAL_DATA[Target status],DATA!$J$14)-CALCULATION[[#This Row],[COMPLETED P2&3]] -> #REF! | AU10: =CALCULATION[[#This Row],[PARTIAL IMPLEMENTATION + RA]]+CALCULATION[[#This Row],[FULL IMPLEMENTATION]] -> #REF! | AV10: =CALCULATION[[#This Row],[IN PROGRESS]]+CALCULATION[[#This Row],[TO BE STARTED]] -> #REF! | AW10: =COUNTIFS(#REF!,CALCULATION[[#This Row],[PACKFORMULA]],#REF!,"P0",GLOBAL_DATA[Impl_Yes],1) -> #REF! | AX10: =COUNTIFS(#REF!,CALCULATION[[#This Row],[PACKFORMULA]],#REF!,"P1",GLOBAL_DATA[Impl_Yes],1) -> #REF! | AY10: =COUNTIFS(#REF!,CALCULATION[[#This Row],[PACKFORMULA]],#REF!,">P1",GLOBAL_DATA[Impl_Yes],1) -> #REF! | AZ10: =COUNTIFS(#REF!,CALCULATION[[#This Row],[PACKFORMULA]],GLOBAL_DATA[Impl_Yes],1) -> #REF! | BA10: =IFERROR(CALCULATION[[#This Row],[COMPLETED]]/CALCULATION[[#This Row],[IN SCOPE]],0) -> 0 | BB10: =COUNTIFS(#REF!,CALCULATION[[#This Row],[PACKFORMULA]],GLOBAL_DATA[Target status],"<>"&DATA!$J$15) -> #REF! | BC10: =IFERROR(ROUND(SUMIFS(GLOBAL_DATA[Target scope],#REF!,CALCULATION[[#This Row],[PACKFORMULA]],GLOBAL_DATA[Target status],"<>"&DATA!$J$15)/CALCULATION[[#This Row],[IN SCOPE]],4),0) -> 0 | BD10: =IFERROR(ROUND(CALCULATION[[#This Row],[RISK ACCEPTED (FULL MEASURE)]]/CALCULATION[[#This Row],[IN SCOPE]],4),0) -> 0 | BE10: =IF((COUNTIFS(#REF!,CALCULATION[[#This Row],[PACKFORMULA]],GLOBAL_DATA[CISO Comments]," ")>0),(COUNTIFS(#REF!,CALCULATION[[#This Row],[PACKFORMULA]],GLOBAL_DATA[CISO Comments],"<>"&DATA!$A$15)),(COUNTIFS(#REF!,CALCULATION[[#This Row],[PACKFORMULA]],GLOBAL_DATA[CISO Comments]," ")&" CISO assessment still empty")) -> #REF! | BF10: =COUNTIFS(#REF!,CALCULATION[[#This Row],[PACKFORMULA]],GLOBAL_DATA[CISO assessment],"<>"&DATA!$A$15)-COUNTIFS(#REF!,CALCULATION[[#This Row],[PACKFORMULA]],GLOBAL_DATA[CISO assessment],"") -> #REF! | BG10: =COUNTIFS(#REF!,CALCULATION[[#This Row],[PACKFORMULA]],GLOBAL_DATA[CISO assessment],DATA!$A$15)+COUNTIFS(#REF!,CALCULATION[[#This Row],[PACKFORMULA]],GLOBAL_DATA[CISO assessment],"") -> #REF! | BH10: =IFERROR(ROUND(SUMIF(#REF!,CALCULATION[[#This Row],[PACKFORMULA]],GLOBAL_DATA[Target scope])/CALCULATION[[#This Row],[IN SCOPE]],4),0) -> 0 | BI10: =IFERROR(ROUND(SUMIFS(GLOBAL_DATA[Global Progress rate],#REF!,CALCULATION[[#This Row],[PACKFORMULA]],GLOBAL_DATA[Status],DATA!$J$6)/CALCULATION[[#This Row],[IN SCOPE]],4),0) -> 0 | BJ10: =IF((IFERROR(ROUND(SUMIFS(GLOBAL_DATA[Global Progress rate],#REF!,CALCULATION[[#This Row],[PACKFORMULA]],GLOBAL_DATA[Impl_Yes],1)/CALCULATION[[#This Row],[IN SCOPE]],4),0)-CALCULATION[[#This Row],[CURRENT IMPL DONE ]])<0,0,(IFERROR(ROUND(SUMIFS(GLOBAL_DATA[Global Progress rate],#REF!,CALCULATION[[#This Row],[PACKFORMULA]],GLOBAL_DATA[Impl_Yes],1)/CALCULATION[[#This Row],[IN SCOPE]],4),0)-CALCULATION[[#This Row],[CURRENT IMPL DONE ]])) -> 0 | BK10: =CALCULATION[[#This Row],[CURRENT IMPL DONE ]]+CALCULATION[[#This Row],[CURRENT IMPL CHECKED CISO & VERIFIED]] -> 0 | BL10: =CALCULATION[[#This Row],[CURRENT IMPLEMENTATION]]-CALCULATION[[#This Row],[CURRENT IMPL DONE ]]-CALCULATION[[#This Row],[CURRENT IMPL CHECKED CISO & VERIFIED]] -> 0 | BM10: =IFERROR(ROUND(SUMIF(#REF!,CALCULATION[[#This Row],[PACKFORMULA]],GLOBAL_DATA[Global Progress rate])/CALCULATION[[#This Row],[IN SCOPE]],4),0) -> 0 | BN10: =COUNTIFS(#REF!,CALCULATION[[#This Row],[PACKFORMULA]],GLOBAL_DATA[Impl_Date],">31/12/2019",GLOBAL_DATA[Impl_Date],"<01/01/2021",GLOBAL_DATA[Impl_Yes],1) -> #REF! | BO10: =COUNTIFS(#REF!,CALCULATION[[#This Row],[PACKFORMULA]],GLOBAL_DATA[Impl_Date],">31/12/2019",GLOBAL_DATA[Impl_Date],"<01/01/2021") -> #REF! | BP10: =IFERROR(ROUND(SUMIFS(GLOBAL_DATA[Target scope],#REF!,CALCULATION[[#This Row],[PACKFORMULA]],GLOBAL_DATA[Impl_Date],">31/12/2019",GLOBAL_DATA[Impl_Date],"<01/01/2021")/CALCULATION[[#This Row],[IN SCOPE]],4),0) -> 0 | BQ10: =COUNTIFS(#REF!,CALCULATION[[#This Row],[PACKFORMULA]],GLOBAL_DATA[Impl_Date],">31/12/2020",GLOBAL_DATA[Impl_Date],"<01/01/2022",GLOBAL_DATA[Impl_Yes],1) -> #REF! | BR10: =COUNTIFS(#REF!,CALCULATION[[#This Row],[PACKFORMULA]],GLOBAL_DATA[Impl_Date],">31/12/2020",GLOBAL_DATA[Impl_Date],"<01/01/2022") -> #REF! | BS10: =IFERROR(ROUND(SUMIFS(GLOBAL_DATA[Target scope],#REF!,CALCULATION[[#This Row],[PACKFORMULA]],GLOBAL_DATA[Impl_Date],">31/12/2020",GLOBAL_DATA[Impl_Date],"<01/01/2022")/CALCULATION[[#This Row],[IN SCOPE]],4),0) -> 0 | BT10: =COUNTIFS(#REF!,CALCULATION[[#This Row],[PACKFORMULA]],GLOBAL_DATA[Impl_Date],">31/12/2021",GLOBAL_DATA[Impl_Date],"<01/01/2023",GLOBAL_DATA[Impl_Yes],1) -> #REF! | BU10: =COUNTIFS(#REF!,CALCULATION[[#This Row],[PACKFORMULA]],GLOBAL_DATA[Impl_Date],">31/12/2021",GLOBAL_DATA[Impl_Date],"<01/01/2023") -> #REF! | BV10: =IFERROR(ROUND(SUMIFS(GLOBAL_DATA[Target scope],#REF!,CALCULATION[[#This Row],[PACKFORMULA]],GLOBAL_DATA[Impl_Date],">31/12/2021",GLOBAL_DATA[Impl_Date],"<01/01/2023")/CALCULATION[[#This Row],[IN SCOPE]],4),0) -> 0 | BW10: =COUNTIFS(#REF!,CALCULATION[[#This Row],[PACKFORMULA]],GLOBAL_DATA[Impl_Date],">31/12/2022",GLOBAL_DATA[Impl_Date],"<01/01/2024",GLOBAL_DATA[Impl_Yes],1) -> #REF! | BX10: =COUNTIFS(#REF!,CALCULATION[[#This Row],[PACKFORMULA]],GLOBAL_DATA[Impl_Date],">31/12/2022") -> #REF! | BY10: =IFERROR(ROUND(SUMIFS(GLOBAL_DATA[Target scope],#REF!,CALCULATION[[#This Row],[PACKFORMULA]],GLOBAL_DATA[Impl_Date],">31/12/2022",GLOBAL_DATA[Impl_Date],"<01/01/2024")/CALCULATION[[#This Row],[IN SCOPE]],4),0) -> 0 | BZ10: =CALCULATION[[#This Row],[% 2020 COMMITTED]]+CALCULATION[[#This Row],[% 2021 COMMITTED]]+CALCULATION[[#This Row],[% 2022 COMMITTED]]+CALCULATION[[#This Row],[% 2023 COMMITTED]] -> 0 | CA10: =CALCULATION[[#This Row],[CURRENT IMPLEMENTATION]] -> 0 | CB10: =CALCULATION[[#This Row],[% 2020 COMMITTED]]+CALCULATION[[#This Row],[% 2021 COMMITTED]]+CALCULATION[[#This Row],[% 2022 COMMITTED]]+CALCULATION[[#This Row],[% 2023 COMMITTED]]-CALCULATION[[#This Row],[CURRENT IMPLEMENTATION]] -> 0
A11: Security in product lifecycle | B11: Security in product lifecycle | C11: 1 | D11: 0.05 | E11: =COUNTIFS(#REF!,CALCULATION[[#This Row],[PACKFORMULA]],#REF!,"P0",GLOBAL_DATA[Status],Status_No_Project) -> #REF! | F11: =COUNTIFS(#REF!,CALCULATION[[#This Row],[PACKFORMULA]],#REF!,"P1",GLOBAL_DATA[Status],Status_No_Project) -> #REF! | G11: =COUNTIFS(#REF!,CALCULATION[[#This Row],[PACKFORMULA]],#REF!,">=P2",GLOBAL_DATA[Status],Status_No_Project) -> #REF! | H11: =COUNTIFS(#REF!,CALCULATION[[#This Row],[PACKFORMULA]],GLOBAL_DATA[Status],CALCULATION[[#Headers],[NO PROJECT]]) -> #REF! | I11: =COUNTIFS(#REF!,CALCULATION[[#This Row],[PACKFORMULA]],#REF!,"P0",GLOBAL_DATA[Status],DATA!$J$4) -> #REF! | J11: =COUNTIFS(#REF!,CALCULATION[[#This Row],[PACKFORMULA]],#REF!,"P1",GLOBAL_DATA[Status],DATA!$J$4) -> #REF! | K11: =COUNTIFS(#REF!,CALCULATION[[#This Row],[PACKFORMULA]],#REF!,">=P2",GLOBAL_DATA[Status],DATA!$J$4) -> #REF! | L11: =COUNTIFS(#REF!,CALCULATION[[#This Row],[PACKFORMULA]],GLOBAL_DATA[Status],CALCULATION[[#Headers],[TO BE STARTED]]) -> #REF! | M11: =COUNTIFS(#REF!,CALCULATION[[#This Row],[PACKFORMULA]],#REF!,"P0",GLOBAL_DATA[Status],DATA!$J$5) -> #REF! | N11: =COUNTIFS(#REF!,CALCULATION[[#This Row],[PACKFORMULA]],#REF!,"P1",GLOBAL_DATA[Status],DATA!$J$5) -> #REF! | O11: =COUNTIFS(#REF!,CALCULATION[[#This Row],[PACKFORMULA]],#REF!,">=P2",GLOBAL_DATA[Status],DATA!$J$5) -> #REF! | P11: =COUNTIFS(#REF!,CALCULATION[[#This Row],[PACKFORMULA]],GLOBAL_DATA[Status],CALCULATION[[#Headers],[IN PROGRESS]]) -> #REF! | Q11: =COUNTIFS(#REF!,CALCULATION[[#This Row],[PACKFORMULA]],#REF!,"P0",GLOBAL_DATA[Status],DATA!$J$6) -> #REF! | R11: =COUNTIFS(#REF!,CALCULATION[[#This Row],[PACKFORMULA]],#REF!,"P1",GLOBAL_DATA[Status],DATA!$J$6) -> #REF! | S11: =COUNTIFS(#REF!,CALCULATION[[#This Row],[PACKFORMULA]],#REF!,">=P2",GLOBAL_DATA[Status],DATA!$J$6) -> #REF! | T11: =COUNTIFS(#REF!,CALCULATION[[#This Row],[PACKFORMULA]],GLOBAL_DATA[Status],CALCULATION[[#Headers],[DONE]]) -> #REF! | U11: =COUNTIFS(#REF!,CALCULATION[[#This Row],[PACKFORMULA]],#REF!,"P0",GLOBAL_DATA[Status],DATA!$J$7) -> #REF! | V11: =COUNTIFS(#REF!,CALCULATION[[#This Row],[PACKFORMULA]],#REF!,"P1",GLOBAL_DATA[Status],DATA!$J$7) -> #REF! | W11: =COUNTIFS(#REF!,CALCULATION[[#This Row],[PACKFORMULA]],#REF!,">=P2",GLOBAL_DATA[Status],DATA!$J$7) -> #REF! | X11: =COUNTIFS(#REF!,CALCULATION[[#This Row],[PACKFORMULA]],GLOBAL_DATA[Status],CALCULATION[[#Headers],[CHECKED CISO]]) -> #REF! | Y11: =COUNTIFS(#REF!,CALCULATION[[#This Row],[PACKFORMULA]],#REF!,"P0",GLOBAL_DATA[Status],DATA!$J$8) -> #REF! | Z11: =COUNTIFS(#REF!,CALCULATION[[#This Row],[PACKFORMULA]],#REF!,"P1",GLOBAL_DATA[Status],DATA!$J$8) -> #REF! | AA11: =COUNTIFS(#REF!,CALCULATION[[#This Row],[PACKFORMULA]],#REF!,">=P2",GLOBAL_DATA[Status],DATA!$J$8) -> #REF! | AB11: =COUNTIFS(#REF!,CALCULATION[[#This Row],[PACKFORMULA]],GLOBAL_DATA[Status],CALCULATION[[#Headers],[VERIFIED]]) -> #REF! | AC11: =COUNTIFS(#REF!,CALCULATION[[#This Row],[PACKFORMULA]],#REF!,"P0",GLOBAL_DATA[Status],"<>"&Status_No_Project) -> #REF! | AD11: =COUNTIFS(#REF!,CALCULATION[[#This Row],[PACKFORMULA]],#REF!,"P1",GLOBAL_DATA[Status],"<>"&Status_No_Project) -> #REF! | AE11: =COUNTIFS(#REF!,CALCULATION[[#This Row],[PACKFORMULA]],#REF!,">=P2",GLOBAL_DATA[Status],"<>"&Status_No_Project) -> #REF! | AF11: =COUNTIFS(#REF!,CALCULATION[[#This Row],[PACKFORMULA]],GLOBAL_DATA[Status],"<>"&Status_No_Project) -> #REF! | AG11: =COUNTIFS(#REF!,CALCULATION[[#This Row],[PACKFORMULA]],#REF!,"P0",GLOBAL_DATA[Target status],DATA!$J$12) -> #REF! | AH11: =COUNTIFS(#REF!,CALCULATION[[#This Row],[PACKFORMULA]],#REF!,"P1",GLOBAL_DATA[Target status],DATA!$J$12) -> #REF! | AI11: =COUNTIFS(#REF!,CALCULATION[[#This Row],[PACKFORMULA]],#REF!,">P1",GLOBAL_DATA[Target status],DATA!$J$12) -> #REF! | AJ11: =COUNTIFS(#REF!,CALCULATION[[#This Row],[PACKFORMULA]],GLOBAL_DATA[Target status],DATA!$J$12) -> #REF! | AK11: =COUNTIFS(#REF!,CALCULATION[[#This Row],[PACKFORMULA]],GLOBAL_DATA[Target status],DATA!$J$13,#REF!,"P0") -> #REF! | AL11: =COUNTIFS(#REF!,CALCULATION[[#This Row],[PACKFORMULA]],GLOBAL_DATA[Target status],DATA!$J$13,#REF!,"P1") -> #REF! | AM11: =COUNTIFS(#REF!,CALCULATION[[#This Row],[PACKFORMULA]],GLOBAL_DATA[Target status],DATA!$J$13,#REF!,">P1") -> #REF! | AN11: =COUNTIFS(#REF!,CALCULATION[[#This Row],[PACKFORMULA]],GLOBAL_DATA[Target status],CALCULATION[[#Headers],[PARTIAL IMPLEMENTATION + RA]]) -> #REF! | AO11: =1-CALCULATION[[#This Row],[IN SCOPE %]] -> 1 | AP11: =COUNTIFS(#REF!,CALCULATION[[#This Row],[PACKFORMULA]],GLOBAL_DATA[Target status],CALCULATION[[#Headers],[FULL IMPLEMENTATION]]) -> #REF! | AQ11: =COUNTIFS(#REF!,CALCULATION[[#This Row],[PACKFORMULA]],GLOBAL_DATA[Target status],CALCULATION[[#Headers],[NOT APPLICABLE]]) -> #REF! | AR11: =COUNTIFS(#REF!,CALCULATION[[#This Row],[PACKFORMULA]],#REF!,"P0",GLOBAL_DATA[Target status],DATA!$J$13)+COUNTIFS(#REF!,CALCULATION[[#This Row],[PACKFORMULA]],#REF!,"P0",GLOBAL_DATA[Target status],DATA!$J$14)-CALCULATION[[#This Row],[COMPLETED P0]] -> #REF! | AS11: =COUNTIFS(#REF!,CALCULATION[[#This Row],[PACKFORMULA]],#REF!,"P1",GLOBAL_DATA[Target status],DATA!$J$13)+COUNTIFS(#REF!,CALCULATION[[#This Row],[PACKFORMULA]],#REF!,"P1",GLOBAL_DATA[Target status],DATA!$J$14)-CALCULATION[[#This Row],[COMPLETED P1]] -> #REF! | AT11: =COUNTIFS(#REF!,CALCULATION[[#This Row],[PACKFORMULA]],#REF!,">P1",GLOBAL_DATA[Target status],DATA!$J$13)+COUNTIFS(#REF!,CALCULATION[[#This Row],[PACKFORMULA]],#REF!,">P1",GLOBAL_DATA[Target status],DATA!$J$14)-CALCULATION[[#This Row],[COMPLETED P2&3]] -> #REF! | AU11: =CALCULATION[[#This Row],[PARTIAL IMPLEMENTATION + RA]]+CALCULATION[[#This Row],[FULL IMPLEMENTATION]] -> #REF! | AV11: =CALCULATION[[#This Row],[IN PROGRESS]]+CALCULATION[[#This Row],[TO BE STARTED]] -> #REF! | AW11: =COUNTIFS(#REF!,CALCULATION[[#This Row],[PACKFORMULA]],#REF!,"P0",GLOBAL_DATA[Impl_Yes],1) -> #REF! | AX11: =COUNTIFS(#REF!,CALCULATION[[#This Row],[PACKFORMULA]],#REF!,"P1",GLOBAL_DATA[Impl_Yes],1) -> #REF! | AY11: =COUNTIFS(#REF!,CALCULATION[[#This Row],[PACKFORMULA]],#REF!,">P1",GLOBAL_DATA[Impl_Yes],1) -> #REF! | AZ11: =COUNTIFS(#REF!,CALCULATION[[#This Row],[PACKFORMULA]],GLOBAL_DATA[Impl_Yes],1) -> #REF! | BA11: =IFERROR(CALCULATION[[#This Row],[COMPLETED]]/CALCULATION[[#This Row],[IN SCOPE]],0) -> 0 | BB11: =COUNTIFS(#REF!,CALCULATION[[#This Row],[PACKFORMULA]],GLOBAL_DATA[Target status],"<>"&DATA!$J$15) -> #REF! | BC11: =IFERROR(ROUND(SUMIFS(GLOBAL_DATA[Target scope],#REF!,CALCULATION[[#This Row],[PACKFORMULA]],GLOBAL_DATA[Target status],"<>"&DATA!$J$15)/CALCULATION[[#This Row],[IN SCOPE]],4),0) -> 0 | BD11: =IFERROR(ROUND(CALCULATION[[#This Row],[RISK ACCEPTED (FULL MEASURE)]]/CALCULATION[[#This Row],[IN SCOPE]],4),0) -> 0 | BE11: =IF((COUNTIFS(#REF!,CALCULATION[[#This Row],[PACKFORMULA]],GLOBAL_DATA[CISO Comments]," ")>0),(COUNTIFS(#REF!,CALCULATION[[#This Row],[PACKFORMULA]],GLOBAL_DATA[CISO Comments],"<>"&DATA!$A$15)),(COUNTIFS(#REF!,CALCULATION[[#This Row],[PACKFORMULA]],GLOBAL_DATA[CISO Comments]," ")&" CISO assessment still empty")) -> #REF! | BF11: =COUNTIFS(#REF!,CALCULATION[[#This Row],[PACKFORMULA]],GLOBAL_DATA[CISO assessment],"<>"&DATA!$A$15)-COUNTIFS(#REF!,CALCULATION[[#This Row],[PACKFORMULA]],GLOBAL_DATA[CISO assessment],"") -> #REF! | BG11: =COUNTIFS(#REF!,CALCULATION[[#This Row],[PACKFORMULA]],GLOBAL_DATA[CISO assessment],DATA!$A$15)+COUNTIFS(#REF!,CALCULATION[[#This Row],[PACKFORMULA]],GLOBAL_DATA[CISO assessment],"") -> #REF! | BH11: =IFERROR(ROUND(SUMIF(#REF!,CALCULATION[[#This Row],[PACKFORMULA]],GLOBAL_DATA[Target scope])/CALCULATION[[#This Row],[IN SCOPE]],4),0) -> 0 | BI11: =IFERROR(ROUND(SUMIFS(GLOBAL_DATA[Global Progress rate],#REF!,CALCULATION[[#This Row],[PACKFORMULA]],GLOBAL_DATA[Status],DATA!$J$6)/CALCULATION[[#This Row],[IN SCOPE]],4),0) -> 0 | BJ11: =IF((IFERROR(ROUND(SUMIFS(GLOBAL_DATA[Global Progress rate],#REF!,CALCULATION[[#This Row],[PACKFORMULA]],GLOBAL_DATA[Impl_Yes],1)/CALCULATION[[#This Row],[IN SCOPE]],4),0)-CALCULATION[[#This Row],[CURRENT IMPL DONE ]])<0,0,(IFERROR(ROUND(SUMIFS(GLOBAL_DATA[Global Progress rate],#REF!,CALCULATION[[#This Row],[PACKFORMULA]],GLOBAL_DATA[Impl_Yes],1)/CALCULATION[[#This Row],[IN SCOPE]],4),0)-CALCULATION[[#This Row],[CURRENT IMPL DONE ]])) -> 0 | BK11: =CALCULATION[[#This Row],[CURRENT IMPL DONE ]]+CALCULATION[[#This Row],[CURRENT IMPL CHECKED CISO & VERIFIED]] -> 0 | BL11: =CALCULATION[[#This Row],[CURRENT IMPLEMENTATION]]-CALCULATION[[#This Row],[CURRENT IMPL DONE ]]-CALCULATION[[#This Row],[CURRENT IMPL CHECKED CISO & VERIFIED]] -> 0 | BM11: =IFERROR(ROUND(SUMIF(#REF!,CALCULATION[[#This Row],[PACKFORMULA]],GLOBAL_DATA[Global Progress rate])/CALCULATION[[#This Row],[IN SCOPE]],4),0) -> 0 | BN11: =COUNTIFS(#REF!,CALCULATION[[#This Row],[PACKFORMULA]],GLOBAL_DATA[Impl_Date],">31/12/2019",GLOBAL_DATA[Impl_Date],"<01/01/2021",GLOBAL_DATA[Impl_Yes],1) -> #REF! | BO11: =COUNTIFS(#REF!,CALCULATION[[#This Row],[PACKFORMULA]],GLOBAL_DATA[Impl_Date],">31/12/2019",GLOBAL_DATA[Impl_Date],"<01/01/2021") -> #REF! | BP11: =IFERROR(ROUND(SUMIFS(GLOBAL_DATA[Target scope],#REF!,CALCULATION[[#This Row],[PACKFORMULA]],GLOBAL_DATA[Impl_Date],">31/12/2019",GLOBAL_DATA[Impl_Date],"<01/01/2021")/CALCULATION[[#This Row],[IN SCOPE]],4),0) -> 0 | BQ11: =COUNTIFS(#REF!,CALCULATION[[#This Row],[PACKFORMULA]],GLOBAL_DATA[Impl_Date],">31/12/2020",GLOBAL_DATA[Impl_Date],"<01/01/2022",GLOBAL_DATA[Impl_Yes],1) -> #REF! | BR11: =COUNTIFS(#REF!,CALCULATION[[#This Row],[PACKFORMULA]],GLOBAL_DATA[Impl_Date],">31/12/2020",GLOBAL_DATA[Impl_Date],"<01/01/2022") -> #REF! | BS11: =IFERROR(ROUND(SUMIFS(GLOBAL_DATA[Target scope],#REF!,CALCULATION[[#This Row],[PACKFORMULA]],GLOBAL_DATA[Impl_Date],">31/12/2020",GLOBAL_DATA[Impl_Date],"<01/01/2022")/CALCULATION[[#This Row],[IN SCOPE]],4),0) -> 0 | BT11: =COUNTIFS(#REF!,CALCULATION[[#This Row],[PACKFORMULA]],GLOBAL_DATA[Impl_Date],">31/12/2021",GLOBAL_DATA[Impl_Date],"<01/01/2023",GLOBAL_DATA[Impl_Yes],1) -> #REF! | BU11: =COUNTIFS(#REF!,CALCULATION[[#This Row],[PACKFORMULA]],GLOBAL_DATA[Impl_Date],">31/12/2021",GLOBAL_DATA[Impl_Date],"<01/01/2023") -> #REF! | BV11: =IFERROR(ROUND(SUMIFS(GLOBAL_DATA[Target scope],#REF!,CALCULATION[[#This Row],[PACKFORMULA]],GLOBAL_DATA[Impl_Date],">31/12/2021",GLOBAL_DATA[Impl_Date],"<01/01/2023")/CALCULATION[[#This Row],[IN SCOPE]],4),0) -> 0 | BW11: =COUNTIFS(#REF!,CALCULATION[[#This Row],[PACKFORMULA]],GLOBAL_DATA[Impl_Date],">31/12/2022",GLOBAL_DATA[Impl_Date],"<01/01/2024",GLOBAL_DATA[Impl_Yes],1) -> #REF! | BX11: =COUNTIFS(#REF!,CALCULATION[[#This Row],[PACKFORMULA]],GLOBAL_DATA[Impl_Date],">31/12/2022") -> #REF! | BY11: =IFERROR(ROUND(SUMIFS(GLOBAL_DATA[Target scope],#REF!,CALCULATION[[#This Row],[PACKFORMULA]],GLOBAL_DATA[Impl_Date],">31/12/2022",GLOBAL_DATA[Impl_Date],"<01/01/2024")/CALCULATION[[#This Row],[IN SCOPE]],4),0) -> 0 | BZ11: =CALCULATION[[#This Row],[% 2020 COMMITTED]]+CALCULATION[[#This Row],[% 2021 COMMITTED]]+CALCULATION[[#This Row],[% 2022 COMMITTED]]+CALCULATION[[#This Row],[% 2023 COMMITTED]] -> 0 | CA11: =CALCULATION[[#This Row],[CURRENT IMPLEMENTATION]] -> 0 | CB11: =CALCULATION[[#This Row],[% 2020 COMMITTED]]+CALCULATION[[#This Row],[% 2021 COMMITTED]]+CALCULATION[[#This Row],[% 2022 COMMITTED]]+CALCULATION[[#This Row],[% 2023 COMMITTED]]-CALCULATION[[#This Row],[CURRENT IMPLEMENTATION]] -> 0
