Workbook
Name Checked: DATA!$J$8
Name DATA_DQA_1: DATA!$A$19
Name DATA_DQA_10: DATA!$A$20
Name DATA_DQA_11: DATA!$A$21
Name DATA_DQA_14: DATA!$A$24
Name DATA_DQA_15: DATA!$A$25
Name DATA_DQA_16: DATA!$A$26
Name DATA_DQA_18: DATA!$A$28
Name DATA_DQA_2: DATA!$A$30
Name DATA_QDA_12: DATA!$A$22
Name DATA_QDA_13: DATA!$A$23
Name DATA_QDA_17: DATA!$A$27
Name DATA_QDA_19: DATA!$A$29
Name DATA_QDA_3: DATA!$A$31
Name DATA_QDA_4: DATA!$A$32
Name DATA_QDA_5: DATA!$A$33
Name DATA_QDA_6: DATA!$A$34
Name DATA_QDA_7: DATA!$A$34
Name DATA_QDA_8: DATA!$A$35
Name DATA_QDA_9: DATA!$A$36
Name DATA_Status_INPROGRESS: DATA!$J$5
Name DATA_Status_TOBESTARTED: DATA!$J$4
Name DateAbove: [1]Planning!A$7
Name Done: DATA!$J$6
Name full: DATA!$K$14
Name In_progress: DATA!$J$5
Name In_progress: DATA!$J$5
Name Progress_rate_0: DATA!$K$12
Name ReportingDate: #REF!
Name ReportingDate: SYNTHESIS!$B$10
Name Risk_accepted: DATA!$K$12
Name Status_No_Project: DATA!$J$3
Name Target_Not_Applicable: DATA!$M$12
Name THEME_P1: DATA!$AG:$AG
Name To_be_started: DATA!$J$4
Name ValidityChecks: GLOBAL_DATA[[To be started and > 0%]:[Done]]

Sheet SYNTHESIS
C2: DARWIN² REPORT | F2: Document C2-Confidential
B4: =INDEX(#REF!,1) -> #REF! | D4: =INDEX(GLOBAL_DATA[Region],1) -> XX | F4: =INDEX(GLOBAL_DATA[BU],1) -> XX
B5: ENTITY | D5: REGION | F5: BU
B7: Entity CISO
B8: Entity Sponsor
B10: 44084
B11: Reporting date
B13: =SUMPRODUCT((GLOBAL_DATA[CISO assessment]="Alert")*1) -> 0 | D13: =SUM(GLOBAL_DATA[DataInconsistency]) -> 2 | F13: =SUM(GLOBAL_DATA[EmptyFields]) -> 0
B14: CISO ALERTS | D14: Data inconsistencies | F14: Empty fields
B16: CISO Key Messages since last update
I17: CISO will indicate major information on the program since previous reporting, including : - major achievements (measures that reached 'done', 'Checked CISO' or 'Verified' status) - measures for which the work has started - encountered delays and explanation - resource problems - change of organisation if it impacts the program ...

Sheet SECURITY MEASURES
A1: XX | C1: IMPLEMENTATION at the end of the program | F1: PROJECT EXECUTION | J1: PLANNING | O1: BUDGET (k€) | AD1: CHECKS
C2: (including already implemented measures) | P2: TOTAL | S2: 2020 | V2: 2021 | Y2: 2022 | AB2: 2023 | AJ2: STATUS ALERTS | AR2: BUDGET ALERTS | AW2: RISK STATUS ALERT | AY2: DISMISS DATA QUALITY ANOMALIES | AZ2: HELPER - STATUS
A4: BU | B4: Region | C4: Target status | D4: Target scope | E4: Target justification (if<100%) | F4: Status | G4: Implementation progress rate | H4: CISO assessment | I4: CISO Comments | J4: Resource allocated | K4: Main actor | L4: Kick-off | M4: Initial end | N4: Re-estimated end | O4: Total Initial | P4: Total re-estimated | Q4: Total Spent | R4: Initial 2020 | S4: Reestimated 2020 | T4: Spent 2020 | U4: Initial 2021 | V4: Reestimated 2021 | W4: Spent 2021 | X4: Initial 2022 | Y4: Reestimated 2022 | Z4: Spent 2022 | AA4: Initial 2023 | AB4: Reestimated 2023 | AC4: Spent 2023 | AD4: Global Progress rate | AE4: Impl_Yes | AF4: Impl_Date | AG4: DataInconsistency | AH4: EmptyFields | AI4: Data Quality Anomalies | AJ4: To be started and > 0% | AK4: In progress and = 100% | AL4: In progress = 0% | AM4: Completed < 100% | AN4: No status selected | AO4: In progress and no planning | AP4: To be started and no planning | AQ4: In progress and budget = 0 | AR4: Budget but no kick-off | AS4: Budget but no end date | AT4: Today's date > Kick off & Not started | AU4: Kick-off > Reestimated end | AV4: Completed but wrong reestimated | AW4: Risk status warning | AX4: Risk status alert | AY4: Ignore/Accept the Data Quality Anomaly | AZ4: Will not be done | BA4: Will be done | BB4: Done
A5: XX | B5: XX | C5: =IF(GLOBAL_DATA[[#This Row],[Target scope]]="","",INDEX(DATA_TargetStatusChoice[Target_Status_Choice],MATCH(GLOBAL_DATA[[#This Row],[Target scope]],DATA_TargetStatusChoice[Value],1))) -> FULL IMPLEMENTATION | D5: 1 | E5: - | F5: TO BE STARTED | G5: 0.2 | H5: No alert | I5: XX | J5: Secured | K5: Local | L5: 44075 | M5: 44196 | O5: =SUM(GLOBAL_DATA[[#This Row],[Initial 2020]],GLOBAL_DATA[[#This Row],[Initial 2021]],GLOBAL_DATA[[#This Row],[Initial 2022]],GLOBAL_DATA[[#This Row],[Initial 2023]]) -> 2 | P5: =SUM(GLOBAL_DATA[[#This Row],[Reestimated 2020]],GLOBAL_DATA[[#This Row],[Reestimated 2021]],GLOBAL_DATA[[#This Row],[Reestimated 2022]],GLOBAL_DATA[[#This Row],[Reestimated 2023]]) -> 0 | Q5: =SUM(GLOBAL_DATA[[#This Row],[Spent 2020]],GLOBAL_DATA[[#This Row],[Spent 2021]],GLOBAL_DATA[[#This Row],[Spent 2022]],GLOBAL_DATA[[#This Row],[Spent 2023]]) -> 0 | U5: 2 | AA5: 0 | AB5: 0 | AC5: 0 | AD5: =IF(GLOBAL_DATA[[#This Row],[Target scope]]<>Target_Not_Applicable,GLOBAL_DATA[[#This Row],[Target scope]]*GLOBAL_DATA[[#This Row],[Implementation progress rate]],"") -> 0.2 | AE5: =IF(OR(GLOBAL_DATA[[#This Row],[Status]]=DATA!$J$6,GLOBAL_DATA[[#This Row],[Status]]=DATA!$J$7,GLOBAL_DATA[[#This Row],[Status]]=DATA!$J$8),1,0) -> 0 | AF5: =IF(GLOBAL_DATA[[#This Row],[Status]]=Status_No_Project,"",MAX(GLOBAL_DATA[[#This Row],[Initial end]],GLOBAL_DATA[[#This Row],[Re-estimated end]],43831)) -> 44196 | AG5: =IF(AND(GLOBAL_DATA[[#This Row],[Implementation progress rate]]<100%,GLOBAL_DATA[[#This Row],[Re-estimated end]]<=SYNTHESIS!ReportingDate,GLOBAL_DATA[[#This Row],[Re-estimated end]]<>""),1,0)+IF(AND(GLOBAL_DATA[[#This Row],[Implementation progress rate]]<100%,GLOBAL_DATA[[#This Row],[Initial end]]<=SYNTHESIS!ReportingDate,GLOBAL_DATA[[#This Row],[Re-estimated end]]<SYNTHESIS!ReportingDate,GLOBAL_DATA[[#This Row],[Re-estimated end]]<>""),1,0)+IF(AND(OR(GLOBAL_DATA[[#This Row],[Target scope]]=Target_Not_Applicable,GLOBAL_DATA[[#This Row],[Target scope]]=Risk_accepted),GLOBAL_DATA[[#This Row],[Kick-off]]<>""),1,0)+IF(AND(GLOBAL_DATA[[#This Row],[Status]]=In_progress,GLOBAL_DATA[[#This Row],[Implementation progress rate]]=Risk_accepted),1,0)+IF(AND(GLOBAL_DATA[[#This Row],[Status]]=In_progress,GLOBAL_DATA[[#This Row],[Implementation progress rate]]=full),1,0) -> 0 | AH5: =IF(GLOBAL_DATA[[#This Row],[Target scope]]<>Target_Not_Applicable,COUNTBLANK(GLOBAL_DATA[[#This Row],[Target scope]:[Target justification (if<100%)]]),0)+IF(GLOBAL_DATA[[#This Row],[Status]]<>Status_No_Project,COUNTBLANK(GLOBAL_DATA[[#This Row],[Implementation progress rate]:[CISO assessment]]),0) -> 0 | AI5: =SIERREUR(SI(ValidityChecks[@[Ignore/Accept the Data Quality Anomaly]]<>"Yes"; GAUCHE(CONCATENER(SI(ValidityChecks[@[To be started and > 0%]]="";"";ValidityChecks[@[To be started and > 0%]]& CAR(10)); SI(ValidityChecks[@[In progress and = 100%]]="";"";ValidityChecks[@[In progress and = 100%]]& CAR(10)); SI(ValidityChecks[@[In progress = 0%]]="";"";ValidityChecks[@[In progress = 0%]]& CAR(10)); SI(ValidityChecks[@[Completed < 100%]]="";"";ValidityChecks[@[Completed < 100%]]& CAR(10)); SI(ValidityChecks[@[No status selected]]="";"";ValidityChecks[@[No status selected]]& CAR(10)); SI(ValidityChecks[@[In progress and no planning]]="";"";ValidityChecks[@[In progress and no planning]]& CAR(10)); SI(ValidityChecks[@[To be started and no planning]]="";"";ValidityChecks[@[To be started and no planning]]& CAR(10)); SI(ValidityChecks[@[In progress and budget = 0]]="";"";ValidityChecks[@[In progress and budget = 0]]& CAR(10)); SI(ValidityChecks[@[Budget but no kick-off]]="";"";ValidityChecks[@[Budget but no kick-off]]& CAR(10)); SI(ValidityChecks[@[Budget but no end date]]="";"";ValidityChecks[@[Budget but no end date]]& CAR(10)); SI(ValidityChecks[@[Today''s date > Kick off & Not started]]="";"";ValidityChecks[@[Today''s date > Kick off & Not started]]& CAR(10)); SI(ValidityChecks[@[Kick-off > Reestimated end]]="";"";ValidityChecks[@[Kick-off > Reestimated end]]& CAR(10)); SI(ValidityChecks[@[Completed but wrong reestimated]]="";"";ValidityChecks[@[Completed but wrong reestimated]]& CAR(10)); SI(ValidityChecks[@[Risk status warning]]="";"";ValidityChecks[@[Risk status warning]]& CAR(10)); SI(ValidityChecks[@[Risk status alert]]="";"";ValidityChecks[@[Risk status alert]]& CAR(10)); NBCAR(CONCATENER(SI(ValidityChecks[@[To be started and > 0%]]="";"";ValidityChecks[@[To be started and > 0%]]& CAR(10)); SI(ValidityChecks[@[In progress and = 100%]]="";"";ValidityChecks[@[In progress and = 100%]]& CAR(10)); SI(ValidityChecks[@[In progress = 0%]]="";"";ValidityChecks[@[In progress = 0%]]& CAR(10)); SI(ValidityChecks[@[Completed < 100%]]="";"";ValidityChecks[@[Completed < 100%]]& CAR(10)); SI(ValidityChecks[@[No status selected]]="";"";ValidityChecks[@[No status selected]]& CAR(10)); SI(ValidityChecks[@[In progress and no planning]]="";"";ValidityChecks[@[In progress and no planning]]& CAR(10)); SI(ValidityChecks[@[To be started and no planning]]="";"";ValidityChecks[@[To be started and no planning]]& CAR(10)); SI(ValidityChecks[@[In progress and budget = 0]]="";"";ValidityChecks[@[In progress and budget = 0]]& CAR(10)); SI(ValidityChecks[@[Budget but no kick-off]]="";"";ValidityChecks[@[Budget but no kick-off]]& CAR(10)); SI(ValidityChecks[@[Budget but no end date]]="";"";ValidityChecks[@[Budget but no end date]]& CAR(10)); SI(ValidityChecks[@[Today''s date > Kick off & Not started]]="";"";ValidityChecks[@[Today''s date > Kick off & Not started]]& CAR(10)); SI(ValidityChecks[@[Kick-off > Reestimated end]]="";"";ValidityChecks[@[Kick-off > Reestimated end]]& CAR(10)); SI(ValidityChecks[@[Completed but wrong reestimated]]="";"";ValidityChecks[@[Completed but wrong reestimated]]& CAR(10)); SI(ValidityChecks[@[Risk status warning]]="";"";ValidityChecks[@[Risk status warning]]& CAR(10)); SI(ValidityChecks[@[Risk status alert]]="";"";ValidityChecks[@[Risk status alert]]& CAR(10))))-1);"");"") | AJ5: =IF(AND(GLOBAL_DATA[[#This Row],[Status]]=DATA_Status_TOBESTARTED,GLOBAL_DATA[[#This Row],[Implementation progress rate]]>0),DATA_DQA_1,"") -> TO BE STARTED and progress > 0% | AK5: =IF(AND(GLOBAL_DATA[[#This Row],[Status]]=In_progress,GLOBAL_DATA[[#This Row],[Implementation progress rate]]=1),DATA_DQA_2,"") | AL5: {=IF(AND(GLOBAL_DATA[[#This Row],[Status]]=In_progress,GLOBAL_DATA[[#This Row],[Implementation progress rate]]=0),DATA_DQA_3,"")} | AM5: =IF(AND(GLOBAL_DATA[[#This Row],[Status]]=Done,GLOBAL_DATA[[#This Row],[Implementation progress rate]]<1),DATA_QDA_4,"") | AN5: {=IF(GLOBAL_DATA[[#This Row],[Status]]="",DATA_QDA_7,"")} | AO5: =IF(AND(GLOBAL_DATA[[#This Row],[Initial end]]="",GLOBAL_DATA[[#This Row],[Re-estimated end]]="",GLOBAL_DATA[[#This Row],[Status]]=DATA_Status_INPROGRESS),DATA_QDA_12,"") | AP5: =IF(AND(GLOBAL_DATA[[#This Row],[Initial end]]="",GLOBAL_DATA[[#This Row],[Re-estimated end]]="",GLOBAL_DATA[[#This Row],[Status]]=DATA_Status_TOBESTARTED),DATA_QDA_13,"") | AQ5: =IF(AND(GLOBAL_DATA[[#This Row],[Status]]=DATA_Status_INPROGRESS,GLOBAL_DATA[[#This Row],[Total Initial]]=0,GLOBAL_DATA[[#This Row],[Total re-estimated]]=0),DATA_DQA_11,"") | AR5: =IF(AND(GLOBAL_DATA[[#This Row],[Will be done]]=1,SUM(GLOBAL_DATA[[#This Row],[Total Initial]]:GLOBAL_DATA[[#This Row],[Total Spent]])<>0,GLOBAL_DATA[[#This Row],[Kick-off]]=""),DATA_DQA_16,"") | AS5: =IF(AND(GLOBAL_DATA[[#This Row],[Will be done]]=1,SUM(GLOBAL_DATA[[#This Row],[Total Initial]]:GLOBAL_DATA[[#This Row],[Total Spent]])<>0,GLOBAL_DATA[[#This Row],[Initial end]]=""),DATA_QDA_17,"") | AT5: =IF(AND(IFERROR(DATEDIF(GLOBAL_DATA[[#This Row],[Kick-off]],TODAY(),"m"),0)<>0,OR(GLOBAL_DATA[[#This Row],[Status]]=DATA_Status_TOBESTARTED)),DATA_QDA_19,"") -> Kick-off < today's date and status is not IN PROGRESS | AU5: =IF(AND(GLOBAL_DATA[[#This Row],[Kick-off]]<>"",GLOBAL_DATA[[#This Row],[Kick-off]]>GLOBAL_DATA[[#This Row],[Re-estimated end]]),DATA_DQA_14,"") -> Kick-off scheduled after reestimated-end or intial-end | AV5: =IF(AND(IFERROR(DATEDIF(TODAY(),GLOBAL_DATA[[#This Row],[Re-estimated end]],"m"),0)>1,GLOBAL_DATA[[#This Row],[Implementation progress rate]]=1),DATA_QDA_8,"") | AW5: {=IF(AND(GLOBAL_DATA[[#This Row],[CISO assessment]]="Warning only",TRIM(GLOBAL_DATA[[#This Row],[CISO Comments]])=""),DATA_DQA_9,"")} | AX5: =IF(AND(GLOBAL_DATA[[#This Row],[CISO assessment]]="Alert",TRIM(GLOBAL_DATA[[#This Row],[CISO Comments]])=""),DATA_DQA_10,"") | AY5: No | AZ5: =IF(OR(GLOBAL_DATA[[#This Row],[Status]]="",GLOBAL_DATA[[#This Row],[Status]]=Risk_accepted,GLOBAL_DATA[[#This Row],[Status]]=Target_Not_Applicable),1,0) -> 0 | BA5: =IF(OR(GLOBAL_DATA[[#This Row],[Status]]=DATA_Status_TOBESTARTED,GLOBAL_DATA[[#This Row],[Status]]=DATA_Status_INPROGRESS),1,0) -> 1 | BB5: =IF(OR(GLOBAL_DATA[[#This Row],[Status]]=Done,GLOBAL_DATA[[#This Row],[Status]]=Checked),1,0) -> 0
A6: XX | B6: XX | C6: =IF(GLOBAL_DATA[[#This Row],[Target scope]]="","",INDEX(DATA_TargetStatusChoice[Target_Status_Choice],MATCH(GLOBAL_DATA[[#This Row],[Target scope]],DATA_TargetStatusChoice[Value],1))) -> FULL IMPLEMENTATION | D6: 1 | E6: - | F6: IN PROGRESS | G6: 1 | H6: No alert | I6: XX | J6: Not secured | K6: NC | L6: 44197 | M6: 44560 | N6: 44561 | O6: =SUM(GLOBAL_DATA[[#This Row],[Initial 2020]],GLOBAL_DATA[[#This Row],[Initial 2021]],GLOBAL_DATA[[#This Row],[Initial 2022]],GLOBAL_DATA[[#This Row],[Initial 2023]]) -> 50 | P6: =SUM(GLOBAL_DATA[[#This Row],[Reestimated 2020]],GLOBAL_DATA[[#This Row],[Reestimated 2021]],GLOBAL_DATA[[#This Row],[Reestimated 2022]],GLOBAL_DATA[[#This Row],[Reestimated 2023]]) -> 0 | Q6: =SUM(GLOBAL_DATA[[#This Row],[Spent 2020]],GLOBAL_DATA[[#This Row],[Spent 2021]],GLOBAL_DATA[[#This Row],[Spent 2022]],GLOBAL_DATA[[#This Row],[Spent 2023]]) -> 0 | U6: 50 | AA6: 0 | AB6: 0 | AC6: 0 | AD6: =IF(GLOBAL_DATA[[#This Row],[Target scope]]<>Target_Not_Applicable,GLOBAL_DATA[[#This Row],[Target scope]]*GLOBAL_DATA[[#This Row],[Implementation progress rate]],"") -> 1 | AE6: =IF(OR(GLOBAL_DATA[[#This Row],[Status]]=DATA!$J$6,GLOBAL_DATA[[#This Row],[Status]]=DATA!$J$7,GLOBAL_DATA[[#This Row],[Status]]=DATA!$J$8),1,0) -> 0 | AF6: =IF(GLOBAL_DATA[[#This Row],[Status]]=Status_No_Project,"",MAX(GLOBAL_DATA[[#This Row],[Initial end]],GLOBAL_DATA[[#This Row],[Re-estimated end]],43831)) -> 44561 | AG6: =IF(AND(GLOBAL_DATA[[#This Row],[Implementation progress rate]]<100%,GLOBAL_DATA[[#This Row],[Re-estimated end]]<=SYNTHESIS!ReportingDate,GLOBAL_DATA[[#This Row],[Re-estimated end]]<>""),1,0)+IF(AND(GLOBAL_DATA[[#This Row],[Implementation progress rate]]<100%,GLOBAL_DATA[[#This Row],[Initial end]]<=SYNTHESIS!ReportingDate,GLOBAL_DATA[[#This Row],[Re-estimated end]]<SYNTHESIS!ReportingDate,GLOBAL_DATA[[#This Row],[Re-estimated end]]<>""),1,0)+IF(AND(OR(GLOBAL_DATA[[#This Row],[Target scope]]=Target_Not_Applicable,GLOBAL_DATA[[#This Row],[Target scope]]=Risk_accepted),GLOBAL_DATA[[#This Row],[Kick-off]]<>""),1,0)+IF(AND(GLOBAL_DATA[[#This Row],[Status]]=In_progress,GLOBAL_DATA[[#This Row],[Implementation progress rate]]=Risk_accepted),1,0)+IF(AND(GLOBAL_DATA[[#This Row],[Status]]=In_progress,GLOBAL_DATA[[#This Row],[Implementation progress rate]]=full),1,0) -> 1 | AH6: =IF(GLOBAL_DATA[[#This Row],[Target scope]]<>Target_Not_Applicable,COUNTBLANK(GLOBAL_DATA[[#This Row],[Target scope]:[Target justification (if<100%)]]),0)+IF(GLOBAL_DATA[[#This Row],[Status]]<>Status_No_Project,COUNTBLANK(GLOBAL_DATA[[#This Row],[Implementation progress rate]:[CISO assessment]]),0) -> 0 | AJ6: =IF(AND(GLOBAL_DATA[[#This Row],[Status]]=DATA_Status_TOBESTARTED,GLOBAL_DATA[[#This Row],[Implementation progress rate]]>0),DATA_DQA_1,"") | AK6: =IF(AND(GLOBAL_DATA[[#This Row],[Status]]=In_progress,GLOBAL_DATA[[#This Row],[Implementation progress rate]]=1),DATA_DQA_2,"") -> IN PROGRESS and progress =100% | AL6: {=IF(AND(GLOBAL_DATA[[#This Row],[Status]]=In_progress,GLOBAL_DATA[[#This Row],[Implementation progress rate]]=0),DATA_DQA_3,"")} | AM6: =IF(AND(GLOBAL_DATA[[#This Row],[Status]]=Done,GLOBAL_DATA[[#This Row],[Implementation progress rate]]<1),DATA_QDA_4,"") | AN6: {=IF(GLOBAL_DATA[[#This Row],[Status]]="",DATA_QDA_7,"")} | AO6: =IF(AND(GLOBAL_DATA[[#This Row],[Initial end]]="",GLOBAL_DATA[[#This Row],[Re-estimated end]]="",GLOBAL_DATA[[#This Row],[Status]]=DATA_Status_INPROGRESS),DATA_QDA_12,"") | AP6: =IF(AND(GLOBAL_DATA[[#This Row],[Initial end]]="",GLOBAL_DATA[[#This Row],[Re-estimated end]]="",GLOBAL_DATA[[#This Row],[Status]]=DATA_Status_TOBESTARTED),DATA_QDA_13,"") | AQ6: =IF(AND(GLOBAL_DATA[[#This Row],[Status]]=DATA_Status_INPROGRESS,GLOBAL_DATA[[#This Row],[Total Initial]]=0,GLOBAL_DATA[[#This Row],[Total re-estimated]]=0),DATA_DQA_11,"") | AR6: =IF(AND(GLOBAL_DATA[[#This Row],[Will be done]]=1,SUM(GLOBAL_DATA[[#This Row],[Total Initial]]:GLOBAL_DATA[[#This Row],[Total Spent]])<>0,GLOBAL_DATA[[#This Row],[Kick-off]]=""),DATA_DQA_16,"") | AS6: =IF(AND(GLOBAL_DATA[[#This Row],[Will be done]]=1,SUM(GLOBAL_DATA[[#This Row],[Total Initial]]:GLOBAL_DATA[[#This Row],[Total Spent]])<>0,GLOBAL_DATA[[#This Row],[Initial end]]=""),DATA_QDA_17,"") | AT6: =IF(AND(IFERROR(DATEDIF(GLOBAL_DATA[[#This Row],[Kick-off]],TODAY(),"m"),0)<>0,OR(GLOBAL_DATA[[#This Row],[Status]]=DATA_Status_TOBESTARTED)),DATA_QDA_19,"") | AU6: =IF(AND(GLOBAL_DATA[[#This Row],[Kick-off]]<>"",GLOBAL_DATA[[#This Row],[Kick-off]]>GLOBAL_DATA[[#This Row],[Re-estimated end]]),DATA_DQA_14,"") | AV6: =IF(AND(IFERROR(DATEDIF(TODAY(),GLOBAL_DATA[[#This Row],[Re-estimated end]],"m"),0)>1,GLOBAL_DATA[[#This Row],[Implementation progress rate]]=1),DATA_QDA_8,"") -> DONE but wrong Re-estimated end date | AW6: {=IF(AND(GLOBAL_DATA[[#This Row],[CISO assessment]]="Warning only",TRIM(GLOBAL_DATA[[#This Row],[CISO Comments]])=""),DATA_DQA_9,"")} | AX6: =IF(AND(GLOBAL_DATA[[#This Row],[CISO assessment]]="Alert",TRIM(GLOBAL_DATA[[#This Row],[CISO Comments]])=""),DATA_DQA_10,"") | AY6: No | AZ6: =IF(OR(GLOBAL_DATA[[#This Row],[Status]]="",GLOBAL_DATA[[#This Row],[Status]]=Risk_accepted,GLOBAL_DATA[[#This Row],[Status]]=Target_Not_Applicable),1,0) -> 0 | BA6: =IF(OR(GLOBAL_DATA[[#This Row],[Status]]=DATA_Status_TOBESTARTED,GLOBAL_DATA[[#This Row],[Status]]=DATA_Status_INPROGRESS),1,0) -> 1 | BB6: =IF(OR(GLOBAL_DATA[[#This Row],[Status]]=Done,GLOBAL_DATA[[#This Row],[Status]]=Checked),1,0) -> 0
A7: XX | B7: XX | C7: =IF(GLOBAL_DATA[[#This Row],[Target scope]]="","",INDEX(DATA_TargetStatusChoice[Target_Status_Choice],MATCH(GLOBAL_DATA[[#This Row],[Target scope]],DATA_TargetStatusChoice[Value],1))) -> FULL IMPLEMENTATION | D7: 1 | E7: - | F7: IN PROGRESS | G7: 0 | H7: No alert | I7: XX | J7: Not secured | K7: Hub SSI | L7: 43466 | M7: 44195 | N7: 44560 | O7: =SUM(GLOBAL_DATA[[#This Row],[Initial 2020]],GLOBAL_DATA[[#This Row],[Initial 2021]],GLOBAL_DATA[[#This Row],[Initial 2022]],GLOBAL_DATA[[#This Row],[Initial 2023]]) -> 0 | P7: =SUM(GLOBAL_DATA[[#This Row],[Reestimated 2020]],GLOBAL_DATA[[#This Row],[Reestimated 2021]],GLOBAL_DATA[[#This Row],[Reestimated 2022]],GLOBAL_DATA[[#This Row],[Reestimated 2023]]) -> 0 | Q7: =SUM(GLOBAL_DATA[[#This Row],[Spent 2020]],GLOBAL_DATA[[#This Row],[Spent 2021]],GLOBAL_DATA[[#This Row],[Spent 2022]],GLOBAL_DATA[[#This Row],[Spent 2023]]) -> 0 | U7: 0 | X7: 0 | Y7: 0 | Z7: 0 | AA7: 0 | AB7: 0 | AC7: 0 | AD7: =IF(GLOBAL_DATA[[#This Row],[Target scope]]<>Target_Not_Applicable,GLOBAL_DATA[[#This Row],[Target scope]]*GLOBAL_DATA[[#This Row],[Implementation progress rate]],"") -> 0 | AE7: =IF(OR(GLOBAL_DATA[[#This Row],[Status]]=DATA!$J$6,GLOBAL_DATA[[#This Row],[Status]]=DATA!$J$7,GLOBAL_DATA[[#This Row],[Status]]=DATA!$J$8),1,0) -> 0 | AF7: =IF(GLOBAL_DATA[[#This Row],[Status]]=Status_No_Project,"",MAX(GLOBAL_DATA[[#This Row],[Initial end]],GLOBAL_DATA[[#This Row],[Re-estimated end]],43831)) -> 44560 | AG7: =IF(AND(GLOBAL_DATA[[#This Row],[Implementation progress rate]]<100%,GLOBAL_DATA[[#This Row],[Re-estimated end]]<=SYNTHESIS!ReportingDate,GLOBAL_DATA[[#This Row],[Re-estimated end]]<>""),1,0)+IF(AND(GLOBAL_DATA[[#This Row],[Implementation progress rate]]<100%,GLOBAL_DATA[[#This Row],[Initial end]]<=SYNTHESIS!ReportingDate,GLOBAL_DATA[[#This Row],[Re-estimated end]]<SYNTHESIS!ReportingDate,GLOBAL_DATA[[#This Row],[Re-estimated end]]<>""),1,0)+IF(AND(OR(GLOBAL_DATA[[#This Row],[Target scope]]=Target_Not_Applicable,GLOBAL_DATA[[#This Row],[Target scope]]=Risk_accepted),GLOBAL_DATA[[#This Row],[Kick-off]]<>""),1,0)+IF(AND(GLOBAL_DATA[[#This Row],[Status]]=In_progress,GLOBAL_DATA[[#This Row],[Implementation progress rate]]=Risk_accepted),1,0)+IF(AND(GLOBAL_DATA[[#This Row],[Status]]=In_progress,GLOBAL_DATA[[#This Row],[Implementation progress rate]]=full),1,0) -> 1 | AH7: =IF(GLOBAL_DATA[[#This Row],[Target scope]]<>Target_Not_Applicable,COUNTBLANK(GLOBAL_DATA[[#This Row],[Target scope]:[Target justification (if<100%)]]),0)+IF(GLOBAL_DATA[[#This Row],[Status]]<>Status_No_Project,COUNTBLANK(GLOBAL_DATA[[#This Row],[Implementation progress rate]:[CISO assessment]]),0) -> 0 | AJ7: =IF(AND(GLOBAL_DATA[[#This Row],[Status]]=DATA_Status_TOBESTARTED,GLOBAL_DATA[[#This Row],[Implementation progress rate]]>0),DATA_DQA_1,"") | AK7: =IF(AND(GLOBAL_DATA[[#This Row],[Status]]=In_progress,GLOBAL_DATA[[#This Row],[Implementation progress rate]]=1),DATA_DQA_2,"") | AL7: =IF(AND(GLOBAL_DATA[[#This Row],[Status]]=In_progress,GLOBAL_DATA[[#This Row],[Implementation progress rate]]=0),DATA_DQA_2,"") -> IN PROGRESS and progress =100% | AM7: =IF(AND(GLOBAL_DATA[[#This Row],[Status]]=Done,GLOBAL_DATA[[#This Row],[Implementation progress rate]]<1),DATA_QDA_4,"") | AN7: {=IF(GLOBAL_DATA[[#This Row],[Status]]="",DATA_QDA_7,"")} | AO7: =IF(AND(GLOBAL_DATA[[#This Row],[Initial end]]="",GLOBAL_DATA[[#This Row],[Re-estimated end]]="",GLOBAL_DATA[[#This Row],[Status]]=DATA_Status_INPROGRESS),DATA_QDA_12,"") | AP7: =IF(AND(GLOBAL_DATA[[#This Row],[Initial end]]="",GLOBAL_DATA[[#This Row],[Re-estimated end]]="",GLOBAL_DATA[[#This Row],[Status]]=DATA_Status_TOBESTARTED),DATA_QDA_13,"") | AQ7: =IF(AND(GLOBAL_DATA[[#This Row],[Status]]=DATA_Status_INPROGRESS,GLOBAL_DATA[[#This Row],[Total Initial]]=0,GLOBAL_DATA[[#This Row],[Total re-estimated]]=0),DATA_DQA_11,"") -> IN PROGRESS but no budget | AR7: =IF(AND(GLOBAL_DATA[[#This Row],[Will be done]]=1,SUM(GLOBAL_DATA[[#This Row],[Total Initial]]:GLOBAL_DATA[[#This Row],[Total Spent]])<>0,GLOBAL_DATA[[#This Row],[Kick-off]]=""),DATA_DQA_16,"") | AS7: =IF(AND(GLOBAL_DATA[[#This Row],[Will be done]]=1,SUM(GLOBAL_DATA[[#This Row],[Total Initial]]:GLOBAL_DATA[[#This Row],[Total Spent]])<>0,GLOBAL_DATA[[#This Row],[Initial end]]=""),DATA_QDA_17,"") | AT7: =IF(AND(IFERROR(DATEDIF(GLOBAL_DATA[[#This Row],[Kick-off]],TODAY(),"m"),0)<>0,OR(GLOBAL_DATA[[#This Row],[Status]]=DATA_Status_TOBESTARTED)),DATA_QDA_19,"") | AU7: =IF(AND(GLOBAL_DATA[[#This Row],[Kick-off]]<>"",GLOBAL_DATA[[#This Row],[Kick-off]]>GLOBAL_DATA[[#This Row],[Re-estimated end]]),DATA_DQA_14,"") | AV7: =IF(AND(IFERROR(DATEDIF(TODAY(),GLOBAL_DATA[[#This Row],[Re-estimated end]],"m"),0)>1,GLOBAL_DATA[[#This Row],[Implementation progress rate]]=1),DATA_QDA_8,"") | AW7: {=IF(AND(GLOBAL_DATA[[#This Row],[CISO assessment]]="Warning only",TRIM(GLOBAL_DATA[[#This Row],[CISO Comments]])=""),DATA_DQA_9,"")} | AX7: =IF(AND(GLOBAL_DATA[[#This Row],[CISO assessment]]="Alert",TRIM(GLOBAL_DATA[[#This Row],[CISO Comments]])=""),DATA_DQA_10,"") | AY7: No | AZ7: =IF(OR(GLOBAL_DATA[[#This Row],[Status]]="",GLOBAL_DATA[[#This Row],[Status]]=Risk_accepted,GLOBAL_DATA[[#This Row],[Status]]=Target_Not_Applicable),1,0) -> 0 | BA7: =IF(OR(GLOBAL_DATA[[#This Row],[Status]]=DATA_Status_TOBESTARTED,GLOBAL_DATA[[#This Row],[Status]]=DATA_Status_INPROGRESS),1,0) -> 1 | BB7: =IF(OR(GLOBAL_DATA[[#This Row],[Status]]=Done,GLOBAL_DATA[[#This Row],[Status]]=Checked),1,0) -> 0
A8: XX | B8: XX | C8: =IF(GLOBAL_DATA[[#This Row],[Target scope]]="","",INDEX(DATA_TargetStatusChoice[Target_Status_Choice],MATCH(GLOBAL_DATA[[#This Row],[Target scope]],DATA_TargetStatusChoice[Value],1))) -> FULL IMPLEMENTATION | D8: 1 | E8: - | F8: DONE | G8: 0.5 | H8: No alert | I8: XX | J8: Not secured | K8: Hub SSI | L8: 43466 | M8: 44195 | N8: 44560 | O8: =SUM(GLOBAL_DATA[[#This Row],[Initial 2020]],GLOBAL_DATA[[#This Row],[Initial 2021]],GLOBAL_DATA[[#This Row],[Initial 2022]],GLOBAL_DATA[[#This Row],[Initial 2023]]) -> 0 | P8: =SUM(GLOBAL_DATA[[#This Row],[Reestimated 2020]],GLOBAL_DATA[[#This Row],[Reestimated 2021]],GLOBAL_DATA[[#This Row],[Reestimated 2022]],GLOBAL_DATA[[#This Row],[Reestimated 2023]]) -> 0 | Q8: =SUM(GLOBAL_DATA[[#This Row],[Spent 2020]],GLOBAL_DATA[[#This Row],[Spent 2021]],GLOBAL_DATA[[#This Row],[Spent 2022]],GLOBAL_DATA[[#This Row],[Spent 2023]]) -> 0 | U8: 0 | X8: 0 | Y8: 0 | Z8: 0 | AA8: 0 | AB8: 0 | AC8: 0 | AD8: =IF(GLOBAL_DATA[[#This Row],[Target scope]]<>Target_Not_Applicable,GLOBAL_DATA[[#This Row],[Target scope]]*GLOBAL_DATA[[#This Row],[Implementation progress rate]],"") -> 0.5 | AE8: =IF(OR(GLOBAL_DATA[[#This Row],[Status]]=DATA!$J$6,GLOBAL_DATA[[#This Row],[Status]]=DATA!$J$7,GLOBAL_DATA[[#This Row],[Status]]=DATA!$J$8),1,0) -> 1 | AF8: =IF(GLOBAL_DATA[[#This Row],[Status]]=Status_No_Project,"",MAX(GLOBAL_DATA[[#This Row],[Initial end]],GLOBAL_DATA[[#This Row],[Re-estimated end]],43831)) -> 44560 | AG8: =IF(AND(GLOBAL_DATA[[#This Row],[Implementation progress rate]]<100%,GLOBAL_DATA[[#This Row],[Re-estimated end]]<=SYNTHESIS!ReportingDate,GLOBAL_DATA[[#This Row],[Re-estimated end]]<>""),1,0)+IF(AND(GLOBAL_DATA[[#This Row],[Implementation progress rate]]<100%,GLOBAL_DATA[[#This Row],[Initial end]]<=SYNTHESIS!ReportingDate,GLOBAL_DATA[[#This Row],[Re-estimated end]]<SYNTHESIS!ReportingDate,GLOBAL_DATA[[#This Row],[Re-estimated end]]<>""),1,0)+IF(AND(OR(GLOBAL_DATA[[#This Row],[Target scope]]=Target_Not_Applicable,GLOBAL_DATA[[#This Row],[Target scope]]=Risk_accepted),GLOBAL_DATA[[#This Row],[Kick-off]]<>""),1,0)+IF(AND(GLOBAL_DATA[[#This Row],[Status]]=In_progress,GLOBAL_DATA[[#This Row],[Implementation progress rate]]=Risk_accepted),1,0)+IF(AND(GLOBAL_DATA[[#This Row],[Status]]=In_progress,GLOBAL_DATA[[#This Row],[Implementation progress rate]]=full),1,0) -> 0 | AH8: =IF(GLOBAL_DATA[[#This Row],[Target scope]]<>Target_Not_Applicable,COUNTBLANK(GLOBAL_DATA[[#This Row],[Target scope]:[Target justification (if<100%)]]),0)+IF(GLOBAL_DATA[[#This Row],[Status]]<>Status_No_Project,COUNTBLANK(GLOBAL_DATA[[#This Row],[Implementation progress rate]:[CISO assessment]]),0) -> 0 | AJ8: =IF(AND(GLOBAL_DATA[[#This Row],[Status]]=DATA_Status_TOBESTARTED,GLOBAL_DATA[[#This Row],[Implementation progress rate]]>0),DATA_DQA_1,"") | AK8: =IF(AND(GLOBAL_DATA[[#This Row],[Status]]=In_progress,GLOBAL_DATA[[#This Row],[Implementation progress rate]]=1),DATA_DQA_2,"") | AL8: {=IF(AND(GLOBAL_DATA[[#This Row],[Status]]=In_progress,GLOBAL_DATA[[#This Row],[Implementation progress rate]]=0),DATA_DQA_3,"")} | AM8: =IF(AND(GLOBAL_DATA[[#This Row],[Status]]=Done,GLOBAL_DATA[[#This Row],[Implementation progress rate]]<1),DATA_QDA_4,"") -> DONE and progress < 100% | AN8: {=IF(GLOBAL_DATA[[#This Row],[Status]]="",DATA_QDA_7,"")} | AO8: =IF(AND(GLOBAL_DATA[[#This Row],[Initial end]]="",GLOBAL_DATA[[#This Row],[Re-estimated end]]="",GLOBAL_DATA[[#This Row],[Status]]=DATA_Status_INPROGRESS),DATA_QDA_12,"") | AP8: =IF(AND(GLOBAL_DATA[[#This Row],[Initial end]]="",GLOBAL_DATA[[#This Row],[Re-estimated end]]="",GLOBAL_DATA[[#This Row],[Status]]=DATA_Status_TOBESTARTED),DATA_QDA_13,"") | AQ8: =IF(AND(GLOBAL_DATA[[#This Row],[Status]]=DATA_Status_INPROGRESS,GLOBAL_DATA[[#This Row],[Total Initial]]=0,GLOBAL_DATA[[#This Row],[Total re-estimated]]=0),DATA_DQA_11,"") | AR8: =IF(AND(GLOBAL_DATA[[#This Row],[Will be done]]=1,SUM(GLOBAL_DATA[[#This Row],[Total Initial]]:GLOBAL_DATA[[#This Row],[Total Spent]])<>0,GLOBAL_DATA[[#This Row],[Kick-off]]=""),DATA_DQA_16,"") | AS8: =IF(AND(GLOBAL_DATA[[#This Row],[Will be done]]=1,SUM(GLOBAL_DATA[[#This Row],[Total Initial]]:GLOBAL_DATA[[#This Row],[Total Spent]])<>0,GLOBAL_DATA[[#This Row],[Initial end]]=""),DATA_QDA_17,"") | AT8: =IF(AND(IFERROR(DATEDIF(GLOBAL_DATA[[#This Row],[Kick-off]],TODAY(),"m"),0)<>0,OR(GLOBAL_DATA[[#This Row],[Status]]=DATA_Status_TOBESTARTED)),DATA_QDA_19,"") | AU8: =IF(AND(GLOBAL_DATA[[#This Row],[Kick-off]]<>"",GLOBAL_DATA[[#This Row],[Kick-off]]>GLOBAL_DATA[[#This Row],[Re-estimated end]]),DATA_DQA_14,"") | AV8: =IF(AND(IFERROR(DATEDIF(TODAY(),GLOBAL_DATA[[#This Row],[Re-estimated end]],"m"),0)>1,GLOBAL_DATA[[#This Row],[Implementation progress rate]]=1),DATA_QDA_8,"") | AW8: {=IF(AND(GLOBAL_DATA[[#This Row],[CISO assessment]]="Warning only",TRIM(GLOBAL_DATA[[#This Row],[CISO Comments]])=""),DATA_DQA_9,"")} | AX8: =IF(AND(GLOBAL_DATA[[#This Row],[CISO assessment]]="Alert",TRIM(GLOBAL_DATA[[#This Row],[CISO Comments]])=""),DATA_DQA_10,"") | AY8: No | AZ8: =IF(OR(GLOBAL_DATA[[#This Row],[Status]]="",GLOBAL_DATA[[#This Row],[Status]]=Risk_accepted,GLOBAL_DATA[[#This Row],[Status]]=Target_Not_Applicable),1,0) -> 0 | BA8: =IF(OR(GLOBAL_DATA[[#This Row],[Status]]=DATA_Status_TOBESTARTED,GLOBAL_DATA[[#This Row],[Status]]=DATA_Status_INPROGRESS),1,0) -> 0 | BB8: =IF(OR(GLOBAL_DATA[[#This Row],[Status]]=Done,GLOBAL_DATA[[#This Row],[Status]]=Checked),1,0) -> 1
A9: XX | B9: XX | C9: =IF(GLOBAL_DATA[[#This Row],[Target scope]]="","",INDEX(DATA_TargetStatusChoice[Target_Status_Choice],MATCH(GLOBAL_DATA[[#This Row],[Target scope]],DATA_TargetStatusChoice[Value],1))) -> FULL IMPLEMENTATION | D9: 1 | E9: - | G9: 1 | H9: No alert | I9: XX | J9: Secured | K9: Local | L9: 43891 | M9: 44084 | O9: =SUM(GLOBAL_DATA[[#This Row],[Initial 2020]],GLOBAL_DATA[[#This Row],[Initial 2021]],GLOBAL_DATA[[#This Row],[Initial 2022]],GLOBAL_DATA[[#This Row],[Initial 2023]]) -> 0 | P9: =SUM(GLOBAL_DATA[[#This Row],[Reestimated 2020]],GLOBAL_DATA[[#This Row],[Reestimated 2021]],GLOBAL_DATA[[#This Row],[Reestimated 2022]],GLOBAL_DATA[[#This Row],[Reestimated 2023]]) -> 0 | Q9: =SUM(GLOBAL_DATA[[#This Row],[Spent 2020]],GLOBAL_DATA[[#This Row],[Spent 2021]],GLOBAL_DATA[[#This Row],[Spent 2022]],GLOBAL_DATA[[#This Row],[Spent 2023]]) -> 0 | AA9: 0 | AB9: 0 | AC9: 0 | AD9: =IF(GLOBAL_DATA[[#This Row],[Target scope]]<>Target_Not_Applicable,GLOBAL_DATA[[#This Row],[Target scope]]*GLOBAL_DATA[[#This Row],[Implementation progress rate]],"") -> 1 | AE9: =IF(OR(GLOBAL_DATA[[#This Row],[Status]]=DATA!$J$6,GLOBAL_DATA[[#This Row],[Status]]=DATA!$J$7,GLOBAL_DATA[[#This Row],[Status]]=DATA!$J$8),1,0) -> 0 | AF9: =IF(GLOBAL_DATA[[#This Row],[Status]]=Status_No_Project,"",MAX(GLOBAL_DATA[[#This Row],[Initial end]],GLOBAL_DATA[[#This Row],[Re-estimated end]],43831)) -> 44084 | AG9: =IF(AND(GLOBAL_DATA[[#This Row],[Implementation progress rate]]<100%,GLOBAL_DATA[[#This Row],[Re-estimated end]]<=SYNTHESIS!ReportingDate,GLOBAL_DATA[[#This Row],[Re-estimated end]]<>""),1,0)+IF(AND(GLOBAL_DATA[[#This Row],[Implementation progress rate]]<100%,GLOBAL_DATA[[#This Row],[Initial end]]<=SYNTHESIS!ReportingDate,GLOBAL_DATA[[#This Row],[Re-estimated end]]<SYNTHESIS!ReportingDate,GLOBAL_DATA[[#This Row],[Re-estimated end]]<>""),1,0)+IF(AND(OR(GLOBAL_DATA[[#This Row],[Target scope]]=Target_Not_Applicable,GLOBAL_DATA[[#This Row],[Target scope]]=Risk_accepted),GLOBAL_DATA[[#This Row],[Kick-off]]<>""),1,0)+IF(AND(GLOBAL_DATA[[#This Row],[Status]]=In_progress,GLOBAL_DATA[[#This Row],[Implementation progress rate]]=Risk_accepted),1,0)+IF(AND(GLOBAL_DATA[[#This Row],[Status]]=In_progress,GLOBAL_DATA[[#This Row],[Implementation progress rate]]=full),1,0) -> 0 | AH9: =IF(GLOBAL_DATA[[#This Row],[Target scope]]<>Target_Not_Applicable,COUNTBLANK(GLOBAL_DATA[[#This Row],[Target scope]:[Target justification (if<100%)]]),0)+IF(GLOBAL_DATA[[#This Row],[Status]]<>Status_No_Project,COUNTBLANK(GLOBAL_DATA[[#This Row],[Implementation progress rate]:[CISO assessment]]),0) -> 0 | AJ9: =IF(AND(GLOBAL_DATA[[#This Row],[Status]]=DATA_Status_TOBESTARTED,GLOBAL_DATA[[#This Row],[Implementation progress rate]]>0),DATA_DQA_1,"") | AK9: =IF(AND(GLOBAL_DATA[[#This Row],[Status]]=In_progress,GLOBAL_DATA[[#This Row],[Implementation progress rate]]=1),DATA_DQA_2,"") | AL9: {=IF(AND(GLOBAL_DATA[[#This Row],[Status]]=In_progress,GLOBAL_DATA[[#This Row],[Implementation progress rate]]=0),DATA_DQA_3,"")} | AM9: =IF(AND(GLOBAL_DATA[[#This Row],[Status]]=Done,GLOBAL_DATA[[#This Row],[Implementation progress rate]]<1),DATA_QDA_4,"") | AN9: {=IF(GLOBAL_DATA[[#This Row],[Status]]="",DATA_QDA_7,"")} -> No status selected | AO9: =IF(AND(GLOBAL_DATA[[#This Row],[Initial end]]="",GLOBAL_DATA[[#This Row],[Re-estimated end]]="",GLOBAL_DATA[[#This Row],[Status]]=DATA_Status_INPROGRESS),DATA_QDA_12,"") | AP9: =IF(AND(GLOBAL_DATA[[#This Row],[Initial end]]="",GLOBAL_DATA[[#This Row],[Re-estimated end]]="",GLOBAL_DATA[[#This Row],[Status]]=DATA_Status_TOBESTARTED),DATA_QDA_13,"") | AQ9: =IF(AND(GLOBAL_DATA[[#This Row],[Status]]=DATA_Status_INPROGRESS,GLOBAL_DATA[[#This Row],[Total Initial]]=0,GLOBAL_DATA[[#This Row],[Total re-estimated]]=0),DATA_DQA_11,"") | AR9: =IF(AND(GLOBAL_DATA[[#This Row],[Will be done]]=1,SUM(GLOBAL_DATA[[#This Row],[Total Initial]]:GLOBAL_DATA[[#This Row],[Total Spent]])<>0,GLOBAL_DATA[[#This Row],[Kick-off]]=""),DATA_DQA_16,"") | AS9: =IF(AND(GLOBAL_DATA[[#This Row],[Will be done]]=1,SUM(GLOBAL_DATA[[#This Row],[Total Initial]]:GLOBAL_DATA[[#This Row],[Total Spent]])<>0,GLOBAL_DATA[[#This Row],[Initial end]]=""),DATA_QDA_17,"") | AT9: =IF(AND(IFERROR(DATEDIF(GLOBAL_DATA[[#This Row],[Kick-off]],TODAY(),"m"),0)<>0,OR(GLOBAL_DATA[[#This Row],[Status]]=DATA_Status_TOBESTARTED)),DATA_QDA_19,"") | AU9: =IF(AND(GLOBAL_DATA[[#This Row],[Kick-off]]<>"",GLOBAL_DATA[[#This Row],[Kick-off]]>GLOBAL_DATA[[#This Row],[Re-estimated end]]),DATA_DQA_14,"") -> Kick-off scheduled after reestimated-end or intial-end | AV9: =IF(AND(IFERROR(DATEDIF(TODAY(),GLOBAL_DATA[[#This Row],[Re-estimated end]],"m"),0)>1,GLOBAL_DATA[[#This Row],[Implementation progress rate]]=1),DATA_QDA_8,"") | AW9: {=IF(AND(GLOBAL_DATA[[#This Row],[CISO assessment]]="Warning only",TRIM(GLOBAL_DATA[[#This Row],[CISO Comments]])=""),DATA_DQA_9,"")} | AX9: =IF(AND(GLOBAL_DATA[[#This Row],[CISO assessment]]="Alert",TRIM(GLOBAL_DATA[[#This Row],[CISO Comments]])=""),DATA_DQA_10,"") | AY9: No | AZ9: =IF(OR(GLOBAL_DATA[[#This Row],[Status]]="",GLOBAL_DATA[[#This Row],[Status]]=Risk_accepted,GLOBAL_DATA[[#This Row],[Status]]=Target_Not_Applicable),1,0) -> 1 | BA9: =IF(OR(GLOBAL_DATA[[#This Row],[Status]]=DATA_Status_TOBESTARTED,GLOBAL_DATA[[#This Row],[Status]]=DATA_Status_INPROGRESS),1,0) -> 0 | BB9: =IF(OR(GLOBAL_DATA[[#This Row],[Status]]=Done,GLOBAL_DATA[[#This Row],[Status]]=Checked),1,0) -> 0
A10: XX | B10: XX | C10: =IF(GLOBAL_DATA[[#This Row],[Target scope]]="","",INDEX(DATA_TargetStatusChoice[Target_Status_Choice],MATCH(GLOBAL_DATA[[#This Row],[Target scope]],DATA_TargetStatusChoice[Value],1))) -> FULL IMPLEMENTATION | D10: 1 | E10: - | F10: IN PROGRESS | G10: 0.5 | H10: No alert | I10: XX | J10: Secured | K10: Local | O10: =SUM(GLOBAL_DATA[[#This Row],[Initial 2020]],GLOBAL_DATA[[#This Row],[Initial 2021]],GLOBAL_DATA[[#This Row],[Initial 2022]],GLOBAL_DATA[[#This Row],[Initial 2023]]) -> 3 | P10: =SUM(GLOBAL_DATA[[#This Row],[Reestimated 2020]],GLOBAL_DATA[[#This Row],[Reestimated 2021]],GLOBAL_DATA[[#This Row],[Reestimated 2022]],GLOBAL_DATA[[#This Row],[Reestimated 2023]]) -> 0 | Q10: =SUM(GLOBAL_DATA[[#This Row],[Spent 2020]],GLOBAL_DATA[[#This Row],[Spent 2021]],GLOBAL_DATA[[#This Row],[Spent 2022]],GLOBAL_DATA[[#This Row],[Spent 2023]]) -> 0 | X10: 3 | AA10: 0 | AB10: 0 | AC10: 0 | AD10: =IF(GLOBAL_DATA[[#This Row],[Target scope]]<>Target_Not_Applicable,GLOBAL_DATA[[#This Row],[Target scope]]*GLOBAL_DATA[[#This Row],[Implementation progress rate]],"") -> 0.5 | AE10: =IF(OR(GLOBAL_DATA[[#This Row],[Status]]=DATA!$J$6,GLOBAL_DATA[[#This Row],[Status]]=DATA!$J$7,GLOBAL_DATA[[#This Row],[Status]]=DATA!$J$8),1,0) -> 0 | AF10: =IF(GLOBAL_DATA[[#This Row],[Status]]=Status_No_Project,"",MAX(GLOBAL_DATA[[#This Row],[Initial end]],GLOBAL_DATA[[#This Row],[Re-estimated end]],43831)) -> 43831 | AG10: =IF(AND(GLOBAL_DATA[[#This Row],[Implementation progress rate]]<100%,GLOBAL_DATA[[#This Row],[Re-estimated end]]<=SYNTHESIS!ReportingDate,GLOBAL_DATA[[#This Row],[Re-estimated end]]<>""),1,0)+IF(AND(GLOBAL_DATA[[#This Row],[Implementation progress rate]]<100%,GLOBAL_DATA[[#This Row],[Initial end]]<=SYNTHESIS!ReportingDate,GLOBAL_DATA[[#This Row],[Re-estimated end]]<SYNTHESIS!ReportingDate,GLOBAL_DATA[[#This Row],[Re-estimated end]]<>""),1,0)+IF(AND(OR(GLOBAL_DATA[[#This Row],[Target scope]]=Target_Not_Applicable,GLOBAL_DATA[[#This Row],[Target scope]]=Risk_accepted),GLOBAL_DATA[[#This Row],[Kick-off]]<>""),1,0)+IF(AND(GLOBAL_DATA[[#This Row],[Status]]=In_progress,GLOBAL_DATA[[#This Row],[Implementation progress rate]]=Risk_accepted),1,0)+IF(AND(GLOBAL_DATA[[#This Row],[Status]]=In_progress,GLOBAL_DATA[[#This Row],[Implementation progress rate]]=full),1,0) -> 0 | AH10: =IF(GLOBAL_DATA[[#This Row],[Target scope]]<>Target_Not_Applicable,COUNTBLANK(GLOBAL_DATA[[#This Row],[Target scope]:[Target justification (if<100%)]]),0)+IF(GLOBAL_DATA[[#This Row],[Status]]<>Status_No_Project,COUNTBLANK(GLOBAL_DATA[[#This Row],[Implementation progress rate]:[CISO assessment]]),0) -> 0 | AJ10: =IF(AND(GLOBAL_DATA[[#This Row],[Status]]=DATA_Status_TOBESTARTED,GLOBAL_DATA[[#This Row],[Implementation progress rate]]>0),DATA_DQA_1,"") | AK10: =IF(AND(GLOBAL_DATA[[#This Row],[Status]]=In_progress,GLOBAL_DATA[[#This Row],[Implementation progress rate]]=1),DATA_DQA_2,"") | AL10: {=IF(AND(GLOBAL_DATA[[#This Row],[Status]]=In_progress,GLOBAL_DATA[[#This Row],[Implementation progress rate]]=0),DATA_DQA_3,"")} | AM10: =IF(AND(GLOBAL_DATA[[#This Row],[Status]]=Done,GLOBAL_DATA[[#This Row],[Implementation progress rate]]<1),DATA_QDA_4,"") | AN10: {=IF(GLOBAL_DATA[[#This Row],[Status]]="",DATA_QDA_7,"")} | AO10: =IF(AND(GLOBAL_DATA[[#This Row],[Initial end]]="",GLOBAL_DATA[[#This Row],[Re-estimated end]]="",GLOBAL_DATA[[#This Row],[Status]]=DATA_Status_INPROGRESS),DATA_QDA_12,"") -> IN PROGRESS but no planning defined | AP10: =IF(AND(GLOBAL_DATA[[#This Row],[Initial end]]="",GLOBAL_DATA[[#This Row],[Re-estimated end]]="",GLOBAL_DATA[[#This Row],[Status]]=DATA_Status_TOBESTARTED),DATA_QDA_13,"") | AQ10: =IF(AND(GLOBAL_DATA[[#This Row],[Status]]=DATA_Status_INPROGRESS,GLOBAL_DATA[[#This Row],[Total Initial]]=0,GLOBAL_DATA[[#This Row],[Total re-estimated]]=0),DATA_DQA_11,"") | AR10: =IF(AND(GLOBAL_DATA[[#This Row],[Will be done]]=1,SUM(GLOBAL_DATA[[#This Row],[Total Initial]]:GLOBAL_DATA[[#This Row],[Total Spent]])<>0,GLOBAL_DATA[[#This Row],[Kick-off]]=""),DATA_DQA_16,"") -> Budget but no kick-off date | AS10: =IF(AND(GLOBAL_DATA[[#This Row],[Will be done]]=1,SUM(GLOBAL_DATA[[#This Row],[Total Initial]]:GLOBAL_DATA[[#This Row],[Total Spent]])<>0,GLOBAL_DATA[[#This Row],[Initial end]]=""),DATA_QDA_17,"") -> Budget nut no end date | AT10: =IF(AND(IFERROR(DATEDIF(GLOBAL_DATA[[#This Row],[Kick-off]],TODAY(),"m"),0)<>0,OR(GLOBAL_DATA[[#This Row],[Status]]=DATA_Status_TOBESTARTED)),DATA_QDA_19,"") | AU10: =IF(AND(GLOBAL_DATA[[#This Row],[Kick-off]]<>"",GLOBAL_DATA[[#This Row],[Kick-off]]>GLOBAL_DATA[[#This Row],[Re-estimated end]]),DATA_DQA_14,"") | AV10: =IF(AND(IFERROR(DATEDIF(TODAY(),GLOBAL_DATA[[#This Row],[Re-estimated end]],"m"),0)>1,GLOBAL_DATA[[#This Row],[Implementation progress rate]]=1),DATA_QDA_8,"") | AW10: {=IF(AND(GLOBAL_DATA[[#This Row],[CISO assessment]]="Warning only",TRIM(GLOBAL_DATA[[#This Row],[CISO Comments]])=""),DATA_DQA_9,"")} | AX10: =IF(AND(GLOBAL_DATA[[#This Row],[CISO assessment]]="Alert",TRIM(GLOBAL_DATA[[#This Row],[CISO Comments]])=""),DATA_DQA_10,"") | AY10: No | AZ10: =IF(OR(GLOBAL_DATA[[#This Row],[Status]]="",GLOBAL_DATA[[#This Row],[Status]]=Risk_accepted,GLOBAL_DATA[[#This Row],[Status]]=Target_Not_Applicable),1,0) -> 0 | BA10: =IF(OR(GLOBAL_DATA[[#This Row],[Status]]=DATA_Status_TOBESTARTED,GLOBAL_DATA[[#This Row],[Status]]=DATA_Status_INPROGRESS),1,0) -> 1 | BB10: =IF(OR(GLOBAL_DATA[[#This Row],[Status]]=Done,GLOBAL_DATA[[#This Row],[Status]]=Checked),1,0) -> 0
A11: XX | B11: XX | C11: =IF(GLOBAL_DATA[[#This Row],[Target scope]]="","",INDEX(DATA_TargetStatusChoice[Target_Status_Choice],MATCH(GLOBAL_DATA[[#This Row],[Target scope]],DATA_TargetStatusChoice[Value],1))) -> FULL IMPLEMENTATION | D11: 1 | E11: - | F11: TO BE STARTED | G11: 0 | H11: No alert | I11: XX | J11: Not secured | K11: NC | O11: =SUM(GLOBAL_DATA[[#This Row],[Initial 2020]],GLOBAL_DATA[[#This Row],[Initial 2021]],GLOBAL_DATA[[#This Row],[Initial 2022]],GLOBAL_DATA[[#This Row],[Initial 2023]]) -> 25 | P11: =SUM(GLOBAL_DATA[[#This Row],[Reestimated 2020]],GLOBAL_DATA[[#This Row],[Reestimated 2021]],GLOBAL_DATA[[#This Row],[Reestimated 2022]],GLOBAL_DATA[[#This Row],[Reestimated 2023]]) -> 0 | Q11: =SUM(GLOBAL_DATA[[#This Row],[Spent 2020]],GLOBAL_DATA[[#This Row],[Spent 2021]],GLOBAL_DATA[[#This Row],[Spent 2022]],GLOBAL_DATA[[#This Row],[Spent 2023]]) -> 0 | U11: 25 | X11: 0 | Y11: 0 | Z11: 0 | AA11: 0 | AB11: 0 | AC11: 0 | AD11: =IF(GLOBAL_DATA[[#This Row],[Target scope]]<>Target_Not_Applicable,GLOBAL_DATA[[#This Row],[Target scope]]*GLOBAL_DATA[[#This Row],[Implementation progress rate]],"") -> 0 | AE11: =IF(OR(GLOBAL_DATA[[#This Row],[Status]]=DATA!$J$6,GLOBAL_DATA[[#This Row],[Status]]=DATA!$J$7,GLOBAL_DATA[[#This Row],[Status]]=DATA!$J$8),1,0) -> 0 | AF11: =IF(GLOBAL_DATA[[#This Row],[Status]]=Status_No_Project,"",MAX(GLOBAL_DATA[[#This Row],[Initial end]],GLOBAL_DATA[[#This Row],[Re-estimated end]],43831)) -> 43831 | AG11: =IF(AND(GLOBAL_DATA[[#This Row],[Implementation progress rate]]<100%,GLOBAL_DATA[[#This Row],[Re-estimated end]]<=SYNTHESIS!ReportingDate,GLOBAL_DATA[[#This Row],[Re-estimated end]]<>""),1,0)+IF(AND(GLOBAL_DATA[[#This Row],[Implementation progress rate]]<100%,GLOBAL_DATA[[#This Row],[Initial end]]<=SYNTHESIS!ReportingDate,GLOBAL_DATA[[#This Row],[Re-estimated end]]<SYNTHESIS!ReportingDate,GLOBAL_DATA[[#This Row],[Re-estimated end]]<>""),1,0)+IF(AND(OR(GLOBAL_DATA[[#This Row],[Target scope]]=Target_Not_Applicable,GLOBAL_DATA[[#This Row],[Target scope]]=Risk_accepted),GLOBAL_DATA[[#This Row],[Kick-off]]<>""),1,0)+IF(AND(GLOBAL_DATA[[#This Row],[Status]]=In_progress,GLOBAL_DATA[[#This Row],[Implementation progress rate]]=Risk_accepted),1,0)+IF(AND(GLOBAL_DATA[[#This Row],[Status]]=In_progress,GLOBAL_DATA[[#This Row],[Implementation progress rate]]=full),1,0) -> 0 | AH11: =IF(GLOBAL_DATA[[#This Row],[Target scope]]<>Target_Not_Applicable,COUNTBLANK(GLOBAL_DATA[[#This Row],[Target scope]:[Target justification (if<100%)]]),0)+IF(GLOBAL_DATA[[#This Row],[Status]]<>Status_No_Project,COUNTBLANK(GLOBAL_DATA[[#This Row],[Implementation progress rate]:[CISO assessment]]),0) -> 0 | AJ11: =IF(AND(GLOBAL_DATA[[#This Row],[Status]]=DATA_Status_TOBESTARTED,GLOBAL_DATA[[#This Row],[Implementation progress rate]]>0),DATA_DQA_1,"") | AK11: =IF(AND(GLOBAL_DATA[[#This Row],[Status]]=In_progress,GLOBAL_DATA[[#This Row],[Implementation progress rate]]=1),DATA_DQA_2,"") | AL11: {=IF(AND(GLOBAL_DATA[[#This Row],[Status]]=In_progress,GLOBAL_DATA[[#This Row],[Implementation progress rate]]=0),DATA_DQA_3,"")} | AM11: =IF(AND(GLOBAL_DATA[[#This Row],[Status]]=Done,GLOBAL_DATA[[#This Row],[Implementation progress rate]]<1),DATA_QDA_4,"") | AN11: {=IF(GLOBAL_DATA[[#This Row],[Status]]="",DATA_QDA_7,"")} | AO11: =IF(AND(GLOBAL_DATA[[#This Row],[Initial end]]="",GLOBAL_DATA[[#This Row],[Re-estimated end]]="",GLOBAL_DATA[[#This Row],[Status]]=DATA_Status_INPROGRESS),DATA_QDA_12,"") | AP11: =IF(AND(GLOBAL_DATA[[#This Row],[Initial end]]="",GLOBAL_DATA[[#This Row],[Re-estimated end]]="",GLOBAL_DATA[[#This Row],[Status]]=DATA_Status_TOBESTARTED),DATA_QDA_13,"") -> TO BE STARTED but no planning defined | AQ11: =IF(AND(GLOBAL_DATA[[#This Row],[Status]]=DATA_Status_INPROGRESS,GLOBAL_DATA[[#This Row],[Total Initial]]=0,GLOBAL_DATA[[#This Row],[Total re-estimated]]=0),DATA_DQA_11,"") | AR11: =IF(AND(GLOBAL_DATA[[#This Row],[Will be done]]=1,SUM(GLOBAL_DATA[[#This Row],[Total Initial]]:GLOBAL_DATA[[#This Row],[Total Spent]])<>0,GLOBAL_DATA[[#This Row],[Kick-off]]=""),DATA_DQA_16,"") -> Budget but no kick-off date | AS11: =IF(AND(GLOBAL_DATA[[#This Row],[Will be done]]=1,SUM(GLOBAL_DATA[[#This Row],[Total Initial]]:GLOBAL_DATA[[#This Row],[Total Spent]])<>0,GLOBAL_DATA[[#This Row],[Initial end]]=""),DATA_QDA_17,"") -> Budget nut no end date | AT11: =IF(AND(IFERROR(DATEDIF(GLOBAL_DATA[[#This Row],[Kick-off]],TODAY(),"m"),0)<>0,OR(GLOBAL_DATA[[#This Row],[Status]]=DATA_Status_TOBESTARTED)),DATA_QDA_19,"") -> Kick-off < today's date and status is not IN PROGRESS | AU11: =IF(AND(GLOBAL_DATA[[#This Row],[Kick-off]]<>"",GLOBAL_DATA[[#This Row],[Kick-off]]>GLOBAL_DATA[[#This Row],[Re-estimated end]]),DATA_DQA_14,"") | AV11: =IF(AND(IFERROR(DATEDIF(TODAY(),GLOBAL_DATA[[#This Row],[Re-estimated end]],"m"),0)>1,GLOBAL_DATA[[#This Row],[Implementation progress rate]]=1),DATA_QDA_8,"") | AW11: {=IF(AND(GLOBAL_DATA[[#This Row],[CISO assessment]]="Warning only",TRIM(GLOBAL_DATA[[#This Row],[CISO Comments]])=""),DATA_DQA_9,"")} | AX11: =IF(AND(GLOBAL_DATA[[#This Row],[CISO assessment]]="Alert",TRIM(GLOBAL_DATA[[#This Row],[CISO Comments]])=""),DATA_DQA_10,"") | AY11: No | AZ11: =IF(OR(GLOBAL_DATA[[#This Row],[Status]]="",GLOBAL_DATA[[#This Row],[Status]]=Risk_accepted,GLOBAL_DATA[[#This Row],[Status]]=Target_Not_Applicable),1,0) -> 0 | BA11: =IF(OR(GLOBAL_DATA[[#This Row],[Status]]=DATA_Status_TOBESTARTED,GLOBAL_DATA[[#This Row],[Status]]=DATA_Status_INPROGRESS),1,0) -> 1 | BB11: =IF(OR(GLOBAL_DATA[[#This Row],[Status]]=Done,GLOBAL_DATA[[#This Row],[Status]]=Checked),1,0) -> 0
A12: XX | B12: XX | C12: =IF(GLOBAL_DATA[[#This Row],[Target scope]]="","",INDEX(DATA_TargetStatusChoice[Target_Status_Choice],MATCH(GLOBAL_DATA[[#This Row],[Target scope]],DATA_TargetStatusChoice[Value],1))) -> FULL IMPLEMENTATION | D12: 1 | E12: - | F12: IN PROGRESS | G12: 0.3 | H12: No alert | I12: XX | J12: Not secured | K12: NC | L12: 44197 | M12: 44560 | N12: 44561 | O12: =SUM(GLOBAL_DATA[[#This Row],[Initial 2020]],GLOBAL_DATA[[#This Row],[Initial 2021]],GLOBAL_DATA[[#This Row],[Initial 2022]],GLOBAL_DATA[[#This Row],[Initial 2023]]) -> 0 | P12: =SUM(GLOBAL_DATA[[#This Row],[Reestimated 2020]],GLOBAL_DATA[[#This Row],[Reestimated 2021]],GLOBAL_DATA[[#This Row],[Reestimated 2022]],GLOBAL_DATA[[#This Row],[Reestimated 2023]]) -> 0 | Q12: =SUM(GLOBAL_DATA[[#This Row],[Spent 2020]],GLOBAL_DATA[[#This Row],[Spent 2021]],GLOBAL_DATA[[#This Row],[Spent 2022]],GLOBAL_DATA[[#This Row],[Spent 2023]]) -> 0 | U12: 0 | X12: 0 | Y12: 0 | Z12: 0 | AA12: 0 | AB12: 0 | AC12: 0 | AD12: =IF(GLOBAL_DATA[[#This Row],[Target scope]]<>Target_Not_Applicable,GLOBAL_DATA[[#This Row],[Target scope]]*GLOBAL_DATA[[#This Row],[Implementation progress rate]],"") -> 0.3 | AE12: =IF(OR(GLOBAL_DATA[[#This Row],[Status]]=DATA!$J$6,GLOBAL_DATA[[#This Row],[Status]]=DATA!$J$7,GLOBAL_DATA[[#This Row],[Status]]=DATA!$J$8),1,0) -> 0 | AF12: =IF(GLOBAL_DATA[[#This Row],[Status]]=Status_No_Project,"",MAX(GLOBAL_DATA[[#This Row],[Initial end]],GLOBAL_DATA[[#This Row],[Re-estimated end]],43831)) -> 44561 | AG12: =IF(AND(GLOBAL_DATA[[#This Row],[Implementation progress rate]]<100%,GLOBAL_DATA[[#This Row],[Re-estimated end]]<=SYNTHESIS!ReportingDate,GLOBAL_DATA[[#This Row],[Re-estimated end]]<>""),1,0)+IF(AND(GLOBAL_DATA[[#This Row],[Implementation progress rate]]<100%,GLOBAL_DATA[[#This Row],[Initial end]]<=SYNTHESIS!ReportingDate,GLOBAL_DATA[[#This Row],[Re-estimated end]]<SYNTHESIS!ReportingDate,GLOBAL_DATA[[#This Row],[Re-estimated end]]<>""),1,0)+IF(AND(OR(GLOBAL_DATA[[#This Row],[Target scope]]=Target_Not_Applicable,GLOBAL_DATA[[#This Row],[Target scope]]=Risk_accepted),GLOBAL_DATA[[#This Row],[Kick-off]]<>""),1,0)+IF(AND(GLOBAL_DATA[[#This Row],[Status]]=In_progress,GLOBAL_DATA[[#This Row],[Implementation progress rate]]=Risk_accepted),1,0)+IF(AND(GLOBAL_DATA[[#This Row],[Status]]=In_progress,GLOBAL_DATA[[#This Row],[Implementation progress rate]]=full),1,0) -> 0 | AH12: =IF(GLOBAL_DATA[[#This Row],[Target scope]]<>Target_Not_Applicable,COUNTBLANK(GLOBAL_DATA[[#This Row],[Target scope]:[Target justification (if<100%)]]),0)+IF(GLOBAL_DATA[[#This Row],[Status]]<>Status_No_Project,COUNTBLANK(GLOBAL_DATA[[#This Row],[Implementation progress rate]:[CISO assessment]]),0) -> 0 | AJ12: =IF(AND(GLOBAL_DATA[[#This Row],[Status]]=DATA_Status_TOBESTARTED,GLOBAL_DATA[[#This Row],[Implementation progress rate]]>0),DATA_DQA_1,"") | AK12: =IF(AND(GLOBAL_DATA[[#This Row],[Status]]=In_progress,GLOBAL_DATA[[#This Row],[Implementation progress rate]]=1),DATA_DQA_2,"") | AL12: {=IF(AND(GLOBAL_DATA[[#This Row],[Status]]=In_progress,GLOBAL_DATA[[#This Row],[Implementation progress rate]]=0),DATA_DQA_3,"")} | AM12: =IF(AND(GLOBAL_DATA[[#This Row],[Status]]=Done,GLOBAL_DATA[[#This Row],[Implementation progress rate]]<1),DATA_QDA_4,"") | AN12: {=IF(GLOBAL_DATA[[#This Row],[Status]]="",DATA_QDA_7,"")} | AO12: =IF(AND(GLOBAL_DATA[[#This Row],[Initial end]]="",GLOBAL_DATA[[#This Row],[Re-estimated end]]="",GLOBAL_DATA[[#This Row],[Status]]=DATA_Status_INPROGRESS),DATA_QDA_12,"") | AP12: =IF(AND(GLOBAL_DATA[[#This Row],[Initial end]]="",GLOBAL_DATA[[#This Row],[Re-estimated end]]="",GLOBAL_DATA[[#This Row],[Status]]=DATA_Status_TOBESTARTED),DATA_QDA_13,"") | AQ12: =IF(AND(GLOBAL_DATA[[#This Row],[Status]]=DATA_Status_INPROGRESS,GLOBAL_DATA[[#This Row],[Total Initial]]=0,GLOBAL_DATA[[#This Row],[Total re-estimated]]=0),DATA_DQA_11,"") -> IN PROGRESS but no budget | AR12: =IF(AND(GLOBAL_DATA[[#This Row],[Will be done]]=1,SUM(GLOBAL_DATA[[#This Row],[Total Initial]]:GLOBAL_DATA[[#This Row],[Total Spent]])<>0,GLOBAL_DATA[[#This Row],[Kick-off]]=""),DATA_DQA_16,"") | AS12: =IF(AND(GLOBAL_DATA[[#This Row],[Will be done]]=1,SUM(GLOBAL_DATA[[#This Row],[Total Initial]]:GLOBAL_DATA[[#This Row],[Total Spent]])<>0,GLOBAL_DATA[[#This Row],[Initial end]]=""),DATA_QDA_17,"") | AT12: =IF(AND(IFERROR(DATEDIF(GLOBAL_DATA[[#This Row],[Kick-off]],TODAY(),"m"),0)<>0,OR(GLOBAL_DATA[[#This Row],[Status]]=DATA_Status_TOBESTARTED)),DATA_QDA_19,"") | AU12: =IF(AND(GLOBAL_DATA[[#This Row],[Kick-off]]<>"",GLOBAL_DATA[[#This Row],[Kick-off]]>GLOBAL_DATA[[#This Row],[Re-estimated end]]),DATA_DQA_14,"") | AV12: =IF(AND(IFERROR(DATEDIF(TODAY(),GLOBAL_DATA[[#This Row],[Re-estimated end]],"m"),0)>1,GLOBAL_DATA[[#This Row],[Implementation progress rate]]=1),DATA_QDA_8,"") | AW12: {=IF(AND(GLOBAL_DATA[[#This Row],[CISO assessment]]="Warning only",TRIM(GLOBAL_DATA[[#This Row],[CISO Comments]])=""),DATA_DQA_9,"")} | AX12: =IF(AND(GLOBAL_DATA[[#This Row],[CISO assessment]]="Alert",TRIM(GLOBAL_DATA[[#This Row],[CISO Comments]])=""),DATA_DQA_10,"") | AY12: No | AZ12: =IF(OR(GLOBAL_DATA[[#This Row],[Status]]="",GLOBAL_DATA[[#This Row],[Status]]=Risk_accepted,GLOBAL_DATA[[#This Row],[Status]]=Target_Not_Applicable),1,0) -> 0 | BA12: =IF(OR(GLOBAL_DATA[[#This Row],[Status]]=DATA_Status_TOBESTARTED,GLOBAL_DATA[[#This Row],[Status]]=DATA_Status_INPROGRESS),1,0) -> 1 | BB12: =IF(OR(GLOBAL_DATA[[#This Row],[Status]]=Done,GLOBAL_DATA[[#This Row],[Status]]=Checked),1,0) -> 0
A13: XX | B13: XX | C13: =IF(GLOBAL_DATA[[#This Row],[Target scope]]="","",INDEX(DATA_TargetStatusChoice[Target_Status_Choice],MATCH(GLOBAL_DATA[[#This Row],[Target scope]],DATA_TargetStatusChoice[Value],1))) -> FULL IMPLEMENTATION | D13: 1 | E13: - | F13: TO BE STARTED | G13: 0 | H13: No alert | I13: XX | J13: Not secured | K13: NC | L13: 44197 | M13: 44560 | N13: 44561 | O13: =SUM(GLOBAL_DATA[[#This Row],[Initial 2020]],GLOBAL_DATA[[#This Row],[Initial 2021]],GLOBAL_DATA[[#This Row],[Initial 2022]],GLOBAL_DATA[[#This Row],[Initial 2023]]) -> 2 | P13: =SUM(GLOBAL_DATA[[#This Row],[Reestimated 2020]],GLOBAL_DATA[[#This Row],[Reestimated 2021]],GLOBAL_DATA[[#This Row],[Reestimated 2022]],GLOBAL_DATA[[#This Row],[Reestimated 2023]]) -> 0 | Q13: =SUM(GLOBAL_DATA[[#This Row],[Spent 2020]],GLOBAL_DATA[[#This Row],[Spent 2021]],GLOBAL_DATA[[#This Row],[Spent 2022]],GLOBAL_DATA[[#This Row],[Spent 2023]]) -> 0 | U13: 2 | X13: 0 | Y13: 0 | Z13: 0 | AA13: 0 | AB13: 0 | AC13: 0 | AD13: =IF(GLOBAL_DATA[[#This Row],[Target scope]]<>Target_Not_Applicable,GLOBAL_DATA[[#This Row],[Target scope]]*GLOBAL_DATA[[#This Row],[Implementation progress rate]],"") -> 0 | AE13: =IF(OR(GLOBAL_DATA[[#This Row],[Status]]=DATA!$J$6,GLOBAL_DATA[[#This Row],[Status]]=DATA!$J$7,GLOBAL_DATA[[#This Row],[Status]]=DATA!$J$8),1,0) -> 0 | AF13: =IF(GLOBAL_DATA[[#This Row],[Status]]=Status_No_Project,"",MAX(GLOBAL_DATA[[#This Row],[Initial end]],GLOBAL_DATA[[#This Row],[Re-estimated end]],43831)) -> 44561 | AG13: =IF(AND(GLOBAL_DATA[[#This Row],[Implementation progress rate]]<100%,GLOBAL_DATA[[#This Row],[Re-estimated end]]<=SYNTHESIS!ReportingDate,GLOBAL_DATA[[#This Row],[Re-estimated end]]<>""),1,0)+IF(AND(GLOBAL_DATA[[#This Row],[Implementation progress rate]]<100%,GLOBAL_DATA[[#This Row],[Initial end]]<=SYNTHESIS!ReportingDate,GLOBAL_DATA[[#This Row],[Re-estimated end]]<SYNTHESIS!ReportingDate,GLOBAL_DATA[[#This Row],[Re-estimated end]]<>""),1,0)+IF(AND(OR(GLOBAL_DATA[[#This Row],[Target scope]]=Target_Not_Applicable,GLOBAL_DATA[[#This Row],[Target scope]]=Risk_accepted),GLOBAL_DATA[[#This Row],[Kick-off]]<>""),1,0)+IF(AND(GLOBAL_DATA[[#This Row],[Status]]=In_progress,GLOBAL_DATA[[#This Row],[Implementation progress rate]]=Risk_accepted),1,0)+IF(AND(GLOBAL_DATA[[#This Row],[Status]]=In_progress,GLOBAL_DATA[[#This Row],[Implementation progress rate]]=full),1,0) -> 0 | AH13: =IF(GLOBAL_DATA[[#This Row],[Target scope]]<>Target_Not_Applicable,COUNTBLANK(GLOBAL_DATA[[#This Row],[Target scope]:[Target justification (if<100%)]]),0)+IF(GLOBAL_DATA[[#This Row],[Status]]<>Status_No_Project,COUNTBLANK(GLOBAL_DATA[[#This Row],[Implementation progress rate]:[CISO assessment]]),0) -> 0 | AJ13: =IF(AND(GLOBAL_DATA[[#This Row],[Status]]=DATA_Status_TOBESTARTED,GLOBAL_DATA[[#This Row],[Implementation progress rate]]>0),DATA_DQA_1,"") | AK13: =IF(AND(GLOBAL_DATA[[#This Row],[Status]]=In_progress,GLOBAL_DATA[[#This Row],[Implementation progress rate]]=1),DATA_DQA_2,"") | AL13: {=IF(AND(GLOBAL_DATA[[#This Row],[Status]]=In_progress,GLOBAL_DATA[[#This Row],[Implementation progress rate]]=0),DATA_DQA_3,"")} | AM13: =IF(AND(GLOBAL_DATA[[#This Row],[Status]]=Done,GLOBAL_DATA[[#This Row],[Implementation progress rate]]<1),DATA_QDA_4,"") | AN13: {=IF(GLOBAL_DATA[[#This Row],[Status]]="",DATA_QDA_7,"")} | AO13: =IF(AND(GLOBAL_DATA[[#This Row],[Initial end]]="",GLOBAL_DATA[[#This Row],[Re-estimated end]]="",GLOBAL_DATA[[#This Row],[Status]]=DATA_Status_INPROGRESS),DATA_QDA_12,"") | AP13: =IF(AND(GLOBAL_DATA[[#This Row],[Initial end]]="",GLOBAL_DATA[[#This Row],[Re-estimated end]]="",GLOBAL_DATA[[#This Row],[Status]]=DATA_Status_TOBESTARTED),DATA_QDA_13,"") | AQ13: =IF(AND(GLOBAL_DATA[[#This Row],[Status]]=DATA_Status_INPROGRESS,GLOBAL_DATA[[#This Row],[Total Initial]]=0,GLOBAL_DATA[[#This Row],[Total re-estimated]]=0),DATA_DQA_11,"") | AR13: =IF(AND(GLOBAL_DATA[[#This Row],[Will be done]]=1,SUM(GLOBAL_DATA[[#This Row],[Total Initial]]:GLOBAL_DATA[[#This Row],[Total Spent]])<>0,GLOBAL_DATA[[#This Row],[Kick-off]]=""),DATA_DQA_16,"") | AS13: =IF(AND(GLOBAL_DATA[[#This Row],[Will be done]]=1,SUM(GLOBAL_DATA[[#This Row],[Total Initial]]:GLOBAL_DATA[[#This Row],[Total Spent]])<>0,GLOBAL_DATA[[#This Row],[Initial end]]=""),DATA_QDA_17,"") | AT13: =IF(AND(IFERROR(DATEDIF(GLOBAL_DATA[[#This Row],[Kick-off]],TODAY(),"m"),0)<>0,OR(GLOBAL_DATA[[#This Row],[Status]]=DATA_Status_TOBESTARTED)),DATA_QDA_19,"") | AU13: =IF(AND(GLOBAL_DATA[[#This Row],[Kick-off]]<>"",GLOBAL_DATA[[#This Row],[Kick-off]]>GLOBAL_DATA[[#This Row],[Re-estimated end]]),DATA_DQA_14,"") | AV13: =IF(AND(IFERROR(DATEDIF(TODAY(),GLOBAL_DATA[[#This Row],[Re-estimated end]],"m"),0)>1,GLOBAL_DATA[[#This Row],[Implementation progress rate]]=1),DATA_QDA_8,"") | AW13: {=IF(AND(GLOBAL_DATA[[#This Row],[CISO assessment]]="Warning only",TRIM(GLOBAL_DATA[[#This Row],[CISO Comments]])=""),DATA_DQA_9,"")} | AX13: =IF(AND(GLOBAL_DATA[[#This Row],[CISO assessment]]="Alert",TRIM(GLOBAL_DATA[[#This Row],[CISO Comments]])=""),DATA_DQA_10,"") | AY13: No | AZ13: =IF(OR(GLOBAL_DATA[[#This Row],[Status]]="",GLOBAL_DATA[[#This Row],[Status]]=Risk_accepted,GLOBAL_DATA[[#This Row],[Status]]=Target_Not_Applicable),1,0) -> 0 | BA13: =IF(OR(GLOBAL_DATA[[#This Row],[Status]]=DATA_Status_TOBESTARTED,GLOBAL_DATA[[#This Row],[Status]]=DATA_Status_INPROGRESS),1,0) -> 1 | BB13: =IF(OR(GLOBAL_DATA[[#This Row],[Status]]=Done,GLOBAL_DATA[[#This Row],[Status]]=Checked),1,0) -> 0
