Workbook
Name BudgetSecuPackLine: [1]Budget!$B1
Name Dash_AntiAPT: [2]Dashboard!$B$22
Name Dash_AntiDdos: [2]Dashboard!$G$6
Name Dash_AntiFraud: [2]Dashboard!$L$6
Name Dash_ATM: [2]Dashboard!$G$22
Name Dash_Basics: [2]Dashboard!$B$6
Name Dash_DLP: [2]Dashboard!$Q$6
Name Dash_LocalPackage: [2]Dashboard!$L$22
Name DATA_AutomaticWarnings_1: [1]DATA!$Q$2
Name DATA_AutomaticWarnings_2: [1]DATA!$Q$3
Name DATA_AutomaticWarnings_3: [1]DATA!$Q$4
Name DATA_AutomaticWarnings_4: [1]DATA!$Q$5
Name DATA_AutomaticWarnings_5: [1]DATA!$Q$6
Name DATA_AutomaticWarnings_6: [1]DATA!$Q$7
Name DATA_AutomaticWarnings_7: [1]DATA!$Q$8
Name DATA_AutomaticWarnings_8: [1]DATA!$Q$9
Name DATA_AutomaticWarnings_9: [1]DATA!$Q$10
Name DATA_DQA_1: [1]DATA!$O$2
Name DATA_DQA_10: [1]DATA!$O$11
Name DATA_DQA_11: [1]DATA!$O$12
Name DATA_DQA_12: [1]DATA!$O$13
Name DATA_DQA_13: [1]DATA!$O$14
Name DATA_DQA_14: [1]DATA!$O$15
Name DATA_DQA_16: [1]DATA!$O$17
Name DATA_DQA_17: [1]DATA!$O$18
Name DATA_DQA_18: [1]DATA!$O$19
Name DATA_DQA_19: [1]DATA!$O$20
Name DATA_DQA_2: [1]DATA!$O$3
Name DATA_DQA_3: [1]DATA!$O$4
Name DATA_DQA_4: [1]DATA!$O$5
Name DATA_DQA_5: [1]DATA!$O$6
Name DATA_DQA_6: [1]DATA!$O$7
Name DATA_DQA_7: [1]DATA!$O$8
Name DATA_DQA_8: [1]DATA!$O$9
Name DATA_DQA_9: [1]DATA!$O$10
Name DATA_FileVersion: DATA!$A$3
Name DATA_SP_AFadv: [1]DATA!$C$5
Name DATA_SP_AFMed: [1]DATA!$C$4
Name DATA_SP_AntiAPTAdv: [1]DATA!$C$8
Name DATA_SP_AntiAPTMed: [1]DATA!$C$7
Name DATA_SP_AntiDdos: [1]DATA!$C$3
Name DATA_SP_ATMsecAdv: [1]DATA!$C$11
Name DATA_SP_ATMsecBas: [1]DATA!$C$9
Name DATA_SP_ATMsecMed: [2]DATA!$C$10
Name DATA_SP_Basics: [1]DATA!$C$2
Name DATA_SP_CBDataSecurity: [1]DATA!$C$12
Name DATA_SP_CertifAudit: [1]DATA!$C$13
Name DATA_SP_DLP: [1]DATA!$C$6
Name DATA_SP_LocalPackage: [1]DATA!$C$14
Name DATA_SPG_AntiAPT: [1]DATA!$Z$3
Name DATA_SPG_AntiFraud: [1]DATA!$Z$2
Name DATA_SPG_ATM: [1]DATA!$Z$4
Name DATA_Status_CERTIFIED: [1]DATA!$E$9
Name DATA_Status_DONEPostAuditMitigation: [1]DATA!$E$8
Name DATA_Status_DONEtoBeCERTIFIED: [1]DATA!$E$7
Name DATA_Status_INPROGRESS: [1]DATA!$E$6
Name DATA_Status_NOTAPPLICABLE: [1]DATA!$E$4
Name DATA_Status_PleaseChoose: [1]DATA!$E$2
Name DATA_Status_RiskAccepted: [1]DATA!$E$3
Name DATA_Status_TOBESTARTED: [1]DATA!$E$5

Sheet SECURITY MEASURES
A1: C2-Confidential | E1: SECURITY MEASURES | H1: =INDEX(GLOBAL_DATA[Entity],1) -> XX | N1: IMPLEMENTATION at the end of the program | Q1: PROJECT EXECUTION | U1: PLANNING | Z1: BUDGET (k€) | AO1: ENTITY Private columns | AQ1: CHECKS
N2: (including already implemented measures) | AA2: TOTAL | AD2: 2020 | AG2: 2021 | AJ2: 2022 | AM2: 2023
A4: BU | B4: Region | C4: Entity | D4: Index | E4: Security pack | F4: Topic | G4: Measure ID | H4: Priority | I4: Measure | J4: Description | K4: Deliverables | L4: Dependencies | M4: Reference | N4: Target status | O4: Target scope | P4: Target justification (if<100%) | Q4: Status | R4: Implementation progress rate | S4: CISO assessment | T4: CISO Comments | U4: Resource allocated | V4: Main actor | W4: Kick-off | X4: Initial end | Y4: Re-estimated end | Z4: Total Initial | AA4: Total re-estimated | AB4: Total Spent | AC4: Initial 2020 | AD4: Reestimated 2020 | AE4: Spent 2020 | AF4: Initial 2021 | AG4: Reestimated 2021 | AH4: Spent 2021 | AI4: Initial 2022 | AJ4: Reestimated 2022 | AK4: Spent 2022 | AL4: Initial 2023 | AM4: Reestimated 2023 | AN4: Spent 2023 | AO4: <Local use 1> | AP4: <Local use 2> | AQ4: Global Progress rate | AR4: Impl_Yes | AS4: Impl_Date | AT4: DataInconsistency | AU4: EmptyFields
A5: XX | B5: XX | C5: XX | D5: XX | E5: XX | F5: XX | G5: XX | H5: XX | I5: XX | J5: XX | K5: XX | L5: XX | M5: XX | N5: =IF(GLOBAL_DATA[[#This Row],[Target scope]]="","",INDEX(DATA_TargetStatusChoice[Target_Status_Choice],MATCH(GLOBAL_DATA[[#This Row],[Target scope]],DATA_TargetStatusChoice[Value],1))) -> FULL IMPLEMENTATION | O5: 1 | P5: - | Q5: IN PROGRESS | R5: 0.95 | S5: No alert | T5: XX | Z5: =SUM(GLOBAL_DATA[[#This Row],[Initial 2020]]+GLOBAL_DATA[[#This Row],[Initial 2021]]+GLOBAL_DATA[[#This Row],[Initial 2022]]+GLOBAL_DATA[[#This Row],[Initial 2023]]) -> 0 | AA5: =SUM(GLOBAL_DATA[[#This Row],[Reestimated 2020]]+GLOBAL_DATA[[#This Row],[Reestimated 2021]]+GLOBAL_DATA[[#This Row],[Reestimated 2022]]+GLOBAL_DATA[[#This Row],[Reestimated 2023]]) -> 0 | AB5: =SUM(GLOBAL_DATA[[#This Row],[Spent 2020]]+GLOBAL_DATA[[#This Row],[Spent 2021]]+GLOBAL_DATA[[#This Row],[Spent 2022]]+GLOBAL_DATA[[#This Row],[Spent 2023]]) -> 0 | AQ5: =IF(GLOBAL_DATA[[#This Row],[Target scope]]<>Target_Not_Applicable,GLOBAL_DATA[[#This Row],[Target scope]]*GLOBAL_DATA[[#This Row],[Implementation progress rate]],"") -> 0.95 | AR5: =IF(OR(GLOBAL_DATA[[#This Row],[Status]]=DATA!$J$6,GLOBAL_DATA[[#This Row],[Status]]=DATA!$J$7,GLOBAL_DATA[[#This Row],[Status]]=DATA!$J$8),1,0) -> 0 | AS5: =IF(GLOBAL_DATA[[#This Row],[Status]]=Status_No_Project,"",MAX(GLOBAL_DATA[[#This Row],[Initial end]],GLOBAL_DATA[[#This Row],[Re-estimated end]],43831)) -> 43831 | AT5: =IF(AND(GLOBAL_DATA[[#This Row],[Implementation progress rate]]<100%,GLOBAL_DATA[[#This Row],[Re-estimated end]]<=[0]!ReportingDate,GLOBAL_DATA[[#This Row],[Re-estimated end]]<>""),1,0)+IF(AND(GLOBAL_DATA[[#This Row],[Implementation progress rate]]<100%,GLOBAL_DATA[[#This Row],[Initial end]]<=[0]!ReportingDate,GLOBAL_DATA[[#This Row],[Re-estimated end]]<[0]!ReportingDate,GLOBAL_DATA[[#This Row],[Re-estimated end]]<>""),1,0)+IF(AND(OR(GLOBAL_DATA[[#This Row],[Target scope]]=Target_Not_Applicable,GLOBAL_DATA[[#This Row],[Target scope]]=Risk_accepted),GLOBAL_DATA[[#This Row],[Kick-off]]<>""),1,0)+IF(AND(GLOBAL_DATA[[#This Row],[Status]]=In_progress,GLOBAL_DATA[[#This Row],[Implementation progress rate]]=Risk_accepted),1,0)+IF(AND(GLOBAL_DATA[[#This Row],[Status]]=In_progress,GLOBAL_DATA[[#This Row],[Implementation progress rate]]=full),1,0) -> #REF! | AU5: =IF(GLOBAL_DATA[[#This Row],[Target scope]]<>Target_Not_Applicable,COUNTBLANK(GLOBAL_DATA[[#This Row],[Target scope]:[Target justification (if<100%)]]),0)+IF(GLOBAL_DATA[[#This Row],[Status]]<>Status_No_Project,COUNTBLANK(GLOBAL_DATA[[#This Row],[Implementation progress rate]:[CISO assessment]]),0) -> 0
A6: XX | B6: XX | C6: XX | D6: XX | E6: XX | F6: XX | G6: XX | H6: XX | I6: XX | J6: XX | K6: XX | L6: XX | M6: XX | N6: =IF(GLOBAL_DATA[[#This Row],[Target scope]]="","",INDEX(DATA_TargetStatusChoice[Target_Status_Choice],MATCH(GLOBAL_DATA[[#This Row],[Target scope]],DATA_TargetStatusChoice[Value],1))) -> FULL IMPLEMENTATION | O6: 1 | P6: - | Q6: IN PROGRESS | R6: 1 | S6: No alert | T6: XX | Z6: =SUM(GLOBAL_DATA[[#This Row],[Initial 2020]]+GLOBAL_DATA[[#This Row],[Initial 2021]]+GLOBAL_DATA[[#This Row],[Initial 2022]]+GLOBAL_DATA[[#This Row],[Initial 2023]]) -> 0 | AA6: =SUM(GLOBAL_DATA[[#This Row],[Reestimated 2020]]+GLOBAL_DATA[[#This Row],[Reestimated 2021]]+GLOBAL_DATA[[#This Row],[Reestimated 2022]]+GLOBAL_DATA[[#This Row],[Reestimated 2023]]) -> 0 | AB6: =SUM(GLOBAL_DATA[[#This Row],[Spent 2020]]+GLOBAL_DATA[[#This Row],[Spent 2021]]+GLOBAL_DATA[[#This Row],[Spent 2022]]+GLOBAL_DATA[[#This Row],[Spent 2023]]) -> 0 | AQ6: =IF(GLOBAL_DATA[[#This Row],[Target scope]]<>Target_Not_Applicable,GLOBAL_DATA[[#This Row],[Target scope]]*GLOBAL_DATA[[#This Row],[Implementation progress rate]],"") -> 1 | AR6: =IF(OR(GLOBAL_DATA[[#This Row],[Status]]=DATA!$J$6,GLOBAL_DATA[[#This Row],[Status]]=DATA!$J$7,GLOBAL_DATA[[#This Row],[Status]]=DATA!$J$8),1,0) -> 0 | AS6: =IF(GLOBAL_DATA[[#This Row],[Status]]=Status_No_Project,"",MAX(GLOBAL_DATA[[#This Row],[Initial end]],GLOBAL_DATA[[#This Row],[Re-estimated end]],43831)) -> 43831 | AT6: =IF(AND(GLOBAL_DATA[[#This Row],[Implementation progress rate]]<100%,GLOBAL_DATA[[#This Row],[Re-estimated end]]<=[0]!ReportingDate,GLOBAL_DATA[[#This Row],[Re-estimated end]]<>""),1,0)+IF(AND(GLOBAL_DATA[[#This Row],[Implementation progress rate]]<100%,GLOBAL_DATA[[#This Row],[Initial end]]<=[0]!ReportingDate,GLOBAL_DATA[[#This Row],[Re-estimated end]]<[0]!ReportingDate,GLOBAL_DATA[[#This Row],[Re-estimated end]]<>""),1,0)+IF(AND(OR(GLOBAL_DATA[[#This Row],[Target scope]]=Target_Not_Applicable,GLOBAL_DATA[[#This Row],[Target scope]]=Risk_accepted),GLOBAL_DATA[[#This Row],[Kick-off]]<>""),1,0)+IF(AND(GLOBAL_DATA[[#This Row],[Status]]=In_progress,GLOBAL_DATA[[#This Row],[Implementation progress rate]]=Risk_accepted),1,0)+IF(AND(GLOBAL_DATA[[#This Row],[Status]]=In_progress,GLOBAL_DATA[[#This Row],[Implementation progress rate]]=full),1,0) -> #REF! | AU6: =IF(GLOBAL_DATA[[#This Row],[Target scope]]<>Target_Not_Applicable,COUNTBLANK(GLOBAL_DATA[[#This Row],[Target scope]:[Target justification (if<100%)]]),0)+IF(GLOBAL_DATA[[#This Row],[Status]]<>Status_No_Project,COUNTBLANK(GLOBAL_DATA[[#This Row],[Implementation progress rate]:[CISO assessment]]),0) -> 0
A7: XX | B7: XX | C7: XX | D7: XX | E7: XX | F7: XX | G7: XX | H7: XX | I7: XX | J7: XX | K7: XX | L7: XX | M7: XX | N7: =IF(GLOBAL_DATA[[#This Row],[Target scope]]="","",INDEX(DATA_TargetStatusChoice[Target_Status_Choice],MATCH(GLOBAL_DATA[[#This Row],[Target scope]],DATA_TargetStatusChoice[Value],1))) -> FULL IMPLEMENTATION | O7: 1 | P7: - | Q7: IN PROGRESS | R7: 1 | S7: No alert | T7: XX | Z7: =SUM(GLOBAL_DATA[[#This Row],[Initial 2020]]+GLOBAL_DATA[[#This Row],[Initial 2021]]+GLOBAL_DATA[[#This Row],[Initial 2022]]+GLOBAL_DATA[[#This Row],[Initial 2023]]) -> 0 | AA7: =SUM(GLOBAL_DATA[[#This Row],[Reestimated 2020]]+GLOBAL_DATA[[#This Row],[Reestimated 2021]]+GLOBAL_DATA[[#This Row],[Reestimated 2022]]+GLOBAL_DATA[[#This Row],[Reestimated 2023]]) -> 0 | AB7: =SUM(GLOBAL_DATA[[#This Row],[Spent 2020]]+GLOBAL_DATA[[#This Row],[Spent 2021]]+GLOBAL_DATA[[#This Row],[Spent 2022]]+GLOBAL_DATA[[#This Row],[Spent 2023]]) -> 0 | AQ7: =IF(GLOBAL_DATA[[#This Row],[Target scope]]<>Target_Not_Applicable,GLOBAL_DATA[[#This Row],[Target scope]]*GLOBAL_DATA[[#This Row],[Implementation progress rate]],"") -> 1 | AR7: =IF(OR(GLOBAL_DATA[[#This Row],[Status]]=DATA!$J$6,GLOBAL_DATA[[#This Row],[Status]]=DATA!$J$7,GLOBAL_DATA[[#This Row],[Status]]=DATA!$J$8),1,0) -> 0 | AS7: =IF(GLOBAL_DATA[[#This Row],[Status]]=Status_No_Project,"",MAX(GLOBAL_DATA[[#This Row],[Initial end]],GLOBAL_DATA[[#This Row],[Re-estimated end]],43831)) -> 43831 | AT7: =IF(AND(GLOBAL_DATA[[#This Row],[Implementation progress rate]]<100%,GLOBAL_DATA[[#This Row],[Re-estimated end]]<=[0]!ReportingDate,GLOBAL_DATA[[#This Row],[Re-estimated end]]<>""),1,0)+IF(AND(GLOBAL_DATA[[#This Row],[Implementation progress rate]]<100%,GLOBAL_DATA[[#This Row],[Initial end]]<=[0]!ReportingDate,GLOBAL_DATA[[#This Row],[Re-estimated end]]<[0]!ReportingDate,GLOBAL_DATA[[#This Row],[Re-estimated end]]<>""),1,0)+IF(AND(OR(GLOBAL_DATA[[#This Row],[Target scope]]=Target_Not_Applicable,GLOBAL_DATA[[#This Row],[Target scope]]=Risk_accepted),GLOBAL_DATA[[#This Row],[Kick-off]]<>""),1,0)+IF(AND(GLOBAL_DATA[[#This Row],[Status]]=In_progress,GLOBAL_DATA[[#This Row],[Implementation progress rate]]=Risk_accepted),1,0)+IF(AND(GLOBAL_DATA[[#This Row],[Status]]=In_progress,GLOBAL_DATA[[#This Row],[Implementation progress rate]]=full),1,0) -> #REF! | AU7: =IF(GLOBAL_DATA[[#This Row],[Target scope]]<>Target_Not_Applicable,COUNTBLANK(GLOBAL_DATA[[#This Row],[Target scope]:[Target justification (if<100%)]]),0)+IF(GLOBAL_DATA[[#This Row],[Status]]<>Status_No_Project,COUNTBLANK(GLOBAL_DATA[[#This Row],[Implementation progress rate]:[CISO assessment]]),0) -> 0
A8: XX | B8: XX | C8: XX | D8: XX | E8: XX | F8: XX | G8: XX | H8: XX | I8: XX | J8: XX | K8: XX | L8: XX | M8: XX | N8: =IF(GLOBAL_DATA[[#This Row],[Target scope]]="","",INDEX(DATA_TargetStatusChoice[Target_Status_Choice],MATCH(GLOBAL_DATA[[#This Row],[Target scope]],DATA_TargetStatusChoice[Value],1))) -> FULL IMPLEMENTATION | O8: 1 | P8: - | Q8: IN PROGRESS | R8: 1 | S8: No alert | T8: XX | Z8: =SUM(GLOBAL_DATA[[#This Row],[Initial 2020]]+GLOBAL_DATA[[#This Row],[Initial 2021]]+GLOBAL_DATA[[#This Row],[Initial 2022]]+GLOBAL_DATA[[#This Row],[Initial 2023]]) -> 0 | AA8: =SUM(GLOBAL_DATA[[#This Row],[Reestimated 2020]]+GLOBAL_DATA[[#This Row],[Reestimated 2021]]+GLOBAL_DATA[[#This Row],[Reestimated 2022]]+GLOBAL_DATA[[#This Row],[Reestimated 2023]]) -> 0 | AB8: =SUM(GLOBAL_DATA[[#This Row],[Spent 2020]]+GLOBAL_DATA[[#This Row],[Spent 2021]]+GLOBAL_DATA[[#This Row],[Spent 2022]]+GLOBAL_DATA[[#This Row],[Spent 2023]]) -> 0 | AQ8: =IF(GLOBAL_DATA[[#This Row],[Target scope]]<>Target_Not_Applicable,GLOBAL_DATA[[#This Row],[Target scope]]*GLOBAL_DATA[[#This Row],[Implementation progress rate]],"") -> 1 | AR8: =IF(OR(GLOBAL_DATA[[#This Row],[Status]]=DATA!$J$6,GLOBAL_DATA[[#This Row],[Status]]=DATA!$J$7,GLOBAL_DATA[[#This Row],[Status]]=DATA!$J$8),1,0) -> 0 | AS8: =IF(GLOBAL_DATA[[#This Row],[Status]]=Status_No_Project,"",MAX(GLOBAL_DATA[[#This Row],[Initial end]],GLOBAL_DATA[[#This Row],[Re-estimated end]],43831)) -> 43831 | AT8: =IF(AND(GLOBAL_DATA[[#This Row],[Implementation progress rate]]<100%,GLOBAL_DATA[[#This Row],[Re-estimated end]]<=[0]!ReportingDate,GLOBAL_DATA[[#This Row],[Re-estimated end]]<>""),1,0)+IF(AND(GLOBAL_DATA[[#This Row],[Implementation progress rate]]<100%,GLOBAL_DATA[[#This Row],[Initial end]]<=[0]!ReportingDate,GLOBAL_DATA[[#This Row],[Re-estimated end]]<[0]!ReportingDate,GLOBAL_DATA[[#This Row],[Re-estimated end]]<>""),1,0)+IF(AND(OR(GLOBAL_DATA[[#This Row],[Target scope]]=Target_Not_Applicable,GLOBAL_DATA[[#This Row],[Target scope]]=Risk_accepted),GLOBAL_DATA[[#This Row],[Kick-off]]<>""),1,0)+IF(AND(GLOBAL_DATA[[#This Row],[Status]]=In_progress,GLOBAL_DATA[[#This Row],[Implementation progress rate]]=Risk_accepted),1,0)+IF(AND(GLOBAL_DATA[[#This Row],[Status]]=In_progress,GLOBAL_DATA[[#This Row],[Implementation progress rate]]=full),1,0) -> #REF! | AU8: =IF(GLOBAL_DATA[[#This Row],[Target scope]]<>Target_Not_Applicable,COUNTBLANK(GLOBAL_DATA[[#This Row],[Target scope]:[Target justification (if<100%)]]),0)+IF(GLOBAL_DATA[[#This Row],[Status]]<>Status_No_Project,COUNTBLANK(GLOBAL_DATA[[#This Row],[Implementation progress rate]:[CISO assessment]]),0) -> 0
A9: XX | B9: XX | C9: XX | D9: XX | E9: XX | F9: XX | G9: XX | H9: XX | I9: XX | J9: XX | K9: XX | L9: XX | M9: XX | N9: =IF(GLOBAL_DATA[[#This Row],[Target scope]]="","",INDEX(DATA_TargetStatusChoice[Target_Status_Choice],MATCH(GLOBAL_DATA[[#This Row],[Target scope]],DATA_TargetStatusChoice[Value],1))) -> FULL IMPLEMENTATION | O9: 1 | P9: - | Q9: IN PROGRESS | R9: 0.99 | S9: No alert | T9: XX | W9: 42370 | X9: 43465 | Y9: 44196 | Z9: =SUM(GLOBAL_DATA[[#This Row],[Initial 2020]]+GLOBAL_DATA[[#This Row],[Initial 2021]]+GLOBAL_DATA[[#This Row],[Initial 2022]]+GLOBAL_DATA[[#This Row],[Initial 2023]]) -> 0 | AA9: =SUM(GLOBAL_DATA[[#This Row],[Reestimated 2020]]+GLOBAL_DATA[[#This Row],[Reestimated 2021]]+GLOBAL_DATA[[#This Row],[Reestimated 2022]]+GLOBAL_DATA[[#This Row],[Reestimated 2023]]) -> 0 | AB9: =SUM(GLOBAL_DATA[[#This Row],[Spent 2020]]+GLOBAL_DATA[[#This Row],[Spent 2021]]+GLOBAL_DATA[[#This Row],[Spent 2022]]+GLOBAL_DATA[[#This Row],[Spent 2023]]) -> 0 | AQ9: =IF(GLOBAL_DATA[[#This Row],[Target scope]]<>Target_Not_Applicable,GLOBAL_DATA[[#This Row],[Target scope]]*GLOBAL_DATA[[#This Row],[Implementation progress rate]],"") -> 0.99 | AR9: =IF(OR(GLOBAL_DATA[[#This Row],[Status]]=DATA!$J$6,GLOBAL_DATA[[#This Row],[Status]]=DATA!$J$7,GLOBAL_DATA[[#This Row],[Status]]=DATA!$J$8),1,0) -> 0 | AS9: =IF(GLOBAL_DATA[[#This Row],[Status]]=Status_No_Project,"",MAX(GLOBAL_DATA[[#This Row],[Initial end]],GLOBAL_DATA[[#This Row],[Re-estimated end]],43831)) -> 44196 | AT9: =IF(AND(GLOBAL_DATA[[#This Row],[Implementation progress rate]]<100%,GLOBAL_DATA[[#This Row],[Re-estimated end]]<=[0]!ReportingDate,GLOBAL_DATA[[#This Row],[Re-estimated end]]<>""),1,0)+IF(AND(GLOBAL_DATA[[#This Row],[Implementation progress rate]]<100%,GLOBAL_DATA[[#This Row],[Initial end]]<=[0]!ReportingDate,GLOBAL_DATA[[#This Row],[Re-estimated end]]<[0]!ReportingDate,GLOBAL_DATA[[#This Row],[Re-estimated end]]<>""),1,0)+IF(AND(OR(GLOBAL_DATA[[#This Row],[Target scope]]=Target_Not_Applicable,GLOBAL_DATA[[#This Row],[Target scope]]=Risk_accepted),GLOBAL_DATA[[#This Row],[Kick-off]]<>""),1,0)+IF(AND(GLOBAL_DATA[[#This Row],[Status]]=In_progress,GLOBAL_DATA[[#This Row],[Implementation progress rate]]=Risk_accepted),1,0)+IF(AND(GLOBAL_DATA[[#This Row],[Status]]=In_progress,GLOBAL_DATA[[#This Row],[Implementation progress rate]]=full),1,0) -> #REF! | AU9: =IF(GLOBAL_DATA[[#This Row],[Target scope]]<>Target_Not_Applicable,COUNTBLANK(GLOBAL_DATA[[#This Row],[Target scope]:[Target justification (if<100%)]]),0)+IF(GLOBAL_DATA[[#This Row],[Status]]<>Status_No_Project,COUNTBLANK(GLOBAL_DATA[[#This Row],[Implementation progress rate]:[CISO assessment]]),0) -> 0
A10: XX | B10: XX | C10: XX | D10: XX | E10: XX | F10: XX | G10: XX | H10: XX | I10: XX | J10: XX | K10: XX | L10: XX | M10: XX | N10: =IF(GLOBAL_DATA[[#This Row],[Target scope]]="","",INDEX(DATA_TargetStatusChoice[Target_Status_Choice],MATCH(GLOBAL_DATA[[#This Row],[Target scope]],DATA_TargetStatusChoice[Value],1))) -> FULL IMPLEMENTATION | O10: 1 | P10: - | Q10: IN PROGRESS | R10: 1 | S10: No alert | T10: XX | W10: 43626 | X10: 43830 | Y10: 43951 | Z10: =SUM(GLOBAL_DATA[[#This Row],[Initial 2020]]+GLOBAL_DATA[[#This Row],[Initial 2021]]+GLOBAL_DATA[[#This Row],[Initial 2022]]+GLOBAL_DATA[[#This Row],[Initial 2023]]) -> 0 | AA10: =SUM(GLOBAL_DATA[[#This Row],[Reestimated 2020]]+GLOBAL_DATA[[#This Row],[Reestimated 2021]]+GLOBAL_DATA[[#This Row],[Reestimated 2022]]+GLOBAL_DATA[[#This Row],[Reestimated 2023]]) -> 0 | AB10: =SUM(GLOBAL_DATA[[#This Row],[Spent 2020]]+GLOBAL_DATA[[#This Row],[Spent 2021]]+GLOBAL_DATA[[#This Row],[Spent 2022]]+GLOBAL_DATA[[#This Row],[Spent 2023]]) -> 0 | AQ10: =IF(GLOBAL_DATA[[#This Row],[Target scope]]<>Target_Not_Applicable,GLOBAL_DATA[[#This Row],[Target scope]]*GLOBAL_DATA[[#This Row],[Implementation progress rate]],"") -> 1 | AR10: =IF(OR(GLOBAL_DATA[[#This Row],[Status]]=DATA!$J$6,GLOBAL_DATA[[#This Row],[Status]]=DATA!$J$7,GLOBAL_DATA[[#This Row],[Status]]=DATA!$J$8),1,0) -> 0 | AS10: =IF(GLOBAL_DATA[[#This Row],[Status]]=Status_No_Project,"",MAX(GLOBAL_DATA[[#This Row],[Initial end]],GLOBAL_DATA[[#This Row],[Re-estimated end]],43831)) -> 43951 | AT10: =IF(AND(GLOBAL_DATA[[#This Row],[Implementation progress rate]]<100%,GLOBAL_DATA[[#This Row],[Re-estimated end]]<=[0]!ReportingDate,GLOBAL_DATA[[#This Row],[Re-estimated end]]<>""),1,0)+IF(AND(GLOBAL_DATA[[#This Row],[Implementation progress rate]]<100%,GLOBAL_DATA[[#This Row],[Initial end]]<=[0]!ReportingDate,GLOBAL_DATA[[#This Row],[Re-estimated end]]<[0]!ReportingDate,GLOBAL_DATA[[#This Row],[Re-estimated end]]<>""),1,0)+IF(AND(OR(GLOBAL_DATA[[#This Row],[Target scope]]=Target_Not_Applicable,GLOBAL_DATA[[#This Row],[Target scope]]=Risk_accepted),GLOBAL_DATA[[#This Row],[Kick-off]]<>""),1,0)+IF(AND(GLOBAL_DATA[[#This Row],[Status]]=In_progress,GLOBAL_DATA[[#This Row],[Implementation progress rate]]=Risk_accepted),1,0)+IF(AND(GLOBAL_DATA[[#This Row],[Status]]=In_progress,GLOBAL_DATA[[#This Row],[Implementation progress rate]]=full),1,0) -> #REF! | AU10: =IF(GLOBAL_DATA[[#This Row],[Target scope]]<>Target_Not_Applicable,COUNTBLANK(GLOBAL_DATA[[#This Row],[Target scope]:[Target justification (if<100%)]]),0)+IF(GLOBAL_DATA[[#This Row],[Status]]<>Status_No_Project,COUNTBLANK(GLOBAL_DATA[[#This Row],[Implementation progress rate]:[CISO assessment]]),0) -> 0
A11: XX | B11: XX | C11: XX | D11: XX | E11: XX | F11: XX | G11: XX | H11: XX | I11: XX | J11: XX | K11: XX | L11: XX | M11: XX | N11: =IF(GLOBAL_DATA[[#This Row],[Target scope]]="","",INDEX(DATA_TargetStatusChoice[Target_Status_Choice],MATCH(GLOBAL_DATA[[#This Row],[Target scope]],DATA_TargetStatusChoice[Value],1))) -> FULL IMPLEMENTATION | O11: 1 | P11: - | Q11: IN PROGRESS | R11: 1 | S11: No alert | T11: XX | W11: 43466 | X11: 43830 | Y11: 44196 | Z11: =SUM(GLOBAL_DATA[[#This Row],[Initial 2020]]+GLOBAL_DATA[[#This Row],[Initial 2021]]+GLOBAL_DATA[[#This Row],[Initial 2022]]+GLOBAL_DATA[[#This Row],[Initial 2023]]) -> 0 | AA11: =SUM(GLOBAL_DATA[[#This Row],[Reestimated 2020]]+GLOBAL_DATA[[#This Row],[Reestimated 2021]]+GLOBAL_DATA[[#This Row],[Reestimated 2022]]+GLOBAL_DATA[[#This Row],[Reestimated 2023]]) -> 0 | AB11: =SUM(GLOBAL_DATA[[#This Row],[Spent 2020]]+GLOBAL_DATA[[#This Row],[Spent 2021]]+GLOBAL_DATA[[#This Row],[Spent 2022]]+GLOBAL_DATA[[#This Row],[Spent 2023]]) -> 0 | AQ11: =IF(GLOBAL_DATA[[#This Row],[Target scope]]<>Target_Not_Applicable,GLOBAL_DATA[[#This Row],[Target scope]]*GLOBAL_DATA[[#This Row],[Implementation progress rate]],"") -> 1 | AR11: =IF(OR(GLOBAL_DATA[[#This Row],[Status]]=DATA!$J$6,GLOBAL_DATA[[#This Row],[Status]]=DATA!$J$7,GLOBAL_DATA[[#This Row],[Status]]=DATA!$J$8),1,0) -> 0 | AS11: =IF(GLOBAL_DATA[[#This Row],[Status]]=Status_No_Project,"",MAX(GLOBAL_DATA[[#This Row],[Initial end]],GLOBAL_DATA[[#This Row],[Re-estimated end]],43831)) -> 44196 | AT11: =IF(AND(GLOBAL_DATA[[#This Row],[Implementation progress rate]]<100%,GLOBAL_DATA[[#This Row],[Re-estimated end]]<=[0]!ReportingDate,GLOBAL_DATA[[#This Row],[Re-estimated end]]<>""),1,0)+IF(AND(GLOBAL_DATA[[#This Row],[Implementation progress rate]]<100%,GLOBAL_DATA[[#This Row],[Initial end]]<=[0]!ReportingDate,GLOBAL_DATA[[#This Row],[Re-estimated end]]<[0]!ReportingDate,GLOBAL_DATA[[#This Row],[Re-estimated end]]<>""),1,0)+IF(AND(OR(GLOBAL_DATA[[#This Row],[Target scope]]=Target_Not_Applicable,GLOBAL_DATA[[#This Row],[Target scope]]=Risk_accepted),GLOBAL_DATA[[#This Row],[Kick-off]]<>""),1,0)+IF(AND(GLOBAL_DATA[[#This Row],[Status]]=In_progress,GLOBAL_DATA[[#This Row],[Implementation progress rate]]=Risk_accepted),1,0)+IF(AND(GLOBAL_DATA[[#This Row],[Status]]=In_progress,GLOBAL_DATA[[#This Row],[Implementation progress rate]]=full),1,0) -> #REF! | AU11: =IF(GLOBAL_DATA[[#This Row],[Target scope]]<>Target_Not_Applicable,COUNTBLANK(GLOBAL_DATA[[#This Row],[Target scope]:[Target justification (if<100%)]]),0)+IF(GLOBAL_DATA[[#This Row],[Status]]<>Status_No_Project,COUNTBLANK(GLOBAL_DATA[[#This Row],[Implementation progress rate]:[CISO assessment]]),0) -> 0
A12: XX | B12: XX | C12: XX | D12: XX | E12: XX | F12: XX | G12: XX | H12: XX | I12: XX | J12: XX | K12: XX | L12: XX | M12: XX | N12: =IF(GLOBAL_DATA[[#This Row],[Target scope]]="","",INDEX(DATA_TargetStatusChoice[Target_Status_Choice],MATCH(GLOBAL_DATA[[#This Row],[Target scope]],DATA_TargetStatusChoice[Value],1))) -> FULL IMPLEMENTATION | O12: 1 | P12: - | Q12: IN PROGRESS | R12: 1 | S12: No alert | T12: XX | W12: 43646 | X12: 43830 | Y12: 44196 | Z12: =SUM(GLOBAL_DATA[[#This Row],[Initial 2020]]+GLOBAL_DATA[[#This Row],[Initial 2021]]+GLOBAL_DATA[[#This Row],[Initial 2022]]+GLOBAL_DATA[[#This Row],[Initial 2023]]) -> 0 | AA12: =SUM(GLOBAL_DATA[[#This Row],[Reestimated 2020]]+GLOBAL_DATA[[#This Row],[Reestimated 2021]]+GLOBAL_DATA[[#This Row],[Reestimated 2022]]+GLOBAL_DATA[[#This Row],[Reestimated 2023]]) -> 0 | AB12: =SUM(GLOBAL_DATA[[#This Row],[Spent 2020]]+GLOBAL_DATA[[#This Row],[Spent 2021]]+GLOBAL_DATA[[#This Row],[Spent 2022]]+GLOBAL_DATA[[#This Row],[Spent 2023]]) -> 0 | AQ12: =IF(GLOBAL_DATA[[#This Row],[Target scope]]<>Target_Not_Applicable,GLOBAL_DATA[[#This Row],[Target scope]]*GLOBAL_DATA[[#This Row],[Implementation progress rate]],"") -> 1 | AR12: =IF(OR(GLOBAL_DATA[[#This Row],[Status]]=DATA!$J$6,GLOBAL_DATA[[#This Row],[Status]]=DATA!$J$7,GLOBAL_DATA[[#This Row],[Status]]=DATA!$J$8),1,0) -> 0 | AS12: =IF(GLOBAL_DATA[[#This Row],[Status]]=Status_No_Project,"",MAX(GLOBAL_DATA[[#This Row],[Initial end]],GLOBAL_DATA[[#This Row],[Re-estimated end]],43831)) -> 44196 | AT12: =IF(AND(GLOBAL_DATA[[#This Row],[Implementation progress rate]]<100%,GLOBAL_DATA[[#This Row],[Re-estimated end]]<=[0]!ReportingDate,GLOBAL_DATA[[#This Row],[Re-estimated end]]<>""),1,0)+IF(AND(GLOBAL_DATA[[#This Row],[Implementation progress rate]]<100%,GLOBAL_DATA[[#This Row],[Initial end]]<=[0]!ReportingDate,GLOBAL_DATA[[#This Row],[Re-estimated end]]<[0]!ReportingDate,GLOBAL_DATA[[#This Row],[Re-estimated end]]<>""),1,0)+IF(AND(OR(GLOBAL_DATA[[#This Row],[Target scope]]=Target_Not_Applicable,GLOBAL_DATA[[#This Row],[Target scope]]=Risk_accepted),GLOBAL_DATA[[#This Row],[Kick-off]]<>""),1,0)+IF(AND(GLOBAL_DATA[[#This Row],[Status]]=In_progress,GLOBAL_DATA[[#This Row],[Implementation progress rate]]=Risk_accepted),1,0)+IF(AND(GLOBAL_DATA[[#This Row],[Status]]=In_progress,GLOBAL_DATA[[#This Row],[Implementation progress rate]]=full),1,0) -> #REF! | AU12: =IF(GLOBAL_DATA[[#This Row],[Target scope]]<>Target_Not_Applicable,COUNTBLANK(GLOBAL_DATA[[#This Row],[Target scope]:[Target justification (if<100%)]]),0)+IF(GLOBAL_DATA[[#This Row],[Status]]<>Status_No_Project,COUNTBLANK(GLOBAL_DATA[[#This Row],[Implementation progress rate]:[CISO assessment]]),0) -> 0
A13: XX | B13: XX | C13: XX | D13: XX | E13: XX | F13: XX | G13: XX | H13: XX | I13: XX | J13: XX | K13: XX | L13: XX | M13: XX | N13: =IF(GLOBAL_DATA[[#This Row],[Target scope]]="","",INDEX(DATA_TargetStatusChoice[Target_Status_Choice],MATCH(GLOBAL_DATA[[#This Row],[Target scope]],DATA_TargetStatusChoice[Value],1))) -> FULL IMPLEMENTATION | O13: 1 | P13: - | Q13: IN PROGRESS | R13: 0.95 | S13: No alert | T13: XX | W13: 43646 | X13: 43830 | Y13: 44196 | Z13: =SUM(GLOBAL_DATA[[#This Row],[Initial 2020]]+GLOBAL_DATA[[#This Row],[Initial 2021]]+GLOBAL_DATA[[#This Row],[Initial 2022]]+GLOBAL_DATA[[#This Row],[Initial 2023]]) -> 0 | AA13: =SUM(GLOBAL_DATA[[#This Row],[Reestimated 2020]]+GLOBAL_DATA[[#This Row],[Reestimated 2021]]+GLOBAL_DATA[[#This Row],[Reestimated 2022]]+GLOBAL_DATA[[#This Row],[Reestimated 2023]]) -> 0 | AB13: =SUM(GLOBAL_DATA[[#This Row],[Spent 2020]]+GLOBAL_DATA[[#This Row],[Spent 2021]]+GLOBAL_DATA[[#This Row],[Spent 2022]]+GLOBAL_DATA[[#This Row],[Spent 2023]]) -> 0 | AQ13: =IF(GLOBAL_DATA[[#This Row],[Target scope]]<>Target_Not_Applicable,GLOBAL_DATA[[#This Row],[Target scope]]*GLOBAL_DATA[[#This Row],[Implementation progress rate]],"") -> 0.95 | AR13: =IF(OR(GLOBAL_DATA[[#This Row],[Status]]=DATA!$J$6,GLOBAL_DATA[[#This Row],[Status]]=DATA!$J$7,GLOBAL_DATA[[#This Row],[Status]]=DATA!$J$8),1,0) -> 0 | AS13: =IF(GLOBAL_DATA[[#This Row],[Status]]=Status_No_Project,"",MAX(GLOBAL_DATA[[#This Row],[Initial end]],GLOBAL_DATA[[#This Row],[Re-estimated end]],43831)) -> 44196 | AT13: =IF(AND(GLOBAL_DATA[[#This Row],[Implementation progress rate]]<100%,GLOBAL_DATA[[#This Row],[Re-estimated end]]<=[0]!ReportingDate,GLOBAL_DATA[[#This Row],[Re-estimated end]]<>""),1,0)+IF(AND(GLOBAL_DATA[[#This Row],[Implementation progress rate]]<100%,GLOBAL_DATA[[#This Row],[Initial end]]<=[0]!ReportingDate,GLOBAL_DATA[[#This Row],[Re-estimated end]]<[0]!ReportingDate,GLOBAL_DATA[[#This Row],[Re-estimated end]]<>""),1,0)+IF(AND(OR(GLOBAL_DATA[[#This Row],[Target scope]]=Target_Not_Applicable,GLOBAL_DATA[[#This Row],[Target scope]]=Risk_accepted),GLOBAL_DATA[[#This Row],[Kick-off]]<>""),1,0)+IF(AND(GLOBAL_DATA[[#This Row],[Status]]=In_progress,GLOBAL_DATA[[#This Row],[Implementation progress rate]]=Risk_accepted),1,0)+IF(AND(GLOBAL_DATA[[#This Row],[Status]]=In_progress,GLOBAL_DATA[[#This Row],[Implementation progress rate]]=full),1,0) -> #REF! | AU13: =IF(GLOBAL_DATA[[#This Row],[Target scope]]<>Target_Not_Applicable,COUNTBLANK(GLOBAL_DATA[[#This Row],[Target scope]:[Target justification (if<100%)]]),0)+IF(GLOBAL_DATA[[#This Row],[Status]]<>Status_No_Project,COUNTBLANK(GLOBAL_DATA[[#This Row],[Implementation progress rate]:[CISO assessment]]),0) -> 0
A14: XX | B14: XX | C14: XX | D14: XX | E14: XX | F14: XX | G14: XX | H14: XX | I14: XX | J14: XX | K14: XX | L14: XX | M14: XX | N14: =IF(GLOBAL_DATA[[#This Row],[Target scope]]="","",INDEX(DATA_TargetStatusChoice[Target_Status_Choice],MATCH(GLOBAL_DATA[[#This Row],[Target scope]],DATA_TargetStatusChoice[Value],1))) -> FULL IMPLEMENTATION | O14: 1 | P14: - | Q14: IN PROGRESS | R14: 0.3 | S14: No alert | T14: XX | W14: 43466 | X14: 43830 | Y14: 44196 | Z14: =SUM(GLOBAL_DATA[[#This Row],[Initial 2020]]+GLOBAL_DATA[[#This Row],[Initial 2021]]+GLOBAL_DATA[[#This Row],[Initial 2022]]+GLOBAL_DATA[[#This Row],[Initial 2023]]) -> 0 | AA14: =SUM(GLOBAL_DATA[[#This Row],[Reestimated 2020]]+GLOBAL_DATA[[#This Row],[Reestimated 2021]]+GLOBAL_DATA[[#This Row],[Reestimated 2022]]+GLOBAL_DATA[[#This Row],[Reestimated 2023]]) -> 0 | AB14: =SUM(GLOBAL_DATA[[#This Row],[Spent 2020]]+GLOBAL_DATA[[#This Row],[Spent 2021]]+GLOBAL_DATA[[#This Row],[Spent 2022]]+GLOBAL_DATA[[#This Row],[Spent 2023]]) -> 0 | AQ14: =IF(GLOBAL_DATA[[#This Row],[Target scope]]<>Target_Not_Applicable,GLOBAL_DATA[[#This Row],[Target scope]]*GLOBAL_DATA[[#This Row],[Implementation progress rate]],"") -> 0.3 | AR14: =IF(OR(GLOBAL_DATA[[#This Row],[Status]]=DATA!$J$6,GLOBAL_DATA[[#This Row],[Status]]=DATA!$J$7,GLOBAL_DATA[[#This Row],[Status]]=DATA!$J$8),1,0) -> 0 | AS14: =IF(GLOBAL_DATA[[#This Row],[Status]]=Status_No_Project,"",MAX(GLOBAL_DATA[[#This Row],[Initial end]],GLOBAL_DATA[[#This Row],[Re-estimated end]],43831)) -> 44196 | AT14: =IF(AND(GLOBAL_DATA[[#This Row],[Implementation progress rate]]<100%,GLOBAL_DATA[[#This Row],[Re-estimated end]]<=[0]!ReportingDate,GLOBAL_DATA[[#This Row],[Re-estimated end]]<>""),1,0)+IF(AND(GLOBAL_DATA[[#This Row],[Implementation progress rate]]<100%,GLOBAL_DATA[[#This Row],[Initial end]]<=[0]!ReportingDate,GLOBAL_DATA[[#This Row],[Re-estimated end]]<[0]!ReportingDate,GLOBAL_DATA[[#This Row],[Re-estimated end]]<>""),1,0)+IF(AND(OR(GLOBAL_DATA[[#This Row],[Target scope]]=Target_Not_Applicable,GLOBAL_DATA[[#This Row],[Target scope]]=Risk_accepted),GLOBAL_DATA[[#This Row],[Kick-off]]<>""),1,0)+IF(AND(GLOBAL_DATA[[#This Row],[Status]]=In_progress,GLOBAL_DATA[[#This Row],[Implementation progress rate]]=Risk_accepted),1,0)+IF(AND(GLOBAL_DATA[[#This Row],[Status]]=In_progress,GLOBAL_DATA[[#This Row],[Implementation progress rate]]=full),1,0) -> #REF! | AU14: =IF(GLOBAL_DATA[[#This Row],[Target scope]]<>Target_Not_Applicable,COUNTBLANK(GLOBAL_DATA[[#This Row],[Target scope]:[Target justification (if<100%)]]),0)+IF(GLOBAL_DATA[[#This Row],[Status]]<>Status_No_Project,COUNTBLANK(GLOBAL_DATA[[#This Row],[Implementation progress rate]:[CISO assessment]]),0) -> 0
A15: XX | B15: XX | C15: XX | D15: XX | E15: XX | F15: XX | G15: XX | H15: XX | I15: XX | J15: XX | K15: XX | L15: XX | M15: XX | N15: =IF(GLOBAL_DATA[[#This Row],[Target scope]]="","",INDEX(DATA_TargetStatusChoice[Target_Status_Choice],MATCH(GLOBAL_DATA[[#This Row],[Target scope]],DATA_TargetStatusChoice[Value],1))) -> FULL IMPLEMENTATION | O15: 1 | P15: - | Q15: IN PROGRESS | R15: 0.5 | S15: No alert | T15: XX | W15: 43101 | X15: 43465 | Y15: 44196 | Z15: =SUM(GLOBAL_DATA[[#This Row],[Initial 2020]]+GLOBAL_DATA[[#This Row],[Initial 2021]]+GLOBAL_DATA[[#This Row],[Initial 2022]]+GLOBAL_DATA[[#This Row],[Initial 2023]]) -> 0 | AA15: =SUM(GLOBAL_DATA[[#This Row],[Reestimated 2020]]+GLOBAL_DATA[[#This Row],[Reestimated 2021]]+GLOBAL_DATA[[#This Row],[Reestimated 2022]]+GLOBAL_DATA[[#This Row],[Reestimated 2023]]) -> 0 | AB15: =SUM(GLOBAL_DATA[[#This Row],[Spent 2020]]+GLOBAL_DATA[[#This Row],[Spent 2021]]+GLOBAL_DATA[[#This Row],[Spent 2022]]+GLOBAL_DATA[[#This Row],[Spent 2023]]) -> 0 | AQ15: =IF(GLOBAL_DATA[[#This Row],[Target scope]]<>Target_Not_Applicable,GLOBAL_DATA[[#This Row],[Target scope]]*GLOBAL_DATA[[#This Row],[Implementation progress rate]],"") -> 0.5 | AR15: =IF(OR(GLOBAL_DATA[[#This Row],[Status]]=DATA!$J$6,GLOBAL_DATA[[#This Row],[Status]]=DATA!$J$7,GLOBAL_DATA[[#This Row],[Status]]=DATA!$J$8),1,0) -> 0 | AS15: =IF(GLOBAL_DATA[[#This Row],[Status]]=Status_No_Project,"",MAX(GLOBAL_DATA[[#This Row],[Initial end]],GLOBAL_DATA[[#This Row],[Re-estimated end]],43831)) -> 44196 | AT15: =IF(AND(GLOBAL_DATA[[#This Row],[Implementation progress rate]]<100%,GLOBAL_DATA[[#This Row],[Re-estimated end]]<=[0]!ReportingDate,GLOBAL_DATA[[#This Row],[Re-estimated end]]<>""),1,0)+IF(AND(GLOBAL_DATA[[#This Row],[Implementation progress rate]]<100%,GLOBAL_DATA[[#This Row],[Initial end]]<=[0]!ReportingDate,GLOBAL_DATA[[#This Row],[Re-estimated end]]<[0]!ReportingDate,GLOBAL_DATA[[#This Row],[Re-estimated end]]<>""),1,0)+IF(AND(OR(GLOBAL_DATA[[#This Row],[Target scope]]=Target_Not_Applicable,GLOBAL_DATA[[#This Row],[Target scope]]=Risk_accepted),GLOBAL_DATA[[#This Row],[Kick-off]]<>""),1,0)+IF(AND(GLOBAL_DATA[[#This Row],[Status]]=In_progress,GLOBAL_DATA[[#This Row],[Implementation progress rate]]=Risk_accepted),1,0)+IF(AND(GLOBAL_DATA[[#This Row],[Status]]=In_progress,GLOBAL_DATA[[#This Row],[Implementation progress rate]]=full),1,0) -> #REF! | AU15: =IF(GLOBAL_DATA[[#This Row],[Target scope]]<>Target_Not_Applicable,COUNTBLANK(GLOBAL_DATA[[#This Row],[Target scope]:[Target justification (if<100%)]]),0)+IF(GLOBAL_DATA[[#This Row],[Status]]<>Status_No_Project,COUNTBLANK(GLOBAL_DATA[[#This Row],[Implementation progress rate]:[CISO assessment]]),0) -> 0
A16: XX | B16: XX | C16: XX | D16: XX | E16: XX | F16: XX | G16: XX | H16: XX | I16: XX | J16: XX | K16: XX | L16: XX | M16: XX | N16: =IF(GLOBAL_DATA[[#This Row],[Target scope]]="","",INDEX(DATA_TargetStatusChoice[Target_Status_Choice],MATCH(GLOBAL_DATA[[#This Row],[Target scope]],DATA_TargetStatusChoice[Value],1))) -> NOT APPLICABLE | O16: Not applicable | P16: - | Q16: NO PROJECT | R16: 0 | S16: No alert | T16: XX | W16: 43101 | X16: 43465 | Y16: 44196 | Z16: =SUM(GLOBAL_DATA[[#This Row],[Initial 2020]]+GLOBAL_DATA[[#This Row],[Initial 2021]]+GLOBAL_DATA[[#This Row],[Initial 2022]]+GLOBAL_DATA[[#This Row],[Initial 2023]]) -> 0 | AA16: =SUM(GLOBAL_DATA[[#This Row],[Reestimated 2020]]+GLOBAL_DATA[[#This Row],[Reestimated 2021]]+GLOBAL_DATA[[#This Row],[Reestimated 2022]]+GLOBAL_DATA[[#This Row],[Reestimated 2023]]) -> 0 | AB16: =SUM(GLOBAL_DATA[[#This Row],[Spent 2020]]+GLOBAL_DATA[[#This Row],[Spent 2021]]+GLOBAL_DATA[[#This Row],[Spent 2022]]+GLOBAL_DATA[[#This Row],[Spent 2023]]) -> 0 | AQ16: =IF(GLOBAL_DATA[[#This Row],[Target scope]]<>Target_Not_Applicable,GLOBAL_DATA[[#This Row],[Target scope]]*GLOBAL_DATA[[#This Row],[Implementation progress rate]],"") | AR16: =IF(OR(GLOBAL_DATA[[#This Row],[Status]]=DATA!$J$6,GLOBAL_DATA[[#This Row],[Status]]=DATA!$J$7,GLOBAL_DATA[[#This Row],[Status]]=DATA!$J$8),1,0) -> 0 | AS16: =IF(GLOBAL_DATA[[#This Row],[Status]]=Status_No_Project,"",MAX(GLOBAL_DATA[[#This Row],[Initial end]],GLOBAL_DATA[[#This Row],[Re-estimated end]],43831)) | AT16: =IF(AND(GLOBAL_DATA[[#This Row],[Implementation progress rate]]<100%,GLOBAL_DATA[[#This Row],[Re-estimated end]]<=[0]!ReportingDate,GLOBAL_DATA[[#This Row],[Re-estimated end]]<>""),1,0)+IF(AND(GLOBAL_DATA[[#This Row],[Implementation progress rate]]<100%,GLOBAL_DATA[[#This Row],[Initial end]]<=[0]!ReportingDate,GLOBAL_DATA[[#This Row],[Re-estimated end]]<[0]!ReportingDate,GLOBAL_DATA[[#This Row],[Re-estimated end]]<>""),1,0)+IF(AND(OR(GLOBAL_DATA[[#This Row],[Target scope]]=Target_Not_Applicable,GLOBAL_DATA[[#This Row],[Target scope]]=Risk_accepted),GLOBAL_DATA[[#This Row],[Kick-off]]<>""),1,0)+IF(AND(GLOBAL_DATA[[#This Row],[Status]]=In_progress,GLOBAL_DATA[[#This Row],[Implementation progress rate]]=Risk_accepted),1,0)+IF(AND(GLOBAL_DATA[[#This Row],[Status]]=In_progress,GLOBAL_DATA[[#This Row],[Implementation progress rate]]=full),1,0) -> #REF! | AU16: =IF(GLOBAL_DATA[[#This Row],[Target scope]]<>Target_Not_Applicable,COUNTBLANK(GLOBAL_DATA[[#This Row],[Target scope]:[Target justification (if<100%)]]),0)+IF(GLOBAL_DATA[[#This Row],[Status]]<>Status_No_Project,COUNTBLANK(GLOBAL_DATA[[#This Row],[Implementation progress rate]:[CISO assessment]]),0) -> 0
A17: XX | B17: XX | C17: XX | D17: XX | E17: XX | F17: XX | G17: XX | H17: XX | I17: XX | J17: XX | K17: XX | L17: XX | M17: XX | N17: =IF(GLOBAL_DATA[[#This Row],[Target scope]]="","",INDEX(DATA_TargetStatusChoice[Target_Status_Choice],MATCH(GLOBAL_DATA[[#This Row],[Target scope]],DATA_TargetStatusChoice[Value],1))) -> FULL IMPLEMENTATION | O17: 1 | P17: - | Q17: IN PROGRESS | R17: 1 | T17: XX | V17: - | W17: 43556 | X17: 43709 | Z17: =SUM(GLOBAL_DATA[[#This Row],[Initial 2020]]+GLOBAL_DATA[[#This Row],[Initial 2021]]+GLOBAL_DATA[[#This Row],[Initial 2022]]+GLOBAL_DATA[[#This Row],[Initial 2023]]) -> 0 | AA17: =SUM(GLOBAL_DATA[[#This Row],[Reestimated 2020]]+GLOBAL_DATA[[#This Row],[Reestimated 2021]]+GLOBAL_DATA[[#This Row],[Reestimated 2022]]+GLOBAL_DATA[[#This Row],[Reestimated 2023]]) -> 0 | AB17: =SUM(GLOBAL_DATA[[#This Row],[Spent 2020]]+GLOBAL_DATA[[#This Row],[Spent 2021]]+GLOBAL_DATA[[#This Row],[Spent 2022]]+GLOBAL_DATA[[#This Row],[Spent 2023]]) -> 0 | AQ17: =IF(GLOBAL_DATA[[#This Row],[Target scope]]<>Target_Not_Applicable,GLOBAL_DATA[[#This Row],[Target scope]]*GLOBAL_DATA[[#This Row],[Implementation progress rate]],"") -> 1 | AR17: =IF(OR(GLOBAL_DATA[[#This Row],[Status]]=DATA!$J$6,GLOBAL_DATA[[#This Row],[Status]]=DATA!$J$7,GLOBAL_DATA[[#This Row],[Status]]=DATA!$J$8),1,0) -> 0 | AS17: =IF(GLOBAL_DATA[[#This Row],[Status]]=Status_No_Project,"",MAX(GLOBAL_DATA[[#This Row],[Initial end]],GLOBAL_DATA[[#This Row],[Re-estimated end]],43831)) -> 43831 | AT17: =IF(AND(GLOBAL_DATA[[#This Row],[Implementation progress rate]]<100%,GLOBAL_DATA[[#This Row],[Re-estimated end]]<=[0]!ReportingDate,GLOBAL_DATA[[#This Row],[Re-estimated end]]<>""),1,0)+IF(AND(GLOBAL_DATA[[#This Row],[Implementation progress rate]]<100%,GLOBAL_DATA[[#This Row],[Initial end]]<=[0]!ReportingDate,GLOBAL_DATA[[#This Row],[Re-estimated end]]<[0]!ReportingDate,GLOBAL_DATA[[#This Row],[Re-estimated end]]<>""),1,0)+IF(AND(OR(GLOBAL_DATA[[#This Row],[Target scope]]=Target_Not_Applicable,GLOBAL_DATA[[#This Row],[Target scope]]=Risk_accepted),GLOBAL_DATA[[#This Row],[Kick-off]]<>""),1,0)+IF(AND(GLOBAL_DATA[[#This Row],[Status]]=In_progress,GLOBAL_DATA[[#This Row],[Implementation progress rate]]=Risk_accepted),1,0)+IF(AND(GLOBAL_DATA[[#This Row],[Status]]=In_progress,GLOBAL_DATA[[#This Row],[Implementation progress rate]]=full),1,0) -> #REF! | AU17: =IF(GLOBAL_DATA[[#This Row],[Target scope]]<>Target_Not_Applicable,COUNTBLANK(GLOBAL_DATA[[#This Row],[Target scope]:[Target justification (if<100%)]]),0)+IF(GLOBAL_DATA[[#This Row],[Status]]<>Status_No_Project,COUNTBLANK(GLOBAL_DATA[[#This Row],[Implementation progress rate]:[CISO assessment]]),0) -> 1
A18: XX | B18: XX | C18: XX | D18: XX | E18: XX | F18: XX | G18: XX | H18: XX | I18: XX | J18: XX | K18: XX | L18: XX | M18: XX | N18: =IF(GLOBAL_DATA[[#This Row],[Target scope]]="","",INDEX(DATA_TargetStatusChoice[Target_Status_Choice],MATCH(GLOBAL_DATA[[#This Row],[Target scope]],DATA_TargetStatusChoice[Value],1))) -> FULL IMPLEMENTATION | O18: 1 | P18: - | Q18: IN PROGRESS | R18: 0.2 | T18: XX | V18: - | Z18: =SUM(GLOBAL_DATA[[#This Row],[Initial 2020]]+GLOBAL_DATA[[#This Row],[Initial 2021]]+GLOBAL_DATA[[#This Row],[Initial 2022]]+GLOBAL_DATA[[#This Row],[Initial 2023]]) -> 0 | AA18: =SUM(GLOBAL_DATA[[#This Row],[Reestimated 2020]]+GLOBAL_DATA[[#This Row],[Reestimated 2021]]+GLOBAL_DATA[[#This Row],[Reestimated 2022]]+GLOBAL_DATA[[#This Row],[Reestimated 2023]]) -> 0 | AB18: =SUM(GLOBAL_DATA[[#This Row],[Spent 2020]]+GLOBAL_DATA[[#This Row],[Spent 2021]]+GLOBAL_DATA[[#This Row],[Spent 2022]]+GLOBAL_DATA[[#This Row],[Spent 2023]]) -> 0 | AQ18: =IF(GLOBAL_DATA[[#This Row],[Target scope]]<>Target_Not_Applicable,GLOBAL_DATA[[#This Row],[Target scope]]*GLOBAL_DATA[[#This Row],[Implementation progress rate]],"") -> 0.2 | AR18: =IF(OR(GLOBAL_DATA[[#This Row],[Status]]=DATA!$J$6,GLOBAL_DATA[[#This Row],[Status]]=DATA!$J$7,GLOBAL_DATA[[#This Row],[Status]]=DATA!$J$8),1,0) -> 0 | AS18: =IF(GLOBAL_DATA[[#This Row],[Status]]=Status_No_Project,"",MAX(GLOBAL_DATA[[#This Row],[Initial end]],GLOBAL_DATA[[#This Row],[Re-estimated end]],43831)) -> 43831 | AT18: =IF(AND(GLOBAL_DATA[[#This Row],[Implementation progress rate]]<100%,GLOBAL_DATA[[#This Row],[Re-estimated end]]<=[0]!ReportingDate,GLOBAL_DATA[[#This Row],[Re-estimated end]]<>""),1,0)+IF(AND(GLOBAL_DATA[[#This Row],[Implementation progress rate]]<100%,GLOBAL_DATA[[#This Row],[Initial end]]<=[0]!ReportingDate,GLOBAL_DATA[[#This Row],[Re-estimated end]]<[0]!ReportingDate,GLOBAL_DATA[[#This Row],[Re-estimated end]]<>""),1,0)+IF(AND(OR(GLOBAL_DATA[[#This Row],[Target scope]]=Target_Not_Applicable,GLOBAL_DATA[[#This Row],[Target scope]]=Risk_accepted),GLOBAL_DATA[[#This Row],[Kick-off]]<>""),1,0)+IF(AND(GLOBAL_DATA[[#This Row],[Status]]=In_progress,GLOBAL_DATA[[#This Row],[Implementation progress rate]]=Risk_accepted),1,0)+IF(AND(GLOBAL_DATA[[#This Row],[Status]]=In_progress,GLOBAL_DATA[[#This Row],[Implementation progress rate]]=full),1,0) -> #REF! | AU18: =IF(GLOBAL_DATA[[#This Row],[Target scope]]<>Target_Not_Applicable,COUNTBLANK(GLOBAL_DATA[[#This Row],[Target scope]:[Target justification (if<100%)]]),0)+IF(GLOBAL_DATA[[#This Row],[Status]]<>Status_No_Project,COUNTBLANK(GLOBAL_DATA[[#This Row],[Implementation progress rate]:[CISO assessment]]),0) -> 1
A19: XX | B19: XX | C19: XX | D19: XX | E19: XX | F19: XX | G19: XX | H19: XX | I19: XX | J19: XX | K19: XX | L19: XX | M19: XX | N19: =IF(GLOBAL_DATA[[#This Row],[Target scope]]="","",INDEX(DATA_TargetStatusChoice[Target_Status_Choice],MATCH(GLOBAL_DATA[[#This Row],[Target scope]],DATA_TargetStatusChoice[Value],1))) -> FULL IMPLEMENTATION | O19: 1 | P19: - | Q19: IN PROGRESS | R19: 1 | T19: XX | V19: - | Z19: =SUM(GLOBAL_DATA[[#This Row],[Initial 2020]]+GLOBAL_DATA[[#This Row],[Initial 2021]]+GLOBAL_DATA[[#This Row],[Initial 2022]]+GLOBAL_DATA[[#This Row],[Initial 2023]]) -> 0 | AA19: =SUM(GLOBAL_DATA[[#This Row],[Reestimated 2020]]+GLOBAL_DATA[[#This Row],[Reestimated 2021]]+GLOBAL_DATA[[#This Row],[Reestimated 2022]]+GLOBAL_DATA[[#This Row],[Reestimated 2023]]) -> 0 | AB19: =SUM(GLOBAL_DATA[[#This Row],[Spent 2020]]+GLOBAL_DATA[[#This Row],[Spent 2021]]+GLOBAL_DATA[[#This Row],[Spent 2022]]+GLOBAL_DATA[[#This Row],[Spent 2023]]) -> 0 | AQ19: =IF(GLOBAL_DATA[[#This Row],[Target scope]]<>Target_Not_Applicable,GLOBAL_DATA[[#This Row],[Target scope]]*GLOBAL_DATA[[#This Row],[Implementation progress rate]],"") -> 1 | AR19: =IF(OR(GLOBAL_DATA[[#This Row],[Status]]=DATA!$J$6,GLOBAL_DATA[[#This Row],[Status]]=DATA!$J$7,GLOBAL_DATA[[#This Row],[Status]]=DATA!$J$8),1,0) -> 0 | AS19: =IF(GLOBAL_DATA[[#This Row],[Status]]=Status_No_Project,"",MAX(GLOBAL_DATA[[#This Row],[Initial end]],GLOBAL_DATA[[#This Row],[Re-estimated end]],43831)) -> 43831 | AT19: =IF(AND(GLOBAL_DATA[[#This Row],[Implementation progress rate]]<100%,GLOBAL_DATA[[#This Row],[Re-estimated end]]<=[0]!ReportingDate,GLOBAL_DATA[[#This Row],[Re-estimated end]]<>""),1,0)+IF(AND(GLOBAL_DATA[[#This Row],[Implementation progress rate]]<100%,GLOBAL_DATA[[#This Row],[Initial end]]<=[0]!ReportingDate,GLOBAL_DATA[[#This Row],[Re-estimated end]]<[0]!ReportingDate,GLOBAL_DATA[[#This Row],[Re-estimated end]]<>""),1,0)+IF(AND(OR(GLOBAL_DATA[[#This Row],[Target scope]]=Target_Not_Applicable,GLOBAL_DATA[[#This Row],[Target scope]]=Risk_accepted),GLOBAL_DATA[[#This Row],[Kick-off]]<>""),1,0)+IF(AND(GLOBAL_DATA[[#This Row],[Status]]=In_progress,GLOBAL_DATA[[#This Row],[Implementation progress rate]]=Risk_accepted),1,0)+IF(AND(GLOBAL_DATA[[#This Row],[Status]]=In_progress,GLOBAL_DATA[[#This Row],[Implementation progress rate]]=full),1,0) -> #REF! | AU19: =IF(GLOBAL_DATA[[#This Row],[Target scope]]<>Target_Not_Applicable,COUNTBLANK(GLOBAL_DATA[[#This Row],[Target scope]:[Target justification (if<100%)]]),0)+IF(GLOBAL_DATA[[#This Row],[Status]]<>Status_No_Project,COUNTBLANK(GLOBAL_DATA[[#This Row],[Implementation progress rate]:[CISO assessment]]),0) -> 1
A20: XX | B20: XX | C20: XX | D20: XX | E20: XX | F20: XX | G20: XX | H20: XX | I20: XX | J20: XX | K20: XX | L20: XX | M20: XX | N20: =IF(GLOBAL_DATA[[#This Row],[Target scope]]="","",INDEX(DATA_TargetStatusChoice[Target_Status_Choice],MATCH(GLOBAL_DATA[[#This Row],[Target scope]],DATA_TargetStatusChoice[Value],1))) -> FULL IMPLEMENTATION | O20: 1 | P20: - | Q20: IN PROGRESS | R20: 0.6 | T20: XX | V20: - | Z20: =SUM(GLOBAL_DATA[[#This Row],[Initial 2020]]+GLOBAL_DATA[[#This Row],[Initial 2021]]+GLOBAL_DATA[[#This Row],[Initial 2022]]+GLOBAL_DATA[[#This Row],[Initial 2023]]) -> 0 | AA20: =SUM(GLOBAL_DATA[[#This Row],[Reestimated 2020]]+GLOBAL_DATA[[#This Row],[Reestimated 2021]]+GLOBAL_DATA[[#This Row],[Reestimated 2022]]+GLOBAL_DATA[[#This Row],[Reestimated 2023]]) -> 0 | AB20: =SUM(GLOBAL_DATA[[#This Row],[Spent 2020]]+GLOBAL_DATA[[#This Row],[Spent 2021]]+GLOBAL_DATA[[#This Row],[Spent 2022]]+GLOBAL_DATA[[#This Row],[Spent 2023]]) -> 0 | AQ20: =IF(GLOBAL_DATA[[#This Row],[Target scope]]<>Target_Not_Applicable,GLOBAL_DATA[[#This Row],[Target scope]]*GLOBAL_DATA[[#This Row],[Implementation progress rate]],"") -> 0.6 | AR20: =IF(OR(GLOBAL_DATA[[#This Row],[Status]]=DATA!$J$6,GLOBAL_DATA[[#This Row],[Status]]=DATA!$J$7,GLOBAL_DATA[[#This Row],[Status]]=DATA!$J$8),1,0) -> 0 | AS20: =IF(GLOBAL_DATA[[#This Row],[Status]]=Status_No_Project,"",MAX(GLOBAL_DATA[[#This Row],[Initial end]],GLOBAL_DATA[[#This Row],[Re-estimated end]],43831)) -> 43831 | AT20: =IF(AND(GLOBAL_DATA[[#This Row],[Implementation progress rate]]<100%,GLOBAL_DATA[[#This Row],[Re-estimated end]]<=[0]!ReportingDate,GLOBAL_DATA[[#This Row],[Re-estimated end]]<>""),1,0)+IF(AND(GLOBAL_DATA[[#This Row],[Implementation progress rate]]<100%,GLOBAL_DATA[[#This Row],[Initial end]]<=[0]!ReportingDate,GLOBAL_DATA[[#This Row],[Re-estimated end]]<[0]!ReportingDate,GLOBAL_DATA[[#This Row],[Re-estimated end]]<>""),1,0)+IF(AND(OR(GLOBAL_DATA[[#This Row],[Target scope]]=Target_Not_Applicable,GLOBAL_DATA[[#This Row],[Target scope]]=Risk_accepted),GLOBAL_DATA[[#This Row],[Kick-off]]<>""),1,0)+IF(AND(GLOBAL_DATA[[#This Row],[Status]]=In_progress,GLOBAL_DATA[[#This Row],[Implementation progress rate]]=Risk_accepted),1,0)+IF(AND(GLOBAL_DATA[[#This Row],[Status]]=In_progress,GLOBAL_DATA[[#This Row],[Implementation progress rate]]=full),1,0) -> #REF! | AU20: =IF(GLOBAL_DATA[[#This Row],[Target scope]]<>Target_Not_Applicable,COUNTBLANK(GLOBAL_DATA[[#This Row],[Target scope]:[Target justification (if<100%)]]),0)+IF(GLOBAL_DATA[[#This Row],[Status]]<>Status_No_Project,COUNTBLANK(GLOBAL_DATA[[#This Row],[Implementation progress rate]:[CISO assessment]]),0) -> 1
A21: XX | B21: XX | C21: XX | D21: XX | E21: XX | F21: XX | G21: XX | H21: XX | I21: XX | J21: XX | K21: XX | L21: XX | M21: XX | N21: =IF(GLOBAL_DATA[[#This Row],[Target scope]]="","",INDEX(DATA_TargetStatusChoice[Target_Status_Choice],MATCH(GLOBAL_DATA[[#This Row],[Target scope]],DATA_TargetStatusChoice[Value],1))) -> FULL IMPLEMENTATION | O21: 1 | P21: - | Q21: IN PROGRESS | R21: 1 | T21: XX | V21: - | Z21: =SUM(GLOBAL_DATA[[#This Row],[Initial 2020]]+GLOBAL_DATA[[#This Row],[Initial 2021]]+GLOBAL_DATA[[#This Row],[Initial 2022]]+GLOBAL_DATA[[#This Row],[Initial 2023]]) -> 0 | AA21: =SUM(GLOBAL_DATA[[#This Row],[Reestimated 2020]]+GLOBAL_DATA[[#This Row],[Reestimated 2021]]+GLOBAL_DATA[[#This Row],[Reestimated 2022]]+GLOBAL_DATA[[#This Row],[Reestimated 2023]]) -> 0 | AB21: =SUM(GLOBAL_DATA[[#This Row],[Spent 2020]]+GLOBAL_DATA[[#This Row],[Spent 2021]]+GLOBAL_DATA[[#This Row],[Spent 2022]]+GLOBAL_DATA[[#This Row],[Spent 2023]]) -> 0 | AQ21: =IF(GLOBAL_DATA[[#This Row],[Target scope]]<>Target_Not_Applicable,GLOBAL_DATA[[#This Row],[Target scope]]*GLOBAL_DATA[[#This Row],[Implementation progress rate]],"") -> 1 | AR21: =IF(OR(GLOBAL_DATA[[#This Row],[Status]]=DATA!$J$6,GLOBAL_DATA[[#This Row],[Status]]=DATA!$J$7,GLOBAL_DATA[[#This Row],[Status]]=DATA!$J$8),1,0) -> 0 | AS21: =IF(GLOBAL_DATA[[#This Row],[Status]]=Status_No_Project,"",MAX(GLOBAL_DATA[[#This Row],[Initial end]],GLOBAL_DATA[[#This Row],[Re-estimated end]],43831)) -> 43831 | AT21: =IF(AND(GLOBAL_DATA[[#This Row],[Implementation progress rate]]<100%,GLOBAL_DATA[[#This Row],[Re-estimated end]]<=[0]!ReportingDate,GLOBAL_DATA[[#This Row],[Re-estimated end]]<>""),1,0)+IF(AND(GLOBAL_DATA[[#This Row],[Implementation progress rate]]<100%,GLOBAL_DATA[[#This Row],[Initial end]]<=[0]!ReportingDate,GLOBAL_DATA[[#This Row],[Re-estimated end]]<[0]!ReportingDate,GLOBAL_DATA[[#This Row],[Re-estimated end]]<>""),1,0)+IF(AND(OR(GLOBAL_DATA[[#This Row],[Target scope]]=Target_Not_Applicable,GLOBAL_DATA[[#This Row],[Target scope]]=Risk_accepted),GLOBAL_DATA[[#This Row],[Kick-off]]<>""),1,0)+IF(AND(GLOBAL_DATA[[#This Row],[Status]]=In_progress,GLOBAL_DATA[[#This Row],[Implementation progress rate]]=Risk_accepted),1,0)+IF(AND(GLOBAL_DATA[[#This Row],[Status]]=In_progress,GLOBAL_DATA[[#This Row],[Implementation progress rate]]=full),1,0) -> #REF! | AU21: =IF(GLOBAL_DATA[[#This Row],[Target scope]]<>Target_Not_Applicable,COUNTBLANK(GLOBAL_DATA[[#This Row],[Target scope]:[Target justification (if<100%)]]),0)+IF(GLOBAL_DATA[[#This Row],[Status]]<>Status_No_Project,COUNTBLANK(GLOBAL_DATA[[#This Row],[Implementation progress rate]:[CISO assessment]]),0) -> 1
A22: XX | B22: XX | C22: XX | D22: XX | E22: XX | F22: XX | G22: XX | H22: XX | I22: XX | J22: XX | K22: XX | L22: XX | M22: XX | N22: =IF(GLOBAL_DATA[[#This Row],[Target scope]]="","",INDEX(DATA_TargetStatusChoice[Target_Status_Choice],MATCH(GLOBAL_DATA[[#This Row],[Target scope]],DATA_TargetStatusChoice[Value],1))) -> FULL IMPLEMENTATION | O22: 1 | P22: - | Q22: IN PROGRESS | R22: 1 | T22: XX | V22: - | Z22: =SUM(GLOBAL_DATA[[#This Row],[Initial 2020]]+GLOBAL_DATA[[#This Row],[Initial 2021]]+GLOBAL_DATA[[#This Row],[Initial 2022]]+GLOBAL_DATA[[#This Row],[Initial 2023]]) -> 0 | AA22: =SUM(GLOBAL_DATA[[#This Row],[Reestimated 2020]]+GLOBAL_DATA[[#This Row],[Reestimated 2021]]+GLOBAL_DATA[[#This Row],[Reestimated 2022]]+GLOBAL_DATA[[#This Row],[Reestimated 2023]]) -> 0 | AB22: =SUM(GLOBAL_DATA[[#This Row],[Spent 2020]]+GLOBAL_DATA[[#This Row],[Spent 2021]]+GLOBAL_DATA[[#This Row],[Spent 2022]]+GLOBAL_DATA[[#This Row],[Spent 2023]]) -> 0 | AQ22: =IF(GLOBAL_DATA[[#This Row],[Target scope]]<>Target_Not_Applicable,GLOBAL_DATA[[#This Row],[Target scope]]*GLOBAL_DATA[[#This Row],[Implementation progress rate]],"") -> 1 | AR22: =IF(OR(GLOBAL_DATA[[#This Row],[Status]]=DATA!$J$6,GLOBAL_DATA[[#This Row],[Status]]=DATA!$J$7,GLOBAL_DATA[[#This Row],[Status]]=DATA!$J$8),1,0) -> 0 | AS22: =IF(GLOBAL_DATA[[#This Row],[Status]]=Status_No_Project,"",MAX(GLOBAL_DATA[[#This Row],[Initial end]],GLOBAL_DATA[[#This Row],[Re-estimated end]],43831)) -> 43831 | AT22: =IF(AND(GLOBAL_DATA[[#This Row],[Implementation progress rate]]<100%,GLOBAL_DATA[[#This Row],[Re-estimated end]]<=[0]!ReportingDate,GLOBAL_DATA[[#This Row],[Re-estimated end]]<>""),1,0)+IF(AND(GLOBAL_DATA[[#This Row],[Implementation progress rate]]<100%,GLOBAL_DATA[[#This Row],[Initial end]]<=[0]!ReportingDate,GLOBAL_DATA[[#This Row],[Re-estimated end]]<[0]!ReportingDate,GLOBAL_DATA[[#This Row],[Re-estimated end]]<>""),1,0)+IF(AND(OR(GLOBAL_DATA[[#This Row],[Target scope]]=Target_Not_Applicable,GLOBAL_DATA[[#This Row],[Target scope]]=Risk_accepted),GLOBAL_DATA[[#This Row],[Kick-off]]<>""),1,0)+IF(AND(GLOBAL_DATA[[#This Row],[Status]]=In_progress,GLOBAL_DATA[[#This Row],[Implementation progress rate]]=Risk_accepted),1,0)+IF(AND(GLOBAL_DATA[[#This Row],[Status]]=In_progress,GLOBAL_DATA[[#This Row],[Implementation progress rate]]=full),1,0) -> #REF! | AU22: =IF(GLOBAL_DATA[[#This Row],[Target scope]]<>Target_Not_Applicable,COUNTBLANK(GLOBAL_DATA[[#This Row],[Target scope]:[Target justification (if<100%)]]),0)+IF(GLOBAL_DATA[[#This Row],[Status]]<>Status_No_Project,COUNTBLANK(GLOBAL_DATA[[#This Row],[Implementation progress rate]:[CISO assessment]]),0) -> 1
A23: XX | B23: XX | C23: XX | D23: XX | E23: XX | F23: XX | G23: XX | H23: XX | I23: XX | J23: XX | K23: XX | L23: XX | M23: XX | N23: =IF(GLOBAL_DATA[[#This Row],[Target scope]]="","",INDEX(DATA_TargetStatusChoice[Target_Status_Choice],MATCH(GLOBAL_DATA[[#This Row],[Target scope]],DATA_TargetStatusChoice[Value],1))) -> FULL IMPLEMENTATION | O23: 1 | P23: - | Q23: IN PROGRESS | R23: 1 | T23: XX | V23: - | Z23: =SUM(GLOBAL_DATA[[#This Row],[Initial 2020]]+GLOBAL_DATA[[#This Row],[Initial 2021]]+GLOBAL_DATA[[#This Row],[Initial 2022]]+GLOBAL_DATA[[#This Row],[Initial 2023]]) -> 0 | AA23: =SUM(GLOBAL_DATA[[#This Row],[Reestimated 2020]]+GLOBAL_DATA[[#This Row],[Reestimated 2021]]+GLOBAL_DATA[[#This Row],[Reestimated 2022]]+GLOBAL_DATA[[#This Row],[Reestimated 2023]]) -> 0 | AB23: =SUM(GLOBAL_DATA[[#This Row],[Spent 2020]]+GLOBAL_DATA[[#This Row],[Spent 2021]]+GLOBAL_DATA[[#This Row],[Spent 2022]]+GLOBAL_DATA[[#This Row],[Spent 2023]]) -> 0 | AQ23: =IF(GLOBAL_DATA[[#This Row],[Target scope]]<>Target_Not_Applicable,GLOBAL_DATA[[#This Row],[Target scope]]*GLOBAL_DATA[[#This Row],[Implementation progress rate]],"") -> 1 | AR23: =IF(OR(GLOBAL_DATA[[#This Row],[Status]]=DATA!$J$6,GLOBAL_DATA[[#This Row],[Status]]=DATA!$J$7,GLOBAL_DATA[[#This Row],[Status]]=DATA!$J$8),1,0) -> 0 | AS23: =IF(GLOBAL_DATA[[#This Row],[Status]]=Status_No_Project,"",MAX(GLOBAL_DATA[[#This Row],[Initial end]],GLOBAL_DATA[[#This Row],[Re-estimated end]],43831)) -> 43831 | AT23: =IF(AND(GLOBAL_DATA[[#This Row],[Implementation progress rate]]<100%,GLOBAL_DATA[[#This Row],[Re-estimated end]]<=[0]!ReportingDate,GLOBAL_DATA[[#This Row],[Re-estimated end]]<>""),1,0)+IF(AND(GLOBAL_DATA[[#This Row],[Implementation progress rate]]<100%,GLOBAL_DATA[[#This Row],[Initial end]]<=[0]!ReportingDate,GLOBAL_DATA[[#This Row],[Re-estimated end]]<[0]!ReportingDate,GLOBAL_DATA[[#This Row],[Re-estimated end]]<>""),1,0)+IF(AND(OR(GLOBAL_DATA[[#This Row],[Target scope]]=Target_Not_Applicable,GLOBAL_DATA[[#This Row],[Target scope]]=Risk_accepted),GLOBAL_DATA[[#This Row],[Kick-off]]<>""),1,0)+IF(AND(GLOBAL_DATA[[#This Row],[Status]]=In_progress,GLOBAL_DATA[[#This Row],[Implementation progress rate]]=Risk_accepted),1,0)+IF(AND(GLOBAL_DATA[[#This Row],[Status]]=In_progress,GLOBAL_DATA[[#This Row],[Implementation progress rate]]=full),1,0) -> #REF! | AU23: =IF(GLOBAL_DATA[[#This Row],[Target scope]]<>Target_Not_Applicable,COUNTBLANK(GLOBAL_DATA[[#This Row],[Target scope]:[Target justification (if<100%)]]),0)+IF(GLOBAL_DATA[[#This Row],[Status]]<>Status_No_Project,COUNTBLANK(GLOBAL_DATA[[#This Row],[Implementation progress rate]:[CISO assessment]]),0) -> 1
A24: XX | B24: XX | C24: XX | D24: XX | E24: XX | F24: XX | G24: XX | H24: XX | I24: XX | J24: XX | K24: XX | L24: XX | M24: XX | N24: =IF(GLOBAL_DATA[[#This Row],[Target scope]]="","",INDEX(DATA_TargetStatusChoice[Target_Status_Choice],MATCH(GLOBAL_DATA[[#This Row],[Target scope]],DATA_TargetStatusChoice[Value],1))) -> FULL IMPLEMENTATION | O24: 1 | P24: - | Q24: IN PROGRESS | R24: 1 | T24: XX | V24: - | Z24: =SUM(GLOBAL_DATA[[#This Row],[Initial 2020]]+GLOBAL_DATA[[#This Row],[Initial 2021]]+GLOBAL_DATA[[#This Row],[Initial 2022]]+GLOBAL_DATA[[#This Row],[Initial 2023]]) -> 0 | AA24: =SUM(GLOBAL_DATA[[#This Row],[Reestimated 2020]]+GLOBAL_DATA[[#This Row],[Reestimated 2021]]+GLOBAL_DATA[[#This Row],[Reestimated 2022]]+GLOBAL_DATA[[#This Row],[Reestimated 2023]]) -> 0 | AB24: =SUM(GLOBAL_DATA[[#This Row],[Spent 2020]]+GLOBAL_DATA[[#This Row],[Spent 2021]]+GLOBAL_DATA[[#This Row],[Spent 2022]]+GLOBAL_DATA[[#This Row],[Spent 2023]]) -> 0 | AQ24: =IF(GLOBAL_DATA[[#This Row],[Target scope]]<>Target_Not_Applicable,GLOBAL_DATA[[#This Row],[Target scope]]*GLOBAL_DATA[[#This Row],[Implementation progress rate]],"") -> 1 | AR24: =IF(OR(GLOBAL_DATA[[#This Row],[Status]]=DATA!$J$6,GLOBAL_DATA[[#This Row],[Status]]=DATA!$J$7,GLOBAL_DATA[[#This Row],[Status]]=DATA!$J$8),1,0) -> 0 | AS24: =IF(GLOBAL_DATA[[#This Row],[Status]]=Status_No_Project,"",MAX(GLOBAL_DATA[[#This Row],[Initial end]],GLOBAL_DATA[[#This Row],[Re-estimated end]],43831)) -> 43831 | AT24: =IF(AND(GLOBAL_DATA[[#This Row],[Implementation progress rate]]<100%,GLOBAL_DATA[[#This Row],[Re-estimated end]]<=[0]!ReportingDate,GLOBAL_DATA[[#This Row],[Re-estimated end]]<>""),1,0)+IF(AND(GLOBAL_DATA[[#This Row],[Implementation progress rate]]<100%,GLOBAL_DATA[[#This Row],[Initial end]]<=[0]!ReportingDate,GLOBAL_DATA[[#This Row],[Re-estimated end]]<[0]!ReportingDate,GLOBAL_DATA[[#This Row],[Re-estimated end]]<>""),1,0)+IF(AND(OR(GLOBAL_DATA[[#This Row],[Target scope]]=Target_Not_Applicable,GLOBAL_DATA[[#This Row],[Target scope]]=Risk_accepted),GLOBAL_DATA[[#This Row],[Kick-off]]<>""),1,0)+IF(AND(GLOBAL_DATA[[#This Row],[Status]]=In_progress,GLOBAL_DATA[[#This Row],[Implementation progress rate]]=Risk_accepted),1,0)+IF(AND(GLOBAL_DATA[[#This Row],[Status]]=In_progress,GLOBAL_DATA[[#This Row],[Implementation progress rate]]=full),1,0) -> #REF! | AU24: =IF(GLOBAL_DATA[[#This Row],[Target scope]]<>Target_Not_Applicable,COUNTBLANK(GLOBAL_DATA[[#This Row],[Target scope]:[Target justification (if<100%)]]),0)+IF(GLOBAL_DATA[[#This Row],[Status]]<>Status_No_Project,COUNTBLANK(GLOBAL_DATA[[#This Row],[Implementation progress rate]:[CISO assessment]]),0) -> 1
A25: XX | B25: XX | C25: XX | D25: XX | E25: XX | F25: XX | G25: XX | H25: XX | I25: XX | J25: XX | K25: XX | L25: XX | M25: XX | N25: =IF(GLOBAL_DATA[[#This Row],[Target scope]]="","",INDEX(DATA_TargetStatusChoice[Target_Status_Choice],MATCH(GLOBAL_DATA[[#This Row],[Target scope]],DATA_TargetStatusChoice[Value],1))) -> FULL IMPLEMENTATION | O25: 1 | P25: - | Q25: IN PROGRESS | R25: 0 | T25: XX | V25: - | Z25: =SUM(GLOBAL_DATA[[#This Row],[Initial 2020]]+GLOBAL_DATA[[#This Row],[Initial 2021]]+GLOBAL_DATA[[#This Row],[Initial 2022]]+GLOBAL_DATA[[#This Row],[Initial 2023]]) -> 0 | AA25: =SUM(GLOBAL_DATA[[#This Row],[Reestimated 2020]]+GLOBAL_DATA[[#This Row],[Reestimated 2021]]+GLOBAL_DATA[[#This Row],[Reestimated 2022]]+GLOBAL_DATA[[#This Row],[Reestimated 2023]]) -> 0 | AB25: =SUM(GLOBAL_DATA[[#This Row],[Spent 2020]]+GLOBAL_DATA[[#This Row],[Spent 2021]]+GLOBAL_DATA[[#This Row],[Spent 2022]]+GLOBAL_DATA[[#This Row],[Spent 2023]]) -> 0 | AQ25: =IF(GLOBAL_DATA[[#This Row],[Target scope]]<>Target_Not_Applicable,GLOBAL_DATA[[#This Row],[Target scope]]*GLOBAL_DATA[[#This Row],[Implementation progress rate]],"") -> 0 | AR25: =IF(OR(GLOBAL_DATA[[#This Row],[Status]]=DATA!$J$6,GLOBAL_DATA[[#This Row],[Status]]=DATA!$J$7,GLOBAL_DATA[[#This Row],[Status]]=DATA!$J$8),1,0) -> 0 | AS25: =IF(GLOBAL_DATA[[#This Row],[Status]]=Status_No_Project,"",MAX(GLOBAL_DATA[[#This Row],[Initial end]],GLOBAL_DATA[[#This Row],[Re-estimated end]],43831)) -> 43831 | AT25: =IF(AND(GLOBAL_DATA[[#This Row],[Implementation progress rate]]<100%,GLOBAL_DATA[[#This Row],[Re-estimated end]]<=[0]!ReportingDate,GLOBAL_DATA[[#This Row],[Re-estimated end]]<>""),1,0)+IF(AND(GLOBAL_DATA[[#This Row],[Implementation progress rate]]<100%,GLOBAL_DATA[[#This Row],[Initial end]]<=[0]!ReportingDate,GLOBAL_DATA[[#This Row],[Re-estimated end]]<[0]!ReportingDate,GLOBAL_DATA[[#This Row],[Re-estimated end]]<>""),1,0)+IF(AND(OR(GLOBAL_DATA[[#This Row],[Target scope]]=Target_Not_Applicable,GLOBAL_DATA[[#This Row],[Target scope]]=Risk_accepted),GLOBAL_DATA[[#This Row],[Kick-off]]<>""),1,0)+IF(AND(GLOBAL_DATA[[#This Row],[Status]]=In_progress,GLOBAL_DATA[[#This Row],[Implementation progress rate]]=Risk_accepted),1,0)+IF(AND(GLOBAL_DATA[[#This Row],[Status]]=In_progress,GLOBAL_DATA[[#This Row],[Implementation progress rate]]=full),1,0) -> #REF! | AU25: =IF(GLOBAL_DATA[[#This Row],[Target scope]]<>Target_Not_Applicable,COUNTBLANK(GLOBAL_DATA[[#This Row],[Target scope]:[Target justification (if<100%)]]),0)+IF(GLOBAL_DATA[[#This Row],[Status]]<>Status_No_Project,COUNTBLANK(GLOBAL_DATA[[#This Row],[Implementation progress rate]:[CISO assessment]]),0) -> 1
A26: XX | B26: XX | C26: XX | D26: XX | E26: XX | F26: XX | G26: XX | H26: XX | I26: XX | J26: XX | K26: XX | L26: XX | M26: XX | N26: =IF(GLOBAL_DATA[[#This Row],[Target scope]]="","",INDEX(DATA_TargetStatusChoice[Target_Status_Choice],MATCH(GLOBAL_DATA[[#This Row],[Target scope]],DATA_TargetStatusChoice[Value],1))) -> FULL IMPLEMENTATION | O26: 1 | P26: - | Q26: TO BE STARTED | R26: 0 | T26: XX | V26: - | Z26: =SUM(GLOBAL_DATA[[#This Row],[Initial 2020]]+GLOBAL_DATA[[#This Row],[Initial 2021]]+GLOBAL_DATA[[#This Row],[Initial 2022]]+GLOBAL_DATA[[#This Row],[Initial 2023]]) -> 0 | AA26: =SUM(GLOBAL_DATA[[#This Row],[Reestimated 2020]]+GLOBAL_DATA[[#This Row],[Reestimated 2021]]+GLOBAL_DATA[[#This Row],[Reestimated 2022]]+GLOBAL_DATA[[#This Row],[Reestimated 2023]]) -> 0 | AB26: =SUM(GLOBAL_DATA[[#This Row],[Spent 2020]]+GLOBAL_DATA[[#This Row],[Spent 2021]]+GLOBAL_DATA[[#This Row],[Spent 2022]]+GLOBAL_DATA[[#This Row],[Spent 2023]]) -> 0 | AQ26: =IF(GLOBAL_DATA[[#This Row],[Target scope]]<>Target_Not_Applicable,GLOBAL_DATA[[#This Row],[Target scope]]*GLOBAL_DATA[[#This Row],[Implementation progress rate]],"") -> 0 | AR26: =IF(OR(GLOBAL_DATA[[#This Row],[Status]]=DATA!$J$6,GLOBAL_DATA[[#This Row],[Status]]=DATA!$J$7,GLOBAL_DATA[[#This Row],[Status]]=DATA!$J$8),1,0) -> 0 | AS26: =IF(GLOBAL_DATA[[#This Row],[Status]]=Status_No_Project,"",MAX(GLOBAL_DATA[[#This Row],[Initial end]],GLOBAL_DATA[[#This Row],[Re-estimated end]],43831)) -> 43831 | AT26: =IF(AND(GLOBAL_DATA[[#This Row],[Implementation progress rate]]<100%,GLOBAL_DATA[[#This Row],[Re-estimated end]]<=[0]!ReportingDate,GLOBAL_DATA[[#This Row],[Re-estimated end]]<>""),1,0)+IF(AND(GLOBAL_DATA[[#This Row],[Implementation progress rate]]<100%,GLOBAL_DATA[[#This Row],[Initial end]]<=[0]!ReportingDate,GLOBAL_DATA[[#This Row],[Re-estimated end]]<[0]!ReportingDate,GLOBAL_DATA[[#This Row],[Re-estimated end]]<>""),1,0)+IF(AND(OR(GLOBAL_DATA[[#This Row],[Target scope]]=Target_Not_Applicable,GLOBAL_DATA[[#This Row],[Target scope]]=Risk_accepted),GLOBAL_DATA[[#This Row],[Kick-off]]<>""),1,0)+IF(AND(GLOBAL_DATA[[#This Row],[Status]]=In_progress,GLOBAL_DATA[[#This Row],[Implementation progress rate]]=Risk_accepted),1,0)+IF(AND(GLOBAL_DATA[[#This Row],[Status]]=In_progress,GLOBAL_DATA[[#This Row],[Implementation progress rate]]=full),1,0) -> #REF! | AU26: =IF(GLOBAL_DATA[[#This Row],[Target scope]]<>Target_Not_Applicable,COUNTBLANK(GLOBAL_DATA[[#This Row],[Target scope]:[Target justification (if<100%)]]),0)+IF(GLOBAL_DATA[[#This Row],[Status]]<>Status_No_Project,COUNTBLANK(GLOBAL_DATA[[#This Row],[Implementation progress rate]:[CISO assessment]]),0) -> 1
A27: XX | B27: XX | C27: XX | D27: XX | E27: XX | F27: XX | G27: XX | H27: XX | I27: XX | J27: XX | K27: XX | L27: XX | M27: XX | N27: =IF(GLOBAL_DATA[[#This Row],[Target scope]]="","",INDEX(DATA_TargetStatusChoice[Target_Status_Choice],MATCH(GLOBAL_DATA[[#This Row],[Target scope]],DATA_TargetStatusChoice[Value],1))) -> FULL IMPLEMENTATION | O27: 1 | P27: - | Q27: IN PROGRESS | R27: 1 | T27: XX | V27: - | Z27: =SUM(GLOBAL_DATA[[#This Row],[Initial 2020]]+GLOBAL_DATA[[#This Row],[Initial 2021]]+GLOBAL_DATA[[#This Row],[Initial 2022]]+GLOBAL_DATA[[#This Row],[Initial 2023]]) -> 0 | AA27: =SUM(GLOBAL_DATA[[#This Row],[Reestimated 2020]]+GLOBAL_DATA[[#This Row],[Reestimated 2021]]+GLOBAL_DATA[[#This Row],[Reestimated 2022]]+GLOBAL_DATA[[#This Row],[Reestimated 2023]]) -> 0 | AB27: =SUM(GLOBAL_DATA[[#This Row],[Spent 2020]]+GLOBAL_DATA[[#This Row],[Spent 2021]]+GLOBAL_DATA[[#This Row],[Spent 2022]]+GLOBAL_DATA[[#This Row],[Spent 2023]]) -> 0 | AQ27: =IF(GLOBAL_DATA[[#This Row],[Target scope]]<>Target_Not_Applicable,GLOBAL_DATA[[#This Row],[Target scope]]*GLOBAL_DATA[[#This Row],[Implementation progress rate]],"") -> 1 | AR27: =IF(OR(GLOBAL_DATA[[#This Row],[Status]]=DATA!$J$6,GLOBAL_DATA[[#This Row],[Status]]=DATA!$J$7,GLOBAL_DATA[[#This Row],[Status]]=DATA!$J$8),1,0) -> 0 | AS27: =IF(GLOBAL_DATA[[#This Row],[Status]]=Status_No_Project,"",MAX(GLOBAL_DATA[[#This Row],[Initial end]],GLOBAL_DATA[[#This Row],[Re-estimated end]],43831)) -> 43831 | AT27: =IF(AND(GLOBAL_DATA[[#This Row],[Implementation progress rate]]<100%,GLOBAL_DATA[[#This Row],[Re-estimated end]]<=[0]!ReportingDate,GLOBAL_DATA[[#This Row],[Re-estimated end]]<>""),1,0)+IF(AND(GLOBAL_DATA[[#This Row],[Implementation progress rate]]<100%,GLOBAL_DATA[[#This Row],[Initial end]]<=[0]!ReportingDate,GLOBAL_DATA[[#This Row],[Re-estimated end]]<[0]!ReportingDate,GLOBAL_DATA[[#This Row],[Re-estimated end]]<>""),1,0)+IF(AND(OR(GLOBAL_DATA[[#This Row],[Target scope]]=Target_Not_Applicable,GLOBAL_DATA[[#This Row],[Target scope]]=Risk_accepted),GLOBAL_DATA[[#This Row],[Kick-off]]<>""),1,0)+IF(AND(GLOBAL_DATA[[#This Row],[Status]]=In_progress,GLOBAL_DATA[[#This Row],[Implementation progress rate]]=Risk_accepted),1,0)+IF(AND(GLOBAL_DATA[[#This Row],[Status]]=In_progress,GLOBAL_DATA[[#This Row],[Implementation progress rate]]=full),1,0) -> #REF! | AU27: =IF(GLOBAL_DATA[[#This Row],[Target scope]]<>Target_Not_Applicable,COUNTBLANK(GLOBAL_DATA[[#This Row],[Target scope]:[Target justification (if<100%)]]),0)+IF(GLOBAL_DATA[[#This Row],[Status]]<>Status_No_Project,COUNTBLANK(GLOBAL_DATA[[#This Row],[Implementation progress rate]:[CISO assessment]]),0) -> 1
A28: XX | B28: XX | C28: XX | D28: XX | E28: XX | F28: XX | G28: XX | H28: XX | I28: XX | J28: XX | K28: XX | L28: XX | M28: XX | N28: =IF(GLOBAL_DATA[[#This Row],[Target scope]]="","",INDEX(DATA_TargetStatusChoice[Target_Status_Choice],MATCH(GLOBAL_DATA[[#This Row],[Target scope]],DATA_TargetStatusChoice[Value],1))) -> FULL IMPLEMENTATION | O28: 1 | P28: - | Q28: TO BE STARTED | R28: 0 | T28: XX | V28: - | Z28: =SUM(GLOBAL_DATA[[#This Row],[Initial 2020]]+GLOBAL_DATA[[#This Row],[Initial 2021]]+GLOBAL_DATA[[#This Row],[Initial 2022]]+GLOBAL_DATA[[#This Row],[Initial 2023]]) -> 0 | AA28: =SUM(GLOBAL_DATA[[#This Row],[Reestimated 2020]]+GLOBAL_DATA[[#This Row],[Reestimated 2021]]+GLOBAL_DATA[[#This Row],[Reestimated 2022]]+GLOBAL_DATA[[#This Row],[Reestimated 2023]]) -> 0 | AB28: =SUM(GLOBAL_DATA[[#This Row],[Spent 2020]]+GLOBAL_DATA[[#This Row],[Spent 2021]]+GLOBAL_DATA[[#This Row],[Spent 2022]]+GLOBAL_DATA[[#This Row],[Spent 2023]]) -> 0 | AQ28: =IF(GLOBAL_DATA[[#This Row],[Target scope]]<>Target_Not_Applicable,GLOBAL_DATA[[#This Row],[Target scope]]*GLOBAL_DATA[[#This Row],[Implementation progress rate]],"") -> 0 | AR28: =IF(OR(GLOBAL_DATA[[#This Row],[Status]]=DATA!$J$6,GLOBAL_DATA[[#This Row],[Status]]=DATA!$J$7,GLOBAL_DATA[[#This Row],[Status]]=DATA!$J$8),1,0) -> 0 | AS28: =IF(GLOBAL_DATA[[#This Row],[Status]]=Status_No_Project,"",MAX(GLOBAL_DATA[[#This Row],[Initial end]],GLOBAL_DATA[[#This Row],[Re-estimated end]],43831)) -> 43831 | AT28: =IF(AND(GLOBAL_DATA[[#This Row],[Implementation progress rate]]<100%,GLOBAL_DATA[[#This Row],[Re-estimated end]]<=[0]!ReportingDate,GLOBAL_DATA[[#This Row],[Re-estimated end]]<>""),1,0)+IF(AND(GLOBAL_DATA[[#This Row],[Implementation progress rate]]<100%,GLOBAL_DATA[[#This Row],[Initial end]]<=[0]!ReportingDate,GLOBAL_DATA[[#This Row],[Re-estimated end]]<[0]!ReportingDate,GLOBAL_DATA[[#This Row],[Re-estimated end]]<>""),1,0)+IF(AND(OR(GLOBAL_DATA[[#This Row],[Target scope]]=Target_Not_Applicable,GLOBAL_DATA[[#This Row],[Target scope]]=Risk_accepted),GLOBAL_DATA[[#This Row],[Kick-off]]<>""),1,0)+IF(AND(GLOBAL_DATA[[#This Row],[Status]]=In_progress,GLOBAL_DATA[[#This Row],[Implementation progress rate]]=Risk_accepted),1,0)+IF(AND(GLOBAL_DATA[[#This Row],[Status]]=In_progress,GLOBAL_DATA[[#This Row],[Implementation progress rate]]=full),1,0) -> #REF! | AU28: =IF(GLOBAL_DATA[[#This Row],[Target scope]]<>Target_Not_Applicable,COUNTBLANK(GLOBAL_DATA[[#This Row],[Target scope]:[Target justification (if<100%)]]),0)+IF(GLOBAL_DATA[[#This Row],[Status]]<>Status_No_Project,COUNTBLANK(GLOBAL_DATA[[#This Row],[Implementation progress rate]:[CISO assessment]]),0) -> 1
A29: XX | B29: XX | C29: XX | D29: XX | E29: XX | F29: XX | G29: XX | H29: XX | I29: XX | J29: XX | K29: XX | L29: XX | M29: XX | N29: =IF(GLOBAL_DATA[[#This Row],[Target scope]]="","",INDEX(DATA_TargetStatusChoice[Target_Status_Choice],MATCH(GLOBAL_DATA[[#This Row],[Target scope]],DATA_TargetStatusChoice[Value],1))) | P29: - | Q29: NO PROJECT | R29: 0 | T29: XX | V29: - | Z29: =SUM(GLOBAL_DATA[[#This Row],[Initial 2020]]+GLOBAL_DATA[[#This Row],[Initial 2021]]+GLOBAL_DATA[[#This Row],[Initial 2022]]+GLOBAL_DATA[[#This Row],[Initial 2023]]) -> 0 | AA29: =SUM(GLOBAL_DATA[[#This Row],[Reestimated 2020]]+GLOBAL_DATA[[#This Row],[Reestimated 2021]]+GLOBAL_DATA[[#This Row],[Reestimated 2022]]+GLOBAL_DATA[[#This Row],[Reestimated 2023]]) -> 0 | AB29: =SUM(GLOBAL_DATA[[#This Row],[Spent 2020]]+GLOBAL_DATA[[#This Row],[Spent 2021]]+GLOBAL_DATA[[#This Row],[Spent 2022]]+GLOBAL_DATA[[#This Row],[Spent 2023]]) -> 0 | AQ29: =IF(GLOBAL_DATA[[#This Row],[Target scope]]<>Target_Not_Applicable,GLOBAL_DATA[[#This Row],[Target scope]]*GLOBAL_DATA[[#This Row],[Implementation progress rate]],"") -> 0 | AR29: =IF(OR(GLOBAL_DATA[[#This Row],[Status]]=DATA!$J$6,GLOBAL_DATA[[#This Row],[Status]]=DATA!$J$7,GLOBAL_DATA[[#This Row],[Status]]=DATA!$J$8),1,0) -> 0 | AS29: =IF(GLOBAL_DATA[[#This Row],[Status]]=Status_No_Project,"",MAX(GLOBAL_DATA[[#This Row],[Initial end]],GLOBAL_DATA[[#This Row],[Re-estimated end]],43831)) | AT29: =IF(AND(GLOBAL_DATA[[#This Row],[Implementation progress rate]]<100%,GLOBAL_DATA[[#This Row],[Re-estimated end]]<=[0]!ReportingDate,GLOBAL_DATA[[#This Row],[Re-estimated end]]<>""),1,0)+IF(AND(GLOBAL_DATA[[#This Row],[Implementation progress rate]]<100%,GLOBAL_DATA[[#This Row],[Initial end]]<=[0]!ReportingDate,GLOBAL_DATA[[#This Row],[Re-estimated end]]<[0]!ReportingDate,GLOBAL_DATA[[#This Row],[Re-estimated end]]<>""),1,0)+IF(AND(OR(GLOBAL_DATA[[#This Row],[Target scope]]=Target_Not_Applicable,GLOBAL_DATA[[#This Row],[Target scope]]=Risk_accepted),GLOBAL_DATA[[#This Row],[Kick-off]]<>""),1,0)+IF(AND(GLOBAL_DATA[[#This Row],[Status]]=In_progress,GLOBAL_DATA[[#This Row],[Implementation progress rate]]=Risk_accepted),1,0)+IF(AND(GLOBAL_DATA[[#This Row],[Status]]=In_progress,GLOBAL_DATA[[#This Row],[Implementation progress rate]]=full),1,0) -> #REF! | AU29: =IF(GLOBAL_DATA[[#This Row],[Target scope]]<>Target_Not_Applicable,COUNTBLANK(GLOBAL_DATA[[#This Row],[Target scope]:[Target justification (if<100%)]]),0)+IF(GLOBAL_DATA[[#This Row],[Status]]<>Status_No_Project,COUNTBLANK(GLOBAL_DATA[[#This Row],[Implementation progress rate]:[CISO assessment]]),0) -> 1
A30: XX | B30: XX | C30: XX | D30: XX | E30: XX | F30: XX | G30: XX | H30: XX | I30: XX | J30: XX | K30: XX | L30: XX | M30: XX | N30: =IF(GLOBAL_DATA[[#This Row],[Target scope]]="","",INDEX(DATA_TargetStatusChoice[Target_Status_Choice],MATCH(GLOBAL_DATA[[#This Row],[Target scope]],DATA_TargetStatusChoice[Value],1))) -> FULL IMPLEMENTATION | O30: 1 | P30: - | Q30: IN PROGRESS | R30: 0.8 | T30: XX | V30: - | Z30: =SUM(GLOBAL_DATA[[#This Row],[Initial 2020]]+GLOBAL_DATA[[#This Row],[Initial 2021]]+GLOBAL_DATA[[#This Row],[Initial 2022]]+GLOBAL_DATA[[#This Row],[Initial 2023]]) -> 0 | AA30: =SUM(GLOBAL_DATA[[#This Row],[Reestimated 2020]]+GLOBAL_DATA[[#This Row],[Reestimated 2021]]+GLOBAL_DATA[[#This Row],[Reestimated 2022]]+GLOBAL_DATA[[#This Row],[Reestimated 2023]]) -> 0 | AB30: =SUM(GLOBAL_DATA[[#This Row],[Spent 2020]]+GLOBAL_DATA[[#This Row],[Spent 2021]]+GLOBAL_DATA[[#This Row],[Spent 2022]]+GLOBAL_DATA[[#This Row],[Spent 2023]]) -> 0 | AQ30: =IF(GLOBAL_DATA[[#This Row],[Target scope]]<>Target_Not_Applicable,GLOBAL_DATA[[#This Row],[Target scope]]*GLOBAL_DATA[[#This Row],[Implementation progress rate]],"") -> 0.8 | AR30: =IF(OR(GLOBAL_DATA[[#This Row],[Status]]=DATA!$J$6,GLOBAL_DATA[[#This Row],[Status]]=DATA!$J$7,GLOBAL_DATA[[#This Row],[Status]]=DATA!$J$8),1,0) -> 0 | AS30: =IF(GLOBAL_DATA[[#This Row],[Status]]=Status_No_Project,"",MAX(GLOBAL_DATA[[#This Row],[Initial end]],GLOBAL_DATA[[#This Row],[Re-estimated end]],43831)) -> 43831 | AT30: =IF(AND(GLOBAL_DATA[[#This Row],[Implementation progress rate]]<100%,GLOBAL_DATA[[#This Row],[Re-estimated end]]<=[0]!ReportingDate,GLOBAL_DATA[[#This Row],[Re-estimated end]]<>""),1,0)+IF(AND(GLOBAL_DATA[[#This Row],[Implementation progress rate]]<100%,GLOBAL_DATA[[#This Row],[Initial end]]<=[0]!ReportingDate,GLOBAL_DATA[[#This Row],[Re-estimated end]]<[0]!ReportingDate,GLOBAL_DATA[[#This Row],[Re-estimated end]]<>""),1,0)+IF(AND(OR(GLOBAL_DATA[[#This Row],[Target scope]]=Target_Not_Applicable,GLOBAL_DATA[[#This Row],[Target scope]]=Risk_accepted),GLOBAL_DATA[[#This Row],[Kick-off]]<>""),1,0)+IF(AND(GLOBAL_DATA[[#This Row],[Status]]=In_progress,GLOBAL_DATA[[#This Row],[Implementation progress rate]]=Risk_accepted),1,0)+IF(AND(GLOBAL_DATA[[#This Row],[Status]]=In_progress,GLOBAL_DATA[[#This Row],[Implementation progress rate]]=full),1,0) -> #REF! | AU30: =IF(GLOBAL_DATA[[#This Row],[Target scope]]<>Target_Not_Applicable,COUNTBLANK(GLOBAL_DATA[[#This Row],[Target scope]:[Target justification (if<100%)]]),0)+IF(GLOBAL_DATA[[#This Row],[Status]]<>Status_No_Project,COUNTBLANK(GLOBAL_DATA[[#This Row],[Implementation progress rate]:[CISO assessment]]),0) -> 1
A31: XX | B31: XX | C31: XX | D31: XX | E31: XX | F31: XX | G31: XX | H31: XX | I31: XX | J31: XX | K31: XX | L31: XX | M31: XX | N31: =IF(GLOBAL_DATA[[#This Row],[Target scope]]="","",INDEX(DATA_TargetStatusChoice[Target_Status_Choice],MATCH(GLOBAL_DATA[[#This Row],[Target scope]],DATA_TargetStatusChoice[Value],1))) -> FULL IMPLEMENTATION | O31: 1 | P31: - | Q31: TO BE STARTED | R31: 0 | T31: XX | V31: - | Z31: =SUM(GLOBAL_DATA[[#This Row],[Initial 2020]]+GLOBAL_DATA[[#This Row],[Initial 2021]]+GLOBAL_DATA[[#This Row],[Initial 2022]]+GLOBAL_DATA[[#This Row],[Initial 2023]]) -> 0 | AA31: =SUM(GLOBAL_DATA[[#This Row],[Reestimated 2020]]+GLOBAL_DATA[[#This Row],[Reestimated 2021]]+GLOBAL_DATA[[#This Row],[Reestimated 2022]]+GLOBAL_DATA[[#This Row],[Reestimated 2023]]) -> 0 | AB31: =SUM(GLOBAL_DATA[[#This Row],[Spent 2020]]+GLOBAL_DATA[[#This Row],[Spent 2021]]+GLOBAL_DATA[[#This Row],[Spent 2022]]+GLOBAL_DATA[[#This Row],[Spent 2023]]) -> 0 | AQ31: =IF(GLOBAL_DATA[[#This Row],[Target scope]]<>Target_Not_Applicable,GLOBAL_DATA[[#This Row],[Target scope]]*GLOBAL_DATA[[#This Row],[Implementation progress rate]],"") -> 0 | AR31: =IF(OR(GLOBAL_DATA[[#This Row],[Status]]=DATA!$J$6,GLOBAL_DATA[[#This Row],[Status]]=DATA!$J$7,GLOBAL_DATA[[#This Row],[Status]]=DATA!$J$8),1,0) -> 0 | AS31: =IF(GLOBAL_DATA[[#This Row],[Status]]=Status_No_Project,"",MAX(GLOBAL_DATA[[#This Row],[Initial end]],GLOBAL_DATA[[#This Row],[Re-estimated end]],43831)) -> 43831 | AT31: =IF(AND(GLOBAL_DATA[[#This Row],[Implementation progress rate]]<100%,GLOBAL_DATA[[#This Row],[Re-estimated end]]<=[0]!ReportingDate,GLOBAL_DATA[[#This Row],[Re-estimated end]]<>""),1,0)+IF(AND(GLOBAL_DATA[[#This Row],[Implementation progress rate]]<100%,GLOBAL_DATA[[#This Row],[Initial end]]<=[0]!ReportingDate,GLOBAL_DATA[[#This Row],[Re-estimated end]]<[0]!ReportingDate,GLOBAL_DATA[[#This Row],[Re-estimated end]]<>""),1,0)+IF(AND(OR(GLOBAL_DATA[[#This Row],[Target scope]]=Target_Not_Applicable,GLOBAL_DATA[[#This Row],[Target scope]]=Risk_accepted),GLOBAL_DATA[[#This Row],[Kick-off]]<>""),1,0)+IF(AND(GLOBAL_DATA[[#This Row],[Status]]=In_progress,GLOBAL_DATA[[#This Row],[Implementation progress rate]]=Risk_accepted),1,0)+IF(AND(GLOBAL_DATA[[#This Row],[Status]]=In_progress,GLOBAL_DATA[[#This Row],[Implementation progress rate]]=full),1,0) -> #REF! | AU31: =IF(GLOBAL_DATA[[#This Row],[Target scope]]<>Target_Not_Applicable,COUNTBLANK(GLOBAL_DATA[[#This Row],[Target scope]:[Target justification (if<100%)]]),0)+IF(GLOBAL_DATA[[#This Row],[Status]]<>Status_No_Project,COUNTBLANK(GLOBAL_DATA[[#This Row],[Implementation progress rate]:[CISO assessment]]),0) -> 1
A32: XX | B32: XX | C32: XX | D32: XX | E32: XX | F32: XX | G32: XX | H32: XX | I32: XX | J32: XX | K32: XX | L32: XX | M32: XX | N32: =IF(GLOBAL_DATA[[#This Row],[Target scope]]="","",INDEX(DATA_TargetStatusChoice[Target_Status_Choice],MATCH(GLOBAL_DATA[[#This Row],[Target scope]],DATA_TargetStatusChoice[Value],1))) -> FULL IMPLEMENTATION | O32: 1 | P32: - | Q32: IN PROGRESS | R32: 0.2 | T32: XX | V32: - | Z32: =SUM(GLOBAL_DATA[[#This Row],[Initial 2020]]+GLOBAL_DATA[[#This Row],[Initial 2021]]+GLOBAL_DATA[[#This Row],[Initial 2022]]+GLOBAL_DATA[[#This Row],[Initial 2023]]) -> 0 | AA32: =SUM(GLOBAL_DATA[[#This Row],[Reestimated 2020]]+GLOBAL_DATA[[#This Row],[Reestimated 2021]]+GLOBAL_DATA[[#This Row],[Reestimated 2022]]+GLOBAL_DATA[[#This Row],[Reestimated 2023]]) -> 0 | AB32: =SUM(GLOBAL_DATA[[#This Row],[Spent 2020]]+GLOBAL_DATA[[#This Row],[Spent 2021]]+GLOBAL_DATA[[#This Row],[Spent 2022]]+GLOBAL_DATA[[#This Row],[Spent 2023]]) -> 0 | AQ32: =IF(GLOBAL_DATA[[#This Row],[Target scope]]<>Target_Not_Applicable,GLOBAL_DATA[[#This Row],[Target scope]]*GLOBAL_DATA[[#This Row],[Implementation progress rate]],"") -> 0.2 | AR32: =IF(OR(GLOBAL_DATA[[#This Row],[Status]]=DATA!$J$6,GLOBAL_DATA[[#This Row],[Status]]=DATA!$J$7,GLOBAL_DATA[[#This Row],[Status]]=DATA!$J$8),1,0) -> 0 | AS32: =IF(GLOBAL_DATA[[#This Row],[Status]]=Status_No_Project,"",MAX(GLOBAL_DATA[[#This Row],[Initial end]],GLOBAL_DATA[[#This Row],[Re-estimated end]],43831)) -> 43831 | AT32: =IF(AND(GLOBAL_DATA[[#This Row],[Implementation progress rate]]<100%,GLOBAL_DATA[[#This Row],[Re-estimated end]]<=[0]!ReportingDate,GLOBAL_DATA[[#This Row],[Re-estimated end]]<>""),1,0)+IF(AND(GLOBAL_DATA[[#This Row],[Implementation progress rate]]<100%,GLOBAL_DATA[[#This Row],[Initial end]]<=[0]!ReportingDate,GLOBAL_DATA[[#This Row],[Re-estimated end]]<[0]!ReportingDate,GLOBAL_DATA[[#This Row],[Re-estimated end]]<>""),1,0)+IF(AND(OR(GLOBAL_DATA[[#This Row],[Target scope]]=Target_Not_Applicable,GLOBAL_DATA[[#This Row],[Target scope]]=Risk_accepted),GLOBAL_DATA[[#This Row],[Kick-off]]<>""),1,0)+IF(AND(GLOBAL_DATA[[#This Row],[Status]]=In_progress,GLOBAL_DATA[[#This Row],[Implementation progress rate]]=Risk_accepted),1,0)+IF(AND(GLOBAL_DATA[[#This Row],[Status]]=In_progress,GLOBAL_DATA[[#This Row],[Implementation progress rate]]=full),1,0) -> #REF! | AU32: =IF(GLOBAL_DATA[[#This Row],[Target scope]]<>Target_Not_Applicable,COUNTBLANK(GLOBAL_DATA[[#This Row],[Target scope]:[Target justification (if<100%)]]),0)+IF(GLOBAL_DATA[[#This Row],[Status]]<>Status_No_Project,COUNTBLANK(GLOBAL_DATA[[#This Row],[Implementation progress rate]:[CISO assessment]]),0) -> 1
A33: XX | B33: XX | C33: XX | D33: XX | E33: XX | F33: XX | G33: XX | H33: XX | I33: XX | J33: XX | K33: XX | L33: XX | M33: XX | N33: =IF(GLOBAL_DATA[[#This Row],[Target scope]]="","",INDEX(DATA_TargetStatusChoice[Target_Status_Choice],MATCH(GLOBAL_DATA[[#This Row],[Target scope]],DATA_TargetStatusChoice[Value],1))) -> FULL IMPLEMENTATION | O33: 1 | P33: - | Q33: IN PROGRESS | R33: 1 | T33: XX | V33: - | Z33: =SUM(GLOBAL_DATA[[#This Row],[Initial 2020]]+GLOBAL_DATA[[#This Row],[Initial 2021]]+GLOBAL_DATA[[#This Row],[Initial 2022]]+GLOBAL_DATA[[#This Row],[Initial 2023]]) -> 0 | AA33: =SUM(GLOBAL_DATA[[#This Row],[Reestimated 2020]]+GLOBAL_DATA[[#This Row],[Reestimated 2021]]+GLOBAL_DATA[[#This Row],[Reestimated 2022]]+GLOBAL_DATA[[#This Row],[Reestimated 2023]]) -> 0 | AB33: =SUM(GLOBAL_DATA[[#This Row],[Spent 2020]]+GLOBAL_DATA[[#This Row],[Spent 2021]]+GLOBAL_DATA[[#This Row],[Spent 2022]]+GLOBAL_DATA[[#This Row],[Spent 2023]]) -> 0 | AQ33: =IF(GLOBAL_DATA[[#This Row],[Target scope]]<>Target_Not_Applicable,GLOBAL_DATA[[#This Row],[Target scope]]*GLOBAL_DATA[[#This Row],[Implementation progress rate]],"") -> 1 | AR33: =IF(OR(GLOBAL_DATA[[#This Row],[Status]]=DATA!$J$6,GLOBAL_DATA[[#This Row],[Status]]=DATA!$J$7,GLOBAL_DATA[[#This Row],[Status]]=DATA!$J$8),1,0) -> 0 | AS33: =IF(GLOBAL_DATA[[#This Row],[Status]]=Status_No_Project,"",MAX(GLOBAL_DATA[[#This Row],[Initial end]],GLOBAL_DATA[[#This Row],[Re-estimated end]],43831)) -> 43831 | AT33: =IF(AND(GLOBAL_DATA[[#This Row],[Implementation progress rate]]<100%,GLOBAL_DATA[[#This Row],[Re-estimated end]]<=[0]!ReportingDate,GLOBAL_DATA[[#This Row],[Re-estimated end]]<>""),1,0)+IF(AND(GLOBAL_DATA[[#This Row],[Implementation progress rate]]<100%,GLOBAL_DATA[[#This Row],[Initial end]]<=[0]!ReportingDate,GLOBAL_DATA[[#This Row],[Re-estimated end]]<[0]!ReportingDate,GLOBAL_DATA[[#This Row],[Re-estimated end]]<>""),1,0)+IF(AND(OR(GLOBAL_DATA[[#This Row],[Target scope]]=Target_Not_Applicable,GLOBAL_DATA[[#This Row],[Target scope]]=Risk_accepted),GLOBAL_DATA[[#This Row],[Kick-off]]<>""),1,0)+IF(AND(GLOBAL_DATA[[#This Row],[Status]]=In_progress,GLOBAL_DATA[[#This Row],[Implementation progress rate]]=Risk_accepted),1,0)+IF(AND(GLOBAL_DATA[[#This Row],[Status]]=In_progress,GLOBAL_DATA[[#This Row],[Implementation progress rate]]=full),1,0) -> #REF! | AU33: =IF(GLOBAL_DATA[[#This Row],[Target scope]]<>Target_Not_Applicable,COUNTBLANK(GLOBAL_DATA[[#This Row],[Target scope]:[Target justification (if<100%)]]),0)+IF(GLOBAL_DATA[[#This Row],[Status]]<>Status_No_Project,COUNTBLANK(GLOBAL_DATA[[#This Row],[Implementation progress rate]:[CISO assessment]]),0) -> 1
A34: XX | B34: XX | C34: XX | D34: XX | E34: XX | F34: XX | G34: XX | H34: XX | I34: XX | J34: XX | K34: XX | L34: XX | M34: XX | N34: =IF(GLOBAL_DATA[[#This Row],[Target scope]]="","",INDEX(DATA_TargetStatusChoice[Target_Status_Choice],MATCH(GLOBAL_DATA[[#This Row],[Target scope]],DATA_TargetStatusChoice[Value],1))) -> FULL IMPLEMENTATION | O34: 1 | P34: - | Q34: IN PROGRESS | R34: 1 | T34: XX | V34: - | Z34: =SUM(GLOBAL_DATA[[#This Row],[Initial 2020]]+GLOBAL_DATA[[#This Row],[Initial 2021]]+GLOBAL_DATA[[#This Row],[Initial 2022]]+GLOBAL_DATA[[#This Row],[Initial 2023]]) -> 0 | AA34: =SUM(GLOBAL_DATA[[#This Row],[Reestimated 2020]]+GLOBAL_DATA[[#This Row],[Reestimated 2021]]+GLOBAL_DATA[[#This Row],[Reestimated 2022]]+GLOBAL_DATA[[#This Row],[Reestimated 2023]]) -> 0 | AB34: =SUM(GLOBAL_DATA[[#This Row],[Spent 2020]]+GLOBAL_DATA[[#This Row],[Spent 2021]]+GLOBAL_DATA[[#This Row],[Spent 2022]]+GLOBAL_DATA[[#This Row],[Spent 2023]]) -> 0 | AQ34: =IF(GLOBAL_DATA[[#This Row],[Target scope]]<>Target_Not_Applicable,GLOBAL_DATA[[#This Row],[Target scope]]*GLOBAL_DATA[[#This Row],[Implementation progress rate]],"") -> 1 | AR34: =IF(OR(GLOBAL_DATA[[#This Row],[Status]]=DATA!$J$6,GLOBAL_DATA[[#This Row],[Status]]=DATA!$J$7,GLOBAL_DATA[[#This Row],[Status]]=DATA!$J$8),1,0) -> 0 | AS34: =IF(GLOBAL_DATA[[#This Row],[Status]]=Status_No_Project,"",MAX(GLOBAL_DATA[[#This Row],[Initial end]],GLOBAL_DATA[[#This Row],[Re-estimated end]],43831)) -> 43831 | AT34: =IF(AND(GLOBAL_DATA[[#This Row],[Implementation progress rate]]<100%,GLOBAL_DATA[[#This Row],[Re-estimated end]]<=[0]!ReportingDate,GLOBAL_DATA[[#This Row],[Re-estimated end]]<>""),1,0)+IF(AND(GLOBAL_DATA[[#This Row],[Implementation progress rate]]<100%,GLOBAL_DATA[[#This Row],[Initial end]]<=[0]!ReportingDate,GLOBAL_DATA[[#This Row],[Re-estimated end]]<[0]!ReportingDate,GLOBAL_DATA[[#This Row],[Re-estimated end]]<>""),1,0)+IF(AND(OR(GLOBAL_DATA[[#This Row],[Target scope]]=Target_Not_Applicable,GLOBAL_DATA[[#This Row],[Target scope]]=Risk_accepted),GLOBAL_DATA[[#This Row],[Kick-off]]<>""),1,0)+IF(AND(GLOBAL_DATA[[#This Row],[Status]]=In_progress,GLOBAL_DATA[[#This Row],[Implementation progress rate]]=Risk_accepted),1,0)+IF(AND(GLOBAL_DATA[[#This Row],[Status]]=In_progress,GLOBAL_DATA[[#This Row],[Implementation progress rate]]=full),1,0) -> #REF! | AU34: =IF(GLOBAL_DATA[[#This Row],[Target scope]]<>Target_Not_Applicable,COUNTBLANK(GLOBAL_DATA[[#This Row],[Target scope]:[Target justification (if<100%)]]),0)+IF(GLOBAL_DATA[[#This Row],[Status]]<>Status_No_Project,COUNTBLANK(GLOBAL_DATA[[#This Row],[Implementation progress rate]:[CISO assessment]]),0) -> 1
A35: XX | B35: XX | C35: XX | D35: XX | E35: XX | F35: XX | G35: XX | H35: XX | I35: XX | J35: XX | K35: XX | L35: XX | M35: XX | N35: =IF(GLOBAL_DATA[[#This Row],[Target scope]]="","",INDEX(DATA_TargetStatusChoice[Target_Status_Choice],MATCH(GLOBAL_DATA[[#This Row],[Target scope]],DATA_TargetStatusChoice[Value],1))) -> FULL IMPLEMENTATION | O35: 1 | P35: - | Q35: IN PROGRESS | R35: 1 | T35: XX | V35: - | Z35: =SUM(GLOBAL_DATA[[#This Row],[Initial 2020]]+GLOBAL_DATA[[#This Row],[Initial 2021]]+GLOBAL_DATA[[#This Row],[Initial 2022]]+GLOBAL_DATA[[#This Row],[Initial 2023]]) -> 0 | AA35: =SUM(GLOBAL_DATA[[#This Row],[Reestimated 2020]]+GLOBAL_DATA[[#This Row],[Reestimated 2021]]+GLOBAL_DATA[[#This Row],[Reestimated 2022]]+GLOBAL_DATA[[#This Row],[Reestimated 2023]]) -> 0 | AB35: =SUM(GLOBAL_DATA[[#This Row],[Spent 2020]]+GLOBAL_DATA[[#This Row],[Spent 2021]]+GLOBAL_DATA[[#This Row],[Spent 2022]]+GLOBAL_DATA[[#This Row],[Spent 2023]]) -> 0 | AQ35: =IF(GLOBAL_DATA[[#This Row],[Target scope]]<>Target_Not_Applicable,GLOBAL_DATA[[#This Row],[Target scope]]*GLOBAL_DATA[[#This Row],[Implementation progress rate]],"") -> 1 | AR35: =IF(OR(GLOBAL_DATA[[#This Row],[Status]]=DATA!$J$6,GLOBAL_DATA[[#This Row],[Status]]=DATA!$J$7,GLOBAL_DATA[[#This Row],[Status]]=DATA!$J$8),1,0) -> 0 | AS35: =IF(GLOBAL_DATA[[#This Row],[Status]]=Status_No_Project,"",MAX(GLOBAL_DATA[[#This Row],[Initial end]],GLOBAL_DATA[[#This Row],[Re-estimated end]],43831)) -> 43831 | AT35: =IF(AND(GLOBAL_DATA[[#This Row],[Implementation progress rate]]<100%,GLOBAL_DATA[[#This Row],[Re-estimated end]]<=[0]!ReportingDate,GLOBAL_DATA[[#This Row],[Re-estimated end]]<>""),1,0)+IF(AND(GLOBAL_DATA[[#This Row],[Implementation progress rate]]<100%,GLOBAL_DATA[[#This Row],[Initial end]]<=[0]!ReportingDate,GLOBAL_DATA[[#This Row],[Re-estimated end]]<[0]!ReportingDate,GLOBAL_DATA[[#This Row],[Re-estimated end]]<>""),1,0)+IF(AND(OR(GLOBAL_DATA[[#This Row],[Target scope]]=Target_Not_Applicable,GLOBAL_DATA[[#This Row],[Target scope]]=Risk_accepted),GLOBAL_DATA[[#This Row],[Kick-off]]<>""),1,0)+IF(AND(GLOBAL_DATA[[#This Row],[Status]]=In_progress,GLOBAL_DATA[[#This Row],[Implementation progress rate]]=Risk_accepted),1,0)+IF(AND(GLOBAL_DATA[[#This Row],[Status]]=In_progress,GLOBAL_DATA[[#This Row],[Implementation progress rate]]=full),1,0) -> #REF! | AU35: =IF(GLOBAL_DATA[[#This Row],[Target scope]]<>Target_Not_Applicable,COUNTBLANK(GLOBAL_DATA[[#This Row],[Target scope]:[Target justification (if<100%)]]),0)+IF(GLOBAL_DATA[[#This Row],[Status]]<>Status_No_Project,COUNTBLANK(GLOBAL_DATA[[#This Row],[Implementation progress rate]:[CISO assessment]]),0) -> 1
A36: XX | B36: XX | C36: XX | D36: XX | E36: XX | F36: XX | G36: XX | H36: XX | I36: XX | J36: XX | K36: XX | L36: XX | M36: XX | N36: =IF(GLOBAL_DATA[[#This Row],[Target scope]]="","",INDEX(DATA_TargetStatusChoice[Target_Status_Choice],MATCH(GLOBAL_DATA[[#This Row],[Target scope]],DATA_TargetStatusChoice[Value],1))) -> FULL IMPLEMENTATION | O36: 1 | P36: - | Q36: IN PROGRESS | R36: 0.1 | T36: XX | V36: - | Z36: =SUM(GLOBAL_DATA[[#This Row],[Initial 2020]]+GLOBAL_DATA[[#This Row],[Initial 2021]]+GLOBAL_DATA[[#This Row],[Initial 2022]]+GLOBAL_DATA[[#This Row],[Initial 2023]]) -> 0 | AA36: =SUM(GLOBAL_DATA[[#This Row],[Reestimated 2020]]+GLOBAL_DATA[[#This Row],[Reestimated 2021]]+GLOBAL_DATA[[#This Row],[Reestimated 2022]]+GLOBAL_DATA[[#This Row],[Reestimated 2023]]) -> 0 | AB36: =SUM(GLOBAL_DATA[[#This Row],[Spent 2020]]+GLOBAL_DATA[[#This Row],[Spent 2021]]+GLOBAL_DATA[[#This Row],[Spent 2022]]+GLOBAL_DATA[[#This Row],[Spent 2023]]) -> 0 | AQ36: =IF(GLOBAL_DATA[[#This Row],[Target scope]]<>Target_Not_Applicable,GLOBAL_DATA[[#This Row],[Target scope]]*GLOBAL_DATA[[#This Row],[Implementation progress rate]],"") -> 0.1 | AR36: =IF(OR(GLOBAL_DATA[[#This Row],[Status]]=DATA!$J$6,GLOBAL_DATA[[#This Row],[Status]]=DATA!$J$7,GLOBAL_DATA[[#This Row],[Status]]=DATA!$J$8),1,0) -> 0 | AS36: =IF(GLOBAL_DATA[[#This Row],[Status]]=Status_No_Project,"",MAX(GLOBAL_DATA[[#This Row],[Initial end]],GLOBAL_DATA[[#This Row],[Re-estimated end]],43831)) -> 43831 | AT36: =IF(AND(GLOBAL_DATA[[#This Row],[Implementation progress rate]]<100%,GLOBAL_DATA[[#This Row],[Re-estimated end]]<=[0]!ReportingDate,GLOBAL_DATA[[#This Row],[Re-estimated end]]<>""),1,0)+IF(AND(GLOBAL_DATA[[#This Row],[Implementation progress rate]]<100%,GLOBAL_DATA[[#This Row],[Initial end]]<=[0]!ReportingDate,GLOBAL_DATA[[#This Row],[Re-estimated end]]<[0]!ReportingDate,GLOBAL_DATA[[#This Row],[Re-estimated end]]<>""),1,0)+IF(AND(OR(GLOBAL_DATA[[#This Row],[Target scope]]=Target_Not_Applicable,GLOBAL_DATA[[#This Row],[Target scope]]=Risk_accepted),GLOBAL_DATA[[#This Row],[Kick-off]]<>""),1,0)+IF(AND(GLOBAL_DATA[[#This Row],[Status]]=In_progress,GLOBAL_DATA[[#This Row],[Implementation progress rate]]=Risk_accepted),1,0)+IF(AND(GLOBAL_DATA[[#This Row],[Status]]=In_progress,GLOBAL_DATA[[#This Row],[Implementation progress rate]]=full),1,0) -> #REF! | AU36: =IF(GLOBAL_DATA[[#This Row],[Target scope]]<>Target_Not_Applicable,COUNTBLANK(GLOBAL_DATA[[#This Row],[Target scope]:[Target justification (if<100%)]]),0)+IF(GLOBAL_DATA[[#This Row],[Status]]<>Status_No_Project,COUNTBLANK(GLOBAL_DATA[[#This Row],[Implementation progress rate]:[CISO assessment]]),0) -> 1
A37: XX | B37: XX | C37: XX | D37: XX | E37: XX | F37: XX | G37: XX | H37: XX | I37: XX | J37: XX | K37: XX | L37: XX | M37: XX | N37: =IF(GLOBAL_DATA[[#This Row],[Target scope]]="","",INDEX(DATA_TargetStatusChoice[Target_Status_Choice],MATCH(GLOBAL_DATA[[#This Row],[Target scope]],DATA_TargetStatusChoice[Value],1))) -> FULL IMPLEMENTATION | O37: 1 | P37: - | Q37: IN PROGRESS | R37: 1 | T37: XX | V37: - | Z37: =SUM(GLOBAL_DATA[[#This Row],[Initial 2020]]+GLOBAL_DATA[[#This Row],[Initial 2021]]+GLOBAL_DATA[[#This Row],[Initial 2022]]+GLOBAL_DATA[[#This Row],[Initial 2023]]) -> 0 | AA37: =SUM(GLOBAL_DATA[[#This Row],[Reestimated 2020]]+GLOBAL_DATA[[#This Row],[Reestimated 2021]]+GLOBAL_DATA[[#This Row],[Reestimated 2022]]+GLOBAL_DATA[[#This Row],[Reestimated 2023]]) -> 0 | AB37: =SUM(GLOBAL_DATA[[#This Row],[Spent 2020]]+GLOBAL_DATA[[#This Row],[Spent 2021]]+GLOBAL_DATA[[#This Row],[Spent 2022]]+GLOBAL_DATA[[#This Row],[Spent 2023]]) -> 0 | AQ37: =IF(GLOBAL_DATA[[#This Row],[Target scope]]<>Target_Not_Applicable,GLOBAL_DATA[[#This Row],[Target scope]]*GLOBAL_DATA[[#This Row],[Implementation progress rate]],"") -> 1 | AR37: =IF(OR(GLOBAL_DATA[[#This Row],[Status]]=DATA!$J$6,GLOBAL_DATA[[#This Row],[Status]]=DATA!$J$7,GLOBAL_DATA[[#This Row],[Status]]=DATA!$J$8),1,0) -> 0 | AS37: =IF(GLOBAL_DATA[[#This Row],[Status]]=Status_No_Project,"",MAX(GLOBAL_DATA[[#This Row],[Initial end]],GLOBAL_DATA[[#This Row],[Re-estimated end]],43831)) -> 43831 | AT37: =IF(AND(GLOBAL_DATA[[#This Row],[Implementation progress rate]]<100%,GLOBAL_DATA[[#This Row],[Re-estimated end]]<=[0]!ReportingDate,GLOBAL_DATA[[#This Row],[Re-estimated end]]<>""),1,0)+IF(AND(GLOBAL_DATA[[#This Row],[Implementation progress rate]]<100%,GLOBAL_DATA[[#This Row],[Initial end]]<=[0]!ReportingDate,GLOBAL_DATA[[#This Row],[Re-estimated end]]<[0]!ReportingDate,GLOBAL_DATA[[#This Row],[Re-estimated end]]<>""),1,0)+IF(AND(OR(GLOBAL_DATA[[#This Row],[Target scope]]=Target_Not_Applicable,GLOBAL_DATA[[#This Row],[Target scope]]=Risk_accepted),GLOBAL_DATA[[#This Row],[Kick-off]]<>""),1,0)+IF(AND(GLOBAL_DATA[[#This Row],[Status]]=In_progress,GLOBAL_DATA[[#This Row],[Implementation progress rate]]=Risk_accepted),1,0)+IF(AND(GLOBAL_DATA[[#This Row],[Status]]=In_progress,GLOBAL_DATA[[#This Row],[Implementation progress rate]]=full),1,0) -> #REF! | AU37: =IF(GLOBAL_DATA[[#This Row],[Target scope]]<>Target_Not_Applicable,COUNTBLANK(GLOBAL_DATA[[#This Row],[Target scope]:[Target justification (if<100%)]]),0)+IF(GLOBAL_DATA[[#This Row],[Status]]<>Status_No_Project,COUNTBLANK(GLOBAL_DATA[[#This Row],[Implementation progress rate]:[CISO assessment]]),0) -> 1
A38: XX | B38: XX | C38: XX | D38: XX | E38: XX | F38: XX | G38: XX | H38: XX | I38: XX | J38: XX | K38: XX | L38: XX | M38: XX | N38: =IF(GLOBAL_DATA[[#This Row],[Target scope]]="","",INDEX(DATA_TargetStatusChoice[Target_Status_Choice],MATCH(GLOBAL_DATA[[#This Row],[Target scope]],DATA_TargetStatusChoice[Value],1))) -> FULL IMPLEMENTATION | O38: 1 | P38: - | Q38: IN PROGRESS | R38: 1 | T38: XX | V38: - | Z38: =SUM(GLOBAL_DATA[[#This Row],[Initial 2020]]+GLOBAL_DATA[[#This Row],[Initial 2021]]+GLOBAL_DATA[[#This Row],[Initial 2022]]+GLOBAL_DATA[[#This Row],[Initial 2023]]) -> 0 | AA38: =SUM(GLOBAL_DATA[[#This Row],[Reestimated 2020]]+GLOBAL_DATA[[#This Row],[Reestimated 2021]]+GLOBAL_DATA[[#This Row],[Reestimated 2022]]+GLOBAL_DATA[[#This Row],[Reestimated 2023]]) -> 0 | AB38: =SUM(GLOBAL_DATA[[#This Row],[Spent 2020]]+GLOBAL_DATA[[#This Row],[Spent 2021]]+GLOBAL_DATA[[#This Row],[Spent 2022]]+GLOBAL_DATA[[#This Row],[Spent 2023]]) -> 0 | AQ38: =IF(GLOBAL_DATA[[#This Row],[Target scope]]<>Target_Not_Applicable,GLOBAL_DATA[[#This Row],[Target scope]]*GLOBAL_DATA[[#This Row],[Implementation progress rate]],"") -> 1 | AR38: =IF(OR(GLOBAL_DATA[[#This Row],[Status]]=DATA!$J$6,GLOBAL_DATA[[#This Row],[Status]]=DATA!$J$7,GLOBAL_DATA[[#This Row],[Status]]=DATA!$J$8),1,0) -> 0 | AS38: =IF(GLOBAL_DATA[[#This Row],[Status]]=Status_No_Project,"",MAX(GLOBAL_DATA[[#This Row],[Initial end]],GLOBAL_DATA[[#This Row],[Re-estimated end]],43831)) -> 43831 | AT38: =IF(AND(GLOBAL_DATA[[#This Row],[Implementation progress rate]]<100%,GLOBAL_DATA[[#This Row],[Re-estimated end]]<=[0]!ReportingDate,GLOBAL_DATA[[#This Row],[Re-estimated end]]<>""),1,0)+IF(AND(GLOBAL_DATA[[#This Row],[Implementation progress rate]]<100%,GLOBAL_DATA[[#This Row],[Initial end]]<=[0]!ReportingDate,GLOBAL_DATA[[#This Row],[Re-estimated end]]<[0]!ReportingDate,GLOBAL_DATA[[#This Row],[Re-estimated end]]<>""),1,0)+IF(AND(OR(GLOBAL_DATA[[#This Row],[Target scope]]=Target_Not_Applicable,GLOBAL_DATA[[#This Row],[Target scope]]=Risk_accepted),GLOBAL_DATA[[#This Row],[Kick-off]]<>""),1,0)+IF(AND(GLOBAL_DATA[[#This Row],[Status]]=In_progress,GLOBAL_DATA[[#This Row],[Implementation progress rate]]=Risk_accepted),1,0)+IF(AND(GLOBAL_DATA[[#This Row],[Status]]=In_progress,GLOBAL_DATA[[#This Row],[Implementation progress rate]]=full),1,0) -> #REF! | AU38: =IF(GLOBAL_DATA[[#This Row],[Target scope]]<>Target_Not_Applicable,COUNTBLANK(GLOBAL_DATA[[#This Row],[Target scope]:[Target justification (if<100%)]]),0)+IF(GLOBAL_DATA[[#This Row],[Status]]<>Status_No_Project,COUNTBLANK(GLOBAL_DATA[[#This Row],[Implementation progress rate]:[CISO assessment]]),0) -> 1
A39: XX | B39: XX | C39: XX | D39: XX | E39: XX | F39: XX | G39: XX | H39: XX | I39: XX | J39: XX | K39: XX | L39: XX | M39: XX | N39: =IF(GLOBAL_DATA[[#This Row],[Target scope]]="","",INDEX(DATA_TargetStatusChoice[Target_Status_Choice],MATCH(GLOBAL_DATA[[#This Row],[Target scope]],DATA_TargetStatusChoice[Value],1))) -> FULL IMPLEMENTATION | O39: 1 | P39: - | Q39: IN PROGRESS | R39: 1 | T39: XX | V39: - | Z39: =SUM(GLOBAL_DATA[[#This Row],[Initial 2020]]+GLOBAL_DATA[[#This Row],[Initial 2021]]+GLOBAL_DATA[[#This Row],[Initial 2022]]+GLOBAL_DATA[[#This Row],[Initial 2023]]) -> 0 | AA39: =SUM(GLOBAL_DATA[[#This Row],[Reestimated 2020]]+GLOBAL_DATA[[#This Row],[Reestimated 2021]]+GLOBAL_DATA[[#This Row],[Reestimated 2022]]+GLOBAL_DATA[[#This Row],[Reestimated 2023]]) -> 0 | AB39: =SUM(GLOBAL_DATA[[#This Row],[Spent 2020]]+GLOBAL_DATA[[#This Row],[Spent 2021]]+GLOBAL_DATA[[#This Row],[Spent 2022]]+GLOBAL_DATA[[#This Row],[Spent 2023]]) -> 0 | AQ39: =IF(GLOBAL_DATA[[#This Row],[Target scope]]<>Target_Not_Applicable,GLOBAL_DATA[[#This Row],[Target scope]]*GLOBAL_DATA[[#This Row],[Implementation progress rate]],"") -> 1 | AR39: =IF(OR(GLOBAL_DATA[[#This Row],[Status]]=DATA!$J$6,GLOBAL_DATA[[#This Row],[Status]]=DATA!$J$7,GLOBAL_DATA[[#This Row],[Status]]=DATA!$J$8),1,0) -> 0 | AS39: =IF(GLOBAL_DATA[[#This Row],[Status]]=Status_No_Project,"",MAX(GLOBAL_DATA[[#This Row],[Initial end]],GLOBAL_DATA[[#This Row],[Re-estimated end]],43831)) -> 43831 | AT39: =IF(AND(GLOBAL_DATA[[#This Row],[Implementation progress rate]]<100%,GLOBAL_DATA[[#This Row],[Re-estimated end]]<=[0]!ReportingDate,GLOBAL_DATA[[#This Row],[Re-estimated end]]<>""),1,0)+IF(AND(GLOBAL_DATA[[#This Row],[Implementation progress rate]]<100%,GLOBAL_DATA[[#This Row],[Initial end]]<=[0]!ReportingDate,GLOBAL_DATA[[#This Row],[Re-estimated end]]<[0]!ReportingDate,GLOBAL_DATA[[#This Row],[Re-estimated end]]<>""),1,0)+IF(AND(OR(GLOBAL_DATA[[#This Row],[Target scope]]=Target_Not_Applicable,GLOBAL_DATA[[#This Row],[Target scope]]=Risk_accepted),GLOBAL_DATA[[#This Row],[Kick-off]]<>""),1,0)+IF(AND(GLOBAL_DATA[[#This Row],[Status]]=In_progress,GLOBAL_DATA[[#This Row],[Implementation progress rate]]=Risk_accepted),1,0)+IF(AND(GLOBAL_DATA[[#This Row],[Status]]=In_progress,GLOBAL_DATA[[#This Row],[Implementation progress rate]]=full),1,0) -> #REF! | AU39: =IF(GLOBAL_DATA[[#This Row],[Target scope]]<>Target_Not_Applicable,COUNTBLANK(GLOBAL_DATA[[#This Row],[Target scope]:[Target justification (if<100%)]]),0)+IF(GLOBAL_DATA[[#This Row],[Status]]<>Status_No_Project,COUNTBLANK(GLOBAL_DATA[[#This Row],[Implementation progress rate]:[CISO assessment]]),0) -> 1
A40: XX | B40: XX | C40: XX | D40: XX | E40: XX | F40: XX | G40: XX | H40: XX | I40: XX | J40: XX | K40: XX | L40: XX | M40: XX | N40: =IF(GLOBAL_DATA[[#This Row],[Target scope]]="","",INDEX(DATA_TargetStatusChoice[Target_Status_Choice],MATCH(GLOBAL_DATA[[#This Row],[Target scope]],DATA_TargetStatusChoice[Value],1))) -> FULL IMPLEMENTATION | O40: 1 | P40: - | Q40: DONE | R40: 1 | T40: XX | V40: - | Z40: =SUM(GLOBAL_DATA[[#This Row],[Initial 2020]]+GLOBAL_DATA[[#This Row],[Initial 2021]]+GLOBAL_DATA[[#This Row],[Initial 2022]]+GLOBAL_DATA[[#This Row],[Initial 2023]]) -> 0 | AA40: =SUM(GLOBAL_DATA[[#This Row],[Reestimated 2020]]+GLOBAL_DATA[[#This Row],[Reestimated 2021]]+GLOBAL_DATA[[#This Row],[Reestimated 2022]]+GLOBAL_DATA[[#This Row],[Reestimated 2023]]) -> 0 | AB40: =SUM(GLOBAL_DATA[[#This Row],[Spent 2020]]+GLOBAL_DATA[[#This Row],[Spent 2021]]+GLOBAL_DATA[[#This Row],[Spent 2022]]+GLOBAL_DATA[[#This Row],[Spent 2023]]) -> 0 | AQ40: =IF(GLOBAL_DATA[[#This Row],[Target scope]]<>Target_Not_Applicable,GLOBAL_DATA[[#This Row],[Target scope]]*GLOBAL_DATA[[#This Row],[Implementation progress rate]],"") -> 1 | AR40: =IF(OR(GLOBAL_DATA[[#This Row],[Status]]=DATA!$J$6,GLOBAL_DATA[[#This Row],[Status]]=DATA!$J$7,GLOBAL_DATA[[#This Row],[Status]]=DATA!$J$8),1,0) -> 1 | AS40: =IF(GLOBAL_DATA[[#This Row],[Status]]=Status_No_Project,"",MAX(GLOBAL_DATA[[#This Row],[Initial end]],GLOBAL_DATA[[#This Row],[Re-estimated end]],43831)) -> 43831 | AT40: =IF(AND(GLOBAL_DATA[[#This Row],[Implementation progress rate]]<100%,GLOBAL_DATA[[#This Row],[Re-estimated end]]<=[0]!ReportingDate,GLOBAL_DATA[[#This Row],[Re-estimated end]]<>""),1,0)+IF(AND(GLOBAL_DATA[[#This Row],[Implementation progress rate]]<100%,GLOBAL_DATA[[#This Row],[Initial end]]<=[0]!ReportingDate,GLOBAL_DATA[[#This Row],[Re-estimated end]]<[0]!ReportingDate,GLOBAL_DATA[[#This Row],[Re-estimated end]]<>""),1,0)+IF(AND(OR(GLOBAL_DATA[[#This Row],[Target scope]]=Target_Not_Applicable,GLOBAL_DATA[[#This Row],[Target scope]]=Risk_accepted),GLOBAL_DATA[[#This Row],[Kick-off]]<>""),1,0)+IF(AND(GLOBAL_DATA[[#This Row],[Status]]=In_progress,GLOBAL_DATA[[#This Row],[Implementation progress rate]]=Risk_accepted),1,0)+IF(AND(GLOBAL_DATA[[#This Row],[Status]]=In_progress,GLOBAL_DATA[[#This Row],[Implementation progress rate]]=full),1,0) -> #REF! | AU40: =IF(GLOBAL_DATA[[#This Row],[Target scope]]<>Target_Not_Applicable,COUNTBLANK(GLOBAL_DATA[[#This Row],[Target scope]:[Target justification (if<100%)]]),0)+IF(GLOBAL_DATA[[#This Row],[Status]]<>Status_No_Project,COUNTBLANK(GLOBAL_DATA[[#This Row],[Implementation progress rate]:[CISO assessment]]),0) -> 1
A41: XX | B41: XX | C41: XX | D41: XX | E41: XX | F41: XX | G41: XX | H41: XX | I41: XX | J41: XX | K41: XX | L41: XX | M41: XX | N41: =IF(GLOBAL_DATA[[#This Row],[Target scope]]="","",INDEX(DATA_TargetStatusChoice[Target_Status_Choice],MATCH(GLOBAL_DATA[[#This Row],[Target scope]],DATA_TargetStatusChoice[Value],1))) -> FULL IMPLEMENTATION | O41: 1 | P41: - | Q41: IN PROGRESS | R41: 1 | T41: XX | V41: - | Z41: =SUM(GLOBAL_DATA[[#This Row],[Initial 2020]]+GLOBAL_DATA[[#This Row],[Initial 2021]]+GLOBAL_DATA[[#This Row],[Initial 2022]]+GLOBAL_DATA[[#This Row],[Initial 2023]]) -> 0 | AA41: =SUM(GLOBAL_DATA[[#This Row],[Reestimated 2020]]+GLOBAL_DATA[[#This Row],[Reestimated 2021]]+GLOBAL_DATA[[#This Row],[Reestimated 2022]]+GLOBAL_DATA[[#This Row],[Reestimated 2023]]) -> 0 | AB41: =SUM(GLOBAL_DATA[[#This Row],[Spent 2020]]+GLOBAL_DATA[[#This Row],[Spent 2021]]+GLOBAL_DATA[[#This Row],[Spent 2022]]+GLOBAL_DATA[[#This Row],[Spent 2023]]) -> 0 | AQ41: =IF(GLOBAL_DATA[[#This Row],[Target scope]]<>Target_Not_Applicable,GLOBAL_DATA[[#This Row],[Target scope]]*GLOBAL_DATA[[#This Row],[Implementation progress rate]],"") -> 1 | AR41: =IF(OR(GLOBAL_DATA[[#This Row],[Status]]=DATA!$J$6,GLOBAL_DATA[[#This Row],[Status]]=DATA!$J$7,GLOBAL_DATA[[#This Row],[Status]]=DATA!$J$8),1,0) -> 0 | AS41: =IF(GLOBAL_DATA[[#This Row],[Status]]=Status_No_Project,"",MAX(GLOBAL_DATA[[#This Row],[Initial end]],GLOBAL_DATA[[#This Row],[Re-estimated end]],43831)) -> 43831 | AT41: =IF(AND(GLOBAL_DATA[[#This Row],[Implementation progress rate]]<100%,GLOBAL_DATA[[#This Row],[Re-estimated end]]<=[0]!ReportingDate,GLOBAL_DATA[[#This Row],[Re-estimated end]]<>""),1,0)+IF(AND(GLOBAL_DATA[[#This Row],[Implementation progress rate]]<100%,GLOBAL_DATA[[#This Row],[Initial end]]<=[0]!ReportingDate,GLOBAL_DATA[[#This Row],[Re-estimated end]]<[0]!ReportingDate,GLOBAL_DATA[[#This Row],[Re-estimated end]]<>""),1,0)+IF(AND(OR(GLOBAL_DATA[[#This Row],[Target scope]]=Target_Not_Applicable,GLOBAL_DATA[[#This Row],[Target scope]]=Risk_accepted),GLOBAL_DATA[[#This Row],[Kick-off]]<>""),1,0)+IF(AND(GLOBAL_DATA[[#This Row],[Status]]=In_progress,GLOBAL_DATA[[#This Row],[Implementation progress rate]]=Risk_accepted),1,0)+IF(AND(GLOBAL_DATA[[#This Row],[Status]]=In_progress,GLOBAL_DATA[[#This Row],[Implementation progress rate]]=full),1,0) -> #REF! | AU41: =IF(GLOBAL_DATA[[#This Row],[Target scope]]<>Target_Not_Applicable,COUNTBLANK(GLOBAL_DATA[[#This Row],[Target scope]:[Target justification (if<100%)]]),0)+IF(GLOBAL_DATA[[#This Row],[Status]]<>Status_No_Project,COUNTBLANK(GLOBAL_DATA[[#This Row],[Implementation progress rate]:[CISO assessment]]),0) -> 1
... A45: XX | B45: XX | C45: XX | D45: XX | E45: XX | F45: XX | G45: XX | H45: XX | I45: XX | J45: XX | K45: XX | L45: XX | M45: XX | N45: =IF(GLOBAL_DATA[[#This Row],[Target scope]]="","",INDEX(DATA_TargetStatusChoice[Target_Status_Choice],MATCH(GLOBAL_DATA[[#This Row],[Target scope]],DATA_TargetStatusChoice[Value],1))) -> FULL IMPLEMENTATION | O45: 1 | P45: - | Q45: IN PROGRESS | R45: 0.8 | T45: XX | V45: - | Z45: =SUM(GLOBAL_DATA[[#This Row],[Initial 2020]]+GLOBAL_DATA[[#This Row],[Initial 2021]]+GLOBAL_DATA[[#This Row],[Initial 2022]]+GLOBAL_DATA[[#This Row],[Initial 2023]]) -> 0 | AA45: =SUM(GLOBAL_DATA[[#This Row],[Reestimated 2020]]+GLOBAL_DATA[[#This Row],[Reestimated 2021]]+GLOBAL_DATA[[#This Row],[Reestimated 2022]]+GLOBAL_DATA[[#This Row],[Reestimated 2023]]) -> 0 | AB45: =SUM(GLOBAL_DATA[[#This Row],[Spent 2020]]+GLOBAL_DATA[[#This Row],[Spent 2021]]+GLOBAL_DATA[[#This Row],[Spent 2022]]+GLOBAL_DATA[[#This Row],[Spent 2023]]) -> 0 | AQ45: =IF(GLOBAL_DATA[[#This Row],[Target scope]]<>Target_Not_Applicable,GLOBAL_DATA[[#This Row],[Target scope]]*GLOBAL_DATA[[#This Row],[Implementation progress rate]],"") -> 0.8 | AR45: =IF(OR(GLOBAL_DATA[[#This Row],[Status]]=DATA!$J$6,GLOBAL_DATA[[#This Row],[Status]]=DATA!$J$7,GLOBAL_DATA[[#This Row],[Status]]=DATA!$J$8),1,0) -> 0 | AS45: =IF(GLOBAL_DATA[[#This Row],[Status]]=Status_No_Project,"",MAX(GLOBAL_DATA[[#This Row],[Initial end]],GLOBAL_DATA[[#This Row],[Re-estimated end]],43831)) -> 43831 | AT45: =IF(AND(GLOBAL_DATA[[#This Row],[Implementation progress rate]]<100%,GLOBAL_DATA[[#This Row],[Re-estimated end]]<=[0]!ReportingDate,GLOBAL_DATA[[#This Row],[Re-estimated end]]<>""),1,0)+IF(AND(GLOBAL_DATA[[#This Row],[Implementation progress rate]]<100%,GLOBAL_DATA[[#This Row],[Initial end]]<=[0]!ReportingDate,GLOBAL_DATA[[#This Row],[Re-estimated end]]<[0]!ReportingDate,GLOBAL_DATA[[#This Row],[Re-estimated end]]<>""),1,0)+IF(AND(OR(GLOBAL_DATA[[#This Row],[Target scope]]=Target_Not_Applicable,GLOBAL_DATA[[#This Row],[Target scope]]=Risk_accepted),GLOBAL_DATA[[#This Row],[Kick-off]]<>""),1,0)+IF(AND(GLOBAL_DATA[[#This Row],[Status]]=In_progress,GLOBAL_DATA[[#This Row],[Implementation progress rate]]=Risk_accepted),1,0)+IF(AND(GLOBAL_DATA[[#This Row],[Status]]=In_progress,GLOBAL_DATA[[#This Row],[Implementation progress rate]]=full),1,0) -> #REF! | AU45: =IF(GLOBAL_DATA[[#This Row],[Target scope]]<>Target_Not_Applicable,COUNTBLANK(GLOBAL_DATA[[#This Row],[Target scope]:[Target justification (if<100%)]]),0)+IF(GLOBAL_DATA[[#This Row],[Status]]<>Status_No_Project,COUNTBLANK(GLOBAL_DATA[[#This Row],[Implementation progress rate]:[CISO assessment]]),0) -> 1
A46: XX | B46: XX | C46: XX | D46: XX | E46: XX | F46: XX | G46: XX | H46: XX | I46: XX | J46: XX | K46: XX | L46: XX | M46: XX | N46: =IF(GLOBAL_DATA[[#This Row],[Target scope]]="","",INDEX(DATA_TargetStatusChoice[Target_Status_Choice],MATCH(GLOBAL_DATA[[#This Row],[Target scope]],DATA_TargetStatusChoice[Value],1))) | P46: - | Q46: NO PROJECT | R46: 0 | T46: XX | V46: - | Z46: =SUM(GLOBAL_DATA[[#This Row],[Initial 2020]]+GLOBAL_DATA[[#This Row],[Initial 2021]]+GLOBAL_DATA[[#This Row],[Initial 2022]]+GLOBAL_DATA[[#This Row],[Initial 2023]]) -> 0 | AA46: =SUM(GLOBAL_DATA[[#This Row],[Reestimated 2020]]+GLOBAL_DATA[[#This Row],[Reestimated 2021]]+GLOBAL_DATA[[#This Row],[Reestimated 2022]]+GLOBAL_DATA[[#This Row],[Reestimated 2023]]) -> 0 | AB46: =SUM(GLOBAL_DATA[[#This Row],[Spent 2020]]+GLOBAL_DATA[[#This Row],[Spent 2021]]+GLOBAL_DATA[[#This Row],[Spent 2022]]+GLOBAL_DATA[[#This Row],[Spent 2023]]) -> 0 | AQ46: =IF(GLOBAL_DATA[[#This Row],[Target scope]]<>Target_Not_Applicable,GLOBAL_DATA[[#This Row],[Target scope]]*GLOBAL_DATA[[#This Row],[Implementation progress rate]],"") -> 0 | AR46: =IF(OR(GLOBAL_DATA[[#This Row],[Status]]=DATA!$J$6,GLOBAL_DATA[[#This Row],[Status]]=DATA!$J$7,GLOBAL_DATA[[#This Row],[Status]]=DATA!$J$8),1,0) -> 0 | AS46: =IF(GLOBAL_DATA[[#This Row],[Status]]=Status_No_Project,"",MAX(GLOBAL_DATA[[#This Row],[Initial end]],GLOBAL_DATA[[#This Row],[Re-estimated end]],43831)) | AT46: =IF(AND(GLOBAL_DATA[[#This Row],[Implementation progress rate]]<100%,GLOBAL_DATA[[#This Row],[Re-estimated end]]<=[0]!ReportingDate,GLOBAL_DATA[[#This Row],[Re-estimated end]]<>""),1,0)+IF(AND(GLOBAL_DATA[[#This Row],[Implementation progress rate]]<100%,GLOBAL_DATA[[#This Row],[Initial end]]<=[0]!ReportingDate,GLOBAL_DATA[[#This Row],[Re-estimated end]]<[0]!ReportingDate,GLOBAL_DATA[[#This Row],[Re-estimated end]]<>""),1,0)+IF(AND(OR(GLOBAL_DATA[[#This Row],[Target scope]]=Target_Not_Applicable,GLOBAL_DATA[[#This Row],[Target scope]]=Risk_accepted),GLOBAL_DATA[[#This Row],[Kick-off]]<>""),1,0)+IF(AND(GLOBAL_DATA[[#This Row],[Status]]=In_progress,GLOBAL_DATA[[#This Row],[Implementation progress rate]]=Risk_accepted),1,0)+IF(AND(GLOBAL_DATA[[#This Row],[Status]]=In_progress,GLOBAL_DATA[[#This Row],[Implementation progress rate]]=full),1,0) -> #REF! | AU46: =IF(GLOBAL_DATA[[#This Row],[Target scope]]<>Target_Not_Applicable,COUNTBLANK(GLOBAL_DATA[[#This Row],[Target scope]:[Target justification (if<100%)]]),0)+IF(GLOBAL_DATA[[#This Row],[Status]]<>Status_No_Project,COUNTBLANK(GLOBAL_DATA[[#This Row],[Implementation progress rate]:[CISO assessment]]),0) -> 1
A47: XX | B47: XX | C47: XX | D47: XX | E47: XX | F47: XX | G47: XX | H47: XX | I47: XX | J47: XX | K47: XX | L47: XX | M47: XX | N47: =IF(GLOBAL_DATA[[#This Row],[Target scope]]="","",INDEX(DATA_TargetStatusChoice[Target_Status_Choice],MATCH(GLOBAL_DATA[[#This Row],[Target scope]],DATA_TargetStatusChoice[Value],1))) -> FULL IMPLEMENTATION | O47: 1 | P47: - | Q47: IN PROGRESS | R47: 1 | T47: XX | V47: - | Z47: =SUM(GLOBAL_DATA[[#This Row],[Initial 2020]]+GLOBAL_DATA[[#This Row],[Initial 2021]]+GLOBAL_DATA[[#This Row],[Initial 2022]]+GLOBAL_DATA[[#This Row],[Initial 2023]]) -> 0 | AA47: =SUM(GLOBAL_DATA[[#This Row],[Reestimated 2020]]+GLOBAL_DATA[[#This Row],[Reestimated 2021]]+GLOBAL_DATA[[#This Row],[Reestimated 2022]]+GLOBAL_DATA[[#This Row],[Reestimated 2023]]) -> 0 | AB47: =SUM(GLOBAL_DATA[[#This Row],[Spent 2020]]+GLOBAL_DATA[[#This Row],[Spent 2021]]+GLOBAL_DATA[[#This Row],[Spent 2022]]+GLOBAL_DATA[[#This Row],[Spent 2023]]) -> 0 | AQ47: =IF(GLOBAL_DATA[[#This Row],[Target scope]]<>Target_Not_Applicable,GLOBAL_DATA[[#This Row],[Target scope]]*GLOBAL_DATA[[#This Row],[Implementation progress rate]],"") -> 1 | AR47: =IF(OR(GLOBAL_DATA[[#This Row],[Status]]=DATA!$J$6,GLOBAL_DATA[[#This Row],[Status]]=DATA!$J$7,GLOBAL_DATA[[#This Row],[Status]]=DATA!$J$8),1,0) -> 0 | AS47: =IF(GLOBAL_DATA[[#This Row],[Status]]=Status_No_Project,"",MAX(GLOBAL_DATA[[#This Row],[Initial end]],GLOBAL_DATA[[#This Row],[Re-estimated end]],43831)) -> 43831 | AT47: =IF(AND(GLOBAL_DATA[[#This Row],[Implementation progress rate]]<100%,GLOBAL_DATA[[#This Row],[Re-estimated end]]<=[0]!ReportingDate,GLOBAL_DATA[[#This Row],[Re-estimated end]]<>""),1,0)+IF(AND(GLOBAL_DATA[[#This Row],[Implementation progress rate]]<100%,GLOBAL_DATA[[#This Row],[Initial end]]<=[0]!ReportingDate,GLOBAL_DATA[[#This Row],[Re-estimated end]]<[0]!ReportingDate,GLOBAL_DATA[[#This Row],[Re-estimated end]]<>""),1,0)+IF(AND(OR(GLOBAL_DATA[[#This Row],[Target scope]]=Target_Not_Applicable,GLOBAL_DATA[[#This Row],[Target scope]]=Risk_accepted),GLOBAL_DATA[[#This Row],[Kick-off]]<>""),1,0)+IF(AND(GLOBAL_DATA[[#This Row],[Status]]=In_progress,GLOBAL_DATA[[#This Row],[Implementation progress rate]]=Risk_accepted),1,0)+IF(AND(GLOBAL_DATA[[#This Row],[Status]]=In_progress,GLOBAL_DATA[[#This Row],[Implementation progress rate]]=full),1,0) -> #REF! | AU47: =IF(GLOBAL_DATA[[#This Row],[Target scope]]<>Target_Not_Applicable,COUNTBLANK(GLOBAL_DATA[[#This Row],[Target scope]:[Target justification (if<100%)]]),0)+IF(GLOBAL_DATA[[#This Row],[Status]]<>Status_No_Project,COUNTBLANK(GLOBAL_DATA[[#This Row],[Implementation progress rate]:[CISO assessment]]),0) -> 1
A48: XX | B48: XX | C48: XX | D48: XX | E48: XX | F48: XX | G48: XX | H48: XX | I48: XX | J48: XX | K48: XX | L48: XX | M48: XX | N48: =IF(GLOBAL_DATA[[#This Row],[Target scope]]="","",INDEX(DATA_TargetStatusChoice[Target_Status_Choice],MATCH(GLOBAL_DATA[[#This Row],[Target scope]],DATA_TargetStatusChoice[Value],1))) -> FULL IMPLEMENTATION | O48: 1 | P48: - | Q48: IN PROGRESS | R48: 0.6 | T48: XX | V48: - | Z48: =SUM(GLOBAL_DATA[[#This Row],[Initial 2020]]+GLOBAL_DATA[[#This Row],[Initial 2021]]+GLOBAL_DATA[[#This Row],[Initial 2022]]+GLOBAL_DATA[[#This Row],[Initial 2023]]) -> 0 | AA48: =SUM(GLOBAL_DATA[[#This Row],[Reestimated 2020]]+GLOBAL_DATA[[#This Row],[Reestimated 2021]]+GLOBAL_DATA[[#This Row],[Reestimated 2022]]+GLOBAL_DATA[[#This Row],[Reestimated 2023]]) -> 0 | AB48: =SUM(GLOBAL_DATA[[#This Row],[Spent 2020]]+GLOBAL_DATA[[#This Row],[Spent 2021]]+GLOBAL_DATA[[#This Row],[Spent 2022]]+GLOBAL_DATA[[#This Row],[Spent 2023]]) -> 0 | AQ48: =IF(GLOBAL_DATA[[#This Row],[Target scope]]<>Target_Not_Applicable,GLOBAL_DATA[[#This Row],[Target scope]]*GLOBAL_DATA[[#This Row],[Implementation progress rate]],"") -> 0.6 | AR48: =IF(OR(GLOBAL_DATA[[#This Row],[Status]]=DATA!$J$6,GLOBAL_DATA[[#This Row],[Status]]=DATA!$J$7,GLOBAL_DATA[[#This Row],[Status]]=DATA!$J$8),1,0) -> 0 | AS48: =IF(GLOBAL_DATA[[#This Row],[Status]]=Status_No_Project,"",MAX(GLOBAL_DATA[[#This Row],[Initial end]],GLOBAL_DATA[[#This Row],[Re-estimated end]],43831)) -> 43831 | AT48: =IF(AND(GLOBAL_DATA[[#This Row],[Implementation progress rate]]<100%,GLOBAL_DATA[[#This Row],[Re-estimated end]]<=[0]!ReportingDate,GLOBAL_DATA[[#This Row],[Re-estimated end]]<>""),1,0)+IF(AND(GLOBAL_DATA[[#This Row],[Implementation progress rate]]<100%,GLOBAL_DATA[[#This Row],[Initial end]]<=[0]!ReportingDate,GLOBAL_DATA[[#This Row],[Re-estimated end]]<[0]!ReportingDate,GLOBAL_DATA[[#This Row],[Re-estimated end]]<>""),1,0)+IF(AND(OR(GLOBAL_DATA[[#This Row],[Target scope]]=Target_Not_Applicable,GLOBAL_DATA[[#This Row],[Target scope]]=Risk_accepted),GLOBAL_DATA[[#This Row],[Kick-off]]<>""),1,0)+IF(AND(GLOBAL_DATA[[#This Row],[Status]]=In_progress,GLOBAL_DATA[[#This Row],[Implementation progress rate]]=Risk_accepted),1,0)+IF(AND(GLOBAL_DATA[[#This Row],[Status]]=In_progress,GLOBAL_DATA[[#This Row],[Implementation progress rate]]=full),1,0) -> #REF! | AU48: =IF(GLOBAL_DATA[[#This Row],[Target scope]]<>Target_Not_Applicable,COUNTBLANK(GLOBAL_DATA[[#This Row],[Target scope]:[Target justification (if<100%)]]),0)+IF(GLOBAL_DATA[[#This Row],[Status]]<>Status_No_Project,COUNTBLANK(GLOBAL_DATA[[#This Row],[Implementation progress rate]:[CISO assessment]]),0) -> 1
A49: XX | B49: XX | C49: XX | D49: XX | E49: XX | F49: XX | G49: XX | H49: XX | I49: XX | J49: XX | K49: XX | L49: XX | M49: XX | N49: =IF(GLOBAL_DATA[[#This Row],[Target scope]]="","",INDEX(DATA_TargetStatusChoice[Target_Status_Choice],MATCH(GLOBAL_DATA[[#This Row],[Target scope]],DATA_TargetStatusChoice[Value],1))) -> FULL IMPLEMENTATION | O49: 1 | P49: - | Q49: IN PROGRESS | R49: 0.6 | T49: XX | V49: - | Z49: =SUM(GLOBAL_DATA[[#This Row],[Initial 2020]]+GLOBAL_DATA[[#This Row],[Initial 2021]]+GLOBAL_DATA[[#This Row],[Initial 2022]]+GLOBAL_DATA[[#This Row],[Initial 2023]]) -> 0 | AA49: =SUM(GLOBAL_DATA[[#This Row],[Reestimated 2020]]+GLOBAL_DATA[[#This Row],[Reestimated 2021]]+GLOBAL_DATA[[#This Row],[Reestimated 2022]]+GLOBAL_DATA[[#This Row],[Reestimated 2023]]) -> 0 | AB49: =SUM(GLOBAL_DATA[[#This Row],[Spent 2020]]+GLOBAL_DATA[[#This Row],[Spent 2021]]+GLOBAL_DATA[[#This Row],[Spent 2022]]+GLOBAL_DATA[[#This Row],[Spent 2023]]) -> 0 | AQ49: =IF(GLOBAL_DATA[[#This Row],[Target scope]]<>Target_Not_Applicable,GLOBAL_DATA[[#This Row],[Target scope]]*GLOBAL_DATA[[#This Row],[Implementation progress rate]],"") -> 0.6 | AR49: =IF(OR(GLOBAL_DATA[[#This Row],[Status]]=DATA!$J$6,GLOBAL_DATA[[#This Row],[Status]]=DATA!$J$7,GLOBAL_DATA[[#This Row],[Status]]=DATA!$J$8),1,0) -> 0 | AS49: =IF(GLOBAL_DATA[[#This Row],[Status]]=Status_No_Project,"",MAX(GLOBAL_DATA[[#This Row],[Initial end]],GLOBAL_DATA[[#This Row],[Re-estimated end]],43831)) -> 43831 | AT49: =IF(AND(GLOBAL_DATA[[#This Row],[Implementation progress rate]]<100%,GLOBAL_DATA[[#This Row],[Re-estimated end]]<=[0]!ReportingDate,GLOBAL_DATA[[#This Row],[Re-estimated end]]<>""),1,0)+IF(AND(GLOBAL_DATA[[#This Row],[Implementation progress rate]]<100%,GLOBAL_DATA[[#This Row],[Initial end]]<=[0]!ReportingDate,GLOBAL_DATA[[#This Row],[Re-estimated end]]<[0]!ReportingDate,GLOBAL_DATA[[#This Row],[Re-estimated end]]<>""),1,0)+IF(AND(OR(GLOBAL_DATA[[#This Row],[Target scope]]=Target_Not_Applicable,GLOBAL_DATA[[#This Row],[Target scope]]=Risk_accepted),GLOBAL_DATA[[#This Row],[Kick-off]]<>""),1,0)+IF(AND(GLOBAL_DATA[[#This Row],[Status]]=In_progress,GLOBAL_DATA[[#This Row],[Implementation progress rate]]=Risk_accepted),1,0)+IF(AND(GLOBAL_DATA[[#This Row],[Status]]=In_progress,GLOBAL_DATA[[#This Row],[Implementation progress rate]]=full),1,0) -> #REF! | AU49: =IF(GLOBAL_DATA[[#This Row],[Target scope]]<>Target_Not_Applicable,COUNTBLANK(GLOBAL_DATA[[#This Row],[Target scope]:[Target justification (if<100%)]]),0)+IF(GLOBAL_DATA[[#This Row],[Status]]<>Status_No_Project,COUNTBLANK(GLOBAL_DATA[[#This Row],[Implementation progress rate]:[CISO assessment]]),0) -> 1
A50: XX | B50: XX | C50: XX | D50: XX | E50: XX | F50: XX | G50: XX | H50: XX | I50: XX | J50: XX | K50: XX | L50: XX | M50: XX | N50: =IF(GLOBAL_DATA[[#This Row],[Target scope]]="","",INDEX(DATA_TargetStatusChoice[Target_Status_Choice],MATCH(GLOBAL_DATA[[#This Row],[Target scope]],DATA_TargetStatusChoice[Value],1))) -> FULL IMPLEMENTATION | O50: 1 | P50: - | Q50: IN PROGRESS | R50: 0.6 | T50: XX | V50: - | Z50: =SUM(GLOBAL_DATA[[#This Row],[Initial 2020]]+GLOBAL_DATA[[#This Row],[Initial 2021]]+GLOBAL_DATA[[#This Row],[Initial 2022]]+GLOBAL_DATA[[#This Row],[Initial 2023]]) -> 0 | AA50: =SUM(GLOBAL_DATA[[#This Row],[Reestimated 2020]]+GLOBAL_DATA[[#This Row],[Reestimated 2021]]+GLOBAL_DATA[[#This Row],[Reestimated 2022]]+GLOBAL_DATA[[#This Row],[Reestimated 2023]]) -> 0 | AB50: =SUM(GLOBAL_DATA[[#This Row],[Spent 2020]]+GLOBAL_DATA[[#This Row],[Spent 2021]]+GLOBAL_DATA[[#This Row],[Spent 2022]]+GLOBAL_DATA[[#This Row],[Spent 2023]]) -> 0 | AQ50: =IF(GLOBAL_DATA[[#This Row],[Target scope]]<>Target_Not_Applicable,GLOBAL_DATA[[#This Row],[Target scope]]*GLOBAL_DATA[[#This Row],[Implementation progress rate]],"") -> 0.6 | AR50: =IF(OR(GLOBAL_DATA[[#This Row],[Status]]=DATA!$J$6,GLOBAL_DATA[[#This Row],[Status]]=DATA!$J$7,GLOBAL_DATA[[#This Row],[Status]]=DATA!$J$8),1,0) -> 0 | AS50: =IF(GLOBAL_DATA[[#This Row],[Status]]=Status_No_Project,"",MAX(GLOBAL_DATA[[#This Row],[Initial end]],GLOBAL_DATA[[#This Row],[Re-estimated end]],43831)) -> 43831 | AT50: =IF(AND(GLOBAL_DATA[[#This Row],[Implementation progress rate]]<100%,GLOBAL_DATA[[#This Row],[Re-estimated end]]<=[0]!ReportingDate,GLOBAL_DATA[[#This Row],[Re-estimated end]]<>""),1,0)+IF(AND(GLOBAL_DATA[[#This Row],[Implementation progress rate]]<100%,GLOBAL_DATA[[#This Row],[Initial end]]<=[0]!ReportingDate,GLOBAL_DATA[[#This Row],[Re-estimated end]]<[0]!ReportingDate,GLOBAL_DATA[[#This Row],[Re-estimated end]]<>""),1,0)+IF(AND(OR(GLOBAL_DATA[[#This Row],[Target scope]]=Target_Not_Applicable,GLOBAL_DATA[[#This Row],[Target scope]]=Risk_accepted),GLOBAL_DATA[[#This Row],[Kick-off]]<>""),1,0)+IF(AND(GLOBAL_DATA[[#This Row],[Status]]=In_progress,GLOBAL_DATA[[#This Row],[Implementation progress rate]]=Risk_accepted),1,0)+IF(AND(GLOBAL_DATA[[#This Row],[Status]]=In_progress,GLOBAL_DATA[[#This Row],[Implementation progress rate]]=full),1,0) -> #REF! | AU50: =IF(GLOBAL_DATA[[#This Row],[Target scope]]<>Target_Not_Applicable,COUNTBLANK(GLOBAL_DATA[[#This Row],[Target scope]:[Target justification (if<100%)]]),0)+IF(GLOBAL_DATA[[#This Row],[Status]]<>Status_No_Project,COUNTBLANK(GLOBAL_DATA[[#This Row],[Implementation progress rate]:[CISO assessment]]),0) -> 1
A51: XX | B51: XX | C51: XX | D51: XX | E51: XX | F51: XX | G51: XX | H51: XX | I51: XX | J51: XX | K51: XX | L51: XX | M51: XX | N51: =IF(GLOBAL_DATA[[#This Row],[Target scope]]="","",INDEX(DATA_TargetStatusChoice[Target_Status_Choice],MATCH(GLOBAL_DATA[[#This Row],[Target scope]],DATA_TargetStatusChoice[Value],1))) -> FULL IMPLEMENTATION | O51: 1 | P51: - | Q51: IN PROGRESS | R51: 1 | T51: XX | V51: - | Z51: =SUM(GLOBAL_DATA[[#This Row],[Initial 2020]]+GLOBAL_DATA[[#This Row],[Initial 2021]]+GLOBAL_DATA[[#This Row],[Initial 2022]]+GLOBAL_DATA[[#This Row],[Initial 2023]]) -> 0 | AA51: =SUM(GLOBAL_DATA[[#This Row],[Reestimated 2020]]+GLOBAL_DATA[[#This Row],[Reestimated 2021]]+GLOBAL_DATA[[#This Row],[Reestimated 2022]]+GLOBAL_DATA[[#This Row],[Reestimated 2023]]) -> 0 | AB51: =SUM(GLOBAL_DATA[[#This Row],[Spent 2020]]+GLOBAL_DATA[[#This Row],[Spent 2021]]+GLOBAL_DATA[[#This Row],[Spent 2022]]+GLOBAL_DATA[[#This Row],[Spent 2023]]) -> 0 | AQ51: =IF(GLOBAL_DATA[[#This Row],[Target scope]]<>Target_Not_Applicable,GLOBAL_DATA[[#This Row],[Target scope]]*GLOBAL_DATA[[#This Row],[Implementation progress rate]],"") -> 1 | AR51: =IF(OR(GLOBAL_DATA[[#This Row],[Status]]=DATA!$J$6,GLOBAL_DATA[[#This Row],[Status]]=DATA!$J$7,GLOBAL_DATA[[#This Row],[Status]]=DATA!$J$8),1,0) -> 0 | AS51: =IF(GLOBAL_DATA[[#This Row],[Status]]=Status_No_Project,"",MAX(GLOBAL_DATA[[#This Row],[Initial end]],GLOBAL_DATA[[#This Row],[Re-estimated end]],43831)) -> 43831 | AT51: =IF(AND(GLOBAL_DATA[[#This Row],[Implementation progress rate]]<100%,GLOBAL_DATA[[#This Row],[Re-estimated end]]<=[0]!ReportingDate,GLOBAL_DATA[[#This Row],[Re-estimated end]]<>""),1,0)+IF(AND(GLOBAL_DATA[[#This Row],[Implementation progress rate]]<100%,GLOBAL_DATA[[#This Row],[Initial end]]<=[0]!ReportingDate,GLOBAL_DATA[[#This Row],[Re-estimated end]]<[0]!ReportingDate,GLOBAL_DATA[[#This Row],[Re-estimated end]]<>""),1,0)+IF(AND(OR(GLOBAL_DATA[[#This Row],[Target scope]]=Target_Not_Applicable,GLOBAL_DATA[[#This Row],[Target scope]]=Risk_accepted),GLOBAL_DATA[[#This Row],[Kick-off]]<>""),1,0)+IF(AND(GLOBAL_DATA[[#This Row],[Status]]=In_progress,GLOBAL_DATA[[#This Row],[Implementation progress rate]]=Risk_accepted),1,0)+IF(AND(GLOBAL_DATA[[#This Row],[Status]]=In_progress,GLOBAL_DATA[[#This Row],[Implementation progress rate]]=full),1,0) -> #REF! | AU51: =IF(GLOBAL_DATA[[#This Row],[Target scope]]<>Target_Not_Applicable,COUNTBLANK(GLOBAL_DATA[[#This Row],[Target scope]:[Target justification (if<100%)]]),0)+IF(GLOBAL_DATA[[#This Row],[Status]]<>Status_No_Project,COUNTBLANK(GLOBAL_DATA[[#This Row],[Implementation progress rate]:[CISO assessment]]),0) -> 1
A52: XX | B52: XX | C52: XX | D52: XX | E52: XX | F52: XX | G52: XX | H52: XX | I52: XX | J52: XX | K52: XX | L52: XX | M52: XX | N52: =IF(GLOBAL_DATA[[#This Row],[Target scope]]="","",INDEX(DATA_TargetStatusChoice[Target_Status_Choice],MATCH(GLOBAL_DATA[[#This Row],[Target scope]],DATA_TargetStatusChoice[Value],1))) -> FULL IMPLEMENTATION | O52: 1 | P52: - | Q52: IN PROGRESS | R52: 1 | T52: XX | V52: - | Z52: =SUM(GLOBAL_DATA[[#This Row],[Initial 2020]]+GLOBAL_DATA[[#This Row],[Initial 2021]]+GLOBAL_DATA[[#This Row],[Initial 2022]]+GLOBAL_DATA[[#This Row],[Initial 2023]]) -> 0 | AA52: =SUM(GLOBAL_DATA[[#This Row],[Reestimated 2020]]+GLOBAL_DATA[[#This Row],[Reestimated 2021]]+GLOBAL_DATA[[#This Row],[Reestimated 2022]]+GLOBAL_DATA[[#This Row],[Reestimated 2023]]) -> 0 | AB52: =SUM(GLOBAL_DATA[[#This Row],[Spent 2020]]+GLOBAL_DATA[[#This Row],[Spent 2021]]+GLOBAL_DATA[[#This Row],[Spent 2022]]+GLOBAL_DATA[[#This Row],[Spent 2023]]) -> 0 | AQ52: =IF(GLOBAL_DATA[[#This Row],[Target scope]]<>Target_Not_Applicable,GLOBAL_DATA[[#This Row],[Target scope]]*GLOBAL_DATA[[#This Row],[Implementation progress rate]],"") -> 1 | AR52: =IF(OR(GLOBAL_DATA[[#This Row],[Status]]=DATA!$J$6,GLOBAL_DATA[[#This Row],[Status]]=DATA!$J$7,GLOBAL_DATA[[#This Row],[Status]]=DATA!$J$8),1,0) -> 0 | AS52: =IF(GLOBAL_DATA[[#This Row],[Status]]=Status_No_Project,"",MAX(GLOBAL_DATA[[#This Row],[Initial end]],GLOBAL_DATA[[#This Row],[Re-estimated end]],43831)) -> 43831 | AT52: =IF(AND(GLOBAL_DATA[[#This Row],[Implementation progress rate]]<100%,GLOBAL_DATA[[#This Row],[Re-estimated end]]<=[0]!ReportingDate,GLOBAL_DATA[[#This Row],[Re-estimated end]]<>""),1,0)+IF(AND(GLOBAL_DATA[[#This Row],[Implementation progress rate]]<100%,GLOBAL_DATA[[#This Row],[Initial end]]<=[0]!ReportingDate,GLOBAL_DATA[[#This Row],[Re-estimated end]]<[0]!ReportingDate,GLOBAL_DATA[[#This Row],[Re-estimated end]]<>""),1,0)+IF(AND(OR(GLOBAL_DATA[[#This Row],[Target scope]]=Target_Not_Applicable,GLOBAL_DATA[[#This Row],[Target scope]]=Risk_accepted),GLOBAL_DATA[[#This Row],[Kick-off]]<>""),1,0)+IF(AND(GLOBAL_DATA[[#This Row],[Status]]=In_progress,GLOBAL_DATA[[#This Row],[Implementation progress rate]]=Risk_accepted),1,0)+IF(AND(GLOBAL_DATA[[#This Row],[Status]]=In_progress,GLOBAL_DATA[[#This Row],[Implementation progress rate]]=full),1,0) -> #REF! | AU52: =IF(GLOBAL_DATA[[#This Row],[Target scope]]<>Target_Not_Applicable,COUNTBLANK(GLOBAL_DATA[[#This Row],[Target scope]:[Target justification (if<100%)]]),0)+IF(GLOBAL_DATA[[#This Row],[Status]]<>Status_No_Project,COUNTBLANK(GLOBAL_DATA[[#This Row],[Implementation progress rate]:[CISO assessment]]),0) -> 1
A53: XX | B53: XX | C53: XX | D53: XX | E53: XX | F53: XX | G53: XX | H53: XX | I53: XX | J53: XX | K53: XX | L53: XX | M53: XX | N53: =IF(GLOBAL_DATA[[#This Row],[Target scope]]="","",INDEX(DATA_TargetStatusChoice[Target_Status_Choice],MATCH(GLOBAL_DATA[[#This Row],[Target scope]],DATA_TargetStatusChoice[Value],1))) -> FULL IMPLEMENTATION | O53: 1 | P53: - | Q53: IN PROGRESS | R53: 1 | T53: XX | V53: - | Z53: =SUM(GLOBAL_DATA[[#This Row],[Initial 2020]]+GLOBAL_DATA[[#This Row],[Initial 2021]]+GLOBAL_DATA[[#This Row],[Initial 2022]]+GLOBAL_DATA[[#This Row],[Initial 2023]]) -> 0 | AA53: =SUM(GLOBAL_DATA[[#This Row],[Reestimated 2020]]+GLOBAL_DATA[[#This Row],[Reestimated 2021]]+GLOBAL_DATA[[#This Row],[Reestimated 2022]]+GLOBAL_DATA[[#This Row],[Reestimated 2023]]) -> 0 | AB53: =SUM(GLOBAL_DATA[[#This Row],[Spent 2020]]+GLOBAL_DATA[[#This Row],[Spent 2021]]+GLOBAL_DATA[[#This Row],[Spent 2022]]+GLOBAL_DATA[[#This Row],[Spent 2023]]) -> 0 | AQ53: =IF(GLOBAL_DATA[[#This Row],[Target scope]]<>Target_Not_Applicable,GLOBAL_DATA[[#This Row],[Target scope]]*GLOBAL_DATA[[#This Row],[Implementation progress rate]],"") -> 1 | AR53: =IF(OR(GLOBAL_DATA[[#This Row],[Status]]=DATA!$J$6,GLOBAL_DATA[[#This Row],[Status]]=DATA!$J$7,GLOBAL_DATA[[#This Row],[Status]]=DATA!$J$8),1,0) -> 0 | AS53: =IF(GLOBAL_DATA[[#This Row],[Status]]=Status_No_Project,"",MAX(GLOBAL_DATA[[#This Row],[Initial end]],GLOBAL_DATA[[#This Row],[Re-estimated end]],43831)) -> 43831 | AT53: =IF(AND(GLOBAL_DATA[[#This Row],[Implementation progress rate]]<100%,GLOBAL_DATA[[#This Row],[Re-estimated end]]<=[0]!ReportingDate,GLOBAL_DATA[[#This Row],[Re-estimated end]]<>""),1,0)+IF(AND(GLOBAL_DATA[[#This Row],[Implementation progress rate]]<100%,GLOBAL_DATA[[#This Row],[Initial end]]<=[0]!ReportingDate,GLOBAL_DATA[[#This Row],[Re-estimated end]]<[0]!ReportingDate,GLOBAL_DATA[[#This Row],[Re-estimated end]]<>""),1,0)+IF(AND(OR(GLOBAL_DATA[[#This Row],[Target scope]]=Target_Not_Applicable,GLOBAL_DATA[[#This Row],[Target scope]]=Risk_accepted),GLOBAL_DATA[[#This Row],[Kick-off]]<>""),1,0)+IF(AND(GLOBAL_DATA[[#This Row],[Status]]=In_progress,GLOBAL_DATA[[#This Row],[Implementation progress rate]]=Risk_accepted),1,0)+IF(AND(GLOBAL_DATA[[#This Row],[Status]]=In_progress,GLOBAL_DATA[[#This Row],[Implementation progress rate]]=full),1,0) -> #REF! | AU53: =IF(GLOBAL_DATA[[#This Row],[Target scope]]<>Target_Not_Applicable,COUNTBLANK(GLOBAL_DATA[[#This Row],[Target scope]:[Target justification (if<100%)]]),0)+IF(GLOBAL_DATA[[#This Row],[Status]]<>Status_No_Project,COUNTBLANK(GLOBAL_DATA[[#This Row],[Implementation progress rate]:[CISO assessment]]),0) -> 1
A54: XX | B54: XX | C54: XX | D54: XX | E54: XX | F54: XX | G54: XX | H54: XX | I54: XX | J54: XX | K54: XX | L54: XX | M54: XX | N54: =IF(GLOBAL_DATA[[#This Row],[Target scope]]="","",INDEX(DATA_TargetStatusChoice[Target_Status_Choice],MATCH(GLOBAL_DATA[[#This Row],[Target scope]],DATA_TargetStatusChoice[Value],1))) -> FULL IMPLEMENTATION | O54: 1 | P54: - | Q54: TO BE STARTED | R54: 0 | T54: XX | V54: - | Z54: =SUM(GLOBAL_DATA[[#This Row],[Initial 2020]]+GLOBAL_DATA[[#This Row],[Initial 2021]]+GLOBAL_DATA[[#This Row],[Initial 2022]]+GLOBAL_DATA[[#This Row],[Initial 2023]]) -> 0 | AA54: =SUM(GLOBAL_DATA[[#This Row],[Reestimated 2020]]+GLOBAL_DATA[[#This Row],[Reestimated 2021]]+GLOBAL_DATA[[#This Row],[Reestimated 2022]]+GLOBAL_DATA[[#This Row],[Reestimated 2023]]) -> 0 | AB54: =SUM(GLOBAL_DATA[[#This Row],[Spent 2020]]+GLOBAL_DATA[[#This Row],[Spent 2021]]+GLOBAL_DATA[[#This Row],[Spent 2022]]+GLOBAL_DATA[[#This Row],[Spent 2023]]) -> 0 | AQ54: =IF(GLOBAL_DATA[[#This Row],[Target scope]]<>Target_Not_Applicable,GLOBAL_DATA[[#This Row],[Target scope]]*GLOBAL_DATA[[#This Row],[Implementation progress rate]],"") -> 0 | AR54: =IF(OR(GLOBAL_DATA[[#This Row],[Status]]=DATA!$J$6,GLOBAL_DATA[[#This Row],[Status]]=DATA!$J$7,GLOBAL_DATA[[#This Row],[Status]]=DATA!$J$8),1,0) -> 0 | AS54: =IF(GLOBAL_DATA[[#This Row],[Status]]=Status_No_Project,"",MAX(GLOBAL_DATA[[#This Row],[Initial end]],GLOBAL_DATA[[#This Row],[Re-estimated end]],43831)) -> 43831 | AT54: =IF(AND(GLOBAL_DATA[[#This Row],[Implementation progress rate]]<100%,GLOBAL_DATA[[#This Row],[Re-estimated end]]<=[0]!ReportingDate,GLOBAL_DATA[[#This Row],[Re-estimated end]]<>""),1,0)+IF(AND(GLOBAL_DATA[[#This Row],[Implementation progress rate]]<100%,GLOBAL_DATA[[#This Row],[Initial end]]<=[0]!ReportingDate,GLOBAL_DATA[[#This Row],[Re-estimated end]]<[0]!ReportingDate,GLOBAL_DATA[[#This Row],[Re-estimated end]]<>""),1,0)+IF(AND(OR(GLOBAL_DATA[[#This Row],[Target scope]]=Target_Not_Applicable,GLOBAL_DATA[[#This Row],[Target scope]]=Risk_accepted),GLOBAL_DATA[[#This Row],[Kick-off]]<>""),1,0)+IF(AND(GLOBAL_DATA[[#This Row],[Status]]=In_progress,GLOBAL_DATA[[#This Row],[Implementation progress rate]]=Risk_accepted),1,0)+IF(AND(GLOBAL_DATA[[#This Row],[Status]]=In_progress,GLOBAL_DATA[[#This Row],[Implementation progress rate]]=full),1,0) -> #REF! | AU54: =IF(GLOBAL_DATA[[#This Row],[Target scope]]<>Target_Not_Applicable,COUNTBLANK(GLOBAL_DATA[[#This Row],[Target scope]:[Target justification (if<100%)]]),0)+IF(GLOBAL_DATA[[#This Row],[Status]]<>Status_No_Project,COUNTBLANK(GLOBAL_DATA[[#This Row],[Implementation progress rate]:[CISO assessment]]),0) -> 1
A55: XX | B55: XX | C55: XX | D55: XX | E55: XX | F55: XX | G55: XX | H55: XX | I55: XX | J55: XX | K55: XX | L55: XX | M55: XX | N55: =IF(GLOBAL_DATA[[#This Row],[Target scope]]="","",INDEX(DATA_TargetStatusChoice[Target_Status_Choice],MATCH(GLOBAL_DATA[[#This Row],[Target scope]],DATA_TargetStatusChoice[Value],1))) -> FULL IMPLEMENTATION | O55: 1 | P55: - | Q55: TO BE STARTED | R55: 0 | T55: XX | V55: - | Z55: =SUM(GLOBAL_DATA[[#This Row],[Initial 2020]]+GLOBAL_DATA[[#This Row],[Initial 2021]]+GLOBAL_DATA[[#This Row],[Initial 2022]]+GLOBAL_DATA[[#This Row],[Initial 2023]]) -> 0 | AA55: =SUM(GLOBAL_DATA[[#This Row],[Reestimated 2020]]+GLOBAL_DATA[[#This Row],[Reestimated 2021]]+GLOBAL_DATA[[#This Row],[Reestimated 2022]]+GLOBAL_DATA[[#This Row],[Reestimated 2023]]) -> 0 | AB55: =SUM(GLOBAL_DATA[[#This Row],[Spent 2020]]+GLOBAL_DATA[[#This Row],[Spent 2021]]+GLOBAL_DATA[[#This Row],[Spent 2022]]+GLOBAL_DATA[[#This Row],[Spent 2023]]) -> 0 | AQ55: =IF(GLOBAL_DATA[[#This Row],[Target scope]]<>Target_Not_Applicable,GLOBAL_DATA[[#This Row],[Target scope]]*GLOBAL_DATA[[#This Row],[Implementation progress rate]],"") -> 0 | AR55: =IF(OR(GLOBAL_DATA[[#This Row],[Status]]=DATA!$J$6,GLOBAL_DATA[[#This Row],[Status]]=DATA!$J$7,GLOBAL_DATA[[#This Row],[Status]]=DATA!$J$8),1,0) -> 0 | AS55: =IF(GLOBAL_DATA[[#This Row],[Status]]=Status_No_Project,"",MAX(GLOBAL_DATA[[#This Row],[Initial end]],GLOBAL_DATA[[#This Row],[Re-estimated end]],43831)) -> 43831 | AT55: =IF(AND(GLOBAL_DATA[[#This Row],[Implementation progress rate]]<100%,GLOBAL_DATA[[#This Row],[Re-estimated end]]<=[0]!ReportingDate,GLOBAL_DATA[[#This Row],[Re-estimated end]]<>""),1,0)+IF(AND(GLOBAL_DATA[[#This Row],[Implementation progress rate]]<100%,GLOBAL_DATA[[#This Row],[Initial end]]<=[0]!ReportingDate,GLOBAL_DATA[[#This Row],[Re-estimated end]]<[0]!ReportingDate,GLOBAL_DATA[[#This Row],[Re-estimated end]]<>""),1,0)+IF(AND(OR(GLOBAL_DATA[[#This Row],[Target scope]]=Target_Not_Applicable,GLOBAL_DATA[[#This Row],[Target scope]]=Risk_accepted),GLOBAL_DATA[[#This Row],[Kick-off]]<>""),1,0)+IF(AND(GLOBAL_DATA[[#This Row],[Status]]=In_progress,GLOBAL_DATA[[#This Row],[Implementation progress rate]]=Risk_accepted),1,0)+IF(AND(GLOBAL_DATA[[#This Row],[Status]]=In_progress,GLOBAL_DATA[[#This Row],[Implementation progress rate]]=full),1,0) -> #REF! | AU55: =IF(GLOBAL_DATA[[#This Row],[Target scope]]<>Target_Not_Applicable,COUNTBLANK(GLOBAL_DATA[[#This Row],[Target scope]:[Target justification (if<100%)]]),0)+IF(GLOBAL_DATA[[#This Row],[Status]]<>Status_No_Project,COUNTBLANK(GLOBAL_DATA[[#This Row],[Implementation progress rate]:[CISO assessment]]),0) -> 1
A56: XX | B56: XX | C56: XX | D56: XX | E56: XX | F56: XX | G56: XX | H56: XX | I56: XX | J56: XX | K56: XX | L56: XX | M56: XX | N56: =IF(GLOBAL_DATA[[#This Row],[Target scope]]="","",INDEX(DATA_TargetStatusChoice[Target_Status_Choice],MATCH(GLOBAL_DATA[[#This Row],[Target scope]],DATA_TargetStatusChoice[Value],1))) -> FULL IMPLEMENTATION | O56: 1 | P56: - | Q56: IN PROGRESS | R56: 0.8 | T56: XX | V56: - | Z56: =SUM(GLOBAL_DATA[[#This Row],[Initial 2020]]+GLOBAL_DATA[[#This Row],[Initial 2021]]+GLOBAL_DATA[[#This Row],[Initial 2022]]+GLOBAL_DATA[[#This Row],[Initial 2023]]) -> 0 | AA56: =SUM(GLOBAL_DATA[[#This Row],[Reestimated 2020]]+GLOBAL_DATA[[#This Row],[Reestimated 2021]]+GLOBAL_DATA[[#This Row],[Reestimated 2022]]+GLOBAL_DATA[[#This Row],[Reestimated 2023]]) -> 0 | AB56: =SUM(GLOBAL_DATA[[#This Row],[Spent 2020]]+GLOBAL_DATA[[#This Row],[Spent 2021]]+GLOBAL_DATA[[#This Row],[Spent 2022]]+GLOBAL_DATA[[#This Row],[Spent 2023]]) -> 0 | AQ56: =IF(GLOBAL_DATA[[#This Row],[Target scope]]<>Target_Not_Applicable,GLOBAL_DATA[[#This Row],[Target scope]]*GLOBAL_DATA[[#This Row],[Implementation progress rate]],"") -> 0.8 | AR56: =IF(OR(GLOBAL_DATA[[#This Row],[Status]]=DATA!$J$6,GLOBAL_DATA[[#This Row],[Status]]=DATA!$J$7,GLOBAL_DATA[[#This Row],[Status]]=DATA!$J$8),1,0) -> 0 | AS56: =IF(GLOBAL_DATA[[#This Row],[Status]]=Status_No_Project,"",MAX(GLOBAL_DATA[[#This Row],[Initial end]],GLOBAL_DATA[[#This Row],[Re-estimated end]],43831)) -> 43831 | AT56: =IF(AND(GLOBAL_DATA[[#This Row],[Implementation progress rate]]<100%,GLOBAL_DATA[[#This Row],[Re-estimated end]]<=[0]!ReportingDate,GLOBAL_DATA[[#This Row],[Re-estimated end]]<>""),1,0)+IF(AND(GLOBAL_DATA[[#This Row],[Implementation progress rate]]<100%,GLOBAL_DATA[[#This Row],[Initial end]]<=[0]!ReportingDate,GLOBAL_DATA[[#This Row],[Re-estimated end]]<[0]!ReportingDate,GLOBAL_DATA[[#This Row],[Re-estimated end]]<>""),1,0)+IF(AND(OR(GLOBAL_DATA[[#This Row],[Target scope]]=Target_Not_Applicable,GLOBAL_DATA[[#This Row],[Target scope]]=Risk_accepted),GLOBAL_DATA[[#This Row],[Kick-off]]<>""),1,0)+IF(AND(GLOBAL_DATA[[#This Row],[Status]]=In_progress,GLOBAL_DATA[[#This Row],[Implementation progress rate]]=Risk_accepted),1,0)+IF(AND(GLOBAL_DATA[[#This Row],[Status]]=In_progress,GLOBAL_DATA[[#This Row],[Implementation progress rate]]=full),1,0) -> #REF! | AU56: =IF(GLOBAL_DATA[[#This Row],[Target scope]]<>Target_Not_Applicable,COUNTBLANK(GLOBAL_DATA[[#This Row],[Target scope]:[Target justification (if<100%)]]),0)+IF(GLOBAL_DATA[[#This Row],[Status]]<>Status_No_Project,COUNTBLANK(GLOBAL_DATA[[#This Row],[Implementation progress rate]:[CISO assessment]]),0) -> 1
A57: XX | B57: XX | C57: XX | D57: XX | E57: XX | F57: XX | G57: XX | H57: XX | I57: XX | J57: XX | K57: XX | L57: XX | M57: XX | N57: =IF(GLOBAL_DATA[[#This Row],[Target scope]]="","",INDEX(DATA_TargetStatusChoice[Target_Status_Choice],MATCH(GLOBAL_DATA[[#This Row],[Target scope]],DATA_TargetStatusChoice[Value],1))) -> FULL IMPLEMENTATION | O57: 1 | P57: - | Q57: IN PROGRESS | R57: 0.6 | T57: XX | V57: - | Z57: =SUM(GLOBAL_DATA[[#This Row],[Initial 2020]]+GLOBAL_DATA[[#This Row],[Initial 2021]]+GLOBAL_DATA[[#This Row],[Initial 2022]]+GLOBAL_DATA[[#This Row],[Initial 2023]]) -> 0 | AA57: =SUM(GLOBAL_DATA[[#This Row],[Reestimated 2020]]+GLOBAL_DATA[[#This Row],[Reestimated 2021]]+GLOBAL_DATA[[#This Row],[Reestimated 2022]]+GLOBAL_DATA[[#This Row],[Reestimated 2023]]) -> 0 | AB57: =SUM(GLOBAL_DATA[[#This Row],[Spent 2020]]+GLOBAL_DATA[[#This Row],[Spent 2021]]+GLOBAL_DATA[[#This Row],[Spent 2022]]+GLOBAL_DATA[[#This Row],[Spent 2023]]) -> 0 | AQ57: =IF(GLOBAL_DATA[[#This Row],[Target scope]]<>Target_Not_Applicable,GLOBAL_DATA[[#This Row],[Target scope]]*GLOBAL_DATA[[#This Row],[Implementation progress rate]],"") -> 0.6 | AR57: =IF(OR(GLOBAL_DATA[[#This Row],[Status]]=DATA!$J$6,GLOBAL_DATA[[#This Row],[Status]]=DATA!$J$7,GLOBAL_DATA[[#This Row],[Status]]=DATA!$J$8),1,0) -> 0 | AS57: =IF(GLOBAL_DATA[[#This Row],[Status]]=Status_No_Project,"",MAX(GLOBAL_DATA[[#This Row],[Initial end]],GLOBAL_DATA[[#This Row],[Re-estimated end]],43831)) -> 43831 | AT57: =IF(AND(GLOBAL_DATA[[#This Row],[Implementation progress rate]]<100%,GLOBAL_DATA[[#This Row],[Re-estimated end]]<=[0]!ReportingDate,GLOBAL_DATA[[#This Row],[Re-estimated end]]<>""),1,0)+IF(AND(GLOBAL_DATA[[#This Row],[Implementation progress rate]]<100%,GLOBAL_DATA[[#This Row],[Initial end]]<=[0]!ReportingDate,GLOBAL_DATA[[#This Row],[Re-estimated end]]<[0]!ReportingDate,GLOBAL_DATA[[#This Row],[Re-estimated end]]<>""),1,0)+IF(AND(OR(GLOBAL_DATA[[#This Row],[Target scope]]=Target_Not_Applicable,GLOBAL_DATA[[#This Row],[Target scope]]=Risk_accepted),GLOBAL_DATA[[#This Row],[Kick-off]]<>""),1,0)+IF(AND(GLOBAL_DATA[[#This Row],[Status]]=In_progress,GLOBAL_DATA[[#This Row],[Implementation progress rate]]=Risk_accepted),1,0)+IF(AND(GLOBAL_DATA[[#This Row],[Status]]=In_progress,GLOBAL_DATA[[#This Row],[Implementation progress rate]]=full),1,0) -> #REF! | AU57: =IF(GLOBAL_DATA[[#This Row],[Target scope]]<>Target_Not_Applicable,COUNTBLANK(GLOBAL_DATA[[#This Row],[Target scope]:[Target justification (if<100%)]]),0)+IF(GLOBAL_DATA[[#This Row],[Status]]<>Status_No_Project,COUNTBLANK(GLOBAL_DATA[[#This Row],[Implementation progress rate]:[CISO assessment]]),0) -> 1
A58: XX | B58: XX | C58: XX | D58: XX | E58: XX | F58: XX | G58: XX | H58: XX | I58: XX | J58: XX | K58: XX | L58: XX | M58: XX | N58: =IF(GLOBAL_DATA[[#This Row],[Target scope]]="","",INDEX(DATA_TargetStatusChoice[Target_Status_Choice],MATCH(GLOBAL_DATA[[#This Row],[Target scope]],DATA_TargetStatusChoice[Value],1))) -> FULL IMPLEMENTATION | O58: 1 | P58: - | Q58: IN PROGRESS | R58: 1 | T58: XX | V58: - | Z58: =SUM(GLOBAL_DATA[[#This Row],[Initial 2020]]+GLOBAL_DATA[[#This Row],[Initial 2021]]+GLOBAL_DATA[[#This Row],[Initial 2022]]+GLOBAL_DATA[[#This Row],[Initial 2023]]) -> 0 | AA58: =SUM(GLOBAL_DATA[[#This Row],[Reestimated 2020]]+GLOBAL_DATA[[#This Row],[Reestimated 2021]]+GLOBAL_DATA[[#This Row],[Reestimated 2022]]+GLOBAL_DATA[[#This Row],[Reestimated 2023]]) -> 0 | AB58: =SUM(GLOBAL_DATA[[#This Row],[Spent 2020]]+GLOBAL_DATA[[#This Row],[Spent 2021]]+GLOBAL_DATA[[#This Row],[Spent 2022]]+GLOBAL_DATA[[#This Row],[Spent 2023]]) -> 0 | AQ58: =IF(GLOBAL_DATA[[#This Row],[Target scope]]<>Target_Not_Applicable,GLOBAL_DATA[[#This Row],[Target scope]]*GLOBAL_DATA[[#This Row],[Implementation progress rate]],"") -> 1 | AR58: =IF(OR(GLOBAL_DATA[[#This Row],[Status]]=DATA!$J$6,GLOBAL_DATA[[#This Row],[Status]]=DATA!$J$7,GLOBAL_DATA[[#This Row],[Status]]=DATA!$J$8),1,0) -> 0 | AS58: =IF(GLOBAL_DATA[[#This Row],[Status]]=Status_No_Project,"",MAX(GLOBAL_DATA[[#This Row],[Initial end]],GLOBAL_DATA[[#This Row],[Re-estimated end]],43831)) -> 43831 | AT58: =IF(AND(GLOBAL_DATA[[#This Row],[Implementation progress rate]]<100%,GLOBAL_DATA[[#This Row],[Re-estimated end]]<=[0]!ReportingDate,GLOBAL_DATA[[#This Row],[Re-estimated end]]<>""),1,0)+IF(AND(GLOBAL_DATA[[#This Row],[Implementation progress rate]]<100%,GLOBAL_DATA[[#This Row],[Initial end]]<=[0]!ReportingDate,GLOBAL_DATA[[#This Row],[Re-estimated end]]<[0]!ReportingDate,GLOBAL_DATA[[#This Row],[Re-estimated end]]<>""),1,0)+IF(AND(OR(GLOBAL_DATA[[#This Row],[Target scope]]=Target_Not_Applicable,GLOBAL_DATA[[#This Row],[Target scope]]=Risk_accepted),GLOBAL_DATA[[#This Row],[Kick-off]]<>""),1,0)+IF(AND(GLOBAL_DATA[[#This Row],[Status]]=In_progress,GLOBAL_DATA[[#This Row],[Implementation progress rate]]=Risk_accepted),1,0)+IF(AND(GLOBAL_DATA[[#This Row],[Status]]=In_progress,GLOBAL_DATA[[#This Row],[Implementation progress rate]]=full),1,0) -> #REF! | AU58: =IF(GLOBAL_DATA[[#This Row],[Target scope]]<>Target_Not_Applicable,COUNTBLANK(GLOBAL_DATA[[#This Row],[Target scope]:[Target justification (if<100%)]]),0)+IF(GLOBAL_DATA[[#This Row],[Status]]<>Status_No_Project,COUNTBLANK(GLOBAL_DATA[[#This Row],[Implementation progress rate]:[CISO assessment]]),0) -> 1
A59: XX | B59: XX | C59: XX | D59: XX | E59: XX | F59: XX | G59: XX | H59: XX | I59: XX | J59: XX | K59: XX | L59: XX | M59: XX | N59: =IF(GLOBAL_DATA[[#This Row],[Target scope]]="","",INDEX(DATA_TargetStatusChoice[Target_Status_Choice],MATCH(GLOBAL_DATA[[#This Row],[Target scope]],DATA_TargetStatusChoice[Value],1))) | P59: - | Q59: NO PROJECT | R59: 0 | T59: XX | V59: - | Z59: =SUM(GLOBAL_DATA[[#This Row],[Initial 2020]]+GLOBAL_DATA[[#This Row],[Initial 2021]]+GLOBAL_DATA[[#This Row],[Initial 2022]]+GLOBAL_DATA[[#This Row],[Initial 2023]]) -> 0 | AA59: =SUM(GLOBAL_DATA[[#This Row],[Reestimated 2020]]+GLOBAL_DATA[[#This Row],[Reestimated 2021]]+GLOBAL_DATA[[#This Row],[Reestimated 2022]]+GLOBAL_DATA[[#This Row],[Reestimated 2023]]) -> 0 | AB59: =SUM(GLOBAL_DATA[[#This Row],[Spent 2020]]+GLOBAL_DATA[[#This Row],[Spent 2021]]+GLOBAL_DATA[[#This Row],[Spent 2022]]+GLOBAL_DATA[[#This Row],[Spent 2023]]) -> 0 | AQ59: =IF(GLOBAL_DATA[[#This Row],[Target scope]]<>Target_Not_Applicable,GLOBAL_DATA[[#This Row],[Target scope]]*GLOBAL_DATA[[#This Row],[Implementation progress rate]],"") -> 0 | AR59: =IF(OR(GLOBAL_DATA[[#This Row],[Status]]=DATA!$J$6,GLOBAL_DATA[[#This Row],[Status]]=DATA!$J$7,GLOBAL_DATA[[#This Row],[Status]]=DATA!$J$8),1,0) -> 0 | AS59: =IF(GLOBAL_DATA[[#This Row],[Status]]=Status_No_Project,"",MAX(GLOBAL_DATA[[#This Row],[Initial end]],GLOBAL_DATA[[#This Row],[Re-estimated end]],43831)) | AT59: =IF(AND(GLOBAL_DATA[[#This Row],[Implementation progress rate]]<100%,GLOBAL_DATA[[#This Row],[Re-estimated end]]<=[0]!ReportingDate,GLOBAL_DATA[[#This Row],[Re-estimated end]]<>""),1,0)+IF(AND(GLOBAL_DATA[[#This Row],[Implementation progress rate]]<100%,GLOBAL_DATA[[#This Row],[Initial end]]<=[0]!ReportingDate,GLOBAL_DATA[[#This Row],[Re-estimated end]]<[0]!ReportingDate,GLOBAL_DATA[[#This Row],[Re-estimated end]]<>""),1,0)+IF(AND(OR(GLOBAL_DATA[[#This Row],[Target scope]]=Target_Not_Applicable,GLOBAL_DATA[[#This Row],[Target scope]]=Risk_accepted),GLOBAL_DATA[[#This Row],[Kick-off]]<>""),1,0)+IF(AND(GLOBAL_DATA[[#This Row],[Status]]=In_progress,GLOBAL_DATA[[#This Row],[Implementation progress rate]]=Risk_accepted),1,0)+IF(AND(GLOBAL_DATA[[#This Row],[Status]]=In_progress,GLOBAL_DATA[[#This Row],[Implementation progress rate]]=full),1,0) -> #REF! | AU59: =IF(GLOBAL_DATA[[#This Row],[Target scope]]<>Target_Not_Applicable,COUNTBLANK(GLOBAL_DATA[[#This Row],[Target scope]:[Target justification (if<100%)]]),0)+IF(GLOBAL_DATA[[#This Row],[Status]]<>Status_No_Project,COUNTBLANK(GLOBAL_DATA[[#This Row],[Implementation progress rate]:[CISO assessment]]),0) -> 1
A60: XX | B60: XX | C60: XX | D60: XX | E60: XX | F60: XX | G60: XX | H60: XX | I60: XX | J60: XX | K60: XX | L60: XX | M60: XX | N60: =IF(GLOBAL_DATA[[#This Row],[Target scope]]="","",INDEX(DATA_TargetStatusChoice[Target_Status_Choice],MATCH(GLOBAL_DATA[[#This Row],[Target scope]],DATA_TargetStatusChoice[Value],1))) | P60: - | Q60: NO PROJECT | R60: 0 | T60: XX | V60: - | Z60: =SUM(GLOBAL_DATA[[#This Row],[Initial 2020]]+GLOBAL_DATA[[#This Row],[Initial 2021]]+GLOBAL_DATA[[#This Row],[Initial 2022]]+GLOBAL_DATA[[#This Row],[Initial 2023]]) -> 0 | AA60: =SUM(GLOBAL_DATA[[#This Row],[Reestimated 2020]]+GLOBAL_DATA[[#This Row],[Reestimated 2021]]+GLOBAL_DATA[[#This Row],[Reestimated 2022]]+GLOBAL_DATA[[#This Row],[Reestimated 2023]]) -> 0 | AB60: =SUM(GLOBAL_DATA[[#This Row],[Spent 2020]]+GLOBAL_DATA[[#This Row],[Spent 2021]]+GLOBAL_DATA[[#This Row],[Spent 2022]]+GLOBAL_DATA[[#This Row],[Spent 2023]]) -> 0 | AQ60: =IF(GLOBAL_DATA[[#This Row],[Target scope]]<>Target_Not_Applicable,GLOBAL_DATA[[#This Row],[Target scope]]*GLOBAL_DATA[[#This Row],[Implementation progress rate]],"") -> 0 | AR60: =IF(OR(GLOBAL_DATA[[#This Row],[Status]]=DATA!$J$6,GLOBAL_DATA[[#This Row],[Status]]=DATA!$J$7,GLOBAL_DATA[[#This Row],[Status]]=DATA!$J$8),1,0) -> 0 | AS60: =IF(GLOBAL_DATA[[#This Row],[Status]]=Status_No_Project,"",MAX(GLOBAL_DATA[[#This Row],[Initial end]],GLOBAL_DATA[[#This Row],[Re-estimated end]],43831)) | AT60: =IF(AND(GLOBAL_DATA[[#This Row],[Implementation progress rate]]<100%,GLOBAL_DATA[[#This Row],[Re-estimated end]]<=[0]!ReportingDate,GLOBAL_DATA[[#This Row],[Re-estimated end]]<>""),1,0)+IF(AND(GLOBAL_DATA[[#This Row],[Implementation progress rate]]<100%,GLOBAL_DATA[[#This Row],[Initial end]]<=[0]!ReportingDate,GLOBAL_DATA[[#This Row],[Re-estimated end]]<[0]!ReportingDate,GLOBAL_DATA[[#This Row],[Re-estimated end]]<>""),1,0)+IF(AND(OR(GLOBAL_DATA[[#This Row],[Target scope]]=Target_Not_Applicable,GLOBAL_DATA[[#This Row],[Target scope]]=Risk_accepted),GLOBAL_DATA[[#This Row],[Kick-off]]<>""),1,0)+IF(AND(GLOBAL_DATA[[#This Row],[Status]]=In_progress,GLOBAL_DATA[[#This Row],[Implementation progress rate]]=Risk_accepted),1,0)+IF(AND(GLOBAL_DATA[[#This Row],[Status]]=In_progress,GLOBAL_DATA[[#This Row],[Implementation progress rate]]=full),1,0) -> #REF! | AU60: =IF(GLOBAL_DATA[[#This Row],[Target scope]]<>Target_Not_Applicable,COUNTBLANK(GLOBAL_DATA[[#This Row],[Target scope]:[Target justification (if<100%)]]),0)+IF(GLOBAL_DATA[[#This Row],[Status]]<>Status_No_Project,COUNTBLANK(GLOBAL_DATA[[#This Row],[Implementation progress rate]:[CISO assessment]]),0) -> 1
A61: XX | B61: XX | C61: XX | D61: XX | E61: XX | F61: XX | G61: XX | H61: XX | I61: XX | J61: XX | K61: XX | L61: XX | M61: XX | N61: =IF(GLOBAL_DATA[[#This Row],[Target scope]]="","",INDEX(DATA_TargetStatusChoice[Target_Status_Choice],MATCH(GLOBAL_DATA[[#This Row],[Target scope]],DATA_TargetStatusChoice[Value],1))) | P61: - | Q61: NO PROJECT | R61: 0 | T61: XX | V61: - | Z61: =SUM(GLOBAL_DATA[[#This Row],[Initial 2020]]+GLOBAL_DATA[[#This Row],[Initial 2021]]+GLOBAL_DATA[[#This Row],[Initial 2022]]+GLOBAL_DATA[[#This Row],[Initial 2023]]) -> 0 | AA61: =SUM(GLOBAL_DATA[[#This Row],[Reestimated 2020]]+GLOBAL_DATA[[#This Row],[Reestimated 2021]]+GLOBAL_DATA[[#This Row],[Reestimated 2022]]+GLOBAL_DATA[[#This Row],[Reestimated 2023]]) -> 0 | AB61: =SUM(GLOBAL_DATA[[#This Row],[Spent 2020]]+GLOBAL_DATA[[#This Row],[Spent 2021]]+GLOBAL_DATA[[#This Row],[Spent 2022]]+GLOBAL_DATA[[#This Row],[Spent 2023]]) -> 0 | AQ61: =IF(GLOBAL_DATA[[#This Row],[Target scope]]<>Target_Not_Applicable,GLOBAL_DATA[[#This Row],[Target scope]]*GLOBAL_DATA[[#This Row],[Implementation progress rate]],"") -> 0 | AR61: =IF(OR(GLOBAL_DATA[[#This Row],[Status]]=DATA!$J$6,GLOBAL_DATA[[#This Row],[Status]]=DATA!$J$7,GLOBAL_DATA[[#This Row],[Status]]=DATA!$J$8),1,0) -> 0 | AS61: =IF(GLOBAL_DATA[[#This Row],[Status]]=Status_No_Project,"",MAX(GLOBAL_DATA[[#This Row],[Initial end]],GLOBAL_DATA[[#This Row],[Re-estimated end]],43831)) | AT61: =IF(AND(GLOBAL_DATA[[#This Row],[Implementation progress rate]]<100%,GLOBAL_DATA[[#This Row],[Re-estimated end]]<=[0]!ReportingDate,GLOBAL_DATA[[#This Row],[Re-estimated end]]<>""),1,0)+IF(AND(GLOBAL_DATA[[#This Row],[Implementation progress rate]]<100%,GLOBAL_DATA[[#This Row],[Initial end]]<=[0]!ReportingDate,GLOBAL_DATA[[#This Row],[Re-estimated end]]<[0]!ReportingDate,GLOBAL_DATA[[#This Row],[Re-estimated end]]<>""),1,0)+IF(AND(OR(GLOBAL_DATA[[#This Row],[Target scope]]=Target_Not_Applicable,GLOBAL_DATA[[#This Row],[Target scope]]=Risk_accepted),GLOBAL_DATA[[#This Row],[Kick-off]]<>""),1,0)+IF(AND(GLOBAL_DATA[[#This Row],[Status]]=In_progress,GLOBAL_DATA[[#This Row],[Implementation progress rate]]=Risk_accepted),1,0)+IF(AND(GLOBAL_DATA[[#This Row],[Status]]=In_progress,GLOBAL_DATA[[#This Row],[Implementation progress rate]]=full),1,0) -> #REF! | AU61: =IF(GLOBAL_DATA[[#This Row],[Target scope]]<>Target_Not_Applicable,COUNTBLANK(GLOBAL_DATA[[#This Row],[Target scope]:[Target justification (if<100%)]]),0)+IF(GLOBAL_DATA[[#This Row],[Status]]<>Status_No_Project,COUNTBLANK(GLOBAL_DATA[[#This Row],[Implementation progress rate]:[CISO assessment]]),0) -> 1
A62: XX | B62: XX | C62: XX | D62: XX | E62: XX | F62: XX | G62: XX | H62: XX | I62: XX | J62: XX | K62: XX | L62: XX | M62: XX | N62: =IF(GLOBAL_DATA[[#This Row],[Target scope]]="","",INDEX(DATA_TargetStatusChoice[Target_Status_Choice],MATCH(GLOBAL_DATA[[#This Row],[Target scope]],DATA_TargetStatusChoice[Value],1))) -> FULL IMPLEMENTATION | O62: 1 | P62: - | Q62: IN PROGRESS | R62: 1 | T62: XX | V62: - | Z62: =SUM(GLOBAL_DATA[[#This Row],[Initial 2020]]+GLOBAL_DATA[[#This Row],[Initial 2021]]+GLOBAL_DATA[[#This Row],[Initial 2022]]+GLOBAL_DATA[[#This Row],[Initial 2023]]) -> 0 | AA62: =SUM(GLOBAL_DATA[[#This Row],[Reestimated 2020]]+GLOBAL_DATA[[#This Row],[Reestimated 2021]]+GLOBAL_DATA[[#This Row],[Reestimated 2022]]+GLOBAL_DATA[[#This Row],[Reestimated 2023]]) -> 0 | AB62: =SUM(GLOBAL_DATA[[#This Row],[Spent 2020]]+GLOBAL_DATA[[#This Row],[Spent 2021]]+GLOBAL_DATA[[#This Row],[Spent 2022]]+GLOBAL_DATA[[#This Row],[Spent 2023]]) -> 0 | AQ62: =IF(GLOBAL_DATA[[#This Row],[Target scope]]<>Target_Not_Applicable,GLOBAL_DATA[[#This Row],[Target scope]]*GLOBAL_DATA[[#This Row],[Implementation progress rate]],"") -> 1 | AR62: =IF(OR(GLOBAL_DATA[[#This Row],[Status]]=DATA!$J$6,GLOBAL_DATA[[#This Row],[Status]]=DATA!$J$7,GLOBAL_DATA[[#This Row],[Status]]=DATA!$J$8),1,0) -> 0 | AS62: =IF(GLOBAL_DATA[[#This Row],[Status]]=Status_No_Project,"",MAX(GLOBAL_DATA[[#This Row],[Initial end]],GLOBAL_DATA[[#This Row],[Re-estimated end]],43831)) -> 43831 | AT62: =IF(AND(GLOBAL_DATA[[#This Row],[Implementation progress rate]]<100%,GLOBAL_DATA[[#This Row],[Re-estimated end]]<=[0]!ReportingDate,GLOBAL_DATA[[#This Row],[Re-estimated end]]<>""),1,0)+IF(AND(GLOBAL_DATA[[#This Row],[Implementation progress rate]]<100%,GLOBAL_DATA[[#This Row],[Initial end]]<=[0]!ReportingDate,GLOBAL_DATA[[#This Row],[Re-estimated end]]<[0]!ReportingDate,GLOBAL_DATA[[#This Row],[Re-estimated end]]<>""),1,0)+IF(AND(OR(GLOBAL_DATA[[#This Row],[Target scope]]=Target_Not_Applicable,GLOBAL_DATA[[#This Row],[Target scope]]=Risk_accepted),GLOBAL_DATA[[#This Row],[Kick-off]]<>""),1,0)+IF(AND(GLOBAL_DATA[[#This Row],[Status]]=In_progress,GLOBAL_DATA[[#This Row],[Implementation progress rate]]=Risk_accepted),1,0)+IF(AND(GLOBAL_DATA[[#This Row],[Status]]=In_progress,GLOBAL_DATA[[#This Row],[Implementation progress rate]]=full),1,0) -> #REF! | AU62: =IF(GLOBAL_DATA[[#This Row],[Target scope]]<>Target_Not_Applicable,COUNTBLANK(GLOBAL_DATA[[#This Row],[Target scope]:[Target justification (if<100%)]]),0)+IF(GLOBAL_DATA[[#This Row],[Status]]<>Status_No_Project,COUNTBLANK(GLOBAL_DATA[[#This Row],[Implementation progress rate]:[CISO assessment]]),0) -> 1
A63: XX | B63: XX | C63: XX | D63: XX | E63: XX | F63: XX | G63: XX | H63: XX | I63: XX | J63: XX | K63: XX | L63: XX | M63: XX | N63: =IF(GLOBAL_DATA[[#This Row],[Target scope]]="","",INDEX(DATA_TargetStatusChoice[Target_Status_Choice],MATCH(GLOBAL_DATA[[#This Row],[Target scope]],DATA_TargetStatusChoice[Value],1))) -> FULL IMPLEMENTATION | O63: 1 | P63: - | Q63: IN PROGRESS | R63: 1 | T63: XX | V63: - | Z63: =SUM(GLOBAL_DATA[[#This Row],[Initial 2020]]+GLOBAL_DATA[[#This Row],[Initial 2021]]+GLOBAL_DATA[[#This Row],[Initial 2022]]+GLOBAL_DATA[[#This Row],[Initial 2023]]) -> 0 | AA63: =SUM(GLOBAL_DATA[[#This Row],[Reestimated 2020]]+GLOBAL_DATA[[#This Row],[Reestimated 2021]]+GLOBAL_DATA[[#This Row],[Reestimated 2022]]+GLOBAL_DATA[[#This Row],[Reestimated 2023]]) -> 0 | AB63: =SUM(GLOBAL_DATA[[#This Row],[Spent 2020]]+GLOBAL_DATA[[#This Row],[Spent 2021]]+GLOBAL_DATA[[#This Row],[Spent 2022]]+GLOBAL_DATA[[#This Row],[Spent 2023]]) -> 0 | AQ63: =IF(GLOBAL_DATA[[#This Row],[Target scope]]<>Target_Not_Applicable,GLOBAL_DATA[[#This Row],[Target scope]]*GLOBAL_DATA[[#This Row],[Implementation progress rate]],"") -> 1 | AR63: =IF(OR(GLOBAL_DATA[[#This Row],[Status]]=DATA!$J$6,GLOBAL_DATA[[#This Row],[Status]]=DATA!$J$7,GLOBAL_DATA[[#This Row],[Status]]=DATA!$J$8),1,0) -> 0 | AS63: =IF(GLOBAL_DATA[[#This Row],[Status]]=Status_No_Project,"",MAX(GLOBAL_DATA[[#This Row],[Initial end]],GLOBAL_DATA[[#This Row],[Re-estimated end]],43831)) -> 43831 | AT63: =IF(AND(GLOBAL_DATA[[#This Row],[Implementation progress rate]]<100%,GLOBAL_DATA[[#This Row],[Re-estimated end]]<=[0]!ReportingDate,GLOBAL_DATA[[#This Row],[Re-estimated end]]<>""),1,0)+IF(AND(GLOBAL_DATA[[#This Row],[Implementation progress rate]]<100%,GLOBAL_DATA[[#This Row],[Initial end]]<=[0]!ReportingDate,GLOBAL_DATA[[#This Row],[Re-estimated end]]<[0]!ReportingDate,GLOBAL_DATA[[#This Row],[Re-estimated end]]<>""),1,0)+IF(AND(OR(GLOBAL_DATA[[#This Row],[Target scope]]=Target_Not_Applicable,GLOBAL_DATA[[#This Row],[Target scope]]=Risk_accepted),GLOBAL_DATA[[#This Row],[Kick-off]]<>""),1,0)+IF(AND(GLOBAL_DATA[[#This Row],[Status]]=In_progress,GLOBAL_DATA[[#This Row],[Implementation progress rate]]=Risk_accepted),1,0)+IF(AND(GLOBAL_DATA[[#This Row],[Status]]=In_progress,GLOBAL_DATA[[#This Row],[Implementation progress rate]]=full),1,0) -> #REF! | AU63: =IF(GLOBAL_DATA[[#This Row],[Target scope]]<>Target_Not_Applicable,COUNTBLANK(GLOBAL_DATA[[#This Row],[Target scope]:[Target justification (if<100%)]]),0)+IF(GLOBAL_DATA[[#This Row],[Status]]<>Status_No_Project,COUNTBLANK(GLOBAL_DATA[[#This Row],[Implementation progress rate]:[CISO assessment]]),0) -> 1
A64: XX | B64: XX | C64: XX | D64: XX | E64: XX | F64: XX | G64: XX | H64: XX | I64: XX | J64: XX | K64: XX | L64: XX | M64: XX | N64: =IF(GLOBAL_DATA[[#This Row],[Target scope]]="","",INDEX(DATA_TargetStatusChoice[Target_Status_Choice],MATCH(GLOBAL_DATA[[#This Row],[Target scope]],DATA_TargetStatusChoice[Value],1))) -> FULL IMPLEMENTATION | O64: 1 | P64: - | Q64: IN PROGRESS | R64: 1 | T64: XX | V64: - | Z64: =SUM(GLOBAL_DATA[[#This Row],[Initial 2020]]+GLOBAL_DATA[[#This Row],[Initial 2021]]+GLOBAL_DATA[[#This Row],[Initial 2022]]+GLOBAL_DATA[[#This Row],[Initial 2023]]) -> 0 | AA64: =SUM(GLOBAL_DATA[[#This Row],[Reestimated 2020]]+GLOBAL_DATA[[#This Row],[Reestimated 2021]]+GLOBAL_DATA[[#This Row],[Reestimated 2022]]+GLOBAL_DATA[[#This Row],[Reestimated 2023]]) -> 0 | AB64: =SUM(GLOBAL_DATA[[#This Row],[Spent 2020]]+GLOBAL_DATA[[#This Row],[Spent 2021]]+GLOBAL_DATA[[#This Row],[Spent 2022]]+GLOBAL_DATA[[#This Row],[Spent 2023]]) -> 0 | AQ64: =IF(GLOBAL_DATA[[#This Row],[Target scope]]<>Target_Not_Applicable,GLOBAL_DATA[[#This Row],[Target scope]]*GLOBAL_DATA[[#This Row],[Implementation progress rate]],"") -> 1 | AR64: =IF(OR(GLOBAL_DATA[[#This Row],[Status]]=DATA!$J$6,GLOBAL_DATA[[#This Row],[Status]]=DATA!$J$7,GLOBAL_DATA[[#This Row],[Status]]=DATA!$J$8),1,0) -> 0 | AS64: =IF(GLOBAL_DATA[[#This Row],[Status]]=Status_No_Project,"",MAX(GLOBAL_DATA[[#This Row],[Initial end]],GLOBAL_DATA[[#This Row],[Re-estimated end]],43831)) -> 43831 | AT64: =IF(AND(GLOBAL_DATA[[#This Row],[Implementation progress rate]]<100%,GLOBAL_DATA[[#This Row],[Re-estimated end]]<=[0]!ReportingDate,GLOBAL_DATA[[#This Row],[Re-estimated end]]<>""),1,0)+IF(AND(GLOBAL_DATA[[#This Row],[Implementation progress rate]]<100%,GLOBAL_DATA[[#This Row],[Initial end]]<=[0]!ReportingDate,GLOBAL_DATA[[#This Row],[Re-estimated end]]<[0]!ReportingDate,GLOBAL_DATA[[#This Row],[Re-estimated end]]<>""),1,0)+IF(AND(OR(GLOBAL_DATA[[#This Row],[Target scope]]=Target_Not_Applicable,GLOBAL_DATA[[#This Row],[Target scope]]=Risk_accepted),GLOBAL_DATA[[#This Row],[Kick-off]]<>""),1,0)+IF(AND(GLOBAL_DATA[[#This Row],[Status]]=In_progress,GLOBAL_DATA[[#This Row],[Implementation progress rate]]=Risk_accepted),1,0)+IF(AND(GLOBAL_DATA[[#This Row],[Status]]=In_progress,GLOBAL_DATA[[#This Row],[Implementation progress rate]]=full),1,0) -> #REF! | AU64: =IF(GLOBAL_DATA[[#This Row],[Target scope]]<>Target_Not_Applicable,COUNTBLANK(GLOBAL_DATA[[#This Row],[Target scope]:[Target justification (if<100%)]]),0)+IF(GLOBAL_DATA[[#This Row],[Status]]<>Status_No_Project,COUNTBLANK(GLOBAL_DATA[[#This Row],[Implementation progress rate]:[CISO assessment]]),0) -> 1
A65: XX | B65: XX | C65: XX | D65: XX | E65: XX | F65: XX | G65: XX | H65: XX | I65: XX | J65: XX | K65: XX | L65: XX | M65: XX | N65: =IF(GLOBAL_DATA[[#This Row],[Target scope]]="","",INDEX(DATA_TargetStatusChoice[Target_Status_Choice],MATCH(GLOBAL_DATA[[#This Row],[Target scope]],DATA_TargetStatusChoice[Value],1))) -> FULL IMPLEMENTATION | O65: 1 | P65: - | Q65: IN PROGRESS | R65: 1 | T65: XX | V65: - | Z65: =SUM(GLOBAL_DATA[[#This Row],[Initial 2020]]+GLOBAL_DATA[[#This Row],[Initial 2021]]+GLOBAL_DATA[[#This Row],[Initial 2022]]+GLOBAL_DATA[[#This Row],[Initial 2023]]) -> 0 | AA65: =SUM(GLOBAL_DATA[[#This Row],[Reestimated 2020]]+GLOBAL_DATA[[#This Row],[Reestimated 2021]]+GLOBAL_DATA[[#This Row],[Reestimated 2022]]+GLOBAL_DATA[[#This Row],[Reestimated 2023]]) -> 0 | AB65: =SUM(GLOBAL_DATA[[#This Row],[Spent 2020]]+GLOBAL_DATA[[#This Row],[Spent 2021]]+GLOBAL_DATA[[#This Row],[Spent 2022]]+GLOBAL_DATA[[#This Row],[Spent 2023]]) -> 0 | AQ65: =IF(GLOBAL_DATA[[#This Row],[Target scope]]<>Target_Not_Applicable,GLOBAL_DATA[[#This Row],[Target scope]]*GLOBAL_DATA[[#This Row],[Implementation progress rate]],"") -> 1 | AR65: =IF(OR(GLOBAL_DATA[[#This Row],[Status]]=DATA!$J$6,GLOBAL_DATA[[#This Row],[Status]]=DATA!$J$7,GLOBAL_DATA[[#This Row],[Status]]=DATA!$J$8),1,0) -> 0 | AS65: =IF(GLOBAL_DATA[[#This Row],[Status]]=Status_No_Project,"",MAX(GLOBAL_DATA[[#This Row],[Initial end]],GLOBAL_DATA[[#This Row],[Re-estimated end]],43831)) -> 43831 | AT65: =IF(AND(GLOBAL_DATA[[#This Row],[Implementation progress rate]]<100%,GLOBAL_DATA[[#This Row],[Re-estimated end]]<=[0]!ReportingDate,GLOBAL_DATA[[#This Row],[Re-estimated end]]<>""),1,0)+IF(AND(GLOBAL_DATA[[#This Row],[Implementation progress rate]]<100%,GLOBAL_DATA[[#This Row],[Initial end]]<=[0]!ReportingDate,GLOBAL_DATA[[#This Row],[Re-estimated end]]<[0]!ReportingDate,GLOBAL_DATA[[#This Row],[Re-estimated end]]<>""),1,0)+IF(AND(OR(GLOBAL_DATA[[#This Row],[Target scope]]=Target_Not_Applicable,GLOBAL_DATA[[#This Row],[Target scope]]=Risk_accepted),GLOBAL_DATA[[#This Row],[Kick-off]]<>""),1,0)+IF(AND(GLOBAL_DATA[[#This Row],[Status]]=In_progress,GLOBAL_DATA[[#This Row],[Implementation progress rate]]=Risk_accepted),1,0)+IF(AND(GLOBAL_DATA[[#This Row],[Status]]=In_progress,GLOBAL_DATA[[#This Row],[Implementation progress rate]]=full),1,0) -> #REF! | AU65: =IF(GLOBAL_DATA[[#This Row],[Target scope]]<>Target_Not_Applicable,COUNTBLANK(GLOBAL_DATA[[#This Row],[Target scope]:[Target justification (if<100%)]]),0)+IF(GLOBAL_DATA[[#This Row],[Status]]<>Status_No_Project,COUNTBLANK(GLOBAL_DATA[[#This Row],[Implementation progress rate]:[CISO assessment]]),0) -> 1
A66: XX | B66: XX | C66: XX | D66: XX | E66: XX | F66: XX | G66: XX | H66: XX | I66: XX | J66: XX | K66: XX | L66: XX | M66: XX | N66: =IF(GLOBAL_DATA[[#This Row],[Target scope]]="","",INDEX(DATA_TargetStatusChoice[Target_Status_Choice],MATCH(GLOBAL_DATA[[#This Row],[Target scope]],DATA_TargetStatusChoice[Value],1))) -> FULL IMPLEMENTATION | O66: 1 | P66: - | Q66: IN PROGRESS | R66: 1 | T66: XX | V66: - | Z66: =SUM(GLOBAL_DATA[[#This Row],[Initial 2020]]+GLOBAL_DATA[[#This Row],[Initial 2021]]+GLOBAL_DATA[[#This Row],[Initial 2022]]+GLOBAL_DATA[[#This Row],[Initial 2023]]) -> 0 | AA66: =SUM(GLOBAL_DATA[[#This Row],[Reestimated 2020]]+GLOBAL_DATA[[#This Row],[Reestimated 2021]]+GLOBAL_DATA[[#This Row],[Reestimated 2022]]+GLOBAL_DATA[[#This Row],[Reestimated 2023]]) -> 0 | AB66: =SUM(GLOBAL_DATA[[#This Row],[Spent 2020]]+GLOBAL_DATA[[#This Row],[Spent 2021]]+GLOBAL_DATA[[#This Row],[Spent 2022]]+GLOBAL_DATA[[#This Row],[Spent 2023]]) -> 0 | AQ66: =IF(GLOBAL_DATA[[#This Row],[Target scope]]<>Target_Not_Applicable,GLOBAL_DATA[[#This Row],[Target scope]]*GLOBAL_DATA[[#This Row],[Implementation progress rate]],"") -> 1 | AR66: =IF(OR(GLOBAL_DATA[[#This Row],[Status]]=DATA!$J$6,GLOBAL_DATA[[#This Row],[Status]]=DATA!$J$7,GLOBAL_DATA[[#This Row],[Status]]=DATA!$J$8),1,0) -> 0 | AS66: =IF(GLOBAL_DATA[[#This Row],[Status]]=Status_No_Project,"",MAX(GLOBAL_DATA[[#This Row],[Initial end]],GLOBAL_DATA[[#This Row],[Re-estimated end]],43831)) -> 43831 | AT66: =IF(AND(GLOBAL_DATA[[#This Row],[Implementation progress rate]]<100%,GLOBAL_DATA[[#This Row],[Re-estimated end]]<=[0]!ReportingDate,GLOBAL_DATA[[#This Row],[Re-estimated end]]<>""),1,0)+IF(AND(GLOBAL_DATA[[#This Row],[Implementation progress rate]]<100%,GLOBAL_DATA[[#This Row],[Initial end]]<=[0]!ReportingDate,GLOBAL_DATA[[#This Row],[Re-estimated end]]<[0]!ReportingDate,GLOBAL_DATA[[#This Row],[Re-estimated end]]<>""),1,0)+IF(AND(OR(GLOBAL_DATA[[#This Row],[Target scope]]=Target_Not_Applicable,GLOBAL_DATA[[#This Row],[Target scope]]=Risk_accepted),GLOBAL_DATA[[#This Row],[Kick-off]]<>""),1,0)+IF(AND(GLOBAL_DATA[[#This Row],[Status]]=In_progress,GLOBAL_DATA[[#This Row],[Implementation progress rate]]=Risk_accepted),1,0)+IF(AND(GLOBAL_DATA[[#This Row],[Status]]=In_progress,GLOBAL_DATA[[#This Row],[Implementation progress rate]]=full),1,0) -> #REF! | AU66: =IF(GLOBAL_DATA[[#This Row],[Target scope]]<>Target_Not_Applicable,COUNTBLANK(GLOBAL_DATA[[#This Row],[Target scope]:[Target justification (if<100%)]]),0)+IF(GLOBAL_DATA[[#This Row],[Status]]<>Status_No_Project,COUNTBLANK(GLOBAL_DATA[[#This Row],[Implementation progress rate]:[CISO assessment]]),0) -> 1
A67: XX | B67: XX | C67: XX | D67: XX | E67: XX | F67: XX | G67: XX | H67: XX | I67: XX | J67: XX | K67: XX | L67: XX | M67: XX | N67: =IF(GLOBAL_DATA[[#This Row],[Target scope]]="","",INDEX(DATA_TargetStatusChoice[Target_Status_Choice],MATCH(GLOBAL_DATA[[#This Row],[Target scope]],DATA_TargetStatusChoice[Value],1))) -> FULL IMPLEMENTATION | O67: 1 | P67: - | Q67: IN PROGRESS | R67: 0.5 | T67: XX | V67: - | Z67: =SUM(GLOBAL_DATA[[#This Row],[Initial 2020]]+GLOBAL_DATA[[#This Row],[Initial 2021]]+GLOBAL_DATA[[#This Row],[Initial 2022]]+GLOBAL_DATA[[#This Row],[Initial 2023]]) -> 0 | AA67: =SUM(GLOBAL_DATA[[#This Row],[Reestimated 2020]]+GLOBAL_DATA[[#This Row],[Reestimated 2021]]+GLOBAL_DATA[[#This Row],[Reestimated 2022]]+GLOBAL_DATA[[#This Row],[Reestimated 2023]]) -> 0 | AB67: =SUM(GLOBAL_DATA[[#This Row],[Spent 2020]]+GLOBAL_DATA[[#This Row],[Spent 2021]]+GLOBAL_DATA[[#This Row],[Spent 2022]]+GLOBAL_DATA[[#This Row],[Spent 2023]]) -> 0 | AQ67: =IF(GLOBAL_DATA[[#This Row],[Target scope]]<>Target_Not_Applicable,GLOBAL_DATA[[#This Row],[Target scope]]*GLOBAL_DATA[[#This Row],[Implementation progress rate]],"") -> 0.5 | AR67: =IF(OR(GLOBAL_DATA[[#This Row],[Status]]=DATA!$J$6,GLOBAL_DATA[[#This Row],[Status]]=DATA!$J$7,GLOBAL_DATA[[#This Row],[Status]]=DATA!$J$8),1,0) -> 0 | AS67: =IF(GLOBAL_DATA[[#This Row],[Status]]=Status_No_Project,"",MAX(GLOBAL_DATA[[#This Row],[Initial end]],GLOBAL_DATA[[#This Row],[Re-estimated end]],43831)) -> 43831 | AT67: =IF(AND(GLOBAL_DATA[[#This Row],[Implementation progress rate]]<100%,GLOBAL_DATA[[#This Row],[Re-estimated end]]<=[0]!ReportingDate,GLOBAL_DATA[[#This Row],[Re-estimated end]]<>""),1,0)+IF(AND(GLOBAL_DATA[[#This Row],[Implementation progress rate]]<100%,GLOBAL_DATA[[#This Row],[Initial end]]<=[0]!ReportingDate,GLOBAL_DATA[[#This Row],[Re-estimated end]]<[0]!ReportingDate,GLOBAL_DATA[[#This Row],[Re-estimated end]]<>""),1,0)+IF(AND(OR(GLOBAL_DATA[[#This Row],[Target scope]]=Target_Not_Applicable,GLOBAL_DATA[[#This Row],[Target scope]]=Risk_accepted),GLOBAL_DATA[[#This Row],[Kick-off]]<>""),1,0)+IF(AND(GLOBAL_DATA[[#This Row],[Status]]=In_progress,GLOBAL_DATA[[#This Row],[Implementation progress rate]]=Risk_accepted),1,0)+IF(AND(GLOBAL_DATA[[#This Row],[Status]]=In_progress,GLOBAL_DATA[[#This Row],[Implementation progress rate]]=full),1,0) -> #REF! | AU67: =IF(GLOBAL_DATA[[#This Row],[Target scope]]<>Target_Not_Applicable,COUNTBLANK(GLOBAL_DATA[[#This Row],[Target scope]:[Target justification (if<100%)]]),0)+IF(GLOBAL_DATA[[#This Row],[Status]]<>Status_No_Project,COUNTBLANK(GLOBAL_DATA[[#This Row],[Implementation progress rate]:[CISO assessment]]),0) -> 1
A68: XX | B68: XX | C68: XX | D68: XX | E68: XX | F68: XX | G68: XX | H68: XX | I68: XX | J68: XX | K68: XX | L68: XX | M68: XX | N68: =IF(GLOBAL_DATA[[#This Row],[Target scope]]="","",INDEX(DATA_TargetStatusChoice[Target_Status_Choice],MATCH(GLOBAL_DATA[[#This Row],[Target scope]],DATA_TargetStatusChoice[Value],1))) -> FULL IMPLEMENTATION | O68: 1 | P68: - | Q68: NO PROJECT | R68: 0 | T68: XX | V68: - | Z68: =SUM(GLOBAL_DATA[[#This Row],[Initial 2020]]+GLOBAL_DATA[[#This Row],[Initial 2021]]+GLOBAL_DATA[[#This Row],[Initial 2022]]+GLOBAL_DATA[[#This Row],[Initial 2023]]) -> 0 | AA68: =SUM(GLOBAL_DATA[[#This Row],[Reestimated 2020]]+GLOBAL_DATA[[#This Row],[Reestimated 2021]]+GLOBAL_DATA[[#This Row],[Reestimated 2022]]+GLOBAL_DATA[[#This Row],[Reestimated 2023]]) -> 0 | AB68: =SUM(GLOBAL_DATA[[#This Row],[Spent 2020]]+GLOBAL_DATA[[#This Row],[Spent 2021]]+GLOBAL_DATA[[#This Row],[Spent 2022]]+GLOBAL_DATA[[#This Row],[Spent 2023]]) -> 0 | AQ68: =IF(GLOBAL_DATA[[#This Row],[Target scope]]<>Target_Not_Applicable,GLOBAL_DATA[[#This Row],[Target scope]]*GLOBAL_DATA[[#This Row],[Implementation progress rate]],"") -> 0 | AR68: =IF(OR(GLOBAL_DATA[[#This Row],[Status]]=DATA!$J$6,GLOBAL_DATA[[#This Row],[Status]]=DATA!$J$7,GLOBAL_DATA[[#This Row],[Status]]=DATA!$J$8),1,0) -> 0 | AS68: =IF(GLOBAL_DATA[[#This Row],[Status]]=Status_No_Project,"",MAX(GLOBAL_DATA[[#This Row],[Initial end]],GLOBAL_DATA[[#This Row],[Re-estimated end]],43831)) | AT68: =IF(AND(GLOBAL_DATA[[#This Row],[Implementation progress rate]]<100%,GLOBAL_DATA[[#This Row],[Re-estimated end]]<=[0]!ReportingDate,GLOBAL_DATA[[#This Row],[Re-estimated end]]<>""),1,0)+IF(AND(GLOBAL_DATA[[#This Row],[Implementation progress rate]]<100%,GLOBAL_DATA[[#This Row],[Initial end]]<=[0]!ReportingDate,GLOBAL_DATA[[#This Row],[Re-estimated end]]<[0]!ReportingDate,GLOBAL_DATA[[#This Row],[Re-estimated end]]<>""),1,0)+IF(AND(OR(GLOBAL_DATA[[#This Row],[Target scope]]=Target_Not_Applicable,GLOBAL_DATA[[#This Row],[Target scope]]=Risk_accepted),GLOBAL_DATA[[#This Row],[Kick-off]]<>""),1,0)+IF(AND(GLOBAL_DATA[[#This Row],[Status]]=In_progress,GLOBAL_DATA[[#This Row],[Implementation progress rate]]=Risk_accepted),1,0)+IF(AND(GLOBAL_DATA[[#This Row],[Status]]=In_progress,GLOBAL_DATA[[#This Row],[Implementation progress rate]]=full),1,0) -> #REF! | AU68: =IF(GLOBAL_DATA[[#This Row],[Target scope]]<>Target_Not_Applicable,COUNTBLANK(GLOBAL_DATA[[#This Row],[Target scope]:[Target justification (if<100%)]]),0)+IF(GLOBAL_DATA[[#This Row],[Status]]<>Status_No_Project,COUNTBLANK(GLOBAL_DATA[[#This Row],[Implementation progress rate]:[CISO assessment]]),0) -> 0
A69: XX | B69: XX | C69: XX | D69: XX | E69: XX | F69: XX | G69: XX | H69: XX | I69: XX | J69: XX | K69: XX | L69: XX | M69: XX | N69: =IF(GLOBAL_DATA[[#This Row],[Target scope]]="","",INDEX(DATA_TargetStatusChoice[Target_Status_Choice],MATCH(GLOBAL_DATA[[#This Row],[Target scope]],DATA_TargetStatusChoice[Value],1))) -> FULL IMPLEMENTATION | O69: 1 | P69: - | Q69: IN PROGRESS | R69: 0.8 | T69: XX | V69: - | Z69: =SUM(GLOBAL_DATA[[#This Row],[Initial 2020]]+GLOBAL_DATA[[#This Row],[Initial 2021]]+GLOBAL_DATA[[#This Row],[Initial 2022]]+GLOBAL_DATA[[#This Row],[Initial 2023]]) -> 0 | AA69: =SUM(GLOBAL_DATA[[#This Row],[Reestimated 2020]]+GLOBAL_DATA[[#This Row],[Reestimated 2021]]+GLOBAL_DATA[[#This Row],[Reestimated 2022]]+GLOBAL_DATA[[#This Row],[Reestimated 2023]]) -> 0 | AB69: =SUM(GLOBAL_DATA[[#This Row],[Spent 2020]]+GLOBAL_DATA[[#This Row],[Spent 2021]]+GLOBAL_DATA[[#This Row],[Spent 2022]]+GLOBAL_DATA[[#This Row],[Spent 2023]]) -> 0 | AQ69: =IF(GLOBAL_DATA[[#This Row],[Target scope]]<>Target_Not_Applicable,GLOBAL_DATA[[#This Row],[Target scope]]*GLOBAL_DATA[[#This Row],[Implementation progress rate]],"") -> 0.8 | AR69: =IF(OR(GLOBAL_DATA[[#This Row],[Status]]=DATA!$J$6,GLOBAL_DATA[[#This Row],[Status]]=DATA!$J$7,GLOBAL_DATA[[#This Row],[Status]]=DATA!$J$8),1,0) -> 0 | AS69: =IF(GLOBAL_DATA[[#This Row],[Status]]=Status_No_Project,"",MAX(GLOBAL_DATA[[#This Row],[Initial end]],GLOBAL_DATA[[#This Row],[Re-estimated end]],43831)) -> 43831 | AT69: =IF(AND(GLOBAL_DATA[[#This Row],[Implementation progress rate]]<100%,GLOBAL_DATA[[#This Row],[Re-estimated end]]<=[0]!ReportingDate,GLOBAL_DATA[[#This Row],[Re-estimated end]]<>""),1,0)+IF(AND(GLOBAL_DATA[[#This Row],[Implementation progress rate]]<100%,GLOBAL_DATA[[#This Row],[Initial end]]<=[0]!ReportingDate,GLOBAL_DATA[[#This Row],[Re-estimated end]]<[0]!ReportingDate,GLOBAL_DATA[[#This Row],[Re-estimated end]]<>""),1,0)+IF(AND(OR(GLOBAL_DATA[[#This Row],[Target scope]]=Target_Not_Applicable,GLOBAL_DATA[[#This Row],[Target scope]]=Risk_accepted),GLOBAL_DATA[[#This Row],[Kick-off]]<>""),1,0)+IF(AND(GLOBAL_DATA[[#This Row],[Status]]=In_progress,GLOBAL_DATA[[#This Row],[Implementation progress rate]]=Risk_accepted),1,0)+IF(AND(GLOBAL_DATA[[#This Row],[Status]]=In_progress,GLOBAL_DATA[[#This Row],[Implementation progress rate]]=full),1,0) -> #REF! | AU69: =IF(GLOBAL_DATA[[#This Row],[Target scope]]<>Target_Not_Applicable,COUNTBLANK(GLOBAL_DATA[[#This Row],[Target scope]:[Target justification (if<100%)]]),0)+IF(GLOBAL_DATA[[#This Row],[Status]]<>Status_No_Project,COUNTBLANK(GLOBAL_DATA[[#This Row],[Implementation progress rate]:[CISO assessment]]),0) -> 1
A70: XX | B70: XX | C70: XX | D70: XX | E70: XX | F70: XX | G70: XX | H70: XX | I70: XX | J70: XX | K70: XX | L70: XX | M70: XX | N70: =IF(GLOBAL_DATA[[#This Row],[Target scope]]="","",INDEX(DATA_TargetStatusChoice[Target_Status_Choice],MATCH(GLOBAL_DATA[[#This Row],[Target scope]],DATA_TargetStatusChoice[Value],1))) -> FULL IMPLEMENTATION | O70: 1 | P70: - | Q70: IN PROGRESS | R70: 0.5 | T70: XX | V70: - | Z70: =SUM(GLOBAL_DATA[[#This Row],[Initial 2020]]+GLOBAL_DATA[[#This Row],[Initial 2021]]+GLOBAL_DATA[[#This Row],[Initial 2022]]+GLOBAL_DATA[[#This Row],[Initial 2023]]) -> 0 | AA70: =SUM(GLOBAL_DATA[[#This Row],[Reestimated 2020]]+GLOBAL_DATA[[#This Row],[Reestimated 2021]]+GLOBAL_DATA[[#This Row],[Reestimated 2022]]+GLOBAL_DATA[[#This Row],[Reestimated 2023]]) -> 0 | AB70: =SUM(GLOBAL_DATA[[#This Row],[Spent 2020]]+GLOBAL_DATA[[#This Row],[Spent 2021]]+GLOBAL_DATA[[#This Row],[Spent 2022]]+GLOBAL_DATA[[#This Row],[Spent 2023]]) -> 0 | AQ70: =IF(GLOBAL_DATA[[#This Row],[Target scope]]<>Target_Not_Applicable,GLOBAL_DATA[[#This Row],[Target scope]]*GLOBAL_DATA[[#This Row],[Implementation progress rate]],"") -> 0.5 | AR70: =IF(OR(GLOBAL_DATA[[#This Row],[Status]]=DATA!$J$6,GLOBAL_DATA[[#This Row],[Status]]=DATA!$J$7,GLOBAL_DATA[[#This Row],[Status]]=DATA!$J$8),1,0) -> 0 | AS70: =IF(GLOBAL_DATA[[#This Row],[Status]]=Status_No_Project,"",MAX(GLOBAL_DATA[[#This Row],[Initial end]],GLOBAL_DATA[[#This Row],[Re-estimated end]],43831)) -> 43831 | AT70: =IF(AND(GLOBAL_DATA[[#This Row],[Implementation progress rate]]<100%,GLOBAL_DATA[[#This Row],[Re-estimated end]]<=[0]!ReportingDate,GLOBAL_DATA[[#This Row],[Re-estimated end]]<>""),1,0)+IF(AND(GLOBAL_DATA[[#This Row],[Implementation progress rate]]<100%,GLOBAL_DATA[[#This Row],[Initial end]]<=[0]!ReportingDate,GLOBAL_DATA[[#This Row],[Re-estimated end]]<[0]!ReportingDate,GLOBAL_DATA[[#This Row],[Re-estimated end]]<>""),1,0)+IF(AND(OR(GLOBAL_DATA[[#This Row],[Target scope]]=Target_Not_Applicable,GLOBAL_DATA[[#This Row],[Target scope]]=Risk_accepted),GLOBAL_DATA[[#This Row],[Kick-off]]<>""),1,0)+IF(AND(GLOBAL_DATA[[#This Row],[Status]]=In_progress,GLOBAL_DATA[[#This Row],[Implementation progress rate]]=Risk_accepted),1,0)+IF(AND(GLOBAL_DATA[[#This Row],[Status]]=In_progress,GLOBAL_DATA[[#This Row],[Implementation progress rate]]=full),1,0) -> #REF! | AU70: =IF(GLOBAL_DATA[[#This Row],[Target scope]]<>Target_Not_Applicable,COUNTBLANK(GLOBAL_DATA[[#This Row],[Target scope]:[Target justification (if<100%)]]),0)+IF(GLOBAL_DATA[[#This Row],[Status]]<>Status_No_Project,COUNTBLANK(GLOBAL_DATA[[#This Row],[Implementation progress rate]:[CISO assessment]]),0) -> 1
A71: XX | B71: XX | C71: XX | D71: XX | E71: XX | F71: XX | G71: XX | H71: XX | I71: XX | J71: XX | K71: XX | L71: XX | M71: XX | N71: =IF(GLOBAL_DATA[[#This Row],[Target scope]]="","",INDEX(DATA_TargetStatusChoice[Target_Status_Choice],MATCH(GLOBAL_DATA[[#This Row],[Target scope]],DATA_TargetStatusChoice[Value],1))) -> FULL IMPLEMENTATION | O71: 1 | P71: - | Q71: IN PROGRESS | R71: 1 | T71: XX | V71: - | Z71: =SUM(GLOBAL_DATA[[#This Row],[Initial 2020]]+GLOBAL_DATA[[#This Row],[Initial 2021]]+GLOBAL_DATA[[#This Row],[Initial 2022]]+GLOBAL_DATA[[#This Row],[Initial 2023]]) -> 0 | AA71: =SUM(GLOBAL_DATA[[#This Row],[Reestimated 2020]]+GLOBAL_DATA[[#This Row],[Reestimated 2021]]+GLOBAL_DATA[[#This Row],[Reestimated 2022]]+GLOBAL_DATA[[#This Row],[Reestimated 2023]]) -> 0 | AB71: =SUM(GLOBAL_DATA[[#This Row],[Spent 2020]]+GLOBAL_DATA[[#This Row],[Spent 2021]]+GLOBAL_DATA[[#This Row],[Spent 2022]]+GLOBAL_DATA[[#This Row],[Spent 2023]]) -> 0 | AQ71: =IF(GLOBAL_DATA[[#This Row],[Target scope]]<>Target_Not_Applicable,GLOBAL_DATA[[#This Row],[Target scope]]*GLOBAL_DATA[[#This Row],[Implementation progress rate]],"") -> 1 | AR71: =IF(OR(GLOBAL_DATA[[#This Row],[Status]]=DATA!$J$6,GLOBAL_DATA[[#This Row],[Status]]=DATA!$J$7,GLOBAL_DATA[[#This Row],[Status]]=DATA!$J$8),1,0) -> 0 | AS71: =IF(GLOBAL_DATA[[#This Row],[Status]]=Status_No_Project,"",MAX(GLOBAL_DATA[[#This Row],[Initial end]],GLOBAL_DATA[[#This Row],[Re-estimated end]],43831)) -> 43831 | AT71: =IF(AND(GLOBAL_DATA[[#This Row],[Implementation progress rate]]<100%,GLOBAL_DATA[[#This Row],[Re-estimated end]]<=[0]!ReportingDate,GLOBAL_DATA[[#This Row],[Re-estimated end]]<>""),1,0)+IF(AND(GLOBAL_DATA[[#This Row],[Implementation progress rate]]<100%,GLOBAL_DATA[[#This Row],[Initial end]]<=[0]!ReportingDate,GLOBAL_DATA[[#This Row],[Re-estimated end]]<[0]!ReportingDate,GLOBAL_DATA[[#This Row],[Re-estimated end]]<>""),1,0)+IF(AND(OR(GLOBAL_DATA[[#This Row],[Target scope]]=Target_Not_Applicable,GLOBAL_DATA[[#This Row],[Target scope]]=Risk_accepted),GLOBAL_DATA[[#This Row],[Kick-off]]<>""),1,0)+IF(AND(GLOBAL_DATA[[#This Row],[Status]]=In_progress,GLOBAL_DATA[[#This Row],[Implementation progress rate]]=Risk_accepted),1,0)+IF(AND(GLOBAL_DATA[[#This Row],[Status]]=In_progress,GLOBAL_DATA[[#This Row],[Implementation progress rate]]=full),1,0) -> #REF! | AU71: =IF(GLOBAL_DATA[[#This Row],[Target scope]]<>Target_Not_Applicable,COUNTBLANK(GLOBAL_DATA[[#This Row],[Target scope]:[Target justification (if<100%)]]),0)+IF(GLOBAL_DATA[[#This Row],[Status]]<>Status_No_Project,COUNTBLANK(GLOBAL_DATA[[#This Row],[Implementation progress rate]:[CISO assessment]]),0) -> 1
A72: XX | B72: XX | C72: XX | D72: XX | E72: XX | F72: XX | G72: XX | H72: XX | I72: XX | J72: XX | K72: XX | L72: XX | M72: XX | N72: =IF(GLOBAL_DATA[[#This Row],[Target scope]]="","",INDEX(DATA_TargetStatusChoice[Target_Status_Choice],MATCH(GLOBAL_DATA[[#This Row],[Target scope]],DATA_TargetStatusChoice[Value],1))) -> FULL IMPLEMENTATION | O72: 1 | P72: - | Q72: TO BE STARTED | R72: 0 | T72: XX | V72: - | Z72: =SUM(GLOBAL_DATA[[#This Row],[Initial 2020]]+GLOBAL_DATA[[#This Row],[Initial 2021]]+GLOBAL_DATA[[#This Row],[Initial 2022]]+GLOBAL_DATA[[#This Row],[Initial 2023]]) -> 0 | AA72: =SUM(GLOBAL_DATA[[#This Row],[Reestimated 2020]]+GLOBAL_DATA[[#This Row],[Reestimated 2021]]+GLOBAL_DATA[[#This Row],[Reestimated 2022]]+GLOBAL_DATA[[#This Row],[Reestimated 2023]]) -> 0 | AB72: =SUM(GLOBAL_DATA[[#This Row],[Spent 2020]]+GLOBAL_DATA[[#This Row],[Spent 2021]]+GLOBAL_DATA[[#This Row],[Spent 2022]]+GLOBAL_DATA[[#This Row],[Spent 2023]]) -> 0 | AQ72: =IF(GLOBAL_DATA[[#This Row],[Target scope]]<>Target_Not_Applicable,GLOBAL_DATA[[#This Row],[Target scope]]*GLOBAL_DATA[[#This Row],[Implementation progress rate]],"") -> 0 | AR72: =IF(OR(GLOBAL_DATA[[#This Row],[Status]]=DATA!$J$6,GLOBAL_DATA[[#This Row],[Status]]=DATA!$J$7,GLOBAL_DATA[[#This Row],[Status]]=DATA!$J$8),1,0) -> 0 | AS72: =IF(GLOBAL_DATA[[#This Row],[Status]]=Status_No_Project,"",MAX(GLOBAL_DATA[[#This Row],[Initial end]],GLOBAL_DATA[[#This Row],[Re-estimated end]],43831)) -> 43831 | AT72: =IF(AND(GLOBAL_DATA[[#This Row],[Implementation progress rate]]<100%,GLOBAL_DATA[[#This Row],[Re-estimated end]]<=[0]!ReportingDate,GLOBAL_DATA[[#This Row],[Re-estimated end]]<>""),1,0)+IF(AND(GLOBAL_DATA[[#This Row],[Implementation progress rate]]<100%,GLOBAL_DATA[[#This Row],[Initial end]]<=[0]!ReportingDate,GLOBAL_DATA[[#This Row],[Re-estimated end]]<[0]!ReportingDate,GLOBAL_DATA[[#This Row],[Re-estimated end]]<>""),1,0)+IF(AND(OR(GLOBAL_DATA[[#This Row],[Target scope]]=Target_Not_Applicable,GLOBAL_DATA[[#This Row],[Target scope]]=Risk_accepted),GLOBAL_DATA[[#This Row],[Kick-off]]<>""),1,0)+IF(AND(GLOBAL_DATA[[#This Row],[Status]]=In_progress,GLOBAL_DATA[[#This Row],[Implementation progress rate]]=Risk_accepted),1,0)+IF(AND(GLOBAL_DATA[[#This Row],[Status]]=In_progress,GLOBAL_DATA[[#This Row],[Implementation progress rate]]=full),1,0) -> #REF! | AU72: =IF(GLOBAL_DATA[[#This Row],[Target scope]]<>Target_Not_Applicable,COUNTBLANK(GLOBAL_DATA[[#This Row],[Target scope]:[Target justification (if<100%)]]),0)+IF(GLOBAL_DATA[[#This Row],[Status]]<>Status_No_Project,COUNTBLANK(GLOBAL_DATA[[#This Row],[Implementation progress rate]:[CISO assessment]]),0) -> 1
A73: XX | B73: XX | C73: XX | D73: XX | E73: XX | F73: XX | G73: XX | H73: XX | I73: XX | J73: XX | K73: XX | L73: XX | M73: XX | N73: =IF(GLOBAL_DATA[[#This Row],[Target scope]]="","",INDEX(DATA_TargetStatusChoice[Target_Status_Choice],MATCH(GLOBAL_DATA[[#This Row],[Target scope]],DATA_TargetStatusChoice[Value],1))) -> FULL IMPLEMENTATION | O73: 1 | P73: - | Q73: TO BE STARTED | R73: 0 | T73: XX | V73: - | Z73: =SUM(GLOBAL_DATA[[#This Row],[Initial 2020]]+GLOBAL_DATA[[#This Row],[Initial 2021]]+GLOBAL_DATA[[#This Row],[Initial 2022]]+GLOBAL_DATA[[#This Row],[Initial 2023]]) -> 0 | AA73: =SUM(GLOBAL_DATA[[#This Row],[Reestimated 2020]]+GLOBAL_DATA[[#This Row],[Reestimated 2021]]+GLOBAL_DATA[[#This Row],[Reestimated 2022]]+GLOBAL_DATA[[#This Row],[Reestimated 2023]]) -> 0 | AB73: =SUM(GLOBAL_DATA[[#This Row],[Spent 2020]]+GLOBAL_DATA[[#This Row],[Spent 2021]]+GLOBAL_DATA[[#This Row],[Spent 2022]]+GLOBAL_DATA[[#This Row],[Spent 2023]]) -> 0 | AQ73: =IF(GLOBAL_DATA[[#This Row],[Target scope]]<>Target_Not_Applicable,GLOBAL_DATA[[#This Row],[Target scope]]*GLOBAL_DATA[[#This Row],[Implementation progress rate]],"") -> 0 | AR73: =IF(OR(GLOBAL_DATA[[#This Row],[Status]]=DATA!$J$6,GLOBAL_DATA[[#This Row],[Status]]=DATA!$J$7,GLOBAL_DATA[[#This Row],[Status]]=DATA!$J$8),1,0) -> 0 | AS73: =IF(GLOBAL_DATA[[#This Row],[Status]]=Status_No_Project,"",MAX(GLOBAL_DATA[[#This Row],[Initial end]],GLOBAL_DATA[[#This Row],[Re-estimated end]],43831)) -> 43831 | AT73: =IF(AND(GLOBAL_DATA[[#This Row],[Implementation progress rate]]<100%,GLOBAL_DATA[[#This Row],[Re-estimated end]]<=[0]!ReportingDate,GLOBAL_DATA[[#This Row],[Re-estimated end]]<>""),1,0)+IF(AND(GLOBAL_DATA[[#This Row],[Implementation progress rate]]<100%,GLOBAL_DATA[[#This Row],[Initial end]]<=[0]!ReportingDate,GLOBAL_DATA[[#This Row],[Re-estimated end]]<[0]!ReportingDate,GLOBAL_DATA[[#This Row],[Re-estimated end]]<>""),1,0)+IF(AND(OR(GLOBAL_DATA[[#This Row],[Target scope]]=Target_Not_Applicable,GLOBAL_DATA[[#This Row],[Target scope]]=Risk_accepted),GLOBAL_DATA[[#This Row],[Kick-off]]<>""),1,0)+IF(AND(GLOBAL_DATA[[#This Row],[Status]]=In_progress,GLOBAL_DATA[[#This Row],[Implementation progress rate]]=Risk_accepted),1,0)+IF(AND(GLOBAL_DATA[[#This Row],[Status]]=In_progress,GLOBAL_DATA[[#This Row],[Implementation progress rate]]=full),1,0) -> #REF! | AU73: =IF(GLOBAL_DATA[[#This Row],[Target scope]]<>Target_Not_Applicable,COUNTBLANK(GLOBAL_DATA[[#This Row],[Target scope]:[Target justification (if<100%)]]),0)+IF(GLOBAL_DATA[[#This Row],[Status]]<>Status_No_Project,COUNTBLANK(GLOBAL_DATA[[#This Row],[Implementation progress rate]:[CISO assessment]]),0) -> 1
A74: XX | B74: XX | C74: XX | D74: XX | E74: XX | F74: XX | G74: XX | H74: XX | I74: XX | J74: XX | K74: XX | L74: XX | M74: XX | N74: =IF(GLOBAL_DATA[[#This Row],[Target scope]]="","",INDEX(DATA_TargetStatusChoice[Target_Status_Choice],MATCH(GLOBAL_DATA[[#This Row],[Target scope]],DATA_TargetStatusChoice[Value],1))) | P74: - | Q74: NO PROJECT | R74: 0 | T74: XX | V74: - | Z74: =SUM(GLOBAL_DATA[[#This Row],[Initial 2020]]+GLOBAL_DATA[[#This Row],[Initial 2021]]+GLOBAL_DATA[[#This Row],[Initial 2022]]+GLOBAL_DATA[[#This Row],[Initial 2023]]) -> 0 | AA74: =SUM(GLOBAL_DATA[[#This Row],[Reestimated 2020]]+GLOBAL_DATA[[#This Row],[Reestimated 2021]]+GLOBAL_DATA[[#This Row],[Reestimated 2022]]+GLOBAL_DATA[[#This Row],[Reestimated 2023]]) -> 0 | AB74: =SUM(GLOBAL_DATA[[#This Row],[Spent 2020]]+GLOBAL_DATA[[#This Row],[Spent 2021]]+GLOBAL_DATA[[#This Row],[Spent 2022]]+GLOBAL_DATA[[#This Row],[Spent 2023]]) -> 0 | AQ74: =IF(GLOBAL_DATA[[#This Row],[Target scope]]<>Target_Not_Applicable,GLOBAL_DATA[[#This Row],[Target scope]]*GLOBAL_DATA[[#This Row],[Implementation progress rate]],"") -> 0 | AR74: =IF(OR(GLOBAL_DATA[[#This Row],[Status]]=DATA!$J$6,GLOBAL_DATA[[#This Row],[Status]]=DATA!$J$7,GLOBAL_DATA[[#This Row],[Status]]=DATA!$J$8),1,0) -> 0 | AS74: =IF(GLOBAL_DATA[[#This Row],[Status]]=Status_No_Project,"",MAX(GLOBAL_DATA[[#This Row],[Initial end]],GLOBAL_DATA[[#This Row],[Re-estimated end]],43831)) | AT74: =IF(AND(GLOBAL_DATA[[#This Row],[Implementation progress rate]]<100%,GLOBAL_DATA[[#This Row],[Re-estimated end]]<=[0]!ReportingDate,GLOBAL_DATA[[#This Row],[Re-estimated end]]<>""),1,0)+IF(AND(GLOBAL_DATA[[#This Row],[Implementation progress rate]]<100%,GLOBAL_DATA[[#This Row],[Initial end]]<=[0]!ReportingDate,GLOBAL_DATA[[#This Row],[Re-estimated end]]<[0]!ReportingDate,GLOBAL_DATA[[#This Row],[Re-estimated end]]<>""),1,0)+IF(AND(OR(GLOBAL_DATA[[#This Row],[Target scope]]=Target_Not_Applicable,GLOBAL_DATA[[#This Row],[Target scope]]=Risk_accepted),GLOBAL_DATA[[#This Row],[Kick-off]]<>""),1,0)+IF(AND(GLOBAL_DATA[[#This Row],[Status]]=In_progress,GLOBAL_DATA[[#This Row],[Implementation progress rate]]=Risk_accepted),1,0)+IF(AND(GLOBAL_DATA[[#This Row],[Status]]=In_progress,GLOBAL_DATA[[#This Row],[Implementation progress rate]]=full),1,0) -> #REF! | AU74: =IF(GLOBAL_DATA[[#This Row],[Target scope]]<>Target_Not_Applicable,COUNTBLANK(GLOBAL_DATA[[#This Row],[Target scope]:[Target justification (if<100%)]]),0)+IF(GLOBAL_DATA[[#This Row],[Status]]<>Status_No_Project,COUNTBLANK(GLOBAL_DATA[[#This Row],[Implementation progress rate]:[CISO assessment]]),0) -> 1
A75: XX | B75: XX | C75: XX | D75: XX | E75: XX | F75: XX | G75: XX | H75: XX | I75: XX | J75: XX | K75: XX | L75: XX | M75: XX | N75: =IF(GLOBAL_DATA[[#This Row],[Target scope]]="","",INDEX(DATA_TargetStatusChoice[Target_Status_Choice],MATCH(GLOBAL_DATA[[#This Row],[Target scope]],DATA_TargetStatusChoice[Value],1))) -> FULL IMPLEMENTATION | O75: 1 | P75: - | Q75: TO BE STARTED | R75: 0 | T75: XX | V75: - | Z75: =SUM(GLOBAL_DATA[[#This Row],[Initial 2020]]+GLOBAL_DATA[[#This Row],[Initial 2021]]+GLOBAL_DATA[[#This Row],[Initial 2022]]+GLOBAL_DATA[[#This Row],[Initial 2023]]) -> 0 | AA75: =SUM(GLOBAL_DATA[[#This Row],[Reestimated 2020]]+GLOBAL_DATA[[#This Row],[Reestimated 2021]]+GLOBAL_DATA[[#This Row],[Reestimated 2022]]+GLOBAL_DATA[[#This Row],[Reestimated 2023]]) -> 0 | AB75: =SUM(GLOBAL_DATA[[#This Row],[Spent 2020]]+GLOBAL_DATA[[#This Row],[Spent 2021]]+GLOBAL_DATA[[#This Row],[Spent 2022]]+GLOBAL_DATA[[#This Row],[Spent 2023]]) -> 0 | AQ75: =IF(GLOBAL_DATA[[#This Row],[Target scope]]<>Target_Not_Applicable,GLOBAL_DATA[[#This Row],[Target scope]]*GLOBAL_DATA[[#This Row],[Implementation progress rate]],"") -> 0 | AR75: =IF(OR(GLOBAL_DATA[[#This Row],[Status]]=DATA!$J$6,GLOBAL_DATA[[#This Row],[Status]]=DATA!$J$7,GLOBAL_DATA[[#This Row],[Status]]=DATA!$J$8),1,0) -> 0 | AS75: =IF(GLOBAL_DATA[[#This Row],[Status]]=Status_No_Project,"",MAX(GLOBAL_DATA[[#This Row],[Initial end]],GLOBAL_DATA[[#This Row],[Re-estimated end]],43831)) -> 43831 | AT75: =IF(AND(GLOBAL_DATA[[#This Row],[Implementation progress rate]]<100%,GLOBAL_DATA[[#This Row],[Re-estimated end]]<=[0]!ReportingDate,GLOBAL_DATA[[#This Row],[Re-estimated end]]<>""),1,0)+IF(AND(GLOBAL_DATA[[#This Row],[Implementation progress rate]]<100%,GLOBAL_DATA[[#This Row],[Initial end]]<=[0]!ReportingDate,GLOBAL_DATA[[#This Row],[Re-estimated end]]<[0]!ReportingDate,GLOBAL_DATA[[#This Row],[Re-estimated end]]<>""),1,0)+IF(AND(OR(GLOBAL_DATA[[#This Row],[Target scope]]=Target_Not_Applicable,GLOBAL_DATA[[#This Row],[Target scope]]=Risk_accepted),GLOBAL_DATA[[#This Row],[Kick-off]]<>""),1,0)+IF(AND(GLOBAL_DATA[[#This Row],[Status]]=In_progress,GLOBAL_DATA[[#This Row],[Implementation progress rate]]=Risk_accepted),1,0)+IF(AND(GLOBAL_DATA[[#This Row],[Status]]=In_progress,GLOBAL_DATA[[#This Row],[Implementation progress rate]]=full),1,0) -> #REF! | AU75: =IF(GLOBAL_DATA[[#This Row],[Target scope]]<>Target_Not_Applicable,COUNTBLANK(GLOBAL_DATA[[#This Row],[Target scope]:[Target justification (if<100%)]]),0)+IF(GLOBAL_DATA[[#This Row],[Status]]<>Status_No_Project,COUNTBLANK(GLOBAL_DATA[[#This Row],[Implementation progress rate]:[CISO assessment]]),0) -> 1
A76: XX | B76: XX | C76: XX | D76: XX | E76: XX | F76: XX | G76: XX | H76: XX | I76: XX | J76: XX | K76: XX | L76: XX | M76: XX | N76: =IF(GLOBAL_DATA[[#This Row],[Target scope]]="","",INDEX(DATA_TargetStatusChoice[Target_Status_Choice],MATCH(GLOBAL_DATA[[#This Row],[Target scope]],DATA_TargetStatusChoice[Value],1))) -> FULL IMPLEMENTATION | O76: 1 | P76: - | Q76: TO BE STARTED | R76: 0 | T76: XX | V76: - | Z76: =SUM(GLOBAL_DATA[[#This Row],[Initial 2020]]+GLOBAL_DATA[[#This Row],[Initial 2021]]+GLOBAL_DATA[[#This Row],[Initial 2022]]+GLOBAL_DATA[[#This Row],[Initial 2023]]) -> 0 | AA76: =SUM(GLOBAL_DATA[[#This Row],[Reestimated 2020]]+GLOBAL_DATA[[#This Row],[Reestimated 2021]]+GLOBAL_DATA[[#This Row],[Reestimated 2022]]+GLOBAL_DATA[[#This Row],[Reestimated 2023]]) -> 0 | AB76: =SUM(GLOBAL_DATA[[#This Row],[Spent 2020]]+GLOBAL_DATA[[#This Row],[Spent 2021]]+GLOBAL_DATA[[#This Row],[Spent 2022]]+GLOBAL_DATA[[#This Row],[Spent 2023]]) -> 0 | AQ76: =IF(GLOBAL_DATA[[#This Row],[Target scope]]<>Target_Not_Applicable,GLOBAL_DATA[[#This Row],[Target scope]]*GLOBAL_DATA[[#This Row],[Implementation progress rate]],"") -> 0 | AR76: =IF(OR(GLOBAL_DATA[[#This Row],[Status]]=DATA!$J$6,GLOBAL_DATA[[#This Row],[Status]]=DATA!$J$7,GLOBAL_DATA[[#This Row],[Status]]=DATA!$J$8),1,0) -> 0 | AS76: =IF(GLOBAL_DATA[[#This Row],[Status]]=Status_No_Project,"",MAX(GLOBAL_DATA[[#This Row],[Initial end]],GLOBAL_DATA[[#This Row],[Re-estimated end]],43831)) -> 43831 | AT76: =IF(AND(GLOBAL_DATA[[#This Row],[Implementation progress rate]]<100%,GLOBAL_DATA[[#This Row],[Re-estimated end]]<=[0]!ReportingDate,GLOBAL_DATA[[#This Row],[Re-estimated end]]<>""),1,0)+IF(AND(GLOBAL_DATA[[#This Row],[Implementation progress rate]]<100%,GLOBAL_DATA[[#This Row],[Initial end]]<=[0]!ReportingDate,GLOBAL_DATA[[#This Row],[Re-estimated end]]<[0]!ReportingDate,GLOBAL_DATA[[#This Row],[Re-estimated end]]<>""),1,0)+IF(AND(OR(GLOBAL_DATA[[#This Row],[Target scope]]=Target_Not_Applicable,GLOBAL_DATA[[#This Row],[Target scope]]=Risk_accepted),GLOBAL_DATA[[#This Row],[Kick-off]]<>""),1,0)+IF(AND(GLOBAL_DATA[[#This Row],[Status]]=In_progress,GLOBAL_DATA[[#This Row],[Implementation progress rate]]=Risk_accepted),1,0)+IF(AND(GLOBAL_DATA[[#This Row],[Status]]=In_progress,GLOBAL_DATA[[#This Row],[Implementation progress rate]]=full),1,0) -> #REF! | AU76: =IF(GLOBAL_DATA[[#This Row],[Target scope]]<>Target_Not_Applicable,COUNTBLANK(GLOBAL_DATA[[#This Row],[Target scope]:[Target justification (if<100%)]]),0)+IF(GLOBAL_DATA[[#This Row],[Status]]<>Status_No_Project,COUNTBLANK(GLOBAL_DATA[[#This Row],[Implementation progress rate]:[CISO assessment]]),0) -> 1
A77: XX | B77: XX | C77: XX | D77: XX | E77: XX | F77: XX | G77: XX | H77: XX | I77: XX | J77: XX | K77: XX | L77: XX | M77: XX | N77: =IF(GLOBAL_DATA[[#This Row],[Target scope]]="","",INDEX(DATA_TargetStatusChoice[Target_Status_Choice],MATCH(GLOBAL_DATA[[#This Row],[Target scope]],DATA_TargetStatusChoice[Value],1))) -> PARTIAL IMPLEMENTATION + RA | O77: 0.8 | P77: - | Q77: IN PROGRESS | R77: 0.4 | T77: XX | V77: - | Z77: =SUM(GLOBAL_DATA[[#This Row],[Initial 2020]]+GLOBAL_DATA[[#This Row],[Initial 2021]]+GLOBAL_DATA[[#This Row],[Initial 2022]]+GLOBAL_DATA[[#This Row],[Initial 2023]]) -> 0 | AA77: =SUM(GLOBAL_DATA[[#This Row],[Reestimated 2020]]+GLOBAL_DATA[[#This Row],[Reestimated 2021]]+GLOBAL_DATA[[#This Row],[Reestimated 2022]]+GLOBAL_DATA[[#This Row],[Reestimated 2023]]) -> 0 | AB77: =SUM(GLOBAL_DATA[[#This Row],[Spent 2020]]+GLOBAL_DATA[[#This Row],[Spent 2021]]+GLOBAL_DATA[[#This Row],[Spent 2022]]+GLOBAL_DATA[[#This Row],[Spent 2023]]) -> 0 | AQ77: =IF(GLOBAL_DATA[[#This Row],[Target scope]]<>Target_Not_Applicable,GLOBAL_DATA[[#This Row],[Target scope]]*GLOBAL_DATA[[#This Row],[Implementation progress rate]],"") -> 0.32 | AR77: =IF(OR(GLOBAL_DATA[[#This Row],[Status]]=DATA!$J$6,GLOBAL_DATA[[#This Row],[Status]]=DATA!$J$7,GLOBAL_DATA[[#This Row],[Status]]=DATA!$J$8),1,0) -> 0 | AS77: =IF(GLOBAL_DATA[[#This Row],[Status]]=Status_No_Project,"",MAX(GLOBAL_DATA[[#This Row],[Initial end]],GLOBAL_DATA[[#This Row],[Re-estimated end]],43831)) -> 43831 | AT77: =IF(AND(GLOBAL_DATA[[#This Row],[Implementation progress rate]]<100%,GLOBAL_DATA[[#This Row],[Re-estimated end]]<=[0]!ReportingDate,GLOBAL_DATA[[#This Row],[Re-estimated end]]<>""),1,0)+IF(AND(GLOBAL_DATA[[#This Row],[Implementation progress rate]]<100%,GLOBAL_DATA[[#This Row],[Initial end]]<=[0]!ReportingDate,GLOBAL_DATA[[#This Row],[Re-estimated end]]<[0]!ReportingDate,GLOBAL_DATA[[#This Row],[Re-estimated end]]<>""),1,0)+IF(AND(OR(GLOBAL_DATA[[#This Row],[Target scope]]=Target_Not_Applicable,GLOBAL_DATA[[#This Row],[Target scope]]=Risk_accepted),GLOBAL_DATA[[#This Row],[Kick-off]]<>""),1,0)+IF(AND(GLOBAL_DATA[[#This Row],[Status]]=In_progress,GLOBAL_DATA[[#This Row],[Implementation progress rate]]=Risk_accepted),1,0)+IF(AND(GLOBAL_DATA[[#This Row],[Status]]=In_progress,GLOBAL_DATA[[#This Row],[Implementation progress rate]]=full),1,0) -> #REF! | AU77: =IF(GLOBAL_DATA[[#This Row],[Target scope]]<>Target_Not_Applicable,COUNTBLANK(GLOBAL_DATA[[#This Row],[Target scope]:[Target justification (if<100%)]]),0)+IF(GLOBAL_DATA[[#This Row],[Status]]<>Status_No_Project,COUNTBLANK(GLOBAL_DATA[[#This Row],[Implementation progress rate]:[CISO assessment]]),0) -> 1
A78: XX | B78: XX | C78: XX | D78: XX | E78: XX | F78: XX | G78: XX | H78: XX | I78: XX | J78: XX | K78: XX | L78: XX | M78: XX | N78: =IF(GLOBAL_DATA[[#This Row],[Target scope]]="","",INDEX(DATA_TargetStatusChoice[Target_Status_Choice],MATCH(GLOBAL_DATA[[#This Row],[Target scope]],DATA_TargetStatusChoice[Value],1))) | P78: - | Q78: NO PROJECT | R78: 0 | T78: XX | V78: - | Z78: =SUM(GLOBAL_DATA[[#This Row],[Initial 2020]]+GLOBAL_DATA[[#This Row],[Initial 2021]]+GLOBAL_DATA[[#This Row],[Initial 2022]]+GLOBAL_DATA[[#This Row],[Initial 2023]]) -> 0 | AA78: =SUM(GLOBAL_DATA[[#This Row],[Reestimated 2020]]+GLOBAL_DATA[[#This Row],[Reestimated 2021]]+GLOBAL_DATA[[#This Row],[Reestimated 2022]]+GLOBAL_DATA[[#This Row],[Reestimated 2023]]) -> 0 | AB78: =SUM(GLOBAL_DATA[[#This Row],[Spent 2020]]+GLOBAL_DATA[[#This Row],[Spent 2021]]+GLOBAL_DATA[[#This Row],[Spent 2022]]+GLOBAL_DATA[[#This Row],[Spent 2023]]) -> 0 | AQ78: =IF(GLOBAL_DATA[[#This Row],[Target scope]]<>Target_Not_Applicable,GLOBAL_DATA[[#This Row],[Target scope]]*GLOBAL_DATA[[#This Row],[Implementation progress rate]],"") -> 0 | AR78: =IF(OR(GLOBAL_DATA[[#This Row],[Status]]=DATA!$J$6,GLOBAL_DATA[[#This Row],[Status]]=DATA!$J$7,GLOBAL_DATA[[#This Row],[Status]]=DATA!$J$8),1,0) -> 0 | AS78: =IF(GLOBAL_DATA[[#This Row],[Status]]=Status_No_Project,"",MAX(GLOBAL_DATA[[#This Row],[Initial end]],GLOBAL_DATA[[#This Row],[Re-estimated end]],43831)) | AT78: =IF(AND(GLOBAL_DATA[[#This Row],[Implementation progress rate]]<100%,GLOBAL_DATA[[#This Row],[Re-estimated end]]<=[0]!ReportingDate,GLOBAL_DATA[[#This Row],[Re-estimated end]]<>""),1,0)+IF(AND(GLOBAL_DATA[[#This Row],[Implementation progress rate]]<100%,GLOBAL_DATA[[#This Row],[Initial end]]<=[0]!ReportingDate,GLOBAL_DATA[[#This Row],[Re-estimated end]]<[0]!ReportingDate,GLOBAL_DATA[[#This Row],[Re-estimated end]]<>""),1,0)+IF(AND(OR(GLOBAL_DATA[[#This Row],[Target scope]]=Target_Not_Applicable,GLOBAL_DATA[[#This Row],[Target scope]]=Risk_accepted),GLOBAL_DATA[[#This Row],[Kick-off]]<>""),1,0)+IF(AND(GLOBAL_DATA[[#This Row],[Status]]=In_progress,GLOBAL_DATA[[#This Row],[Implementation progress rate]]=Risk_accepted),1,0)+IF(AND(GLOBAL_DATA[[#This Row],[Status]]=In_progress,GLOBAL_DATA[[#This Row],[Implementation progress rate]]=full),1,0) -> #REF! | AU78: =IF(GLOBAL_DATA[[#This Row],[Target scope]]<>Target_Not_Applicable,COUNTBLANK(GLOBAL_DATA[[#This Row],[Target scope]:[Target justification (if<100%)]]),0)+IF(GLOBAL_DATA[[#This Row],[Status]]<>Status_No_Project,COUNTBLANK(GLOBAL_DATA[[#This Row],[Implementation progress rate]:[CISO assessment]]),0) -> 1
A79: XX | B79: XX | C79: XX | D79: XX | E79: XX | F79: XX | G79: XX | H79: XX | I79: XX | J79: XX | K79: XX | L79: XX | M79: XX | N79: =IF(GLOBAL_DATA[[#This Row],[Target scope]]="","",INDEX(DATA_TargetStatusChoice[Target_Status_Choice],MATCH(GLOBAL_DATA[[#This Row],[Target scope]],DATA_TargetStatusChoice[Value],1))) | P79: - | Q79: NO PROJECT | R79: 0 | T79: XX | V79: - | Z79: =SUM(GLOBAL_DATA[[#This Row],[Initial 2020]]+GLOBAL_DATA[[#This Row],[Initial 2021]]+GLOBAL_DATA[[#This Row],[Initial 2022]]+GLOBAL_DATA[[#This Row],[Initial 2023]]) -> 0 | AA79: =SUM(GLOBAL_DATA[[#This Row],[Reestimated 2020]]+GLOBAL_DATA[[#This Row],[Reestimated 2021]]+GLOBAL_DATA[[#This Row],[Reestimated 2022]]+GLOBAL_DATA[[#This Row],[Reestimated 2023]]) -> 0 | AB79: =SUM(GLOBAL_DATA[[#This Row],[Spent 2020]]+GLOBAL_DATA[[#This Row],[Spent 2021]]+GLOBAL_DATA[[#This Row],[Spent 2022]]+GLOBAL_DATA[[#This Row],[Spent 2023]]) -> 0 | AQ79: =IF(GLOBAL_DATA[[#This Row],[Target scope]]<>Target_Not_Applicable,GLOBAL_DATA[[#This Row],[Target scope]]*GLOBAL_DATA[[#This Row],[Implementation progress rate]],"") -> 0 | AR79: =IF(OR(GLOBAL_DATA[[#This Row],[Status]]=DATA!$J$6,GLOBAL_DATA[[#This Row],[Status]]=DATA!$J$7,GLOBAL_DATA[[#This Row],[Status]]=DATA!$J$8),1,0) -> 0 | AS79: =IF(GLOBAL_DATA[[#This Row],[Status]]=Status_No_Project,"",MAX(GLOBAL_DATA[[#This Row],[Initial end]],GLOBAL_DATA[[#This Row],[Re-estimated end]],43831)) | AT79: =IF(AND(GLOBAL_DATA[[#This Row],[Implementation progress rate]]<100%,GLOBAL_DATA[[#This Row],[Re-estimated end]]<=[0]!ReportingDate,GLOBAL_DATA[[#This Row],[Re-estimated end]]<>""),1,0)+IF(AND(GLOBAL_DATA[[#This Row],[Implementation progress rate]]<100%,GLOBAL_DATA[[#This Row],[Initial end]]<=[0]!ReportingDate,GLOBAL_DATA[[#This Row],[Re-estimated end]]<[0]!ReportingDate,GLOBAL_DATA[[#This Row],[Re-estimated end]]<>""),1,0)+IF(AND(OR(GLOBAL_DATA[[#This Row],[Target scope]]=Target_Not_Applicable,GLOBAL_DATA[[#This Row],[Target scope]]=Risk_accepted),GLOBAL_DATA[[#This Row],[Kick-off]]<>""),1,0)+IF(AND(GLOBAL_DATA[[#This Row],[Status]]=In_progress,GLOBAL_DATA[[#This Row],[Implementation progress rate]]=Risk_accepted),1,0)+IF(AND(GLOBAL_DATA[[#This Row],[Status]]=In_progress,GLOBAL_DATA[[#This Row],[Implementation progress rate]]=full),1,0) -> #REF! | AU79: =IF(GLOBAL_DATA[[#This Row],[Target scope]]<>Target_Not_Applicable,COUNTBLANK(GLOBAL_DATA[[#This Row],[Target scope]:[Target justification (if<100%)]]),0)+IF(GLOBAL_DATA[[#This Row],[Status]]<>Status_No_Project,COUNTBLANK(GLOBAL_DATA[[#This Row],[Implementation progress rate]:[CISO assessment]]),0) -> 1
A80: XX | B80: XX | C80: XX | D80: XX | E80: XX | F80: XX | G80: XX | H80: XX | I80: XX | J80: XX | K80: XX | L80: XX | M80: XX | N80: =IF(GLOBAL_DATA[[#This Row],[Target scope]]="","",INDEX(DATA_TargetStatusChoice[Target_Status_Choice],MATCH(GLOBAL_DATA[[#This Row],[Target scope]],DATA_TargetStatusChoice[Value],1))) | P80: - | Q80: NO PROJECT | R80: 0 | T80: XX | V80: - | Z80: =SUM(GLOBAL_DATA[[#This Row],[Initial 2020]]+GLOBAL_DATA[[#This Row],[Initial 2021]]+GLOBAL_DATA[[#This Row],[Initial 2022]]+GLOBAL_DATA[[#This Row],[Initial 2023]]) -> 0 | AA80: =SUM(GLOBAL_DATA[[#This Row],[Reestimated 2020]]+GLOBAL_DATA[[#This Row],[Reestimated 2021]]+GLOBAL_DATA[[#This Row],[Reestimated 2022]]+GLOBAL_DATA[[#This Row],[Reestimated 2023]]) -> 0 | AB80: =SUM(GLOBAL_DATA[[#This Row],[Spent 2020]]+GLOBAL_DATA[[#This Row],[Spent 2021]]+GLOBAL_DATA[[#This Row],[Spent 2022]]+GLOBAL_DATA[[#This Row],[Spent 2023]]) -> 0 | AQ80: =IF(GLOBAL_DATA[[#This Row],[Target scope]]<>Target_Not_Applicable,GLOBAL_DATA[[#This Row],[Target scope]]*GLOBAL_DATA[[#This Row],[Implementation progress rate]],"") -> 0 | AR80: =IF(OR(GLOBAL_DATA[[#This Row],[Status]]=DATA!$J$6,GLOBAL_DATA[[#This Row],[Status]]=DATA!$J$7,GLOBAL_DATA[[#This Row],[Status]]=DATA!$J$8),1,0) -> 0 | AS80: =IF(GLOBAL_DATA[[#This Row],[Status]]=Status_No_Project,"",MAX(GLOBAL_DATA[[#This Row],[Initial end]],GLOBAL_DATA[[#This Row],[Re-estimated end]],43831)) | AT80: =IF(AND(GLOBAL_DATA[[#This Row],[Implementation progress rate]]<100%,GLOBAL_DATA[[#This Row],[Re-estimated end]]<=[0]!ReportingDate,GLOBAL_DATA[[#This Row],[Re-estimated end]]<>""),1,0)+IF(AND(GLOBAL_DATA[[#This Row],[Implementation progress rate]]<100%,GLOBAL_DATA[[#This Row],[Initial end]]<=[0]!ReportingDate,GLOBAL_DATA[[#This Row],[Re-estimated end]]<[0]!ReportingDate,GLOBAL_DATA[[#This Row],[Re-estimated end]]<>""),1,0)+IF(AND(OR(GLOBAL_DATA[[#This Row],[Target scope]]=Target_Not_Applicable,GLOBAL_DATA[[#This Row],[Target scope]]=Risk_accepted),GLOBAL_DATA[[#This Row],[Kick-off]]<>""),1,0)+IF(AND(GLOBAL_DATA[[#This Row],[Status]]=In_progress,GLOBAL_DATA[[#This Row],[Implementation progress rate]]=Risk_accepted),1,0)+IF(AND(GLOBAL_DATA[[#This Row],[Status]]=In_progress,GLOBAL_DATA[[#This Row],[Implementation progress rate]]=full),1,0) -> #REF! | AU80: =IF(GLOBAL_DATA[[#This Row],[Target scope]]<>Target_Not_Applicable,COUNTBLANK(GLOBAL_DATA[[#This Row],[Target scope]:[Target justification (if<100%)]]),0)+IF(GLOBAL_DATA[[#This Row],[Status]]<>Status_No_Project,COUNTBLANK(GLOBAL_DATA[[#This Row],[Implementation progress rate]:[CISO assessment]]),0) -> 1
A81: XX | B81: XX | C81: XX | D81: XX | E81: XX | F81: XX | G81: XX | H81: XX | I81: XX | J81: XX | K81: XX | L81: XX | M81: XX | N81: =IF(GLOBAL_DATA[[#This Row],[Target scope]]="","",INDEX(DATA_TargetStatusChoice[Target_Status_Choice],MATCH(GLOBAL_DATA[[#This Row],[Target scope]],DATA_TargetStatusChoice[Value],1))) | P81: - | Q81: NO PROJECT | R81: 0 | T81: XX | V81: - | Z81: =SUM(GLOBAL_DATA[[#This Row],[Initial 2020]]+GLOBAL_DATA[[#This Row],[Initial 2021]]+GLOBAL_DATA[[#This Row],[Initial 2022]]+GLOBAL_DATA[[#This Row],[Initial 2023]]) -> 0 | AA81: =SUM(GLOBAL_DATA[[#This Row],[Reestimated 2020]]+GLOBAL_DATA[[#This Row],[Reestimated 2021]]+GLOBAL_DATA[[#This Row],[Reestimated 2022]]+GLOBAL_DATA[[#This Row],[Reestimated 2023]]) -> 0 | AB81: =SUM(GLOBAL_DATA[[#This Row],[Spent 2020]]+GLOBAL_DATA[[#This Row],[Spent 2021]]+GLOBAL_DATA[[#This Row],[Spent 2022]]+GLOBAL_DATA[[#This Row],[Spent 2023]]) -> 0 | AQ81: =IF(GLOBAL_DATA[[#This Row],[Target scope]]<>Target_Not_Applicable,GLOBAL_DATA[[#This Row],[Target scope]]*GLOBAL_DATA[[#This Row],[Implementation progress rate]],"") -> 0 | AR81: =IF(OR(GLOBAL_DATA[[#This Row],[Status]]=DATA!$J$6,GLOBAL_DATA[[#This Row],[Status]]=DATA!$J$7,GLOBAL_DATA[[#This Row],[Status]]=DATA!$J$8),1,0) -> 0 | AS81: =IF(GLOBAL_DATA[[#This Row],[Status]]=Status_No_Project,"",MAX(GLOBAL_DATA[[#This Row],[Initial end]],GLOBAL_DATA[[#This Row],[Re-estimated end]],43831)) | AT81: =IF(AND(GLOBAL_DATA[[#This Row],[Implementation progress rate]]<100%,GLOBAL_DATA[[#This Row],[Re-estimated end]]<=[0]!ReportingDate,GLOBAL_DATA[[#This Row],[Re-estimated end]]<>""),1,0)+IF(AND(GLOBAL_DATA[[#This Row],[Implementation progress rate]]<100%,GLOBAL_DATA[[#This Row],[Initial end]]<=[0]!ReportingDate,GLOBAL_DATA[[#This Row],[Re-estimated end]]<[0]!ReportingDate,GLOBAL_DATA[[#This Row],[Re-estimated end]]<>""),1,0)+IF(AND(OR(GLOBAL_DATA[[#This Row],[Target scope]]=Target_Not_Applicable,GLOBAL_DATA[[#This Row],[Target scope]]=Risk_accepted),GLOBAL_DATA[[#This Row],[Kick-off]]<>""),1,0)+IF(AND(GLOBAL_DATA[[#This Row],[Status]]=In_progress,GLOBAL_DATA[[#This Row],[Implementation progress rate]]=Risk_accepted),1,0)+IF(AND(GLOBAL_DATA[[#This Row],[Status]]=In_progress,GLOBAL_DATA[[#This Row],[Implementation progress rate]]=full),1,0) -> #REF! | AU81: =IF(GLOBAL_DATA[[#This Row],[Target scope]]<>Target_Not_Applicable,COUNTBLANK(GLOBAL_DATA[[#This Row],[Target scope]:[Target justification (if<100%)]]),0)+IF(GLOBAL_DATA[[#This Row],[Status]]<>Status_No_Project,COUNTBLANK(GLOBAL_DATA[[#This Row],[Implementation progress rate]:[CISO assessment]]),0) -> 1
