Workbook
Name BudgetSecuPackLine: [1]Budget!$B1
Name Dash_AntiAPT: [2]Dashboard!$B$22
Name Dash_AntiDdos: [2]Dashboard!$G$6
Name Dash_AntiFraud: [2]Dashboard!$L$6
Name Dash_ATM: [2]Dashboard!$G$22
Name Dash_Basics: [2]Dashboard!$B$6
Name Dash_DLP: [2]Dashboard!$Q$6
Name Dash_LocalPackage: [2]Dashboard!$L$22
Name DATA_AutomaticWarnings_1: [1]DATA!$Q$2
Name DATA_AutomaticWarnings_2: [1]DATA!$Q$3
Name DATA_AutomaticWarnings_3: [1]DATA!$Q$4
Name DATA_AutomaticWarnings_4: [1]DATA!$Q$5
Name DATA_AutomaticWarnings_5: [1]DATA!$Q$6
Name DATA_AutomaticWarnings_6: [1]DATA!$Q$7
Name DATA_AutomaticWarnings_7: [1]DATA!$Q$8
Name DATA_AutomaticWarnings_8: [1]DATA!$Q$9
Name DATA_AutomaticWarnings_9: [1]DATA!$Q$10
Name DATA_DQA_1: [1]DATA!$O$2
Name DATA_DQA_10: [1]DATA!$O$11
Name DATA_DQA_11: [1]DATA!$O$12
Name DATA_DQA_12: [1]DATA!$O$13
Name DATA_DQA_13: [1]DATA!$O$14
Name DATA_DQA_14: [1]DATA!$O$15
Name DATA_DQA_16: [1]DATA!$O$17
Name DATA_DQA_17: [1]DATA!$O$18
Name DATA_DQA_18: [1]DATA!$O$19
Name DATA_DQA_19: [1]DATA!$O$20
Name DATA_DQA_2: [1]DATA!$O$3
Name DATA_DQA_3: [1]DATA!$O$4
Name DATA_DQA_4: [1]DATA!$O$5
Name DATA_DQA_5: [1]DATA!$O$6
Name DATA_DQA_6: [1]DATA!$O$7
Name DATA_DQA_7: [1]DATA!$O$8
Name DATA_DQA_8: [1]DATA!$O$9
Name DATA_DQA_9: [1]DATA!$O$10
Name DATA_FileVersion: DATA!$A$3
Name DATA_SP_AFadv: [1]DATA!$C$5
Name DATA_SP_AFMed: [1]DATA!$C$4
Name DATA_SP_AntiAPTAdv: [1]DATA!$C$8
Name DATA_SP_AntiAPTMed: [1]DATA!$C$7
Name DATA_SP_AntiDdos: [1]DATA!$C$3
Name DATA_SP_ATMsecAdv: [1]DATA!$C$11
Name DATA_SP_ATMsecBas: [1]DATA!$C$9
Name DATA_SP_ATMsecMed: [2]DATA!$C$10
Name DATA_SP_Basics: [1]DATA!$C$2
Name DATA_SP_CBDataSecurity: [1]DATA!$C$12
Name DATA_SP_CertifAudit: [1]DATA!$C$13
Name DATA_SP_DLP: [1]DATA!$C$6
Name DATA_SP_LocalPackage: [1]DATA!$C$14
Name DATA_SPG_AntiAPT: [1]DATA!$Z$3
Name DATA_SPG_AntiFraud: [1]DATA!$Z$2
Name DATA_SPG_ATM: [1]DATA!$Z$4
Name DATA_Status_CERTIFIED: [1]DATA!$E$9
Name DATA_Status_DONEPostAuditMitigation: [1]DATA!$E$8
Name DATA_Status_DONEtoBeCERTIFIED: [1]DATA!$E$7
Name DATA_Status_INPROGRESS: [1]DATA!$E$6
Name DATA_Status_NOTAPPLICABLE: [1]DATA!$E$4
Name DATA_Status_PleaseChoose: [1]DATA!$E$2
Name DATA_Status_RiskAccepted: [1]DATA!$E$3
Name DATA_Status_TOBESTARTED: [1]DATA!$E$5

Sheet SECURITY MEASURES
A1: C2-Confidential | E1: SECURITY MEASURES | H1: =INDEX(GLOBAL_DATA[Entity],1) -> XX | N1: IMPLEMENTATION at the end of the program | Q1: PROJECT EXECUTION | U1: PLANNING | Z1: BUDGET (k€) | AO1: ENTITY Private columns | AQ1: CHECKS
N2: (including already implemented measures) | AA2: TOTAL | AD2: 2020 | AG2: 2021 | AJ2: 2022 | AM2: 2023
A4: BU | B4: Region | C4: Entity | D4: Index | E4: Security pack | F4: Topic | G4: Measure ID | H4: Priority | I4: Measure | J4: Description | K4: Deliverables | L4: Dependencies | M4: Reference | N4: Target status | O4: Target scope | P4: Target justification (if<100%) | Q4: Status | R4: Implementation progress rate | S4: CISO assessment | T4: CISO Comments | U4: Resource allocated | V4: Main actor | W4: Kick-off | X4: Initial end | Y4: Re-estimated end | Z4: Total Initial | AA4: Total re-estimated | AB4: Total Spent | AC4: Initial 2020 | AD4: Reestimated 2020 | AE4: Spent 2020 | AF4: Initial 2021 | AG4: Reestimated 2021 | AH4: Spent 2021 | AI4: Initial 2022 | AJ4: Reestimated 2022 | AK4: Spent 2022 | AL4: Initial 2023 | AM4: Reestimated 2023 | AN4: Spent 2023 | AO4: <Local use 1> | AP4: <Local use 2> | AQ4: Global Progress rate | AR4: Impl_Yes | AS4: Impl_Date | AT4: DataInconsistency | AU4: EmptyFields
A5: XX | B5: XX | C5: XX | D5: XX | E5: XX | F5: XX | G5: XX | H5: XX | I5: XX | J5: XX | K5: XX | L5: XX | M5: XX | N5: =IF(GLOBAL_DATA[[#This Row],[Target scope]]="","",INDEX(DATA_TargetStatusChoice[Target_Status_Choice],MATCH(GLOBAL_DATA[[#This Row],[Target scope]],DATA_TargetStatusChoice[Value],1))) -> FULL IMPLEMENTATION | O5: 1 | P5: - | Q5: IN PROGRESS | R5: 0.95 | S5: No alert | T5: XX | Z5: =SUM(GLOBAL_DATA[[#This Row],[Initial 2020]]+GLOBAL_DATA[[#This Row],[Initial 2021]]+GLOBAL_DATA[[#This Row],[Initial 2022]]+GLOBAL_DATA[[#This Row],[Initial 2023]]) -> 0 | AA5: =SUM(GLOBAL_DATA[[#This Row],[Reestimated 2020]]+GLOBAL_DATA[[#This Row],[Reestimated 2021]]+GLOBAL_DATA[[#This Row],[Reestimated 2022]]+GLOBAL_DATA[[#This Row],[Reestimated 2023]]) -> 0 | AB5: =SUM(GLOBAL_DATA[[#This Row],[Spent 2020]]+GLOBAL_DATA[[#This Row],[Spent 2021]]+GLOBAL_DATA[[#This Row],[Spent 2022]]+GLOBAL_DATA[[#This Row],[Spent 2023]]) -> 0 | AQ5: =IF(GLOBAL_DATA[[#This Row],[Target scope]]<>Target_Not_Applicable,GLOBAL_DATA[[#This Row],[Target scope]]*GLOBAL_DATA[[#This Row],[Implementation progress rate]],"") -> 0.95 | AR5: =IF(OR(GLOBAL_DATA[[#This Row],[Status]]=DATA!$J$6,GLOBAL_DATA[[#This Row],[Status]]=DATA!$J$7,GLOBAL_DATA[[#This Row],[Status]]=DATA!$J$8),1,0) -> 0 | AS5: =IF(GLOBAL_DATA[[#This Row],[Status]]=Status_No_Project,"",MAX(GLOBAL_DATA[[#This Row],[Initial end]],GLOBAL_DATA[[#This Row],[Re-estimated end]],43831)) -> 43831 | AT5: =IF(AND(GLOBAL_DATA[[#This Row],[Implementation progress rate]]<100%,GLOBAL_DATA[[#This Row],[Re-estimated end]]<=[0]!ReportingDate,GLOBAL_DATA[[#This Row],[Re-estimated end]]<>""),1,0)+IF(AND(GLOBAL_DATA[[#This Row],[Implementation progress rate]]<100%,GLOBAL_DATA[[#This Row],[Initial end]]<=[0]!ReportingDate,GLOBAL_DATA[[#This Row],[Re-estimated end]]<[0]!ReportingDate,GLOBAL_DATA[[#This Row],[Re-estimated end]]<>""),1,0)+IF(AND(OR(GLOBAL_DATA[[#This Row],[Target scope]]=Target_Not_Applicable,GLOBAL_DATA[[#This Row],[Target scope]]=Risk_accepted),GLOBAL_DATA[[#This Row],[Kick-off]]<>""),1,0)+IF(AND(GLOBAL_DATA[[#This Row],[Status]]=In_progress,GLOBAL_DATA[[#This Row],[Implementation progress rate]]=Risk_accepted),1,0)+IF(AND(GLOBAL_DATA[[#This Row],[Status]]=In_progress,GLOBAL_DATA[[#This Row],[Implementation progress rate]]=full),1,0) -> #REF! | AU5: =IF(GLOBAL_DATA[[#This Row],[Target scope]]<>Target_Not_Applicable,COUNTBLANK(GLOBAL_DATA[[#This Row],[Target scope]:[Target justification (if<100%)]]),0)+IF(GLOBAL_DATA[[#This Row],[Status]]<>Status_No_Project,COUNTBLANK(GLOBAL_DATA[[#This Row],[Implementation progress rate]:[CISO assessment]]),0) -> 0
A6: XX | B6: XX | C6: XX | D6: XX | E6: XX | F6: XX | G6: XX | H6: XX | I6: XX | J6: XX | K6: XX | L6: XX | M6: XX | N6: =IF(GLOBAL_DATA[[#This Row],[Target scope]]="","",INDEX(DATA_TargetStatusChoice[Target_Status_Choice],MATCH(GLOBAL_DATA[[#This Row],[Target scope]],DATA_TargetStatusChoice[Value],1))) -> FULL IMPLEMENTATION | O6: 1 | P6: - | Q6: IN PROGRESS | R6: 1 | S6: No alert | T6: XX | Z6: =SUM(GLOBAL_DATA[[#This Row],[Initial 2020]]+GLOBAL_DATA[[#This Row],[Initial 2021]]+GLOBAL_DATA[[#This Row],[Initial 2022]]+GLOBAL_DATA[[#This Row],[Initial 2023]]) -> 0 | AA6: =SUM(GLOBAL_DATA[[#This Row],[Reestimated 2020]]+GLOBAL_DATA[[#This Row],[Reestimated 2021]]+GLOBAL_DATA[[#This Row],[Reestimated 2022]]+GLOBAL_DATA[[#This Row],[Reestimated 2023]]) -> 0 | AB6: =SUM(GLOBAL_DATA[[#This Row],[Spent 2020]]+GLOBAL_DATA[[#This Row],[Spent 2021]]+GLOBAL_DATA[[#This Row],[Spent 2022]]+GLOBAL_DATA[[#This Row],[Spent 2023]]) -> 0 | AQ6: =IF(GLOBAL_DATA[[#This Row],[Target scope]]<>Target_Not_Applicable,GLOBAL_DATA[[#This Row],[Target scope]]*GLOBAL_DATA[[#This Row],[Implementation progress rate]],"") -> 1 | AR6: =IF(OR(GLOBAL_DATA[[#This Row],[Status]]=DATA!$J$6,GLOBAL_DATA[[#This Row],[Status]]=DATA!$J$7,GLOBAL_DATA[[#This Row],[Status]]=DATA!$J$8),1,0) -> 0 | AS6: =IF(GLOBAL_DATA[[#This Row],[Status]]=Status_No_Project,"",MAX(GLOBAL_DATA[[#This Row],[Initial end]],GLOBAL_DATA[[#This Row],[Re-estimated end]],43831)) -> 43831 | AT6: =IF(AND(GLOBAL_DATA[[#This Row],[Implementation progress rate]]<100%,GLOBAL_DATA[[#This Row],[Re-estimated end]]<=[0]!ReportingDate,GLOBAL_DATA[[#This Row],[Re-estimated end]]<>""),1,0)+IF(AND(GLOBAL_DATA[[#This Row],[Implementation progress rate]]<100%,GLOBAL_DATA[[#This Row],[Initial end]]<=[0]!ReportingDate,GLOBAL_DATA[[#This Row],[Re-estimated end]]<[0]!ReportingDate,GLOBAL_DATA[[#This Row],[Re-estimated end]]<>""),1,0)+IF(AND(OR(GLOBAL_DATA[[#This Row],[Target scope]]=Target_Not_Applicable,GLOBAL_DATA[[#This Row],[Target scope]]=Risk_accepted),GLOBAL_DATA[[#This Row],[Kick-off]]<>""),1,0)+IF(AND(GLOBAL_DATA[[#This Row],[Status]]=In_progress,GLOBAL_DATA[[#This Row],[Implementation progress rate]]=Risk_accepted),1,0)+IF(AND(GLOBAL_DATA[[#This Row],[Status]]=In_progress,GLOBAL_DATA[[#This Row],[Implementation progress rate]]=full),1,0) -> #REF! | AU6: =IF(GLOBAL_DATA[[#This Row],[Target scope]]<>Target_Not_Applicable,COUNTBLANK(GLOBAL_DATA[[#This Row],[Target scope]:[Target justification (if<100%)]]),0)+IF(GLOBAL_DATA[[#This Row],[Status]]<>Status_No_Project,COUNTBLANK(GLOBAL_DATA[[#This Row],[Implementation progress rate]:[CISO assessment]]),0) -> 0
A7: XX | B7: XX | C7: XX | D7: XX | E7: XX | F7: XX | G7: XX | H7: XX | I7: XX | J7: XX | K7: XX | L7: XX | M7: XX | N7: =IF(GLOBAL_DATA[[#This Row],[Target scope]]="","",INDEX(DATA_TargetStatusChoice[Target_Status_Choice],MATCH(GLOBAL_DATA[[#This Row],[Target scope]],DATA_TargetStatusChoice[Value],1))) -> FULL IMPLEMENTATION | O7: 1 | P7: - | Q7: IN PROGRESS | R7: 1 | S7: No alert | T7: XX | Z7: =SUM(GLOBAL_DATA[[#This Row],[Initial 2020]]+GLOBAL_DATA[[#This Row],[Initial 2021]]+GLOBAL_DATA[[#This Row],[Initial 2022]]+GLOBAL_DATA[[#This Row],[Initial 2023]]) -> 0 | AA7: =SUM(GLOBAL_DATA[[#This Row],[Reestimated 2020]]+GLOBAL_DATA[[#This Row],[Reestimated 2021]]+GLOBAL_DATA[[#This Row],[Reestimated 2022]]+GLOBAL_DATA[[#This Row],[Reestimated 2023]]) -> 0 | AB7: =SUM(GLOBAL_DATA[[#This Row],[Spent 2020]]+GLOBAL_DATA[[#This Row],[Spent 2021]]+GLOBAL_DATA[[#This Row],[Spent 2022]]+GLOBAL_DATA[[#This Row],[Spent 2023]]) -> 0 | AQ7: =IF(GLOBAL_DATA[[#This Row],[Target scope]]<>Target_Not_Applicable,GLOBAL_DATA[[#This Row],[Target scope]]*GLOBAL_DATA[[#This Row],[Implementation progress rate]],"") -> 1 | AR7: =IF(OR(GLOBAL_DATA[[#This Row],[Status]]=DATA!$J$6,GLOBAL_DATA[[#This Row],[Status]]=DATA!$J$7,GLOBAL_DATA[[#This Row],[Status]]=DATA!$J$8),1,0) -> 0 | AS7: =IF(GLOBAL_DATA[[#This Row],[Status]]=Status_No_Project,"",MAX(GLOBAL_DATA[[#This Row],[Initial end]],GLOBAL_DATA[[#This Row],[Re-estimated end]],43831)) -> 43831 | AT7: =IF(AND(GLOBAL_DATA[[#This Row],[Implementation progress rate]]<100%,GLOBAL_DATA[[#This Row],[Re-estimated end]]<=[0]!ReportingDate,GLOBAL_DATA[[#This Row],[Re-estimated end]]<>""),1,0)+IF(AND(GLOBAL_DATA[[#This Row],[Implementation progress rate]]<100%,GLOBAL_DATA[[#This Row],[Initial end]]<=[0]!ReportingDate,GLOBAL_DATA[[#This Row],[Re-estimated end]]<[0]!ReportingDate,GLOBAL_DATA[[#This Row],[Re-estimated end]]<>""),1,0)+IF(AND(OR(GLOBAL_DATA[[#This Row],[Target scope]]=Target_Not_Applicable,GLOBAL_DATA[[#This Row],[Target scope]]=Risk_accepted),GLOBAL_DATA[[#This Row],[Kick-off]]<>""),1,0)+IF(AND(GLOBAL_DATA[[#This Row],[Status]]=In_progress,GLOBAL_DATA[[#This Row],[Implementation progress rate]]=Risk_accepted),1,0)+IF(AND(GLOBAL_DATA[[#This Row],[Status]]=In_progress,GLOBAL_DATA[[#This Row],[Implementation progress rate]]=full),1,0) -> #REF! | AU7: =IF(GLOBAL_DATA[[#This Row],[Target scope]]<>Target_Not_Applicable,COUNTBLANK(GLOBAL_DATA[[#This Row],[Target scope]:[Target justification (if<100%)]]),0)+IF(GLOBAL_DATA[[#This Row],[Status]]<>Status_No_Project,COUNTBLANK(GLOBAL_DATA[[#This Row],[Implementation progress rate]:[CISO assessment]]),0) -> 0
A8: XX | B8: XX | C8: XX | D8: XX | E8: XX | F8: XX | G8: XX | H8: XX | I8: XX | J8: XX | K8: XX | L8: XX | M8: XX | N8: =IF(GLOBAL_DATA[[#This Row],[Target scope]]="","",INDEX(DATA_TargetStatusChoice[Target_Status_Choice],MATCH(GLOBAL_DATA[[#This Row],[Target scope]],DATA_TargetStatusChoice[Value],1))) -> FULL IMPLEMENTATION | O8: 1 | P8: - | Q8: IN PROGRESS | R8: 1 | S8: No alert | T8: XX | Z8: =SUM(GLOBAL_DATA[[#This Row],[Initial 2020]]+GLOBAL_DATA[[#This Row],[Initial 2021]]+GLOBAL_DATA[[#This Row],[Initial 2022]]+GLOBAL_DATA[[#This Row],[Initial 2023]]) -> 0 | AA8: =SUM(GLOBAL_DATA[[#This Row],[Reestimated 2020]]+GLOBAL_DATA[[#This Row],[Reestimated 2021]]+GLOBAL_DATA[[#This Row],[Reestimated 2022]]+GLOBAL_DATA[[#This Row],[Reestimated 2023]]) -> 0 | AB8: =SUM(GLOBAL_DATA[[#This Row],[Spent 2020]]+GLOBAL_DATA[[#This Row],[Spent 2021]]+GLOBAL_DATA[[#This Row],[Spent 2022]]+GLOBAL_DATA[[#This Row],[Spent 2023]]) -> 0 | AQ8: =IF(GLOBAL_DATA[[#This Row],[Target scope]]<>Target_Not_Applicable,GLOBAL_DATA[[#This Row],[Target scope]]*GLOBAL_DATA[[#This Row],[Implementation progress rate]],"") -> 1 | AR8: =IF(OR(GLOBAL_DATA[[#This Row],[Status]]=DATA!$J$6,GLOBAL_DATA[[#This Row],[Status]]=DATA!$J$7,GLOBAL_DATA[[#This Row],[Status]]=DATA!$J$8),1,0) -> 0 | AS8: =IF(GLOBAL_DATA[[#This Row],[Status]]=Status_No_Project,"",MAX(GLOBAL_DATA[[#This Row],[Initial end]],GLOBAL_DATA[[#This Row],[Re-estimated end]],43831)) -> 43831 | AT8: =IF(AND(GLOBAL_DATA[[#This Row],[Implementation progress rate]]<100%,GLOBAL_DATA[[#This Row],[Re-estimated end]]<=[0]!ReportingDate,GLOBAL_DATA[[#This Row],[Re-estimated end]]<>""),1,0)+IF(AND(GLOBAL_DATA[[#This Row],[Implementation progress rate]]<100%,GLOBAL_DATA[[#This Row],[Initial end]]<=[0]!ReportingDate,GLOBAL_DATA[[#This Row],[Re-estimated end]]<[0]!ReportingDate,GLOBAL_DATA[[#This Row],[Re-estimated end]]<>""),1,0)+IF(AND(OR(GLOBAL_DATA[[#This Row],[Target scope]]=Target_Not_Applicable,GLOBAL_DATA[[#This Row],[Target scope]]=Risk_accepted),GLOBAL_DATA[[#This Row],[Kick-off]]<>""),1,0)+IF(AND(GLOBAL_DATA[[#This Row],[Status]]=In_progress,GLOBAL_DATA[[#This Row],[Implementation progress rate]]=Risk_accepted),1,0)+IF(AND(GLOBAL_DATA[[#This Row],[Status]]=In_progress,GLOBAL_DATA[[#This Row],[Implementation progress rate]]=full),1,0) -> #REF! | AU8: =IF(GLOBAL_DATA[[#This Row],[Target scope]]<>Target_Not_Applicable,COUNTBLANK(GLOBAL_DATA[[#This Row],[Target scope]:[Target justification (if<100%)]]),0)+IF(GLOBAL_DATA[[#This Row],[Status]]<>Status_No_Project,COUNTBLANK(GLOBAL_DATA[[#This Row],[Implementation progress rate]:[CISO assessment]]),0) -> 0
A9: XX | B9: XX | C9: XX | D9: XX | E9: XX | F9: XX | G9: XX | H9: XX | I9: XX | J9: XX | K9: XX | L9: XX | M9: XX | N9: =IF(GLOBAL_DATA[[#This Row],[Target scope]]="","",INDEX(DATA_TargetStatusChoice[Target_Status_Choice],MATCH(GLOBAL_DATA[[#This Row],[Target scope]],DATA_TargetStatusChoice[Value],1))) -> FULL IMPLEMENTATION | O9: 1 | P9: - | Q9: IN PROGRESS | R9: 0.99 | S9: No alert | T9: XX | W9: 42370 | X9: 43465 | Y9: 44196 | Z9: =SUM(GLOBAL_DATA[[#This Row],[Initial 2020]]+GLOBAL_DATA[[#This Row],[Initial 2021]]+GLOBAL_DATA[[#This Row],[Initial 2022]]+GLOBAL_DATA[[#This Row],[Initial 2023]]) -> 0 | AA9: =SUM(GLOBAL_DATA[[#This Row],[Reestimated 2020]]+GLOBAL_DATA[[#This Row],[Reestimated 2021]]+GLOBAL_DATA[[#This Row],[Reestimated 2022]]+GLOBAL_DATA[[#This Row],[Reestimated 2023]]) -> 0 | AB9: =SUM(GLOBAL_DATA[[#This Row],[Spent 2020]]+GLOBAL_DATA[[#This Row],[Spent 2021]]+GLOBAL_DATA[[#This Row],[Spent 2022]]+GLOBAL_DATA[[#This Row],[Spent 2023]]) -> 0 | AQ9: =IF(GLOBAL_DATA[[#This Row],[Target scope]]<>Target_Not_Applicable,GLOBAL_DATA[[#This Row],[Target scope]]*GLOBAL_DATA[[#This Row],[Implementation progress rate]],"") -> 0.99 | AR9: =IF(OR(GLOBAL_DATA[[#This Row],[Status]]=DATA!$J$6,GLOBAL_DATA[[#This Row],[Status]]=DATA!$J$7,GLOBAL_DATA[[#This Row],[Status]]=DATA!$J$8),1,0) -> 0 | AS9: =IF(GLOBAL_DATA[[#This Row],[Status]]=Status_No_Project,"",MAX(GLOBAL_DATA[[#This Row],[Initial end]],GLOBAL_DATA[[#This Row],[Re-estimated end]],43831)) -> 44196 | AT9: =IF(AND(GLOBAL_DATA[[#This Row],[Implementation progress rate]]<100%,GLOBAL_DATA[[#This Row],[Re-estimated end]]<=[0]!ReportingDate,GLOBAL_DATA[[#This Row],[Re-estimated end]]<>""),1,0)+IF(AND(GLOBAL_DATA[[#This Row],[Implementation progress rate]]<100%,GLOBAL_DATA[[#This Row],[Initial end]]<=[0]!ReportingDate,GLOBAL_DATA[[#This Row],[Re-estimated end]]<[0]!ReportingDate,GLOBAL_DATA[[#This Row],[Re-estimated end]]<>""),1,0)+IF(AND(OR(GLOBAL_DATA[[#This Row],[Target scope]]=Target_Not_Applicable,GLOBAL_DATA[[#This Row],[Target scope]]=Risk_accepted),GLOBAL_DATA[[#This Row],[Kick-off]]<>""),1,0)+IF(AND(GLOBAL_DATA[[#This Row],[Status]]=In_progress,GLOBAL_DATA[[#This Row],[Implementation progress rate]]=Risk_accepted),1,0)+IF(AND(GLOBAL_DATA[[#This Row],[Status]]=In_progress,GLOBAL_DATA[[#This Row],[Implementation progress rate]]=full),1,0) -> #REF! | AU9: =IF(GLOBAL_DATA[[#This Row],[Target scope]]<>Target_Not_Applicable,COUNTBLANK(GLOBAL_DATA[[#This Row],[Target scope]:[Target justification (if<100%)]]),0)+IF(GLOBAL_DATA[[#This Row],[Status]]<>Status_No_Project,COUNTBLANK(GLOBAL_DATA[[#This Row],[Implementation progress rate]:[CISO assessment]]),0) -> 0
A10: XX | B10: XX | C10: XX | D10: XX | E10: XX | F10: XX | G10: XX | H10: XX | I10: XX | J10: XX | K10: XX | L10: XX | M10: XX | N10: =IF(GLOBAL_DATA[[#This Row],[Target scope]]="","",INDEX(DATA_TargetStatusChoice[Target_Status_Choice],MATCH(GLOBAL_DATA[[#This Row],[Target scope]],DATA_TargetStatusChoice[Value],1))) -> FULL IMPLEMENTATION | O10: 1 | P10: - | Q10: IN PROGRESS | R10: 1 | S10: No alert | T10: XX | W10: 43626 | X10: 43830 | Y10: 43951 | Z10: =SUM(GLOBAL_DATA[[#This Row],[Initial 2020]]+GLOBAL_DATA[[#This Row],[Initial 2021]]+GLOBAL_DATA[[#This Row],[Initial 2022]]+GLOBAL_DATA[[#This Row],[Initial 2023]]) -> 0 | AA10: =SUM(GLOBAL_DATA[[#This Row],[Reestimated 2020]]+GLOBAL_DATA[[#This Row],[Reestimated 2021]]+GLOBAL_DATA[[#This Row],[Reestimated 2022]]+GLOBAL_DATA[[#This Row],[Reestimated 2023]]) -> 0 | AB10: =SUM(GLOBAL_DATA[[#This Row],[Spent 2020]]+GLOBAL_DATA[[#This Row],[Spent 2021]]+GLOBAL_DATA[[#This Row],[Spent 2022]]+GLOBAL_DATA[[#This Row],[Spent 2023]]) -> 0 | AQ10: =IF(GLOBAL_DATA[[#This Row],[Target scope]]<>Target_Not_Applicable,GLOBAL_DATA[[#This Row],[Target scope]]*GLOBAL_DATA[[#This Row],[Implementation progress rate]],"") -> 1 | AR10: =IF(OR(GLOBAL_DATA[[#This Row],[Status]]=DATA!$J$6,GLOBAL_DATA[[#This Row],[Status]]=DATA!$J$7,GLOBAL_DATA[[#This Row],[Status]]=DATA!$J$8),1,0) -> 0 | AS10: =IF(GLOBAL_DATA[[#This Row],[Status]]=Status_No_Project,"",MAX(GLOBAL_DATA[[#This Row],[Initial end]],GLOBAL_DATA[[#This Row],[Re-estimated end]],43831)) -> 43951 | AT10: =IF(AND(GLOBAL_DATA[[#This Row],[Implementation progress rate]]<100%,GLOBAL_DATA[[#This Row],[Re-estimated end]]<=[0]!ReportingDate,GLOBAL_DATA[[#This Row],[Re-estimated end]]<>""),1,0)+IF(AND(GLOBAL_DATA[[#This Row],[Implementation progress rate]]<100%,GLOBAL_DATA[[#This Row],[Initial end]]<=[0]!ReportingDate,GLOBAL_DATA[[#This Row],[Re-estimated end]]<[0]!ReportingDate,GLOBAL_DATA[[#This Row],[Re-estimated end]]<>""),1,0)+IF(AND(OR(GLOBAL_DATA[[#This Row],[Target scope]]=Target_Not_Applicable,GLOBAL_DATA[[#This Row],[Target scope]]=Risk_accepted),GLOBAL_DATA[[#This Row],[Kick-off]]<>""),1,0)+IF(AND(GLOBAL_DATA[[#This Row],[Status]]=In_progress,GLOBAL_DATA[[#This Row],[Implementation progress rate]]=Risk_accepted),1,0)+IF(AND(GLOBAL_DATA[[#This Row],[Status]]=In_progress,GLOBAL_DATA[[#This Row],[Implementation progress rate]]=full),1,0) -> #REF! | AU10: =IF(GLOBAL_DATA[[#This Row],[Target scope]]<>Target_Not_Applicable,COUNTBLANK(GLOBAL_DATA[[#This Row],[Target scope]:[Target justification (if<100%)]]),0)+IF(GLOBAL_DATA[[#This Row],[Status]]<>Status_No_Project,COUNTBLANK(GLOBAL_DATA[[#This Row],[Implementation progress rate]:[CISO assessment]]),0) -> 0
A11: XX | B11: XX | C11: XX | D11: XX | E11: XX | F11: XX | G11: XX | H11: XX | I11: XX | J11: XX | K11: XX | L11: XX | M11: XX | N11: =IF(GLOBAL_DATA[[#This Row],[Target scope]]="","",INDEX(DATA_TargetStatusChoice[Target_Status_Choice],MATCH(GLOBAL_DATA[[#This Row],[Target scope]],DATA_TargetStatusChoice[Value],1))) -> FULL IMPLEMENTATION | O11: 1 | P11: - | Q11: IN PROGRESS | R11: 1 | S11: No alert | T11: XX | W11: 43466 | X11: 43830 | Y11: 44196 | Z11: =SUM(GLOBAL_DATA[[#This Row],[Initial 2020]]+GLOBAL_DATA[[#This Row],[Initial 2021]]+GLOBAL_DATA[[#This Row],[Initial 2022]]+GLOBAL_DATA[[#This Row],[Initial 2023]]) -> 0 | AA11: =SUM(GLOBAL_DATA[[#This Row],[Reestimated 2020]]+GLOBAL_DATA[[#This Row],[Reestimated 2021]]+GLOBAL_DATA[[#This Row],[Reestimated 2022]]+GLOBAL_DATA[[#This Row],[Reestimated 2023]]) -> 0 | AB11: =SUM(GLOBAL_DATA[[#This Row],[Spent 2020]]+GLOBAL_DATA[[#This Row],[Spent 2021]]+GLOBAL_DATA[[#This Row],[Spent 2022]]+GLOBAL_DATA[[#This Row],[Spent 2023]]) -> 0 | AQ11: =IF(GLOBAL_DATA[[#This Row],[Target scope]]<>Target_Not_Applicable,GLOBAL_DATA[[#This Row],[Target scope]]*GLOBAL_DATA[[#This Row],[Implementation progress rate]],"") -> 1 | AR11: =IF(OR(GLOBAL_DATA[[#This Row],[Status]]=DATA!$J$6,GLOBAL_DATA[[#This Row],[Status]]=DATA!$J$7,GLOBAL_DATA[[#This Row],[Status]]=DATA!$J$8),1,0) -> 0 | AS11: =IF(GLOBAL_DATA[[#This Row],[Status]]=Status_No_Project,"",MAX(GLOBAL_DATA[[#This Row],[Initial end]],GLOBAL_DATA[[#This Row],[Re-estimated end]],43831)) -> 44196 | AT11: =IF(AND(GLOBAL_DATA[[#This Row],[Implementation progress rate]]<100%,GLOBAL_DATA[[#This Row],[Re-estimated end]]<=[0]!ReportingDate,GLOBAL_DATA[[#This Row],[Re-estimated end]]<>""),1,0)+IF(AND(GLOBAL_DATA[[#This Row],[Implementation progress rate]]<100%,GLOBAL_DATA[[#This Row],[Initial end]]<=[0]!ReportingDate,GLOBAL_DATA[[#This Row],[Re-estimated end]]<[0]!ReportingDate,GLOBAL_DATA[[#This Row],[Re-estimated end]]<>""),1,0)+IF(AND(OR(GLOBAL_DATA[[#This Row],[Target scope]]=Target_Not_Applicable,GLOBAL_DATA[[#This Row],[Target scope]]=Risk_accepted),GLOBAL_DATA[[#This Row],[Kick-off]]<>""),1,0)+IF(AND(GLOBAL_DATA[[#This Row],[Status]]=In_progress,GLOBAL_DATA[[#This Row],[Implementation progress rate]]=Risk_accepted),1,0)+IF(AND(GLOBAL_DATA[[#This Row],[Status]]=In_progress,GLOBAL_DATA[[#This Row],[Implementation progress rate]]=full),1,0) -> #REF! | AU11: =IF(GLOBAL_DATA[[#This Row],[Target scope]]<>Target_Not_Applicable,COUNTBLANK(GLOBAL_DATA[[#This Row],[Target scope]:[Target justification (if<100%)]]),0)+IF(GLOBAL_DATA[[#This Row],[Status]]<>Status_No_Project,COUNTBLANK(GLOBAL_DATA[[#This Row],[Implementation progress rate]:[CISO assessment]]),0) -> 0
A12: XX | B12: XX | C12: XX | D12: XX | E12: XX | F12: XX | G12: XX | H12: XX | I12: XX | J12: XX | K12: XX | L12: XX | M12: XX | N12: =IF(GLOBAL_DATA[[#This Row],[Target scope]]="","",INDEX(DATA_TargetStatusChoice[Target_Status_Choice],MATCH(GLOBAL_DATA[[#This Row],[Target scope]],DATA_TargetStatusChoice[Value],1))) -> FULL IMPLEMENTATION | O12: 1 | P12: - | Q12: IN PROGRESS | R12: 1 | S12: No alert | T12: XX | W12: 43646 | X12: 43830 | Y12: 44196 | Z12: =SUM(GLOBAL_DATA[[#This Row],[Initial 2020]]+GLOBAL_DATA[[#This Row],[Initial 2021]]+GLOBAL_DATA[[#This Row],[Initial 2022]]+GLOBAL_DATA[[#This Row],[Initial 2023]]) -> 0 | AA12: =SUM(GLOBAL_DATA[[#This Row],[Reestimated 2020]]+GLOBAL_DATA[[#This Row],[Reestimated 2021]]+GLOBAL_DATA[[#This Row],[Reestimated 2022]]+GLOBAL_DATA[[#This Row],[Reestimated 2023]]) -> 0 | AB12: =SUM(GLOBAL_DATA[[#This Row],[Spent 2020]]+GLOBAL_DATA[[#This Row],[Spent 2021]]+GLOBAL_DATA[[#This Row],[Spent 2022]]+GLOBAL_DATA[[#This Row],[Spent 2023]]) -> 0 | AQ12: =IF(GLOBAL_DATA[[#This Row],[Target scope]]<>Target_Not_Applicable,GLOBAL_DATA[[#This Row],[Target scope]]*GLOBAL_DATA[[#This Row],[Implementation progress rate]],"") -> 1 | AR12: =IF(OR(GLOBAL_DATA[[#This Row],[Status]]=DATA!$J$6,GLOBAL_DATA[[#This Row],[Status]]=DATA!$J$7,GLOBAL_DATA[[#This Row],[Status]]=DATA!$J$8),1,0) -> 0 | AS12: =IF(GLOBAL_DATA[[#This Row],[Status]]=Status_No_Project,"",MAX(GLOBAL_DATA[[#This Row],[Initial end]],GLOBAL_DATA[[#This Row],[Re-estimated end]],43831)) -> 44196 | AT12: =IF(AND(GLOBAL_DATA[[#This Row],[Implementation progress rate]]<100%,GLOBAL_DATA[[#This Row],[Re-estimated end]]<=[0]!ReportingDate,GLOBAL_DATA[[#This Row],[Re-estimated end]]<>""),1,0)+IF(AND(GLOBAL_DATA[[#This Row],[Implementation progress rate]]<100%,GLOBAL_DATA[[#This Row],[Initial end]]<=[0]!ReportingDate,GLOBAL_DATA[[#This Row],[Re-estimated end]]<[0]!ReportingDate,GLOBAL_DATA[[#This Row],[Re-estimated end]]<>""),1,0)+IF(AND(OR(GLOBAL_DATA[[#This Row],[Target scope]]=Target_Not_Applicable,GLOBAL_DATA[[#This Row],[Target scope]]=Risk_accepted),GLOBAL_DATA[[#This Row],[Kick-off]]<>""),1,0)+IF(AND(GLOBAL_DATA[[#This Row],[Status]]=In_progress,GLOBAL_DATA[[#This Row],[Implementation progress rate]]=Risk_accepted),1,0)+IF(AND(GLOBAL_DATA[[#This Row],[Status]]=In_progress,GLOBAL_DATA[[#This Row],[Implementation progress rate]]=full),1,0) -> #REF! | AU12: =IF(GLOBAL_DATA[[#This Row],[Target scope]]<>Target_Not_Applicable,COUNTBLANK(GLOBAL_DATA[[#This Row],[Target scope]:[Target justification (if<100%)]]),0)+IF(GLOBAL_DATA[[#This Row],[Status]]<>Status_No_Project,COUNTBLANK(GLOBAL_DATA[[#This Row],[Implementation progress rate]:[CISO assessment]]),0) -> 0
A13: XX | B13: XX | C13: XX | D13: XX | E13: XX | F13: XX | G13: XX | H13: XX | I13: XX | J13: XX | K13: XX | L13: XX | M13: XX | N13: =IF(GLOBAL_DATA[[#This Row],[Target scope]]="","",INDEX(DATA_TargetStatusChoice[Target_Status_Choice],MATCH(GLOBAL_DATA[[#This Row],[Target scope]],DATA_TargetStatusChoice[Value],1))) -> FULL IMPLEMENTATION | O13: 1 | P13: - | Q13: IN PROGRESS | R13: 0.95 | S13: No alert | T13: XX | W13: 43646 | X13: 43830 | Y13: 44196 | Z13: =SUM(GLOBAL_DATA[[#This Row],[Initial 2020]]+GLOBAL_DATA[[#This Row],[Initial 2021]]+GLOBAL_DATA[[#This Row],[Initial 2022]]+GLOBAL_DATA[[#This Row],[Initial 2023]]) -> 0 | AA13: =SUM(GLOBAL_DATA[[#This Row],[Reestimated 2020]]+GLOBAL_DATA[[#This Row],[Reestimated 2021]]+GLOBAL_DATA[[#This Row],[Reestimated 2022]]+GLOBAL_DATA[[#This Row],[Reestimated 2023]]) -> 0 | AB13: =SUM(GLOBAL_DATA[[#This Row],[Spent 2020]]+GLOBAL_DATA[[#This Row],[Spent 2021]]+GLOBAL_DATA[[#This Row],[Spent 2022]]+GLOBAL_DATA[[#This Row],[Spent 2023]]) -> 0 | AQ13: =IF(GLOBAL_DATA[[#This Row],[Target scope]]<>Target_Not_Applicable,GLOBAL_DATA[[#This Row],[Target scope]]*GLOBAL_DATA[[#This Row],[Implementation progress rate]],"") -> 0.95 | AR13: =IF(OR(GLOBAL_DATA[[#This Row],[Status]]=DATA!$J$6,GLOBAL_DATA[[#This Row],[Status]]=DATA!$J$7,GLOBAL_DATA[[#This Row],[Status]]=DATA!$J$8),1,0) -> 0 | AS13: =IF(GLOBAL_DATA[[#This Row],[Status]]=Status_No_Project,"",MAX(GLOBAL_DATA[[#This Row],[Initial end]],GLOBAL_DATA[[#This Row],[Re-estimated end]],43831)) -> 44196 | AT13: =IF(AND(GLOBAL_DATA[[#This Row],[Implementation progress rate]]<100%,GLOBAL_DATA[[#This Row],[Re-estimated end]]<=[0]!ReportingDate,GLOBAL_DATA[[#This Row],[Re-estimated end]]<>""),1,0)+IF(AND(GLOBAL_DATA[[#This Row],[Implementation progress rate]]<100%,GLOBAL_DATA[[#This Row],[Initial end]]<=[0]!ReportingDate,GLOBAL_DATA[[#This Row],[Re-estimated end]]<[0]!ReportingDate,GLOBAL_DATA[[#This Row],[Re-estimated end]]<>""),1,0)+IF(AND(OR(GLOBAL_DATA[[#This Row],[Target scope]]=Target_Not_Applicable,GLOBAL_DATA[[#This Row],[Target scope]]=Risk_accepted),GLOBAL_DATA[[#This Row],[Kick-off]]<>""),1,0)+IF(AND(GLOBAL_DATA[[#This Row],[Status]]=In_progress,GLOBAL_DATA[[#This Row],[Implementation progress rate]]=Risk_accepted),1,0)+IF(AND(GLOBAL_DATA[[#This Row],[Status]]=In_progress,GLOBAL_DATA[[#This Row],[Implementation progress rate]]=full),1,0) -> #REF! | AU13: =IF(GLOBAL_DATA[[#This Row],[Target scope]]<>Target_Not_Applicable,COUNTBLANK(GLOBAL_DATA[[#This Row],[Target scope]:[Target justification (if<100%)]]),0)+IF(GLOBAL_DATA[[#This Row],[Status]]<>Status_No_Project,COUNTBLANK(GLOBAL_DATA[[#This Row],[Implementation progress rate]:[CISO assessment]]),0) -> 0
A14: XX | B14: XX | C14: XX | D14: XX | E14: XX | F14: XX | G14: XX | H14: XX | I14: XX | J14: XX | K14: XX | L14: XX | M14: XX | N14: =IF(GLOBAL_DATA[[#This Row],[Target scope]]="","",INDEX(DATA_TargetStatusChoice[Target_Status_Choice],MATCH(GLOBAL_DATA[[#This Row],[Target scope]],DATA_TargetStatusChoice[Value],1))) -> FULL IMPLEMENTATION | O14: 1 | P14: - | Q14: IN PROGRESS | R14: 0.3 | S14: No alert | T14: XX | W14: 43466 | X14: 43830 | Y14: 44196 | Z14: =SUM(GLOBAL_DATA[[#This Row],[Initial 2020]]+GLOBAL_DATA[[#This Row],[Initial 2021]]+GLOBAL_DATA[[#This Row],[Initial 2022]]+GLOBAL_DATA[[#This Row],[Initial 2023]]) -> 0 | AA14: =SUM(GLOBAL_DATA[[#This Row],[Reestimated 2020]]+GLOBAL_DATA[[#This Row],[Reestimated 2021]]+GLOBAL_DATA[[#This Row],[Reestimated 2022]]+GLOBAL_DATA[[#This Row],[Reestimated 2023]]) -> 0 | AB14: =SUM(GLOBAL_DATA[[#This Row],[Spent 2020]]+GLOBAL_DATA[[#This Row],[Spent 2021]]+GLOBAL_DATA[[#This Row],[Spent 2022]]+GLOBAL_DATA[[#This Row],[Spent 2023]]) -> 0 | AQ14: =IF(GLOBAL_DATA[[#This Row],[Target scope]]<>Target_Not_Applicable,GLOBAL_DATA[[#This Row],[Target scope]]*GLOBAL_DATA[[#This Row],[Implementation progress rate]],"") -> 0.3 | AR14: =IF(OR(GLOBAL_DATA[[#This Row],[Status]]=DATA!$J$6,GLOBAL_DATA[[#This Row],[Status]]=DATA!$J$7,GLOBAL_DATA[[#This Row],[Status]]=DATA!$J$8),1,0) -> 0 | AS14: =IF(GLOBAL_DATA[[#This Row],[Status]]=Status_No_Project,"",MAX(GLOBAL_DATA[[#This Row],[Initial end]],GLOBAL_DATA[[#This Row],[Re-estimated end]],43831)) -> 44196 | AT14: =IF(AND(GLOBAL_DATA[[#This Row],[Implementation progress rate]]<100%,GLOBAL_DATA[[#This Row],[Re-estimated end]]<=[0]!ReportingDate,GLOBAL_DATA[[#This Row],[Re-estimated end]]<>""),1,0)+IF(AND(GLOBAL_DATA[[#This Row],[Implementation progress rate]]<100%,GLOBAL_DATA[[#This Row],[Initial end]]<=[0]!ReportingDate,GLOBAL_DATA[[#This Row],[Re-estimated end]]<[0]!ReportingDate,GLOBAL_DATA[[#This Row],[Re-estimated end]]<>""),1,0)+IF(AND(OR(GLOBAL_DATA[[#This Row],[Target scope]]=Target_Not_Applicable,GLOBAL_DATA[[#This Row],[Target scope]]=Risk_accepted),GLOBAL_DATA[[#This Row],[Kick-off]]<>""),1,0)+IF(AND(GLOBAL_DATA[[#This Row],[Status]]=In_progress,GLOBAL_DATA[[#This Row],[Implementation progress rate]]=Risk_accepted),1,0)+IF(AND(GLOBAL_DATA[[#This Row],[Status]]=In_progress,GLOBAL_DATA[[#This Row],[Implementation progress rate]]=full),1,0) -> #REF! | AU14: =IF(GLOBAL_DATA[[#This Row],[Target scope]]<>Target_Not_Applicable,COUNTBLANK(GLOBAL_DATA[[#This Row],[Target scope]:[Target justification (if<100%)]]),0)+IF(GLOBAL_DATA[[#This Row],[Status]]<>Status_No_Project,COUNTBLANK(GLOBAL_DATA[[#This Row],[Implementation progress rate]:[CISO assessment]]),0) -> 0
A15: XX | B15: XX | C15: XX | D15: XX | E15: XX | F15: XX | G15: XX | H15: XX | I15: XX | J15: XX | K15: XX | L15: XX | M15: XX | N15: =IF(GLOBAL_DATA[[#This Row],[Target scope]]="","",INDEX(DATA_TargetStatusChoice[Target_Status_Choice],MATCH(GLOBAL_DATA[[#This Row],[Target scope]],DATA_TargetStatusChoice[Value],1))) -> FULL IMPLEMENTATION | O15: 1 | P15: - | Q15: IN PROGRESS | R15: 0.5 | S15: No alert | T15: XX | W15: 43101 | X15: 43465 | Y15: 44196 | Z15: =SUM(GLOBAL_DATA[[#This Row],[Initial 2020]]+GLOBAL_DATA[[#This Row],[Initial 2021]]+GLOBAL_DATA[[#This Row],[Initial 2022]]+GLOBAL_DATA[[#This Row],[Initial 2023]]) -> 0 | AA15: =SUM(GLOBAL_DATA[[#This Row],[Reestimated 2020]]+GLOBAL_DATA[[#This Row],[Reestimated 2021]]+GLOBAL_DATA[[#This Row],[Reestimated 2022]]+GLOBAL_DATA[[#This Row],[Reestimated 2023]]) -> 0 | AB15: =SUM(GLOBAL_DATA[[#This Row],[Spent 2020]]+GLOBAL_DATA[[#This Row],[Spent 2021]]+GLOBAL_DATA[[#This Row],[Spent 2022]]+GLOBAL_DATA[[#This Row],[Spent 2023]]) -> 0 | AQ15: =IF(GLOBAL_DATA[[#This Row],[Target scope]]<>Target_Not_Applicable,GLOBAL_DATA[[#This Row],[Target scope]]*GLOBAL_DATA[[#This Row],[Implementation progress rate]],"") -> 0.5 | AR15: =IF(OR(GLOBAL_DATA[[#This Row],[Status]]=DATA!$J$6,GLOBAL_DATA[[#This Row],[Status]]=DATA!$J$7,GLOBAL_DATA[[#This Row],[Status]]=DATA!$J$8),1,0) -> 0 | AS15: =IF(GLOBAL_DATA[[#This Row],[Status]]=Status_No_Project,"",MAX(GLOBAL_DATA[[#This Row],[Initial end]],GLOBAL_DATA[[#This Row],[Re-estimated end]],43831)) -> 44196 | AT15: =IF(AND(GLOBAL_DATA[[#This Row],[Implementation progress rate]]<100%,GLOBAL_DATA[[#This Row],[Re-estimated end]]<=[0]!ReportingDate,GLOBAL_DATA[[#This Row],[Re-estimated end]]<>""),1,0)+IF(AND(GLOBAL_DATA[[#This Row],[Implementation progress rate]]<100%,GLOBAL_DATA[[#This Row],[Initial end]]<=[0]!ReportingDate,GLOBAL_DATA[[#This Row],[Re-estimated end]]<[0]!ReportingDate,GLOBAL_DATA[[#This Row],[Re-estimated end]]<>""),1,0)+IF(AND(OR(GLOBAL_DATA[[#This Row],[Target scope]]=Target_Not_Applicable,GLOBAL_DATA[[#This Row],[Target scope]]=Risk_accepted),GLOBAL_DATA[[#This Row],[Kick-off]]<>""),1,0)+IF(AND(GLOBAL_DATA[[#This Row],[Status]]=In_progress,GLOBAL_DATA[[#This Row],[Implementation progress rate]]=Risk_accepted),1,0)+IF(AND(GLOBAL_DATA[[#This Row],[Status]]=In_progress,GLOBAL_DATA[[#This Row],[Implementation progress rate]]=full),1,0) -> #REF! | AU15: =IF(GLOBAL_DATA[[#This Row],[Target scope]]<>Target_Not_Applicable,COUNTBLANK(GLOBAL_DATA[[#This Row],[Target scope]:[Target justification (if<100%)]]),0)+IF(GLOBAL_DATA[[#This Row],[Status]]<>Status_No_Project,COUNTBLANK(GLOBAL_DATA[[#This Row],[Implementation progress rate]:[CISO assessment]]),0) -> 0
A16: XX | B16: XX | C16: XX | D16: XX | E16: XX | F16: XX | G16: XX | H16: XX | I16: XX | J16: XX | K16: XX | L16: XX | M16: XX | N16: =IF(GLOBAL_DATA[[#This Row],[Target scope]]="","",INDEX(DATA_TargetStatusChoice[Target_Status_Choice],MATCH(GLOBAL_DATA[[#This Row],[Target scope]],DATA_TargetStatusChoice[Value],1))) -> NOT APPLICABLE | O16: Not applicable | P16: - | Q16: NO PROJECT | R16: 0 | S16: No alert | T16: XX | W16: 43101 | X16: 43465 | Y16: 44196 | Z16: =SUM(GLOBAL_DATA[[#This Row],[Initial 2020]]+GLOBAL_DATA[[#This Row],[Initial 2021]]+GLOBAL_DATA[[#This Row],[Initial 2022]]+GLOBAL_DATA[[#This Row],[Initial 2023]]) -> 0 | AA16: =SUM(GLOBAL_DATA[[#This Row],[Reestimated 2020]]+GLOBAL_DATA[[#This Row],[Reestimated 2021]]+GLOBAL_DATA[[#This Row],[Reestimated 2022]]+GLOBAL_DATA[[#This Row],[Reestimated 2023]]) -> 0 | AB16: =SUM(GLOBAL_DATA[[#This Row],[Spent 2020]]+GLOBAL_DATA[[#This Row],[Spent 2021]]+GLOBAL_DATA[[#This Row],[Spent 2022]]+GLOBAL_DATA[[#This Row],[Spent 2023]]) -> 0 | AQ16: =IF(GLOBAL_DATA[[#This Row],[Target scope]]<>Target_Not_Applicable,GLOBAL_DATA[[#This Row],[Target scope]]*GLOBAL_DATA[[#This Row],[Implementation progress rate]],"") | AR16: =IF(OR(GLOBAL_DATA[[#This Row],[Status]]=DATA!$J$6,GLOBAL_DATA[[#This Row],[Status]]=DATA!$J$7,GLOBAL_DATA[[#This Row],[Status]]=DATA!$J$8),1,0) -> 0 | AS16: =IF(GLOBAL_DATA[[#This Row],[Status]]=Status_No_Project,"",MAX(GLOBAL_DATA[[#This Row],[Initial end]],GLOBAL_DATA[[#This Row],[Re-estimated end]],43831)) | AT16: =IF(AND(GLOBAL_DATA[[#This Row],[Implementation progress rate]]<100%,GLOBAL_DATA[[#This Row],[Re-estimated end]]<=[0]!ReportingDate,GLOBAL_DATA[[#This Row],[Re-estimated end]]<>""),1,0)+IF(AND(GLOBAL_DATA[[#This Row],[Implementation progress rate]]<100%,GLOBAL_DATA[[#This Row],[Initial end]]<=[0]!ReportingDate,GLOBAL_DATA[[#This Row],[Re-estimated end]]<[0]!ReportingDate,GLOBAL_DATA[[#This Row],[Re-estimated end]]<>""),1,0)+IF(AND(OR(GLOBAL_DATA[[#This Row],[Target scope]]=Target_Not_Applicable,GLOBAL_DATA[[#This Row],[Target scope]]=Risk_accepted),GLOBAL_DATA[[#This Row],[Kick-off]]<>""),1,0)+IF(AND(GLOBAL_DATA[[#This Row],[Status]]=In_progress,GLOBAL_DATA[[#This Row],[Implementation progress rate]]=Risk_accepted),1,0)+IF(AND(GLOBAL_DATA[[#This Row],[Status]]=In_progress,GLOBAL_DATA[[#This Row],[Implementation progress rate]]=full),1,0) -> #REF! | AU16: =IF(GLOBAL_DATA[[#This Row],[Target scope]]<>Target_Not_Applicable,COUNTBLANK(GLOBAL_DATA[[#This Row],[Target scope]:[Target justification (if<100%)]]),0)+IF(GLOBAL_DATA[[#This Row],[Status]]<>Status_No_Project,COUNTBLANK(GLOBAL_DATA[[#This Row],[Implementation progress rate]:[CISO assessment]]),0) -> 0
A17: XX | B17: XX | C17: XX | D17: XX | E17: XX | F17: XX | G17: XX | H17: XX | I17: XX | J17: XX | K17: XX | L17: XX | M17: XX | N17: =IF(GLOBAL_DATA[[#This Row],[Target scope]]="","",INDEX(DATA_TargetStatusChoice[Target_Status_Choice],MATCH(GLOBAL_DATA[[#This Row],[Target scope]],DATA_TargetStatusChoice[Value],1))) -> FULL IMPLEMENTATION | O17: 1 | P17: - | Q17: IN PROGRESS | R17: 1 | T17: XX | V17: - | W17: 43556 | X17: 43709 | Z17: =SUM(GLOBAL_DATA[[#This Row],[Initial 2020]]+GLOBAL_DATA[[#This Row],[Initial 2021]]+GLOBAL_DATA[[#This Row],[Initial 2022]]+GLOBAL_DATA[[#This Row],[Initial 2023]]) -> 0 | AA17: =SUM(GLOBAL_DATA[[#This Row],[Reestimated 2020]]+GLOBAL_DATA[[#This Row],[Reestimated 2021]]+GLOBAL_DATA[[#This Row],[Reestimated 2022]]+GLOBAL_DATA[[#This Row],[Reestimated 2023]]) -> 0 | AB17: =SUM(GLOBAL_DATA[[#This Row],[Spent 2020]]+GLOBAL_DATA[[#This Row],[Spent 2021]]+GLOBAL_DATA[[#This Row],[Spent 2022]]+GLOBAL_DATA[[#This Row],[Spent 2023]]) -> 0 | AQ17: =IF(GLOBAL_DATA[[#This Row],[Target scope]]<>Target_Not_Applicable,GLOBAL_DATA[[#This Row],[Target scope]]*GLOBAL_DATA[[#This Row],[Implementation progress rate]],"") -> 1 | AR17: =IF(OR(GLOBAL_DATA[[#This Row],[Status]]=DATA!$J$6,GLOBAL_DATA[[#This Row],[Status]]=DATA!$J$7,GLOBAL_DATA[[#This Row],[Status]]=DATA!$J$8),1,0) -> 0 | AS17: =IF(GLOBAL_DATA[[#This Row],[Status]]=Status_No_Project,"",MAX(GLOBAL_DATA[[#This Row],[Initial end]],GLOBAL_DATA[[#This Row],[Re-estimated end]],43831)) -> 43831 | AT17: =IF(AND(GLOBAL_DATA[[#This Row],[Implementation progress rate]]<100%,GLOBAL_DATA[[#This Row],[Re-estimated end]]<=[0]!ReportingDate,GLOBAL_DATA[[#This Row],[Re-estimated end]]<>""),1,0)+IF(AND(GLOBAL_DATA[[#This Row],[Implementation progress rate]]<100%,GLOBAL_DATA[[#This Row],[Initial end]]<=[0]!ReportingDate,GLOBAL_DATA[[#This Row],[Re-estimated end]]<[0]!ReportingDate,GLOBAL_DATA[[#This Row],[Re-estimated end]]<>""),1,0)+IF(AND(OR(GLOBAL_DATA[[#This Row],[Target scope]]=Target_Not_Applicable,GLOBAL_DATA[[#This Row],[Target scope]]=Risk_accepted),GLOBAL_DATA[[#This Row],[Kick-off]]<>""),1,0)+IF(AND(GLOBAL_DATA[[#This Row],[Status]]=In_progress,GLOBAL_DATA[[#This Row],[Implementation progress rate]]=Risk_accepted),1,0)+IF(AND(GLOBAL_DATA[[#This Row],[Status]]=In_progress,GLOBAL_DATA[[#This Row],[Implementation progress rate]]=full),1,0) -> #REF! | AU17: =IF(GLOBAL_DATA[[#This Row],[Target scope]]<>Target_Not_Applicable,COUNTBLANK(GLOBAL_DATA[[#This Row],[Target scope]:[Target justification (if<100%)]]),0)+IF(GLOBAL_DATA[[#This Row],[Status]]<>Status_No_Project,COUNTBLANK(GLOBAL_DATA[[#This Row],[Implementation progress rate]:[CISO assessment]]),0) -> 1
A18: XX | B18: XX | C18: XX | D18: XX | E18: XX | F18: XX | G18: XX | H18: XX | I18: XX | J18: XX | K18: XX | L18: XX | M18: XX | N18: =IF(GLOBAL_DATA[[#This Row],[Target scope]]="","",INDEX(DATA_TargetStatusChoice[Target_Status_Choice],MATCH(GLOBAL_DATA[[#This Row],[Target scope]],DATA_TargetStatusChoice[Value],1))) -> FULL IMPLEMENTATION | O18: 1 | P18: - | Q18: IN PROGRESS | R18: 0.2 | T18: XX | V18: - | Z18: =SUM(GLOBAL_DATA[[#This Row],[Initial 2020]]+GLOBAL_DATA[[#This Row],[Initial 2021]]+GLOBAL_DATA[[#This Row],[Initial 2022]]+GLOBAL_DATA[[#This Row],[Initial 2023]]) -> 0 | AA18: =SUM(GLOBAL_DATA[[#This Row],[Reestimated 2020]]+GLOBAL_DATA[[#This Row],[Reestimated 2021]]+GLOBAL_DATA[[#This Row],[Reestimated 2022]]+GLOBAL_DATA[[#This Row],[Reestimated 2023]]) -> 0 | AB18: =SUM(GLOBAL_DATA[[#This Row],[Spent 2020]]+GLOBAL_DATA[[#This Row],[Spent 2021]]+GLOBAL_DATA[[#This Row],[Spent 2022]]+GLOBAL_DATA[[#This Row],[Spent 2023]]) -> 0 | AQ18: =IF(GLOBAL_DATA[[#This Row],[Target scope]]<>Target_Not_Applicable,GLOBAL_DATA[[#This Row],[Target scope]]*GLOBAL_DATA[[#This Row],[Implementation progress rate]],"") -> 0.2 | AR18: =IF(OR(GLOBAL_DATA[[#This Row],[Status]]=DATA!$J$6,GLOBAL_DATA[[#This Row],[Status]]=DATA!$J$7,GLOBAL_DATA[[#This Row],[Status]]=DATA!$J$8),1,0) -> 0 | AS18: =IF(GLOBAL_DATA[[#This Row],[Status]]=Status_No_Project,"",MAX(GLOBAL_DATA[[#This Row],[Initial end]],GLOBAL_DATA[[#This Row],[Re-estimated end]],43831)) -> 43831 | AT18: =IF(AND(GLOBAL_DATA[[#This Row],[Implementation progress rate]]<100%,GLOBAL_DATA[[#This Row],[Re-estimated end]]<=[0]!ReportingDate,GLOBAL_DATA[[#This Row],[Re-estimated end]]<>""),1,0)+IF(AND(GLOBAL_DATA[[#This Row],[Implementation progress rate]]<100%,GLOBAL_DATA[[#This Row],[Initial end]]<=[0]!ReportingDate,GLOBAL_DATA[[#This Row],[Re-estimated end]]<[0]!ReportingDate,GLOBAL_DATA[[#This Row],[Re-estimated end]]<>""),1,0)+IF(AND(OR(GLOBAL_DATA[[#This Row],[Target scope]]=Target_Not_Applicable,GLOBAL_DATA[[#This Row],[Target scope]]=Risk_accepted),GLOBAL_DATA[[#This Row],[Kick-off]]<>""),1,0)+IF(AND(GLOBAL_DATA[[#This Row],[Status]]=In_progress,GLOBAL_DATA[[#This Row],[Implementation progress rate]]=Risk_accepted),1,0)+IF(AND(GLOBAL_DATA[[#This Row],[Status]]=In_progress,GLOBAL_DATA[[#This Row],[Implementation progress rate]]=full),1,0) -> #REF! | AU18: =IF(GLOBAL_DATA[[#This Row],[Target scope]]<>Target_Not_Applicable,COUNTBLANK(GLOBAL_DATA[[#This Row],[Target scope]:[Target justification (if<100%)]]),0)+IF(GLOBAL_DATA[[#This Row],[Status]]<>Status_No_Project,COUNTBLANK(GLOBAL_DATA[[#This Row],[Implementation progress rate]:[CISO assessment]]),0) -> 1
A19: XX | B19: XX | C19: XX | D19: XX | E19: XX | F19: XX | G19: XX | H19: XX | I19: XX | J19: XX | K19: XX | L19: XX | M19: XX | N19: =IF(GLOBAL_DATA[[#This Row],[Target scope]]="","",INDEX(DATA_TargetStatusChoice[Target_Status_Choice],MATCH(GLOBAL_DATA[[#This Row],[Target scope]],DATA_TargetStatusChoice[Value],1))) -> FULL IMPLEMENTATION | O19: 1 | P19: - | Q19: IN PROGRESS | R19: 1 | T19: XX | V19: - | Z19: =SUM(GLOBAL_DATA[[#This Row],[Initial 2020]]+GLOBAL_DATA[[#This Row],[Initial 2021]]+GLOBAL_DATA[[#This Row],[Initial 2022]]+GLOBAL_DATA[[#This Row],[Initial 2023]]) -> 0 | AA19: =SUM(GLOBAL_DATA[[#This Row],[Reestimated 2020]]+GLOBAL_DATA[[#This Row],[Reestimated 2021]]+GLOBAL_DATA[[#This Row],[Reestimated 2022]]+GLOBAL_DATA[[#This Row],[Reestimated 2023]]) -> 0 | AB19: =SUM(GLOBAL_DATA[[#This Row],[Spent 2020]]+GLOBAL_DATA[[#This Row],[Spent 2021]]+GLOBAL_DATA[[#This Row],[Spent 2022]]+GLOBAL_DATA[[#This Row],[Spent 2023]]) -> 0 | AQ19: =IF(GLOBAL_DATA[[#This Row],[Target scope]]<>Target_Not_Applicable,GLOBAL_DATA[[#This Row],[Target scope]]*GLOBAL_DATA[[#This Row],[Implementation progress rate]],"") -> 1 | AR19: =IF(OR(GLOBAL_DATA[[#This Row],[Status]]=DATA!$J$6,GLOBAL_DATA[[#This Row],[Status]]=DATA!$J$7,GLOBAL_DATA[[#This Row],[Status]]=DATA!$J$8),1,0) -> 0 | AS19: =IF(GLOBAL_DATA[[#This Row],[Status]]=Status_No_Project,"",MAX(GLOBAL_DATA[[#This Row],[Initial end]],GLOBAL_DATA[[#This Row],[Re-estimated end]],43831)) -> 43831 | AT19: =IF(AND(GLOBAL_DATA[[#This Row],[Implementation progress rate]]<100%,GLOBAL_DATA[[#This Row],[Re-estimated end]]<=[0]!ReportingDate,GLOBAL_DATA[[#This Row],[Re-estimated end]]<>""),1,0)+IF(AND(GLOBAL_DATA[[#This Row],[Implementation progress rate]]<100%,GLOBAL_DATA[[#This Row],[Initial end]]<=[0]!ReportingDate,GLOBAL_DATA[[#This Row],[Re-estimated end]]<[0]!ReportingDate,GLOBAL_DATA[[#This Row],[Re-estimated end]]<>""),1,0)+IF(AND(OR(GLOBAL_DATA[[#This Row],[Target scope]]=Target_Not_Applicable,GLOBAL_DATA[[#This Row],[Target scope]]=Risk_accepted),GLOBAL_DATA[[#This Row],[Kick-off]]<>""),1,0)+IF(AND(GLOBAL_DATA[[#This Row],[Status]]=In_progress,GLOBAL_DATA[[#This Row],[Implementation progress rate]]=Risk_accepted),1,0)+IF(AND(GLOBAL_DATA[[#This Row],[Status]]=In_progress,GLOBAL_DATA[[#This Row],[Implementation progress rate]]=full),1,0) -> #REF! | AU19: =IF(GLOBAL_DATA[[#This Row],[Target scope]]<>Target_Not_Applicable,COUNTBLANK(GLOBAL_DATA[[#This Row],[Target scope]:[Target justification (if<100%)]]),0)+IF(GLOBAL_DATA[[#This Row],[Status]]<>Status_No_Project,COUNTBLANK(GLOBAL_DATA[[#This Row],[Implementation progress rate]:[CISO assessment]]),0) -> 1
A20: XX | B20: XX | C20: XX | D20: XX | E20: XX | F20: XX | G20: XX | H20: XX | I20: XX | J20: XX | K20: XX | L20: XX | M20: XX | N20: =IF(GLOBAL_DATA[[#This Row],[Target scope]]="","",INDEX(DATA_TargetStatusChoice[Target_Status_Choice],MATCH(GLOBAL_DATA[[#This Row],[Target scope]],DATA_TargetStatusChoice[Value],1))) -> FULL IMPLEMENTATION | O20: 1 | P20: - | Q20: IN PROGRESS | R20: 0.6 | T20: XX | V20: - | Z20: =SUM(GLOBAL_DATA[[#This Row],[Initial 2020]]+GLOBAL_DATA[[#This Row],[Initial 2021]]+GLOBAL_DATA[[#This Row],[Initial 2022]]+GLOBAL_DATA[[#This Row],[Initial 2023]]) -> 0 | AA20: =SUM(GLOBAL_DATA[[#This Row],[Reestimated 2020]]+GLOBAL_DATA[[#This Row],[Reestimated 2021]]+GLOBAL_DATA[[#This Row],[Reestimated 2022]]+GLOBAL_DATA[[#This Row],[Reestimated 2023]]) -> 0 | AB20: =SUM(GLOBAL_DATA[[#This Row],[Spent 2020]]+GLOBAL_DATA[[#This Row],[Spent 2021]]+GLOBAL_DATA[[#This Row],[Spent 2022]]+GLOBAL_DATA[[#This Row],[Spent 2023]]) -> 0 | AQ20: =IF(GLOBAL_DATA[[#This Row],[Target scope]]<>Target_Not_Applicable,GLOBAL_DATA[[#This Row],[Target scope]]*GLOBAL_DATA[[#This Row],[Implementation progress rate]],"") -> 0.6 | AR20: =IF(OR(GLOBAL_DATA[[#This Row],[Status]]=DATA!$J$6,GLOBAL_DATA[[#This Row],[Status]]=DATA!$J$7,GLOBAL_DATA[[#This Row],[Status]]=DATA!$J$8),1,0) -> 0 | AS20: =IF(GLOBAL_DATA[[#This Row],[Status]]=Status_No_Project,"",MAX(GLOBAL_DATA[[#This Row],[Initial end]],GLOBAL_DATA[[#This Row],[Re-estimated end]],43831)) -> 43831 | AT20: =IF(AND(GLOBAL_DATA[[#This Row],[Implementation progress rate]]<100%,GLOBAL_DATA[[#This Row],[Re-estimated end]]<=[0]!ReportingDate,GLOBAL_DATA[[#This Row],[Re-estimated end]]<>""),1,0)+IF(AND(GLOBAL_DATA[[#This Row],[Implementation progress rate]]<100%,GLOBAL_DATA[[#This Row],[Initial end]]<=[0]!ReportingDate,GLOBAL_DATA[[#This Row],[Re-estimated end]]<[0]!ReportingDate,GLOBAL_DATA[[#This Row],[Re-estimated end]]<>""),1,0)+IF(AND(OR(GLOBAL_DATA[[#This Row],[Target scope]]=Target_Not_Applicable,GLOBAL_DATA[[#This Row],[Target scope]]=Risk_accepted),GLOBAL_DATA[[#This Row],[Kick-off]]<>""),1,0)+IF(AND(GLOBAL_DATA[[#This Row],[Status]]=In_progress,GLOBAL_DATA[[#This Row],[Implementation progress rate]]=Risk_accepted),1,0)+IF(AND(GLOBAL_DATA[[#This Row],[Status]]=In_progress,GLOBAL_DATA[[#This Row],[Implementation progress rate]]=full),1,0) -> #REF! | AU20: =IF(GLOBAL_DATA[[#This Row],[Target scope]]<>Target_Not_Applicable,COUNTBLANK(GLOBAL_DATA[[#This Row],[Target scope]:[Target justification (if<100%)]]),0)+IF(GLOBAL_DATA[[#This Row],[Status]]<>Status_No_Project,COUNTBLANK(GLOBAL_DATA[[#This Row],[Implementation progress rate]:[CISO assessment]]),0) -> 1
A21: XX | B21: XX | C21: XX | D21: XX | E21: XX | F21: XX | G21: XX | H21: XX | I21: XX | J21: XX | K21: XX | L21: XX | M21: XX | N21: =IF(GLOBAL_DATA[[#This Row],[Target scope]]="","",INDEX(DATA_TargetStatusChoice[Target_Status_Choice],MATCH(GLOBAL_DATA[[#This Row],[Target scope]],DATA_TargetStatusChoice[Value],1))) -> FULL IMPLEMENTATION | O21: 1 | P21: - | Q21: IN PROGRESS | R21: 1 | T21: XX | V21: - | Z21: =SUM(GLOBAL_DATA[[#This Row],[Initial 2020]]+GLOBAL_DATA[[#This Row],[Initial 2021]]+GLOBAL_DATA[[#This Row],[Initial 2022]]+GLOBAL_DATA[[#This Row],[Initial 2023]]) -> 0 | AA21: =SUM(GLOBAL_DATA[[#This Row],[Reestimated 2020]]+GLOBAL_DATA[[#This Row],[Reestimated 2021]]+GLOBAL_DATA[[#This Row],[Reestimated 2022]]+GLOBAL_DATA[[#This Row],[Reestimated 2023]]) -> 0 | AB21: =SUM(GLOBAL_DATA[[#This Row],[Spent 2020]]+GLOBAL_DATA[[#This Row],[Spent 2021]]+GLOBAL_DATA[[#This Row],[Spent 2022]]+GLOBAL_DATA[[#This Row],[Spent 2023]]) -> 0 | AQ21: =IF(GLOBAL_DATA[[#This Row],[Target scope]]<>Target_Not_Applicable,GLOBAL_DATA[[#This Row],[Target scope]]*GLOBAL_DATA[[#This Row],[Implementation progress rate]],"") -> 1 | AR21: =IF(OR(GLOBAL_DATA[[#This Row],[Status]]=DATA!$J$6,GLOBAL_DATA[[#This Row],[Status]]=DATA!$J$7,GLOBAL_DATA[[#This Row],[Status]]=DATA!$J$8),1,0) -> 0 | AS21: =IF(GLOBAL_DATA[[#This Row],[Status]]=Status_No_Project,"",MAX(GLOBAL_DATA[[#This Row],[Initial end]],GLOBAL_DATA[[#This Row],[Re-estimated end]],43831)) -> 43831 | AT21: =IF(AND(GLOBAL_DATA[[#This Row],[Implementation progress rate]]<100%,GLOBAL_DATA[[#This Row],[Re-estimated end]]<=[0]!ReportingDate,GLOBAL_DATA[[#This Row],[Re-estimated end]]<>""),1,0)+IF(AND(GLOBAL_DATA[[#This Row],[Implementation progress rate]]<100%,GLOBAL_DATA[[#This Row],[Initial end]]<=[0]!ReportingDate,GLOBAL_DATA[[#This Row],[Re-estimated end]]<[0]!ReportingDate,GLOBAL_DATA[[#This Row],[Re-estimated end]]<>""),1,0)+IF(AND(OR(GLOBAL_DATA[[#This Row],[Target scope]]=Target_Not_Applicable,GLOBAL_DATA[[#This Row],[Target scope]]=Risk_accepted),GLOBAL_DATA[[#This Row],[Kick-off]]<>""),1,0)+IF(AND(GLOBAL_DATA[[#This Row],[Status]]=In_progress,GLOBAL_DATA[[#This Row],[Implementation progress rate]]=Risk_accepted),1,0)+IF(AND(GLOBAL_DATA[[#This Row],[Status]]=In_progress,GLOBAL_DATA[[#This Row],[Implementation progress rate]]=full),1,0) -> #REF! | AU21: =IF(GLOBAL_DATA[[#This Row],[Target scope]]<>Target_Not_Applicable,COUNTBLANK(GLOBAL_DATA[[#This Row],[Target scope]:[Target justification (if<100%)]]),0)+IF(GLOBAL_DATA[[#This Row],[Status]]<>Status_No_Project,COUNTBLANK(GLOBAL_DATA[[#This Row],[Implementation progress rate]:[CISO assessment]]),0) -> 1
A22: XX | B22: XX | C22: XX | D22: XX | E22: XX | F22: XX | G22: XX | H22: XX | I22: XX | J22: XX | K22: XX | L22: XX | M22: XX | N22: =IF(GLOBAL_DATA[[#This Row],[Target scope]]="","",INDEX(DATA_TargetStatusChoice[Target_Status_Choice],MATCH(GLOBAL_DATA[[#This Row],[Target scope]],DATA_TargetStatusChoice[Value],1))) -> FULL IMPLEMENTATION | O22: 1 | P22: - | Q22: IN PROGRESS | R22: 1 | T22: XX | V22: - | Z22: =SUM(GLOBAL_DATA[[#This Row],[Initial 2020]]+GLOBAL_DATA[[#This Row],[Initial 2021]]+GLOBAL_DATA[[#This Row],[Initial 2022]]+GLOBAL_DATA[[#This Row],[Initial 2023]]) -> 0 | AA22: =SUM(GLOBAL_DATA[[#This Row],[Reestimated 2020]]+GLOBAL_DATA[[#This Row],[Reestimated 2021]]+GLOBAL_DATA[[#This Row],[Reestimated 2022]]+GLOBAL_DATA[[#This Row],[Reestimated 2023]]) -> 0 | AB22: =SUM(GLOBAL_DATA[[#This Row],[Spent 2020]]+GLOBAL_DATA[[#This Row],[Spent 2021]]+GLOBAL_DATA[[#This Row],[Spent 2022]]+GLOBAL_DATA[[#This Row],[Spent 2023]]) -> 0 | AQ22: =IF(GLOBAL_DATA[[#This Row],[Target scope]]<>Target_Not_Applicable,GLOBAL_DATA[[#This Row],[Target scope]]*GLOBAL_DATA[[#This Row],[Implementation progress rate]],"") -> 1 | AR22: =IF(OR(GLOBAL_DATA[[#This Row],[Status]]=DATA!$J$6,GLOBAL_DATA[[#This Row],[Status]]=DATA!$J$7,GLOBAL_DATA[[#This Row],[Status]]=DATA!$J$8),1,0) -> 0 | AS22: =IF(GLOBAL_DATA[[#This Row],[Status]]=Status_No_Project,"",MAX(GLOBAL_DATA[[#This Row],[Initial end]],GLOBAL_DATA[[#This Row],[Re-estimated end]],43831)) -> 43831 | AT22: =IF(AND(GLOBAL_DATA[[#This Row],[Implementation progress rate]]<100%,GLOBAL_DATA[[#This Row],[Re-estimated end]]<=[0]!ReportingDate,GLOBAL_DATA[[#This Row],[Re-estimated end]]<>""),1,0)+IF(AND(GLOBAL_DATA[[#This Row],[Implementation progress rate]]<100%,GLOBAL_DATA[[#This Row],[Initial end]]<=[0]!ReportingDate,GLOBAL_DATA[[#This Row],[Re-estimated end]]<[0]!ReportingDate,GLOBAL_DATA[[#This Row],[Re-estimated end]]<>""),1,0)+IF(AND(OR(GLOBAL_DATA[[#This Row],[Target scope]]=Target_Not_Applicable,GLOBAL_DATA[[#This Row],[Target scope]]=Risk_accepted),GLOBAL_DATA[[#This Row],[Kick-off]]<>""),1,0)+IF(AND(GLOBAL_DATA[[#This Row],[Status]]=In_progress,GLOBAL_DATA[[#This Row],[Implementation progress rate]]=Risk_accepted),1,0)+IF(AND(GLOBAL_DATA[[#This Row],[Status]]=In_progress,GLOBAL_DATA[[#This Row],[Implementation progress rate]]=full),1,0) -> #REF! | AU22: =IF(GLOBAL_DATA[[#This Row],[Target scope]]<>Target_Not_Applicable,COUNTBLANK(GLOBAL_DATA[[#This Row],[Target scope]:[Target justification (if<100%)]]),0)+IF(GLOBAL_DATA[[#This Row],[Status]]<>Status_No_Project,COUNTBLANK(GLOBAL_DATA[[#This Row],[Implementation progress rate]:[CISO assessment]]),0) -> 1
A23: XX | B23: XX | C23: XX | D23: XX | E23: XX | F23: XX | G23: XX | H23: XX | I23: XX | J23: XX | K23: XX | L23: XX | M23: XX | N23: =IF(GLOBAL_DATA[[#This Row],[Target scope]]="","",INDEX(DATA_TargetStatusChoice[Target_Status_Choice],MATCH(GLOBAL_DATA[[#This Row],[Target scope]],DATA_TargetStatusChoice[Value],1))) -> FULL IMPLEMENTATION | O23: 1 | P23: - | Q23: IN PROGRESS | R23: 1 | T23: XX | V23: - | Z23: =SUM(GLOBAL_DATA[[#This Row],[Initial 2020]]+GLOBAL_DATA[[#This Row],[Initial 2021]]+GLOBAL_DATA[[#This Row],[Initial 2022]]+GLOBAL_DATA[[#This Row],[Initial 2023]]) -> 0 | AA23: =SUM(GLOBAL_DATA[[#This Row],[Reestimated 2020]]+GLOBAL_DATA[[#This Row],[Reestimated 2021]]+GLOBAL_DATA[[#This Row],[Reestimated 2022]]+GLOBAL_DATA[[#This Row],[Reestimated 2023]]) -> 0 | AB23: =SUM(GLOBAL_DATA[[#This Row],[Spent 2020]]+GLOBAL_DATA[[#This Row],[Spent 2021]]+GLOBAL_DATA[[#This Row],[Spent 2022]]+GLOBAL_DATA[[#This Row],[Spent 2023]]) -> 0 | AQ23: =IF(GLOBAL_DATA[[#This Row],[Target scope]]<>Target_Not_Applicable,GLOBAL_DATA[[#This Row],[Target scope]]*GLOBAL_DATA[[#This Row],[Implementation progress rate]],"") -> 1 | AR23: =IF(OR(GLOBAL_DATA[[#This Row],[Status]]=DATA!$J$6,GLOBAL_DATA[[#This Row],[Status]]=DATA!$J$7,GLOBAL_DATA[[#This Row],[Status]]=DATA!$J$8),1,0) -> 0 | AS23: =IF(GLOBAL_DATA[[#This Row],[Status]]=Status_No_Project,"",MAX(GLOBAL_DATA[[#This Row],[Initial end]],GLOBAL_DATA[[#This Row],[Re-estimated end]],43831)) -> 43831 | AT23: =IF(AND(GLOBAL_DATA[[#This Row],[Implementation progress rate]]<100%,GLOBAL_DATA[[#This Row],[Re-estimated end]]<=[0]!ReportingDate,GLOBAL_DATA[[#This Row],[Re-estimated end]]<>""),1,0)+IF(AND(GLOBAL_DATA[[#This Row],[Implementation progress rate]]<100%,GLOBAL_DATA[[#This Row],[Initial end]]<=[0]!ReportingDate,GLOBAL_DATA[[#This Row],[Re-estimated end]]<[0]!ReportingDate,GLOBAL_DATA[[#This Row],[Re-estimated end]]<>""),1,0)+IF(AND(OR(GLOBAL_DATA[[#This Row],[Target scope]]=Target_Not_Applicable,GLOBAL_DATA[[#This Row],[Target scope]]=Risk_accepted),GLOBAL_DATA[[#This Row],[Kick-off]]<>""),1,0)+IF(AND(GLOBAL_DATA[[#This Row],[Status]]=In_progress,GLOBAL_DATA[[#This Row],[Implementation progress rate]]=Risk_accepted),1,0)+IF(AND(GLOBAL_DATA[[#This Row],[Status]]=In_progress,GLOBAL_DATA[[#This Row],[Implementation progress rate]]=full),1,0) -> #REF! | AU23: =IF(GLOBAL_DATA[[#This Row],[Target scope]]<>Target_Not_Applicable,COUNTBLANK(GLOBAL_DATA[[#This Row],[Target scope]:[Target justification (if<100%)]]),0)+IF(GLOBAL_DATA[[#This Row],[Status]]<>Status_No_Project,COUNTBLANK(GLOBAL_DATA[[#This Row],[Implementation progress rate]:[CISO assessment]]),0) -> 1
A24: XX | B24: XX | C24: XX | D24: XX | E24: XX | F24: XX | G24: XX | H24: XX | I24: XX | J24: XX | K24: XX | L24: XX | M24: XX | N24: =IF(GLOBAL_DATA[[#This Row],[Target scope]]="","",INDEX(DATA_TargetStatusChoice[Target_Status_Choice],MATCH(GLOBAL_DATA[[#This Row],[Target scope]],DATA_TargetStatusChoice[Value],1))) -> FULL IMPLEMENTATION | O24: 1 | P24: - | Q24: IN PROGRESS | R24: 1 | T24: XX | V24: - | Z24: =SUM(GLOBAL_DATA[[#This Row],[Initial 2020]]+GLOBAL_DATA[[#This Row],[Initial 2021]]+GLOBAL_DATA[[#This Row],[Initial 2022]]+GLOBAL_DATA[[#This Row],[Initial 2023]]) -> 0 | AA24: =SUM(GLOBAL_DATA[[#This Row],[Reestimated 2020]]+GLOBAL_DATA[[#This Row],[Reestimated 2021]]+GLOBAL_DATA[[#This Row],[Reestimated 2022]]+GLOBAL_DATA[[#This Row],[Reestimated 2023]]) -> 0 | AB24: =SUM(GLOBAL_DATA[[#This Row],[Spent 2020]]+GLOBAL_DATA[[#This Row],[Spent 2021]]+GLOBAL_DATA[[#This Row],[Spent 2022]]+GLOBAL_DATA[[#This Row],[Spent 2023]]) -> 0 | AQ24: =IF(GLOBAL_DATA[[#This Row],[Target scope]]<>Target_Not_Applicable,GLOBAL_DATA[[#This Row],[Target scope]]*GLOBAL_DATA[[#This Row],[Implementation progress rate]],"") -> 1 | AR24: =IF(OR(GLOBAL_DATA[[#This Row],[Status]]=DATA!$J$6,GLOBAL_DATA[[#This Row],[Status]]=DATA!$J$7,GLOBAL_DATA[[#This Row],[Status]]=DATA!$J$8),1,0) -> 0 | AS24: =IF(GLOBAL_DATA[[#This Row],[Status]]=Status_No_Project,"",MAX(GLOBAL_DATA[[#This Row],[Initial end]],GLOBAL_DATA[[#This Row],[Re-estimated end]],43831)) -> 43831 | AT24: =IF(AND(GLOBAL_DATA[[#This Row],[Implementation progress rate]]<100%,GLOBAL_DATA[[#This Row],[Re-estimated end]]<=[0]!ReportingDate,GLOBAL_DATA[[#This Row],[Re-estimated end]]<>""),1,0)+IF(AND(GLOBAL_DATA[[#This Row],[Implementation progress rate]]<100%,GLOBAL_DATA[[#This Row],[Initial end]]<=[0]!ReportingDate,GLOBAL_DATA[[#This Row],[Re-estimated end]]<[0]!ReportingDate,GLOBAL_DATA[[#This Row],[Re-estimated end]]<>""),1,0)+IF(AND(OR(GLOBAL_DATA[[#This Row],[Target scope]]=Target_Not_Applicable,GLOBAL_DATA[[#This Row],[Target scope]]=Risk_accepted),GLOBAL_DATA[[#This Row],[Kick-off]]<>""),1,0)+IF(AND(GLOBAL_DATA[[#This Row],[Status]]=In_progress,GLOBAL_DATA[[#This Row],[Implementation progress rate]]=Risk_accepted),1,0)+IF(AND(GLOBAL_DATA[[#This Row],[Status]]=In_progress,GLOBAL_DATA[[#This Row],[Implementation progress rate]]=full),1,0) -> #REF! | AU24: =IF(GLOBAL_DATA[[#This Row],[Target scope]]<>Target_Not_Applicable,COUNTBLANK(GLOBAL_DATA[[#This Row],[Target scope]:[Target justification (if<100%)]]),0)+IF(GLOBAL_DATA[[#This Row],[Status]]<>Status_No_Project,COUNTBLANK(GLOBAL_DATA[[#This Row],[Implementation progress rate]:[CISO assessment]]),0) -> 1
A25: XX | B25: XX | C25: XX | D25: XX | E25: XX | F25: XX | G25: XX | H25: XX | I25: XX | J25: XX | K25: XX | L25: XX | M25: XX | N25: =IF(GLOBAL_DATA[[#This Row],[Target scope]]="","",INDEX(DATA_TargetStatusChoice[Target_Status_Choice],MATCH(GLOBAL_DATA[[#This Row],[Target scope]],DATA_TargetStatusChoice[Value],1))) -> FULL IMPLEMENTATION | O25: 1 | P25: - | Q25: IN PROGRESS | R25: 0 | T25: XX | V25: - | Z25: =SUM(GLOBAL_DATA[[#This Row],[Initial 2020]]+GLOBAL_DATA[[#This Row],[Initial 2021]]+GLOBAL_DATA[[#This Row],[Initial 2022]]+GLOBAL_DATA[[#This Row],[Initial 2023]]) -> 0 | AA25: =SUM(GLOBAL_DATA[[#This Row],[Reestimated 2020]]+GLOBAL_DATA[[#This Row],[Reestimated 2021]]+GLOBAL_DATA[[#This Row],[Reestimated 2022]]+GLOBAL_DATA[[#This Row],[Reestimated 2023]]) -> 0 | AB25: =SUM(GLOBAL_DATA[[#This Row],[Spent 2020]]+GLOBAL_DATA[[#This Row],[Spent 2021]]+GLOBAL_DATA[[#This Row],[Spent 2022]]+GLOBAL_DATA[[#This Row],[Spent 2023]]) -> 0 | AQ25: =IF(GLOBAL_DATA[[#This Row],[Target scope]]<>Target_Not_Applicable,GLOBAL_DATA[[#This Row],[Target scope]]*GLOBAL_DATA[[#This Row],[Implementation progress rate]],"") -> 0 | AR25: =IF(OR(GLOBAL_DATA[[#This Row],[Status]]=DATA!$J$6,GLOBAL_DATA[[#This Row],[Status]]=DATA!$J$7,GLOBAL_DATA[[#This Row],[Status]]=DATA!$J$8),1,0) -> 0 | AS25: =IF(GLOBAL_DATA[[#This Row],[Status]]=Status_No_Project,"",MAX(GLOBAL_DATA[[#This Row],[Initial end]],GLOBAL_DATA[[#This Row],[Re-estimated end]],43831)) -> 43831 | AT25: =IF(AND(GLOBAL_DATA[[#This Row],[Implementation progress rate]]<100%,GLOBAL_DATA[[#This Row],[Re-estimated end]]<=[0]!ReportingDate,GLOBAL_DATA[[#This Row],[Re-estimated end]]<>""),1,0)+IF(AND(GLOBAL_DATA[[#This Row],[Implementation progress rate]]<100%,GLOBAL_DATA[[#This Row],[Initial end]]<=[0]!ReportingDate,GLOBAL_DATA[[#This Row],[Re-estimated end]]<[0]!ReportingDate,GLOBAL_DATA[[#This Row],[Re-estimated end]]<>""),1,0)+IF(AND(OR(GLOBAL_DATA[[#This Row],[Target scope]]=Target_Not_Applicable,GLOBAL_DATA[[#This Row],[Target scope]]=Risk_accepted),GLOBAL_DATA[[#This Row],[Kick-off]]<>""),1,0)+IF(AND(GLOBAL_DATA[[#This Row],[Status]]=In_progress,GLOBAL_DATA[[#This Row],[Implementation progress rate]]=Risk_accepted),1,0)+IF(AND(GLOBAL_DATA[[#This Row],[Status]]=In_progress,GLOBAL_DATA[[#This Row],[Implementation progress rate]]=full),1,0) -> #REF! | AU25: =IF(GLOBAL_DATA[[#This Row],[Target scope]]<>Target_Not_Applicable,COUNTBLANK(GLOBAL_DATA[[#This Row],[Target scope]:[Target justification (if<100%)]]),0)+IF(GLOBAL_DATA[[#This Row],[Status]]<>Status_No_Project,COUNTBLANK(GLOBAL_DATA[[#This Row],[Implementation progress rate]:[CISO assessment]]),0) -> 1
