Workbook

Sheet Noms à classer
A1: Noms à classer:
A2: Cristophe
A3: Elisabeth
A4: Kevin
A5: Leon
A6: Nicole
A7: Nolan
A8: Olivier
A9: Pascal
A10: Paul
A11: Raphael
A12: Sylvie
... A15: Xavier

Sheet Tableau1
A1: A&B | B1: Date | C1: A | D1: B
A2: =C2&D2 -> PaulVeronique | B2: 41503 | C2: Paul | D2: Veronique
A3: =C3&D3 -> PascalXavier | B3: 41503 | C3: Pascal | D3: Xavier
A4: =C4&D4 -> LeonRaphael | B4: 41518 | C4: Leon | D4: Raphael
A5: =C5&D5 -> CristopheNicole | B5: 41504 | C5: Cristophe | D5: Nicole
A6: =C6&D6 -> VickyElisabeth | B6: 41518 | C6: Vicky | D6: Elisabeth
A7: =C7&D7 -> KevinOlivier | B7: 41505 | C7: Kevin | D7: Olivier
A8: =C8&D8 -> ElisabethPascal | C8: Elisabeth | D8: Pascal
A9: =C9&D9 -> VeroniqueCristophe | B9: 41510 | C9: Veronique | D9: Cristophe
A10: =C10&D10 -> NicoleVicky | B10: 41510 | C10: Nicole | D10: Vicky
A11: =C11&D11 -> PaulSylvie | B11: 41511 | C11: Paul | D11: Sylvie
A12: =C12&D12 -> XavierRaphael | B12: 41511 | C12: Xavier | D12: Raphael
A13: =C13&D13 -> VickyVeronique | B13: 41517 | C13: Vicky | D13: Veronique
A14: =C14&D14 -> RaphaelElisabeth | B14: 41504 | C14: Raphael | D14: Elisabeth
A15: =C15&D15 -> PascalNicole | B15: 41518 | C15: Pascal | D15: Nicole
A16: =C16&D16 -> SylvieNolan | B16: 41518 | C16: Sylvie | D16: Nolan
A17: =C17&D17 -> LeonOlivier | B17: 41504 | C17: Leon | D17: Olivier
A18: =C18&D18 -> CristophePaul | B18: 41519 | C18: Cristophe | D18: Paul
A19: =C19&D19 -> VeroniquePascal | B19: 41531 | C19: Veronique | D19: Pascal
A20: =C20&D20 -> OlivierXavier | B20: 41531 | C20: Olivier | D20: Xavier
... A135: =C135&D135 -> RaphaelVicky | B135: 41686 | C135: Raphael | D135: Vicky
A136: =C136&D136
A137: =C137&D137
A138: =C138&D138
A139: =C139&D139
A140: =C140&D140
A141: =C141&D141
A142: =C142&D142
A143: =C143&D143
A144: =C144&D144
A145: =C145&D145
A146: =C146&D146
A147: =C147&D147
... A162: =C162&D162
A163: =C163&D163 | F163: =H163&I163
A164: =C164&D164 | F164: =H164&I164
A165: =C165&D165 | F165: =H165&I165
A166: =C166&D166 | F166: =H166&I166
A167: =C167&D167 | F167: =H167&I167
A168: =C168&D168 | F168: =H168&I168
...

Sheet Tableau2
A1: AB | B1: date | C1: A | D1: B
A2: =C2&D2 -> NolanNicole | B2: 41496 | C2: Nolan | D2: Nicole
A3: =C3&D3 -> YvanBrigitte | B3: 41496 | C3: Yvan | D3: Brigitte
A4: =C4&D4 -> MaxenceLeon | B4: 41497 | C4: Maxence | D4: Leon
A5: =C5&D5 -> XavierPascal | B5: 41497 | C5: Xavier | D5: Pascal
A6: =C6&D6 -> VickyKevin | B6: 41496 | C6: Vicky | D6: Kevin
A7: =C7&D7 -> LéaFrancois | B7: 41496 | C7: Léa | D7: Francois
A8: =C8&D8 -> BrigitteXavier | B8: 41503 | C8: Brigitte | D8: Xavier
A9: =C9&D9 -> KevinNolan | B9: 41504 | C9: Kevin | D9: Nolan
A10: =C10&D10 -> LeonLéa | B10: 41519 | C10: Leon | D10: Léa
A11: =C11&D11 -> FrancoisMaxence | B11: 41503 | C11: Francois | D11: Maxence
A12: =C12&D12 -> MelanieYvan | B12: 41503 | C12: Melanie | D12: Yvan
A13: =C13&D13 -> PascalVicky | B13: 41503 | C13: Pascal | D13: Vicky
... A162: =C162&D162 -> NicoleYvan | B162: 41746 | C162: Nicole | D162: Yvan

Sheet Tableau3
A1: A&B | B1: Date | C1: A | D1: B
A2: =Tableau3[[#This Row],[A]]&Tableau3[[#This Row],[B]]
A3: =Tableau3[[#This Row],[A]]&Tableau3[[#This Row],[B]]
A4: =Tableau3[[#This Row],[A]]&Tableau3[[#This Row],[B]]
A5: =Tableau3[[#This Row],[A]]&Tableau3[[#This Row],[B]]
A6: =Tableau3[[#This Row],[A]]&Tableau3[[#This Row],[B]]
A7: =Tableau3[[#This Row],[A]]&Tableau3[[#This Row],[B]]
A8: =Tableau3[[#This Row],[A]]&Tableau3[[#This Row],[B]]
A9: =Tableau3[[#This Row],[A]]&Tableau3[[#This Row],[B]]
A10: =Tableau3[[#This Row],[A]]&Tableau3[[#This Row],[B]]
A11: =Tableau3[[#This Row],[A]]&Tableau3[[#This Row],[B]]
A12: =Tableau3[[#This Row],[A]]&Tableau3[[#This Row],[B]]
A13: =Tableau3[[#This Row],[A]]&Tableau3[[#This Row],[B]]
... A252: =Tableau3[[#This Row],[A]]&Tableau3[[#This Row],[B]]

Sheet Tableau4
A1: A&B | B1: Date | C1: A | D1: B
A2: =Tableau4[[#This Row],[A]]&Tableau4[[#This Row],[B]]
A3: =Tableau4[[#This Row],[A]]&Tableau4[[#This Row],[B]]
A4: =Tableau4[[#This Row],[A]]&Tableau4[[#This Row],[B]]
A5: =Tableau4[[#This Row],[A]]&Tableau4[[#This Row],[B]]
A6: =Tableau4[[#This Row],[A]]&Tableau4[[#This Row],[B]]
A7: =Tableau4[[#This Row],[A]]&Tableau4[[#This Row],[B]]
A8: =Tableau4[[#This Row],[A]]&Tableau4[[#This Row],[B]]
A9: =Tableau4[[#This Row],[A]]&Tableau4[[#This Row],[B]]
A10: =Tableau4[[#This Row],[A]]&Tableau4[[#This Row],[B]]
A11: =Tableau4[[#This Row],[A]]&Tableau4[[#This Row],[B]]
A12: =Tableau4[[#This Row],[A]]&Tableau4[[#This Row],[B]]
A13: =Tableau4[[#This Row],[A]]&Tableau4[[#This Row],[B]]
... A268: =Tableau4[[#This Row],[A]]&Tableau4[[#This Row],[B]]

Sheet Tableau5
A1: A&B | B1: Date | C1: A | D1: B
A2: =Tableau5[[#This Row],[A]]&Tableau5[[#This Row],[B]]
A3: =Tableau5[[#This Row],[A]]&Tableau5[[#This Row],[B]]
A4: =Tableau5[[#This Row],[A]]&Tableau5[[#This Row],[B]]
A5: =Tableau5[[#This Row],[A]]&Tableau5[[#This Row],[B]]
A6: =Tableau5[[#This Row],[A]]&Tableau5[[#This Row],[B]]
A7: =Tableau5[[#This Row],[A]]&Tableau5[[#This Row],[B]]
A8: =Tableau5[[#This Row],[A]]&Tableau5[[#This Row],[B]]
A9: =Tableau5[[#This Row],[A]]&Tableau5[[#This Row],[B]]
A10: =Tableau5[[#This Row],[A]]&Tableau5[[#This Row],[B]]
A11: =Tableau5[[#This Row],[A]]&Tableau5[[#This Row],[B]]
A12: =Tableau5[[#This Row],[A]]&Tableau5[[#This Row],[B]]
A13: =Tableau5[[#This Row],[A]]&Tableau5[[#This Row],[B]]
... A135: =Tableau5[[#This Row],[A]]&Tableau5[[#This Row],[B]]

Sheet Tab de Classement
A1: Classement | B1: par odre croissant :
A2: nom | B2: 1 | C2: 2 | D2: 3 | E2: 4 | F2: 5 | G2: 6 | H2: 7 | I2: 8 | J2: 9 | K2: 10 | L2: 11 | M2: 12 | N2: 13 | O2: 14 | P2: 15 | Q2: 16 | R2: 17 | S2: 18 | T2: 19 | U2: 20 | V2: 21 | W2: 22 | X2: 23 | Y2: 24 | Z2: 25 | AA2: 26 | AB2: 27 | AC2: 28 | AD2: 29 | AE2: 30 | AF2: 31 | AG2: 32 | AH2: 33 | AI2: 34 | AJ2: 35 | AK2: 36 | AL2: 37 | AM2: 38 | AN2: 39 | AO2: 40 | AP2: 41 | AQ2: 42 | AR2: 43 | AS2: 44 | AT2: 45 | AU2: 46 | AV2: 47 | AW2: 48 | AX2: 49 | AY2: 50 | AZ2: etc.
A3: ='Noms à classer'!A2 -> Cristophe
A4: ='Noms à classer'!A3 -> Elisabeth | B4: {=IF(TabClassement[[#This Row],[nom]]=0,"",IF(B$2*1>VLOOKUP(TabClassement[[#This Row],[nom]],Tabnombre[],2,FALSE),"",IF(B$2*1>COUNTIF(Tableau1[A&B],"*"&TabClassement[[#This Row],[nom]]&"*")-COUNTIFS(Tableau1[Date],"",Tableau1[A&B],"*"&TabClassement[[#This Row],[nom]]&"*"),"",SMALL(IF(ISNUMBER(FIND(TabClassement[[#This Row],[nom]],Tableau1[A&B],1)),Tableau1[Date],"x"),COUNTIFS(Tableau1[Date],"",Tableau1[A&B],"*"&TabClassement[[#This Row],[nom]]&"*")+B$2))))} -> 41504 | C4: {=IF(TabClassement[[#This Row],[nom]]=0,"",IF(C$2*1>VLOOKUP(TabClassement[[#This Row],[nom]],Tabnombre[],2,FALSE),"",IF(C$2*1>COUNTIF(Tableau1[A&B],"*"&TabClassement[[#This Row],[nom]]&"*")-COUNTIFS(Tableau1[Date],"",Tableau1[A&B],"*"&TabClassement[[#This Row],[nom]]&"*"),"",SMALL(IF(ISNUMBER(FIND(TabClassement[[#This Row],[nom]],Tableau1[A&B],1)),Tableau1[Date],"x"),COUNTIFS(Tableau1[Date],"",Tableau1[A&B],"*"&TabClassement[[#This Row],[nom]]&"*")+C$2))))} -> 41518 | D4: {=IF(TabClassement[[#This Row],[nom]]=0,"",IF(D$2*1>VLOOKUP(TabClassement[[#This Row],[nom]],Tabnombre[],2,FALSE),"",IF(D$2*1>COUNTIF(Tableau1[A&B],"*"&TabClassement[[#This Row],[nom]]&"*")-COUNTIFS(Tableau1[Date],"",Tableau1[A&B],"*"&TabClassement[[#This Row],[nom]]&"*"),"",SMALL(IF(ISNUMBER(FIND(TabClassement[[#This Row],[nom]],Tableau1[A&B],1)),Tableau1[Date],"x"),COUNTIFS(Tableau1[Date],"",Tableau1[A&B],"*"&TabClassement[[#This Row],[nom]]&"*")+D$2))))} -> 41539 | E4: {=IF(TabClassement[[#This Row],[nom]]=0,"",IF(E$2*1>VLOOKUP(TabClassement[[#This Row],[nom]],Tabnombre[],2,FALSE),"",IF(E$2*1>COUNTIF(Tableau1[A&B],"*"&TabClassement[[#This Row],[nom]]&"*")-COUNTIFS(Tableau1[Date],"",Tableau1[A&B],"*"&TabClassement[[#This Row],[nom]]&"*"),"",SMALL(IF(ISNUMBER(FIND(TabClassement[[#This Row],[nom]],Tableau1[A&B],1)),Tableau1[Date],"x"),COUNTIFS(Tableau1[Date],"",Tableau1[A&B],"*"&TabClassement[[#This Row],[nom]]&"*")+E$2))))} -> 41567 | F4: {=IF(TabClassement[[#This Row],[nom]]=0,"",IF(F$2*1>VLOOKUP(TabClassement[[#This Row],[nom]],Tabnombre[],2,FALSE),"",IF(F$2*1>COUNTIF(Tableau1[A&B],"*"&TabClassement[[#This Row],[nom]]&"*")-COUNTIFS(Tableau1[Date],"",Tableau1[A&B],"*"&TabClassement[[#This Row],[nom]]&"*"),"",SMALL(IF(ISNUMBER(FIND(TabClassement[[#This Row],[nom]],Tableau1[A&B],1)),Tableau1[Date],"x"),COUNTIFS(Tableau1[Date],"",Tableau1[A&B],"*"&TabClassement[[#This Row],[nom]]&"*")+F$2))))} -> 41575 | G4: {=IF(TabClassement[[#This Row],[nom]]=0,"",IF(G$2*1>VLOOKUP(TabClassement[[#This Row],[nom]],Tabnombre[],2,FALSE),"",IF(G$2*1>COUNTIF(Tableau1[A&B],"*"&TabClassement[[#This Row],[nom]]&"*")-COUNTIFS(Tableau1[Date],"",Tableau1[A&B],"*"&TabClassement[[#This Row],[nom]]&"*"),"",SMALL(IF(ISNUMBER(FIND(TabClassement[[#This Row],[nom]],Tableau1[A&B],1)),Tableau1[Date],"x"),COUNTIFS(Tableau1[Date],"",Tableau1[A&B],"*"&TabClassement[[#This Row],[nom]]&"*")+G$2))))} -> 41588 | H4: {=IF(TabClassement[[#This Row],[nom]]=0,"",IF(H$2*1>VLOOKUP(TabClassement[[#This Row],[nom]],Tabnombre[],2,FALSE),"",IF(H$2*1>COUNTIF(Tableau1[A&B],"*"&TabClassement[[#This Row],[nom]]&"*")-COUNTIFS(Tableau1[Date],"",Tableau1[A&B],"*"&TabClassement[[#This Row],[nom]]&"*"),"",SMALL(IF(ISNUMBER(FIND(TabClassement[[#This Row],[nom]],Tableau1[A&B],1)),Tableau1[Date],"x"),COUNTIFS(Tableau1[Date],"",Tableau1[A&B],"*"&TabClassement[[#This Row],[nom]]&"*")+H$2))))} -> 41602 | I4: {=IF(TabClassement[[#This Row],[nom]]=0,"",IF(I$2*1>VLOOKUP(TabClassement[[#This Row],[nom]],Tabnombre[],2,FALSE),"",IF(I$2*1>COUNTIF(Tableau1[A&B],"*"&TabClassement[[#This Row],[nom]]&"*")-COUNTIFS(Tableau1[Date],"",Tableau1[A&B],"*"&TabClassement[[#This Row],[nom]]&"*"),"",SMALL(IF(ISNUMBER(FIND(TabClassement[[#This Row],[nom]],Tableau1[A&B],1)),Tableau1[Date],"x"),COUNTIFS(Tableau1[Date],"",Tableau1[A&B],"*"&TabClassement[[#This Row],[nom]]&"*")+I$2))))} -> 41608 | ... W4: {=IF(TabClassement[[#This Row],[nom]]=0,"",IF(W$2*1>VLOOKUP(TabClassement[[#This Row],[nom]],Tabnombre[],2,FALSE),"",IF(W$2*1>COUNTIF(Tableau1[A&B],"*"&TabClassement[[#This Row],[nom]]&"*")-COUNTIFS(Tableau1[Date],"",Tableau1[A&B],"*"&TabClassement[[#This Row],[nom]]&"*"),"",SMALL(IF(ISNUMBER(FIND(TabClassement[[#This Row],[nom]],Tableau1[A&B],1)),Tableau1[Date],"x"),COUNTIFS(Tableau1[Date],"",Tableau1[A&B],"*"&TabClassement[[#This Row],[nom]]&"*")+W$2))))}
A5: ='Noms à classer'!A4 -> Kevin
A6: ='Noms à classer'!A5 -> Leon | B6: 41497 | C6: 41503 | D6: 41504 | E6: 41518 | F6: 41519 | G6: 41528 | H6: 41530 | I6: 41539 | J6: 41552 | K6: 41553 | L6: 41567 | M6: 41572 | N6: 41573 | O6: 41581 | P6: 41588 | Q6: 41589 | R6: 41600 | S6: 41603 | T6: 41608 | U6: 41609 | V6: 41615 | W6: 41616 | X6: 41622 | Y6: 41623 | Z6: 41626 | AA6: 41630 | AB6: 41644 | AC6: 41657 | AD6: 41664 | AE6: 41671 | AF6: 41675 | AG6: 41679 | AH6: 41685 | AI6: 41692 | AJ6: 41700 | AK6: 41713 | AL6: 41720 | AM6: 41724 | AN6: 41734 | AO6: 41741
A7: ='Noms à classer'!A6 -> Nicole
A8: ='Noms à classer'!A7 -> Nolan
A9: ='Noms à classer'!A8 -> Olivier
A10: ='Noms à classer'!A9 -> Pascal
A11: ='Noms à classer'!A10 -> Paul
A12: ='Noms à classer'!A11 -> Raphael
A13: ='Noms à classer'!A12 -> Sylvie
A14: ='Noms à classer'!A13 -> Veronique
A15: ='Noms à classer'!A14 -> Vicky
A16: ='Noms à classer'!A15 -> Xavier
A18: Bonjour,
A20: J'aimerais créer une formule en VBA pour classer les dates par ordre croissant en B2:AY2 associées aux noms en A3:A16 du tableau ci-dessus
A21: en cherchant dans plusieurs tableaux différents (jusqu'à 5 possibles)
A22: Les noms sont dans 2 colonnes pour chaque tableau,
B23: j'avais mis une colonne avec la formule Concatener qui regroupe les noms des 2 colonnes pour simplifier les recherches dans chaque tableau
B24: mais se n'est pas obligatoire de rechercher via la concatenation si vous pensez que ce n'est pas utile et tant que ca ne consomme pas trop de mémoire en recherchant dans toutes les colonnes (jusqu’à 10 du coup)
A25: Petite précision, les noms que je dois classer sont répertoriés dans l'onglet "Noms à classer", ce sont les noms qui sont dans le tableau 1
A27: La ligne bleue du tableau classement ci-dessus est le résultat de la formule matricielle que j'utilise en ce moment mais qui classe les dates seulement pour le tableau 1
A28: La ligne jaune représente le résultat recherché pour "Leon"
B29: pour faciiter la compréhenssion, j'ai mis en police noire les dates trouvées dans le tableau 1 et en police rouge celles dans le tableau 2
B30: il ne peut pas y avoir deux fois la même date par nom dans tous les tableaux confondus (si c'est le cas dans ce fichier exemple, c'est une erreur de ma part)
B31: il peut y avoir des noms renseignés en colonne A ou B de chaque tableau avec aucune date associée (la date peut être ajoutée plus tard dans la base de donnée)
B32: et j'ai besoin que la formule ne renvoie pas d'erreur du type #Nombre ou autre lorsqu'il n'y pas de date au rang 41 et + (pour l'exemple de Léon)
C33: j'avais pensé passer par un tableau intermédiaire qui compte le nombre de fois que le nom apparait dans tous les tableaux pour ne pas renvoyer un classement qui n'existe pas
C34: si il y a plus simple je suis preneur évidemment ;)
A37: J'espere avoir été clair et merci d'avance pour votre aide

Sheet Tab intermédiaire
A2: nom | B2: nombre de fois
A3: ='Noms à classer'!A2 -> Cristophe | B3: =COUNTIFS(Tableau1[A],Tabnombre[[#This Row],[nom]],Tableau1[Date],"<>"&"")+COUNTIFS(Tableau2[A],Tabnombre[[#This Row],[nom]],Tableau2[date],"<>"&"")+COUNTIFS(Tableau3[A],Tabnombre[[#This Row],[nom]],Tableau3[Date],"<>"&"")+COUNTIFS(Tableau4[A],Tabnombre[[#This Row],[nom]],Tableau4[Date],"<>"&"")+COUNTIFS(Tableau5[A],Tabnombre[[#This Row],[nom]],Tableau5[Date],"<>"&"")+COUNTIFS(Tableau1[B],Tabnombre[[#This Row],[nom]],Tableau1[Date],"<>"&"")+COUNTIFS(Tableau2[B],Tabnombre[[#This Row],[nom]],Tableau2[date],"<>"&"")+COUNTIFS(Tableau3[B],Tabnombre[[#This Row],[nom]],Tableau3[Date],"<>"&"")+COUNTIFS(Tableau4[B],Tabnombre[[#This Row],[nom]],Tableau4[Date],"<>"&"")+COUNTIFS(Tableau5[B],Tabnombre[[#This Row],[nom]],Tableau5[Date],"<>"&"") -> 20
A4: ='Noms à classer'!A3 -> Elisabeth | B4: =COUNTIFS(Tableau1[A],Tabnombre[[#This Row],[nom]],Tableau1[Date],"<>"&"")+COUNTIFS(Tableau2[A],Tabnombre[[#This Row],[nom]],Tableau2[date],"<>"&"")+COUNTIFS(Tableau3[A],Tabnombre[[#This Row],[nom]],Tableau3[Date],"<>"&"")+COUNTIFS(Tableau4[A],Tabnombre[[#This Row],[nom]],Tableau4[Date],"<>"&"")+COUNTIFS(Tableau5[A],Tabnombre[[#This Row],[nom]],Tableau5[Date],"<>"&"")+COUNTIFS(Tableau1[B],Tabnombre[[#This Row],[nom]],Tableau1[Date],"<>"&"")+COUNTIFS(Tableau2[B],Tabnombre[[#This Row],[nom]],Tableau2[date],"<>"&"")+COUNTIFS(Tableau3[B],Tabnombre[[#This Row],[nom]],Tableau3[Date],"<>"&"")+COUNTIFS(Tableau4[B],Tabnombre[[#This Row],[nom]],Tableau4[Date],"<>"&"")+COUNTIFS(Tableau5[B],Tabnombre[[#This Row],[nom]],Tableau5[Date],"<>"&"") -> 17
A5: ='Noms à classer'!A4 -> Kevin | B5: =COUNTIFS(Tableau1[A],Tabnombre[[#This Row],[nom]],Tableau1[Date],"<>"&"")+COUNTIFS(Tableau2[A],Tabnombre[[#This Row],[nom]],Tableau2[date],"<>"&"")+COUNTIFS(Tableau3[A],Tabnombre[[#This Row],[nom]],Tableau3[Date],"<>"&"")+COUNTIFS(Tableau4[A],Tabnombre[[#This Row],[nom]],Tableau4[Date],"<>"&"")+COUNTIFS(Tableau5[A],Tabnombre[[#This Row],[nom]],Tableau5[Date],"<>"&"")+COUNTIFS(Tableau1[B],Tabnombre[[#This Row],[nom]],Tableau1[Date],"<>"&"")+COUNTIFS(Tableau2[B],Tabnombre[[#This Row],[nom]],Tableau2[date],"<>"&"")+COUNTIFS(Tableau3[B],Tabnombre[[#This Row],[nom]],Tableau3[Date],"<>"&"")+COUNTIFS(Tableau4[B],Tabnombre[[#This Row],[nom]],Tableau4[Date],"<>"&"")+COUNTIFS(Tableau5[B],Tabnombre[[#This Row],[nom]],Tableau5[Date],"<>"&"") -> 40
A6: ='Noms à classer'!A5 -> Leon | B6: =COUNTIFS(Tableau1[A],Tabnombre[[#This Row],[nom]],Tableau1[Date],"<>"&"")+COUNTIFS(Tableau2[A],Tabnombre[[#This Row],[nom]],Tableau2[date],"<>"&"")+COUNTIFS(Tableau3[A],Tabnombre[[#This Row],[nom]],Tableau3[Date],"<>"&"")+COUNTIFS(Tableau4[A],Tabnombre[[#This Row],[nom]],Tableau4[Date],"<>"&"")+COUNTIFS(Tableau5[A],Tabnombre[[#This Row],[nom]],Tableau5[Date],"<>"&"")+COUNTIFS(Tableau1[B],Tabnombre[[#This Row],[nom]],Tableau1[Date],"<>"&"")+COUNTIFS(Tableau2[B],Tabnombre[[#This Row],[nom]],Tableau2[date],"<>"&"")+COUNTIFS(Tableau3[B],Tabnombre[[#This Row],[nom]],Tableau3[Date],"<>"&"")+COUNTIFS(Tableau4[B],Tabnombre[[#This Row],[nom]],Tableau4[Date],"<>"&"")+COUNTIFS(Tableau5[B],Tabnombre[[#This Row],[nom]],Tableau5[Date],"<>"&"") -> 40
A7: ='Noms à classer'!A6 -> Nicole | B7: =COUNTIFS(Tableau1[A],Tabnombre[[#This Row],[nom]],Tableau1[Date],"<>"&"")+COUNTIFS(Tableau2[A],Tabnombre[[#This Row],[nom]],Tableau2[date],"<>"&"")+COUNTIFS(Tableau3[A],Tabnombre[[#This Row],[nom]],Tableau3[Date],"<>"&"")+COUNTIFS(Tableau4[A],Tabnombre[[#This Row],[nom]],Tableau4[Date],"<>"&"")+COUNTIFS(Tableau5[A],Tabnombre[[#This Row],[nom]],Tableau5[Date],"<>"&"")+COUNTIFS(Tableau1[B],Tabnombre[[#This Row],[nom]],Tableau1[Date],"<>"&"")+COUNTIFS(Tableau2[B],Tabnombre[[#This Row],[nom]],Tableau2[date],"<>"&"")+COUNTIFS(Tableau3[B],Tabnombre[[#This Row],[nom]],Tableau3[Date],"<>"&"")+COUNTIFS(Tableau4[B],Tabnombre[[#This Row],[nom]],Tableau4[Date],"<>"&"")+COUNTIFS(Tableau5[B],Tabnombre[[#This Row],[nom]],Tableau5[Date],"<>"&"") -> 42
A8: ='Noms à classer'!A7 -> Nolan | B8: =COUNTIFS(Tableau1[A],Tabnombre[[#This Row],[nom]],Tableau1[Date],"<>"&"")+COUNTIFS(Tableau2[A],Tabnombre[[#This Row],[nom]],Tableau2[date],"<>"&"")+COUNTIFS(Tableau3[A],Tabnombre[[#This Row],[nom]],Tableau3[Date],"<>"&"")+COUNTIFS(Tableau4[A],Tabnombre[[#This Row],[nom]],Tableau4[Date],"<>"&"")+COUNTIFS(Tableau5[A],Tabnombre[[#This Row],[nom]],Tableau5[Date],"<>"&"")+COUNTIFS(Tableau1[B],Tabnombre[[#This Row],[nom]],Tableau1[Date],"<>"&"")+COUNTIFS(Tableau2[B],Tabnombre[[#This Row],[nom]],Tableau2[date],"<>"&"")+COUNTIFS(Tableau3[B],Tabnombre[[#This Row],[nom]],Tableau3[Date],"<>"&"")+COUNTIFS(Tableau4[B],Tabnombre[[#This Row],[nom]],Tableau4[Date],"<>"&"")+COUNTIFS(Tableau5[B],Tabnombre[[#This Row],[nom]],Tableau5[Date],"<>"&"") -> 43
A9: ='Noms à classer'!A8 -> Olivier | B9: =COUNTIFS(Tableau1[A],Tabnombre[[#This Row],[nom]],Tableau1[Date],"<>"&"")+COUNTIFS(Tableau2[A],Tabnombre[[#This Row],[nom]],Tableau2[date],"<>"&"")+COUNTIFS(Tableau3[A],Tabnombre[[#This Row],[nom]],Tableau3[Date],"<>"&"")+COUNTIFS(Tableau4[A],Tabnombre[[#This Row],[nom]],Tableau4[Date],"<>"&"")+COUNTIFS(Tableau5[A],Tabnombre[[#This Row],[nom]],Tableau5[Date],"<>"&"")+COUNTIFS(Tableau1[B],Tabnombre[[#This Row],[nom]],Tableau1[Date],"<>"&"")+COUNTIFS(Tableau2[B],Tabnombre[[#This Row],[nom]],Tableau2[date],"<>"&"")+COUNTIFS(Tableau3[B],Tabnombre[[#This Row],[nom]],Tableau3[Date],"<>"&"")+COUNTIFS(Tableau4[B],Tabnombre[[#This Row],[nom]],Tableau4[Date],"<>"&"")+COUNTIFS(Tableau5[B],Tabnombre[[#This Row],[nom]],Tableau5[Date],"<>"&"") -> 20
A10: ='Noms à classer'!A9 -> Pascal | B10: =COUNTIFS(Tableau1[A],Tabnombre[[#This Row],[nom]],Tableau1[Date],"<>"&"")+COUNTIFS(Tableau2[A],Tabnombre[[#This Row],[nom]],Tableau2[date],"<>"&"")+COUNTIFS(Tableau3[A],Tabnombre[[#This Row],[nom]],Tableau3[Date],"<>"&"")+COUNTIFS(Tableau4[A],Tabnombre[[#This Row],[nom]],Tableau4[Date],"<>"&"")+COUNTIFS(Tableau5[A],Tabnombre[[#This Row],[nom]],Tableau5[Date],"<>"&"")+COUNTIFS(Tableau1[B],Tabnombre[[#This Row],[nom]],Tableau1[Date],"<>"&"")+COUNTIFS(Tableau2[B],Tabnombre[[#This Row],[nom]],Tableau2[date],"<>"&"")+COUNTIFS(Tableau3[B],Tabnombre[[#This Row],[nom]],Tableau3[Date],"<>"&"")+COUNTIFS(Tableau4[B],Tabnombre[[#This Row],[nom]],Tableau4[Date],"<>"&"")+COUNTIFS(Tableau5[B],Tabnombre[[#This Row],[nom]],Tableau5[Date],"<>"&"") -> 44
A11: ='Noms à classer'!A10 -> Paul | B11: =COUNTIFS(Tableau1[A],Tabnombre[[#This Row],[nom]],Tableau1[Date],"<>"&"")+COUNTIFS(Tableau2[A],Tabnombre[[#This Row],[nom]],Tableau2[date],"<>"&"")+COUNTIFS(Tableau3[A],Tabnombre[[#This Row],[nom]],Tableau3[Date],"<>"&"")+COUNTIFS(Tableau4[A],Tabnombre[[#This Row],[nom]],Tableau4[Date],"<>"&"")+COUNTIFS(Tableau5[A],Tabnombre[[#This Row],[nom]],Tableau5[Date],"<>"&"")+COUNTIFS(Tableau1[B],Tabnombre[[#This Row],[nom]],Tableau1[Date],"<>"&"")+COUNTIFS(Tableau2[B],Tabnombre[[#This Row],[nom]],Tableau2[date],"<>"&"")+COUNTIFS(Tableau3[B],Tabnombre[[#This Row],[nom]],Tableau3[Date],"<>"&"")+COUNTIFS(Tableau4[B],Tabnombre[[#This Row],[nom]],Tableau4[Date],"<>"&"")+COUNTIFS(Tableau5[B],Tabnombre[[#This Row],[nom]],Tableau5[Date],"<>"&"") -> 20
A12: ='Noms à classer'!A11 -> Raphael | B12: =COUNTIFS(Tableau1[A],Tabnombre[[#This Row],[nom]],Tableau1[Date],"<>"&"")+COUNTIFS(Tableau2[A],Tabnombre[[#This Row],[nom]],Tableau2[date],"<>"&"")+COUNTIFS(Tableau3[A],Tabnombre[[#This Row],[nom]],Tableau3[Date],"<>"&"")+COUNTIFS(Tableau4[A],Tabnombre[[#This Row],[nom]],Tableau4[Date],"<>"&"")+COUNTIFS(Tableau5[A],Tabnombre[[#This Row],[nom]],Tableau5[Date],"<>"&"")+COUNTIFS(Tableau1[B],Tabnombre[[#This Row],[nom]],Tableau1[Date],"<>"&"")+COUNTIFS(Tableau2[B],Tabnombre[[#This Row],[nom]],Tableau2[date],"<>"&"")+COUNTIFS(Tableau3[B],Tabnombre[[#This Row],[nom]],Tableau3[Date],"<>"&"")+COUNTIFS(Tableau4[B],Tabnombre[[#This Row],[nom]],Tableau4[Date],"<>"&"")+COUNTIFS(Tableau5[B],Tabnombre[[#This Row],[nom]],Tableau5[Date],"<>"&"") -> 21
A13: ='Noms à classer'!A12 -> Sylvie | B13: =COUNTIFS(Tableau1[A],Tabnombre[[#This Row],[nom]],Tableau1[Date],"<>"&"")+COUNTIFS(Tableau2[A],Tabnombre[[#This Row],[nom]],Tableau2[date],"<>"&"")+COUNTIFS(Tableau3[A],Tabnombre[[#This Row],[nom]],Tableau3[Date],"<>"&"")+COUNTIFS(Tableau4[A],Tabnombre[[#This Row],[nom]],Tableau4[Date],"<>"&"")+COUNTIFS(Tableau5[A],Tabnombre[[#This Row],[nom]],Tableau5[Date],"<>"&"")+COUNTIFS(Tableau1[B],Tabnombre[[#This Row],[nom]],Tableau1[Date],"<>"&"")+COUNTIFS(Tableau2[B],Tabnombre[[#This Row],[nom]],Tableau2[date],"<>"&"")+COUNTIFS(Tableau3[B],Tabnombre[[#This Row],[nom]],Tableau3[Date],"<>"&"")+COUNTIFS(Tableau4[B],Tabnombre[[#This Row],[nom]],Tableau4[Date],"<>"&"")+COUNTIFS(Tableau5[B],Tabnombre[[#This Row],[nom]],Tableau5[Date],"<>"&"") -> 19
A14: ='Noms à classer'!A13 -> Veronique | B14: =COUNTIFS(Tableau1[A],Tabnombre[[#This Row],[nom]],Tableau1[Date],"<>"&"")+COUNTIFS(Tableau2[A],Tabnombre[[#This Row],[nom]],Tableau2[date],"<>"&"")+COUNTIFS(Tableau3[A],Tabnombre[[#This Row],[nom]],Tableau3[Date],"<>"&"")+COUNTIFS(Tableau4[A],Tabnombre[[#This Row],[nom]],Tableau4[Date],"<>"&"")+COUNTIFS(Tableau5[A],Tabnombre[[#This Row],[nom]],Tableau5[Date],"<>"&"")+COUNTIFS(Tableau1[B],Tabnombre[[#This Row],[nom]],Tableau1[Date],"<>"&"")+COUNTIFS(Tableau2[B],Tabnombre[[#This Row],[nom]],Tableau2[date],"<>"&"")+COUNTIFS(Tableau3[B],Tabnombre[[#This Row],[nom]],Tableau3[Date],"<>"&"")+COUNTIFS(Tableau4[B],Tabnombre[[#This Row],[nom]],Tableau4[Date],"<>"&"")+COUNTIFS(Tableau5[B],Tabnombre[[#This Row],[nom]],Tableau5[Date],"<>"&"") -> 19
... A18: ='Noms à classer'!A17 -> 0 | B18: =COUNTIFS(Tableau1[A],Tabnombre[[#This Row],[nom]],Tableau1[Date],"<>"&"")+COUNTIFS(Tableau2[A],Tabnombre[[#This Row],[nom]],Tableau2[date],"<>"&"")+COUNTIFS(Tableau3[A],Tabnombre[[#This Row],[nom]],Tableau3[Date],"<>"&"")+COUNTIFS(Tableau4[A],Tabnombre[[#This Row],[nom]],Tableau4[Date],"<>"&"")+COUNTIFS(Tableau5[A],Tabnombre[[#This Row],[nom]],Tableau5[Date],"<>"&"")+COUNTIFS(Tableau1[B],Tabnombre[[#This Row],[nom]],Tableau1[Date],"<>"&"")+COUNTIFS(Tableau2[B],Tabnombre[[#This Row],[nom]],Tableau2[date],"<>"&"")+COUNTIFS(Tableau3[B],Tabnombre[[#This Row],[nom]],Tableau3[Date],"<>"&"")+COUNTIFS(Tableau4[B],Tabnombre[[#This Row],[nom]],Tableau4[Date],"<>"&"")+COUNTIFS(Tableau5[B],Tabnombre[[#This Row],[nom]],Tableau5[Date],"<>"&"") -> 0
