Workbook

Sheet Fich.Prod.
B1: Fiche Production
B2: SEMAINE | C2: 1
A3: 1 | B3: Lundi | C3: 3h | E3: Mardi | F3: 3h | H3: Mercredi | I3: 3h | L3: Jeudi | M3: 3h | O3: Vendredi | P3: 3h
A4: 1 | B4: Bière | C4: Moinette Blonde | E4: Bière | F4: Moinette Blonde | H4: Bière | I4: Moinette Bio | L4: Bière | M4: Bière de Miel | O4: Bière | P4: Saison Dupont
A5: 1 | B5: Brassin | C5: 1 | E5: Brassin | F5: 4 | H5: Brassin | I5: 7 | L5: Brassin | M5: 10 | O5: Brassin | P5: 13
A6: 1 | B6: Lot | C6: L20001A | E6: Lot | H6: Lot | I6: L20001A | L6: Lot | M6: L20001A | O6: Lot | P6: L20001A
A7: 1 | B7: Quantité (Hl) | C7: =IF(ISBLANK(C4),0,50) -> 50 | E7: Quantité (Hl) | F7: =IF(ISBLANK(F4),0,50) -> 50 | H7: Quantité (Hl) | I7: =IF(ISBLANK(I4),0,50) -> 50 | L7: Quantité (Hl) | M7: =IF(ISBLANK(M4),0,50) -> 50 | O7: Quantité (Hl) | P7: =IF(ISBLANK(P4),0,50) -> 50
A8: 1 | B8: Malt Tradi 1 | C8: =IF(C4=0,0,VLOOKUP(C4,[1]Recettes!$A$3:$V$17,[1]OF!$A$4,0)) -> 1000 | E8: Malt Tradi 1 | F8: =IF(F4=0,0,VLOOKUP(F4,[1]Recettes!$A$3:$V$17,[1]OF!$A4,0)) -> 1000 | H8: Malt Tradi 1 | I8: =IF(I4=0,0,VLOOKUP(I4,[1]Recettes!$A$3:$V$17,[1]OF!$A4,0)) -> 0 | L8: Malt Tradi 1 | M8: =IF(M4=0,0,VLOOKUP(M4,[1]Recettes!$A$3:$V$17,[1]OF!$A4,0)) -> 0 | O8: Malt Tradi 1 | P8: =IF(P4=0,0,VLOOKUP(P4,[1]Recettes!$A$3:$V$17,[1]OF!$A4,0)) -> 1300
A9: 1 | B9: Malt Tradi 2 | C9: =IF(C4=0,0,VLOOKUP(C4,[1]Recettes!$A$3:$V$17,[1]OF!$A$5,0)) -> 0 | E9: Malt Tradi 2 | F9: =IF(F4=0,0,VLOOKUP(F4,[1]Recettes!$A$3:$V$17,[1]OF!$A5,0)) -> 0 | H9: Malt Tradi 2 | I9: =IF(I4=0,0,VLOOKUP(I4,[1]Recettes!$A$3:$V$17,[1]OF!$A5,0)) -> 0 | L9: Malt Tradi 2 | M9: =IF(M4=0,0,VLOOKUP(M4,[1]Recettes!$A$3:$V$17,[1]OF!$A5,0)) -> 0 | O9: Malt Tradi 2 | P9: =IF(P4=0,0,VLOOKUP(P4,[1]Recettes!$A$3:$V$17,[1]OF!$A5,0)) -> 0
A10: 1 | B10: Malt Tradi 3 | C10: =IF(C4=0,0,VLOOKUP(C4,[1]Recettes!$A$3:$V$17,[1]OF!$A$6,0)) -> 0 | E10: Malt Tradi 3 | F10: =IF(F4=0,0,VLOOKUP(F4,[1]Recettes!$A$3:$V$17,[1]OF!$A6,0)) -> 0 | H10: Malt Tradi 3 | I10: =IF(I4=0,0,VLOOKUP(I4,[1]Recettes!$A$3:$V$17,[1]OF!$A6,0)) -> 0 | L10: Malt Tradi 3 | M10: =IF(M4=0,0,VLOOKUP(M4,[1]Recettes!$A$3:$V$17,[1]OF!$A6,0)) -> 0 | O10: Malt Tradi 3 | P10: =IF(P4=0,0,VLOOKUP(P4,[1]Recettes!$A$3:$V$17,[1]OF!$A6,0)) -> 0
A11: 1 | B11: Malt Tradi 4 | C11: =IF(C4=0,0,VLOOKUP(C4,[1]Recettes!$A$3:$V$17,[1]OF!$A$7,0)) -> 0 | E11: Malt Tradi 4 | F11: =IF(F4=0,0,VLOOKUP(F4,[1]Recettes!$A$3:$V$17,[1]OF!$A7,0)) -> 0 | H11: Malt Tradi 4 | I11: =IF(I4=0,0,VLOOKUP(I4,[1]Recettes!$A$3:$V$17,[1]OF!$A7,0)) -> 0 | L11: Malt Tradi 4 | M11: =IF(M4=0,0,VLOOKUP(M4,[1]Recettes!$A$3:$V$17,[1]OF!$A7,0)) -> 0 | O11: Malt Tradi 4 | P11: =IF(P4=0,0,VLOOKUP(P4,[1]Recettes!$A$3:$V$17,[1]OF!$A7,0)) -> 0
A12: 1 | B12: Malt Bio 1 | C12: =IF(C4=0,0,VLOOKUP(C4,[1]Recettes!$A$3:$V$17,[1]OF!$A$8,0)) -> 0 | E12: Malt Bio 1 | F12: =IF(F4=0,0,VLOOKUP(F4,[1]Recettes!$A$3:$V$17,[1]OF!$A8,0)) -> 0 | H12: Malt Bio 1 | I12: =IF(I4=0,0,VLOOKUP(I4,[1]Recettes!$A$3:$V$17,[1]OF!$A8,0)) -> 1000 | L12: Malt Bio 1 | M12: =IF(M4=0,0,VLOOKUP(M4,[1]Recettes!$A$3:$V$17,[1]OF!$A8,0)) -> 950 | O12: Malt Bio 1 | P12: =IF(P4=0,0,VLOOKUP(P4,[1]Recettes!$A$3:$V$17,[1]OF!$A8,0)) -> 0
A13: 1 | B13: Malt Bio 2 | C13: =IF(C4=0,0,VLOOKUP(C4,[1]Recettes!$A$3:$V$17,[1]OF!$A$9,0)) -> 0 | E13: Malt Bio 2 | F13: =IF(F4=0,0,VLOOKUP(F4,[1]Recettes!$A$3:$V$17,[1]OF!$A9,0)) -> 0 | H13: Malt Bio 2 | I13: =IF(I4=0,0,VLOOKUP(I4,[1]Recettes!$A$3:$V$17,[1]OF!$A9,0)) -> 0 | L13: Malt Bio 2 | M13: =IF(M4=0,0,VLOOKUP(M4,[1]Recettes!$A$3:$V$17,[1]OF!$A9,0)) -> 100 | O13: Malt Bio 2 | P13: =IF(P4=0,0,VLOOKUP(P4,[1]Recettes!$A$3:$V$17,[1]OF!$A9,0)) -> 0
A14: 1 | B14: Malt Bio 3 | C14: =IF(C4=0,0,VLOOKUP(C4,[1]Recettes!$A$3:$V$17,[1]OF!$A$10,0)) -> 0 | E14: Malt Bio 3 | F14: =IF(F4=0,0,VLOOKUP(F4,[1]Recettes!$A$3:$V$17,[1]OF!$A10,0)) -> 0 | H14: Malt Bio 3 | I14: =IF(I4=0,0,VLOOKUP(I4,[1]Recettes!$A$3:$V$17,[1]OF!$A10,0)) -> 0 | L14: Malt Bio 3 | M14: =IF(M4=0,0,VLOOKUP(M4,[1]Recettes!$A$3:$V$17,[1]OF!$A10,0)) -> 0 | O14: Malt Bio 3 | P14: =IF(P4=0,0,VLOOKUP(P4,[1]Recettes!$A$3:$V$17,[1]OF!$A10,0)) -> 0
A15: 1 | B15: Froment Bio | C15: =IF(C4=0,0,VLOOKUP(C4,[1]Recettes!$A$3:$V$17,[1]OF!$A$11,0)) -> 0 | E15: Froment Bio | F15: =IF(F4=0,0,VLOOKUP(F4,[1]Recettes!$A$3:$V$17,[1]OF!$A11,0)) -> 0 | H15: Froment Bio | I15: =IF(I4=0,0,VLOOKUP(I4,[1]Recettes!$A$3:$V$17,[1]OF!$A11,0)) -> 0 | L15: Froment Bio | M15: =IF(M4=0,0,VLOOKUP(M4,[1]Recettes!$A$3:$V$17,[1]OF!$A11,0)) -> 0 | O15: Froment Bio | P15: =IF(P4=0,0,VLOOKUP(P4,[1]Recettes!$A$3:$V$17,[1]OF!$A11,0)) -> 0
A16: 1 | B16: Sucre | C16: 0 | E16: Sucre | F16: 0 | H16: Sucre | I16: 0 | L16: Sucre | M16: 0 | O16: Sucre | P16: 0
A17: 1 | B17: Sirop de blé Bio | C17: 0 | E17: Sirop de blé Bio | F17: 0 | H17: Sirop de blé Bio | I17: 0 | L17: Sirop de blé Bio | M17: 0 | O17: Sirop de blé Bio | P17: 0
A18: 1 | B18: Houblon 1 | C18: 0 | E18: Houblon 1 | F18: 0 | H18: Houblon 1 | I18: 0 | L18: Houblon 1 | M18: 0 | O18: Houblon 1 | P18: 0
A19: 1 | B19: Houblon 2 | C19: 0 | E19: Houblon 2 | F19: 0 | H19: Houblon 2 | I19: 0 | L19: Houblon 2 | M19: 0 | O19: Houblon 2 | P19: 0
A20: 1 | B20: Houblon 3 | C20: 0 | E20: Houblon 3 | F20: 0 | H20: Houblon 3 | I20: 0 | L20: Houblon 3 | M20: 0 | O20: Houblon 3 | P20: 0
A21: 1 | B21: Houblon 3 (Bio) | C21: 0 | E21: Houblon 3 (Bio) | F21: 0 | H21: Houblon 3 (Bio) | I21: 0 | L21: Houblon 3 (Bio) | M21: 0 | O21: Houblon 3 (Bio) | P21: 0
A22: 1 | B22: Quantité réelle | C22: 0 | E22: Quantité réelle | F22: 0 | H22: Quantité réelle | I22: 0 | L22: Quantité réelle | M22: 0 | O22: Quantité réelle | P22: 0
A23: 1
A24: 1
A25: 1
A26: 1
A27: 1
A28: 1
A29: 1
A30: 1
A31: 1
A32: 1
A33: 1
B34: SEMAINE | C34: =$C$2 -> 1
A35: 1 | B35: Lundi | C35: 8h | E35: Mardi | F35: 8h | H35: Mercredi | I35: 8h | L35: Jeudi | M35: 8h | O35: Vendredi | P35: 8h
A36: 1 | B36: Bière | C36: Moinette Blonde | E36: Bière | F36: Moinette Blonde | H36: Bière | I36: Moinette Bio | L36: Bière | M36: Bière de Miel | O36: Bière | P36: Saison Dupont
A37: 1 | B37: Brassin | C37: 2 | E37: Brassin | F37: 5 | H37: Brassin | I37: 8 | L37: Brassin | M37: 11 | O37: Brassin | P37: 14
A38: 1 | B38: Lot | C38: L20001A | E38: Lot | F38: L20001A | H38: Lot | I38: L20001A | L38: Lot | M38: L20001A | O38: Lot | P38: L20001A
A39: 1 | B39: Quantité (Hl) | C39: =IF(ISBLANK(C36),0,50) -> 50 | E39: Quantité (Hl) | F39: =IF(ISBLANK(F36),0,50) -> 50 | H39: Quantité (Hl) | I39: =IF(ISBLANK(I36),0,50) -> 50 | L39: Quantité (Hl) | M39: =IF(ISBLANK(M36),0,50) -> 50 | O39: Quantité (Hl) | P39: =IF(ISBLANK(P36),0,50) -> 50
A40: 1 | B40: Malt Tradi 1 | C40: =IF(C36=0,0,VLOOKUP(C36,[1]Recettes!$A$3:$V$17,[1]OF!$A$4,0)) -> 1000 | E40: Malt Tradi 1 | F40: =IF(F36=0,0,VLOOKUP(F36,[1]Recettes!$A$3:$V$17,[1]OF!$A$4,0)) -> 1000 | H40: Malt Tradi 1 | I40: =IF(I36=0,0,VLOOKUP(I36,[1]Recettes!$A$3:$V$17,[1]OF!$A$4,0)) -> 0 | L40: Malt Tradi 1 | M40: =IF(M36=0,0,VLOOKUP(M36,[1]Recettes!$A$3:$V$17,[1]OF!$A$4,0)) -> 0 | O40: Malt Tradi 1 | P40: =IF(P36=0,0,VLOOKUP(P36,[1]Recettes!$A$3:$V$17,[1]OF!$A$4,0)) -> 1300
A41: 1 | B41: Malt Tradi 2 | C41: =IF(C36=0,0,VLOOKUP(C36,[1]Recettes!$A$3:$V$17,[1]OF!$A$5,0)) -> 0 | E41: Malt Tradi 2 | F41: =IF(F36=0,0,VLOOKUP(F36,[1]Recettes!$A$3:$V$17,[1]OF!$A$5,0)) -> 0 | H41: Malt Tradi 2 | I41: =IF(I36=0,0,VLOOKUP(I36,[1]Recettes!$A$3:$V$17,[1]OF!$A$5,0)) -> 0 | L41: Malt Tradi 2 | M41: =IF(M36=0,0,VLOOKUP(M36,[1]Recettes!$A$3:$V$17,[1]OF!$A$5,0)) -> 0 | O41: Malt Tradi 2 | P41: =IF(P36=0,0,VLOOKUP(P36,[1]Recettes!$A$3:$V$17,[1]OF!$A$5,0)) -> 0
A42: 1 | B42: Malt Tradi 3 | C42: =IF(C36=0,0,VLOOKUP(C36,[1]Recettes!$A$3:$V$17,[1]OF!$A$6,0)) -> 0 | E42: Malt Tradi 3 | F42: =IF(F36=0,0,VLOOKUP(F36,[1]Recettes!$A$3:$V$17,[1]OF!$A$6,0)) -> 0 | H42: Malt Tradi 3 | I42: =IF(I36=0,0,VLOOKUP(I36,[1]Recettes!$A$3:$V$17,[1]OF!$A$6,0)) -> 0 | L42: Malt Tradi 3 | M42: =IF(M36=0,0,VLOOKUP(M36,[1]Recettes!$A$3:$V$17,[1]OF!$A$6,0)) -> 0 | O42: Malt Tradi 3 | P42: =IF(P36=0,0,VLOOKUP(P36,[1]Recettes!$A$3:$V$17,[1]OF!$A$6,0)) -> 0
A43: 1 | B43: Malt Tradi 4 | C43: =IF(C36=0,0,VLOOKUP(C36,[1]Recettes!$A$3:$V$17,[1]OF!$A$7,0)) -> 0 | E43: Malt Tradi 4 | F43: =IF(F36=0,0,VLOOKUP(F36,[1]Recettes!$A$3:$V$17,[1]OF!$A$7,0)) -> 0 | H43: Malt Tradi 4 | I43: =IF(I36=0,0,VLOOKUP(I36,[1]Recettes!$A$3:$V$17,[1]OF!$A$7,0)) -> 0 | L43: Malt Tradi 4 | M43: =IF(M36=0,0,VLOOKUP(M36,[1]Recettes!$A$3:$V$17,[1]OF!$A$7,0)) -> 0 | O43: Malt Tradi 4 | P43: =IF(P36=0,0,VLOOKUP(P36,[1]Recettes!$A$3:$V$17,[1]OF!$A$7,0)) -> 0
A44: 1 | B44: Malt Bio 1 | C44: =IF(C36=0,0,VLOOKUP(C36,[1]Recettes!$A$3:$V$17,[1]OF!$A$8,0)) -> 0 | E44: Malt Bio 1 | F44: =IF(F36=0,0,VLOOKUP(F36,[1]Recettes!$A$3:$V$17,[1]OF!$A$8,0)) -> 0 | H44: Malt Bio 1 | I44: =IF(I36=0,0,VLOOKUP(I36,[1]Recettes!$A$3:$V$17,[1]OF!$A$8,0)) -> 1000 | L44: Malt Bio 1 | M44: =IF(M36=0,0,VLOOKUP(M36,[1]Recettes!$A$3:$V$17,[1]OF!$A$8,0)) -> 950 | O44: Malt Bio 1 | P44: =IF(P36=0,0,VLOOKUP(P36,[1]Recettes!$A$3:$V$17,[1]OF!$A$8,0)) -> 0
A45: 1 | B45: Malt Bio 2 | C45: =IF(C36=0,0,VLOOKUP(C36,[1]Recettes!$A$3:$V$17,[1]OF!$A$9,0)) -> 0 | E45: Malt Bio 2 | F45: =IF(F36=0,0,VLOOKUP(F36,[1]Recettes!$A$3:$V$17,[1]OF!$A$9,0)) -> 0 | H45: Malt Bio 2 | I45: =IF(I36=0,0,VLOOKUP(I36,[1]Recettes!$A$3:$V$17,[1]OF!$A$9,0)) -> 0 | L45: Malt Bio 2 | M45: =IF(M36=0,0,VLOOKUP(M36,[1]Recettes!$A$3:$V$17,[1]OF!$A$9,0)) -> 100 | O45: Malt Bio 2 | P45: =IF(P36=0,0,VLOOKUP(P36,[1]Recettes!$A$3:$V$17,[1]OF!$A$9,0)) -> 0
A46: 1 | B46: Malt Bio 3 | C46: =IF(C36=0,0,VLOOKUP(C36,[1]Recettes!$A$3:$V$17,[1]OF!$A$10,0)) -> 0 | E46: Malt Bio 3 | F46: =IF(F36=0,0,VLOOKUP(F36,[1]Recettes!$A$3:$V$17,[1]OF!$A$10,0)) -> 0 | H46: Malt Bio 3 | I46: =IF(I36=0,0,VLOOKUP(I36,[1]Recettes!$A$3:$V$17,[1]OF!$A$10,0)) -> 0 | L46: Malt Bio 3 | M46: =IF(M36=0,0,VLOOKUP(M36,[1]Recettes!$A$3:$V$17,[1]OF!$A$10,0)) -> 0 | O46: Malt Bio 3 | P46: =IF(P36=0,0,VLOOKUP(P36,[1]Recettes!$A$3:$V$17,[1]OF!$A$10,0)) -> 0
A47: 1 | B47: Froment Bio | C47: =IF(C36=0,0,VLOOKUP(C36,[1]Recettes!$A$3:$V$17,[1]OF!$A$11,0)) -> 0 | E47: Froment Bio | F47: =IF(F36=0,0,VLOOKUP(F36,[1]Recettes!$A$3:$V$17,[1]OF!$A$11,0)) -> 0 | H47: Froment Bio | I47: =IF(I36=0,0,VLOOKUP(I36,[1]Recettes!$A$3:$V$17,[1]OF!$A$11,0)) -> 0 | L47: Froment Bio | M47: =IF(M36=0,0,VLOOKUP(M36,[1]Recettes!$A$3:$V$17,[1]OF!$A$11,0)) -> 0 | O47: Froment Bio | P47: =IF(P36=0,0,VLOOKUP(P36,[1]Recettes!$A$3:$V$17,[1]OF!$A$11,0)) -> 0
A48: 1 | B48: Sucre | C48: 0 | E48: Sucre | F48: 0 | H48: Sucre | I48: 0 | L48: Sucre | M48: 0 | O48: Sucre | P48: 0
A49: 1 | B49: Sirop de blé Bio | C49: 0 | E49: Sirop de blé Bio | F49: 0 | H49: Sirop de blé Bio | I49: 0 | L49: Sirop de blé Bio | M49: 0 | O49: Sirop de blé Bio | P49: 0
A50: 1 | B50: Houblon 1 | C50: 0 | E50: Houblon 1 | F50: 0 | H50: Houblon 1 | I50: 0 | L50: Houblon 1 | M50: 0 | O50: Houblon 1 | P50: 0
A51: 1 | B51: Houblon 2 | C51: 0 | E51: Houblon 2 | F51: 0 | H51: Houblon 2 | I51: 0 | L51: Houblon 2 | M51: 0 | O51: Houblon 2 | P51: 0
A52: 1 | B52: Houblon 3 | C52: 0 | E52: Houblon 3 | F52: 0 | H52: Houblon 3 | I52: 0 | L52: Houblon 3 | M52: 0 | O52: Houblon 3 | P52: 0
A53: 1 | B53: Houblon 3 (Bio) | C53: 0 | E53: Houblon 3 (Bio) | F53: 0 | H53: Houblon 3 (Bio) | I53: 0 | L53: Houblon 3 (Bio) | M53: 0 | O53: Houblon 3 (Bio) | P53: 0
A54: 1 | B54: Quantité réelle | C54: 0 | E54: Quantité réelle | F54: 0 | H54: Quantité réelle | I54: 0 | L54: Quantité réelle | M54: 0 | O54: Quantité réelle | P54: 0
A55: 1
A56: 1
A57: 1
A58: 1
A59: 1
A60: 1
A61: 1
A62: 1
A63: 1
A64: 1
A65: 1
A66: 1
A67: 1 | B67: SEMAINE | C67: =$C$2 -> 1
A68: 1 | B68: Lundi | C68: 13h | E68: Mardi | F68: 13h | H68: Mercredi | I68: 13h | L68: Jeudi | M68: 13h | O68: Vendredi | P68: 13h
A69: 1 | B69: Bière | C69: Moinette Blonde | E69: Bière | F69: Moinette Blonde | H69: Bière | I69: Saison Dupont | L69: Bière | M69: Saison Dupont | O69: Bière
A70: 1 | B70: Brassin | C70: 3 | E70: Brassin | F70: 6 | H70: Brassin | I70: 9 | L70: Brassin | M70: 12 | O70: Brassin
A71: 1 | B71: Lot | C71: L20001A | E71: Lot | F71: L20001A | H71: Lot | I71: L20001A | L71: Lot | M71: L20001A | O71: Lot | P71: L20001A
A72: 1 | B72: Quantité (Hl) | C72: =IF(ISBLANK(C69),0,50) -> 50 | E72: Quantité (Hl) | F72: =IF(ISBLANK(F69),0,50) -> 50 | H72: Quantité (Hl) | I72: =IF(ISBLANK(I69),0,50) -> 50 | L72: Quantité (Hl) | M72: =IF(ISBLANK(M69),0,50) -> 50 | O72: Quantité (Hl) | P72: =IF(ISBLANK(P69),0,50) -> 0
A73: 1 | B73: Malt Tradi 1 | C73: =IF(C69=0,0,VLOOKUP(C69,[1]Recettes!$A$3:$V$17,[1]OF!$A$4,0)) -> 1000 | E73: Malt Tradi 1 | F73: =IF(F69=0,0,VLOOKUP(F69,[1]Recettes!$A$3:$V$17,[1]OF!$A$4,0)) -> 1000 | H73: Malt Tradi 1 | I73: =IF(I69=0,0,VLOOKUP(I69,[1]Recettes!$A$3:$V$17,[1]OF!$A$4,0)) -> 1300 | L73: Malt Tradi 1 | M73: =IF(M69=0,0,VLOOKUP(M69,[1]Recettes!$A$3:$V$17,[1]OF!$A$4,0)) -> 1300 | O73: Malt Tradi 1 | P73: =IF(P69=0,0,VLOOKUP(P69,[1]Recettes!$A$3:$V$17,[1]OF!$A$4,0)) -> 0
A74: 1 | B74: Malt Tradi 2 | C74: =IF(C69=0,0,VLOOKUP(C69,[1]Recettes!$A$3:$V$17,[1]OF!$A$5,0)) -> 0 | E74: Malt Tradi 2 | F74: =IF(F69=0,0,VLOOKUP(F69,[1]Recettes!$A$3:$V$17,[1]OF!$A$5,0)) -> 0 | H74: Malt Tradi 2 | I74: =IF(I69=0,0,VLOOKUP(I69,[1]Recettes!$A$3:$V$17,[1]OF!$A$5,0)) -> 0 | L74: Malt Tradi 2 | M74: =IF(M69=0,0,VLOOKUP(M69,[1]Recettes!$A$3:$V$17,[1]OF!$A$5,0)) -> 0 | O74: Malt Tradi 2 | P74: =IF(P69=0,0,VLOOKUP(P69,[1]Recettes!$A$3:$V$17,[1]OF!$A$5,0)) -> 0
A75: 1 | B75: Malt Tradi 3 | C75: =IF(C69=0,0,VLOOKUP(C69,[1]Recettes!$A$3:$V$17,[1]OF!$A$6,0)) -> 0 | E75: Malt Tradi 3 | F75: =IF(F69=0,0,VLOOKUP(F69,[1]Recettes!$A$3:$V$17,[1]OF!$A$6,0)) -> 0 | H75: Malt Tradi 3 | I75: =IF(I69=0,0,VLOOKUP(I69,[1]Recettes!$A$3:$V$17,[1]OF!$A$6,0)) -> 0 | L75: Malt Tradi 3 | M75: =IF(M69=0,0,VLOOKUP(M69,[1]Recettes!$A$3:$V$17,[1]OF!$A$6,0)) -> 0 | O75: Malt Tradi 3 | P75: =IF(P69=0,0,VLOOKUP(P69,[1]Recettes!$A$3:$V$17,[1]OF!$A$6,0)) -> 0
A76: 1 | B76: Malt Tradi 4 | C76: =IF(C69=0,0,VLOOKUP(C69,[1]Recettes!$A$3:$V$17,[1]OF!$A$7,0)) -> 0 | E76: Malt Tradi 4 | F76: =IF(F69=0,0,VLOOKUP(F69,[1]Recettes!$A$3:$V$17,[1]OF!$A$7,0)) -> 0 | H76: Malt Tradi 4 | I76: =IF(I69=0,0,VLOOKUP(I69,[1]Recettes!$A$3:$V$17,[1]OF!$A$7,0)) -> 0 | L76: Malt Tradi 4 | M76: =IF(M69=0,0,VLOOKUP(M69,[1]Recettes!$A$3:$V$17,[1]OF!$A$7,0)) -> 0 | O76: Malt Tradi 4 | P76: =IF(P69=0,0,VLOOKUP(P69,[1]Recettes!$A$3:$V$17,[1]OF!$A$7,0)) -> 0
A77: 1 | B77: Malt Bio 1 | C77: =IF(C69=0,0,VLOOKUP(C69,[1]Recettes!$A$3:$V$17,[1]OF!$A$8,0)) -> 0 | E77: Malt Bio 1 | F77: =IF(F69=0,0,VLOOKUP(F69,[1]Recettes!$A$3:$V$17,[1]OF!$A$8,0)) -> 0 | H77: Malt Bio 1 | I77: =IF(I69=0,0,VLOOKUP(I69,[1]Recettes!$A$3:$V$17,[1]OF!$A$8,0)) -> 0 | L77: Malt Bio 1 | M77: =IF(M69=0,0,VLOOKUP(M69,[1]Recettes!$A$3:$V$17,[1]OF!$A$8,0)) -> 0 | O77: Malt Bio 1 | P77: =IF(P69=0,0,VLOOKUP(P69,[1]Recettes!$A$3:$V$17,[1]OF!$A$8,0)) -> 0
A78: 1 | B78: Malt Bio 2 | C78: =IF(C69=0,0,VLOOKUP(C69,[1]Recettes!$A$3:$V$17,[1]OF!$A$9,0)) -> 0 | E78: Malt Bio 2 | F78: =IF(F69=0,0,VLOOKUP(F69,[1]Recettes!$A$3:$V$17,[1]OF!$A$9,0)) -> 0 | H78: Malt Bio 2 | I78: =IF(I69=0,0,VLOOKUP(I69,[1]Recettes!$A$3:$V$17,[1]OF!$A$9,0)) -> 0 | L78: Malt Bio 2 | M78: =IF(M69=0,0,VLOOKUP(M69,[1]Recettes!$A$3:$V$17,[1]OF!$A$9,0)) -> 0 | O78: Malt Bio 2 | P78: =IF(P69=0,0,VLOOKUP(P69,[1]Recettes!$A$3:$V$17,[1]OF!$A$9,0)) -> 0
A79: 1 | B79: Malt Bio 3 | C79: =IF(C69=0,0,VLOOKUP(C69,[1]Recettes!$A$3:$V$17,[1]OF!$A$10,0)) -> 0 | E79: Malt Bio 3 | F79: =IF(F69=0,0,VLOOKUP(F69,[1]Recettes!$A$3:$V$17,[1]OF!$A$10,0)) -> 0 | H79: Malt Bio 3 | I79: =IF(I69=0,0,VLOOKUP(I69,[1]Recettes!$A$3:$V$17,[1]OF!$A$10,0)) -> 0 | L79: Malt Bio 3 | M79: =IF(M69=0,0,VLOOKUP(M69,[1]Recettes!$A$3:$V$17,[1]OF!$A$10,0)) -> 0 | O79: Malt Bio 3 | P79: =IF(P69=0,0,VLOOKUP(P69,[1]Recettes!$A$3:$V$17,[1]OF!$A$10,0)) -> 0
A80: 1 | B80: Froment Bio | C80: =IF(C69=0,0,VLOOKUP(C69,[1]Recettes!$A$3:$V$17,[1]OF!$A$11,0)) -> 0 | E80: Froment Bio | F80: =IF(F69=0,0,VLOOKUP(F69,[1]Recettes!$A$3:$V$17,[1]OF!$A$11,0)) -> 0 | H80: Froment Bio | I80: =IF(I69=0,0,VLOOKUP(I69,[1]Recettes!$A$3:$V$17,[1]OF!$A$11,0)) -> 0 | L80: Froment Bio | M80: =IF(M69=0,0,VLOOKUP(M69,[1]Recettes!$A$3:$V$17,[1]OF!$A$11,0)) -> 0 | O80: Froment Bio | P80: =IF(P69=0,0,VLOOKUP(P69,[1]Recettes!$A$3:$V$17,[1]OF!$A$11,0)) -> 0
A81: 1 | B81: Sucre | C81: 0 | E81: Sucre | F81: 0 | H81: Sucre | I81: 0 | L81: Sucre | M81: 0 | O81: Sucre | P81: 0
A82: 1 | B82: Sirop de blé Bio | C82: 0 | E82: Sirop de blé Bio | F82: 0 | H82: Sirop de blé Bio | I82: 0 | L82: Sirop de blé Bio | M82: 0 | O82: Sirop de blé Bio | P82: 0
A83: 1 | B83: Houblon 1 | C83: 0 | E83: Houblon 1 | F83: 0 | H83: Houblon 1 | I83: 0 | L83: Houblon 1 | M83: 0 | O83: Houblon 1 | P83: 0
A84: 1 | B84: Houblon 2 | C84: 0 | E84: Houblon 2 | F84: 0 | H84: Houblon 2 | I84: 0 | L84: Houblon 2 | M84: 0 | O84: Houblon 2 | P84: 0
A85: 1 | B85: Houblon 3 | C85: 0 | E85: Houblon 3 | F85: 0 | H85: Houblon 3 | I85: 0 | L85: Houblon 3 | M85: 0 | O85: Houblon 3 | P85: 0
A86: 1 | B86: Houblon 3 (Bio) | C86: 0 | E86: Houblon 3 (Bio) | F86: 0 | H86: Houblon 3 (Bio) | I86: 0 | L86: Houblon 3 (Bio) | M86: 0 | O86: Houblon 3 (Bio) | P86: 0
A87: 1 | B87: Quantité réelle | C87: 0 | E87: Quantité réelle | F87: 0 | H87: Quantité réelle | I87: 0 | L87: Quantité réelle | M87: 0 | O87: Quantité réelle | P87: 0
A88: 1
A89: 1
A90: 1
A91: 1
A92: 1
A93: 1
A94: 1
A95: 1
A96: 1
A97: 1
A98: 1
A99: 1

Sheet Sum. OF
D1: Production | R1: Conso MP
A2: Semaine | B2: # Brassins | C2: Total (HL) | D2: Moinette Blonde | E2: Moinette Brune | F2: Moinette Ambrée | G2: Saison Dupont | H2: Bons Vœux | I2: Rédor | J2: Saison Dupont DH | K2: Monk's Stout | L2: Bière de Miel | M2: Moinette Bio | N2: Saison Dupont Bio | O2: Blanche du Hainaut | P2: Biolégère | Q2: Triomf | R2: Malt Tradi 1 | S2: Malt Tradi 2 | T2: Malt Tradi 3 | U2: Malt Tradi 4 | V2: Malt Bio 1 | W2: Malt Bio 2 | X2: Malt Bio 3 | Y2: Froment Bio | Z2: Sucre | AA2: Sirop de blé Bio | AB2: Houblon 1 | AC2: Houblon 2 | AD2: Houblon 3 | AE2: Houblon 3 (Bio)
A3: 1 | B3: =IF('Fich.Prod.'!P70<>"",'Fich.Prod.'!P70,IF('Fich.Prod.'!P37<>"",'Fich.Prod.'!P37,IF('Fich.Prod.'!P5<>"",'Fich.Prod.'!P5,IF('Fich.Prod.'!M70<>"",'Fich.Prod.'!M70,IF('Fich.Prod.'!M37<>"",'Fich.Prod.'!M37,IF('Fich.Prod.'!M5<>"",'Fich.Prod.'!M5,IF('Fich.Prod.'!I70<>"",'Fich.Prod.'!I70,IF('Fich.Prod.'!I37<>"",'Fich.Prod.'!I37,IF('Fich.Prod.'!I5<>"",'Fich.Prod.'!I5,IF('Fich.Prod.'!F37<>"",'Fich.Prod.'!F37,IF('Fich.Prod.'!F5<>"",'Fich.Prod.'!F5,IF('Fich.Prod.'!C70<>"",'Fich.Prod.'!C70,IF('Fich.Prod.'!C37<>"",'Fich.Prod.'!C37,IF('Fich.Prod.'!C5<>"",'Fich.Prod.'!C5,0)))))))))))))) -> 14 | C3: =SUM(D3:Q3) -> 700 | D3: =IF(AND('Fich.Prod.'!$C$2='Sum. OF'!$A3,'Fich.Prod.'!$C$4=D$2),'Fich.Prod.'!$C$7,0)+IF(AND('Fich.Prod.'!$C$2='Sum. OF'!$A3,'Fich.Prod.'!$C$36='Sum. OF'!D$2),'Fich.Prod.'!$C$39,0)+IF(AND('Fich.Prod.'!$C$2='Sum. OF'!$A3,'Fich.Prod.'!$C$69='Sum. OF'!D$2),'Fich.Prod.'!$C$72,0)+IF(AND('Fich.Prod.'!$C$2='Sum. OF'!$A3,'Fich.Prod.'!$F$4='Sum. OF'!D$2),'Fich.Prod.'!$F$7,0)+IF(AND('Fich.Prod.'!$C$2='Sum. OF'!$A3,'Fich.Prod.'!$F$36='Sum. OF'!D$2),'Fich.Prod.'!$F$39,0)+IF(AND('Fich.Prod.'!$C$2='Sum. OF'!$A3,'Fich.Prod.'!$F$69='Sum. OF'!D$2),'Fich.Prod.'!$F$72,0)+IF(AND('Fich.Prod.'!$C$2='Sum. OF'!$A3,'Fich.Prod.'!$I$4='Sum. OF'!D$2),'Fich.Prod.'!$I$7,0)+IF(AND('Fich.Prod.'!$C$2='Sum. OF'!$A3,'Fich.Prod.'!$I$36='Sum. OF'!D$2),'Fich.Prod.'!$I$39,0)+IF(AND('Fich.Prod.'!$C$2='Sum. OF'!$A3,'Fich.Prod.'!$I$69='Sum. OF'!D$2),'Fich.Prod.'!$I$72,0)+IF(AND('Fich.Prod.'!$C$2='Sum. OF'!$A3,'Fich.Prod.'!$M$4='Sum. OF'!D$2),'Fich.Prod.'!$M$7,0)+IF(AND('Fich.Prod.'!$C$2='Sum. OF'!$A3,'Fich.Prod.'!$M$36='Sum. OF'!D$2),'Fich.Prod.'!$M$39,0)+IF(AND('Fich.Prod.'!$C$2='Sum. OF'!$A3,'Fich.Prod.'!$M$69='Sum. OF'!D$2),'Fich.Prod.'!$M$72,0)+IF(AND('Fich.Prod.'!$C$2='Sum. OF'!$A3,'Fich.Prod.'!$P$4='Sum. OF'!D$2),'Fich.Prod.'!$P$7,0)+IF(AND('Fich.Prod.'!$C$2='Sum. OF'!$A3,'Fich.Prod.'!$P$36='Sum. OF'!D$2),'Fich.Prod.'!$P$39,0)+IF(AND('Fich.Prod.'!$C$2='Sum. OF'!$A3,'Fich.Prod.'!$P$69='Sum. OF'!D$2),'Fich.Prod.'!$P$72,0) -> 300 | E3: =IF(AND('Fich.Prod.'!$C$2='Sum. OF'!$A3,'Fich.Prod.'!$C$4=E$2),'Fich.Prod.'!$C$7,0)+IF(AND('Fich.Prod.'!$C$2='Sum. OF'!$A3,'Fich.Prod.'!$C$36='Sum. OF'!E$2),'Fich.Prod.'!$C$39,0)+IF(AND('Fich.Prod.'!$C$2='Sum. OF'!$A3,'Fich.Prod.'!$C$69='Sum. OF'!E$2),'Fich.Prod.'!$C$72,0)+IF(AND('Fich.Prod.'!$C$2='Sum. OF'!$A3,'Fich.Prod.'!$F$4='Sum. OF'!E$2),'Fich.Prod.'!$F$7,0)+IF(AND('Fich.Prod.'!$C$2='Sum. OF'!$A3,'Fich.Prod.'!$F$36='Sum. OF'!E$2),'Fich.Prod.'!$F$39,0)+IF(AND('Fich.Prod.'!$C$2='Sum. OF'!$A3,'Fich.Prod.'!$F$69='Sum. OF'!E$2),'Fich.Prod.'!$F$72,0)+IF(AND('Fich.Prod.'!$C$2='Sum. OF'!$A3,'Fich.Prod.'!$I$4='Sum. OF'!E$2),'Fich.Prod.'!$I$7,0)+IF(AND('Fich.Prod.'!$C$2='Sum. OF'!$A3,'Fich.Prod.'!$I$36='Sum. OF'!E$2),'Fich.Prod.'!$I$39,0)+IF(AND('Fich.Prod.'!$C$2='Sum. OF'!$A3,'Fich.Prod.'!$I$69='Sum. OF'!E$2),'Fich.Prod.'!$I$72,0)+IF(AND('Fich.Prod.'!$C$2='Sum. OF'!$A3,'Fich.Prod.'!$M$4='Sum. OF'!E$2),'Fich.Prod.'!$M$7,0)+IF(AND('Fich.Prod.'!$C$2='Sum. OF'!$A3,'Fich.Prod.'!$M$36='Sum. OF'!E$2),'Fich.Prod.'!$M$39,0)+IF(AND('Fich.Prod.'!$C$2='Sum. OF'!$A3,'Fich.Prod.'!$M$69='Sum. OF'!E$2),'Fich.Prod.'!$M$72,0)+IF(AND('Fich.Prod.'!$C$2='Sum. OF'!$A3,'Fich.Prod.'!$P$4='Sum. OF'!E$2),'Fich.Prod.'!$P$7,0)+IF(AND('Fich.Prod.'!$C$2='Sum. OF'!$A3,'Fich.Prod.'!$P$36='Sum. OF'!E$2),'Fich.Prod.'!$P$39,0)+IF(AND('Fich.Prod.'!$C$2='Sum. OF'!$A3,'Fich.Prod.'!$P$69='Sum. OF'!E$2),'Fich.Prod.'!$P$72,0) -> 0 | F3: =IF(AND('Fich.Prod.'!$C$2='Sum. OF'!$A3,'Fich.Prod.'!$C$4=F$2),'Fich.Prod.'!$C$7,0)+IF(AND('Fich.Prod.'!$C$2='Sum. OF'!$A3,'Fich.Prod.'!$C$36='Sum. OF'!F$2),'Fich.Prod.'!$C$39,0)+IF(AND('Fich.Prod.'!$C$2='Sum. OF'!$A3,'Fich.Prod.'!$C$69='Sum. OF'!F$2),'Fich.Prod.'!$C$72,0)+IF(AND('Fich.Prod.'!$C$2='Sum. OF'!$A3,'Fich.Prod.'!$F$4='Sum. OF'!F$2),'Fich.Prod.'!$F$7,0)+IF(AND('Fich.Prod.'!$C$2='Sum. OF'!$A3,'Fich.Prod.'!$F$36='Sum. OF'!F$2),'Fich.Prod.'!$F$39,0)+IF(AND('Fich.Prod.'!$C$2='Sum. OF'!$A3,'Fich.Prod.'!$F$69='Sum. OF'!F$2),'Fich.Prod.'!$F$72,0)+IF(AND('Fich.Prod.'!$C$2='Sum. OF'!$A3,'Fich.Prod.'!$I$4='Sum. OF'!F$2),'Fich.Prod.'!$I$7,0)+IF(AND('Fich.Prod.'!$C$2='Sum. OF'!$A3,'Fich.Prod.'!$I$36='Sum. OF'!F$2),'Fich.Prod.'!$I$39,0)+IF(AND('Fich.Prod.'!$C$2='Sum. OF'!$A3,'Fich.Prod.'!$I$69='Sum. OF'!F$2),'Fich.Prod.'!$I$72,0)+IF(AND('Fich.Prod.'!$C$2='Sum. OF'!$A3,'Fich.Prod.'!$M$4='Sum. OF'!F$2),'Fich.Prod.'!$M$7,0)+IF(AND('Fich.Prod.'!$C$2='Sum. OF'!$A3,'Fich.Prod.'!$M$36='Sum. OF'!F$2),'Fich.Prod.'!$M$39,0)+IF(AND('Fich.Prod.'!$C$2='Sum. OF'!$A3,'Fich.Prod.'!$M$69='Sum. OF'!F$2),'Fich.Prod.'!$M$72,0)+IF(AND('Fich.Prod.'!$C$2='Sum. OF'!$A3,'Fich.Prod.'!$P$4='Sum. OF'!F$2),'Fich.Prod.'!$P$7,0)+IF(AND('Fich.Prod.'!$C$2='Sum. OF'!$A3,'Fich.Prod.'!$P$36='Sum. OF'!F$2),'Fich.Prod.'!$P$39,0)+IF(AND('Fich.Prod.'!$C$2='Sum. OF'!$A3,'Fich.Prod.'!$P$69='Sum. OF'!F$2),'Fich.Prod.'!$P$72,0) -> 0 | G3: =IF(AND('Fich.Prod.'!$C$2='Sum. OF'!$A3,'Fich.Prod.'!$C$4=G$2),'Fich.Prod.'!$C$7,0)+IF(AND('Fich.Prod.'!$C$2='Sum. OF'!$A3,'Fich.Prod.'!$C$36='Sum. OF'!G$2),'Fich.Prod.'!$C$39,0)+IF(AND('Fich.Prod.'!$C$2='Sum. OF'!$A3,'Fich.Prod.'!$C$69='Sum. OF'!G$2),'Fich.Prod.'!$C$72,0)+IF(AND('Fich.Prod.'!$C$2='Sum. OF'!$A3,'Fich.Prod.'!$F$4='Sum. OF'!G$2),'Fich.Prod.'!$F$7,0)+IF(AND('Fich.Prod.'!$C$2='Sum. OF'!$A3,'Fich.Prod.'!$F$36='Sum. OF'!G$2),'Fich.Prod.'!$F$39,0)+IF(AND('Fich.Prod.'!$C$2='Sum. OF'!$A3,'Fich.Prod.'!$F$69='Sum. OF'!G$2),'Fich.Prod.'!$F$72,0)+IF(AND('Fich.Prod.'!$C$2='Sum. OF'!$A3,'Fich.Prod.'!$I$4='Sum. OF'!G$2),'Fich.Prod.'!$I$7,0)+IF(AND('Fich.Prod.'!$C$2='Sum. OF'!$A3,'Fich.Prod.'!$I$36='Sum. OF'!G$2),'Fich.Prod.'!$I$39,0)+IF(AND('Fich.Prod.'!$C$2='Sum. OF'!$A3,'Fich.Prod.'!$I$69='Sum. OF'!G$2),'Fich.Prod.'!$I$72,0)+IF(AND('Fich.Prod.'!$C$2='Sum. OF'!$A3,'Fich.Prod.'!$M$4='Sum. OF'!G$2),'Fich.Prod.'!$M$7,0)+IF(AND('Fich.Prod.'!$C$2='Sum. OF'!$A3,'Fich.Prod.'!$M$36='Sum. OF'!G$2),'Fich.Prod.'!$M$39,0)+IF(AND('Fich.Prod.'!$C$2='Sum. OF'!$A3,'Fich.Prod.'!$M$69='Sum. OF'!G$2),'Fich.Prod.'!$M$72,0)+IF(AND('Fich.Prod.'!$C$2='Sum. OF'!$A3,'Fich.Prod.'!$P$4='Sum. OF'!G$2),'Fich.Prod.'!$P$7,0)+IF(AND('Fich.Prod.'!$C$2='Sum. OF'!$A3,'Fich.Prod.'!$P$36='Sum. OF'!G$2),'Fich.Prod.'!$P$39,0)+IF(AND('Fich.Prod.'!$C$2='Sum. OF'!$A3,'Fich.Prod.'!$P$69='Sum. OF'!G$2),'Fich.Prod.'!$P$72,0) -> 200 | H3: =IF(AND('Fich.Prod.'!$C$2='Sum. OF'!$A3,'Fich.Prod.'!$C$4=H$2),'Fich.Prod.'!$C$7,0)+IF(AND('Fich.Prod.'!$C$2='Sum. OF'!$A3,'Fich.Prod.'!$C$36='Sum. OF'!H$2),'Fich.Prod.'!$C$39,0)+IF(AND('Fich.Prod.'!$C$2='Sum. OF'!$A3,'Fich.Prod.'!$C$69='Sum. OF'!H$2),'Fich.Prod.'!$C$72,0)+IF(AND('Fich.Prod.'!$C$2='Sum. OF'!$A3,'Fich.Prod.'!$F$4='Sum. OF'!H$2),'Fich.Prod.'!$F$7,0)+IF(AND('Fich.Prod.'!$C$2='Sum. OF'!$A3,'Fich.Prod.'!$F$36='Sum. OF'!H$2),'Fich.Prod.'!$F$39,0)+IF(AND('Fich.Prod.'!$C$2='Sum. OF'!$A3,'Fich.Prod.'!$F$69='Sum. OF'!H$2),'Fich.Prod.'!$F$72,0)+IF(AND('Fich.Prod.'!$C$2='Sum. OF'!$A3,'Fich.Prod.'!$I$4='Sum. OF'!H$2),'Fich.Prod.'!$I$7,0)+IF(AND('Fich.Prod.'!$C$2='Sum. OF'!$A3,'Fich.Prod.'!$I$36='Sum. OF'!H$2),'Fich.Prod.'!$I$39,0)+IF(AND('Fich.Prod.'!$C$2='Sum. OF'!$A3,'Fich.Prod.'!$I$69='Sum. OF'!H$2),'Fich.Prod.'!$I$72,0)+IF(AND('Fich.Prod.'!$C$2='Sum. OF'!$A3,'Fich.Prod.'!$M$4='Sum. OF'!H$2),'Fich.Prod.'!$M$7,0)+IF(AND('Fich.Prod.'!$C$2='Sum. OF'!$A3,'Fich.Prod.'!$M$36='Sum. OF'!H$2),'Fich.Prod.'!$M$39,0)+IF(AND('Fich.Prod.'!$C$2='Sum. OF'!$A3,'Fich.Prod.'!$M$69='Sum. OF'!H$2),'Fich.Prod.'!$M$72,0)+IF(AND('Fich.Prod.'!$C$2='Sum. OF'!$A3,'Fich.Prod.'!$P$4='Sum. OF'!H$2),'Fich.Prod.'!$P$7,0)+IF(AND('Fich.Prod.'!$C$2='Sum. OF'!$A3,'Fich.Prod.'!$P$36='Sum. OF'!H$2),'Fich.Prod.'!$P$39,0)+IF(AND('Fich.Prod.'!$C$2='Sum. OF'!$A3,'Fich.Prod.'!$P$69='Sum. OF'!H$2),'Fich.Prod.'!$P$72,0) -> 0 | I3: =IF(AND('Fich.Prod.'!$C$2='Sum. OF'!$A3,'Fich.Prod.'!$C$4=I$2),'Fich.Prod.'!$C$7,0)+IF(AND('Fich.Prod.'!$C$2='Sum. OF'!$A3,'Fich.Prod.'!$C$36='Sum. OF'!I$2),'Fich.Prod.'!$C$39,0)+IF(AND('Fich.Prod.'!$C$2='Sum. OF'!$A3,'Fich.Prod.'!$C$69='Sum. OF'!I$2),'Fich.Prod.'!$C$72,0)+IF(AND('Fich.Prod.'!$C$2='Sum. OF'!$A3,'Fich.Prod.'!$F$4='Sum. OF'!I$2),'Fich.Prod.'!$F$7,0)+IF(AND('Fich.Prod.'!$C$2='Sum. OF'!$A3,'Fich.Prod.'!$F$36='Sum. OF'!I$2),'Fich.Prod.'!$F$39,0)+IF(AND('Fich.Prod.'!$C$2='Sum. OF'!$A3,'Fich.Prod.'!$F$69='Sum. OF'!I$2),'Fich.Prod.'!$F$72,0)+IF(AND('Fich.Prod.'!$C$2='Sum. OF'!$A3,'Fich.Prod.'!$I$4='Sum. OF'!I$2),'Fich.Prod.'!$I$7,0)+IF(AND('Fich.Prod.'!$C$2='Sum. OF'!$A3,'Fich.Prod.'!$I$36='Sum. OF'!I$2),'Fich.Prod.'!$I$39,0)+IF(AND('Fich.Prod.'!$C$2='Sum. OF'!$A3,'Fich.Prod.'!$I$69='Sum. OF'!I$2),'Fich.Prod.'!$I$72,0)+IF(AND('Fich.Prod.'!$C$2='Sum. OF'!$A3,'Fich.Prod.'!$M$4='Sum. OF'!I$2),'Fich.Prod.'!$M$7,0)+IF(AND('Fich.Prod.'!$C$2='Sum. OF'!$A3,'Fich.Prod.'!$M$36='Sum. OF'!I$2),'Fich.Prod.'!$M$39,0)+IF(AND('Fich.Prod.'!$C$2='Sum. OF'!$A3,'Fich.Prod.'!$M$69='Sum. OF'!I$2),'Fich.Prod.'!$M$72,0)+IF(AND('Fich.Prod.'!$C$2='Sum. OF'!$A3,'Fich.Prod.'!$P$4='Sum. OF'!I$2),'Fich.Prod.'!$P$7,0)+IF(AND('Fich.Prod.'!$C$2='Sum. OF'!$A3,'Fich.Prod.'!$P$36='Sum. OF'!I$2),'Fich.Prod.'!$P$39,0)+IF(AND('Fich.Prod.'!$C$2='Sum. OF'!$A3,'Fich.Prod.'!$P$69='Sum. OF'!I$2),'Fich.Prod.'!$P$72,0) -> 0 | J3: =IF(AND('Fich.Prod.'!$C$2='Sum. OF'!$A3,'Fich.Prod.'!$C$4=J$2),'Fich.Prod.'!$C$7,0)+IF(AND('Fich.Prod.'!$C$2='Sum. OF'!$A3,'Fich.Prod.'!$C$36='Sum. OF'!J$2),'Fich.Prod.'!$C$39,0)+IF(AND('Fich.Prod.'!$C$2='Sum. OF'!$A3,'Fich.Prod.'!$C$69='Sum. OF'!J$2),'Fich.Prod.'!$C$72,0)+IF(AND('Fich.Prod.'!$C$2='Sum. OF'!$A3,'Fich.Prod.'!$F$4='Sum. OF'!J$2),'Fich.Prod.'!$F$7,0)+IF(AND('Fich.Prod.'!$C$2='Sum. OF'!$A3,'Fich.Prod.'!$F$36='Sum. OF'!J$2),'Fich.Prod.'!$F$39,0)+IF(AND('Fich.Prod.'!$C$2='Sum. OF'!$A3,'Fich.Prod.'!$F$69='Sum. OF'!J$2),'Fich.Prod.'!$F$72,0)+IF(AND('Fich.Prod.'!$C$2='Sum. OF'!$A3,'Fich.Prod.'!$I$4='Sum. OF'!J$2),'Fich.Prod.'!$I$7,0)+IF(AND('Fich.Prod.'!$C$2='Sum. OF'!$A3,'Fich.Prod.'!$I$36='Sum. OF'!J$2),'Fich.Prod.'!$I$39,0)+IF(AND('Fich.Prod.'!$C$2='Sum. OF'!$A3,'Fich.Prod.'!$I$69='Sum. OF'!J$2),'Fich.Prod.'!$I$72,0)+IF(AND('Fich.Prod.'!$C$2='Sum. OF'!$A3,'Fich.Prod.'!$M$4='Sum. OF'!J$2),'Fich.Prod.'!$M$7,0)+IF(AND('Fich.Prod.'!$C$2='Sum. OF'!$A3,'Fich.Prod.'!$M$36='Sum. OF'!J$2),'Fich.Prod.'!$M$39,0)+IF(AND('Fich.Prod.'!$C$2='Sum. OF'!$A3,'Fich.Prod.'!$M$69='Sum. OF'!J$2),'Fich.Prod.'!$M$72,0)+IF(AND('Fich.Prod.'!$C$2='Sum. OF'!$A3,'Fich.Prod.'!$P$4='Sum. OF'!J$2),'Fich.Prod.'!$P$7,0)+IF(AND('Fich.Prod.'!$C$2='Sum. OF'!$A3,'Fich.Prod.'!$P$36='Sum. OF'!J$2),'Fich.Prod.'!$P$39,0)+IF(AND('Fich.Prod.'!$C$2='Sum. OF'!$A3,'Fich.Prod.'!$P$69='Sum. OF'!J$2),'Fich.Prod.'!$P$72,0) -> 0 | K3: =IF(AND('Fich.Prod.'!$C$2='Sum. OF'!$A3,'Fich.Prod.'!$C$4=K$2),'Fich.Prod.'!$C$7,0)+IF(AND('Fich.Prod.'!$C$2='Sum. OF'!$A3,'Fich.Prod.'!$C$36='Sum. OF'!K$2),'Fich.Prod.'!$C$39,0)+IF(AND('Fich.Prod.'!$C$2='Sum. OF'!$A3,'Fich.Prod.'!$C$69='Sum. OF'!K$2),'Fich.Prod.'!$C$72,0)+IF(AND('Fich.Prod.'!$C$2='Sum. OF'!$A3,'Fich.Prod.'!$F$4='Sum. OF'!K$2),'Fich.Prod.'!$F$7,0)+IF(AND('Fich.Prod.'!$C$2='Sum. OF'!$A3,'Fich.Prod.'!$F$36='Sum. OF'!K$2),'Fich.Prod.'!$F$39,0)+IF(AND('Fich.Prod.'!$C$2='Sum. OF'!$A3,'Fich.Prod.'!$F$69='Sum. OF'!K$2),'Fich.Prod.'!$F$72,0)+IF(AND('Fich.Prod.'!$C$2='Sum. OF'!$A3,'Fich.Prod.'!$I$4='Sum. OF'!K$2),'Fich.Prod.'!$I$7,0)+IF(AND('Fich.Prod.'!$C$2='Sum. OF'!$A3,'Fich.Prod.'!$I$36='Sum. OF'!K$2),'Fich.Prod.'!$I$39,0)+IF(AND('Fich.Prod.'!$C$2='Sum. OF'!$A3,'Fich.Prod.'!$I$69='Sum. OF'!K$2),'Fich.Prod.'!$I$72,0)+IF(AND('Fich.Prod.'!$C$2='Sum. OF'!$A3,'Fich.Prod.'!$M$4='Sum. OF'!K$2),'Fich.Prod.'!$M$7,0)+IF(AND('Fich.Prod.'!$C$2='Sum. OF'!$A3,'Fich.Prod.'!$M$36='Sum. OF'!K$2),'Fich.Prod.'!$M$39,0)+IF(AND('Fich.Prod.'!$C$2='Sum. OF'!$A3,'Fich.Prod.'!$M$69='Sum. OF'!K$2),'Fich.Prod.'!$M$72,0)+IF(AND('Fich.Prod.'!$C$2='Sum. OF'!$A3,'Fich.Prod.'!$P$4='Sum. OF'!K$2),'Fich.Prod.'!$P$7,0)+IF(AND('Fich.Prod.'!$C$2='Sum. OF'!$A3,'Fich.Prod.'!$P$36='Sum. OF'!K$2),'Fich.Prod.'!$P$39,0)+IF(AND('Fich.Prod.'!$C$2='Sum. OF'!$A3,'Fich.Prod.'!$P$69='Sum. OF'!K$2),'Fich.Prod.'!$P$72,0) -> 0 | ... Q3: =IF(AND('Fich.Prod.'!$C$2='Sum. OF'!$A3,'Fich.Prod.'!$C$4=Q$2),'Fich.Prod.'!$C$7,0)+IF(AND('Fich.Prod.'!$C$2='Sum. OF'!$A3,'Fich.Prod.'!$C$36='Sum. OF'!Q$2),'Fich.Prod.'!$C$39,0)+IF(AND('Fich.Prod.'!$C$2='Sum. OF'!$A3,'Fich.Prod.'!$C$69='Sum. OF'!Q$2),'Fich.Prod.'!$C$72,0)+IF(AND('Fich.Prod.'!$C$2='Sum. OF'!$A3,'Fich.Prod.'!$F$4='Sum. OF'!Q$2),'Fich.Prod.'!$F$7,0)+IF(AND('Fich.Prod.'!$C$2='Sum. OF'!$A3,'Fich.Prod.'!$F$36='Sum. OF'!Q$2),'Fich.Prod.'!$F$39,0)+IF(AND('Fich.Prod.'!$C$2='Sum. OF'!$A3,'Fich.Prod.'!$F$69='Sum. OF'!Q$2),'Fich.Prod.'!$F$72,0)+IF(AND('Fich.Prod.'!$C$2='Sum. OF'!$A3,'Fich.Prod.'!$I$4='Sum. OF'!Q$2),'Fich.Prod.'!$I$7,0)+IF(AND('Fich.Prod.'!$C$2='Sum. OF'!$A3,'Fich.Prod.'!$I$36='Sum. OF'!Q$2),'Fich.Prod.'!$I$39,0)+IF(AND('Fich.Prod.'!$C$2='Sum. OF'!$A3,'Fich.Prod.'!$I$69='Sum. OF'!Q$2),'Fich.Prod.'!$I$72,0)+IF(AND('Fich.Prod.'!$C$2='Sum. OF'!$A3,'Fich.Prod.'!$M$4='Sum. OF'!Q$2),'Fich.Prod.'!$M$7,0)+IF(AND('Fich.Prod.'!$C$2='Sum. OF'!$A3,'Fich.Prod.'!$M$36='Sum. OF'!Q$2),'Fich.Prod.'!$M$39,0)+IF(AND('Fich.Prod.'!$C$2='Sum. OF'!$A3,'Fich.Prod.'!$M$69='Sum. OF'!Q$2),'Fich.Prod.'!$M$72,0)+IF(AND('Fich.Prod.'!$C$2='Sum. OF'!$A3,'Fich.Prod.'!$P$4='Sum. OF'!Q$2),'Fich.Prod.'!$P$7,0)+IF(AND('Fich.Prod.'!$C$2='Sum. OF'!$A3,'Fich.Prod.'!$P$36='Sum. OF'!Q$2),'Fich.Prod.'!$P$39,0)+IF(AND('Fich.Prod.'!$C$2='Sum. OF'!$A3,'Fich.Prod.'!$P$69='Sum. OF'!Q$2),'Fich.Prod.'!$P$72,0) -> 0 | R3: =IF(AND('Fich.Prod.'!$C$2='Sum. OF'!$A3,'Fich.Prod.'!$B$8=R$2),'Fich.Prod.'!$C$8,0)+IF(AND('Fich.Prod.'!$C$2='Sum. OF'!$A3,'Fich.Prod.'!$B$40='Sum. OF'!R$2),'Fich.Prod.'!$C$40,0)+IF(AND('Fich.Prod.'!$C$2='Sum. OF'!$A3,'Fich.Prod.'!$B$73='Sum. OF'!R$2),'Fich.Prod.'!$C$73,0)+IF(AND('Fich.Prod.'!$C$2='Sum. OF'!$A3,'Fich.Prod.'!$E$8='Sum. OF'!R$2),'Fich.Prod.'!$F$8,0)+IF(AND('Fich.Prod.'!$C$2='Sum. OF'!$A3,'Fich.Prod.'!$E$40='Sum. OF'!R$2),'Fich.Prod.'!$F$40,0)+IF(AND('Fich.Prod.'!$C$2='Sum. OF'!$A3,'Fich.Prod.'!$E$73='Sum. OF'!R$2),'Fich.Prod.'!$F$73,0)+IF(AND('Fich.Prod.'!$C$2='Sum. OF'!$A3,'Fich.Prod.'!$H$8='Sum. OF'!R$2),'Fich.Prod.'!$I$8,0)+IF(AND('Fich.Prod.'!$C$2='Sum. OF'!$A3,'Fich.Prod.'!$H$40='Sum. OF'!R$2),'Fich.Prod.'!$I$40,0)+IF(AND('Fich.Prod.'!$C$2='Sum. OF'!$A3,'Fich.Prod.'!$H$73='Sum. OF'!R$2),'Fich.Prod.'!$I$73,0)+IF(AND('Fich.Prod.'!$C$2='Sum. OF'!$A3,'Fich.Prod.'!$L$8='Sum. OF'!R$2),'Fich.Prod.'!$M$8,0)+IF(AND('Fich.Prod.'!$C$2='Sum. OF'!$A3,'Fich.Prod.'!$L$40='Sum. OF'!R$2),'Fich.Prod.'!$M$40,0)+IF(AND('Fich.Prod.'!$C$2='Sum. OF'!$A3,'Fich.Prod.'!$L$73='Sum. OF'!R$2),'Fich.Prod.'!$M$73,0)+IF(AND('Fich.Prod.'!$C$2='Sum. OF'!$A3,'Fich.Prod.'!$O$8='Sum. OF'!R$2),'Fich.Prod.'!$P$8,0)+IF(AND('Fich.Prod.'!$C$2='Sum. OF'!$A3,'Fich.Prod.'!$O$40='Sum. OF'!R$2),'Fich.Prod.'!$P$40,0)+IF(AND('Fich.Prod.'!$C$2='Sum. OF'!$A3,'Fich.Prod.'!$O$73='Sum. OF'!R$2),'Fich.Prod.'!$P$73,0) -> 11200 | S3: =IF(AND('Fich.Prod.'!$C$2='Sum. OF'!$A3,'Fich.Prod.'!$B$8=S$2),'Fich.Prod.'!$C$8,0)+IF(AND('Fich.Prod.'!$C$2='Sum. OF'!$A3,'Fich.Prod.'!$B$40='Sum. OF'!S$2),'Fich.Prod.'!$C$40,0)+IF(AND('Fich.Prod.'!$C$2='Sum. OF'!$A3,'Fich.Prod.'!$B$73='Sum. OF'!S$2),'Fich.Prod.'!$C$73,0)+IF(AND('Fich.Prod.'!$C$2='Sum. OF'!$A3,'Fich.Prod.'!$E$8='Sum. OF'!S$2),'Fich.Prod.'!$F$8,0)+IF(AND('Fich.Prod.'!$C$2='Sum. OF'!$A3,'Fich.Prod.'!$E$40='Sum. OF'!S$2),'Fich.Prod.'!$F$40,0)+IF(AND('Fich.Prod.'!$C$2='Sum. OF'!$A3,'Fich.Prod.'!$E$73='Sum. OF'!S$2),'Fich.Prod.'!$F$73,0)+IF(AND('Fich.Prod.'!$C$2='Sum. OF'!$A3,'Fich.Prod.'!$H$8='Sum. OF'!S$2),'Fich.Prod.'!$I$8,0)+IF(AND('Fich.Prod.'!$C$2='Sum. OF'!$A3,'Fich.Prod.'!$H$40='Sum. OF'!S$2),'Fich.Prod.'!$I$40,0)+IF(AND('Fich.Prod.'!$C$2='Sum. OF'!$A3,'Fich.Prod.'!$H$73='Sum. OF'!S$2),'Fich.Prod.'!$I$73,0)+IF(AND('Fich.Prod.'!$C$2='Sum. OF'!$A3,'Fich.Prod.'!$L$8='Sum. OF'!S$2),'Fich.Prod.'!$M$8,0)+IF(AND('Fich.Prod.'!$C$2='Sum. OF'!$A3,'Fich.Prod.'!$L$40='Sum. OF'!S$2),'Fich.Prod.'!$M$40,0)+IF(AND('Fich.Prod.'!$C$2='Sum. OF'!$A3,'Fich.Prod.'!$L$73='Sum. OF'!S$2),'Fich.Prod.'!$M$73,0)+IF(AND('Fich.Prod.'!$C$2='Sum. OF'!$A3,'Fich.Prod.'!$O$8='Sum. OF'!S$2),'Fich.Prod.'!$P$8,0)+IF(AND('Fich.Prod.'!$C$2='Sum. OF'!$A3,'Fich.Prod.'!$O$40='Sum. OF'!S$2),'Fich.Prod.'!$P$40,0)+IF(AND('Fich.Prod.'!$C$2='Sum. OF'!$A3,'Fich.Prod.'!$O$73='Sum. OF'!S$2),'Fich.Prod.'!$P$73,0) -> 0 | T3: =IF(AND('Fich.Prod.'!$C$2='Sum. OF'!$A3,'Fich.Prod.'!$B$8=T$2),'Fich.Prod.'!$C$8,0)+IF(AND('Fich.Prod.'!$C$2='Sum. OF'!$A3,'Fich.Prod.'!$B$40='Sum. OF'!T$2),'Fich.Prod.'!$C$40,0)+IF(AND('Fich.Prod.'!$C$2='Sum. OF'!$A3,'Fich.Prod.'!$B$73='Sum. OF'!T$2),'Fich.Prod.'!$C$73,0)+IF(AND('Fich.Prod.'!$C$2='Sum. OF'!$A3,'Fich.Prod.'!$E$8='Sum. OF'!T$2),'Fich.Prod.'!$F$8,0)+IF(AND('Fich.Prod.'!$C$2='Sum. OF'!$A3,'Fich.Prod.'!$E$40='Sum. OF'!T$2),'Fich.Prod.'!$F$40,0)+IF(AND('Fich.Prod.'!$C$2='Sum. OF'!$A3,'Fich.Prod.'!$E$73='Sum. OF'!T$2),'Fich.Prod.'!$F$73,0)+IF(AND('Fich.Prod.'!$C$2='Sum. OF'!$A3,'Fich.Prod.'!$H$8='Sum. OF'!T$2),'Fich.Prod.'!$I$8,0)+IF(AND('Fich.Prod.'!$C$2='Sum. OF'!$A3,'Fich.Prod.'!$H$40='Sum. OF'!T$2),'Fich.Prod.'!$I$40,0)+IF(AND('Fich.Prod.'!$C$2='Sum. OF'!$A3,'Fich.Prod.'!$H$73='Sum. OF'!T$2),'Fich.Prod.'!$I$73,0)+IF(AND('Fich.Prod.'!$C$2='Sum. OF'!$A3,'Fich.Prod.'!$L$8='Sum. OF'!T$2),'Fich.Prod.'!$M$8,0)+IF(AND('Fich.Prod.'!$C$2='Sum. OF'!$A3,'Fich.Prod.'!$L$40='Sum. OF'!T$2),'Fich.Prod.'!$M$40,0)+IF(AND('Fich.Prod.'!$C$2='Sum. OF'!$A3,'Fich.Prod.'!$L$73='Sum. OF'!T$2),'Fich.Prod.'!$M$73,0)+IF(AND('Fich.Prod.'!$C$2='Sum. OF'!$A3,'Fich.Prod.'!$O$8='Sum. OF'!T$2),'Fich.Prod.'!$P$8,0)+IF(AND('Fich.Prod.'!$C$2='Sum. OF'!$A3,'Fich.Prod.'!$O$40='Sum. OF'!T$2),'Fich.Prod.'!$P$40,0)+IF(AND('Fich.Prod.'!$C$2='Sum. OF'!$A3,'Fich.Prod.'!$O$73='Sum. OF'!T$2),'Fich.Prod.'!$P$73,0) -> 0 | U3: =IF(AND('Fich.Prod.'!$C$2='Sum. OF'!$A3,'Fich.Prod.'!$B$8=U$2),'Fich.Prod.'!$C$8,0)+IF(AND('Fich.Prod.'!$C$2='Sum. OF'!$A3,'Fich.Prod.'!$B$40='Sum. OF'!U$2),'Fich.Prod.'!$C$40,0)+IF(AND('Fich.Prod.'!$C$2='Sum. OF'!$A3,'Fich.Prod.'!$B$73='Sum. OF'!U$2),'Fich.Prod.'!$C$73,0)+IF(AND('Fich.Prod.'!$C$2='Sum. OF'!$A3,'Fich.Prod.'!$E$8='Sum. OF'!U$2),'Fich.Prod.'!$F$8,0)+IF(AND('Fich.Prod.'!$C$2='Sum. OF'!$A3,'Fich.Prod.'!$E$40='Sum. OF'!U$2),'Fich.Prod.'!$F$40,0)+IF(AND('Fich.Prod.'!$C$2='Sum. OF'!$A3,'Fich.Prod.'!$E$73='Sum. OF'!U$2),'Fich.Prod.'!$F$73,0)+IF(AND('Fich.Prod.'!$C$2='Sum. OF'!$A3,'Fich.Prod.'!$H$8='Sum. OF'!U$2),'Fich.Prod.'!$I$8,0)+IF(AND('Fich.Prod.'!$C$2='Sum. OF'!$A3,'Fich.Prod.'!$H$40='Sum. OF'!U$2),'Fich.Prod.'!$I$40,0)+IF(AND('Fich.Prod.'!$C$2='Sum. OF'!$A3,'Fich.Prod.'!$H$73='Sum. OF'!U$2),'Fich.Prod.'!$I$73,0)+IF(AND('Fich.Prod.'!$C$2='Sum. OF'!$A3,'Fich.Prod.'!$L$8='Sum. OF'!U$2),'Fich.Prod.'!$M$8,0)+IF(AND('Fich.Prod.'!$C$2='Sum. OF'!$A3,'Fich.Prod.'!$L$40='Sum. OF'!U$2),'Fich.Prod.'!$M$40,0)+IF(AND('Fich.Prod.'!$C$2='Sum. OF'!$A3,'Fich.Prod.'!$L$73='Sum. OF'!U$2),'Fich.Prod.'!$M$73,0)+IF(AND('Fich.Prod.'!$C$2='Sum. OF'!$A3,'Fich.Prod.'!$O$8='Sum. OF'!U$2),'Fich.Prod.'!$P$8,0)+IF(AND('Fich.Prod.'!$C$2='Sum. OF'!$A3,'Fich.Prod.'!$O$40='Sum. OF'!U$2),'Fich.Prod.'!$P$40,0)+IF(AND('Fich.Prod.'!$C$2='Sum. OF'!$A3,'Fich.Prod.'!$O$73='Sum. OF'!U$2),'Fich.Prod.'!$P$73,0) -> 0 | V3: =IF(AND('Fich.Prod.'!$C$2='Sum. OF'!$A3,'Fich.Prod.'!$B$8=V$2),'Fich.Prod.'!$C$8,0)+IF(AND('Fich.Prod.'!$C$2='Sum. OF'!$A3,'Fich.Prod.'!$B$40='Sum. OF'!V$2),'Fich.Prod.'!$C$40,0)+IF(AND('Fich.Prod.'!$C$2='Sum. OF'!$A3,'Fich.Prod.'!$B$73='Sum. OF'!V$2),'Fich.Prod.'!$C$73,0)+IF(AND('Fich.Prod.'!$C$2='Sum. OF'!$A3,'Fich.Prod.'!$E$8='Sum. OF'!V$2),'Fich.Prod.'!$F$8,0)+IF(AND('Fich.Prod.'!$C$2='Sum. OF'!$A3,'Fich.Prod.'!$E$40='Sum. OF'!V$2),'Fich.Prod.'!$F$40,0)+IF(AND('Fich.Prod.'!$C$2='Sum. OF'!$A3,'Fich.Prod.'!$E$73='Sum. OF'!V$2),'Fich.Prod.'!$F$73,0)+IF(AND('Fich.Prod.'!$C$2='Sum. OF'!$A3,'Fich.Prod.'!$H$8='Sum. OF'!V$2),'Fich.Prod.'!$I$8,0)+IF(AND('Fich.Prod.'!$C$2='Sum. OF'!$A3,'Fich.Prod.'!$H$40='Sum. OF'!V$2),'Fich.Prod.'!$I$40,0)+IF(AND('Fich.Prod.'!$C$2='Sum. OF'!$A3,'Fich.Prod.'!$H$73='Sum. OF'!V$2),'Fich.Prod.'!$I$73,0)+IF(AND('Fich.Prod.'!$C$2='Sum. OF'!$A3,'Fich.Prod.'!$L$8='Sum. OF'!V$2),'Fich.Prod.'!$M$8,0)+IF(AND('Fich.Prod.'!$C$2='Sum. OF'!$A3,'Fich.Prod.'!$L$40='Sum. OF'!V$2),'Fich.Prod.'!$M$40,0)+IF(AND('Fich.Prod.'!$C$2='Sum. OF'!$A3,'Fich.Prod.'!$L$73='Sum. OF'!V$2),'Fich.Prod.'!$M$73,0)+IF(AND('Fich.Prod.'!$C$2='Sum. OF'!$A3,'Fich.Prod.'!$O$8='Sum. OF'!V$2),'Fich.Prod.'!$P$8,0)+IF(AND('Fich.Prod.'!$C$2='Sum. OF'!$A3,'Fich.Prod.'!$O$40='Sum. OF'!V$2),'Fich.Prod.'!$P$40,0)+IF(AND('Fich.Prod.'!$C$2='Sum. OF'!$A3,'Fich.Prod.'!$O$73='Sum. OF'!V$2),'Fich.Prod.'!$P$73,0) -> 0 | W3: =IF(AND('Fich.Prod.'!$C$2='Sum. OF'!$A3,'Fich.Prod.'!$B$8=W$2),'Fich.Prod.'!$C$8,0)+IF(AND('Fich.Prod.'!$C$2='Sum. OF'!$A3,'Fich.Prod.'!$B$40='Sum. OF'!W$2),'Fich.Prod.'!$C$40,0)+IF(AND('Fich.Prod.'!$C$2='Sum. OF'!$A3,'Fich.Prod.'!$B$73='Sum. OF'!W$2),'Fich.Prod.'!$C$73,0)+IF(AND('Fich.Prod.'!$C$2='Sum. OF'!$A3,'Fich.Prod.'!$E$8='Sum. OF'!W$2),'Fich.Prod.'!$F$8,0)+IF(AND('Fich.Prod.'!$C$2='Sum. OF'!$A3,'Fich.Prod.'!$E$40='Sum. OF'!W$2),'Fich.Prod.'!$F$40,0)+IF(AND('Fich.Prod.'!$C$2='Sum. OF'!$A3,'Fich.Prod.'!$E$73='Sum. OF'!W$2),'Fich.Prod.'!$F$73,0)+IF(AND('Fich.Prod.'!$C$2='Sum. OF'!$A3,'Fich.Prod.'!$H$8='Sum. OF'!W$2),'Fich.Prod.'!$I$8,0)+IF(AND('Fich.Prod.'!$C$2='Sum. OF'!$A3,'Fich.Prod.'!$H$40='Sum. OF'!W$2),'Fich.Prod.'!$I$40,0)+IF(AND('Fich.Prod.'!$C$2='Sum. OF'!$A3,'Fich.Prod.'!$H$73='Sum. OF'!W$2),'Fich.Prod.'!$I$73,0)+IF(AND('Fich.Prod.'!$C$2='Sum. OF'!$A3,'Fich.Prod.'!$L$8='Sum. OF'!W$2),'Fich.Prod.'!$M$8,0)+IF(AND('Fich.Prod.'!$C$2='Sum. OF'!$A3,'Fich.Prod.'!$L$40='Sum. OF'!W$2),'Fich.Prod.'!$M$40,0)+IF(AND('Fich.Prod.'!$C$2='Sum. OF'!$A3,'Fich.Prod.'!$L$73='Sum. OF'!W$2),'Fich.Prod.'!$M$73,0)+IF(AND('Fich.Prod.'!$C$2='Sum. OF'!$A3,'Fich.Prod.'!$O$8='Sum. OF'!W$2),'Fich.Prod.'!$P$8,0)+IF(AND('Fich.Prod.'!$C$2='Sum. OF'!$A3,'Fich.Prod.'!$O$40='Sum. OF'!W$2),'Fich.Prod.'!$P$40,0)+IF(AND('Fich.Prod.'!$C$2='Sum. OF'!$A3,'Fich.Prod.'!$O$73='Sum. OF'!W$2),'Fich.Prod.'!$P$73,0) -> 0 | X3: =IF(AND('Fich.Prod.'!$C$2='Sum. OF'!$A3,'Fich.Prod.'!$B$8=X$2),'Fich.Prod.'!$C$8,0)+IF(AND('Fich.Prod.'!$C$2='Sum. OF'!$A3,'Fich.Prod.'!$B$40='Sum. OF'!X$2),'Fich.Prod.'!$C$40,0)+IF(AND('Fich.Prod.'!$C$2='Sum. OF'!$A3,'Fich.Prod.'!$B$73='Sum. OF'!X$2),'Fich.Prod.'!$C$73,0)+IF(AND('Fich.Prod.'!$C$2='Sum. OF'!$A3,'Fich.Prod.'!$E$8='Sum. OF'!X$2),'Fich.Prod.'!$F$8,0)+IF(AND('Fich.Prod.'!$C$2='Sum. OF'!$A3,'Fich.Prod.'!$E$40='Sum. OF'!X$2),'Fich.Prod.'!$F$40,0)+IF(AND('Fich.Prod.'!$C$2='Sum. OF'!$A3,'Fich.Prod.'!$E$73='Sum. OF'!X$2),'Fich.Prod.'!$F$73,0)+IF(AND('Fich.Prod.'!$C$2='Sum. OF'!$A3,'Fich.Prod.'!$H$8='Sum. OF'!X$2),'Fich.Prod.'!$I$8,0)+IF(AND('Fich.Prod.'!$C$2='Sum. OF'!$A3,'Fich.Prod.'!$H$40='Sum. OF'!X$2),'Fich.Prod.'!$I$40,0)+IF(AND('Fich.Prod.'!$C$2='Sum. OF'!$A3,'Fich.Prod.'!$H$73='Sum. OF'!X$2),'Fich.Prod.'!$I$73,0)+IF(AND('Fich.Prod.'!$C$2='Sum. OF'!$A3,'Fich.Prod.'!$L$8='Sum. OF'!X$2),'Fich.Prod.'!$M$8,0)+IF(AND('Fich.Prod.'!$C$2='Sum. OF'!$A3,'Fich.Prod.'!$L$40='Sum. OF'!X$2),'Fich.Prod.'!$M$40,0)+IF(AND('Fich.Prod.'!$C$2='Sum. OF'!$A3,'Fich.Prod.'!$L$73='Sum. OF'!X$2),'Fich.Prod.'!$M$73,0)+IF(AND('Fich.Prod.'!$C$2='Sum. OF'!$A3,'Fich.Prod.'!$O$8='Sum. OF'!X$2),'Fich.Prod.'!$P$8,0)+IF(AND('Fich.Prod.'!$C$2='Sum. OF'!$A3,'Fich.Prod.'!$O$40='Sum. OF'!X$2),'Fich.Prod.'!$P$40,0)+IF(AND('Fich.Prod.'!$C$2='Sum. OF'!$A3,'Fich.Prod.'!$O$73='Sum. OF'!X$2),'Fich.Prod.'!$P$73,0) -> 0 | Y3: =IF(AND('Fich.Prod.'!$C$2='Sum. OF'!$A3,'Fich.Prod.'!$B$8=Y$2),'Fich.Prod.'!$C$8,0)+IF(AND('Fich.Prod.'!$C$2='Sum. OF'!$A3,'Fich.Prod.'!$B$40='Sum. OF'!Y$2),'Fich.Prod.'!$C$40,0)+IF(AND('Fich.Prod.'!$C$2='Sum. OF'!$A3,'Fich.Prod.'!$B$73='Sum. OF'!Y$2),'Fich.Prod.'!$C$73,0)+IF(AND('Fich.Prod.'!$C$2='Sum. OF'!$A3,'Fich.Prod.'!$E$8='Sum. OF'!Y$2),'Fich.Prod.'!$F$8,0)+IF(AND('Fich.Prod.'!$C$2='Sum. OF'!$A3,'Fich.Prod.'!$E$40='Sum. OF'!Y$2),'Fich.Prod.'!$F$40,0)+IF(AND('Fich.Prod.'!$C$2='Sum. OF'!$A3,'Fich.Prod.'!$E$73='Sum. OF'!Y$2),'Fich.Prod.'!$F$73,0)+IF(AND('Fich.Prod.'!$C$2='Sum. OF'!$A3,'Fich.Prod.'!$H$8='Sum. OF'!Y$2),'Fich.Prod.'!$I$8,0)+IF(AND('Fich.Prod.'!$C$2='Sum. OF'!$A3,'Fich.Prod.'!$H$40='Sum. OF'!Y$2),'Fich.Prod.'!$I$40,0)+IF(AND('Fich.Prod.'!$C$2='Sum. OF'!$A3,'Fich.Prod.'!$H$73='Sum. OF'!Y$2),'Fich.Prod.'!$I$73,0)+IF(AND('Fich.Prod.'!$C$2='Sum. OF'!$A3,'Fich.Prod.'!$L$8='Sum. OF'!Y$2),'Fich.Prod.'!$M$8,0)+IF(AND('Fich.Prod.'!$C$2='Sum. OF'!$A3,'Fich.Prod.'!$L$40='Sum. OF'!Y$2),'Fich.Prod.'!$M$40,0)+IF(AND('Fich.Prod.'!$C$2='Sum. OF'!$A3,'Fich.Prod.'!$L$73='Sum. OF'!Y$2),'Fich.Prod.'!$M$73,0)+IF(AND('Fich.Prod.'!$C$2='Sum. OF'!$A3,'Fich.Prod.'!$O$8='Sum. OF'!Y$2),'Fich.Prod.'!$P$8,0)+IF(AND('Fich.Prod.'!$C$2='Sum. OF'!$A3,'Fich.Prod.'!$O$40='Sum. OF'!Y$2),'Fich.Prod.'!$P$40,0)+IF(AND('Fich.Prod.'!$C$2='Sum. OF'!$A3,'Fich.Prod.'!$O$73='Sum. OF'!Y$2),'Fich.Prod.'!$P$73,0) -> 0 | ... AE3: =IF(AND('Fich.Prod.'!$C$2='Sum. OF'!$A3,'Fich.Prod.'!$B$8=AE$2),'Fich.Prod.'!$C$8,0)+IF(AND('Fich.Prod.'!$C$2='Sum. OF'!$A3,'Fich.Prod.'!$B$40='Sum. OF'!AE$2),'Fich.Prod.'!$C$40,0)+IF(AND('Fich.Prod.'!$C$2='Sum. OF'!$A3,'Fich.Prod.'!$B$73='Sum. OF'!AE$2),'Fich.Prod.'!$C$73,0)+IF(AND('Fich.Prod.'!$C$2='Sum. OF'!$A3,'Fich.Prod.'!$E$8='Sum. OF'!AE$2),'Fich.Prod.'!$F$8,0)+IF(AND('Fich.Prod.'!$C$2='Sum. OF'!$A3,'Fich.Prod.'!$E$40='Sum. OF'!AE$2),'Fich.Prod.'!$F$40,0)+IF(AND('Fich.Prod.'!$C$2='Sum. OF'!$A3,'Fich.Prod.'!$E$73='Sum. OF'!AE$2),'Fich.Prod.'!$F$73,0)+IF(AND('Fich.Prod.'!$C$2='Sum. OF'!$A3,'Fich.Prod.'!$H$8='Sum. OF'!AE$2),'Fich.Prod.'!$I$8,0)+IF(AND('Fich.Prod.'!$C$2='Sum. OF'!$A3,'Fich.Prod.'!$H$40='Sum. OF'!AE$2),'Fich.Prod.'!$I$40,0)+IF(AND('Fich.Prod.'!$C$2='Sum. OF'!$A3,'Fich.Prod.'!$H$73='Sum. OF'!AE$2),'Fich.Prod.'!$I$73,0)+IF(AND('Fich.Prod.'!$C$2='Sum. OF'!$A3,'Fich.Prod.'!$L$8='Sum. OF'!AE$2),'Fich.Prod.'!$M$8,0)+IF(AND('Fich.Prod.'!$C$2='Sum. OF'!$A3,'Fich.Prod.'!$L$40='Sum. OF'!AE$2),'Fich.Prod.'!$M$40,0)+IF(AND('Fich.Prod.'!$C$2='Sum. OF'!$A3,'Fich.Prod.'!$L$73='Sum. OF'!AE$2),'Fich.Prod.'!$M$73,0)+IF(AND('Fich.Prod.'!$C$2='Sum. OF'!$A3,'Fich.Prod.'!$O$8='Sum. OF'!AE$2),'Fich.Prod.'!$P$8,0)+IF(AND('Fich.Prod.'!$C$2='Sum. OF'!$A3,'Fich.Prod.'!$O$40='Sum. OF'!AE$2),'Fich.Prod.'!$P$40,0)+IF(AND('Fich.Prod.'!$C$2='Sum. OF'!$A3,'Fich.Prod.'!$O$73='Sum. OF'!AE$2),'Fich.Prod.'!$P$73,0) -> 0
A4: 2 | D4: =IF(AND('Fich.Prod.'!$C$2='Sum. OF'!$A4,'Fich.Prod.'!$C$4=D$2),'Fich.Prod.'!$C$7,0)+IF(AND('Fich.Prod.'!$C$2='Sum. OF'!$A4,'Fich.Prod.'!$C$36='Sum. OF'!D$2),'Fich.Prod.'!$C$39,0)+IF(AND('Fich.Prod.'!$C$2='Sum. OF'!$A4,'Fich.Prod.'!$C$69='Sum. OF'!D$2),'Fich.Prod.'!$C$72,0)+IF(AND('Fich.Prod.'!$C$2='Sum. OF'!$A4,'Fich.Prod.'!$F$4='Sum. OF'!D$2),'Fich.Prod.'!$F$7,0)+IF(AND('Fich.Prod.'!$C$2='Sum. OF'!$A4,'Fich.Prod.'!$F$36='Sum. OF'!D$2),'Fich.Prod.'!$F$39,0)+IF(AND('Fich.Prod.'!$C$2='Sum. OF'!$A4,'Fich.Prod.'!$F$69='Sum. OF'!D$2),'Fich.Prod.'!$F$72,0)+IF(AND('Fich.Prod.'!$C$2='Sum. OF'!$A4,'Fich.Prod.'!$I$4='Sum. OF'!D$2),'Fich.Prod.'!$I$7,0)+IF(AND('Fich.Prod.'!$C$2='Sum. OF'!$A4,'Fich.Prod.'!$I$36='Sum. OF'!D$2),'Fich.Prod.'!$I$39,0)+IF(AND('Fich.Prod.'!$C$2='Sum. OF'!$A4,'Fich.Prod.'!$I$69='Sum. OF'!D$2),'Fich.Prod.'!$I$72,0)+IF(AND('Fich.Prod.'!$C$2='Sum. OF'!$A4,'Fich.Prod.'!$M$4='Sum. OF'!D$2),'Fich.Prod.'!$M$7,0)+IF(AND('Fich.Prod.'!$C$2='Sum. OF'!$A4,'Fich.Prod.'!$M$36='Sum. OF'!D$2),'Fich.Prod.'!$M$39,0)+IF(AND('Fich.Prod.'!$C$2='Sum. OF'!$A4,'Fich.Prod.'!$M$69='Sum. OF'!D$2),'Fich.Prod.'!$M$72,0)+IF(AND('Fich.Prod.'!$C$2='Sum. OF'!$A4,'Fich.Prod.'!$P$4='Sum. OF'!D$2),'Fich.Prod.'!$P$7,0)+IF(AND('Fich.Prod.'!$C$2='Sum. OF'!$A4,'Fich.Prod.'!$P$36='Sum. OF'!D$2),'Fich.Prod.'!$P$39,0)+IF(AND('Fich.Prod.'!$C$2='Sum. OF'!$A4,'Fich.Prod.'!$P$69='Sum. OF'!D$2),'Fich.Prod.'!$P$72,0) -> 0
A5: 3
A6: 4
A7: 5
A8: 6
A9: 7
A10: 8
A11: 9
A12: 10
A13: 11
A14: 12
A15: 13
A16: 14
... A54: 52
