Workbook

Sheet Fich.Prod.
B1: Fiche Production
B2: SEMAINE | C2: 1
A3: 1 | B3: Lundi | C3: 3h | E3: Mardi | F3: 3h | H3: Mercredi | I3: 3h | L3: Jeudi | M3: 3h | O3: Vendredi | P3: 3h
A4: 1 | B4: Bière | C4: Moinette Blonde | E4: Bière | F4: Moinette Blonde | H4: Bière | I4: Moinette Bio | L4: Bière | M4: Bière de Miel | O4: Bière | P4: Saison Dupont
A5: 1 | B5: Brassin | C5: 1 | E5: Brassin | F5: 4 | H5: Brassin | I5: 7 | L5: Brassin | M5: 10 | O5: Brassin | P5: 13
A6: 1 | B6: Lot | C6: L20001A | E6: Lot | H6: Lot | I6: L20001A | L6: Lot | M6: L20001A | O6: Lot | P6: L20001A
A7: 1 | B7: Quantité (Hl) | C7: =IF(ISBLANK(C4),0,50) -> 50 | E7: Quantité (Hl) | F7: =IF(ISBLANK(F4),0,50) -> 50 | H7: Quantité (Hl) | I7: =IF(ISBLANK(I4),0,50) -> 50 | L7: Quantité (Hl) | M7: =IF(ISBLANK(M4),0,50) -> 50 | O7: Quantité (Hl) | P7: =IF(ISBLANK(P4),0,50) -> 50
A8: 1 | B8: Malt Tradi 1 | C8: =IF(C4=0,0,VLOOKUP(C4,[1]Recettes!$A$3:$V$17,[1]OF!$A$4,0)) -> 1000 | E8: Malt Tradi 1 | F8: =IF(F4=0,0,VLOOKUP(F4,[1]Recettes!$A$3:$V$17,[1]OF!$A4,0)) -> 1000 | H8: Malt Tradi 1 | I8: =IF(I4=0,0,VLOOKUP(I4,[1]Recettes!$A$3:$V$17,[1]OF!$A4,0)) -> 0 | L8: Malt Tradi 1 | M8: =IF(M4=0,0,VLOOKUP(M4,[1]Recettes!$A$3:$V$17,[1]OF!$A4,0)) -> 0 | O8: Malt Tradi 1 | P8: =IF(P4=0,0,VLOOKUP(P4,[1]Recettes!$A$3:$V$17,[1]OF!$A4,0)) -> 1300
A9: 1 | B9: Malt Tradi 2 | C9: =IF(C4=0,0,VLOOKUP(C4,[1]Recettes!$A$3:$V$17,[1]OF!$A$5,0)) -> 0 | E9: Malt Tradi 2 | F9: =IF(F4=0,0,VLOOKUP(F4,[1]Recettes!$A$3:$V$17,[1]OF!$A5,0)) -> 0 | H9: Malt Tradi 2 | I9: =IF(I4=0,0,VLOOKUP(I4,[1]Recettes!$A$3:$V$17,[1]OF!$A5,0)) -> 0 | L9: Malt Tradi 2 | M9: =IF(M4=0,0,VLOOKUP(M4,[1]Recettes!$A$3:$V$17,[1]OF!$A5,0)) -> 0 | O9: Malt Tradi 2 | P9: =IF(P4=0,0,VLOOKUP(P4,[1]Recettes!$A$3:$V$17,[1]OF!$A5,0)) -> 0
A10: 1 | B10: Malt Tradi 3 | C10: =IF(C4=0,0,VLOOKUP(C4,[1]Recettes!$A$3:$V$17,[1]OF!$A$6,0)) -> 0 | E10: Malt Tradi 3 | F10: =IF(F4=0,0,VLOOKUP(F4,[1]Recettes!$A$3:$V$17,[1]OF!$A6,0)) -> 0 | H10: Malt Tradi 3 | I10: =IF(I4=0,0,VLOOKUP(I4,[1]Recettes!$A$3:$V$17,[1]OF!$A6,0)) -> 0 | L10: Malt Tradi 3 | M10: =IF(M4=0,0,VLOOKUP(M4,[1]Recettes!$A$3:$V$17,[1]OF!$A6,0)) -> 0 | O10: Malt Tradi 3 | P10: =IF(P4=0,0,VLOOKUP(P4,[1]Recettes!$A$3:$V$17,[1]OF!$A6,0)) -> 0
A11: 1 | B11: Malt Tradi 4 | C11: =IF(C4=0,0,VLOOKUP(C4,[1]Recettes!$A$3:$V$17,[1]OF!$A$7,0)) -> 0 | E11: Malt Tradi 4 | F11: =IF(F4=0,0,VLOOKUP(F4,[1]Recettes!$A$3:$V$17,[1]OF!$A7,0)) -> 0 | H11: Malt Tradi 4 | I11: =IF(I4=0,0,VLOOKUP(I4,[1]Recettes!$A$3:$V$17,[1]OF!$A7,0)) -> 0 | L11: Malt Tradi 4 | M11: =IF(M4=0,0,VLOOKUP(M4,[1]Recettes!$A$3:$V$17,[1]OF!$A7,0)) -> 0 | O11: Malt Tradi 4 | P11: =IF(P4=0,0,VLOOKUP(P4,[1]Recettes!$A$3:$V$17,[1]OF!$A7,0)) -> 0
A12: 1 | B12: Malt Bio 1 | C12: =IF(C4=0,0,VLOOKUP(C4,[1]Recettes!$A$3:$V$17,[1]OF!$A$8,0)) -> 0 | E12: Malt Bio 1 | F12: =IF(F4=0,0,VLOOKUP(F4,[1]Recettes!$A$3:$V$17,[1]OF!$A8,0)) -> 0 | H12: Malt Bio 1 | I12: =IF(I4=0,0,VLOOKUP(I4,[1]Recettes!$A$3:$V$17,[1]OF!$A8,0)) -> 1000 | L12: Malt Bio 1 | M12: =IF(M4=0,0,VLOOKUP(M4,[1]Recettes!$A$3:$V$17,[1]OF!$A8,0)) -> 950 | O12: Malt Bio 1 | P12: =IF(P4=0,0,VLOOKUP(P4,[1]Recettes!$A$3:$V$17,[1]OF!$A8,0)) -> 0
A13: 1 | B13: Malt Bio 2 | C13: =IF(C4=0,0,VLOOKUP(C4,[1]Recettes!$A$3:$V$17,[1]OF!$A$9,0)) -> 0 | E13: Malt Bio 2 | F13: =IF(F4=0,0,VLOOKUP(F4,[1]Recettes!$A$3:$V$17,[1]OF!$A9,0)) -> 0 | H13: Malt Bio 2 | I13: =IF(I4=0,0,VLOOKUP(I4,[1]Recettes!$A$3:$V$17,[1]OF!$A9,0)) -> 0 | L13: Malt Bio 2 | M13: =IF(M4=0,0,VLOOKUP(M4,[1]Recettes!$A$3:$V$17,[1]OF!$A9,0)) -> 100 | O13: Malt Bio 2 | P13: =IF(P4=0,0,VLOOKUP(P4,[1]Recettes!$A$3:$V$17,[1]OF!$A9,0)) -> 0
A14: 1 | B14: Malt Bio 3 | C14: =IF(C4=0,0,VLOOKUP(C4,[1]Recettes!$A$3:$V$17,[1]OF!$A$10,0)) -> 0 | E14: Malt Bio 3 | F14: =IF(F4=0,0,VLOOKUP(F4,[1]Recettes!$A$3:$V$17,[1]OF!$A10,0)) -> 0 | H14: Malt Bio 3 | I14: =IF(I4=0,0,VLOOKUP(I4,[1]Recettes!$A$3:$V$17,[1]OF!$A10,0)) -> 0 | L14: Malt Bio 3 | M14: =IF(M4=0,0,VLOOKUP(M4,[1]Recettes!$A$3:$V$17,[1]OF!$A10,0)) -> 0 | O14: Malt Bio 3 | P14: =IF(P4=0,0,VLOOKUP(P4,[1]Recettes!$A$3:$V$17,[1]OF!$A10,0)) -> 0
A15: 1 | B15: Froment Bio | C15: =IF(C4=0,0,VLOOKUP(C4,[1]Recettes!$A$3:$V$17,[1]OF!$A$11,0)) -> 0 | E15: Froment Bio | F15: =IF(F4=0,0,VLOOKUP(F4,[1]Recettes!$A$3:$V$17,[1]OF!$A11,0)) -> 0 | H15: Froment Bio | I15: =IF(I4=0,0,VLOOKUP(I4,[1]Recettes!$A$3:$V$17,[1]OF!$A11,0)) -> 0 | L15: Froment Bio | M15: =IF(M4=0,0,VLOOKUP(M4,[1]Recettes!$A$3:$V$17,[1]OF!$A11,0)) -> 0 | O15: Froment Bio | P15: =IF(P4=0,0,VLOOKUP(P4,[1]Recettes!$A$3:$V$17,[1]OF!$A11,0)) -> 0
A16: 1 | B16: Sucre | C16: 0 | E16: Sucre | F16: 0 | H16: Sucre | I16: 0 | L16: Sucre | M16: 0 | O16: Sucre | P16: 0
A17: 1 | B17: Sirop de blé Bio | C17: 0 | E17: Sirop de blé Bio | F17: 0 | H17: Sirop de blé Bio | I17: 0 | L17: Sirop de blé Bio | M17: 0 | O17: Sirop de blé Bio | P17: 0
A18: 1 | B18: Houblon 1 | C18: 0 | E18: Houblon 1 | F18: 0 | H18: Houblon 1 | I18: 0 | L18: Houblon 1 | M18: 0 | O18: Houblon 1 | P18: 0
A19: 1 | B19: Houblon 2 | C19: 0 | E19: Houblon 2 | F19: 0 | H19: Houblon 2 | I19: 0 | L19: Houblon 2 | M19: 0 | O19: Houblon 2 | P19: 0
A20: 1 | B20: Houblon 3 | C20: 0 | E20: Houblon 3 | F20: 0 | H20: Houblon 3 | I20: 0 | L20: Houblon 3 | M20: 0 | O20: Houblon 3 | P20: 0
A21: 1 | B21: Houblon 3 (Bio) | C21: 0 | E21: Houblon 3 (Bio) | F21: 0 | H21: Houblon 3 (Bio) | I21: 0 | L21: Houblon 3 (Bio) | M21: 0 | O21: Houblon 3 (Bio) | P21: 0
A22: 1 | B22: Quantité réelle | C22: 0 | E22: Quantité réelle | F22: 0 | H22: Quantité réelle | I22: 0 | L22: Quantité réelle | M22: 0 | O22: Quantité réelle | P22: 0
A23: 1
A24: 1
A25: 1
A26: 1
A27: 1
A28: 1
A29: 1
A30: 1
A31: 1
A32: 1
A33: 1
B34: SEMAINE | C34: =$C$2 -> 1
A35: 1 | B35: Lundi | C35: 8h | E35: Mardi | F35: 8h | H35: Mercredi | I35: 8h | L35: Jeudi | M35: 8h | O35: Vendredi | P35: 8h
A36: 1 | B36: Bière | C36: Moinette Blonde | E36: Bière | F36: Moinette Blonde | H36: Bière | I36: Moinette Bio | L36: Bière | M36: Bière de Miel | O36: Bière | P36: Saison Dupont
A37: 1 | B37: Brassin | C37: 2 | E37: Brassin | F37: 5 | H37: Brassin | I37: 8 | L37: Brassin | M37: 11 | O37: Brassin | P37: 14
A38: 1 | B38: Lot | C38: L20001A | E38: Lot | F38: L20001A | H38: Lot | I38: L20001A | L38: Lot | M38: L20001A | O38: Lot | P38: L20001A
A39: 1 | B39: Quantité (Hl) | C39: =IF(ISBLANK(C36),0,50) -> 50 | E39: Quantité (Hl) | F39: =IF(ISBLANK(F36),0,50) -> 50 | H39: Quantité (Hl) | I39: =IF(ISBLANK(I36),0,50) -> 50 | L39: Quantité (Hl) | M39: =IF(ISBLANK(M36),0,50) -> 50 | O39: Quantité (Hl) | P39: =IF(ISBLANK(P36),0,50) -> 50
A40: 1 | B40: Malt Tradi 1 | C40: =IF(C36=0,0,VLOOKUP(C36,[1]Recettes!$A$3:$V$17,[1]OF!$A$4,0)) -> 1000 | E40: Malt Tradi 1 | F40: =IF(F36=0,0,VLOOKUP(F36,[1]Recettes!$A$3:$V$17,[1]OF!$A$4,0)) -> 1000 | H40: Malt Tradi 1 | I40: =IF(I36=0,0,VLOOKUP(I36,[1]Recettes!$A$3:$V$17,[1]OF!$A$4,0)) -> 0 | L40: Malt Tradi 1 | M40: =IF(M36=0,0,VLOOKUP(M36,[1]Recettes!$A$3:$V$17,[1]OF!$A$4,0)) -> 0 | O40: Malt Tradi 1 | P40: =IF(P36=0,0,VLOOKUP(P36,[1]Recettes!$A$3:$V$17,[1]OF!$A$4,0)) -> 1300
...

Sheet Sum. OF
D1: Production | R1: Conso MP
A2: Semaine | B2: # Brassins | C2: Total (HL) | D2: Moinette Blonde | E2: Moinette Brune | F2: Moinette Ambrée | G2: Saison Dupont | H2: Bons Vœux | I2: Rédor | J2: Saison Dupont DH | K2: Monk's Stout | L2: Bière de Miel | M2: Moinette Bio | N2: Saison Dupont Bio | O2: Blanche du Hainaut | P2: Biolégère | Q2: Triomf | R2: Malt Tradi 1 | S2: Malt Tradi 2 | T2: Malt Tradi 3 | U2: Malt Tradi 4 | V2: Malt Bio 1 | W2: Malt Bio 2 | X2: Malt Bio 3 | Y2: Froment Bio | Z2: Sucre | AA2: Sirop de blé Bio | AB2: Houblon 1 | AC2: Houblon 2 | AD2: Houblon 3 | AE2: Houblon 3 (Bio)
A3: 1 | B3: =IF('Fich.Prod.'!P70<>"",'Fich.Prod.'!P70,IF('Fich.Prod.'!P37<>"",'Fich.Prod.'!P37,IF('Fich.Prod.'!P5<>"",'Fich.Prod.'!P5,IF('Fich.Prod.'!M70<>"",'Fich.Prod.'!M70,IF('Fich.Prod.'!M37<>"",'Fich.Prod.'!M37,IF('Fich.Prod.'!M5<>"",'Fich.Prod.'!M5,IF('Fich.Prod.'!I70<>"",'Fich.Prod.'!I70,IF('Fich.Prod.'!I37<>"",'Fich.Prod.'!I37,IF('Fich.Prod.'!I5<>"",'Fich.Prod.'!I5,IF('Fich.Prod.'!F37<>"",'Fich.Prod.'!F37,IF('Fich.Prod.'!F5<>"",'Fich.Prod.'!F5,IF('Fich.Prod.'!C70<>"",'Fich.Prod.'!C70,IF('Fich.Prod.'!C37<>"",'Fich.Prod.'!C37,IF('Fich.Prod.'!C5<>"",'Fich.Prod.'!C5,0)))))))))))))) -> 14 | C3: =SUM(D3:Q3) -> 700 | D3: =IF(AND('Fich.Prod.'!$C$2='Sum. OF'!$A3,'Fich.Prod.'!$C$4=D$2),'Fich.Prod.'!$C$7,0)+IF(AND('Fich.Prod.'!$C$2='Sum. OF'!$A3,'Fich.Prod.'!$C$36='Sum. OF'!D$2),'Fich.Prod.'!$C$39,0)+IF(AND('Fich.Prod.'!$C$2='Sum. OF'!$A3,'Fich.Prod.'!$C$69='Sum. OF'!D$2),'Fich.Prod.'!$C$72,0)+IF(AND('Fich.Prod.'!$C$2='Sum. OF'!$A3,'Fich.Prod.'!$F$4='Sum. OF'!D$2),'Fich.Prod.'!$F$7,0)+IF(AND('Fich.Prod.'!$C$2='Sum. OF'!$A3,'Fich.Prod.'!$F$36='Sum. OF'!D$2),'Fich.Prod.'!$F$39,0)+IF(AND('Fich.Prod.'!$C$2='Sum. OF'!$A3,'Fich.Prod.'!$F$69='Sum. OF'!D$2),'Fich.Prod.'!$F$72,0)+IF(AND('Fich.Prod.'!$C$2='Sum. OF'!$A3,'Fich.Prod.'!$I$4='Sum. OF'!D$2),'Fich.Prod.'!$I$7,0)+IF(AND('Fich.Prod.'!$C$2='Sum. OF'!$A3,'Fich.Prod.'!$I$36='Sum. OF'!D$2),'Fich.Prod.'!$I$39,0)+IF(AND('Fich.Prod.'!$C$2='Sum. OF'!$A3,'Fich.Prod.'!$I$69='Sum. OF'!D$2),'Fich.Prod.'!$I$72,0)+IF(AND('Fich.Prod.'!$C$2='Sum. OF'!$A3,'Fich.Prod.'!$M$4='Sum. OF'!D$2),'Fich.Prod.'!$M$7,0)+IF(AND('Fich.Prod.'!$C$2='Sum. OF'!$A3,'Fich.Prod.'!$M$36='Sum. OF'!D$2),'Fich.Prod.'!$M$39,0)+IF(AND('Fich.Prod.'!$C$2='Sum. OF'!$A3,'Fich.Prod.'!$M$69='Sum. OF'!D$2),'Fich.Prod.'!$M$72,0)+IF(AND('Fich.Prod.'!$C$2='Sum. OF'!$A3,'Fich.Prod.'!$P$4='Sum. OF'!D$2),'Fich.Prod.'!$P$7,0)+IF(AND('Fich.Prod.'!$C$2='Sum. OF'!$A3,'Fich.Prod.'!$P$36='Sum. OF'!D$2),'Fich.Prod.'!$P$39,0)+IF(AND('Fich.Prod.'!$C$2='Sum. OF'!$A3,'Fich.Prod.'!$P$69='Sum. OF'!D$2),'Fich.Prod.'!$P$72,0) -> 300 | E3: =IF(AND('Fich.Prod.'!$C$2='Sum. OF'!$A3,'Fich.Prod.'!$C$4=E$2),'Fich.Prod.'!$C$7,0)+IF(AND('Fich.Prod.'!$C$2='Sum. OF'!$A3,'Fich.Prod.'!$C$36='Sum. OF'!E$2),'Fich.Prod.'!$C$39,0)+IF(AND('Fich.Prod.'!$C$2='Sum. OF'!$A3,'Fich.Prod.'!$C$69='Sum. OF'!E$2),'Fich.Prod.'!$C$72,0)+IF(AND('Fich.Prod.'!$C$2='Sum. OF'!$A3,'Fich.Prod.'!$F$4='Sum. OF'!E$2),'Fich.Prod.'!$F$7,0)+IF(AND('Fich.Prod.'!$C$2='Sum. OF'!$A3,'Fich.Prod.'!$F$36='Sum. OF'!E$2),'Fich.Prod.'!$F$39,0)+IF(AND('Fich.Prod.'!$C$2='Sum. OF'!$A3,'Fich.Prod.'!$F$69='Sum. OF'!E$2),'Fich.Prod.'!$F$72,0)+IF(AND('Fich.Prod.'!$C$2='Sum. OF'!$A3,'Fich.Prod.'!$I$4='Sum. OF'!E$2),'Fich.Prod.'!$I$7,0)+IF(AND('Fich.Prod.'!$C$2='Sum. OF'!$A3,'Fich.Prod.'!$I$36='Sum. OF'!E$2),'Fich.Prod.'!$I$39,0)+IF(AND('Fich.Prod.'!$C$2='Sum. OF'!$A3,'Fich.Prod.'!$I$69='Sum. OF'!E$2),'Fich.Prod.'!$I$72,0)+IF(AND('Fich.Prod.'!$C$2='Sum. OF'!$A3,'Fich.Prod.'!$M$4='Sum. OF'!E$2),'Fich.Prod.'!$M$7,0)+IF(AND('Fich.Prod.'!$C$2='Sum. OF'!$A3,'Fich.Prod.'!$M$36='Sum. OF'!E$2),'Fich.Prod.'!$M$39,0)+IF(AND('Fich.Prod.'!$C$2='Sum. OF'!$A3,'Fich.Prod.'!$M$69='Sum. OF'!E$2),'Fich.Prod.'!$M$72,0)+IF(AND('Fich.Prod.'!$C$2='Sum. OF'!$A3,'Fich.Prod.'!$P$4='Sum. OF'!E$2),'Fich.Prod.'!$P$7,0)+IF(AND('Fich.Prod.'!$C$2='Sum. OF'!$A3,'Fich.Prod.'!$P$36='Sum. OF'!E$2),'Fich.Prod.'!$P$39,0)+IF(AND('Fich.Prod.'!$C$2='Sum. OF'!$A3,'Fich.Prod.'!$P$69='Sum. OF'!E$2),'Fich.Prod.'!$P$72,0) -> 0 | F3: =IF(AND('Fich.Prod.'!$C$2='Sum. OF'!$A3,'Fich.Prod.'!$C$4=F$2),'Fich.Prod.'!$C$7,0)+IF(AND('Fich.Prod.'!$C$2='Sum. OF'!$A3,'Fich.Prod.'!$C$36='Sum. OF'!F$2),'Fich.Prod.'!$C$39,0)+IF(AND('Fich.Prod.'!$C$2='Sum. OF'!$A3,'Fich.Prod.'!$C$69='Sum. OF'!F$2),'Fich.Prod.'!$C$72,0)+IF(AND('Fich.Prod.'!$C$2='Sum. OF'!$A3,'Fich.Prod.'!$F$4='Sum. OF'!F$2),'Fich.Prod.'!$F$7,0)+IF(AND('Fich.Prod.'!$C$2='Sum. OF'!$A3,'Fich.Prod.'!$F$36='Sum. OF'!F$2),'Fich.Prod.'!$F$39,0)+IF(AND('Fich.Prod.'!$C$2='Sum. OF'!$A3,'Fich.Prod.'!$F$69='Sum. OF'!F$2),'Fich.Prod.'!$F$72,0)+IF(AND('Fich.Prod.'!$C$2='Sum. OF'!$A3,'Fich.Prod.'!$I$4='Sum. OF'!F$2),'Fich.Prod.'!$I$7,0)+IF(AND('Fich.Prod.'!$C$2='Sum. OF'!$A3,'Fich.Prod.'!$I$36='Sum. OF'!F$2),'Fich.Prod.'!$I$39,0)+IF(AND('Fich.Prod.'!$C$2='Sum. OF'!$A3,'Fich.Prod.'!$I$69='Sum. OF'!F$2),'Fich.Prod.'!$I$72,0)+IF(AND('Fich.Prod.'!$C$2='Sum. OF'!$A3,'Fich.Prod.'!$M$4='Sum. OF'!F$2),'Fich.Prod.'!$M$7,0)+IF(AND('Fich.Prod.'!$C$2='Sum. OF'!$A3,'Fich.Prod.'!$M$36='Sum. OF'!F$2),'Fich.Prod.'!$M$39,0)+IF(AND('Fich.Prod.'!$C$2='Sum. OF'!$A3,'Fich.Prod.'!$M$69='Sum. OF'!F$2),'Fich.Prod.'!$M$72,0)+IF(AND('Fich.Prod.'!$C$2='Sum. OF'!$A3,'Fich.Prod.'!$P$4='Sum. OF'!F$2),'Fich.Prod.'!$P$7,0)+IF(AND('Fich.Prod.'!$C$2='Sum. OF'!$A3,'Fich.Prod.'!$P$36='Sum. OF'!F$2),'Fich.Prod.'!$P$39,0)+IF(AND('Fich.Prod.'!$C$2='Sum. OF'!$A3,'Fich.Prod.'!$P$69='Sum. OF'!F$2),'Fich.Prod.'!$P$72,0) -> 0 | G3: =IF(AND('Fich.Prod.'!$C$2='Sum. OF'!$A3,'Fich.Prod.'!$C$4=G$2),'Fich.Prod.'!$C$7,0)+IF(AND('Fich.Prod.'!$C$2='Sum. OF'!$A3,'Fich.Prod.'!$C$36='Sum. OF'!G$2),'Fich.Prod.'!$C$39,0)+IF(AND('Fich.Prod.'!$C$2='Sum. OF'!$A3,'Fich.Prod.'!$C$69='Sum. OF'!G$2),'Fich.Prod.'!$C$72,0)+IF(AND('Fich.Prod.'!$C$2='Sum. OF'!$A3,'Fich.Prod.'!$F$4='Sum. OF'!G$2),'Fich.Prod.'!$F$7,0)+IF(AND('Fich.Prod.'!$C$2='Sum. OF'!$A3,'Fich.Prod.'!$F$36='Sum. OF'!G$2),'Fich.Prod.'!$F$39,0)+IF(AND('Fich.Prod.'!$C$2='Sum. OF'!$A3,'Fich.Prod.'!$F$69='Sum. OF'!G$2),'Fich.Prod.'!$F$72,0)+IF(AND('Fich.Prod.'!$C$2='Sum. OF'!$A3,'Fich.Prod.'!$I$4='Sum. OF'!G$2),'Fich.Prod.'!$I$7,0)+IF(AND('Fich.Prod.'!$C$2='Sum. OF'!$A3,'Fich.Prod.'!$I$36='Sum. OF'!G$2),'Fich.Prod.'!$I$39,0)+IF(AND('Fich.Prod.'!$C$2='Sum. OF'!$A3,'Fich.Prod.'!$I$69='Sum. OF'!G$2),'Fich.Prod.'!$I$72,0)+IF(AND('Fich.Prod.'!$C$2='Sum. OF'!$A3,'Fich.Prod.'!$M$4='Sum. OF'!G$2),'Fich.Prod.'!$M$7,0)+IF(AND('Fich.Prod.'!$C$2='Sum. OF'!$A3,'Fich.Prod.'!$M$36='Sum. OF'!G$2),'Fich.Prod.'!$M$39,0)+IF(AND('Fich.Prod.'!$C$2='Sum. OF'!$A3,'Fich.Prod.'!$M$69='Sum. OF'!G$2),'Fich.Prod.'!$M$72,0)+IF(AND('Fich.Prod.'!$C$2='Sum. OF'!$A3,'Fich.Prod.'!$P$4='Sum. OF'!G$2),'Fich.Prod.'!$P$7,0)+IF(AND('Fich.Prod.'!$C$2='Sum. OF'!$A3,'Fich.Prod.'!$P$36='Sum. OF'!G$2),'Fich.Prod.'!$P$39,0)+IF(AND('Fich.Prod.'!$C$2='Sum. OF'!$A3,'Fich.Prod.'!$P$69='Sum. OF'!G$2),'Fich.Prod.'!$P$72,0) -> 200 | H3: =IF(AND('Fich.Prod.'!$C$2='Sum. OF'!$A3,'Fich.Prod.'!$C$4=H$2),'Fich.Prod.'!$C$7,0)+IF(AND('Fich.Prod.'!$C$2='Sum. OF'!$A3,'Fich.Prod.'!$C$36='Sum. OF'!H$2),'Fich.Prod.'!$C$39,0)+IF(AND('Fich.Prod.'!$C$2='Sum. OF'!$A3,'Fich.Prod.'!$C$69='Sum. OF'!H$2),'Fich.Prod.'!$C$72,0)+IF(AND('Fich.Prod.'!$C$2='Sum. OF'!$A3,'Fich.Prod.'!$F$4='Sum. OF'!H$2),'Fich.Prod.'!$F$7,0)+IF(AND('Fich.Prod.'!$C$2='Sum. OF'!$A3,'Fich.Prod.'!$F$36='Sum. OF'!H$2),'Fich.Prod.'!$F$39,0)+IF(AND('Fich.Prod.'!$C$2='Sum. OF'!$A3,'Fich.Prod.'!$F$69='Sum. OF'!H$2),'Fich.Prod.'!$F$72,0)+IF(AND('Fich.Prod.'!$C$2='Sum. OF'!$A3,'Fich.Prod.'!$I$4='Sum. OF'!H$2),'Fich.Prod.'!$I$7,0)+IF(AND('Fich.Prod.'!$C$2='Sum. OF'!$A3,'Fich.Prod.'!$I$36='Sum. OF'!H$2),'Fich.Prod.'!$I$39,0)+IF(AND('Fich.Prod.'!$C$2='Sum. OF'!$A3,'Fich.Prod.'!$I$69='Sum. OF'!H$2),'Fich.Prod.'!$I$72,0)+IF(AND('Fich.Prod.'!$C$2='Sum. OF'!$A3,'Fich.Prod.'!$M$4='Sum. OF'!H$2),'Fich.Prod.'!$M$7,0)+IF(AND('Fich.Prod.'!$C$2='Sum. OF'!$A3,'Fich.Prod.'!$M$36='Sum. OF'!H$2),'Fich.Prod.'!$M$39,0)+IF(AND('Fich.Prod.'!$C$2='Sum. OF'!$A3,'Fich.Prod.'!$M$69='Sum. OF'!H$2),'Fich.Prod.'!$M$72,0)+IF(AND('Fich.Prod.'!$C$2='Sum. OF'!$A3,'Fich.Prod.'!$P$4='Sum. OF'!H$2),'Fich.Prod.'!$P$7,0)+IF(AND('Fich.Prod.'!$C$2='Sum. OF'!$A3,'Fich.Prod.'!$P$36='Sum. OF'!H$2),'Fich.Prod.'!$P$39,0)+IF(AND('Fich.Prod.'!$C$2='Sum. OF'!$A3,'Fich.Prod.'!$P$69='Sum. OF'!H$2),'Fich.Prod.'!$P$72,0) -> 0 | I3: =IF(AND('Fich.Prod.'!$C$2='Sum. OF'!$A3,'Fich.Prod.'!$C$4=I$2),'Fich.Prod.'!$C$7,0)+IF(AND('Fich.Prod.'!$C$2='Sum. OF'!$A3,'Fich.Prod.'!$C$36='Sum. OF'!I$2),'Fich.Prod.'!$C$39,0)+IF(AND('Fich.Prod.'!$C$2='Sum. OF'!$A3,'Fich.Prod.'!$C$69='Sum. OF'!I$2),'Fich.Prod.'!$C$72,0)+IF(AND('Fich.Prod.'!$C$2='Sum. OF'!$A3,'Fich.Prod.'!$F$4='Sum. OF'!I$2),'Fich.Prod.'!$F$7,0)+IF(AND('Fich.Prod.'!$C$2='Sum. OF'!$A3,'Fich.Prod.'!$F$36='Sum. OF'!I$2),'Fich.Prod.'!$F$39,0)+IF(AND('Fich.Prod.'!$C$2='Sum. OF'!$A3,'Fich.Prod.'!$F$69='Sum. OF'!I$2),'Fich.Prod.'!$F$72,0)+IF(AND('Fich.Prod.'!$C$2='Sum. OF'!$A3,'Fich.Prod.'!$I$4='Sum. OF'!I$2),'Fich.Prod.'!$I$7,0)+IF(AND('Fich.Prod.'!$C$2='Sum. OF'!$A3,'Fich.Prod.'!$I$36='Sum. OF'!I$2),'Fich.Prod.'!$I$39,0)+IF(AND('Fich.Prod.'!$C$2='Sum. OF'!$A3,'Fich.Prod.'!$I$69='Sum. OF'!I$2),'Fich.Prod.'!$I$72,0)+IF(AND('Fich.Prod.'!$C$2='Sum. OF'!$A3,'Fich.Prod.'!$M$4='Sum. OF'!I$2),'Fich.Prod.'!$M$7,0)+IF(AND('Fich.Prod.'!$C$2='Sum. OF'!$A3,'Fich.Prod.'!$M$36='Sum. OF'!I$2),'Fich.Prod.'!$M$39,0)+IF(AND('Fich.Prod.'!$C$2='Sum. OF'!$A3,'Fich.Prod.'!$M$69='Sum. OF'!I$2),'Fich.Prod.'!$M$72,0)+IF(AND('Fich.Prod.'!$C$2='Sum. OF'!$A3,'Fich.Prod.'!$P$4='Sum. OF'!I$2),'Fich.Prod.'!$P$7,0)+IF(AND('Fich.Prod.'!$C$2='Sum. OF'!$A3,'Fich.Prod.'!$P$36='Sum. OF'!I$2),'Fich.Prod.'!$P$39,0)+IF(AND('Fich.Prod.'!$C$2='Sum. OF'!$A3,'Fich.Prod.'!$P$69='Sum. OF'!I$2),'Fich.Prod.'!$P$72,0) -> 0 | J3: =IF(AND('Fich.Prod.'!$C$2='Sum. OF'!$A3,'Fich.Prod.'!$C$4=J$2),'Fich.Prod.'!$C$7,0)+IF(AND('Fich.Prod.'!$C$2='Sum. OF'!$A3,'Fich.Prod.'!$C$36='Sum. OF'!J$2),'Fich.Prod.'!$C$39,0)+IF(AND('Fich.Prod.'!$C$2='Sum. OF'!$A3,'Fich.Prod.'!$C$69='Sum. OF'!J$2),'Fich.Prod.'!$C$72,0)+IF(AND('Fich.Prod.'!$C$2='Sum. OF'!$A3,'Fich.Prod.'!$F$4='Sum. OF'!J$2),'Fich.Prod.'!$F$7,0)+IF(AND('Fich.Prod.'!$C$2='Sum. OF'!$A3,'Fich.Prod.'!$F$36='Sum. OF'!J$2),'Fich.Prod.'!$F$39,0)+IF(AND('Fich.Prod.'!$C$2='Sum. OF'!$A3,'Fich.Prod.'!$F$69='Sum. OF'!J$2),'Fich.Prod.'!$F$72,0)+IF(AND('Fich.Prod.'!$C$2='Sum. OF'!$A3,'Fich.Prod.'!$I$4='Sum. OF'!J$2),'Fich.Prod.'!$I$7,0)+IF(AND('Fich.Prod.'!$C$2='Sum. OF'!$A3,'Fich.Prod.'!$I$36='Sum. OF'!J$2),'Fich.Prod.'!$I$39,0)+IF(AND('Fich.Prod.'!$C$2='Sum. OF'!$A3,'Fich.Prod.'!$I$69='Sum. OF'!J$2),'Fich.Prod.'!$I$72,0)+IF(AND('Fich.Prod.'!$C$2='Sum. OF'!$A3,'Fich.Prod.'!$M$4='Sum. OF'!J$2),'Fich.Prod.'!$M$7,0)+IF(AND('Fich.Prod.'!$C$2='Sum. OF'!$A3,'Fich.Prod.'!$M$36='Sum. OF'!J$2),'Fich.Prod.'!$M$39,0)+IF(AND('Fich.Prod.'!$C$2='Sum. OF'!$A3,'Fich.Prod.'!$M$69='Sum. OF'!J$2),'Fich.Prod.'!$M$72,0)+IF(AND('Fich.Prod.'!$C$2='Sum. OF'!$A3,'Fich.Prod.'!$P$4='Sum. OF'!J$2),'Fich.Prod.'!$P$7,0)+IF(AND('Fich.Prod.'!$C$2='Sum. OF'!$A3,'Fich.Prod.'!$P$36='Sum. OF'!J$2),'Fich.Prod.'!$P$39,0)+IF(AND('Fich.Prod.'!$C$2='Sum. OF'!$A3,'Fich.Prod.'!$P$69='Sum. OF'!J$2),'Fich.Prod.'!$P$72,0) -> 0 | K3: =IF(AND('Fich.Prod.'!$C$2='Sum. OF'!$A3,'Fich.Prod.'!$C$4=K$2),'Fich.Prod.'!$C$7,0)+IF(AND('Fich.Prod.'!$C$2='Sum. OF'!$A3,'Fich.Prod.'!$C$36='Sum. OF'!K$2),'Fich.Prod.'!$C$39,0)+IF(AND('Fich.Prod.'!$C$2='Sum. OF'!$A3,'Fich.Prod.'!$C$69='Sum. OF'!K$2),'Fich.Prod.'!$C$72,0)+IF(AND('Fich.Prod.'!$C$2='Sum. OF'!$A3,'Fich.Prod.'!$F$4='Sum. OF'!K$2),'Fich.Prod.'!$F$7,0)+IF(AND('Fich.Prod.'!$C$2='Sum. OF'!$A3,'Fich.Prod.'!$F$36='Sum. OF'!K$2),'Fich.Prod.'!$F$39,0)+IF(AND('Fich.Prod.'!$C$2='Sum. OF'!$A3,'Fich.Prod.'!$F$69='Sum. OF'!K$2),'Fich.Prod.'!$F$72,0)+IF(AND('Fich.Prod.'!$C$2='Sum. OF'!$A3,'Fich.Prod.'!$I$4='Sum. OF'!K$2),'Fich.Prod.'!$I$7,0)+IF(AND('Fich.Prod.'!$C$2='Sum. OF'!$A3,'Fich.Prod.'!$I$36='Sum. OF'!K$2),'Fich.Prod.'!$I$39,0)+IF(AND('Fich.Prod.'!$C$2='Sum. OF'!$A3,'Fich.Prod.'!$I$69='Sum. OF'!K$2),'Fich.Prod.'!$I$72,0)+IF(AND('Fich.Prod.'!$C$2='Sum. OF'!$A3,'Fich.Prod.'!$M$4='Sum. OF'!K$2),'Fich.Prod.'!$M$7,0)+IF(AND('Fich.Prod.'!$C$2='Sum. OF'!$A3,'Fich.Prod.'!$M$36='Sum. OF'!K$2),'Fich.Prod.'!$M$39,0)+IF(AND('Fich.Prod.'!$C$2='Sum. OF'!$A3,'Fich.Prod.'!$M$69='Sum. OF'!K$2),'Fich.Prod.'!$M$72,0)+IF(AND('Fich.Prod.'!$C$2='Sum. OF'!$A3,'Fich.Prod.'!$P$4='Sum. OF'!K$2),'Fich.Prod.'!$P$7,0)+IF(AND('Fich.Prod.'!$C$2='Sum. OF'!$A3,'Fich.Prod.'!$P$36='Sum. OF'!K$2),'Fich.Prod.'!$P$39,0)+IF(AND('Fich.Prod.'!$C$2='Sum. OF'!$A3,'Fich.Prod.'!$P$69='Sum. OF'!K$2),'Fich.Prod.'!$P$72,0) -> 0 | ... Q3: =IF(AND('Fich.Prod.'!$C$2='Sum. OF'!$A3,'Fich.Prod.'!$C$4=Q$2),'Fich.Prod.'!$C$7,0)+IF(AND('Fich.Prod.'!$C$2='Sum. OF'!$A3,'Fich.Prod.'!$C$36='Sum. OF'!Q$2),'Fich.Prod.'!$C$39,0)+IF(AND('Fich.Prod.'!$C$2='Sum. OF'!$A3,'Fich.Prod.'!$C$69='Sum. OF'!Q$2),'Fich.Prod.'!$C$72,0)+IF(AND('Fich.Prod.'!$C$2='Sum. OF'!$A3,'Fich.Prod.'!$F$4='Sum. OF'!Q$2),'Fich.Prod.'!$F$7,0)+IF(AND('Fich.Prod.'!$C$2='Sum. OF'!$A3,'Fich.Prod.'!$F$36='Sum. OF'!Q$2),'Fich.Prod.'!$F$39,0)+IF(AND('Fich.Prod.'!$C$2='Sum. OF'!$A3,'Fich.Prod.'!$F$69='Sum. OF'!Q$2),'Fich.Prod.'!$F$72,0)+IF(AND('Fich.Prod.'!$C$2='Sum. OF'!$A3,'Fich.Prod.'!$I$4='Sum. OF'!Q$2),'Fich.Prod.'!$I$7,0)+IF(AND('Fich.Prod.'!$C$2='Sum. OF'!$A3,'Fich.Prod.'!$I$36='Sum. OF'!Q$2),'Fich.Prod.'!$I$39,0)+IF(AND('Fich.Prod.'!$C$2='Sum. OF'!$A3,'Fich.Prod.'!$I$69='Sum. OF'!Q$2),'Fich.Prod.'!$I$72,0)+IF(AND('Fich.Prod.'!$C$2='Sum. OF'!$A3,'Fich.Prod.'!$M$4='Sum. OF'!Q$2),'Fich.Prod.'!$M$7,0)+IF(AND('Fich.Prod.'!$C$2='Sum. OF'!$A3,'Fich.Prod.'!$M$36='Sum. OF'!Q$2),'Fich.Prod.'!$M$39,0)+IF(AND('Fich.Prod.'!$C$2='Sum. OF'!$A3,'Fich.Prod.'!$M$69='Sum. OF'!Q$2),'Fich.Prod.'!$M$72,0)+IF(AND('Fich.Prod.'!$C$2='Sum. OF'!$A3,'Fich.Prod.'!$P$4='Sum. OF'!Q$2),'Fich.Prod.'!$P$7,0)+IF(AND('Fich.Prod.'!$C$2='Sum. OF'!$A3,'Fich.Prod.'!$P$36='Sum. OF'!Q$2),'Fich.Prod.'!$P$39,0)+IF(AND('Fich.Prod.'!$C$2='Sum. OF'!$A3,'Fich.Prod.'!$P$69='Sum. OF'!Q$2),'Fich.Prod.'!$P$72,0) -> 0 | R3: =IF(AND('Fich.Prod.'!$C$2='Sum. OF'!$A3,'Fich.Prod.'!$B$8=R$2),'Fich.Prod.'!$C$8,0)+IF(AND('Fich.Prod.'!$C$2='Sum. OF'!$A3,'Fich.Prod.'!$B$40='Sum. OF'!R$2),'Fich.Prod.'!$C$40,0)+IF(AND('Fich.Prod.'!$C$2='Sum. OF'!$A3,'Fich.Prod.'!$B$73='Sum. OF'!R$2),'Fich.Prod.'!$C$73,0)+IF(AND('Fich.Prod.'!$C$2='Sum. OF'!$A3,'Fich.Prod.'!$E$8='Sum. OF'!R$2),'Fich.Prod.'!$F$8,0)+IF(AND('Fich.Prod.'!$C$2='Sum. OF'!$A3,'Fich.Prod.'!$E$40='Sum. OF'!R$2),'Fich.Prod.'!$F$40,0)+IF(AND('Fich.Prod.'!$C$2='Sum. OF'!$A3,'Fich.Prod.'!$E$73='Sum. OF'!R$2),'Fich.Prod.'!$F$73,0)+IF(AND('Fich.Prod.'!$C$2='Sum. OF'!$A3,'Fich.Prod.'!$H$8='Sum. OF'!R$2),'Fich.Prod.'!$I$8,0)+IF(AND('Fich.Prod.'!$C$2='Sum. OF'!$A3,'Fich.Prod.'!$H$40='Sum. OF'!R$2),'Fich.Prod.'!$I$40,0)+IF(AND('Fich.Prod.'!$C$2='Sum. OF'!$A3,'Fich.Prod.'!$H$73='Sum. OF'!R$2),'Fich.Prod.'!$I$73,0)+IF(AND('Fich.Prod.'!$C$2='Sum. OF'!$A3,'Fich.Prod.'!$L$8='Sum. OF'!R$2),'Fich.Prod.'!$M$8,0)+IF(AND('Fich.Prod.'!$C$2='Sum. OF'!$A3,'Fich.Prod.'!$L$40='Sum. OF'!R$2),'Fich.Prod.'!$M$40,0)+IF(AND('Fich.Prod.'!$C$2='Sum. OF'!$A3,'Fich.Prod.'!$L$73='Sum. OF'!R$2),'Fich.Prod.'!$M$73,0)+IF(AND('Fich.Prod.'!$C$2='Sum. OF'!$A3,'Fich.Prod.'!$O$8='Sum. OF'!R$2),'Fich.Prod.'!$P$8,0)+IF(AND('Fich.Prod.'!$C$2='Sum. OF'!$A3,'Fich.Prod.'!$O$40='Sum. OF'!R$2),'Fich.Prod.'!$P$40,0)+IF(AND('Fich.Prod.'!$C$2='Sum. OF'!$A3,'Fich.Prod.'!$O$73='Sum. OF'!R$2),'Fich.Prod.'!$P$73,0) -> 11200 | S3: =IF(AND('Fich.Prod.'!$C$2='Sum. OF'!$A3,'Fich.Prod.'!$B$8=S$2),'Fich.Prod.'!$C$8,0)+IF(AND('Fich.Prod.'!$C$2='Sum. OF'!$A3,'Fich.Prod.'!$B$40='Sum. OF'!S$2),'Fich.Prod.'!$C$40,0)+IF(AND('Fich.Prod.'!$C$2='Sum. OF'!$A3,'Fich.Prod.'!$B$73='Sum. OF'!S$2),'Fich.Prod.'!$C$73,0)+IF(AND('Fich.Prod.'!$C$2='Sum. OF'!$A3,'Fich.Prod.'!$E$8='Sum. OF'!S$2),'Fich.Prod.'!$F$8,0)+IF(AND('Fich.Prod.'!$C$2='Sum. OF'!$A3,'Fich.Prod.'!$E$40='Sum. OF'!S$2),'Fich.Prod.'!$F$40,0)+IF(AND('Fich.Prod.'!$C$2='Sum. OF'!$A3,'Fich.Prod.'!$E$73='Sum. OF'!S$2),'Fich.Prod.'!$F$73,0)+IF(AND('Fich.Prod.'!$C$2='Sum. OF'!$A3,'Fich.Prod.'!$H$8='Sum. OF'!S$2),'Fich.Prod.'!$I$8,0)+IF(AND('Fich.Prod.'!$C$2='Sum. OF'!$A3,'Fich.Prod.'!$H$40='Sum. OF'!S$2),'Fich.Prod.'!$I$40,0)+IF(AND('Fich.Prod.'!$C$2='Sum. OF'!$A3,'Fich.Prod.'!$H$73='Sum. OF'!S$2),'Fich.Prod.'!$I$73,0)+IF(AND('Fich.Prod.'!$C$2='Sum. OF'!$A3,'Fich.Prod.'!$L$8='Sum. OF'!S$2),'Fich.Prod.'!$M$8,0)+IF(AND('Fich.Prod.'!$C$2='Sum. OF'!$A3,'Fich.Prod.'!$L$40='Sum. OF'!S$2),'Fich.Prod.'!$M$40,0)+IF(AND('Fich.Prod.'!$C$2='Sum. OF'!$A3,'Fich.Prod.'!$L$73='Sum. OF'!S$2),'Fich.Prod.'!$M$73,0)+IF(AND('Fich.Prod.'!$C$2='Sum. OF'!$A3,'Fich.Prod.'!$O$8='Sum. OF'!S$2),'Fich.Prod.'!$P$8,0)+IF(AND('Fich.Prod.'!$C$2='Sum. OF'!$A3,'Fich.Prod.'!$O$40='Sum. OF'!S$2),'Fich.Prod.'!$P$40,0)+IF(AND('Fich.Prod.'!$C$2='Sum. OF'!$A3,'Fich.Prod.'!$O$73='Sum. OF'!S$2),'Fich.Prod.'!$P$73,0) -> 0 | T3: =IF(AND('Fich.Prod.'!$C$2='Sum. OF'!$A3,'Fich.Prod.'!$B$8=T$2),'Fich.Prod.'!$C$8,0)+IF(AND('Fich.Prod.'!$C$2='Sum. OF'!$A3,'Fich.Prod.'!$B$40='Sum. OF'!T$2),'Fich.Prod.'!$C$40,0)+IF(AND('Fich.Prod.'!$C$2='Sum. OF'!$A3,'Fich.Prod.'!$B$73='Sum. OF'!T$2),'Fich.Prod.'!$C$73,0)+IF(AND('Fich.Prod.'!$C$2='Sum. OF'!$A3,'Fich.Prod.'!$E$8='Sum. OF'!T$2),'Fich.Prod.'!$F$8,0)+IF(AND('Fich.Prod.'!$C$2='Sum. OF'!$A3,'Fich.Prod.'!$E$40='Sum. OF'!T$2),'Fich.Prod.'!$F$40,0)+IF(AND('Fich.Prod.'!$C$2='Sum. OF'!$A3,'Fich.Prod.'!$E$73='Sum. OF'!T$2),'Fich.Prod.'!$F$73,0)+IF(AND('Fich.Prod.'!$C$2='Sum. OF'!$A3,'Fich.Prod.'!$H$8='Sum. OF'!T$2),'Fich.Prod.'!$I$8,0)+IF(AND('Fich.Prod.'!$C$2='Sum. OF'!$A3,'Fich.Prod.'!$H$40='Sum. OF'!T$2),'Fich.Prod.'!$I$40,0)+IF(AND('Fich.Prod.'!$C$2='Sum. OF'!$A3,'Fich.Prod.'!$H$73='Sum. OF'!T$2),'Fich.Prod.'!$I$73,0)+IF(AND('Fich.Prod.'!$C$2='Sum. OF'!$A3,'Fich.Prod.'!$L$8='Sum. OF'!T$2),'Fich.Prod.'!$M$8,0)+IF(AND('Fich.Prod.'!$C$2='Sum. OF'!$A3,'Fich.Prod.'!$L$40='Sum. OF'!T$2),'Fich.Prod.'!$M$40,0)+IF(AND('Fich.Prod.'!$C$2='Sum. OF'!$A3,'Fich.Prod.'!$L$73='Sum. OF'!T$2),'Fich.Prod.'!$M$73,0)+IF(AND('Fich.Prod.'!$C$2='Sum. OF'!$A3,'Fich.Prod.'!$O$8='Sum. OF'!T$2),'Fich.Prod.'!$P$8,0)+IF(AND('Fich.Prod.'!$C$2='Sum. OF'!$A3,'Fich.Prod.'!$O$40='Sum. OF'!T$2),'Fich.Prod.'!$P$40,0)+IF(AND('Fich.Prod.'!$C$2='Sum. OF'!$A3,'Fich.Prod.'!$O$73='Sum. OF'!T$2),'Fich.Prod.'!$P$73,0) -> 0 | U3: =IF(AND('Fich.Prod.'!$C$2='Sum. OF'!$A3,'Fich.Prod.'!$B$8=U$2),'Fich.Prod.'!$C$8,0)+IF(AND('Fich.Prod.'!$C$2='Sum. OF'!$A3,'Fich.Prod.'!$B$40='Sum. OF'!U$2),'Fich.Prod.'!$C$40,0)+IF(AND('Fich.Prod.'!$C$2='Sum. OF'!$A3,'Fich.Prod.'!$B$73='Sum. OF'!U$2),'Fich.Prod.'!$C$73,0)+IF(AND('Fich.Prod.'!$C$2='Sum. OF'!$A3,'Fich.Prod.'!$E$8='Sum. OF'!U$2),'Fich.Prod.'!$F$8,0)+IF(AND('Fich.Prod.'!$C$2='Sum. OF'!$A3,'Fich.Prod.'!$E$40='Sum. OF'!U$2),'Fich.Prod.'!$F$40,0)+IF(AND('Fich.Prod.'!$C$2='Sum. OF'!$A3,'Fich.Prod.'!$E$73='Sum. OF'!U$2),'Fich.Prod.'!$F$73,0)+IF(AND('Fich.Prod.'!$C$2='Sum. OF'!$A3,'Fich.Prod.'!$H$8='Sum. OF'!U$2),'Fich.Prod.'!$I$8,0)+IF(AND('Fich.Prod.'!$C$2='Sum. OF'!$A3,'Fich.Prod.'!$H$40='Sum. OF'!U$2),'Fich.Prod.'!$I$40,0)+IF(AND('Fich.Prod.'!$C$2='Sum. OF'!$A3,'Fich.Prod.'!$H$73='Sum. OF'!U$2),'Fich.Prod.'!$I$73,0)+IF(AND('Fich.Prod.'!$C$2='Sum. OF'!$A3,'Fich.Prod.'!$L$8='Sum. OF'!U$2),'Fich.Prod.'!$M$8,0)+IF(AND('Fich.Prod.'!$C$2='Sum. OF'!$A3,'Fich.Prod.'!$L$40='Sum. OF'!U$2),'Fich.Prod.'!$M$40,0)+IF(AND('Fich.Prod.'!$C$2='Sum. OF'!$A3,'Fich.Prod.'!$L$73='Sum. OF'!U$2),'Fich.Prod.'!$M$73,0)+IF(AND('Fich.Prod.'!$C$2='Sum. OF'!$A3,'Fich.Prod.'!$O$8='Sum. OF'!U$2),'Fich.Prod.'!$P$8,0)+IF(AND('Fich.Prod.'!$C$2='Sum. OF'!$A3,'Fich.Prod.'!$O$40='Sum. OF'!U$2),'Fich.Prod.'!$P$40,0)+IF(AND('Fich.Prod.'!$C$2='Sum. OF'!$A3,'Fich.Prod.'!$O$73='Sum. OF'!U$2),'Fich.Prod.'!$P$73,0) -> 0 | V3: =IF(AND('Fich.Prod.'!$C$2='Sum. OF'!$A3,'Fich.Prod.'!$B$8=V$2),'Fich.Prod.'!$C$8,0)+IF(AND('Fich.Prod.'!$C$2='Sum. OF'!$A3,'Fich.Prod.'!$B$40='Sum. OF'!V$2),'Fich.Prod.'!$C$40,0)+IF(AND('Fich.Prod.'!$C$2='Sum. OF'!$A3,'Fich.Prod.'!$B$73='Sum. OF'!V$2),'Fich.Prod.'!$C$73,0)+IF(AND('Fich.Prod.'!$C$2='Sum. OF'!$A3,'Fich.Prod.'!$E$8='Sum. OF'!V$2),'Fich.Prod.'!$F$8,0)+IF(AND('Fich.Prod.'!$C$2='Sum. OF'!$A3,'Fich.Prod.'!$E$40='Sum. OF'!V$2),'Fich.Prod.'!$F$40,0)+IF(AND('Fich.Prod.'!$C$2='Sum. OF'!$A3,'Fich.Prod.'!$E$73='Sum. OF'!V$2),'Fich.Prod.'!$F$73,0)+IF(AND('Fich.Prod.'!$C$2='Sum. OF'!$A3,'Fich.Prod.'!$H$8='Sum. OF'!V$2),'Fich.Prod.'!$I$8,0)+IF(AND('Fich.Prod.'!$C$2='Sum. OF'!$A3,'Fich.Prod.'!$H$40='Sum. OF'!V$2),'Fich.Prod.'!$I$40,0)+IF(AND('Fich.Prod.'!$C$2='Sum. OF'!$A3,'Fich.Prod.'!$H$73='Sum. OF'!V$2),'Fich.Prod.'!$I$73,0)+IF(AND('Fich.Prod.'!$C$2='Sum. OF'!$A3,'Fich.Prod.'!$L$8='Sum. OF'!V$2),'Fich.Prod.'!$M$8,0)+IF(AND('Fich.Prod.'!$C$2='Sum. OF'!$A3,'Fich.Prod.'!$L$40='Sum. OF'!V$2),'Fich.Prod.'!$M$40,0)+IF(AND('Fich.Prod.'!$C$2='Sum. OF'!$A3,'Fich.Prod.'!$L$73='Sum. OF'!V$2),'Fich.Prod.'!$M$73,0)+IF(AND('Fich.Prod.'!$C$2='Sum. OF'!$A3,'Fich.Prod.'!$O$8='Sum. OF'!V$2),'Fich.Prod.'!$P$8,0)+IF(AND('Fich.Prod.'!$C$2='Sum. OF'!$A3,'Fich.Prod.'!$O$40='Sum. OF'!V$2),'Fich.Prod.'!$P$40,0)+IF(AND('Fich.Prod.'!$C$2='Sum. OF'!$A3,'Fich.Prod.'!$O$73='Sum. OF'!V$2),'Fich.Prod.'!$P$73,0) -> 0 | W3: =IF(AND('Fich.Prod.'!$C$2='Sum. OF'!$A3,'Fich.Prod.'!$B$8=W$2),'Fich.Prod.'!$C$8,0)+IF(AND('Fich.Prod.'!$C$2='Sum. OF'!$A3,'Fich.Prod.'!$B$40='Sum. OF'!W$2),'Fich.Prod.'!$C$40,0)+IF(AND('Fich.Prod.'!$C$2='Sum. OF'!$A3,'Fich.Prod.'!$B$73='Sum. OF'!W$2),'Fich.Prod.'!$C$73,0)+IF(AND('Fich.Prod.'!$C$2='Sum. OF'!$A3,'Fich.Prod.'!$E$8='Sum. OF'!W$2),'Fich.Prod.'!$F$8,0)+IF(AND('Fich.Prod.'!$C$2='Sum. OF'!$A3,'Fich.Prod.'!$E$40='Sum. OF'!W$2),'Fich.Prod.'!$F$40,0)+IF(AND('Fich.Prod.'!$C$2='Sum. OF'!$A3,'Fich.Prod.'!$E$73='Sum. OF'!W$2),'Fich.Prod.'!$F$73,0)+IF(AND('Fich.Prod.'!$C$2='Sum. OF'!$A3,'Fich.Prod.'!$H$8='Sum. OF'!W$2),'Fich.Prod.'!$I$8,0)+IF(AND('Fich.Prod.'!$C$2='Sum. OF'!$A3,'Fich.Prod.'!$H$40='Sum. OF'!W$2),'Fich.Prod.'!$I$40,0)+IF(AND('Fich.Prod.'!$C$2='Sum. OF'!$A3,'Fich.Prod.'!$H$73='Sum. OF'!W$2),'Fich.Prod.'!$I$73,0)+IF(AND('Fich.Prod.'!$C$2='Sum. OF'!$A3,'Fich.Prod.'!$L$8='Sum. OF'!W$2),'Fich.Prod.'!$M$8,0)+IF(AND('Fich.Prod.'!$C$2='Sum. OF'!$A3,'Fich.Prod.'!$L$40='Sum. OF'!W$2),'Fich.Prod.'!$M$40,0)+IF(AND('Fich.Prod.'!$C$2='Sum. OF'!$A3,'Fich.Prod.'!$L$73='Sum. OF'!W$2),'Fich.Prod.'!$M$73,0)+IF(AND('Fich.Prod.'!$C$2='Sum. OF'!$A3,'Fich.Prod.'!$O$8='Sum. OF'!W$2),'Fich.Prod.'!$P$8,0)+IF(AND('Fich.Prod.'!$C$2='Sum. OF'!$A3,'Fich.Prod.'!$O$40='Sum. OF'!W$2),'Fich.Prod.'!$P$40,0)+IF(AND('Fich.Prod.'!$C$2='Sum. OF'!$A3,'Fich.Prod.'!$O$73='Sum. OF'!W$2),'Fich.Prod.'!$P$73,0) -> 0 | X3: =IF(AND('Fich.Prod.'!$C$2='Sum. OF'!$A3,'Fich.Prod.'!$B$8=X$2),'Fich.Prod.'!$C$8,0)+IF(AND('Fich.Prod.'!$C$2='Sum. OF'!$A3,'Fich.Prod.'!$B$40='Sum. OF'!X$2),'Fich.Prod.'!$C$40,0)+IF(AND('Fich.Prod.'!$C$2='Sum. OF'!$A3,'Fich.Prod.'!$B$73='Sum. OF'!X$2),'Fich.Prod.'!$C$73,0)+IF(AND('Fich.Prod.'!$C$2='Sum. OF'!$A3,'Fich.Prod.'!$E$8='Sum. OF'!X$2),'Fich.Prod.'!$F$8,0)+IF(AND('Fich.Prod.'!$C$2='Sum. OF'!$A3,'Fich.Prod.'!$E$40='Sum. OF'!X$2),'Fich.Prod.'!$F$40,0)+IF(AND('Fich.Prod.'!$C$2='Sum. OF'!$A3,'Fich.Prod.'!$E$73='Sum. OF'!X$2),'Fich.Prod.'!$F$73,0)+IF(AND('Fich.Prod.'!$C$2='Sum. OF'!$A3,'Fich.Prod.'!$H$8='Sum. OF'!X$2),'Fich.Prod.'!$I$8,0)+IF(AND('Fich.Prod.'!$C$2='Sum. OF'!$A3,'Fich.Prod.'!$H$40='Sum. OF'!X$2),'Fich.Prod.'!$I$40,0)+IF(AND('Fich.Prod.'!$C$2='Sum. OF'!$A3,'Fich.Prod.'!$H$73='Sum. OF'!X$2),'Fich.Prod.'!$I$73,0)+IF(AND('Fich.Prod.'!$C$2='Sum. OF'!$A3,'Fich.Prod.'!$L$8='Sum. OF'!X$2),'Fich.Prod.'!$M$8,0)+IF(AND('Fich.Prod.'!$C$2='Sum. OF'!$A3,'Fich.Prod.'!$L$40='Sum. OF'!X$2),'Fich.Prod.'!$M$40,0)+IF(AND('Fich.Prod.'!$C$2='Sum. OF'!$A3,'Fich.Prod.'!$L$73='Sum. OF'!X$2),'Fich.Prod.'!$M$73,0)+IF(AND('Fich.Prod.'!$C$2='Sum. OF'!$A3,'Fich.Prod.'!$O$8='Sum. OF'!X$2),'Fich.Prod.'!$P$8,0)+IF(AND('Fich.Prod.'!$C$2='Sum. OF'!$A3,'Fich.Prod.'!$O$40='Sum. OF'!X$2),'Fich.Prod.'!$P$40,0)+IF(AND('Fich.Prod.'!$C$2='Sum. OF'!$A3,'Fich.Prod.'!$O$73='Sum. OF'!X$2),'Fich.Prod.'!$P$73,0) -> 0 | Y3: =IF(AND('Fich.Prod.'!$C$2='Sum. OF'!$A3,'Fich.Prod.'!$B$8=Y$2),'Fich.Prod.'!$C$8,0)+IF(AND('Fich.Prod.'!$C$2='Sum. OF'!$A3,'Fich.Prod.'!$B$40='Sum. OF'!Y$2),'Fich.Prod.'!$C$40,0)+IF(AND('Fich.Prod.'!$C$2='Sum. OF'!$A3,'Fich.Prod.'!$B$73='Sum. OF'!Y$2),'Fich.Prod.'!$C$73,0)+IF(AND('Fich.Prod.'!$C$2='Sum. OF'!$A3,'Fich.Prod.'!$E$8='Sum. OF'!Y$2),'Fich.Prod.'!$F$8,0)+IF(AND('Fich.Prod.'!$C$2='Sum. OF'!$A3,'Fich.Prod.'!$E$40='Sum. OF'!Y$2),'Fich.Prod.'!$F$40,0)+IF(AND('Fich.Prod.'!$C$2='Sum. OF'!$A3,'Fich.Prod.'!$E$73='Sum. OF'!Y$2),'Fich.Prod.'!$F$73,0)+IF(AND('Fich.Prod.'!$C$2='Sum. OF'!$A3,'Fich.Prod.'!$H$8='Sum. OF'!Y$2),'Fich.Prod.'!$I$8,0)+IF(AND('Fich.Prod.'!$C$2='Sum. OF'!$A3,'Fich.Prod.'!$H$40='Sum. OF'!Y$2),'Fich.Prod.'!$I$40,0)+IF(AND('Fich.Prod.'!$C$2='Sum. OF'!$A3,'Fich.Prod.'!$H$73='Sum. OF'!Y$2),'Fich.Prod.'!$I$73,0)+IF(AND('Fich.Prod.'!$C$2='Sum. OF'!$A3,'Fich.Prod.'!$L$8='Sum. OF'!Y$2),'Fich.Prod.'!$M$8,0)+IF(AND('Fich.Prod.'!$C$2='Sum. OF'!$A3,'Fich.Prod.'!$L$40='Sum. OF'!Y$2),'Fich.Prod.'!$M$40,0)+IF(AND('Fich.Prod.'!$C$2='Sum. OF'!$A3,'Fich.Prod.'!$L$73='Sum. OF'!Y$2),'Fich.Prod.'!$M$73,0)+IF(AND('Fich.Prod.'!$C$2='Sum. OF'!$A3,'Fich.Prod.'!$O$8='Sum. OF'!Y$2),'Fich.Prod.'!$P$8,0)+IF(AND('Fich.Prod.'!$C$2='Sum. OF'!$A3,'Fich.Prod.'!$O$40='Sum. OF'!Y$2),'Fich.Prod.'!$P$40,0)+IF(AND('Fich.Prod.'!$C$2='Sum. OF'!$A3,'Fich.Prod.'!$O$73='Sum. OF'!Y$2),'Fich.Prod.'!$P$73,0) -> 0 | ... AE3: =IF(AND('Fich.Prod.'!$C$2='Sum. OF'!$A3,'Fich.Prod.'!$B$8=AE$2),'Fich.Prod.'!$C$8,0)+IF(AND('Fich.Prod.'!$C$2='Sum. OF'!$A3,'Fich.Prod.'!$B$40='Sum. OF'!AE$2),'Fich.Prod.'!$C$40,0)+IF(AND('Fich.Prod.'!$C$2='Sum. OF'!$A3,'Fich.Prod.'!$B$73='Sum. OF'!AE$2),'Fich.Prod.'!$C$73,0)+IF(AND('Fich.Prod.'!$C$2='Sum. OF'!$A3,'Fich.Prod.'!$E$8='Sum. OF'!AE$2),'Fich.Prod.'!$F$8,0)+IF(AND('Fich.Prod.'!$C$2='Sum. OF'!$A3,'Fich.Prod.'!$E$40='Sum. OF'!AE$2),'Fich.Prod.'!$F$40,0)+IF(AND('Fich.Prod.'!$C$2='Sum. OF'!$A3,'Fich.Prod.'!$E$73='Sum. OF'!AE$2),'Fich.Prod.'!$F$73,0)+IF(AND('Fich.Prod.'!$C$2='Sum. OF'!$A3,'Fich.Prod.'!$H$8='Sum. OF'!AE$2),'Fich.Prod.'!$I$8,0)+IF(AND('Fich.Prod.'!$C$2='Sum. OF'!$A3,'Fich.Prod.'!$H$40='Sum. OF'!AE$2),'Fich.Prod.'!$I$40,0)+IF(AND('Fich.Prod.'!$C$2='Sum. OF'!$A3,'Fich.Prod.'!$H$73='Sum. OF'!AE$2),'Fich.Prod.'!$I$73,0)+IF(AND('Fich.Prod.'!$C$2='Sum. OF'!$A3,'Fich.Prod.'!$L$8='Sum. OF'!AE$2),'Fich.Prod.'!$M$8,0)+IF(AND('Fich.Prod.'!$C$2='Sum. OF'!$A3,'Fich.Prod.'!$L$40='Sum. OF'!AE$2),'Fich.Prod.'!$M$40,0)+IF(AND('Fich.Prod.'!$C$2='Sum. OF'!$A3,'Fich.Prod.'!$L$73='Sum. OF'!AE$2),'Fich.Prod.'!$M$73,0)+IF(AND('Fich.Prod.'!$C$2='Sum. OF'!$A3,'Fich.Prod.'!$O$8='Sum. OF'!AE$2),'Fich.Prod.'!$P$8,0)+IF(AND('Fich.Prod.'!$C$2='Sum. OF'!$A3,'Fich.Prod.'!$O$40='Sum. OF'!AE$2),'Fich.Prod.'!$P$40,0)+IF(AND('Fich.Prod.'!$C$2='Sum. OF'!$A3,'Fich.Prod.'!$O$73='Sum. OF'!AE$2),'Fich.Prod.'!$P$73,0) -> 0
A4: 2 | D4: =IF(AND('Fich.Prod.'!$C$2='Sum. OF'!$A4,'Fich.Prod.'!$C$4=D$2),'Fich.Prod.'!$C$7,0)+IF(AND('Fich.Prod.'!$C$2='Sum. OF'!$A4,'Fich.Prod.'!$C$36='Sum. OF'!D$2),'Fich.Prod.'!$C$39,0)+IF(AND('Fich.Prod.'!$C$2='Sum. OF'!$A4,'Fich.Prod.'!$C$69='Sum. OF'!D$2),'Fich.Prod.'!$C$72,0)+IF(AND('Fich.Prod.'!$C$2='Sum. OF'!$A4,'Fich.Prod.'!$F$4='Sum. OF'!D$2),'Fich.Prod.'!$F$7,0)+IF(AND('Fich.Prod.'!$C$2='Sum. OF'!$A4,'Fich.Prod.'!$F$36='Sum. OF'!D$2),'Fich.Prod.'!$F$39,0)+IF(AND('Fich.Prod.'!$C$2='Sum. OF'!$A4,'Fich.Prod.'!$F$69='Sum. OF'!D$2),'Fich.Prod.'!$F$72,0)+IF(AND('Fich.Prod.'!$C$2='Sum. OF'!$A4,'Fich.Prod.'!$I$4='Sum. OF'!D$2),'Fich.Prod.'!$I$7,0)+IF(AND('Fich.Prod.'!$C$2='Sum. OF'!$A4,'Fich.Prod.'!$I$36='Sum. OF'!D$2),'Fich.Prod.'!$I$39,0)+IF(AND('Fich.Prod.'!$C$2='Sum. OF'!$A4,'Fich.Prod.'!$I$69='Sum. OF'!D$2),'Fich.Prod.'!$I$72,0)+IF(AND('Fich.Prod.'!$C$2='Sum. OF'!$A4,'Fich.Prod.'!$M$4='Sum. OF'!D$2),'Fich.Prod.'!$M$7,0)+IF(AND('Fich.Prod.'!$C$2='Sum. OF'!$A4,'Fich.Prod.'!$M$36='Sum. OF'!D$2),'Fich.Prod.'!$M$39,0)+IF(AND('Fich.Prod.'!$C$2='Sum. OF'!$A4,'Fich.Prod.'!$M$69='Sum. OF'!D$2),'Fich.Prod.'!$M$72,0)+IF(AND('Fich.Prod.'!$C$2='Sum. OF'!$A4,'Fich.Prod.'!$P$4='Sum. OF'!D$2),'Fich.Prod.'!$P$7,0)+IF(AND('Fich.Prod.'!$C$2='Sum. OF'!$A4,'Fich.Prod.'!$P$36='Sum. OF'!D$2),'Fich.Prod.'!$P$39,0)+IF(AND('Fich.Prod.'!$C$2='Sum. OF'!$A4,'Fich.Prod.'!$P$69='Sum. OF'!D$2),'Fich.Prod.'!$P$72,0) -> 0
A5: 3
A6: 4
A7: 5
A8: 6
A9: 7
A10: 8
A11: 9
A12: 10
A13: 11
A14: 12
A15: 13
A16: 14
... A54: 52
