Workbook

Sheet Capteurs
B1: Pression1 | F1: Pression2 | J1: Débit1
A2: Nom | B2: Code | C2: * | D2: * | E2: * | F2: Code | G2: * | H2: * | I2: * | J2: Code | K2: * | L2: * | M2: *
A3: AMPERE | B3: 0004_S_AMP_P1-AMPERE PASSY AMP/PY | C3: N°9 | D3: 0-5 | E3: 33.85 | F3: 0004_S_AMP_P2-AMPERE RESEAU HAUT AMP/RH | G3: N°11 | H3: 0-10 | I3: 33.85 | J3: 0014_S_BRO_P4-BOULE ROUGE RESEAU BAS | K3: * | L3: * | M3: *
A4: ANNONCIATION | B4: 0027_S_ANNO_P1 - PRESSION ANNONCIATION RESEAU HAUT - ANO/RH | C4: N°35 | D4: 0-10 | E4: 55.3 | F4: * | G4: * | H4: * | I4: * | J4: * | K4: * | L4: * | M4: *
A5: ARCUEIL VANNE HM | B5: 058B_S_HM_P1 - CAPTEUR DE PRESSION HM | C5: * | D5: 0-10 | E5: 78.6 | F5: * | G5: * | H5: * | I5: * | J5: * | K5: * | L5: * | M5: *
A6: AVRON | B6: * | C6: * | D6: * | E6: * | F6: * | G6: * | H6: * | I6: * | J6: * | K6: * | L6: * | M6: *
A7: BAGNOLET | B7: 0034_S_BAG_P1 - PRESSION CHARONNE | C7: * | D7: 0-5 | E7: 67 | F7: * | G7: * | H7: * | I7: * | J7: * | K7: * | L7: * | M7: *
A8: BLANQUI | B8: 0051_S_BLA_P1 - PRESSION BLANQUI PANTHEON - BLA/PT | C8: N°22 | D8: 0-10 | E8: 41 | F8: 0051_S_BLA_P2 - PRESSION BLANQUI VILLEJUIF - BLA/VJ | G8: N°24 | H8: 0-5 | I8: 41 | J8: * | K8: * | L8: * | M8: *
A9: BOULE ROUGE | B9: 0014_S_BRO_P1-BOULE ROUGE RESEAU BAS BRO/RB | C9: N°13 | D9: 0-5 | E9: 32.3 | F9: 0014_S_BRO_P3-BOULE ROUGE PASSY BRO/PY | G9: N°15 | H9: 0-5 | I9: 32.3 | J9: 0014_S_BRO_P4-BOULE ROUGE RESEAU BAS BRO/RB | K9: N°17 | L9: 0-5 | M9: 32.3
A10: BOUTROUX | B10: * | C10: * | D10: * | E10: * | F10: * | G10: * | H10: * | I10: * | J10: * | K10: * | L10: * | M10: *
A11: BRUNET | B11: * | C11: * | D11: * | E11: * | F11: * | G11: * | H11: * | I11: * | J11: * | K11: * | L11: * | M11: *
A12: CHAMBRE NEVEU | B12: * | C12: * | D12: * | E12: * | F12: * | G12: * | H12: * | I12: * | J12: * | K12: * | L12: * | M12: *

Sheet Base
A2: Nom | B2: Nb pression | C2: Nb debit
A3: =Capteurs!A3 -> AMPERE | B3: =IF(AND(Capteurs!B3="*",Capteurs!F3="*"),"",IF(Capteurs!B3<>"*",1,0)+IF(Capteurs!F3<>"*",1,0)) -> 2 | C3: =IF(Capteurs!J3="*","",1) -> 1
A4: =Capteurs!A4 -> ANNONCIATION | B4: =IF(AND(Capteurs!B4="*",Capteurs!F4="*"),"",IF(Capteurs!B4<>"*",1,0)+IF(Capteurs!F4<>"*",1,0)) -> 1 | C4: =IF(Capteurs!J4="*","",1)
A5: =Capteurs!A5 -> ARCUEIL VANNE HM | B5: =IF(AND(Capteurs!B5="*",Capteurs!F5="*"),"",IF(Capteurs!B5<>"*",1,0)+IF(Capteurs!F5<>"*",1,0)) -> 1 | C5: =IF(Capteurs!J5="*","",1)
A6: =Capteurs!A6 -> AVRON | B6: =IF(AND(Capteurs!B6="*",Capteurs!F6="*"),"",IF(Capteurs!B6<>"*",1,0)+IF(Capteurs!F6<>"*",1,0)) | C6: =IF(Capteurs!J6="*","",1)
A7: =Capteurs!A7 -> BAGNOLET | B7: =IF(AND(Capteurs!B7="*",Capteurs!F7="*"),"",IF(Capteurs!B7<>"*",1,0)+IF(Capteurs!F7<>"*",1,0)) -> 1 | C7: =IF(Capteurs!J7="*","",1)
A8: =Capteurs!A8 -> BLANQUI | B8: =IF(AND(Capteurs!B8="*",Capteurs!F8="*"),"",IF(Capteurs!B8<>"*",1,0)+IF(Capteurs!F8<>"*",1,0)) -> 2 | C8: =IF(Capteurs!J8="*","",1)
A9: =Capteurs!A9 -> BOULE ROUGE | B9: =IF(AND(Capteurs!B9="*",Capteurs!F9="*"),"",IF(Capteurs!B9<>"*",1,0)+IF(Capteurs!F9<>"*",1,0)) -> 2 | C9: =IF(Capteurs!J9="*","",1) -> 1
A10: =Capteurs!A10 -> BOUTROUX | B10: =IF(AND(Capteurs!B10="*",Capteurs!F10="*"),"",IF(Capteurs!B10<>"*",1,0)+IF(Capteurs!F10<>"*",1,0)) | C10: =IF(Capteurs!J10="*","",1)
A11: =Capteurs!A11 -> BRUNET | B11: =IF(AND(Capteurs!B11="*",Capteurs!F11="*"),"",IF(Capteurs!B11<>"*",1,0)+IF(Capteurs!F11<>"*",1,0)) | C11: =IF(Capteurs!J11="*","",1)
A12: =Capteurs!A12 -> CHAMBRE NEVEU | B12: =IF(AND(Capteurs!B12="*",Capteurs!F12="*"),"",IF(Capteurs!B12<>"*",1,0)+IF(Capteurs!F12<>"*",1,0)) | C12: =IF(Capteurs!J12="*","",1)
