Workbook

Sheet Podium 1 - TOUR 1
A1: Championnat Régional UGSEL SURF 2020/2021 - TAG TEAM Grande Plage - Saint-Gilles-Croix-de-Vie Mercredi 07 Octobre 2020
B5: Tour n°1 | H5: PODIUM | K5: 1
D7: Equipe | E7: Surfeur 1 | G7: Surfeur 2 | I7: Surfeur 3 | K7: TOTAL | L7: CLMT | M7: CAT
B8: S1 | C8: Rouge | D8: Bourgenay 1 | E8: =IFERROR(INDEX(EQUIPES!E:E,MATCH($D8,EQUIPES!$D:$D,0)),"") -> Aloïs CHEVALIER | G8: =IFERROR(INDEX(EQUIPES!F:F,MATCH($D8,EQUIPES!$D:$D,0)),"") -> Swan CHEVALIER | I8: =IFERROR(INDEX(EQUIPES!G:G,MATCH($D8,EQUIPES!$D:$D,0)),"") -> Paul BARRETEAU | K8: =SUM(E9:J9) -> 7 | L8: =RANK(K8,$K$8:$K$17) -> 1 | M8: Benjamins
E9: 3 | F9: 4
C10: Bleu | E10: =IFERROR(INDEX(EQUIPES!E:E,MATCH($D10,EQUIPES!$D:$D,0)),"") | G10: =IFERROR(INDEX(EQUIPES!F:F,MATCH($D10,EQUIPES!$D:$D,0)),"") | I10: =IFERROR(INDEX(EQUIPES!G:G,MATCH($D10,EQUIPES!$D:$D,0)),"") | K10: =SUM(E11:J11) -> 0 | L10: =RANK(K10,$K$8:$K$17) -> 2
C12: Blanc | E12: =IFERROR(INDEX(EQUIPES!E:E,MATCH($D12,EQUIPES!$D:$D,0)),"") | G12: =IFERROR(INDEX(EQUIPES!F:F,MATCH($D12,EQUIPES!$D:$D,0)),"") | I12: =IFERROR(INDEX(EQUIPES!G:G,MATCH($D12,EQUIPES!$D:$D,0)),"") | K12: =SUM(E13:J13) -> 0 | L12: =RANK(K12,$K$8:$K$17) -> 2
C14: Jaune | E14: =IFERROR(INDEX(EQUIPES!E:E,MATCH($D14,EQUIPES!$D:$D,0)),"") | G14: =IFERROR(INDEX(EQUIPES!F:F,MATCH($D14,EQUIPES!$D:$D,0)),"") | I14: =IFERROR(INDEX(EQUIPES!G:G,MATCH($D14,EQUIPES!$D:$D,0)),"") | K14: =SUM(E15:J15) -> 0 | L14: =RANK(K14,$K$8:$K$17) -> 2
C16: Vert | E16: =IFERROR(INDEX(EQUIPES!E:E,MATCH($D16,EQUIPES!$D:$D,0)),"") | G16: =IFERROR(INDEX(EQUIPES!F:F,MATCH($D16,EQUIPES!$D:$D,0)),"") | I16: =IFERROR(INDEX(EQUIPES!G:G,MATCH($D16,EQUIPES!$D:$D,0)),"") | K16: =SUM(E17:J17) -> 0 | L16: =RANK(K16,$K$8:$K$17) -> 2
D19: Equipe | E19: Surfeur 1 | G19: Surfeur 2 | I19: Surfeur 3 | K19: TOTAL | L19: CLMT | M19: CAT
B20: S2 | C20: Rouge | E20: =IFERROR(INDEX(EQUIPES!E:E,MATCH($D20,EQUIPES!$D:$D,0)),"") | G20: =IFERROR(INDEX(EQUIPES!F:F,MATCH($D20,EQUIPES!$D:$D,0)),"") | I20: =IFERROR(INDEX(EQUIPES!G:G,MATCH($D20,EQUIPES!$D:$D,0)),"") | K20: =SUM(E21:J21) -> 0 | L20: =RANK(K20,$K$20:$K$29) -> 1 | M20: Lycée
C22: Bleu | E22: =IFERROR(INDEX(EQUIPES!E:E,MATCH($D22,EQUIPES!$D:$D,0)),"") | G22: =IFERROR(INDEX(EQUIPES!F:F,MATCH($D22,EQUIPES!$D:$D,0)),"") | I22: =IFERROR(INDEX(EQUIPES!G:G,MATCH($D22,EQUIPES!$D:$D,0)),"") | K22: =SUM(E23:J23) -> 0 | L22: =RANK(K22,$K$20:$K$29) -> 1
C24: Blanc | E24: =IFERROR(INDEX(EQUIPES!E:E,MATCH($D24,EQUIPES!$D:$D,0)),"") | G24: =IFERROR(INDEX(EQUIPES!F:F,MATCH($D24,EQUIPES!$D:$D,0)),"") | I24: =IFERROR(INDEX(EQUIPES!G:G,MATCH($D24,EQUIPES!$D:$D,0)),"") | K24: =SUM(E25:J25) -> 0 | L24: =RANK(K24,$K$20:$K$29) -> 1
C26: Jaune | E26: =IFERROR(INDEX(EQUIPES!E:E,MATCH($D26,EQUIPES!$D:$D,0)),"") | G26: =IFERROR(INDEX(EQUIPES!F:F,MATCH($D26,EQUIPES!$D:$D,0)),"") | I26: =IFERROR(INDEX(EQUIPES!G:G,MATCH($D26,EQUIPES!$D:$D,0)),"") | K26: =SUM(E27:J27) -> 0 | L26: =RANK(K26,$K$20:$K$29) -> 1
C28: Vert | E28: =IFERROR(INDEX(EQUIPES!E:E,MATCH($D28,EQUIPES!$D:$D,0)),"") | G28: =IFERROR(INDEX(EQUIPES!F:F,MATCH($D28,EQUIPES!$D:$D,0)),"") | I28: =IFERROR(INDEX(EQUIPES!G:G,MATCH($D28,EQUIPES!$D:$D,0)),"") | K28: =SUM(E29:J29) -> 0 | L28: =RANK(K28,$K$20:$K$29) -> 1
D31: Equipe | E31: Surfeur 1 | G31: Surfeur 2 | I31: Surfeur 3 | K31: TOTAL | L31: CLMT | M31: CAT
B32: S3 | C32: Rouge | E32: =IFERROR(INDEX(EQUIPES!E:E,MATCH($D32,EQUIPES!$D:$D,0)),"") | G32: =IFERROR(INDEX(EQUIPES!F:F,MATCH($D32,EQUIPES!$D:$D,0)),"") | I32: =IFERROR(INDEX(EQUIPES!G:G,MATCH($D32,EQUIPES!$D:$D,0)),"") | K32: =SUM(E33:J33) -> 0 | L32: =RANK(K32,$K$32:$K$41) -> 1 | M32: Minimes
C34: Bleu | E34: =IFERROR(INDEX(EQUIPES!E:E,MATCH($D34,EQUIPES!$D:$D,0)),"") | G34: =IFERROR(INDEX(EQUIPES!F:F,MATCH($D34,EQUIPES!$D:$D,0)),"") | I34: =IFERROR(INDEX(EQUIPES!G:G,MATCH($D34,EQUIPES!$D:$D,0)),"") | K34: =SUM(E35:J35) -> 0 | L34: =RANK(K34,$K$32:$K$41) -> 1
C36: Blanc | E36: =IFERROR(INDEX(EQUIPES!E:E,MATCH($D36,EQUIPES!$D:$D,0)),"") | G36: =IFERROR(INDEX(EQUIPES!F:F,MATCH($D36,EQUIPES!$D:$D,0)),"") | I36: =IFERROR(INDEX(EQUIPES!G:G,MATCH($D36,EQUIPES!$D:$D,0)),"") | K36: =SUM(E37:J37) -> 0 | L36: =RANK(K36,$K$32:$K$41) -> 1
C38: Jaune | E38: =IFERROR(INDEX(EQUIPES!E:E,MATCH($D38,EQUIPES!$D:$D,0)),"") | G38: =IFERROR(INDEX(EQUIPES!F:F,MATCH($D38,EQUIPES!$D:$D,0)),"") | I38: =IFERROR(INDEX(EQUIPES!G:G,MATCH($D38,EQUIPES!$D:$D,0)),"") | K38: =SUM(E39:J39) -> 0 | L38: =RANK(K38,$K$32:$K$41) -> 1
C40: Vert | E40: =IFERROR(INDEX(EQUIPES!E:E,MATCH($D40,EQUIPES!$D:$D,0)),"") | G40: =IFERROR(INDEX(EQUIPES!F:F,MATCH($D40,EQUIPES!$D:$D,0)),"") | I40: =IFERROR(INDEX(EQUIPES!G:G,MATCH($D40,EQUIPES!$D:$D,0)),"") | K40: =SUM(E41:J41) -> 0 | L40: =RANK(K40,$K$32:$K$41) -> 1
B47: ERIC RORTAIS – COLLEGE SAINT GILLES – SAINT GILLES CROIX DE VIE – eric.rortais@gmail.com
B48: YOANN COULLOC’H – LYCEE SAINTE MARIE DU PORT – LES SABLES D’OLONNE - ycoulloch@stemarieduport.fr

Sheet Podium 1 - TOUR 2
A1: Championnat Régional UGSEL SURF 2020/2021 - TAG TEAM Grande Plage - Saint-Gilles-Croix-de-Vie Mercredi 07 Octobre 2020
B5: Tour n°2 | H5: PODIUM | K5: 1
D7: Equipe | E7: Surfeur 1 | G7: Surfeur 2 | I7: Surfeur 3 | K7: TOTAL | L7: CLMT | M7: CAT
B8: S4 | C8: Rouge | D8: Bourgenay 1 | E8: =IFERROR(INDEX(EQUIPES!E:E,MATCH($D8,EQUIPES!$D:$D,0)),"") -> Aloïs CHEVALIER | G8: =IFERROR(INDEX(EQUIPES!F:F,MATCH($D8,EQUIPES!$D:$D,0)),"") -> Swan CHEVALIER | I8: =IFERROR(INDEX(EQUIPES!G:G,MATCH($D8,EQUIPES!$D:$D,0)),"") -> Paul BARRETEAU | K8: =SUM(E9:J9) -> 6 | L8: =RANK(K8,$K$8:$K$17) -> 1 | M8: Benjamins
E9: 5 | F9: 1
C10: Bleu | E10: =IFERROR(INDEX(EQUIPES!E:E,MATCH($D10,EQUIPES!$D:$D,0)),"") | G10: =IFERROR(INDEX(EQUIPES!F:F,MATCH($D10,EQUIPES!$D:$D,0)),"") | I10: =IFERROR(INDEX(EQUIPES!G:G,MATCH($D10,EQUIPES!$D:$D,0)),"") | K10: =SUM(E11:J11) -> 0 | L10: =RANK(K10,$K$8:$K$17) -> 2
C12: Blanc | E12: =IFERROR(INDEX(EQUIPES!E:E,MATCH($D12,EQUIPES!$D:$D,0)),"") | G12: =IFERROR(INDEX(EQUIPES!F:F,MATCH($D12,EQUIPES!$D:$D,0)),"") | I12: =IFERROR(INDEX(EQUIPES!G:G,MATCH($D12,EQUIPES!$D:$D,0)),"") | K12: =SUM(E13:J13) -> 0 | L12: =RANK(K12,$K$8:$K$17) -> 2
C14: Jaune | E14: =IFERROR(INDEX(EQUIPES!E:E,MATCH($D14,EQUIPES!$D:$D,0)),"") | G14: =IFERROR(INDEX(EQUIPES!F:F,MATCH($D14,EQUIPES!$D:$D,0)),"") | I14: =IFERROR(INDEX(EQUIPES!G:G,MATCH($D14,EQUIPES!$D:$D,0)),"") | K14: =SUM(E15:J15) -> 0 | L14: =RANK(K14,$K$8:$K$17) -> 2
C16: Vert | E16: =IFERROR(INDEX(EQUIPES!E:E,MATCH($D16,EQUIPES!$D:$D,0)),"") | G16: =IFERROR(INDEX(EQUIPES!F:F,MATCH($D16,EQUIPES!$D:$D,0)),"") | I16: =IFERROR(INDEX(EQUIPES!G:G,MATCH($D16,EQUIPES!$D:$D,0)),"") | K16: =SUM(E17:J17) -> 0 | L16: =RANK(K16,$K$8:$K$17) -> 2
D19: Equipe | E19: Surfeur 1 | G19: Surfeur 2 | I19: Surfeur 3 | K19: TOTAL | L19: CLMT | M19: CAT
B20: S5 | C20: Rouge | E20: =IFERROR(INDEX(EQUIPES!E:E,MATCH($D20,EQUIPES!$D:$D,0)),"") | G20: =IFERROR(INDEX(EQUIPES!F:F,MATCH($D20,EQUIPES!$D:$D,0)),"") | I20: =IFERROR(INDEX(EQUIPES!G:G,MATCH($D20,EQUIPES!$D:$D,0)),"") | K20: =SUM(E21:J21) -> 0 | L20: =RANK(K20,$K$20:$K$29) -> 1 | M20: Lycée
C22: Bleu | E22: =IFERROR(INDEX(EQUIPES!E:E,MATCH($D22,EQUIPES!$D:$D,0)),"") | G22: =IFERROR(INDEX(EQUIPES!F:F,MATCH($D22,EQUIPES!$D:$D,0)),"") | I22: =IFERROR(INDEX(EQUIPES!G:G,MATCH($D22,EQUIPES!$D:$D,0)),"") | K22: =SUM(E23:J23) -> 0 | L22: =RANK(K22,$K$20:$K$29) -> 1
C24: Blanc | E24: =IFERROR(INDEX(EQUIPES!E:E,MATCH($D24,EQUIPES!$D:$D,0)),"") | G24: =IFERROR(INDEX(EQUIPES!F:F,MATCH($D24,EQUIPES!$D:$D,0)),"") | I24: =IFERROR(INDEX(EQUIPES!G:G,MATCH($D24,EQUIPES!$D:$D,0)),"") | K24: =SUM(E25:J25) -> 0 | L24: =RANK(K24,$K$20:$K$29) -> 1
C26: Jaune | E26: =IFERROR(INDEX(EQUIPES!E:E,MATCH($D26,EQUIPES!$D:$D,0)),"") | G26: =IFERROR(INDEX(EQUIPES!F:F,MATCH($D26,EQUIPES!$D:$D,0)),"") | I26: =IFERROR(INDEX(EQUIPES!G:G,MATCH($D26,EQUIPES!$D:$D,0)),"") | K26: =SUM(E27:J27) -> 0 | L26: =RANK(K26,$K$20:$K$29) -> 1
C28: Vert | E28: =IFERROR(INDEX(EQUIPES!E:E,MATCH($D28,EQUIPES!$D:$D,0)),"") | G28: =IFERROR(INDEX(EQUIPES!F:F,MATCH($D28,EQUIPES!$D:$D,0)),"") | I28: =IFERROR(INDEX(EQUIPES!G:G,MATCH($D28,EQUIPES!$D:$D,0)),"") | K28: =SUM(E29:J29) -> 0 | L28: =RANK(K28,$K$20:$K$29) -> 1
D31: Equipe | E31: Surfeur 1 | G31: Surfeur 2 | I31: Surfeur 3 | K31: TOTAL | L31: CLMT | M31: CAT
B32: S6 | C32: Rouge | E32: =IFERROR(INDEX(EQUIPES!E:E,MATCH($D32,EQUIPES!$D:$D,0)),"") | G32: =IFERROR(INDEX(EQUIPES!F:F,MATCH($D32,EQUIPES!$D:$D,0)),"") | I32: =IFERROR(INDEX(EQUIPES!G:G,MATCH($D32,EQUIPES!$D:$D,0)),"") | K32: =SUM(E33:J33) -> 0 | L32: =RANK(K32,$K$32:$K$41) -> 1 | M32: Minimes
C34: Bleu | E34: =IFERROR(INDEX(EQUIPES!E:E,MATCH($D34,EQUIPES!$D:$D,0)),"") | G34: =IFERROR(INDEX(EQUIPES!F:F,MATCH($D34,EQUIPES!$D:$D,0)),"") | I34: =IFERROR(INDEX(EQUIPES!G:G,MATCH($D34,EQUIPES!$D:$D,0)),"") | K34: =SUM(E35:J35) -> 0 | L34: =RANK(K34,$K$32:$K$41) -> 1
C36: Blanc | E36: =IFERROR(INDEX(EQUIPES!E:E,MATCH($D36,EQUIPES!$D:$D,0)),"") | G36: =IFERROR(INDEX(EQUIPES!F:F,MATCH($D36,EQUIPES!$D:$D,0)),"") | I36: =IFERROR(INDEX(EQUIPES!G:G,MATCH($D36,EQUIPES!$D:$D,0)),"") | K36: =SUM(E37:J37) -> 0 | L36: =RANK(K36,$K$32:$K$41) -> 1
C38: Jaune | E38: =IFERROR(INDEX(EQUIPES!E:E,MATCH($D38,EQUIPES!$D:$D,0)),"") | G38: =IFERROR(INDEX(EQUIPES!F:F,MATCH($D38,EQUIPES!$D:$D,0)),"") | I38: =IFERROR(INDEX(EQUIPES!G:G,MATCH($D38,EQUIPES!$D:$D,0)),"") | K38: =SUM(E39:J39) -> 0 | L38: =RANK(K38,$K$32:$K$41) -> 1
C40: Vert | E40: =IFERROR(INDEX(EQUIPES!E:E,MATCH($D40,EQUIPES!$D:$D,0)),"") | G40: =IFERROR(INDEX(EQUIPES!F:F,MATCH($D40,EQUIPES!$D:$D,0)),"") | I40: =IFERROR(INDEX(EQUIPES!G:G,MATCH($D40,EQUIPES!$D:$D,0)),"") | K40: =SUM(E41:J41) -> 0 | L40: =RANK(K40,$K$32:$K$41) -> 1
B47: ERIC RORTAIS – COLLEGE SAINT GILLES – SAINT GILLES CROIX DE VIE – eric.rortais@gmail.com
B48: YOANN COULLOC’H – LYCEE SAINTE MARIE DU PORT – LES SABLES D’OLONNE - ycoulloch@stemarieduport.fr

Sheet Podium 2 - TOUR 1
A1: Championnat Régional UGSEL SURF 2020/2021 - TAG TEAM Grande Plage - Saint-Gilles-Croix-de-Vie Mercredi 07 Octobre 2020
B5: Tour n°1 | H5: PODIUM | K5: 2
D7: Equipe | E7: Surfeur 1 | G7: Surfeur 2 | I7: Surfeur 3 | K7: TOTAL | L7: CLMT | M7: CAT
B8: S1 | C8: Rouge | E8: =IFERROR(INDEX(EQUIPES!E:E,MATCH($D8,EQUIPES!$D:$D,0)),"") | G8: =IFERROR(INDEX(EQUIPES!F:F,MATCH($D8,EQUIPES!$D:$D,0)),"") | I8: =IFERROR(INDEX(EQUIPES!G:G,MATCH($D8,EQUIPES!$D:$D,0)),"") | K8: =SUM(E9:J9) -> 0 | L8: =RANK(K8,$K$8:$K$17) -> 1 | M8: Benjamins
C10: Bleu | E10: =IFERROR(INDEX(EQUIPES!E:E,MATCH($D10,EQUIPES!$D:$D,0)),"") | G10: =IFERROR(INDEX(EQUIPES!F:F,MATCH($D10,EQUIPES!$D:$D,0)),"") | I10: =IFERROR(INDEX(EQUIPES!G:G,MATCH($D10,EQUIPES!$D:$D,0)),"") | K10: =SUM(E11:J11) -> 0 | L10: =RANK(K10,$K$8:$K$17) -> 1
C12: Blanc | E12: =IFERROR(INDEX(EQUIPES!E:E,MATCH($D12,EQUIPES!$D:$D,0)),"") | G12: =IFERROR(INDEX(EQUIPES!F:F,MATCH($D12,EQUIPES!$D:$D,0)),"") | I12: =IFERROR(INDEX(EQUIPES!G:G,MATCH($D12,EQUIPES!$D:$D,0)),"") | K12: =SUM(E13:J13) -> 0 | L12: =RANK(K12,$K$8:$K$17) -> 1
C14: Jaune | E14: =IFERROR(INDEX(EQUIPES!E:E,MATCH($D14,EQUIPES!$D:$D,0)),"") | G14: =IFERROR(INDEX(EQUIPES!F:F,MATCH($D14,EQUIPES!$D:$D,0)),"") | I14: =IFERROR(INDEX(EQUIPES!G:G,MATCH($D14,EQUIPES!$D:$D,0)),"") | K14: =SUM(E15:J15) -> 0 | L14: =RANK(K14,$K$8:$K$17) -> 1
C16: Vert | E16: =IFERROR(INDEX(EQUIPES!E:E,MATCH($D16,EQUIPES!$D:$D,0)),"") | G16: =IFERROR(INDEX(EQUIPES!F:F,MATCH($D16,EQUIPES!$D:$D,0)),"") | I16: =IFERROR(INDEX(EQUIPES!G:G,MATCH($D16,EQUIPES!$D:$D,0)),"") | K16: =SUM(E17:J17) -> 0 | L16: =RANK(K16,$K$8:$K$17) -> 1
D19: Equipe | E19: Surfeur 1 | G19: Surfeur 2 | I19: Surfeur 3 | K19: TOTAL | L19: CLMT | M19: CAT
B20: S2 | C20: Rouge | E20: =IFERROR(INDEX(EQUIPES!E:E,MATCH($D20,EQUIPES!$D:$D,0)),"") | G20: =IFERROR(INDEX(EQUIPES!F:F,MATCH($D20,EQUIPES!$D:$D,0)),"") | I20: =IFERROR(INDEX(EQUIPES!G:G,MATCH($D20,EQUIPES!$D:$D,0)),"") | K20: =SUM(E21:J21) -> 0 | L20: =RANK(K20,$K$20:$K$29) -> 1 | M20: Lycée
C22: Bleu | E22: =IFERROR(INDEX(EQUIPES!E:E,MATCH($D22,EQUIPES!$D:$D,0)),"") | G22: =IFERROR(INDEX(EQUIPES!F:F,MATCH($D22,EQUIPES!$D:$D,0)),"") | I22: =IFERROR(INDEX(EQUIPES!G:G,MATCH($D22,EQUIPES!$D:$D,0)),"") | K22: =SUM(E23:J23) -> 0 | L22: =RANK(K22,$K$20:$K$29) -> 1
C24: Blanc | E24: =IFERROR(INDEX(EQUIPES!E:E,MATCH($D24,EQUIPES!$D:$D,0)),"") | G24: =IFERROR(INDEX(EQUIPES!F:F,MATCH($D24,EQUIPES!$D:$D,0)),"") | I24: =IFERROR(INDEX(EQUIPES!G:G,MATCH($D24,EQUIPES!$D:$D,0)),"") | K24: =SUM(E25:J25) -> 0 | L24: =RANK(K24,$K$20:$K$29) -> 1
C26: Jaune | E26: =IFERROR(INDEX(EQUIPES!E:E,MATCH($D26,EQUIPES!$D:$D,0)),"") | G26: =IFERROR(INDEX(EQUIPES!F:F,MATCH($D26,EQUIPES!$D:$D,0)),"") | I26: =IFERROR(INDEX(EQUIPES!G:G,MATCH($D26,EQUIPES!$D:$D,0)),"") | K26: =SUM(E27:J27) -> 0 | L26: =RANK(K26,$K$20:$K$29) -> 1
C28: Vert | E28: =IFERROR(INDEX(EQUIPES!E:E,MATCH($D28,EQUIPES!$D:$D,0)),"") | G28: =IFERROR(INDEX(EQUIPES!F:F,MATCH($D28,EQUIPES!$D:$D,0)),"") | I28: =IFERROR(INDEX(EQUIPES!G:G,MATCH($D28,EQUIPES!$D:$D,0)),"") | K28: =SUM(E29:J29) -> 0 | L28: =RANK(K28,$K$20:$K$29) -> 1
D31: Equipe | E31: Surfeur 1 | G31: Surfeur 2 | I31: Surfeur 3 | K31: TOTAL | L31: CLMT | M31: CAT
B32: S3 | C32: Rouge | E32: =IFERROR(INDEX(EQUIPES!E:E,MATCH($D32,EQUIPES!$D:$D,0)),"") | G32: =IFERROR(INDEX(EQUIPES!F:F,MATCH($D32,EQUIPES!$D:$D,0)),"") | I32: =IFERROR(INDEX(EQUIPES!G:G,MATCH($D32,EQUIPES!$D:$D,0)),"") | K32: =SUM(E33:J33) -> 0 | L32: =RANK(K32,$K$32:$K$41) -> 1 | M32: Minimes
C34: Bleu | E34: =IFERROR(INDEX(EQUIPES!E:E,MATCH($D34,EQUIPES!$D:$D,0)),"") | G34: =IFERROR(INDEX(EQUIPES!F:F,MATCH($D34,EQUIPES!$D:$D,0)),"") | I34: =IFERROR(INDEX(EQUIPES!G:G,MATCH($D34,EQUIPES!$D:$D,0)),"") | K34: =SUM(E35:J35) -> 0 | L34: =RANK(K34,$K$32:$K$41) -> 1
C36: Blanc | E36: =IFERROR(INDEX(EQUIPES!E:E,MATCH($D36,EQUIPES!$D:$D,0)),"") | G36: =IFERROR(INDEX(EQUIPES!F:F,MATCH($D36,EQUIPES!$D:$D,0)),"") | I36: =IFERROR(INDEX(EQUIPES!G:G,MATCH($D36,EQUIPES!$D:$D,0)),"") | K36: =SUM(E37:J37) -> 0 | L36: =RANK(K36,$K$32:$K$41) -> 1
C38: Jaune | E38: =IFERROR(INDEX(EQUIPES!E:E,MATCH($D38,EQUIPES!$D:$D,0)),"") | G38: =IFERROR(INDEX(EQUIPES!F:F,MATCH($D38,EQUIPES!$D:$D,0)),"") | I38: =IFERROR(INDEX(EQUIPES!G:G,MATCH($D38,EQUIPES!$D:$D,0)),"") | K38: =SUM(E39:J39) -> 0 | L38: =RANK(K38,$K$32:$K$41) -> 1
C40: Vert | E40: =IFERROR(INDEX(EQUIPES!E:E,MATCH($D40,EQUIPES!$D:$D,0)),"") | G40: =IFERROR(INDEX(EQUIPES!F:F,MATCH($D40,EQUIPES!$D:$D,0)),"") | I40: =IFERROR(INDEX(EQUIPES!G:G,MATCH($D40,EQUIPES!$D:$D,0)),"") | K40: =SUM(E41:J41) -> 0 | L40: =RANK(K40,$K$32:$K$41) -> 1
B47: ERIC RORTAIS – COLLEGE SAINT GILLES – SAINT GILLES CROIX DE VIE – eric.rortais@gmail.com
B48: YOANN COULLOC’H – LYCEE SAINTE MARIE DU PORT – LES SABLES D’OLONNE - ycoulloch@stemarieduport.fr

Sheet Podium 2 - TOUR 2
A1: Championnat Régional UGSEL SURF 2020/2021 - TAG TEAM Grande Plage - Saint-Gilles-Croix-de-Vie Mercredi 07 Octobre 2020
B5: Tour n°2 | H5: PODIUM | K5: 2
D7: Equipe | E7: Surfeur 1 | G7: Surfeur 2 | I7: Surfeur 3 | K7: TOTAL | L7: CLMT | M7: CAT
B8: S4 | C8: Rouge | E8: =IFERROR(INDEX(EQUIPES!E:E,MATCH($D8,EQUIPES!$D:$D,0)),"") | G8: =IFERROR(INDEX(EQUIPES!F:F,MATCH($D8,EQUIPES!$D:$D,0)),"") | I8: =IFERROR(INDEX(EQUIPES!G:G,MATCH($D8,EQUIPES!$D:$D,0)),"") | K8: =SUM(E9:J9) -> 0 | L8: =RANK(K8,$K$8:$K$17) -> 1 | M8: Benjamins
C10: Bleu | E10: =IFERROR(INDEX(EQUIPES!E:E,MATCH($D10,EQUIPES!$D:$D,0)),"") | G10: =IFERROR(INDEX(EQUIPES!F:F,MATCH($D10,EQUIPES!$D:$D,0)),"") | I10: =IFERROR(INDEX(EQUIPES!G:G,MATCH($D10,EQUIPES!$D:$D,0)),"") | K10: =SUM(E11:J11) -> 0 | L10: =RANK(K10,$K$8:$K$17) -> 1
C12: Blanc | E12: =IFERROR(INDEX(EQUIPES!E:E,MATCH($D12,EQUIPES!$D:$D,0)),"") | G12: =IFERROR(INDEX(EQUIPES!F:F,MATCH($D12,EQUIPES!$D:$D,0)),"") | I12: =IFERROR(INDEX(EQUIPES!G:G,MATCH($D12,EQUIPES!$D:$D,0)),"") | K12: =SUM(E13:J13) -> 0 | L12: =RANK(K12,$K$8:$K$17) -> 1
C14: Jaune | E14: =IFERROR(INDEX(EQUIPES!E:E,MATCH($D14,EQUIPES!$D:$D,0)),"") | G14: =IFERROR(INDEX(EQUIPES!F:F,MATCH($D14,EQUIPES!$D:$D,0)),"") | I14: =IFERROR(INDEX(EQUIPES!G:G,MATCH($D14,EQUIPES!$D:$D,0)),"") | K14: =SUM(E15:J15) -> 0 | L14: =RANK(K14,$K$8:$K$17) -> 1
C16: Vert | E16: =IFERROR(INDEX(EQUIPES!E:E,MATCH($D16,EQUIPES!$D:$D,0)),"") | G16: =IFERROR(INDEX(EQUIPES!F:F,MATCH($D16,EQUIPES!$D:$D,0)),"") | I16: =IFERROR(INDEX(EQUIPES!G:G,MATCH($D16,EQUIPES!$D:$D,0)),"") | K16: =SUM(E17:J17) -> 0 | L16: =RANK(K16,$K$8:$K$17) -> 1
D19: Equipe | E19: Surfeur 1 | G19: Surfeur 2 | I19: Surfeur 3 | K19: TOTAL | L19: CLMT | M19: CAT
B20: S5 | C20: Rouge | E20: =IFERROR(INDEX(EQUIPES!E:E,MATCH($D20,EQUIPES!$D:$D,0)),"") | G20: =IFERROR(INDEX(EQUIPES!F:F,MATCH($D20,EQUIPES!$D:$D,0)),"") | I20: =IFERROR(INDEX(EQUIPES!G:G,MATCH($D20,EQUIPES!$D:$D,0)),"") | K20: =SUM(E21:J21) -> 0 | L20: =RANK(K20,$K$20:$K$29) -> 1 | M20: Lycée
C22: Bleu | E22: =IFERROR(INDEX(EQUIPES!E:E,MATCH($D22,EQUIPES!$D:$D,0)),"") | G22: =IFERROR(INDEX(EQUIPES!F:F,MATCH($D22,EQUIPES!$D:$D,0)),"") | I22: =IFERROR(INDEX(EQUIPES!G:G,MATCH($D22,EQUIPES!$D:$D,0)),"") | K22: =SUM(E23:J23) -> 0 | L22: =RANK(K22,$K$20:$K$29) -> 1
C24: Blanc | E24: =IFERROR(INDEX(EQUIPES!E:E,MATCH($D24,EQUIPES!$D:$D,0)),"") | G24: =IFERROR(INDEX(EQUIPES!F:F,MATCH($D24,EQUIPES!$D:$D,0)),"") | I24: =IFERROR(INDEX(EQUIPES!G:G,MATCH($D24,EQUIPES!$D:$D,0)),"") | K24: =SUM(E25:J25) -> 0 | L24: =RANK(K24,$K$20:$K$29) -> 1
C26: Jaune | E26: =IFERROR(INDEX(EQUIPES!E:E,MATCH($D26,EQUIPES!$D:$D,0)),"") | G26: =IFERROR(INDEX(EQUIPES!F:F,MATCH($D26,EQUIPES!$D:$D,0)),"") | I26: =IFERROR(INDEX(EQUIPES!G:G,MATCH($D26,EQUIPES!$D:$D,0)),"") | K26: =SUM(E27:J27) -> 0 | L26: =RANK(K26,$K$20:$K$29) -> 1
C28: Vert | E28: =IFERROR(INDEX(EQUIPES!E:E,MATCH($D28,EQUIPES!$D:$D,0)),"") | G28: =IFERROR(INDEX(EQUIPES!F:F,MATCH($D28,EQUIPES!$D:$D,0)),"") | I28: =IFERROR(INDEX(EQUIPES!G:G,MATCH($D28,EQUIPES!$D:$D,0)),"") | K28: =SUM(E29:J29) -> 0 | L28: =RANK(K28,$K$20:$K$29) -> 1
D31: Equipe | E31: Surfeur 1 | G31: Surfeur 2 | I31: Surfeur 3 | K31: TOTAL | L31: CLMT | M31: CAT
B32: S6 | C32: Rouge | E32: =IFERROR(INDEX(EQUIPES!E:E,MATCH($D32,EQUIPES!$D:$D,0)),"") | G32: =IFERROR(INDEX(EQUIPES!F:F,MATCH($D32,EQUIPES!$D:$D,0)),"") | I32: =IFERROR(INDEX(EQUIPES!G:G,MATCH($D32,EQUIPES!$D:$D,0)),"") | K32: =SUM(E33:J33) -> 0 | L32: =RANK(K32,$K$32:$K$41) -> 1 | M32: Minimes
C34: Bleu | E34: =IFERROR(INDEX(EQUIPES!E:E,MATCH($D34,EQUIPES!$D:$D,0)),"") | G34: =IFERROR(INDEX(EQUIPES!F:F,MATCH($D34,EQUIPES!$D:$D,0)),"") | I34: =IFERROR(INDEX(EQUIPES!G:G,MATCH($D34,EQUIPES!$D:$D,0)),"") | K34: =SUM(E35:J35) -> 0 | L34: =RANK(K34,$K$32:$K$41) -> 1
C36: Blanc | E36: =IFERROR(INDEX(EQUIPES!E:E,MATCH($D36,EQUIPES!$D:$D,0)),"") | G36: =IFERROR(INDEX(EQUIPES!F:F,MATCH($D36,EQUIPES!$D:$D,0)),"") | I36: =IFERROR(INDEX(EQUIPES!G:G,MATCH($D36,EQUIPES!$D:$D,0)),"") | K36: =SUM(E37:J37) -> 0 | L36: =RANK(K36,$K$32:$K$41) -> 1
C38: Jaune | E38: =IFERROR(INDEX(EQUIPES!E:E,MATCH($D38,EQUIPES!$D:$D,0)),"") | G38: =IFERROR(INDEX(EQUIPES!F:F,MATCH($D38,EQUIPES!$D:$D,0)),"") | I38: =IFERROR(INDEX(EQUIPES!G:G,MATCH($D38,EQUIPES!$D:$D,0)),"") | K38: =SUM(E39:J39) -> 0 | L38: =RANK(K38,$K$32:$K$41) -> 1
C40: Vert | E40: =IFERROR(INDEX(EQUIPES!E:E,MATCH($D40,EQUIPES!$D:$D,0)),"") | G40: =IFERROR(INDEX(EQUIPES!F:F,MATCH($D40,EQUIPES!$D:$D,0)),"") | I40: =IFERROR(INDEX(EQUIPES!G:G,MATCH($D40,EQUIPES!$D:$D,0)),"") | K40: =SUM(E41:J41) -> 0 | L40: =RANK(K40,$K$32:$K$41) -> 1
B48: ERIC RORTAIS – COLLEGE SAINT GILLES – SAINT GILLES CROIX DE VIE – eric.rortais@gmail.com
B49: YOANN COULLOC’H – LYCEE SAINTE MARIE DU PORT – LES SABLES D’OLONNE - ycoulloch@stemarieduport.fr

Sheet EQUIPES
A1: Championnat Régional UGSEL SURF 2020/2021 - TAG TEAM Grande Plage - Saint-Gilles-Croix-de-Vie Mercredi 07 Octobre 2020
B5: Inscriptions - Constitution des équipes
C7: Catégorie | D7: Equipe | E7: Surfeur 1 | F7: Surfeur 2 | G7: Surfeur 3
B8: #1 | C8: BENJAMIN(ES) | D8: Bourgenay 1 | E8: Aloïs CHEVALIER | F8: Swan CHEVALIER | G8: Paul BARRETEAU
B9: #2 | C9: BENJAMIN(ES) | D9: Bourgenay 2 | E9: Maël GUERINEAU | F9: Félix DARY
B10: #3 | C10: BENJAMIN(ES) | D10: Bourgenay 3 | E10: Noa TARD-BEAUDOUIN | F10: Léo NIEDZWIEDZINSKI | G10: Arsène GILLET
B11: #4 | C11: BENJAMIN(ES) | D11: Amiral 1 | E11: Gabin VESCO | F11: Camille BREVIERE | G11: Noah DAUSQUE
B12: #5 | C12: BENJAMIN(ES) | D12: Amiral 2 | E12: Tanguy BOULINEAU | F12: Dorian DUDIT | G12: Flora FORTINEAU
B13: #6 | C13: BENJAMIN(ES) | D13: Amiral 3 | E13: Pierre BEAUCE | F13: Gabin GUIHENEUF | G13: Nino POIRIER
B14: #7 | C14: BENJAMIN(ES) | D14: St Pazanne | E14: GRAILLAT Côme | F14: BOSSARD Tom | G14: FOVEZ Jules
B15: #8 | C15: LYCÉEN(NES) | D15: SMDP 1 | E15: BALLOFET Max | F15: DIDAILLER Mathéo | G15: BREVIERE Axel
B16: #9 | C16: LYCÉEN(NES) | D16: SMDP 2 | E16: DEL CHÂTEAU Valentin | F16: TASSIN Maxence | G16: BUTAUD Lucas
B17: #10 | C17: LYCÉEN(NES) | D17: SMDP 3 | E17: RIVET Maty | F17: LE FOLL Hugo | G17: MKADARA Siam
B18: #11 | C18: LYCÉEN(NES) | D18: SMDP 4 | E18: TIVOLI Victor | F18: SANDERSON Victor | G18: DE LA CELLE Guillaume
B19: #12 | C19: LYCÉEN(NES) | D19: Notre Dame | E19: Jules GUYOT | F19: GARCON Louis | G19: BACONNAIS Victor-Alexandre
B20: #13 | C20: LYCÉEN(NES) | D20: La Mennais | E20: X1 | F20: X2 | G20: X3
B21: #14 | C21: MINIMES | D21: Bourgenay 1 | E21: Arthur GANNE | F21: Louis FONTAINE
B22: #15 | C22: MINIMES | D22: Bourgenay 2 | E22: Gabriel BELMON | F22: Thomas GARREC | G22: Agathe MORNET
B23: #16 | C23: MINIMES | D23: Bourgenay 3 | E23: Marika GIBOUIN | F23: Lilas BERAT | G23: Nolan LEJEUNE
B24: #17 | C24: MINIMES | D24: Bourgenay 4 | E24: Jeanne BELLE | F24: Sahra GAUDIN | G24: Laetitia LE GALL
B25: #18 | C25: MINIMES | D25: Amiral 1 | E25: Simon GIBOUIN | F25: Baptiste GUIGNARD | G25: Sami EDET-SABBAH
B26: #19 | C26: MINIMES | D26: St Gilles 1 | E26: RORTAIS Emile | F26: FORT Guerlain | G26: RAFFIN Teïva
B27: #20 | C27: MINIMES | D27: St Gilles 2 | E27: MORISSET Simon | F27: ROBIN Thomas | G27: LAFAGE Baptiste
B28: #21 | C28: MINIMES | D28: Guérande 1 | E28: HOUDELINE Sogyal | F28: NOEL Sacha | G28: PIQUET Alex
B29: #22 | C29: MINIMES | D29: Guérande 2 | E29: MATHIEU Hugo | F29: NICOL Mael | G29: BIVAUD Louanne
B30: #23 | C30: MINIMES | D30: St Stan 1 | E30: X1 | F30: X2 | G30: X3
B31: #24 | C31: MINIMES | D31: St Stan 2 | E31: X1 | F31: X2 | G31: X3
B32: #25
B33: #26
B34: #27
B35: #28
B36: #29
B37: #30
G42: BENJAMIN(ES)
G43: MINIMES
G44: LYCÉEN(NES)
B47: ERIC RORTAIS – COLLEGE SAINT GILLES – SAINT GILLES CROIX DE VIE – eric.rortais@gmail.com
B48: YOANN COULLOC’H – LYCEE SAINTE MARIE DU PORT – LES SABLES D’OLONNE - ycoulloch@stemarieduport.fr

Sheet INDIVIDUEL
A1: Championnat Régional UGSEL SURF 2020/2021 - TAG TEAM Grande Plage - Saint-Gilles-Croix-de-Vie Mercredi 07 Octobre 2020
B5: Inscriptions - Listing individuel
F6: 2 meilleures vagues
C7: Catégorie | D7: Etablissement | E7: Surfeur | F7: Série 1 | G7: Série 2 | H7: Total
B8: #1 | C8: BENJAMIN(ES) | D8: Bourgenay 1 | E8: Aloïs CHEVALIER
B9: #2
B10: #3
B11: #4
B12: #5
B13: #6
B14: #7
B15: #8
B16: #9
B17: #10
B18: #11
B19: #12
B20: #13
... B42: #35
G47: BENJAMIN(ES)
G48: MINIMES
G49: LYCÉEN(NES)
B52: ERIC RORTAIS – COLLEGE SAINT GILLES – SAINT GILLES CROIX DE VIE – eric.rortais@gmail.com
B53: YOANN COULLOC’H – LYCEE SAINTE MARIE DU PORT – LES SABLES D’OLONNE - ycoulloch@stemarieduport.fr

Sheet LISTES INSCRITS
A1: Catégories | B1: Elèves | C1: Etablissements | D1: Etablissements
A2: Benjamins | B2: Aloïs CHEVALIER | C2: BENJAMIN(ES) | D2: Notre Dame de Bourgenay (85)
A3: Minimes | B3: Swan CHEVALIER | C3: BENJAMIN(ES)
A4: Lycée | B4: Paul BARRETEAU | C4: BENJAMIN(ES)
B5: Maël GUERINEAU | C5: BENJAMIN(ES)
B6: Félix DARY | C6: BENJAMIN(ES)
B7: Noa TARD-BEAUDOUIN | C7: BENJAMIN(ES)
B8: Léo NIEDZWIEDZINSKI | C8: BENJAMIN(ES)
B9: Arsène GILLET | C9: BENJAMIN(ES)
B10: Arthur GANNE | C10: MINIMES
B11: Louis FONTAINE | C11: MINIMES
B12: Gabriel BELMON | C12: MINIMES
B13: Thomas GARREC | C13: MINIMES
B14: Agathe MORNET | C14: MINIMES
B15: Marika GIBOUIN | C15: MINIMES
B16: Lilas BERAT | C16: MINIMES
... B20: Laetitia LE GALL | C20: MINIMES
B21: Gabin VESCO | C21: BENJAMIN(ES) | D21: Amiral (85)
B22: Camille BREVIERE | C22: BENJAMIN(ES)
B23: Noah DAUSQUE | C23: BENJAMIN(ES)
B24: Tanguy BOULINEAU | C24: BENJAMIN(ES)
B25: Dorian DUDIT | C25: BENJAMIN(ES)
B26: Flora FORTINEAU | C26: BENJAMIN(ES)
B27: Pierre BEAUCE | C27: BENJAMIN(ES)
B28: Gabin GUIHENEUF | C28: BENJAMIN(ES)
B29: Nino POIRIER | C29: BENJAMIN(ES)
B30: Simon GIBOUIN | C30: MINIMES
B31: Baptiste GUIGNARD | C31: MINIMES
B32: Sami EDET-SABBAH | C32: MINIMES
B33: LE FOLL Hugo | C33: LYCEENS | D33: Sainte Marie du Port (85)
B34: BALLOFET Max | C34: LYCEENS
B35: DIDAILLER Mathéo | C35: LYCEENS
B36: RIVET Maty | C36: LYCEENS
B37: TIVOLI Victor | C37: LYCEENS
B38: MKADARA Siam | C38: LYCEENS
B39: SANDERSON Victor | C39: LYCEENS
B40: TASSIN Maxence | C40: LYCEENS
B41: DEL CHÂTEAU Valentin | C41: LYCEENS
B42: BREVIERE Axel | C42: LYCEENS
B43: BUTAUD Lucas | C43: LYCEENS
B44: DE LA CELLE Guillaume | C44: LYCEENS
B45: RORTAIS Emile | C45: MINIMES | D45: Collège Saint Gilles (85)
B46: FORT Guerlain | C46: MINIMES
B47: RAFFIN Teïva | C47: MINIMES
B48: ROBIN Thomas | C48: MINIMES
B49: MORISSET Simon | C49: MINIMES
B50: LAFAGE Baptiste | C50: MINIMES
B51: GARCON Louis | C51: LYCEENS | D51: Notre Dame (44)
B52: GUYOT Jules | C52: LYCEENS
B53: BACONNAIS Victor-Alexandre | C53: LYCEENS
C54: LYCEENS | D54: La Mennais (44)
C55: LYCEENS
C56: LYCEENS
B57: HOUDELINE Sogyal | C57: MINIMES | D57: Guérande (44)
B58: NOEL Sacha | C58: MINIMES
B59: PIQUET Alex | C59: MINIMES
B60: MATHIEU Hugo | C60: MINIMES
B61: NICOL Mael | C61: MINIMES
B62: BIVAUD Louanne | C62: MINIMES
B63: GRAILLAT Côme | C63: BENJAMIN(ES) | D63: St Pazanne (44)
B64: BOSSARD Tom | C64: BENJAMIN(ES)
B65: FOVEZ Jules | C65: BENJAMIN(ES)
B66: MONNERAIE Eliott | C66: Lycée | D66: Saint Stanislas (44)
B67: THOMAS Artus | C67: Lycée
B68: GUERTON Amaury | C68: Lycée
B69: THOMAS Jehan | C69: Lycée
B70: ROBIN Alfred | C70: Lycée
B71: RENAUDINEAU Noë | C71: Lycée
