Workbook

Sheet TDB
A2: Code Tour | C2: 267741
B4: VILLE | C4: DATE RECEPTION | D4: RULE | E4: CODE TOUR | F4: TARIFS | G4: LOC1 | H4: LOC2 | I4: AGENCE
B5: =IFERROR(INDEX('CMA1'!$A$2:$A$13,_xlfn.AGGREGATE(15,6,(1/(('CMA1'!$D$2:$D$13=TDB!$C$2)))*(ROW('CMA1'!$D$2:$D$13)-1),ROW()-1)),"") -> D | C5: =IFERROR(INDEX('CMA1'!$B$2:$B$13,_xlfn.AGGREGATE(15,6,(1/(('CMA1'!$D$2:$D$13=TDB!$C$2)))*(ROW('CMA1'!$D$2:$D$13)-1),ROW()-1)),"") -> 43899 | D5: =IFERROR(INDEX('CMA1'!$C$2:$C$13,_xlfn.AGGREGATE(15,6,(1/(('CMA1'!$D$2:$D$13=TDB!$C$2)))*(ROW('CMA1'!$D$2:$D$13)-1),ROW()-1)),"") -> CMA1 | E5: =IFERROR(INDEX('CMA1'!$D$2:$D$13,_xlfn.AGGREGATE(15,6,(1/(('CMA1'!$D$2:$D$13=TDB!$C$2)))*(ROW('CMA1'!$D$2:$D$13)-1),ROW()-1)),"") -> 267741 | F5: =IFERROR(INDEX('CMA1'!$E$2:$E$13,_xlfn.AGGREGATE(15,6,(1/(('CMA1'!$D$2:$D$13=TDB!$C$2)))*(ROW('CMA1'!$D$2:$D$13)-1),ROW()-1)),"") -> FBINPV | G5: =IFERROR(INDEX('CMA1'!$F$2:$F$13,_xlfn.AGGREGATE(15,6,(1/(('CMA1'!$D$2:$D$13=TDB!$C$2)))*(ROW('CMA1'!$D$2:$D$13)-1),ROW()-1)),"") -> MA | H5: =IFERROR(INDEX('CMA1'!$G$2:$G$13,_xlfn.AGGREGATE(15,6,(1/(('CMA1'!$D$2:$D$13=TDB!$C$2)))*(ROW('CMA1'!$D$2:$D$13)-1),ROW()-1)),"") -> CA | I5: =IFERROR(INDEX('CMA1'!$H$2:$H$13,_xlfn.AGGREGATE(15,6,(1/(('CMA1'!$D$2:$D$13=TDB!$C$2)))*(ROW('CMA1'!$D$2:$D$13)-1),ROW()-1)),"") -> V
B6: =IFERROR(INDEX('CMA1'!$A$2:$A$13,_xlfn.AGGREGATE(15,6,(1/(('CMA1'!$D$2:$D$13=TDB!$C$2)))*(ROW('CMA1'!$D$2:$D$13)-1),ROW()-1)),"") -> E | C6: =IFERROR(INDEX('CMA1'!$B$2:$B$13,_xlfn.AGGREGATE(15,6,(1/(('CMA1'!$D$2:$D$13=TDB!$C$2)))*(ROW('CMA1'!$D$2:$D$13)-1),ROW()-1)),"") -> 43900 | D6: =IFERROR(INDEX('CMA1'!$C$2:$C$13,_xlfn.AGGREGATE(15,6,(1/(('CMA1'!$D$2:$D$13=TDB!$C$2)))*(ROW('CMA1'!$D$2:$D$13)-1),ROW()-1)),"") -> CMA1 | E6: =IFERROR(INDEX('CMA1'!$D$2:$D$13,_xlfn.AGGREGATE(15,6,(1/(('CMA1'!$D$2:$D$13=TDB!$C$2)))*(ROW('CMA1'!$D$2:$D$13)-1),ROW()-1)),"") -> 267741 | F6: =IFERROR(INDEX('CMA1'!$E$2:$E$13,_xlfn.AGGREGATE(15,6,(1/(('CMA1'!$D$2:$D$13=TDB!$C$2)))*(ROW('CMA1'!$D$2:$D$13)-1),ROW()-1)),"") -> FB2P | G6: =IFERROR(INDEX('CMA1'!$F$2:$F$13,_xlfn.AGGREGATE(15,6,(1/(('CMA1'!$D$2:$D$13=TDB!$C$2)))*(ROW('CMA1'!$D$2:$D$13)-1),ROW()-1)),"") -> MA | H6: =IFERROR(INDEX('CMA1'!$G$2:$G$13,_xlfn.AGGREGATE(15,6,(1/(('CMA1'!$D$2:$D$13=TDB!$C$2)))*(ROW('CMA1'!$D$2:$D$13)-1),ROW()-1)),"") -> DZ/TN | I6: =IFERROR(INDEX('CMA1'!$H$2:$H$13,_xlfn.AGGREGATE(15,6,(1/(('CMA1'!$D$2:$D$13=TDB!$C$2)))*(ROW('CMA1'!$D$2:$D$13)-1),ROW()-1)),"") -> W
B7: =IFERROR(INDEX('CMA1'!$A$2:$A$13,_xlfn.AGGREGATE(15,6,(1/(('CMA1'!$D$2:$D$13=TDB!$C$2)))*(ROW('CMA1'!$D$2:$D$13)-1),ROW()-1)),"") -> F | C7: =IFERROR(INDEX('CMA1'!$B$2:$B$13,_xlfn.AGGREGATE(15,6,(1/(('CMA1'!$D$2:$D$13=TDB!$C$2)))*(ROW('CMA1'!$D$2:$D$13)-1),ROW()-1)),"") -> 43900 | D7: =IFERROR(INDEX('CMA1'!$C$2:$C$13,_xlfn.AGGREGATE(15,6,(1/(('CMA1'!$D$2:$D$13=TDB!$C$2)))*(ROW('CMA1'!$D$2:$D$13)-1),ROW()-1)),"") -> CMA1 | E7: =IFERROR(INDEX('CMA1'!$D$2:$D$13,_xlfn.AGGREGATE(15,6,(1/(('CMA1'!$D$2:$D$13=TDB!$C$2)))*(ROW('CMA1'!$D$2:$D$13)-1),ROW()-1)),"") -> 267741 | F7: =IFERROR(INDEX('CMA1'!$E$2:$E$13,_xlfn.AGGREGATE(15,6,(1/(('CMA1'!$D$2:$D$13=TDB!$C$2)))*(ROW('CMA1'!$D$2:$D$13)-1),ROW()-1)),"") -> FB12P | G7: =IFERROR(INDEX('CMA1'!$F$2:$F$13,_xlfn.AGGREGATE(15,6,(1/(('CMA1'!$D$2:$D$13=TDB!$C$2)))*(ROW('CMA1'!$D$2:$D$13)-1),ROW()-1)),"") -> MA | H7: =IFERROR(INDEX('CMA1'!$G$2:$G$13,_xlfn.AGGREGATE(15,6,(1/(('CMA1'!$D$2:$D$13=TDB!$C$2)))*(ROW('CMA1'!$D$2:$D$13)-1),ROW()-1)),"") -> BR | I7: =IFERROR(INDEX('CMA1'!$H$2:$H$13,_xlfn.AGGREGATE(15,6,(1/(('CMA1'!$D$2:$D$13=TDB!$C$2)))*(ROW('CMA1'!$D$2:$D$13)-1),ROW()-1)),"") -> X
B8: =IFERROR(INDEX('CMA1'!$A$2:$A$13,_xlfn.AGGREGATE(15,6,(1/(('CMA1'!$D$2:$D$13=TDB!$C$2)))*(ROW('CMA1'!$D$2:$D$13)-1),ROW()-1)),"") -> G | C8: =IFERROR(INDEX('CMA1'!$B$2:$B$13,_xlfn.AGGREGATE(15,6,(1/(('CMA1'!$D$2:$D$13=TDB!$C$2)))*(ROW('CMA1'!$D$2:$D$13)-1),ROW()-1)),"") -> 43900 | D8: =IFERROR(INDEX('CMA1'!$C$2:$C$13,_xlfn.AGGREGATE(15,6,(1/(('CMA1'!$D$2:$D$13=TDB!$C$2)))*(ROW('CMA1'!$D$2:$D$13)-1),ROW()-1)),"") -> CMA1 | E8: =IFERROR(INDEX('CMA1'!$D$2:$D$13,_xlfn.AGGREGATE(15,6,(1/(('CMA1'!$D$2:$D$13=TDB!$C$2)))*(ROW('CMA1'!$D$2:$D$13)-1),ROW()-1)),"") -> 267741 | F8: =IFERROR(INDEX('CMA1'!$E$2:$E$13,_xlfn.AGGREGATE(15,6,(1/(('CMA1'!$D$2:$D$13=TDB!$C$2)))*(ROW('CMA1'!$D$2:$D$13)-1),ROW()-1)),"") -> FB23P | G8: =IFERROR(INDEX('CMA1'!$F$2:$F$13,_xlfn.AGGREGATE(15,6,(1/(('CMA1'!$D$2:$D$13=TDB!$C$2)))*(ROW('CMA1'!$D$2:$D$13)-1),ROW()-1)),"") -> MA | H8: =IFERROR(INDEX('CMA1'!$G$2:$G$13,_xlfn.AGGREGATE(15,6,(1/(('CMA1'!$D$2:$D$13=TDB!$C$2)))*(ROW('CMA1'!$D$2:$D$13)-1),ROW()-1)),"") -> CN | I8: =IFERROR(INDEX('CMA1'!$H$2:$H$13,_xlfn.AGGREGATE(15,6,(1/(('CMA1'!$D$2:$D$13=TDB!$C$2)))*(ROW('CMA1'!$D$2:$D$13)-1),ROW()-1)),"") -> Y
B9: =IFERROR(INDEX('CMA1'!$A$2:$A$13,_xlfn.AGGREGATE(15,6,(1/(('CMA1'!$D$2:$D$13=TDB!$C$2)))*(ROW('CMA1'!$D$2:$D$13)-1),ROW()-1)),"") -> H | C9: =IFERROR(INDEX('CMA1'!$B$2:$B$13,_xlfn.AGGREGATE(15,6,(1/(('CMA1'!$D$2:$D$13=TDB!$C$2)))*(ROW('CMA1'!$D$2:$D$13)-1),ROW()-1)),"") -> 43900 | D9: =IFERROR(INDEX('CMA1'!$C$2:$C$13,_xlfn.AGGREGATE(15,6,(1/(('CMA1'!$D$2:$D$13=TDB!$C$2)))*(ROW('CMA1'!$D$2:$D$13)-1),ROW()-1)),"") -> CMA1 | E9: =IFERROR(INDEX('CMA1'!$D$2:$D$13,_xlfn.AGGREGATE(15,6,(1/(('CMA1'!$D$2:$D$13=TDB!$C$2)))*(ROW('CMA1'!$D$2:$D$13)-1),ROW()-1)),"") -> 267741 | F9: =IFERROR(INDEX('CMA1'!$E$2:$E$13,_xlfn.AGGREGATE(15,6,(1/(('CMA1'!$D$2:$D$13=TDB!$C$2)))*(ROW('CMA1'!$D$2:$D$13)-1),ROW()-1)),"") -> FBINPV | G9: =IFERROR(INDEX('CMA1'!$F$2:$F$13,_xlfn.AGGREGATE(15,6,(1/(('CMA1'!$D$2:$D$13=TDB!$C$2)))*(ROW('CMA1'!$D$2:$D$13)-1),ROW()-1)),"") -> MA | H9: =IFERROR(INDEX('CMA1'!$G$2:$G$13,_xlfn.AGGREGATE(15,6,(1/(('CMA1'!$D$2:$D$13=TDB!$C$2)))*(ROW('CMA1'!$D$2:$D$13)-1),ROW()-1)),"") -> CA | I9: =IFERROR(INDEX('CMA1'!$H$2:$H$13,_xlfn.AGGREGATE(15,6,(1/(('CMA1'!$D$2:$D$13=TDB!$C$2)))*(ROW('CMA1'!$D$2:$D$13)-1),ROW()-1)),"") -> Z
B10: =IFERROR(INDEX('CMA1'!$A$2:$A$13,_xlfn.AGGREGATE(15,6,(1/(('CMA1'!$D$2:$D$13=TDB!$C$2)))*(ROW('CMA1'!$D$2:$D$13)-1),ROW()-1)),"") | C10: =IFERROR(INDEX('CMA1'!$B$2:$B$13,_xlfn.AGGREGATE(15,6,(1/(('CMA1'!$D$2:$D$13=TDB!$C$2)))*(ROW('CMA1'!$D$2:$D$13)-1),ROW()-1)),"") | D10: =IFERROR(INDEX('CMA1'!$C$2:$C$13,_xlfn.AGGREGATE(15,6,(1/(('CMA1'!$D$2:$D$13=TDB!$C$2)))*(ROW('CMA1'!$D$2:$D$13)-1),ROW()-1)),"") | E10: =IFERROR(INDEX('CMA1'!$D$2:$D$13,_xlfn.AGGREGATE(15,6,(1/(('CMA1'!$D$2:$D$13=TDB!$C$2)))*(ROW('CMA1'!$D$2:$D$13)-1),ROW()-1)),"") | F10: =IFERROR(INDEX('CMA1'!$E$2:$E$13,_xlfn.AGGREGATE(15,6,(1/(('CMA1'!$D$2:$D$13=TDB!$C$2)))*(ROW('CMA1'!$D$2:$D$13)-1),ROW()-1)),"") | G10: =IFERROR(INDEX('CMA1'!$F$2:$F$13,_xlfn.AGGREGATE(15,6,(1/(('CMA1'!$D$2:$D$13=TDB!$C$2)))*(ROW('CMA1'!$D$2:$D$13)-1),ROW()-1)),"") | H10: =IFERROR(INDEX('CMA1'!$G$2:$G$13,_xlfn.AGGREGATE(15,6,(1/(('CMA1'!$D$2:$D$13=TDB!$C$2)))*(ROW('CMA1'!$D$2:$D$13)-1),ROW()-1)),"") | I10: =IFERROR(INDEX('CMA1'!$H$2:$H$13,_xlfn.AGGREGATE(15,6,(1/(('CMA1'!$D$2:$D$13=TDB!$C$2)))*(ROW('CMA1'!$D$2:$D$13)-1),ROW()-1)),"")
B11: =IFERROR(INDEX('CMA1'!$A$2:$A$13,_xlfn.AGGREGATE(15,6,(1/(('CMA1'!$D$2:$D$13=TDB!$C$2)))*(ROW('CMA1'!$D$2:$D$13)-1),ROW()-1)),"") | C11: =IFERROR(INDEX('CMA1'!$B$2:$B$13,_xlfn.AGGREGATE(15,6,(1/(('CMA1'!$D$2:$D$13=TDB!$C$2)))*(ROW('CMA1'!$D$2:$D$13)-1),ROW()-1)),"") | D11: =IFERROR(INDEX('CMA1'!$C$2:$C$13,_xlfn.AGGREGATE(15,6,(1/(('CMA1'!$D$2:$D$13=TDB!$C$2)))*(ROW('CMA1'!$D$2:$D$13)-1),ROW()-1)),"") | E11: =IFERROR(INDEX('CMA1'!$D$2:$D$13,_xlfn.AGGREGATE(15,6,(1/(('CMA1'!$D$2:$D$13=TDB!$C$2)))*(ROW('CMA1'!$D$2:$D$13)-1),ROW()-1)),"") | F11: =IFERROR(INDEX('CMA1'!$E$2:$E$13,_xlfn.AGGREGATE(15,6,(1/(('CMA1'!$D$2:$D$13=TDB!$C$2)))*(ROW('CMA1'!$D$2:$D$13)-1),ROW()-1)),"") | G11: =IFERROR(INDEX('CMA1'!$F$2:$F$13,_xlfn.AGGREGATE(15,6,(1/(('CMA1'!$D$2:$D$13=TDB!$C$2)))*(ROW('CMA1'!$D$2:$D$13)-1),ROW()-1)),"") | H11: =IFERROR(INDEX('CMA1'!$G$2:$G$13,_xlfn.AGGREGATE(15,6,(1/(('CMA1'!$D$2:$D$13=TDB!$C$2)))*(ROW('CMA1'!$D$2:$D$13)-1),ROW()-1)),"") | I11: =IFERROR(INDEX('CMA1'!$H$2:$H$13,_xlfn.AGGREGATE(15,6,(1/(('CMA1'!$D$2:$D$13=TDB!$C$2)))*(ROW('CMA1'!$D$2:$D$13)-1),ROW()-1)),"")
B12: =IFERROR(INDEX('CMA1'!$A$2:$A$13,_xlfn.AGGREGATE(15,6,(1/(('CMA1'!$D$2:$D$13=TDB!$C$2)))*(ROW('CMA1'!$D$2:$D$13)-1),ROW()-1)),"") | C12: =IFERROR(INDEX('CMA1'!$B$2:$B$13,_xlfn.AGGREGATE(15,6,(1/(('CMA1'!$D$2:$D$13=TDB!$C$2)))*(ROW('CMA1'!$D$2:$D$13)-1),ROW()-1)),"") | D12: =IFERROR(INDEX('CMA1'!$C$2:$C$13,_xlfn.AGGREGATE(15,6,(1/(('CMA1'!$D$2:$D$13=TDB!$C$2)))*(ROW('CMA1'!$D$2:$D$13)-1),ROW()-1)),"") | E12: =IFERROR(INDEX('CMA1'!$D$2:$D$13,_xlfn.AGGREGATE(15,6,(1/(('CMA1'!$D$2:$D$13=TDB!$C$2)))*(ROW('CMA1'!$D$2:$D$13)-1),ROW()-1)),"") | F12: =IFERROR(INDEX('CMA1'!$E$2:$E$13,_xlfn.AGGREGATE(15,6,(1/(('CMA1'!$D$2:$D$13=TDB!$C$2)))*(ROW('CMA1'!$D$2:$D$13)-1),ROW()-1)),"") | G12: =IFERROR(INDEX('CMA1'!$F$2:$F$13,_xlfn.AGGREGATE(15,6,(1/(('CMA1'!$D$2:$D$13=TDB!$C$2)))*(ROW('CMA1'!$D$2:$D$13)-1),ROW()-1)),"") | H12: =IFERROR(INDEX('CMA1'!$G$2:$G$13,_xlfn.AGGREGATE(15,6,(1/(('CMA1'!$D$2:$D$13=TDB!$C$2)))*(ROW('CMA1'!$D$2:$D$13)-1),ROW()-1)),"") | I12: =IFERROR(INDEX('CMA1'!$H$2:$H$13,_xlfn.AGGREGATE(15,6,(1/(('CMA1'!$D$2:$D$13=TDB!$C$2)))*(ROW('CMA1'!$D$2:$D$13)-1),ROW()-1)),"")
B13: =IFERROR(INDEX('CMA1'!$A$2:$A$13,_xlfn.AGGREGATE(15,6,(1/(('CMA1'!$D$2:$D$13=TDB!$C$2)))*(ROW('CMA1'!$D$2:$D$13)-1),ROW()-1)),"") | C13: =IFERROR(INDEX('CMA1'!$B$2:$B$13,_xlfn.AGGREGATE(15,6,(1/(('CMA1'!$D$2:$D$13=TDB!$C$2)))*(ROW('CMA1'!$D$2:$D$13)-1),ROW()-1)),"") | D13: =IFERROR(INDEX('CMA1'!$C$2:$C$13,_xlfn.AGGREGATE(15,6,(1/(('CMA1'!$D$2:$D$13=TDB!$C$2)))*(ROW('CMA1'!$D$2:$D$13)-1),ROW()-1)),"") | E13: =IFERROR(INDEX('CMA1'!$D$2:$D$13,_xlfn.AGGREGATE(15,6,(1/(('CMA1'!$D$2:$D$13=TDB!$C$2)))*(ROW('CMA1'!$D$2:$D$13)-1),ROW()-1)),"") | F13: =IFERROR(INDEX('CMA1'!$E$2:$E$13,_xlfn.AGGREGATE(15,6,(1/(('CMA1'!$D$2:$D$13=TDB!$C$2)))*(ROW('CMA1'!$D$2:$D$13)-1),ROW()-1)),"") | G13: =IFERROR(INDEX('CMA1'!$F$2:$F$13,_xlfn.AGGREGATE(15,6,(1/(('CMA1'!$D$2:$D$13=TDB!$C$2)))*(ROW('CMA1'!$D$2:$D$13)-1),ROW()-1)),"") | H13: =IFERROR(INDEX('CMA1'!$G$2:$G$13,_xlfn.AGGREGATE(15,6,(1/(('CMA1'!$D$2:$D$13=TDB!$C$2)))*(ROW('CMA1'!$D$2:$D$13)-1),ROW()-1)),"")
B14: =IFERROR(INDEX([1]CMA1!$A$2:$A$89,_xlfn.AGGREGATE(15,6,(1/(([1]CMA1!$D$2:$D$89=[1]TDB!$C$2)))*(ROW([1]CMA1!$D$2:$D$89)-1),ROW()-1)),"") | C14: =IFERROR(INDEX([1]CMA1!$B$2:$B$89,_xlfn.AGGREGATE(15,6,(1/(([1]CMA1!$D$2:$D$89=[1]TDB!$C$2)))*(ROW([1]CMA1!$D$2:$D$89)-1),ROW()-1)),"") | D14: =IFERROR(INDEX([1]CMA1!$C$2:$C$89,_xlfn.AGGREGATE(15,6,(1/(([1]CMA1!$D$2:$D$89=[1]TDB!$C$2)))*(ROW([1]CMA1!$D$2:$D$89)-1),ROW()-1)),"") | E14: =IFERROR(INDEX([1]CMA1!$D$2:$D$89,_xlfn.AGGREGATE(15,6,(1/(([1]CMA1!$D$2:$D$89=[1]TDB!$C$2)))*(ROW([1]CMA1!$D$2:$D$89)-1),ROW()-1)),"") | F14: =IFERROR(INDEX([1]CMA1!$E$2:$E$89,_xlfn.AGGREGATE(15,6,(1/(([1]CMA1!$D$2:$D$89=[1]TDB!$C$2)))*(ROW([1]CMA1!$D$2:$D$89)-1),ROW()-1)),"") | G14: =IFERROR(INDEX([1]CMA1!$F$2:$F$89,_xlfn.AGGREGATE(15,6,(1/(([1]CMA1!$D$2:$D$89=[1]TDB!$C$2)))*(ROW([1]CMA1!$D$2:$D$89)-1),ROW()-1)),"") | H14: =IFERROR(INDEX([1]CMA1!$G$2:$G$89,_xlfn.AGGREGATE(15,6,(1/(([1]CMA1!$D$2:$D$89=[1]TDB!$C$2)))*(ROW([1]CMA1!$D$2:$D$89)-1),ROW()-1)),"")
B15: =IFERROR(INDEX([1]CMA1!$A$2:$A$89,_xlfn.AGGREGATE(15,6,(1/(([1]CMA1!$D$2:$D$89=[1]TDB!$C$2)))*(ROW([1]CMA1!$D$2:$D$89)-1),ROW()-1)),"") | C15: =IFERROR(INDEX([1]CMA1!$B$2:$B$89,_xlfn.AGGREGATE(15,6,(1/(([1]CMA1!$D$2:$D$89=[1]TDB!$C$2)))*(ROW([1]CMA1!$D$2:$D$89)-1),ROW()-1)),"") | D15: =IFERROR(INDEX([1]CMA1!$C$2:$C$89,_xlfn.AGGREGATE(15,6,(1/(([1]CMA1!$D$2:$D$89=[1]TDB!$C$2)))*(ROW([1]CMA1!$D$2:$D$89)-1),ROW()-1)),"") | E15: =IFERROR(INDEX([1]CMA1!$D$2:$D$89,_xlfn.AGGREGATE(15,6,(1/(([1]CMA1!$D$2:$D$89=[1]TDB!$C$2)))*(ROW([1]CMA1!$D$2:$D$89)-1),ROW()-1)),"") | F15: =IFERROR(INDEX([1]CMA1!$E$2:$E$89,_xlfn.AGGREGATE(15,6,(1/(([1]CMA1!$D$2:$D$89=[1]TDB!$C$2)))*(ROW([1]CMA1!$D$2:$D$89)-1),ROW()-1)),"") | G15: =IFERROR(INDEX([1]CMA1!$F$2:$F$89,_xlfn.AGGREGATE(15,6,(1/(([1]CMA1!$D$2:$D$89=[1]TDB!$C$2)))*(ROW([1]CMA1!$D$2:$D$89)-1),ROW()-1)),"") | H15: =IFERROR(INDEX([1]CMA1!$G$2:$G$89,_xlfn.AGGREGATE(15,6,(1/(([1]CMA1!$D$2:$D$89=[1]TDB!$C$2)))*(ROW([1]CMA1!$D$2:$D$89)-1),ROW()-1)),"")
D16: =IFERROR(INDEX([1]CMA1!$C$2:$C$89,_xlfn.AGGREGATE(15,6,(1/(([1]CMA1!$D$2:$D$89=[1]TDB!$C$2)))*(ROW([1]CMA1!$D$2:$D$89)-1),ROW()-1)),"")
D17: =IFERROR(INDEX([1]CMA1!$C$2:$C$89,_xlfn.AGGREGATE(15,6,(1/(([1]CMA1!$D$2:$D$89=[1]TDB!$C$2)))*(ROW([1]CMA1!$D$2:$D$89)-1),ROW()-1)),"")

Sheet CMA1
A1: VILLE | B1: DATE RECEPTION | C1: RULE | D1: CODE TOUR | E1: TARIFS | F1: LOC1 | G1: LOC2 | H1: AGENCE
A2: A | B2: 43899 | C2: CMA1 | D2: 267741 | E2: FB2P | F2: MA | G2: DZ/TN | H2: S
A3: B | B3: 43899 | C3: CMA1 | D3: 267741 | E3: FB12P | F3: MA | G3: BR | H3: T
A4: C | B4: 43899 | C4: CMA1 | D4: 267741 | E4: FB23P | F4: MA | G4: CN | H4: U
A5: D | B5: 43899 | C5: CMA1 | D5: 267741 | E5: FBINPV | F5: MA | G5: CA | H5: V
A6: E | B6: 43900 | C6: CMA1 | D6: 267741 | E6: FB2P | F6: MA | G6: DZ/TN | H6: W
A7: F | B7: 43900 | C7: CMA1 | D7: 267741 | E7: FB12P | F7: MA | G7: BR | H7: X
A8: G | B8: 43900 | C8: CMA1 | D8: 267741 | E8: FB23P | F8: MA | G8: CN | H8: Y
A9: H | B9: 43900 | C9: CMA1 | D9: 267741 | E9: FBINPV | F9: MA | G9: CA | H9: Z
A10: I | B10: 43899 | C10: CMA1 | D10: 946234 | E10: FB2P | F10: MA | G10: DZ/TN | H10: O
A11: J | B11: 43899 | C11: CMA1 | D11: 946234 | E11: FB12P | F11: MA | G11: BR | H11: P
A12: K | B12: 43899 | C12: CMA1 | D12: 946234 | E12: FB23P | F12: MA | G12: CN | H12: Q
A13: L | B13: 43899 | C13: CMA1 | D13: 946234 | E13: FBINPV | F13: MA | G13: US/CA | H13: R
