Workbook
Name BDC: Feuil1!$D$34:$D$35
Name BERLINGO: Feuil1!$K$2:$K$3
Name BIPPER: Feuil1!$K$100
Name BOXER: Feuil1!$K$101:$K$108
Name CADDY: Feuil1!$K$130:$K$131
Name CITAN: Feuil1!$K$53:$K$55
Name CITROEN: Feuil1!$B$2:$B$5
Name CLOISON: Feuil1!$D$22:$D$24
Name COMBO: Feuil1!$K$83:$K$85
Name CONSTRCUTEUR: [1]Feuil1!$N$2:$N$14
Name CONSTRUCTEUR: Feuil1!$N$2:$N$14
Name CRAFTER_PROPULSION: Feuil1!$K$138:$K$143
Name CRAFTER_TRACTION: Feuil1!$K$132:$K$137
Name CUSTOM: Feuil1!$K$31:$K$34
Name DACIA: Feuil1!$B$6
Name DAILY: Feuil1!$K$47:$K$52
Name DOBLO: Feuil1!$K$15:$K$17
Name DUCATO: Feuil1!$K$18:$K$25
Name EXPERT: Feuil1!$K$155:$K$157
Name FIAT: Feuil1!$B$7:$B$10
Name FIORINO: Feuil1!$K$26
Name FORD: Feuil1!$B$11:$B$15
Name IVECO: Feuil1!$B$16
Name JUMPER: Feuil1!$K$4:$K$11
Name JUMPY: Feuil1!$K$149:$K$151
Name KANGOO: Feuil1!$K$112:$K$114
Name LATERALE: Feuil1!$D$13:$D$16
Name MAN: Feuil1!$B$41:$B$42
Name MASTER_PROPULSION: Feuil1!$K$115:$K$118
Name MASTER_TRACTION: Feuil1!$K$119:$K$124
Name MERCEDES: Feuil1!$B$17:$B$19
Name montage: Feuil1!$D$38:$D$40
Name MOVANO_PROPULSION: Feuil1!$K$86:$K$89
Name MOVANO_TRACTION: Feuil1!$K$90:$K$95
Name NEMO: Feuil1!$K$2
Name NISSAN: Feuil1!$B$20:$B$23
Name NV_200: Feuil1!$K$68
Name NV_300: Feuil1!$K$69:$K$72
Name NV_400_PROPULSION: Feuil1!$K$73:$K$76
Name NV_400_TRACTION: Feuil1!$K$77:$K$82
Name OPEL: Feuil1!$B$24:$B$27
Name OUI: Feuil1!$D$30:$D$31
Name PARTNER: Feuil1!$K$110:$K$111
Name PEUGEOT: Feuil1!$B$28:$B$31
Name PORTE: Feuil1!$D$10:$D$11
Name PROACE: Feuil1!$K$152:$K$154
Name PRODUITS: Feuil1!$D$2:$D$5
Name RENAULT: Feuil1!$B$32:$B$35
Name RJ: Feuil1!$D$18:$D$19
Name spec: Feuil1!$D$42:$D$43
Name SPRINTER: Feuil1!$K$56:$K$64
Name T_6: Feuil1!$K$144:$K$148
Name TALENTO: Feuil1!$K$27:$K$30
Name TGE_PROPULSION: Feuil1!$K$164:$K$169
Name TGE_TRACTION: Feuil1!$K$158:$K$163
Name TOYOTA: Feuil1!$B$36
Name TRAFIC: Feuil1!$K$125:$K$128
Name TRANSIT_CONNECT: Feuil1!$K$35:$K$36
Name TRANSIT_COURIER: Feuil1!$K$37
Name TRANSIT_PROPULSION: Feuil1!$K$38:$K$42

Sheet Trafic L1H1
A1: Raccourci | C1: Référence | D1: Désignation
A3: A : LES PROTECTIONS
A4: =IFERROR(VLOOKUP(C4,base!N:AK,10,FALSE),"") -> TYP164L1H1PLPRO | B4: PLANCHER | C4: 0963 940 604 | D4: =IFERROR(VLOOKUP(C4,base!N:AS,32,FALSE),"") -> TYP164 L1H1 2014 PLANCHER 12mm
A5: =IFERROR(VLOOKUP(C5,base!N:AK,10,FALSE),"") -> TYP164L1H1HAPRO | B5: PROTECTIONS_LATERALES | C5: 0963 940 607 | D5: =IFERROR(VLOOKUP(C5,base!N:AS,32,FALSE),"") -> TYP164 L1H1 2014 PROT LAT PP 4,8mm
A6: =IFERROR(VLOOKUP(C6,base!N:AK,10,FALSE),"") -> TYP164L1H1PDRPRO | B6: PASSAGE_DE_ROUES | C6: 0963 940 602 | D6: =IFERROR(VLOOKUP(C6,base!N:AS,32,FALSE),"") -> TYP164 L1H1 2014 PDR 12mm
A7: =IFERROR(VLOOKUP(C7,base!N:AK,10,FALSE),"") -> TYP164L1H1KITPRO | B7: KIT_DE_PROTECTION | C7: 0963 940 608 | D7: =IFERROR(VLOOKUP(C7,base!N:AS,32,FALSE),"") -> TYP164 L1H1 2014 KIT COMPLET PRO
A9: B : L'AMENAGEMENT
A10: Côté Gauche :
A11: MUOK20 | C11: =IFERROR(VLOOKUP(A11,base!B:AM,13,FALSE),"") -> 0963 532 020 | D11: =IFERROR(VLOOKUP(A11,base!B:AS,44,FALSE),"") -> CAISSON PASSAGE DE ROUE PLAQUE-MUOK20
A12: MKM202 | C12: =IFERROR(VLOOKUP(A12,base!B:AM,13,FALSE),"") -> 0963 542 202 | D12: =IFERROR(VLOOKUP(A12,base!B:AS,44,FALSE),"") -> MODULE POUR 4 COFFRETS MKM202
A13: MSMSH31 | C13: =IFERROR(VLOOKUP(A13,base!B:AM,13,FALSE),"") -> 0963 541 531 | D13: =IFERROR(VLOOKUP(A13,base!B:AS,44,FALSE),"") -> MODULE TIROIRS-MSMSH31
A14: MSMH31 | C14: =IFERROR(VLOOKUP(A14,base!B:AM,13,FALSE),"") -> 0963 541 431 | D14: =IFERROR(VLOOKUP(A14,base!B:AS,44,FALSE),"") -> MODULE TIROIRS-MSMH31
A15: MLBR24 | C15: =IFERROR(VLOOKUP(A15,base!B:AM,13,FALSE),"") -> 0963 548 724 | D15: =IFERROR(VLOOKUP(A15,base!B:AS,44,FALSE),"") -> ETAGÈRE-DE-STOCKAGE-6-BOITES-MLBR24
A16: MKM533 | C16: =IFERROR(VLOOKUP(A16,base!B:AM,13,FALSE),"") -> 0963 542 533 | D16: =IFERROR(VLOOKUP(A16,base!B:AS,44,FALSE),"") -> MODULE COFFRETS MKM533
A17: MADAW380 | C17: =IFERROR(VLOOKUP(A17,base!B:AM,13,FALSE),"") -> 0963 549 380 | D17: =IFERROR(VLOOKUP(A17,base!B:AS,44,FALSE),"") -> ADAPTEUR PROLONGATEUR-MADAW380
A18: MADL10L | C18: =IFERROR(VLOOKUP(A18,base!B:AM,13,FALSE),"") -> 0963 577 010 | D18: =IFERROR(VLOOKUP(A18,base!B:AS,44,FALSE),"") -> PAIRE-DE-REHAUSSES-MADL10
A19: MLR11 | C19: =IFERROR(VLOOKUP(A19,base!B:AM,13,FALSE),"") -> 0963 547 711 | D19: =IFERROR(VLOOKUP(A19,base!B:AS,44,FALSE),"") -> ETAGÈRE-DE-STOCKAGE-À-REBORD-MLR11
A20: MLR13 | C20: =IFERROR(VLOOKUP(A20,base!B:AM,13,FALSE),"") -> 0963 547 713 | D20: =IFERROR(VLOOKUP(A20,base!B:AS,44,FALSE),"") -> ETAGÈRE-DE-STOCKAGE-À-REBORD-MLR13
A21: LW7 | C21: =IFERROR(VLOOKUP(A21,base!B:AM,13,FALSE),"") -> 0963 545 605 | D21: =IFERROR(VLOOKUP(A21,base!B:AS,44,FALSE),"") -> BAC POUR PIECES LONGUES LW7
A22: MADL4L | C22: =IFERROR(VLOOKUP(A22,base!B:AM,13,FALSE),"") -> 0963 577 004 | D22: =IFERROR(VLOOKUP(A22,base!B:AS,44,FALSE),"") -> PAIRE-DE-REHAUSSES-MADL4
... A37: MRA20 | C37: =IFERROR(VLOOKUP(A37,base!B:AM,13,FALSE),"") -> 0963 546 620 | D37: =IFERROR(VLOOKUP(A37,base!B:AS,44,FALSE),"") -> ELÉMENT-CADRE-DE-FINITION-MRA20
C38: =IFERROR(VLOOKUP(A38,base!B:AM,13,FALSE),"") | D38: =IFERROR(VLOOKUP(A38,base!B:AS,44,FALSE),"")
C39: =IFERROR(VLOOKUP(A39,base!B:AM,13,FALSE),"") | D39: =IFERROR(VLOOKUP(A39,base!B:AS,44,FALSE),"")
A40: Au choix : | C40: =IFERROR(VLOOKUP(A40,base!B:AM,13,FALSE),"") | D40: =IFERROR(VLOOKUP(A40,base!B:AS,44,FALSE),"")
A41: MSBS | C41: =IFERROR(VLOOKUP(A41,base!B:AM,13,FALSE),"") -> 0963 022 030 | D41: =IFERROR(VLOOKUP(A41,base!B:AS,44,FALSE),"") -> KIT-DE-FIXATION-LATERAL-MSBS
A42: BSS | C42: =IFERROR(VLOOKUP(A42,base!B:AM,13,FALSE),"") -> 0963 80 502 | D42: =IFERROR(VLOOKUP(A42,base!B:AS,44,FALSE),"") -> KIT DE FIXATION MONTAGE FLOTTANT
A43: BSS9 | C43: =IFERROR(VLOOKUP(A43,base!B:AM,13,FALSE),"") -> 0963 940 998 | D43: =IFERROR(VLOOKUP(A43,base!B:AS,44,FALSE),"") -> Kit de fixation montage flottant 9mm
A44: PM | C44: =IFERROR(VLOOKUP(A44,base!B:AM,13,FALSE),"") -> 0996 32 | D44: =IFERROR(VLOOKUP(A44,base!B:AS,44,FALSE),"") -> Prémontage
A46: AMENAGEMENT | C46: =IFERROR(VLOOKUP(A46,base!B:AM,13,FALSE),"") | D46: =IFERROR(VLOOKUP(A46,base!B:AS,44,FALSE),"")
A47: Dos de Cabine : | C47: =IFERROR(VLOOKUP(A47,base!B:AM,13,FALSE),"") | D47: =IFERROR(VLOOKUP(A47,base!B:AS,44,FALSE),"")
C48: =IFERROR(VLOOKUP(A48,base!B:AM,13,FALSE),"") | D48: =IFERROR(VLOOKUP(A48,base!B:AS,44,FALSE),"")
C50: =IFERROR(VLOOKUP(A50,base!B:AM,13,FALSE),"") | D50: =IFERROR(VLOOKUP(A50,base!B:AS,44,FALSE),"")
A51: Au choix : | C51: =IFERROR(VLOOKUP(A51,base!B:AM,13,FALSE),"") | D51: =IFERROR(VLOOKUP(A51,base!B:AS,44,FALSE),"")
A52: MSBS | C52: =IFERROR(VLOOKUP(A52,base!B:AM,13,FALSE),"") -> 0963 022 030 | D52: =IFERROR(VLOOKUP(A52,base!B:AS,44,FALSE),"") -> KIT-DE-FIXATION-LATERAL-MSBS
A53: BSS | C53: =IFERROR(VLOOKUP(A53,base!B:AM,13,FALSE),"") -> 0963 80 502 | D53: =IFERROR(VLOOKUP(A53,base!B:AS,44,FALSE),"") -> KIT DE FIXATION MONTAGE FLOTTANT
A54: BSS9 | C54: =IFERROR(VLOOKUP(A54,base!B:AM,13,FALSE),"") -> 0963 940 998 | D54: =IFERROR(VLOOKUP(A54,base!B:AS,44,FALSE),"") -> Kit de fixation montage flottant 9mm
A55: PM | C55: =IFERROR(VLOOKUP(A55,base!B:AM,13,FALSE),"") -> 0996 32 | D55: =IFERROR(VLOOKUP(A55,base!B:AS,44,FALSE),"") -> Prémontage
A57: C : LES ACCESSOIRES
A58: MAM80 | C58: =IFERROR(VLOOKUP(A58,base!B:AM,13,FALSE),"") -> 0963 580 180 | D58: =IFERROR(VLOOKUP(A58,base!B:AS,44,FALSE),"") -> Tapis antidérapant MAM80
A59: MAM40 | C59: =IFERROR(VLOOKUP(A59,base!B:AM,13,FALSE),"") -> 0963 580 140 | D59: =IFERROR(VLOOKUP(A59,base!B:AS,44,FALSE),"") -> Tapis antidérapant MAM40
A60: MAM22 | C60: =IFERROR(VLOOKUP(A60,base!B:AM,13,FALSE),"") -> 0963 580 122 | D60: =IFERROR(VLOOKUP(A60,base!B:AS,44,FALSE),"") -> Tapis antidérapant MAM22
A61: MAM90 | C61: =IFERROR(VLOOKUP(A61,base!B:AM,13,FALSE),"") -> 0963 580 190 | D61: =IFERROR(VLOOKUP(A61,base!B:AS,44,FALSE),"") -> Tapis antidérapant MAM90
A62: MAM207 | C62: =IFERROR(VLOOKUP(A62,base!B:AM,13,FALSE),"") -> 0963 580 178 | D62: =IFERROR(VLOOKUP(A62,base!B:AS,44,FALSE),"") -> TAPIS-ANTIDERAPANT-VEH-MAM207
A63: KKT541 | C63: =IFERROR(VLOOKUP(A63,base!B:AM,13,FALSE),"") -> 0963 72 031 | D63: =IFERROR(VLOOKUP(A63,base!B:AS,44,FALSE),"") -> COFFRET ORSY 8.4.1 TRANSPARENT 10 BOXS
A64: MAM207 | C64: =IFERROR(VLOOKUP(A64,base!B:AM,13,FALSE),"") -> 0963 580 178 | D64: =IFERROR(VLOOKUP(A64,base!B:AS,44,FALSE),"") -> TAPIS-ANTIDERAPANT-VEH-MAM207
A65: DT120 | C65: =IFERROR(VLOOKUP(A65,base!B:AM,13,FALSE),"") -> 0963 50 013 | D65: =IFERROR(VLOOKUP(A65,base!B:AS,44,FALSE),"") -> BASE PIVOTANTE POUR ETAU DT120
A66: PS120 | C66: =IFERROR(VLOOKUP(A66,base!B:AM,13,FALSE),"") -> 0963 50 003 | D66: =IFERROR(VLOOKUP(A66,base!B:AS,44,FALSE),"") -> ETAU 120 MM
A67: FL1 | C67: =IFERROR(VLOOKUP(A67,base!B:AM,13,FALSE),"") -> 0963 80 900 | D67: =IFERROR(VLOOKUP(A67,base!B:AS,44,FALSE),"") -> EXTINCTEUR FL1
A68: ASM1 | C68: =IFERROR(VLOOKUP(A68,base!B:AM,13,FALSE),"") -> 0963 80 915 | D68: =IFERROR(VLOOKUP(A68,base!B:AS,44,FALSE),"") -> LAMPE DE TRAVAIL ASM1
A69: FLT15 | C69: =IFERROR(VLOOKUP(A69,base!B:AM,13,FALSE),"") -> 0963 80 985 | D69: =IFERROR(VLOOKUP(A69,base!B:AS,44,FALSE),"") -> LAMPE A LED FLT15
... A71: ES1 | C71: =IFERROR(VLOOKUP(A71,base!B:AM,13,FALSE),"") -> 0963 80 901 | D71: =IFERROR(VLOOKUP(A71,base!B:AS,44,FALSE),"") -> KIT MONTAGE ELEC ES1
C72: =IFERROR(VLOOKUP(A72,base!B:AM,13,FALSE),"") | D72: =IFERROR(VLOOKUP(A72,base!B:AS,44,FALSE),"")
A73: =IFERROR(VLOOKUP(C73,base!N:AK,10,FALSE),"") | D73: =IFERROR(VLOOKUP(C73,base!N:AS,32,FALSE),"")
A74: =IFERROR(VLOOKUP(C74,base!N:AK,10,FALSE),"") | D74: =IFERROR(VLOOKUP(C74,base!N:AS,32,FALSE),"")
A75: =IFERROR(VLOOKUP(C75,base!N:AK,10,FALSE),"") | D75: =IFERROR(VLOOKUP(C75,base!N:AS,32,FALSE),"")
A76: =IFERROR(VLOOKUP(C76,base!N:AK,10,FALSE),"") | D76: =IFERROR(VLOOKUP(C76,base!N:AS,32,FALSE),"")
A78: D : LES OPTIONS
A79: VLD | C79: =IFERROR(VLOOKUP(A79,base!B:AM,13,FALSE),"") -> 5964 000 330 | D79: =IFERROR(VLOOKUP(A79,base!B:AS,44,FALSE),"") -> Van Lock Double | E79: 5964 000 330
A80: SHS02 | C80: =IFERROR(VLOOKUP(A80,base!B:AM,13,FALSE),"") -> 0963 580 889 | D80: =IFERROR(VLOOKUP(A80,base!B:AS,44,FALSE),"") -> SERRURE-2PC-VEH-SATURN-EVO-SHS02 | E80: 0963 580 889
A81: RE503 | C81: =IFERROR(VLOOKUP(A81,base!B:AM,13,FALSE),"") -> 0963 940 999 | D81: =IFERROR(VLOOKUP(A81,base!B:AS,44,FALSE),"") -> Rail à bride encastré + rail pavillon pour plancher 12 mm | E81: 0963 940 999
A82: LOT 2 BARRES | C82: 0963 99 300 | D82: Barres longueur 2000 mm avec mousses de protection | E82: 0963 99 300
D83: =IFERROR(VLOOKUP(C83,base!N:AS,32,FALSE),"")
A86: E : LES FORFAITS MONTAGES
A87: =IFERROR(VLOOKUP(C87,[2]base!N:AK,10,FALSE),"") -> Carrosserie montage 1H niveau 1 | C87: 0996 320 000 | D87: =IFERROR(VLOOKUP(C87,[2]base!N:AS,32,FALSE),"") -> Carrosserie montage 1H niveau 1
A88: =IFERROR(VLOOKUP(C88,[2]base!N:AK,10,FALSE),"") -> carrosserie montage 1H niveau 2 | C88: 0996 320 001 | D88: =IFERROR(VLOOKUP(C88,[2]base!N:AS,32,FALSE),"") -> carrosserie montage 1H niveau 2
A89: =IFERROR(VLOOKUP(C89,[2]base!N:AK,10,FALSE),"") -> carrosserie montage 1H niveau 3 | C89: 0996 320 002 | D89: =IFERROR(VLOOKUP(C89,[2]base!N:AS,32,FALSE),"") -> carrosserie montage 1H niveau 3
A90: =IFERROR(VLOOKUP(C90,[2]base!N:AK,10,FALSE),"") -> carrosserie montage 1H niveau 4 | C90: 0996 320 003 | D90: =IFERROR(VLOOKUP(C90,[2]base!N:AS,32,FALSE),"") -> carrosserie montage 1H niveau 4
A91: =IFERROR(VLOOKUP(C91,[2]base!N:AK,10,FALSE),"") -> carrosserie montage 1H niveau 5 | C91: 0996 320 004 | D91: =IFERROR(VLOOKUP(C91,[2]base!N:AS,32,FALSE),"") -> carrosserie montage 1H niveau 5
A92: =IFERROR(VLOOKUP(C92,[2]base!N:AK,10,FALSE),"") -> OM montage 1 journée | C92: 0996 320 005 | D92: =IFERROR(VLOOKUP(C92,[2]base!N:AS,32,FALSE),"") -> OM montage 1 journée
A93: =IFERROR(VLOOKUP(C93,[2]base!N:AK,10,FALSE),"") -> OM montage 1/2 journée | C93: 0996 320 006 | D93: =IFERROR(VLOOKUP(C93,[2]base!N:AS,32,FALSE),"") -> OM montage 1/2 journée
A94: MONTAGE DES OPTIONS | D94: à PRECISER
D98: =IFERROR(VLOOKUP(A98,base!B:AS,44,FALSE),"")
A99: =IFERROR(VLOOKUP(C99,base!N:AK,10,FALSE),"") | D99: =IFERROR(VLOOKUP(C99,base!N:AS,32,FALSE),"")
A100: =IFERROR(VLOOKUP(C100,base!N:AK,10,FALSE),"") | D100: =IFERROR(VLOOKUP(C100,base!N:AS,32,FALSE),"")
A102: SAUVEGARDE
A103: Formules initiales | D103: =IFERROR(VLOOKUP(C103,base!N:AS,32,FALSE),"")
A104: =IFERROR(VLOOKUP(C104,base!N:AK,10,FALSE),"") | D104: =IFERROR(VLOOKUP(C104,base!N:AS,32,FALSE),"")
A105: =IFERROR(VLOOKUP(C105,base!N:AK,10,FALSE),"") | D105: =IFERROR(VLOOKUP(C105,base!N:AS,32,FALSE),"")
A106: =IFERROR(VLOOKUP(C106,base!N:AK,10,FALSE),"") | D106: =IFERROR(VLOOKUP(C106,base!N:AS,32,FALSE),"")
A107: =IFERROR(VLOOKUP(C107,base!N:AK,10,FALSE),"") | D107: =IFERROR(VLOOKUP(C107,base!N:AS,32,FALSE),"")
A108: =IFERROR(VLOOKUP(C108,base!N:AK,10,FALSE),"") | D108: =IFERROR(VLOOKUP(C108,base!N:AS,32,FALSE),"")
C109: =IFERROR(VLOOKUP(A109,base!B:AM,13,FALSE),"") | D109: =IFERROR(VLOOKUP(A109,base!B:AS,44,FALSE),"")
C110: =IFERROR(VLOOKUP(A110,base!B:AM,13,FALSE),"") | D110: =IFERROR(VLOOKUP(A110,base!B:AS,44,FALSE),"")
C111: =IFERROR(VLOOKUP(A111,base!B:AM,13,FALSE),"") | D111: =IFERROR(VLOOKUP(A111,base!B:AS,44,FALSE),"")
C112: =IFERROR(VLOOKUP(A112,base!B:AM,13,FALSE),"") | D112: =IFERROR(VLOOKUP(A112,base!B:AS,44,FALSE),"")

Sheet base
A1: Concatenation PDT | B1: Concatenation Modele | C1: Constructeur | D1: Modèle | E1: Année | H1: LH | I1: Empatement | J1: TYP 1 | K1: TYP | L1: Finition | M1: référence | N1: référence | O1: code | P1: PR | Q1: UNITE DE PR | R1: Poids | S1: PR | T1: New SP1 | U1: Temps de pose | V1: Cout de la pose | W1: Kurz | X1: PIC | Y1: RM ARCO | Z1: RM GC | AA1: ARCO | AB1: RM GC | AC1: Profondeur | AD1: Longueur | AE1: Hauteur | AF1: Categorie | AG1: PIC | AH1: NOM Commercial | AI1: PA | AJ1: RMGV | AK1: Prix net GV | AL1: Référence MAN | AM1: Prix MAN | AN1: RM GC | AO1: RM MAX C3 | AS1: Désignation | AT1: 17
B2: MVAD | M2: 963576000 | N2: 0963 576 000 | O2: MVAD | P2: 31.17 | Q2: 1 | R2: 1.4 | S2: 31.17 | T2: 129 | U2: 2.5 | V2: =IFERROR(ROUNDUP(U2*(80/60),0),"") -> 4 | W2: MVAD | X2: =ROUND(T2*(1-#REF!),2) -> #REF! | Y2: =ROUND(T2*(1-AA2),2) -> 90.3 | Z2: =ROUND(T2*(1-AB2),2) -> 90.3 | AA2: 0.3 | AB2: 0.3 | AC2: 200 | AD2: 30 | AE2: 350 | AF2: MEUBLES | AI2: =ROUND(S2/1.04,2) -> 29.97 | AN2: 0.3 | AO2: =ROUND(T2*(1-AN2),2) -> 90.3 | AS2: ADAPTATEUR-EXTENSIBLE-MVAD
B3: KG18 | M3: 96380753 | N3: 0963 80 753 | O3: #N/A | P3: 32.47 | Q3: 1 | R3: 1.13 | S3: 32.47 | T3: 109 | U3: 12 | V3: 16 | W3: KG18 | X3: 88.28 | Y3: =ROUND(T3*(1-AA3),2) -> 76.3 | Z3: =ROUND(T3*(1-AB3),2) -> 76.3 | AA3: 0.3 | AB3: 0.3 | AC3: 166 | AD3: 242 | AE3: 185 | AF3: ACCESSOIRES | AI3: =ROUND(S3/1.04,2) -> 31.22 | AN3: 0.3 | AO3: =ROUND(T3*(1-AN3),2) -> 76.3 | AS3: BIDON EAU 5 L AVEC SUPPORT
B4: MLBR13 | M4: 963548713 | N4: 0963 548 713 | O4: MLBR13 | P4: 92.6 | Q4: 1 | R4: 19.5 | S4: 92.6 | T4: 269 | U4: 5 | V4: =IFERROR(ROUNDUP(U4*(80/60),0),"") -> 7 | W4: MLBR13 | X4: =ROUND(T4*(1-#REF!),2) -> #REF! | Y4: =ROUND(T4*(1-AA4),2) -> 188.3 | Z4: =ROUND(T4*(1-AB4),2) -> 188.3 | AA4: 0.3 | AB4: 0.3 | AC4: 452 | AD4: 1668 | AE4: 250 | AF4: MEUBLES | AI4: =ROUND(S4/1.04,2) -> 89.04 | AN4: 0.3 | AO4: =ROUND(T4*(1-AN4),2) -> 188.3 | AS4: ETAGERE 5 BACS PLASTIQUE MLBR13
B5: KH1 | M5: 96380825 | N5: 0963 80 825 | O5: #N/A | P5: 14.5 | Q5: 1 | R5: 0.1 | S5: 14.5 | T5: 69 | U5: 0 | V5: =IFERROR(ROUNDUP(U5*(80/60),0),"") -> 0 | W5: KH1 | X5: =ROUND(T5*(1-#REF!),2) -> #REF! | Y5: =ROUND(T5*(1-AA5),2) -> 48.3 | Z5: =ROUND(T5*(1-AB5),2) -> 48.3 | AA5: 0.3 | AB5: 0.3 | AC5: 313 | AD5: 365 | AE5: 100 | AF5: ACCESSOIRES | AI5: 13.67 | AN5: 0.3 | AO5: =ROUND(T5*(1-AN5),2) -> 48.3 | AS5: SUPPORT POUR CARTOUCHES
B6: MKS12 | M6: 963543412 | N6: 0963 543 412 | O6: MKS12 | P6: 308.7 | Q6: 1 | R6: 27.7 | S6: 308.7 | T6: 689 | U6: 30 | V6: =IFERROR(ROUNDUP(U6*(80/60),0),"") -> 40 | W6: MKS12 | X6: =ROUND(T6*(1-#REF!),2) -> #REF! | Y6: =ROUND(T6*(1-AA6),2) -> 482.3 | Z6: =ROUND(T6*(1-AB6),2) -> 482.3 | AA6: 0.3 | AB6: 0.3 | AC6: 380 | AD6: 556 | AE6: 1240 | AF6: MEUBLES | AI6: =ROUND(S6/1.04,2) -> 296.83 | AN6: 0.3 | AO6: =ROUND(T6*(1-AN6),2) -> 482.3 | AS6: ARMOIRE MKS12
B7: MKS13 | M7: 963542413 | N7: 0963 543 413 | O7: MKS13 | P7: 326.01 | Q7: 1 | R7: 30.2 | S7: 326.01 | T7: 729 | U7: 30 | V7: =IFERROR(ROUNDUP(U7*(80/60),0),"") -> 40 | W7: MKS13 | X7: =ROUND(T7*(1-#REF!),2) -> #REF! | Y7: =ROUND(T7*(1-AA7),2) -> 510.3 | Z7: =ROUND(T7*(1-AB7),2) -> 510.3 | AA7: 0.3 | AB7: 0.3 | AC7: 450 | AD7: 556 | AE7: 1240 | AF7: MEUBLES | AI7: =ROUND(S7/1.04,2) -> 313.47 | AN7: 0.3 | AO7: =ROUND(T7*(1-AN7),2) -> 510.3 | AS7: ARMOIRE MKS13
B8: LOT PROMO BARRES | M8: 5988593417 | N8: 5988 593 417 | O8: #N/A | P8: 147.42 | Q8: #N/A | R8: 20 | S8: 147.42 | T8: 499 | U8: 60 | V8: =IFERROR(ROUNDUP(U8*(80/60),0),"") -> 80 | W8: LOTPROMO | X8: =ROUND(T8*(1-#REF!),2) -> #REF! | Y8: =ROUND(T8*(1-AA8),2) -> 499 | Z8: =ROUND(T8*(1-AB8),2) -> 499 | AA8: 0 | AB8: 0 | AC8: NC | AD8: NC | AE8: NC | AF8: BARRES | AI8: =ROUND(S8/1.04,2) -> 141.75 | AN8: 0 | AO8: =ROUND(T8*(1-AN8),2) -> 499 | AS8: LOT 4 BARRES DE MAINTIEN
B9: AOS200-1 | M9: 963545550 | N9: 0963 545 550 | O9: 0 | P9: 164.53 | Q9: 1 | R9: 7 | S9: 164.53 | T9: 359 | U9: 0 | V9: =IFERROR(ROUNDUP(U9*(80/60),0),"") -> 0 | W9: AOS200-1 | X9: =ROUND(T9*(1-#REF!),2) -> #REF! | Y9: =ROUND(T9*(1-AA9),2) -> 251.3 | Z9: =ROUND(T9*(1-AB9),2) -> 251.3 | AA9: 0.3 | AB9: 0.3 | AC9: NC | AD9: NC | AE9: NC | AF9: RAMPES | AI9: =ROUND(S9/1.04,2) -> 158.2 | AN9: 0.3 | AO9: =ROUND(T9*(1-AN9),2) -> 251.3 | AS9: PAIRE DE RAMPES EN ALU 60-200-1500
B10: AOS200-2 | M10: 963545551 | N10: 0963 545 551 | O10: 0 | P10: 190.74 | Q10: 1 | R10: 8 | S10: 190.74 | T10: 409 | U10: 0 | V10: =IFERROR(ROUNDUP(U10*(80/60),0),"") -> 0 | W10: AOS200-2 | X10: =ROUND(T10*(1-#REF!),2) -> #REF! | Y10: =ROUND(T10*(1-AA10),2) -> 286.3 | Z10: =ROUND(T10*(1-AB10),2) -> 286.3 | AA10: 0.3 | AB10: 0.3 | AC10: NC | AD10: NC | AE10: NC | AF10: RAMPES | AI10: =ROUND(S10/1.04,2) -> 183.4 | AN10: 0.3 | AO10: =ROUND(T10*(1-AN10),2) -> 286.3 | AS10: PAIRE DE RAMPES EN ALU 60-200-2000
B11: AOS200-3 | M11: 963545552 | N11: 0963 545 552 | O11: 0 | P11: 209.66 | Q11: 1 | R11: 9 | S11: 209.66 | T11: 449 | U11: 0 | V11: =IFERROR(ROUNDUP(U11*(80/60),0),"") -> 0 | W11: AOS200-3 | X11: =ROUND(T11*(1-#REF!),2) -> #REF! | Y11: =ROUND(T11*(1-AA11),2) -> 314.3 | Z11: =ROUND(T11*(1-AB11),2) -> 314.3 | AA11: 0.3 | AB11: 0.3 | AC11: NC | AD11: NC | AE11: NC | AF11: RAMPES | AI11: =ROUND(S11/1.04,2) -> 201.6 | AN11: 0.3 | AO11: =ROUND(T11*(1-AN11),2) -> 314.3 | AS11: PAIRE DE RAMPES EN ALU 60-200-2500
B12: AOS200-4 | M12: 963545553 | N12: 0963 545 553 | O12: 0 | P12: 247.52 | Q12: 1 | R12: 11 | S12: 247.52 | T12: 529 | U12: 0 | V12: =IFERROR(ROUNDUP(U12*(80/60),0),"") -> 0 | W12: AOS200-4 | X12: =ROUND(T12*(1-#REF!),2) -> #REF! | Y12: =ROUND(T12*(1-AA12),2) -> 370.3 | Z12: =ROUND(T12*(1-AB12),2) -> 370.3 | AA12: 0.3 | AB12: 0.3 | AC12: NC | AD12: NC | AE12: NC | AF12: RAMPES | AI12: =ROUND(S12/1.04,2) -> 238 | AN12: 0.3 | AO12: =ROUND(T12*(1-AN12),2) -> 370.3 | AS12: PAIRE DE RAMPES EN ALU 60-200-3000
B13: AOS300-1 | M13: 963545554 | N13: 0963 545 554 | O13: 0 | P13: 254.8 | Q13: 1 | R13: 10 | S13: 254.8 | T13: 549 | U13: 0 | V13: =IFERROR(ROUNDUP(U13*(80/60),0),"") -> 0 | W13: AOS300-1 | X13: =ROUND(T13*(1-#REF!),2) -> #REF! | Y13: =ROUND(T13*(1-AA13),2) -> 384.3 | Z13: =ROUND(T13*(1-AB13),2) -> 384.3 | AA13: 0.3 | AB13: 0.3 | AC13: NC | AD13: NC | AE13: NC | AF13: RAMPES | AI13: =ROUND(S13/1.04,2) -> 245 | AN13: 0.3 | AO13: =ROUND(T13*(1-AN13),2) -> 384.3 | AS13: PAIRE DE RAMPES EN ALU 60-300-1500
B14: AOS300-2 | M14: 963545555 | N14: 0963 545 555 | O14: 0 | P14: 305.76 | Q14: 1 | R14: 12 | S14: 305.76 | T14: 669 | U14: 0 | V14: =IFERROR(ROUNDUP(U14*(80/60),0),"") -> 0 | W14: AOS300-2 | X14: =ROUND(T14*(1-#REF!),2) -> #REF! | Y14: =ROUND(T14*(1-AA14),2) -> 468.3 | Z14: =ROUND(T14*(1-AB14),2) -> 468.3 | AA14: 0.3 | AB14: 0.3 | AC14: NC | AD14: NC | AE14: NC | AF14: RAMPES | AI14: =ROUND(S14/1.04,2) -> 294 | AN14: 0.3 | AO14: =ROUND(T14*(1-AN14),2) -> 468.3 | AS14: PAIRE DE RAMPES EN ALU 60-300-2000
B15: AOS300-3 | M15: 963545556 | N15: 0963 545 556 | O15: 0 | P15: 384.38 | Q15: 1 | R15: 14 | S15: 384.38 | T15: 829 | U15: 0 | V15: =IFERROR(ROUNDUP(U15*(80/60),0),"") -> 0 | W15: AOS300-3 | X15: =ROUND(T15*(1-#REF!),2) -> #REF! | Y15: =ROUND(T15*(1-AA15),2) -> 580.3 | Z15: =ROUND(T15*(1-AB15),2) -> 580.3 | AA15: 0.3 | AB15: 0.3 | AC15: NC | AD15: NC | AE15: NC | AF15: RAMPES | AI15: =ROUND(S15/1.04,2) -> 369.6 | AN15: 0.3 | AO15: =ROUND(T15*(1-AN15),2) -> 580.3 | AS15: PAIRE DE RAMPES EN ALU 60-300-2500
B16: AOS300-4 | M16: 963545557 | N16: 0963 545 557 | O16: 0 | P16: 457.91 | Q16: 1 | R16: 16 | S16: 457.91 | T16: 999 | U16: 0 | V16: =IFERROR(ROUNDUP(U16*(80/60),0),"") -> 0 | W16: AOS300-4 | X16: =ROUND(T16*(1-#REF!),2) -> #REF! | Y16: =ROUND(T16*(1-AA16),2) -> 699.3 | Z16: =ROUND(T16*(1-AB16),2) -> 699.3 | AA16: 0.3 | AB16: 0.3 | AC16: NC | AD16: NC | AE16: NC | AF16: RAMPES | AI16: =ROUND(S16/1.04,2) -> 440.3 | AN16: 0.3 | AO16: =ROUND(T16*(1-AN16),2) -> 699.3 | AS16: PAIRE DE RAMPES EN ALU 60-300-3000
B17: AOS300-5 | M17: 963545558 | N17: 0963 545 558 | O17: 0 | P17: 439.71 | Q17: 1 | R17: 14 | S17: 439.71 | T17: 939 | U17: 0 | V17: =IFERROR(ROUNDUP(U17*(80/60),0),"") -> 0 | W17: AOS300-5 | X17: =ROUND(T17*(1-#REF!),2) -> #REF! | Y17: =ROUND(T17*(1-AA17),2) -> 657.3 | Z17: =ROUND(T17*(1-AB17),2) -> 657.3 | AA17: 0.3 | AB17: 0.3 | AC17: NC | AD17: NC | AE17: NC | AF17: RAMPES | AI17: =ROUND(S17/1.04,2) -> 422.8 | AN17: 0.3 | AO17: =ROUND(T17*(1-AN17),2) -> 657.3 | AS17: PAIRE DE RAMPES EN ALU 65-300-1500
B18: AOS300-6 | M18: 963545559 | N18: 0963 545 559 | O18: 0 | P18: 511.06 | Q18: 1 | R18: 17 | S18: 511.06 | T18: 1139 | U18: 0 | V18: =IFERROR(ROUNDUP(U18*(80/60),0),"") -> 0 | W18: AOS300-6 | X18: =ROUND(T18*(1-#REF!),2) -> #REF! | Y18: =ROUND(T18*(1-AA18),2) -> 797.3 | Z18: =ROUND(T18*(1-AB18),2) -> 797.3 | AA18: 0.3 | AB18: 0.3 | AC18: NC | AD18: NC | AE18: NC | AF18: RAMPES | AI18: =ROUND(S18/1.04,2) -> 491.4 | AN18: 0.3 | AO18: =ROUND(T18*(1-AN18),2) -> 797.3 | AS18: PAIRE DE RAMPES EN ALU 65-300-2000
B19: AOS300-7 | M19: 963545560 | N19: 0963 545 560 | O19: 0 | P19: 630.45 | Q19: 1 | R19: 21 | S19: 630.45 | T19: 1349 | U19: 0 | V19: =IFERROR(ROUNDUP(U19*(80/60),0),"") -> 0 | W19: AOS300-7 | X19: =ROUND(T19*(1-#REF!),2) -> #REF! | Y19: =ROUND(T19*(1-AA19),2) -> 944.3 | Z19: =ROUND(T19*(1-AB19),2) -> 944.3 | AA19: 0.3 | AB19: 0.3 | AC19: NC | AD19: NC | AE19: NC | AF19: RAMPES | AI19: =ROUND(S19/1.04,2) -> 606.2 | AN19: 0.3 | AO19: =ROUND(T19*(1-AN19),2) -> 944.3 | AS19: PAIRE DE RAMPES EN ALU 65-300-2500
B20: AOS300-8 | M20: 963545561 | N20: 0963 545 561 | O20: 0 | P20: 785.51 | Q20: 1 | R20: 25 | S20: 785.51 | T20: 1699 | U20: 0 | V20: =IFERROR(ROUNDUP(U20*(80/60),0),"") -> 0 | W20: AOS300-8 | X20: =ROUND(T20*(1-#REF!),2) -> #REF! | Y20: =ROUND(T20*(1-AA20),2) -> 1189.3 | Z20: =ROUND(T20*(1-AB20),2) -> 1189.3 | AA20: 0.3 | AB20: 0.3 | AC20: NC | AD20: NC | AE20: NC | AF20: RAMPES | AI20: =ROUND(S20/1.04,2) -> 755.3 | AN20: 0.3 | AO20: =ROUND(T20*(1-AN20),2) -> 1189.3 | AS20: PAIRE DE RAMPES EN ALU 65-300-3000
... B33: ABS-F03 | M33: 963545574 | N33: 0963 545 574 | O33: 0 | P33: 283.19 | Q33: 1 | R33: 13 | S33: 283.19 | T33: 609 | U33: 0 | V33: =IFERROR(ROUNDUP(U33*(80/60),0),"") -> 0 | W33: ABS-F03 | X33: =ROUND(T33*(1-#REF!),2) -> #REF! | Y33: =ROUND(T33*(1-AA33),2) -> 426.3 | Z33: =ROUND(T33*(1-AB33),2) -> 426.3 | AA33: 0.3 | AB33: 0.3 | AC33: NC | AD33: NC | AE33: NC | AF33: RAMPES | AI33: =ROUND(S33/1.04,2) -> 272.3 | AN33: 0.3 | AO33: =ROUND(T33*(1-AN33),2) -> 426.3 | AS33: PAIRE DE RAILS DE CHARGEMENT R 3000
B34: ZOEMH | M34: 96380313 | N34: 0963 80 313 | O34: #N/A | P34: 3.45 | Q34: 1 | R34: 0.05 | S34: 3.45 | T34: 16 | U34: 0 | V34: =IFERROR(ROUNDUP(U34*(80/60),0),"") -> 0 | W34: ZOEMH | X34: =ROUND(T34*(1-#REF!),2) -> #REF! | Y34: =ROUND(T34*(1-AA34),2) -> 11.2 | Z34: =ROUND(T34*(1-AB34),2) -> 11.2 | AA34: 0.3 | AB34: 0.3 | AC34: NC | AD34: NC | AE34: NC | AF34: ACCESSOIRES | AI34: =ROUND(S34/1.04,2) -> 3.32 | AN34: 0.3 | AO34: =ROUND(T34*(1-AN34),2) -> 11.2 | AS34: PION ZOE MH
B35: MKS04 | M35: 963543410 | N35: 0963 543 410 | O35: MKS04 | P35: 233.17 | Q35: 1 | R35: 22 | S35: 233.17 | T35: 799 | U35: 30 | V35: =IFERROR(ROUNDUP(U35*(80/60),0),"") -> 40 | W35: MKS04 | X35: =ROUND(T35*(1-#REF!),2) -> #REF! | Y35: =ROUND(T35*(1-AA35),2) -> 559.3 | Z35: =ROUND(T35*(1-AB35),2) -> 559.3 | AA35: 0.3 | AB35: 0.3 | AC35: NC | AD35: NC | AE35: NC | AF35: MEUBLES | AI35: =ROUND(S35/1.04,2) -> 224.2 | AN35: 0.3 | AO35: =ROUND(T35*(1-AN35),2) -> 559.3 | AS35: ARMOIRE MKS04
B36: MLA14 | M36: 96375403 | N36: 0963 75 403 | O36: #N/A | P36: 76.18 | Q36: #N/A | R36: 6.8 | S36: 76.8 | T36: 159 | U36: 15 | V36: =IFERROR(ROUNDUP(U36*(80/60),0),"") -> 20 | W36: MLA14 | X36: =ROUND(T36*(1-#REF!),2) -> #REF! | Y36: =ROUND(T36*(1-AA36),2) -> 111.3 | Z36: =ROUND(T36*(1-AB36),2) -> 111.3 | AA36: 0.3 | AB36: 0.3 | AC36: NC | AD36: NC | AE36: NC | AF36: ACCESSOIRES | AI36: =ROUND(S36/1.04,2) -> 73.85 | AN36: 0.3 | AO36: =ROUND(T36*(1-AN36),2) -> 111.3 | AS36: PLANCHER MLA14
B37: MKM106 | M37: 963542106 | N37: 0963 542 106 | O37: MKM106 | P37: 145.67 | Q37: #N/A | R37: NC | S37: 145.67 | T37: 299 | U37: 25 | V37: =IFERROR(ROUNDUP(U37*(80/60),0),"") -> 34 | W37: MKM106 | X37: =ROUND(T37*(1-#REF!),2) -> #REF! | Y37: =ROUND(T37*(1-AA37),2) -> 209.3 | Z37: =ROUND(T37*(1-AB37),2) -> 209.3 | AA37: 0.3 | AB37: 0.3 | AC37: NC | AD37: NC | AE37: NC | AF37: MEUBLES | AI37: =ROUND(S37/1.04,2) -> 140.07 | AN37: 0.3 | AO37: =ROUND(T37*(1-AN37),2) -> 209.3 | AS37: MODULE POUR MALLETTES - MKM106
B38: SSK42 | M38: 96341042 | N38: 0963 41 042 | O38: #N/A | P38: 15.45 | Q38: 1 | R38: 0.4 | S38: 15.45 | T38: 79 | U38: NC | V38: =IFERROR(ROUNDUP(U38*(80/60),0),"") | W38: SSK42 | X38: =ROUND(T38*(1-#REF!),2) -> #REF! | Y38: =ROUND(T38*(1-AA38),2) -> 55.3 | Z38: =ROUND(T38*(1-AB38),2) -> 55.3 | AA38: 0.3 | AB38: 0.3 | AC38: NC | AD38: NC | AE38: NC | AF38: ACCESSOIRES | AI38: 14.14 | AN38: 0.3 | AO38: =ROUND(T38*(1-AN38),2) -> 55.3 | AS38: SYSTÈME-DE-FERMETURE-COMPLET-SSK42
B39: SSK43 | M39: 96341043 | N39: 0963 41 043 | O39: #N/A | P39: 17.67 | Q39: 1 | R39: 0.6 | S39: 17.67 | T39: 89 | U39: NC | V39: =IFERROR(ROUNDUP(U39*(80/60),0),"") | W39: SSK43 | X39: =ROUND(T39*(1-#REF!),2) -> #REF! | Y39: =ROUND(T39*(1-AA39),2) -> 62.3 | Z39: =ROUND(T39*(1-AB39),2) -> 62.3 | AA39: 0.3 | AB39: 0.3 | AC39: NC | AD39: NC | AE39: NC | AF39: ACCESSOIRES | AI39: 16.16 | AN39: 0.3 | AO39: =ROUND(T39*(1-AN39),2) -> 62.3 | AS39: SYSTÈME-DE-FERMETURE-COMPLET-SSK43
B40: TS309 | M40: 96341051 | N40: 0963 41 051 | O40: #N/A | P40: 2.24 | Q40: 1 | R40: 0.1 | S40: 2.24 | T40: 19 | U40: NC | V40: =IFERROR(ROUNDUP(U40*(80/60),0),"") | W40: TS309 | X40: =ROUND(T40*(1-#REF!),2) -> #REF! | Y40: =ROUND(T40*(1-AA40),2) -> 13.3 | Z40: =ROUND(T40*(1-AB40),2) -> 13.3 | AA40: 0.3 | AB40: 0.3 | AC40: NC | AD40: NC | AE40: NC | AF40: MEUBLES | AI40: 1.87 | AL40: 0 | AM40: 7 | AN40: 0.3 | AO40: =ROUND(T40*(1-AN40),2) -> 13.3 | AS40: SÉPARATION-SUPPLÉMENTAIRE-TS309
B41: TS312 | M41: 96341052 | N41: 0963 41 052 | O41: #N/A | P41: 2.91 | Q41: 1 | R41: 0.2 | S41: 2.91 | T41: 19 | U41: NC | V41: =IFERROR(ROUNDUP(U41*(80/60),0),"") | W41: TS312 | X41: =ROUND(T41*(1-#REF!),2) -> #REF! | Y41: =ROUND(T41*(1-AA41),2) -> 13.3 | Z41: =ROUND(T41*(1-AB41),2) -> 13.3 | AA41: 0.3 | AB41: 0.3 | AC41: NC | AD41: NC | AE41: NC | AF41: MEUBLES | AI41: 2.46 | AL41: 0 | AM41: 8.4 | AN41: 0.3 | AO41: =ROUND(T41*(1-AN41),2) -> 13.3 | AS41: SÉPARATION-SUPPLÉMENTAIRE-TS312
B42: TS318 | M42: 96341053 | N42: 0963 41 053 | O42: #N/A | P42: 3.42 | Q42: 1 | R42: 0.2 | S42: 3.42 | T42: 19 | U42: NC | V42: =IFERROR(ROUNDUP(U42*(80/60),0),"") | W42: TS318 | X42: =ROUND(T42*(1-#REF!),2) -> #REF! | Y42: =ROUND(T42*(1-AA42),2) -> 13.3 | Z42: =ROUND(T42*(1-AB42),2) -> 13.3 | AA42: 0.3 | AB42: 0.3 | AC42: NC | AD42: NC | AE42: NC | AF42: MEUBLES | AI42: 2.95 | AL42: 0 | AM42: 10.5 | AN42: 0.3 | AO42: =ROUND(T42*(1-AN42),2) -> 13.3 | AS42: SÉPARATION-SUPPLÉMENTAIRE-TS318
B43: TS409 | M43: 96341055 | N43: 0963 41 055 | O43: #N/A | P43: 2.55 | Q43: 1 | R43: 0.2 | S43: 2.55 | T43: 19 | U43: NC | V43: =IFERROR(ROUNDUP(U43*(80/60),0),"") | W43: TS409 | X43: =ROUND(T43*(1-#REF!),2) -> #REF! | Y43: =ROUND(T43*(1-AA43),2) -> 13.3 | Z43: =ROUND(T43*(1-AB43),2) -> 13.3 | AA43: 0.3 | AB43: 0.3 | AC43: NC | AD43: NC | AE43: NC | AF43: MEUBLES | AI43: 2.01 | AL43: 0 | AM43: 7 | AN43: 0.3 | AO43: =ROUND(T43*(1-AN43),2) -> 13.3 | AS43: SÉPARATION-SUPPLÉMENTAIRE-TS409
B44: TS412 | M44: 96341056 | N44: 0963 41 056 | O44: #N/A | P44: 3.23 | Q44: 1 | R44: 0.2 | S44: 3.23 | T44: 19 | U44: NC | V44: =IFERROR(ROUNDUP(U44*(80/60),0),"") | W44: TS412 | X44: =ROUND(T44*(1-#REF!),2) -> #REF! | Y44: =ROUND(T44*(1-AA44),2) -> 13.3 | Z44: =ROUND(T44*(1-AB44),2) -> 13.3 | AA44: 0.3 | AB44: 0.3 | AC44: NC | AD44: NC | AE44: NC | AF44: MEUBLES | AI44: 2.64 | AN44: 0.3 | AO44: =ROUND(T44*(1-AN44),2) -> 13.3 | AS44: SÉPARATION-SUPPLÉMENTAIRE-TS412
B45: TS512 | M45: 96341058 | N45: 0963 41 058 | O45: #N/A | P45: 4.26 | Q45: 1 | R45: 0.1 | S45: 4.26 | T45: 19 | U45: NC | V45: =IFERROR(ROUNDUP(U45*(80/60),0),"") | W45: TS512 | X45: =ROUND(T45*(1-#REF!),2) -> #REF! | Y45: =ROUND(T45*(1-AA45),2) -> 13.3 | Z45: =ROUND(T45*(1-AB45),2) -> 13.3 | AA45: 0.3 | AB45: 0.3 | AC45: NC | AD45: NC | AE45: NC | AF45: MEUBLES | AI45: 3.44 | AL45: 0 | AM45: 12.6 | AN45: 0.3 | AO45: =ROUND(T45*(1-AN45),2) -> 13.3 | AS45: SÉPARATION-TIROIR-SML-HAUTEUR 120-TS512
B46: TS518 | M46: 96341059 | N46: 0963 41 059 | O46: #N/A | P46: 5.01 | Q46: 1 | R46: 0.1 | S46: 5.01 | T46: 29 | U46: NC | V46: =IFERROR(ROUNDUP(U46*(80/60),0),"") | W46: TS518 | X46: =ROUND(T46*(1-#REF!),2) -> #REF! | Y46: =ROUND(T46*(1-AA46),2) -> 20.3 | Z46: =ROUND(T46*(1-AB46),2) -> 20.3 | AA46: 0.3 | AB46: 0.3 | AC46: NC | AD46: NC | AE46: NC | AF46: MEUBLES | AI46: 4 | AL46: 0 | AM46: 14.7 | AN46: 0.3 | AO46: =ROUND(T46*(1-AN46),2) -> 20.3 | AS46: SÉPARATION-TIROIR-SML-HAUTEUR 180-TS518
B47: TS209 | M47: 96341074 | N47: 0963 41 074 | O47: #N/A | P47: 4.16 | Q47: 1 | R47: 58.8 | S47: 4.16 | T47: 19 | U47: NC | V47: =IFERROR(ROUNDUP(U47*(80/60),0),"") | W47: TS209 | X47: =ROUND(T47*(1-#REF!),2) -> #REF! | Y47: =ROUND(T47*(1-AA47),2) -> 13.3 | Z47: =ROUND(T47*(1-AB47),2) -> 13.3 | AA47: 0.3 | AB47: 0.3 | AC47: NC | AD47: NC | AE47: NC | AF47: MEUBLES | AI47: 3.17 | AL47: 0 | AM47: 12.6 | AN47: 0.3 | AO47: =ROUND(T47*(1-AN47),2) -> 13.3 | AS47: SÉPARATION-TIROIR-90/330-TS209
B48: TS212 | M48: 96341075 | N48: 0963 41 075 | O48: #N/A | P48: 4.3 | Q48: 1 | R48: 80.9 | S48: 4.3 | T48: 29 | U48: NC | V48: =IFERROR(ROUNDUP(U48*(80/60),0),"") | W48: TS212 | X48: =ROUND(T48*(1-#REF!),2) -> #REF! | Y48: =ROUND(T48*(1-AA48),2) -> 20.3 | Z48: =ROUND(T48*(1-AB48),2) -> 20.3 | AA48: 0.3 | AB48: 0.3 | AC48: NC | AD48: NC | AE48: NC | AF48: MEUBLES | AI48: 3.59 | AL48: 0 | AM48: 12.6 | AN48: 0.3 | AO48: =ROUND(T48*(1-AN48),2) -> 20.3 | AS48: SÉPARATION-TIROIR-120/330-TS212
B49: TS218 | M49: 96341076 | N49: 0963 41 076 | O49: #N/A | P49: 5.01 | Q49: 1 | R49: 0.125 | S49: 5.01 | T49: 29 | U49: NC | V49: =IFERROR(ROUNDUP(U49*(80/60),0),"") | W49: TS218 | X49: =ROUND(T49*(1-#REF!),2) -> #REF! | Y49: =ROUND(T49*(1-AA49),2) -> 20.3 | Z49: =ROUND(T49*(1-AB49),2) -> 20.3 | AA49: 0.3 | AB49: 0.3 | AC49: NC | AD49: NC | AE49: NC | AF49: MEUBLES | AI49: 4 | AL49: 0 | AM49: 14.7 | AN49: 0.3 | AO49: =ROUND(T49*(1-AN49),2) -> 20.3 | AS49: SÉPARATION-TIROIR-180/330-TS218
B50: SMU82 | M50: 96341682 | N50: 0963 41 682 | O50: #N/A | P50: 402.53 | Q50: 1 | R50: 26.8 | S50: 402.53 | T50: 1329 | U50: NC | V50: =IFERROR(ROUNDUP(U50*(80/60),0),"") | W50: SMU82 | X50: =ROUND(T50*(1-#REF!),2) -> #REF! | Y50: =ROUND(T50*(1-AA50),2) -> 930.3 | Z50: =ROUND(T50*(1-AB50),2) -> 930.3 | AA50: 0.3 | AB50: 0.3 | AC50: NC | AD50: NC | AE50: NC | AF50: PREMONTES | AI50: 359.42 | AN50: 0.3 | AO50: =ROUND(T50*(1-AN50),2) -> 930.3 | AS50: MODULE TIROIRS-SMU82
B51: MAM207 | M51: 963580178 | N51: 0963 580 178 | O51: MAM207 | P51: 10.54 | Q51: 1 | R51: 0.8 | S51: 10.54 | T51: 39 | U51: NC | V51: =IFERROR(ROUNDUP(U51*(80/60),0),"") | W51: MAM207 | X51: =ROUND(T51*(1-#REF!),2) -> #REF! | Y51: =ROUND(T51*(1-AA51),2) -> 27.3 | Z51: =ROUND(T51*(1-AB51),2) -> 27.3 | AA51: 0.3 | AB51: 0.3 | AC51: NC | AD51: NC | AE51: NC | AF51: MEUBLES | AI51: 10.13 | AL51: 0 | AM51: 27.3 | AN51: 0.3 | AO51: =ROUND(T51*(1-AN51),2) -> 27.3 | AS51: TAPIS-ANTIDERAPANT-VEH-MAM207
B52: SHS02 | M52: 963580889 | N52: 0963 580 889 | O52: SHS02 | P52: 107.7 | Q52: 1 | R52: 2.056 | S52: 107.7 | T52: 259 | U52: NC | V52: =IFERROR(ROUNDUP(U52*(80/60),0),"") | W52: SHS02 | X52: =ROUND(T52*(1-#REF!),2) -> #REF! | Y52: =ROUND(T52*(1-AA52),2) -> 181.3 | Z52: =ROUND(T52*(1-AB52),2) -> 181.3 | AA52: 0.3 | AB52: 0.3 | AC52: NC | AD52: NC | AE52: NC | AF52: VAN LOCK | AI52: 126.28 | AL52: 0 | AM52: 180.6 | AN52: 0.3 | AO52: =ROUND(T52*(1-AN52),2) -> 181.3 | AS52: SERRURE-2PC-VEH-SATURN-EVO-SHS02
B53: ZSCG1500 | M53: 96380286 | N53: 0963 80 286 | O53: #N/A | P53: 15.84 | Q53: 1 | R53: 1.2 | S53: 15.84 | T53: 50 | U53: NC | V53: =IFERROR(ROUNDUP(U53*(80/60),0),"") | W53: ZSCG1500 | X53: =ROUND(T53*(1-#REF!),2) -> #REF! | Y53: =ROUND(T53*(1-AA53),2) -> 35 | Z53: =ROUND(T53*(1-AB53),2) -> 35 | AA53: 0.3 | AB53: 0.3 | AC53: NC | AD53: NC | AE53: NC | AF53: ACCESSOIRES | AI53: 15.23 | AL53: 0 | AM53: 39.9 | AN53: 0.3 | AO53: =ROUND(T53*(1-AN53),2) -> 35 | AS53: RAIL ALU ARRONDI PERFORE-ZSCG1500
B54: W06 | M54: 96380528 | N54: 0963 80 528 | O54: #N/A | P54: 1.12 | Q54: 1 | R54: 0.215 | S54: 1.12 | T54: 9 | U54: NC | V54: =IFERROR(ROUNDUP(U54*(80/60),0),"") | W54: W06 | X54: =ROUND(T54*(1-#REF!),2) -> #REF! | Y54: =ROUND(T54*(1-AA54),2) -> 6.3 | Z54: =ROUND(T54*(1-AB54),2) -> 6.3 | AA54: 0.3 | AB54: 0.3 | AC54: NC | AD54: NC | AE54: NC | AF54: MINI KIT | AI54: 1.08 | AL54: 0 | AM54: 4.8 | AN54: 0.3 | AO54: =ROUND(T54*(1-AN54),2) -> 6.3 | AS54: KIT-FIXATION-ETAU.AVEC.BASE.PIVOTAN -W06
B55: W08 | M55: 96380529 | N55: 0963 80 529 | O55: #N/A | P55: 0.31 | Q55: 1 | R55: 0.01 | S55: 0.31 | T55: 6 | U55: NC | V55: =IFERROR(ROUNDUP(U55*(80/60),0),"") | W55: W08 | X55: =ROUND(T55*(1-#REF!),2) -> #REF! | Y55: =ROUND(T55*(1-AA55),2) -> 4.2 | Z55: =ROUND(T55*(1-AB55),2) -> 4.2 | AA55: 0.3 | AB55: 0.3 | AC55: NC | AD55: NC | AE55: NC | AF55: MINI KIT | AI55: 0.3 | AL55: 0 | AM55: 1.6 | AN55: 0.3 | AO55: =ROUND(T55*(1-AN55),2) -> 4.2 | AS55: KIT-FIXATION-ASSORTI-GZ40/50-W08
B56: W10 | M56: 96380531 | N56: 0963 80 531 | O56: #N/A | P56: 1.07 | Q56: 1 | R56: 0.165 | S56: 1.07 | T56: 9 | U56: NC | V56: =IFERROR(ROUNDUP(U56*(80/60),0),"") | W56: W10 | X56: =ROUND(T56*(1-#REF!),2) -> #REF! | Y56: =ROUND(T56*(1-AA56),2) -> 6.3 | Z56: =ROUND(T56*(1-AB56),2) -> 6.3 | AA56: 0.3 | AB56: 0.3 | AC56: NC | AD56: NC | AE56: NC | AF56: MINI KIT | AI56: 1.03 | AL56: 0 | AM56: 4 | AN56: 0.3 | AO56: =ROUND(T56*(1-AN56),2) -> 6.3 | AS56: KIT-FIXATION-ASSORTI-GH10/11-W10
B57: W17 | M57: 96380535 | N57: 0963 80 535 | O57: #N/A | P57: 0.71 | Q57: 1 | R57: 0.029 | S57: 0.71 | T57: 9 | U57: NC | V57: =IFERROR(ROUNDUP(U57*(80/60),0),"") | W57: W17 | X57: =ROUND(T57*(1-#REF!),2) -> #REF! | Y57: =ROUND(T57*(1-AA57),2) -> 6.3 | Z57: =ROUND(T57*(1-AB57),2) -> 6.3 | AA57: 0.3 | AB57: 0.3 | AC57: NC | AD57: NC | AE57: NC | AF57: MINI KIT | AI57: 0.74 | AL57: 0 | AM57: 3.2 | AN57: 0.3 | AO57: =ROUND(T57*(1-AN57),2) -> 6.3 | AS57: KIT-FIXATION-ASSORTI-BLB1/2-W17
B58: W22 | M58: 96380536 | N58: 0963 80 536 | O58: #N/A | P58: 0.33 | Q58: 1 | R58: 0.1 | S58: 0.33 | T58: 6 | U58: NC | V58: =IFERROR(ROUNDUP(U58*(80/60),0),"") | W58: W22 | X58: =ROUND(T58*(1-#REF!),2) -> #REF! | Y58: =ROUND(T58*(1-AA58),2) -> 4.2 | Z58: =ROUND(T58*(1-AB58),2) -> 4.2 | AA58: 0.3 | AB58: 0.3 | AC58: NC | AD58: NC | AE58: NC | AF58: MINI KIT | AI58: 0.32 | AL58: 0 | AM58: 1.6 | AN58: 0.3 | AO58: =ROUND(T58*(1-AN58),2) -> 4.2 | AS58: KIT-FIXATION-ASSORTI-SLKW/SLKS-W22
B59: W64 | M59: 96380539 | N59: 0963 80 539 | O59: #N/A | P59: 0.43 | Q59: 1 | R59: 0.006 | S59: 0.43 | T59: 6 | U59: NC | V59: =IFERROR(ROUNDUP(U59*(80/60),0),"") | W59: W64 | X59: =ROUND(T59*(1-#REF!),2) -> #REF! | Y59: =ROUND(T59*(1-AA59),2) -> 4.2 | Z59: =ROUND(T59*(1-AB59),2) -> 4.2 | AA59: 0.3 | AB59: 0.3 | AC59: NC | AD59: NC | AE59: NC | AF59: MINI KIT | AI59: 0.41 | AL59: 0 | AM59: 1.6 | AN59: 0.3 | AO59: =ROUND(T59*(1-AN59),2) -> 4.2 | AS59: KIT-FIXATION-ASSORTI-SUPPORT.TUYAU-W64
B60: W106 | M60: 96380563 | N60: 0963 80 563 | O60: #N/A | P60: 0.47 | Q60: 1 | R60: 0.1 | S60: 0.47 | T60: 6 | U60: NC | V60: =IFERROR(ROUNDUP(U60*(80/60),0),"") | W60: W106 | X60: =ROUND(T60*(1-#REF!),2) -> #REF! | Y60: =ROUND(T60*(1-AA60),2) -> 4.2 | Z60: =ROUND(T60*(1-AB60),2) -> 4.2 | AA60: 0.3 | AB60: 0.3 | AC60: NC | AD60: NC | AE60: NC | AF60: MINI KIT | AI60: 0.45 | AL60: 0 | AM60: 1.6 | AN60: 0.3 | AO60: =ROUND(T60*(1-AN60),2) -> 4.2 | AS60: KIT DE FIX. ETAU SANS BASE PIVOT-M8-W106
B61: W107 | M61: 96380564 | N61: 0963 80 564 | O61: #N/A | P61: 0.78 | Q61: 1 | R61: 0.2 | S61: 0.78 | T61: 9 | U61: NC | V61: =IFERROR(ROUNDUP(U61*(80/60),0),"") | W61: W107 | X61: =ROUND(T61*(1-#REF!),2) -> #REF! | Y61: =ROUND(T61*(1-AA61),2) -> 6.3 | Z61: =ROUND(T61*(1-AB61),2) -> 6.3 | AA61: 0.3 | AB61: 0.3 | AC61: NC | AD61: NC | AE61: NC | AF61: MINI KIT | AI61: 0.75 | AL61: 0 | AM61: 3.2 | AN61: 0.3 | AO61: =ROUND(T61*(1-AN61),2) -> 6.3 | AS61: KIT DE FIX. ETAU AVEC BASE PIVOT-M8-W107
B62: W30 | M62: 96380570 | N62: 0963 80 570 | O62: #N/A | P62: 1.03 | Q62: 1 | R62: 0.2 | S62: 1.03 | T62: 9 | U62: NC | V62: =IFERROR(ROUNDUP(U62*(80/60),0),"") | W62: W30 | X62: =ROUND(T62*(1-#REF!),2) -> #REF! | Y62: =ROUND(T62*(1-AA62),2) -> 6.3 | Z62: =ROUND(T62*(1-AB62),2) -> 6.3 | AA62: 0.3 | AB62: 0.3 | AC62: NC | AD62: NC | AE62: NC | AF62: MINI KIT | AI62: 0.99 | AL62: 0 | AM62: 4 | AN62: 0.3 | AO62: =ROUND(T62*(1-AN62),2) -> 6.3 | AS62: KIT-FIXATION-ASSORTI-ZSB/ZSC995-W30
B63: W31 | M63: 96380571 | N63: 0963 80 571 | O63: #N/A | P63: 1.4 | Q63: 1 | R63: 0.025 | S63: 1.4 | T63: 9 | U63: NC | V63: =IFERROR(ROUNDUP(U63*(80/60),0),"") | W63: W31 | X63: =ROUND(T63*(1-#REF!),2) -> #REF! | Y63: =ROUND(T63*(1-AA63),2) -> 6.3 | Z63: =ROUND(T63*(1-AB63),2) -> 6.3 | AA63: 0.3 | AB63: 0.3 | AC63: NC | AD63: NC | AE63: NC | AF63: MINI KIT | AI63: 1.35 | AL63: 0 | AM63: 5.6 | AN63: 0.3 | AO63: =ROUND(T63*(1-AN63),2) -> 6.3 | AS63: KIT-FIXATION-ASSORT-ZSB/ZSC1495/1500-W31
B64: W32 | M64: 96380572 | N64: 0963 80 572 | O64: #N/A | P64: 1.79 | Q64: 1 | R64: 0.2 | S64: 1.79 | T64: 19 | U64: NC | V64: =IFERROR(ROUNDUP(U64*(80/60),0),"") | W64: W32 | X64: =ROUND(T64*(1-#REF!),2) -> #REF! | Y64: =ROUND(T64*(1-AA64),2) -> 13.3 | Z64: =ROUND(T64*(1-AB64),2) -> 13.3 | AA64: 0.3 | AB64: 0.3 | AC64: NC | AD64: NC | AE64: NC | AF64: MINI KIT | AI64: 1.72 | AL64: 0 | AM64: 7.2 | AN64: 0.3 | AO64: =ROUND(T64*(1-AN64),2) -> 13.3 | AS64: KIT-FIXATION-ASSORTI-ZSB/ZSC2000-W32
... B80: WK13 | M80: 96382514 | N80: 0963 82 514 | O80: #N/A | P80: 140.64 | Q80: 1 | R80: 7.2 | S80: 140.64 | T80: 509 | U80: NC | V80: =IFERROR(ROUNDUP(U80*(80/60),0),"") | W80: WK13 | X80: =ROUND(T80*(1-#REF!),2) -> #REF! | Y80: =ROUND(T80*(1-AA80),2) -> 356.3 | Z80: =ROUND(T80*(1-AB80),2) -> 356.3 | AA80: 0.3 | AB80: 0.3 | AC80: NC | AD80: NC | AE80: NC | AF80: ACCESSOIRES | AI80: 135.23 | AL80: 0 | AM80: 343 | AN80: 0.3 | AO80: =ROUND(T80*(1-AN80),2) -> 356.3 | AS80: BOITE DE TRANSPORT WK13
B81: TRK322 | M81: 96382522 | N81: 0963 82 522 | O81: #N/A | P81: 37 | Q81: 1 | R81: 4.4 | S81: 37 | T81: 169 | U81: NC | V81: =IFERROR(ROUNDUP(U81*(80/60),0),"") | W81: TRK322 | X81: =ROUND(T81*(1-#REF!),2) -> #REF! | Y81: =ROUND(T81*(1-AA81),2) -> 118.3 | Z81: =ROUND(T81*(1-AB81),2) -> 118.3 | AA81: 0.3 | AB81: 0.3 | AC81: NC | AD81: NC | AE81: NC | AF81: ACCESSOIRES | AI81: 35.58 | AL81: ZF.WU003-9868 | AM81: 101.5 | AN81: 0.3 | AO81: =ROUND(T81*(1-AN81),2) -> 118.3 | AS81: FIXATION POUR TUBE DE TRANSPORT-TRK322
B82: TRR320 | M82: 96382532 | N82: 0963 82 532 | O82: #N/A | P82: 27.72 | Q82: 1 | R82: 0.9 | S82: 27.72 | T82: 119 | U82: NC | V82: =IFERROR(ROUNDUP(U82*(80/60),0),"") | W82: TRR320 | X82: =ROUND(T82*(1-#REF!),2) -> #REF! | Y82: =ROUND(T82*(1-AA82),2) -> 83.3 | Z82: =ROUND(T82*(1-AB82),2) -> 83.3 | AA82: 0.3 | AB82: 0.3 | AC82: NC | AD82: NC | AE82: NC | AF82: ACCESSOIRES | AI82: 26.65 | AL82: ZF.WU003-9869 | AM82: 78.4 | AN82: 0.3 | AO82: =ROUND(T82*(1-AN82),2) -> 83.3 | AS82: TUBE DE TRANSPORT-RETOUR-TRK320
B83: TZT208 | M83: 963920208 | N83: 0963 920 208 | O83: TZT208 | P83: 7.04 | Q83: 1 | R83: 0.2 | S83: 7.04 | T83: 29 | U83: NC | V83: =IFERROR(ROUNDUP(U83*(80/60),0),"") | W83: TZT208 | X83: =ROUND(T83*(1-#REF!),2) -> #REF! | Y83: =ROUND(T83*(1-AA83),2) -> 20.3 | Z83: =ROUND(T83*(1-AB83),2) -> 20.3 | AA83: 0.3 | AB83: 0.3 | AC83: NC | AD83: NC | AE83: NC | AF83: MEUBLES | AI83: 3.75 | AL83: ZF.WU003-9878 | AM83: 13.3 | AN83: 0.3 | AO83: =ROUND(T83*(1-AN83),2) -> 20.3 | AS83: ALVEOLE-AVEC-8-CPTS-TZT208
B84: TZT210 | M84: 963920210 | N84: 0963 920 210 | O84: TZT210 | P84: 6.57 | Q84: 1 | R84: 0.2 | S84: 6.57 | T84: 29 | U84: NC | V84: =IFERROR(ROUNDUP(U84*(80/60),0),"") | W84: TZT210 | X84: =ROUND(T84*(1-#REF!),2) -> #REF! | Y84: =ROUND(T84*(1-AA84),2) -> 20.3 | Z84: =ROUND(T84*(1-AB84),2) -> 20.3 | AA84: 0.3 | AB84: 0.3 | AC84: NC | AD84: NC | AE84: NC | AF84: MEUBLES | AI84: 3.82 | AL84: ZF.WU003-9879 | AM84: 13.3 | AN84: 0.3 | AO84: =ROUND(T84*(1-AN84),2) -> 20.3 | AS84: ALVEOLE AVEC 10 CPTS TZT210
B85: TZT507 | M85: 963920507 | N85: 0963 920 507 | O85: TZT507 | P85: 6.34 | Q85: 1 | R85: 0.2 | S85: 6.34 | T85: 29 | U85: NC | V85: =IFERROR(ROUNDUP(U85*(80/60),0),"") | W85: TZT507 | X85: =ROUND(T85*(1-#REF!),2) -> #REF! | Y85: =ROUND(T85*(1-AA85),2) -> 20.3 | Z85: =ROUND(T85*(1-AB85),2) -> 20.3 | AA85: 0.3 | AB85: 0.3 | AC85: NC | AD85: NC | AE85: NC | AF85: MEUBLES | AI85: 5.42 | AL85: ZF.WU003-9880 | AM85: 13.86 | AN85: 0.3 | AO85: =ROUND(T85*(1-AN85),2) -> 20.3 | AS85: ALVEOLE-AVEC-7-CPTS-TZT507
B86: TZT510 | M86: 963920510 | N86: 0963 920 510 | O86: TZT510 | P86: 6.34 | Q86: 1 | R86: 0.2 | S86: 6.34 | T86: 29 | U86: NC | V86: =IFERROR(ROUNDUP(U86*(80/60),0),"") | W86: TZT510 | X86: =ROUND(T86*(1-#REF!),2) -> #REF! | Y86: =ROUND(T86*(1-AA86),2) -> 20.3 | Z86: =ROUND(T86*(1-AB86),2) -> 20.3 | AA86: 0.3 | AB86: 0.3 | AC86: NC | AD86: NC | AE86: NC | AF86: MEUBLES | AI86: 5.42 | AL86: ZF.WU003-9881 | AM86: 13.86 | AN86: 0.3 | AO86: =ROUND(T86*(1-AN86),2) -> 20.3 | AS86: ALVEOLE AVEC 10 CPTS TZT510
B87: MADAW330 | M87: 963549330 | N87: 0963 549 330 | O87: MADAW330 | P87: 36.56 | Q87: 1 | R87: 1.5 | S87: 36.56 | T87: 129 | U87: 2.5 | V87: =IFERROR(ROUNDUP(U87*(80/60),0),"") -> 4 | W87: MADAW330 | X87: =ROUND(T87*(1-#REF!),2) -> #REF! | Y87: =ROUND(T87*(1-AA87),2) -> 90.3 | Z87: =ROUND(T87*(1-AB87),2) -> 90.3 | AA87: 0.3 | AB87: 0.3 | AC87: 330 | AD87: 278 | AE87: 70 | AF87: MEUBLES | AI87: =ROUND(S87/1.04,2) -> 35.15 | AN87: 0.3 | AO87: =ROUND(T87*(1-AN87),2) -> 90.3 | AS87: ADAPTEUR PROLONGATEUR-MADAW330
B88: MADAW380 | M88: 963549380 | N88: 0963 549 380 | O88: MADAW380 | P88: 33.26 | Q88: 1 | R88: 1.8 | S88: 33.26 | T88: 139 | U88: 2.5 | V88: =IFERROR(ROUNDUP(U88*(80/60),0),"") -> 4 | W88: MADAW380 | X88: =ROUND(T88*(1-#REF!),2) -> #REF! | Y88: =ROUND(T88*(1-AA88),2) -> 97.3 | Z88: =ROUND(T88*(1-AB88),2) -> 97.3 | AA88: 0.3 | AB88: 0.3 | AC88: 382 | AD88: 556 | AE88: 70 | AF88: MEUBLES | AI88: =ROUND(S88/1.04,2) -> 31.98 | AN88: 0.3 | AO88: =ROUND(T88*(1-AN88),2) -> 97.3 | AS88: ADAPTEUR PROLONGATEUR-MADAW380
B89: MADAW381 | M89: 963549381 | N89: 0963 549 381 | O89: MADAW381 | P89: 27.86 | Q89: 1 | R89: 1.2 | S89: 27.86 | T89: 129 | U89: 2.5 | V89: =IFERROR(ROUNDUP(U89*(80/60),0),"") -> 4 | W89: MADAW381 | X89: =ROUND(T89*(1-#REF!),2) -> #REF! | Y89: =ROUND(T89*(1-AA89),2) -> 90.3 | Z89: =ROUND(T89*(1-AB89),2) -> 90.3 | AA89: 0.3 | AB89: 0.3 | AC89: 382 | AD89: 278 | AE89: 70 | AF89: MEUBLES | AI89: =ROUND(S89/1.04,2) -> 26.79 | AN89: 0.3 | AO89: =ROUND(T89*(1-AN89),2) -> 90.3 | AS89: ADAPTEUR PROLONGATEUR-MADAW381
B90: MADAW450 | M90: 963549450 | N90: 0963 549 450 | O90: MADAW450 | P90: 29.94 | Q90: 1 | R90: 2 | S90: 29.94 | T90: 139 | U90: 2.5 | V90: =IFERROR(ROUNDUP(U90*(80/60),0),"") -> 4 | W90: MADAW450 | X90: =ROUND(T90*(1-#REF!),2) -> #REF! | Y90: =ROUND(T90*(1-AA90),2) -> 97.3 | Z90: =ROUND(T90*(1-AB90),2) -> 97.3 | AA90: 0.3 | AB90: 0.3 | AC90: 452 | AD90: 556 | AE90: 70 | AF90: MEUBLES | AI90: =ROUND(S90/1.04,2) -> 28.79 | AN90: 0.3 | AO90: =ROUND(T90*(1-AN90),2) -> 97.3 | AS90: ADAPTEUR PROLONGATEUR-MADAW450
B91: MADAW451 | M91: 963549451 | N91: 0963 549 451 | O91: MADAW451 | P91: 28.03 | Q91: 1 | R91: 1.4 | S91: 28.03 | T91: 129 | U91: 2.5 | V91: =IFERROR(ROUNDUP(U91*(80/60),0),"") -> 4 | W91: MADAW451 | X91: =ROUND(T91*(1-#REF!),2) -> #REF! | Y91: =ROUND(T91*(1-AA91),2) -> 90.3 | Z91: =ROUND(T91*(1-AB91),2) -> 90.3 | AA91: 0.3 | AB91: 0.3 | AC91: 452 | AD91: 278 | AE91: 70 | AF91: MEUBLES | AI91: =ROUND(S91/1.04,2) -> 26.95 | AN91: 0.3 | AO91: =ROUND(T91*(1-AN91),2) -> 90.3 | AS91: ADAPTEUR PROLONGATEUR-MADAW451
B92: MADWK | M92: 963545515 | N92: 0963 545 515 | O92: MADWK | P92: 26.5 | Q92: 1 | R92: 2 | S92: 26.5 | T92: 109 | U92: 2.5 | V92: =IFERROR(ROUNDUP(U92*(80/60),0),"") -> 4 | W92: MADWK | X92: =ROUND(T92*(1-#REF!),2) -> #REF! | Y92: =ROUND(T92*(1-AA92),2) -> 76.3 | Z92: =ROUND(T92*(1-AB92),2) -> 76.3 | AA92: 0.3 | AB92: 0.3 | AC92: 0 | AD92: 0 | AE92: 0 | AF92: MEUBLES | AI92: =ROUND(S92/1.04,2) -> 25.48 | AL92: 0 | AM92: 73.5 | AN92: 0.3 | AO92: =ROUND(T92*(1-AN92),2) -> 76.3 | AS92: ADAPTEUR-ETABLI-MADWK
B93: TZT010 | M93: 963920010 | N93: 0963 920 010 | O93: TZT010 | P93: 5.37 | Q93: 1 | R93: 0.1 | S93: 5.37 | T93: 19 | U93: 0 | V93: =IFERROR(ROUNDUP(U93*(80/60),0),"") -> 0 | W93: TZT010 | X93: =ROUND(T93*(1-#REF!),2) -> #REF! | Y93: =ROUND(T93*(1-AA93),2) -> 13.3 | Z93: =ROUND(T93*(1-AB93),2) -> 13.3 | AA93: 0.3 | AB93: 0.3 | AC93: 330 | AD93: 475 | AE93: 50 | AF93: MEUBLES | AI93: =ROUND(S93/1.04,2) -> 5.16 | AL93: ZF.WU003-9875 | AM93: 11.2 | AN93: 0.3 | AO93: =ROUND(T93*(1-AN93),2) -> 13.3 | AS93: ALVEOLE AVEC 10 CPTS TZT010
B94: TZT110 | M94: 963920110 | N94: 0963 920 110 | O94: TZT110 | P94: 4.86 | Q94: 1 | R94: 0.1 | S94: 4.86 | T94: 19 | U94: 0 | V94: =IFERROR(ROUNDUP(U94*(80/60),0),"") -> 0 | W94: TZT110 | X94: =ROUND(T94*(1-#REF!),2) -> #REF! | Y94: =ROUND(T94*(1-AA94),2) -> 13.3 | Z94: =ROUND(T94*(1-AB94),2) -> 13.3 | AA94: 0.3 | AB94: 0.3 | AC94: 330 | AD94: 475 | AE94: 80 | AF94: MEUBLES | AI94: =ROUND(S94/1.04,2) -> 4.67 | AL94: ZF.WU003-9877 | AM94: 9.1 | AN94: 0.3 | AO94: =ROUND(T94*(1-AN94),2) -> 13.3 | AS94: ALVEOLE AVEC 10 CPTS TZT110
B95: TZT008 | M95: 963920008 | N95: 0963 920 008 | O95: TZT008 | P95: 5.37 | Q95: 1 | R95: 0.1 | S95: 5.37 | T95: 19 | U95: 0 | V95: =IFERROR(ROUNDUP(U95*(80/60),0),"") -> 0 | W95: TZT008 | X95: =ROUND(T95*(1-#REF!),2) -> #REF! | Y95: =ROUND(T95*(1-AA95),2) -> 13.3 | Z95: =ROUND(T95*(1-AB95),2) -> 13.3 | AA95: 0.3 | AB95: 0.3 | AC95: 330 | AD95: 475 | AE95: 50 | AF95: MEUBLES | AI95: =ROUND(S95/1.04,2) -> 5.16 | AL95: ZF.WU003-9874 | AM95: 11.2 | AN95: 0.3 | AO95: =ROUND(T95*(1-AN95),2) -> 13.3 | AS95: ALVEOLE AVEC 8 CPTS TZT008
B96: TZT108 | M96: 963920108 | N96: 0963 920 108 | O96: TZT108 | P96: 4.85 | Q96: 1 | R96: 0.1 | S96: 4.85 | T96: 19 | U96: 0 | V96: =IFERROR(ROUNDUP(U96*(80/60),0),"") -> 0 | W96: TZT108 | X96: =ROUND(T96*(1-#REF!),2) -> #REF! | Y96: =ROUND(T96*(1-AA96),2) -> 13.3 | Z96: =ROUND(T96*(1-AB96),2) -> 13.3 | AA96: 0.3 | AB96: 0.3 | AC96: 330 | AD96: 475 | AE96: 80 | AF96: MEUBLES | AI96: =ROUND(S96/1.04,2) -> 4.66 | AL96: ZF.WU003-9876 | AM96: 9.1 | AN96: 0.3 | AO96: =ROUND(T96*(1-AN96),2) -> 13.3 | AS96: ALVEOLE AVEC 8 CPTS TZT108
B97: TZT902 | M97: 963920902 | N97: 0963 920 902 | O97: 0 | P97: 3.41 | Q97: 1 | R97: 0.05 | S97: 3.41 | T97: 19 | U97: 0 | V97: =IFERROR(ROUNDUP(U97*(80/60),0),"") -> 0 | W97: TZT902 | X97: =ROUND(T97*(1-#REF!),2) -> #REF! | Y97: =ROUND(T97*(1-AA97),2) -> 13.3 | Z97: =ROUND(T97*(1-AB97),2) -> 13.3 | AA97: 0.3 | AB97: 0.3 | AC97: 0 | AD97: 0 | AE97: 0 | AF97: MEUBLES | AI97: =ROUND(S97/1.04,2) -> 3.28 | AL97: ZF.WU003-9882 | AM97: 7.56 | AN97: 0.3 | AO97: =ROUND(T97*(1-AN97),2) -> 13.3 | AS97: ALVEOLES CLOIS 8 COMP TZT902
B98: VZS | M98: 96380961 | N98: 0963 80 961 | O98: #N/A | P98: 5.08 | Q98: 1 | R98: 0.2 | S98: 5.08 | T98: 29 | U98: 0 | V98: =IFERROR(ROUNDUP(U98*(80/60),0),"") -> 0 | W98: VZS | X98: =ROUND(T98*(1-#REF!),2) -> #REF! | Y98: =ROUND(T98*(1-AA98),2) -> 20.3 | Z98: =ROUND(T98*(1-AB98),2) -> 20.3 | AA98: 0.3 | AB98: 0.3 | AC98: 0 | AD98: 0 | AE98: 0 | AF98: ACCESSOIRES | AI98: =ROUND(S98/1.04,2) -> 4.88 | AL98: ZF.WU003-9847 | AM98: 11.34 | AN98: 0.3 | AO98: =ROUND(T98*(1-AN98),2) -> 20.3 | AS98: ANNEAU D ANCRAGE AVEC INSERT VZS
B99: MGS02 | M99: 963543405 | N99: 0963 543 405 | O99: MGS02 | P99: 273.69 | Q99: 1 | R99: 25 | S99: 273.69 | T99: 849 | U99: 11.3 | V99: =IFERROR(ROUNDUP(U99*(80/60),0),"") -> 16 | W99: MGS02 | X99: =ROUND(T99*(1-#REF!),2) -> #REF! | Y99: =ROUND(T99*(1-AA99),2) -> 594.3 | Z99: =ROUND(T99*(1-AB99),2) -> 594.3 | AA99: 0.3 | AB99: 0.3 | AC99: 382 | AD99: 556 | AE99: 860 | AF99: MEUBLES | AI99: =ROUND(S99/1.04,2) -> 263.16 | AN99: 0.3 | AO99: =ROUND(T99*(1-AN99),2) -> 594.3 | AS99: ARMOIRE-2-PORTES-LIVRÉE-S-ÉTAGÈRE-MGS02
B100: MS02 | M100: 963543402 | N100: 0963 543 402 | O100: MS02 | P100: 256.62 | Q100: 1 | R100: 27.8 | S100: 256.62 | T100: 819 | U100: 11.3 | V100: =IFERROR(ROUNDUP(U100*(80/60),0),"") -> 16 | W100: MS02 | X100: =ROUND(T100*(1-#REF!),2) -> #REF! | Y100: =ROUND(T100*(1-AA100),2) -> 573.3 | Z100: =ROUND(T100*(1-AB100),2) -> 573.3 | AA100: 0.3 | AB100: 0.3 | AC100: 452 | AD100: 556 | AE100: 860 | AF100: MEUBLES | AI100: =ROUND(S100/1.04,2) -> 246.75 | AN100: 0.3 | AO100: =ROUND(T100*(1-AN100),2) -> 573.3 | AS100: ARMOIRE-2-PORTES-LIVRÉE-S-ÉTAGÈRES-MS02
B101: MRS31 | M101: 963543031 | N101: 0963 543 031 | O101: MRS31 | P101: 143.97 | Q101: 1 | R101: 12.2 | S101: 143.97 | T101: 459 | U101: 12.3 | V101: =IFERROR(ROUNDUP(U101*(80/60),0),"") -> 17 | W101: MRS31 | X101: =ROUND(T101*(1-#REF!),2) -> #REF! | Y101: =ROUND(T101*(1-AA101),2) -> 321.3 | Z101: =ROUND(T101*(1-AB101),2) -> 321.3 | AA101: 0.3 | AB101: 0.3 | AC101: 382 | AD101: 1112 | AE101: 430 | AF101: MEUBLES | AI101: =ROUND(S101/1.04,2) -> 138.43 | AN101: 0.3 | AO101: =ROUND(T101*(1-AN101),2) -> 321.3 | AS101: ARMOIRE-AVEC-VOLET-LAMES-PVC-MRS31
B102: MRS41 | M102: 963543041 | N102: 0963 543 041 | O102: MRS41 | P102: 146.93 | Q102: 1 | R102: 13.2 | S102: 146.93 | T102: 479 | U102: 12.3 | V102: =IFERROR(ROUNDUP(U102*(80/60),0),"") -> 17 | W102: MRS41 | X102: =ROUND(T102*(1-#REF!),2) -> #REF! | Y102: =ROUND(T102*(1-AA102),2) -> 335.3 | Z102: =ROUND(T102*(1-AB102),2) -> 335.3 | AA102: 0.3 | AB102: 0.3 | AC102: 452 | AD102: 1112 | AE102: 430 | AF102: MEUBLES | AI102: =ROUND(S102/1.04,2) -> 141.28 | AN102: 0.3 | AO102: =ROUND(T102*(1-AN102),2) -> 335.3 | AS102: ARMOIRE-AVEC-VOLET-LAMES-PVC-MRS41
B103: MTM38 | M103: 963543407 | N103: 0963 543 407 | O103: MTM38 | P103: 81.65 | Q103: 1 | R103: 7.2 | S103: 81.65 | T103: 269 | U103: 3.9 | V103: =IFERROR(ROUNDUP(U103*(80/60),0),"") -> 6 | W103: MTM38 | X103: =ROUND(T103*(1-#REF!),2) -> #REF! | Y103: =ROUND(T103*(1-AA103),2) -> 188.3 | Z103: =ROUND(T103*(1-AB103),2) -> 188.3 | AA103: 0.3 | AB103: 0.3 | AC103: 382 | AD103: 278 | AE103: 430 | AF103: MEUBLES | AI103: =ROUND(S103/1.04,2) -> 78.51 | AN103: 0.3 | AO103: =ROUND(T103*(1-AN103),2) -> 188.3 | AS103: ARMOIRE-DE-SÉCURITÉ-MTM38
B104: KH | M104: 96380010 | N104: 0963 80 010 | O104: #N/A | P104: 69.44 | Q104: 1 | R104: 2.6 | S104: 69.44 | T104: 279 | U104: 2.5 | V104: =IFERROR(ROUNDUP(U104*(80/60),0),"") -> 4 | W104: KH | X104: =ROUND(T104*(1-#REF!),2) -> #REF! | Y104: =ROUND(T104*(1-AA104),2) -> 195.3 | Z104: =ROUND(T104*(1-AB104),2) -> 195.3 | AA104: 0.3 | AB104: 0.3 | AC104: 300 | AD104: 1112 | AE104: 300 | AF104: MEUBLES | AI104: =ROUND(S104/1.04,2) -> 66.77 | AL104: ZF.WU003-9728 | AM104: 159.39 | AN104: 0.3 | AO104: =ROUND(T104*(1-AN104),2) -> 195.3 | AS104: ARRET COFFRETS MACHINES KH
B105: AAKR | M105: 96389023 | N105: 0963 89 023 | O105: #N/A | P105: 3.18 | Q105: 1 | R105: 0.01 | S105: 3.18 | T105: 19 | U105: 0 | V105: =IFERROR(ROUNDUP(U105*(80/60),0),"") -> 0 | W105: AAKR | X105: =ROUND(T105*(1-#REF!),2) -> #REF! | Y105: =ROUND(T105*(1-AA105),2) -> 13.3 | Z105: =ROUND(T105*(1-AB105),2) -> 13.3 | AA105: 0.3 | AB105: 0.3 | AC105: 0 | AD105: 220 | AE105: 55 | AF105: MEUBLES | AI105: =ROUND(S105/1.04,2) -> 3.06 | AL105: 0 | AM105: 8.4 | AN105: 0.3 | AO105: =ROUND(T105*(1-AN105),2) -> 13.3 | AS105: AUTOCOLLANT-ORSYMOBIL-CADRE FIN - AA
B106: AAKS | M106: 96389024 | N106: 0963 89 024 | O106: #N/A | P106: 1.03 | Q106: 1 | R106: 0.01 | S106: 1.03 | T106: 6 | U106: 0 | V106: =IFERROR(ROUNDUP(U106*(80/60),0),"") -> 0 | W106: AAKS | X106: =ROUND(T106*(1-#REF!),2) -> #REF! | Y106: =ROUND(T106*(1-AA106),2) -> 4.2 | Z106: =ROUND(T106*(1-AB106),2) -> 4.2 | AA106: 0.3 | AB106: 0.3 | AC106: 0 | AD106: 60 | AE106: 22 | AF106: MEUBLES | AI106: =ROUND(S106/1.04,2) -> 0.99 | AL106: 0 | AM106: 2.8 | AN106: 0.3 | AO106: =ROUND(T106*(1-AN106),2) -> 4.2 | AS106: AUTOCOLLANT-ORSYMOBIL-MODULES-TIRO-A
B107: AB29 | M107: 96380729 | N107: 0963 80 729 | O107: #N/A | P107: 51.06 | Q107: 1 | R107: 3.25 | S107: 51.06 | T107: 209 | U107: 4 | V107: =IFERROR(ROUNDUP(U107*(80/60),0),"") -> 6 | W107: AB29 | X107: =ROUND(T107*(1-#REF!),2) -> #REF! | Y107: =ROUND(T107*(1-AA107),2) -> 146.3 | Z107: =ROUND(T107*(1-AB107),2) -> 146.3 | AA107: 0.3 | AB107: 0.3 | AC107: 335 | AD107: 432 | AE107: 277 | AF107: MEUBLES | AI107: =ROUND(S107/1.04,2) -> 49.1 | AL107: ZF.WU003-9813 | AM107: 119.7 | AN107: 0.3 | AO107: =ROUND(T107*(1-AN107),2) -> 146.3 | AS107: BAC ALUMINIUM-AB29
B108: TK314 | M108: 96380770 | N108: 0963 80 770 | O108: #N/A | P108: 3.88 | Q108: 1 | R108: 1 | S108: 3.88 | T108: 29 | U108: 0 | V108: =IFERROR(ROUNDUP(U108*(80/60),0),"") -> 0 | W108: TK314 | X108: =ROUND(T108*(1-#REF!),2) -> #REF! | Y108: =ROUND(T108*(1-AA108),2) -> 20.3 | Z108: =ROUND(T108*(1-AB108),2) -> 20.3 | AA108: 0.3 | AB108: 0.3 | AC108: 200 | AD108: 300 | AE108: 145 | AF108: ACCESSOIRES | AI108: =ROUND(S108/1.04,2) -> 3.73 | AL108: 0 | AM108: 13.3 | AN108: 0.3 | AO108: =ROUND(T108*(1-AN108),2) -> 20.3 | AS108: bac de transport empilable TK314
B109: TK414 | M109: 96380771 | N109: 0963 80 771 | O109: #N/A | P109: 5.31 | Q109: 1 | R109: 1.5 | S109: 5.31 | T109: 39 | U109: 0 | V109: =IFERROR(ROUNDUP(U109*(80/60),0),"") -> 0 | W109: TK414 | X109: =ROUND(T109*(1-#REF!),2) -> #REF! | Y109: =ROUND(T109*(1-AA109),2) -> 27.3 | Z109: =ROUND(T109*(1-AB109),2) -> 27.3 | AA109: 0.3 | AB109: 0.3 | AC109: 300 | AD109: 400 | AE109: 145 | AF109: ACCESSOIRES | AI109: =ROUND(S109/1.04,2) -> 5.11 | AL109: 0 | AM109: 15.4 | AN109: 0.3 | AO109: =ROUND(T109*(1-AN109),2) -> 27.3 | AS109: Bac de transport empilable TK414
B110: TK421 | M110: 96380772 | N110: 0963 80 772 | O110: #N/A | P110: 5.84 | Q110: 1 | R110: 1.8 | S110: 5.84 | T110: 39 | U110: 0 | V110: =IFERROR(ROUNDUP(U110*(80/60),0),"") -> 0 | W110: TK421 | X110: =ROUND(T110*(1-#REF!),2) -> #REF! | Y110: =ROUND(T110*(1-AA110),2) -> 27.3 | Z110: =ROUND(T110*(1-AB110),2) -> 27.3 | AA110: 0.3 | AB110: 0.3 | AC110: 300 | AD110: 400 | AE110: 210 | AF110: ACCESSOIRES | AI110: =ROUND(S110/1.04,2) -> 5.62 | AL110: 0 | AM110: 16.8 | AN110: 0.3 | AO110: =ROUND(T110*(1-AN110),2) -> 27.3 | AS110: Bac de transport empilable TK421
B111: TK614 | M111: 96380773 | N111: 0963 80 773 | O111: #N/A | P111: 7.85 | Q111: 1 | R111: 2.2 | S111: 7.85 | T111: 49 | U111: 0 | V111: =IFERROR(ROUNDUP(U111*(80/60),0),"") -> 0 | W111: TK614 | X111: =ROUND(T111*(1-#REF!),2) -> #REF! | Y111: =ROUND(T111*(1-AA111),2) -> 34.3 | Z111: =ROUND(T111*(1-AB111),2) -> 34.3 | AA111: 0.3 | AB111: 0.3 | AC111: 400 | AD111: 600 | AE111: 145 | AF111: ACCESSOIRES | AI111: =ROUND(S111/1.04,2) -> 7.55 | AL111: 0 | AM111: 22.4 | AN111: 0.3 | AO111: =ROUND(T111*(1-AN111),2) -> 34.3 | AS111: Bac de transport empilable TK614
B112: TK621 | M112: 96380774 | N112: 0963 80 774 | O112: #N/A | P112: 9.03 | Q112: 1 | R112: 2.5 | S112: 9.03 | T112: 59 | U112: 0 | V112: =IFERROR(ROUNDUP(U112*(80/60),0),"") -> 0 | W112: TK621 | X112: =ROUND(T112*(1-#REF!),2) -> #REF! | Y112: =ROUND(T112*(1-AA112),2) -> 41.3 | Z112: =ROUND(T112*(1-AB112),2) -> 41.3 | AA112: 0.3 | AB112: 0.3 | AC112: 400 | AD112: 600 | AE112: 210 | AF112: ACCESSOIRES | AI112: =ROUND(S112/1.04,2) -> 8.68 | AL112: 0 | AM112: 25.2 | AN112: 0.3 | AO112: =ROUND(T112*(1-AN112),2) -> 41.3 | AS112: Bac ed transport empilable TK621
B113: LW1 | M113: 963545601 | N113: 0963 545 601 | O113: LW1 | P113: 66.56 | Q113: 1 | R113: 9.2 | S113: 66.56 | T113: 209 | U113: 4 | V113: =IFERROR(ROUNDUP(U113*(80/60),0),"") -> 6 | W113: LW1 | X113: =ROUND(T113*(1-#REF!),2) -> #REF! | Y113: =ROUND(T113*(1-AA113),2) -> 146.3 | Z113: =ROUND(T113*(1-AB113),2) -> 146.3 | AA113: 0.3 | AB113: 0.3 | AC113: 200 | AD113: 1650 | AE113: 100 | AF113: MEUBLES | AI113: =ROUND(S113/1.04,2) -> 64 | AL113: 0 | AM113: 135.8 | AN113: 0.3 | AO113: =ROUND(T113*(1-AN113),2) -> 146.3 | AS113: BAC POUR PIECES LONGUES-MLW1
B114: LW4 | M114: 963545604 | N114: 0963 545 604 | O114: LW4 | P114: 110.02 | Q114: 1 | R114: 5.6 | S114: 110.02 | T114: 349 | U114: 4 | V114: =IFERROR(ROUNDUP(U114*(80/60),0),"") -> 6 | W114: LW4 | X114: =ROUND(T114*(1-#REF!),2) -> #REF! | Y114: =ROUND(T114*(1-AA114),2) -> 244.3 | Z114: =ROUND(T114*(1-AB114),2) -> 244.3 | AA114: 0.3 | AB114: 0.3 | AC114: 200 | AD114: 3050 | AE114: 100 | AF114: MEUBLES | AI114: =ROUND(S114/1.04,2) -> 105.79 | AL114: 0 | AM114: 230.3 | AN114: 0.3 | AO114: =ROUND(T114*(1-AN114),2) -> 244.3 | AS114: BAC POUR PIECES LONGUES-MLW4
B115: LW5 | M115: 963545607 | N115: 0963 545 607 | O115: LW5 | P115: 144.66 | Q115: 1 | R115: 6.4 | S115: 144.66 | T115: 449 | U115: 4 | V115: =IFERROR(ROUNDUP(U115*(80/60),0),"") -> 6 | W115: LW5 | X115: =ROUND(T115*(1-#REF!),2) -> #REF! | Y115: =ROUND(T115*(1-AA115),2) -> 314.3 | Z115: =ROUND(T115*(1-AB115),2) -> 314.3 | AA115: 0.3 | AB115: 0.3 | AC115: 270 | AD115: 3050 | AE115: 100 | AF115: MEUBLES | AI115: =ROUND(S115/1.04,2) -> 139.1 | AL115: 0 | AM115: 303.1 | AN115: 0.3 | AO115: =ROUND(T115*(1-AN115),2) -> 314.3 | AS115: BAC POUR PIECES LONGUES-MLW5
B116: LW6 | M116: 963545606 | N116: 0963 545 606 | O116: LW6 | P116: 175.57 | Q116: 1 | R116: 8 | S116: 175.57 | T116: 549 | U116: 4 | V116: =IFERROR(ROUNDUP(U116*(80/60),0),"") -> 6 | W116: LW6 | X116: =ROUND(T116*(1-#REF!),2) -> #REF! | Y116: =ROUND(T116*(1-AA116),2) -> 384.3 | Z116: =ROUND(T116*(1-AB116),2) -> 384.3 | AA116: 0.3 | AB116: 0.3 | AC116: 270 | AD116: 4030 | AE116: 100 | AF116: MEUBLES | AI116: =ROUND(S116/1.04,2) -> 168.82 | AL116: 0 | AM116: 366.8 | AN116: 0.3 | AO116: =ROUND(T116*(1-AN116),2) -> 384.3 | AS116: BAC POUR PIECES LONGUES-MLW6
B117: MLK01 | M117: 963578001 | N117: 0963 578 001 | O117: MLK01 | P117: 4.79 | Q117: 1 | R117: 0.3 | S117: 4.79 | T117: 29 | U117: 4 | V117: =IFERROR(ROUNDUP(U117*(80/60),0),"") -> 6 | W117: MLK01 | X117: =ROUND(T117*(1-#REF!),2) -> #REF! | Y117: =ROUND(T117*(1-AA117),2) -> 20.3 | Z117: =ROUND(T117*(1-AB117),2) -> 20.3 | AA117: 0.3 | AB117: 0.3 | AC117: 300 | AD117: 186 | AE117: 82 | AF117: MEUBLES | AI117: =ROUND(S117/1.04,2) -> 4.61 | AN117: 0.3 | AO117: =ROUND(T117*(1-AN117),2) -> 20.3 | AS117: BAC-POUR-ÉTAGÈRE-DE-STOCKAGE-MLK01
B118: MLK02 | M118: 963578002 | N118: 0963 578 002 | O118: MLK02 | P118: 3.1 | Q118: 1 | R118: 0.2 | S118: 3.1 | T118: 19 | U118: 4 | V118: =IFERROR(ROUNDUP(U118*(80/60),0),"") -> 6 | W118: MLK02 | X118: =ROUND(T118*(1-#REF!),2) -> #REF! | Y118: =ROUND(T118*(1-AA118),2) -> 13.3 | Z118: =ROUND(T118*(1-AB118),2) -> 13.3 | AA118: 0.3 | AB118: 0.3 | AC118: 300 | AD118: 92 | AE118: 82 | AF118: MEUBLES | AI118: =ROUND(S118/1.04,2) -> 2.98 | AN118: 0.3 | AO118: =ROUND(T118*(1-AN118),2) -> 13.3 | AS118: BAC-POUR-ÉTAGÈRE-DE-STOCKAGE-MLK02
B119: MLK03 | M119: 963578003 | N119: 0963 578 003 | O119: MLK03 | P119: 4.36 | Q119: 1 | R119: 0.26 | S119: 4.36 | T119: 29 | U119: 4 | V119: =IFERROR(ROUNDUP(U119*(80/60),0),"") -> 6 | W119: MLK03 | X119: =ROUND(T119*(1-#REF!),2) -> #REF! | Y119: =ROUND(T119*(1-AA119),2) -> 20.3 | Z119: =ROUND(T119*(1-AB119),2) -> 20.3 | AA119: 0.3 | AB119: 0.3 | AC119: 300 | AD119: 132 | AE119: 100 | AF119: MEUBLES | AI119: =ROUND(S119/1.04,2) -> 4.19 | AN119: 0.3 | AO119: =ROUND(T119*(1-AN119),2) -> 20.3 | AS119: BAC-POUR-ÉTAGÈRE-DE-STOCKAGE-MLK03
B120: TSB20 | M120: 96380290 | N120: 0963 80 290 | O120: #N/A | P120: 50.65 | Q120: 1 | R120: 0 | S120: 50.65 | T120: 149 | U120: 15 | V120: =IFERROR(ROUNDUP(U120*(80/60),0),"") -> 20 | W120: TSB20 | X120: =ROUND(T120*(1-#REF!),2) -> #REF! | Y120: =ROUND(T120*(1-AA120),2) -> 104.3 | Z120: =ROUND(T120*(1-AB120),2) -> 104.3 | AA120: 0.3 | AB120: 0.3 | AC120: 0 | AD120: 2055 | AE120: 0 | AF120: ACCESSOIRES | AI120: =ROUND(S120/1.04,2) -> 48.7 | AL120: ZF.WU003-9773 | AM120: 98.77 | AN120: 0.3 | AO120: =ROUND(T120*(1-AN120),2) -> 104.3 | AS120: BARRE DE MAINT VERT CALAGE TSB20
B121: SS15 | M121: 96399002 | N121: 0963 99 002 | O121: #N/A | P121: 33.33 | Q121: 1 | R121: 2.8 | S121: 33.33 | T121: 143 | U121: 13 | V121: =IFERROR(ROUNDUP(U121*(80/60),0),"") -> 18 | W121: SS15 | X121: =ROUND(T121*(1-#REF!),2) -> #REF! | Y121: =ROUND(T121*(1-AA121),2) -> 100.1 | Z121: =ROUND(T121*(1-AB121),2) -> 100.1 | AA121: 0.3 | AB121: 0.3 | AC121: 0 | AD121: 0 | AE121: 2050 | AF121: BARRES | AI121: =ROUND(S121/1.04,2) -> 32.05 | AL121: ZF.WU003-9885 | AM121: 85.05 | AN121: 0.3 | AO121: =ROUND(T121*(1-AN121),2) -> 100.1 | AS121: BARRE DE MAINTIEN ALU TELESCOP
B122: SS05 | M122: 96399009 | N122: 0963 99 009 | O122: #N/A | P122: 37.09 | Q122: 1 | R122: 3.1 | S122: 37.09 | T122: 159 | U122: 13 | V122: =IFERROR(ROUNDUP(U122*(80/60),0),"") -> 18 | W122: SS05 | X122: =ROUND(T122*(1-#REF!),2) -> #REF! | Y122: =ROUND(T122*(1-AA122),2) -> 111.3 | Z122: =ROUND(T122*(1-AB122),2) -> 111.3 | AA122: 0.3 | AB122: 0.3 | AC122: 0 | AD122: 0 | AE122: 2500 | AF122: BARRES | AI122: =ROUND(S122/1.04,2) -> 35.66 | AL122: ZF.WU003-9888 | AM122: 98.84 | AN122: 0.3 | AO122: =ROUND(T122*(1-AN122),2) -> 111.3 | AS122: BARRE MAINT TELESCOP ALU EXTENS SS05
B123: SS10 | M123: 96399006 | N123: 0963 99 006 | O123: #N/A | P123: 32.68 | Q123: 1 | R123: 2.8 | S123: 32.68 | T123: 159 | U123: 13 | V123: =IFERROR(ROUNDUP(U123*(80/60),0),"") -> 18 | W123: SS10 | X123: =ROUND(T123*(1-#REF!),2) -> #REF! | Y123: =ROUND(T123*(1-AA123),2) -> 111.3 | Z123: =ROUND(T123*(1-AB123),2) -> 111.3 | AA123: 0.3 | AB123: 0.3 | AC123: 0 | AD123: 0 | AE123: 1750 | AF123: BARRES | AI123: =ROUND(S123/1.04,2) -> 31.42 | AL123: ZF.WU003-9887 | AM123: 98.84 | AN123: 0.3 | AO123: =ROUND(T123*(1-AN123),2) -> 111.3 | AS123: BARRE MAINT TELESCOP ALU EXTENS SS10
B124: MGL001 | M124: 963541011 | N124: 0963 541 011 | O124: MGL001 | P124: 6.66 | Q124: 1 | R124: 0.25 | S124: 6.66 | T124: 29 | U124: 1 | V124: =IFERROR(ROUNDUP(U124*(80/60),0),"") -> 2 | W124: MGL001 | X124: =ROUND(T124*(1-#REF!),2) -> #REF! | Y124: =ROUND(T124*(1-AA124),2) -> 20.3 | Z124: =ROUND(T124*(1-AB124),2) -> 20.3 | AA124: 0.3 | AB124: 0.3 | AC124: 0 | AD124: 497 | AE124: 0 | AF124: MEUBLES | AI124: =ROUND(S124/1.04,2) -> 6.4 | AN124: 0.3 | AO124: =ROUND(T124*(1-AN124),2) -> 20.3 | AS124: Barre MGL001 pour MSM
B125: MGL002 | M125: 963541012 | N125: 0963 541 012 | O125: MGL002 | P125: 7.69 | Q125: 1 | R125: 0.5 | S125: 7.69 | T125: 39 | U125: 1 | V125: =IFERROR(ROUNDUP(U125*(80/60),0),"") -> 2 | W125: MGL002 | X125: =ROUND(T125*(1-#REF!),2) -> #REF! | Y125: =ROUND(T125*(1-AA125),2) -> 27.3 | Z125: =ROUND(T125*(1-AB125),2) -> 27.3 | AA125: 0.3 | AB125: 0.3 | AC125: 0 | AD125: 775 | AE125: 0 | AF125: MEUBLES | AI125: =ROUND(S125/1.04,2) -> 7.39 | AN125: 0.3 | AO125: =ROUND(T125*(1-AN125),2) -> 27.3 | AS125: Barre MGL002 pour MSMS
B126: MGL003 | M126: 963541013 | N126: 0963 541 013 | O126: MGL003 | P126: 10.22 | Q126: 1 | R126: 0.7 | S126: 10.22 | T126: 49 | U126: 1 | V126: =IFERROR(ROUNDUP(U126*(80/60),0),"") -> 2 | W126: MGL003 | X126: =ROUND(T126*(1-#REF!),2) -> #REF! | Y126: =ROUND(T126*(1-AA126),2) -> 34.3 | Z126: =ROUND(T126*(1-AB126),2) -> 34.3 | AA126: 0.3 | AB126: 0.3 | AC126: 0 | AD126: 1053 | AE126: 0 | AF126: MEUBLES | AI126: =ROUND(S126/1.04,2) -> 9.83 | AN126: 0.3 | AO126: =ROUND(T126*(1-AN126),2) -> 34.3 | AS126: Barre MGL003 pour MSMD
B127: MGL004 | M127: 963541014 | N127: 0963 541 014 | O127: MGL004 | P127: 6.35 | Q127: 1 | R127: 0.2 | S127: 6.35 | T127: 29 | U127: 1 | V127: =IFERROR(ROUNDUP(U127*(80/60),0),"") -> 2 | W127: MGL004 | X127: =ROUND(T127*(1-#REF!),2) -> #REF! | Y127: =ROUND(T127*(1-AA127),2) -> 20.3 | Z127: =ROUND(T127*(1-AB127),2) -> 20.3 | AA127: 0.3 | AB127: 0.3 | AC127: 0 | AD127: 323 | AE127: 0 | AF127: MEUBLES | AI127: =ROUND(S127/1.04,2) -> 6.11 | AN127: 0.3 | AO127: =ROUND(T127*(1-AN127),2) -> 20.3 | AS127: Barre MGL004 pour MSML
...

Sheet Feuil1
A1: Constructeur | D1: Produit | H1: Constructeur | I1: Modèle | J1: Année | K1: LH | L1: Empatement | N1: Constructeur
A2: CITROEN | B2: NEMO | D2: PLANCHER | H2: CITROEN | I2: BERLINGO | J2: 2008 | K2: L1H1 | L2: 2728 | N2: CITROEN
A3: CITROEN | B3: BERLINGO | D3: PROTECTIONS_LATERALES | H3: CITROEN | I3: BERLINGO | J3: 2008 | K3: L2H1 | L3: 2728 | N3: DACIA
A4: CITROEN | B4: JUMPY | D4: PASSAGE_DE_ROUES | H4: CITROEN | I4: JUMPER | J4: 2006 | K4: L1H1 | L4: 3000 | N4: FIAT
A5: CITROEN | B5: JUMPER | D5: KIT_DE_PROTECTION | H5: CITROEN | I5: JUMPER | J5: 2006 | K5: L1H2 | L5: 3000 | N5: FORD
A6: DACIA | B6: DOKKER | H6: CITROEN | I6: JUMPER | J6: 2006 | K6: L2H1 | L6: 3450 | N6: IVECO
A7: FIAT | B7: FIORINO | D7: Standard | H7: CITROEN | I7: JUMPER | J7: 2006 | K7: L2H2 | L7: 3450 | N7: MAN
A8: FIAT | B8: DOBLO | D8: Pro | H8: CITROEN | I8: JUMPER | J8: 2006 | K8: L3H2 | L8: 4035 | N8: MERCEDES
A9: FIAT | B9: TALENTO | H9: CITROEN | I9: JUMPER | J9: 2006 | K9: L3H3 | L9: 4035 | N9: NISSAN
A10: FIAT | B10: DUCATO | D10: Hayon | H10: CITROEN | I10: JUMPER | J10: 2006 | K10: L4H2 | L10: 4035XL | N10: OPEL
A11: FORD | B11: TRANSIT_COURIER | D11: Portes Battantes | H11: CITROEN | I11: JUMPER | J11: 2006 | K11: L4H3 | L11: 4035XL | N11: PEUGEOT
A12: FORD | B12: TRANSIT_CONNECT | H12: CITROEN | I12: JUMPY | J12: 2016 | K12: L2H1 | L12: 3275 | N12: RENAULT
A13: FORD | B13: CUSTOM | D13: Gauche | H13: CITROEN | I13: NEMO | J13: 2008 | K13: L1H1 | L13: 2513 | N13: TOYOTA
A14: FORD | B14: TRANSIT_TRACTION | D14: Droite | H14: DACIA | I14: DOKKER | J14: 2009 | K14: L1H1 | L14: 2810 | N14: VOLKSWAGEN
A15: FORD | B15: TRANSIT_PROPULSION | D15: Sans | H15: FIAT | I15: DOBLO | J15: 2010 | K15: L1H1 | L15: 2755
A16: IVECO | B16: DAILY | D16: Les 2 | H16: FIAT | I16: DOBLO | J16: 2010 | K16: L1H2 | L16: 2755
A17: MERCEDES | B17: CITAN | H17: FIAT | I17: DOBLO | J17: 2010 | K17: L2H1 | L17: 3105
A18: MERCEDES | B18: VITO | D18: RJ | H18: FIAT | I18: DUCATO | J18: 2006 | K18: L1H1 | L18: 3000
A19: MERCEDES | B19: SPRINTER | H19: FIAT | I19: DUCATO | J19: 2006 | K19: L1H2 | L19: 3000
A20: NISSAN | B20: NV_200 | H20: FIAT | I20: DUCATO | J20: 2006 | K20: L2H1 | L20: 3450
A21: NISSAN | B21: NV_300 | H21: FIAT | I21: DUCATO | J21: 2006 | K21: L2H2 | L21: 3450
A22: NISSAN | B22: NV_400_TRACTION | D22: Tôlée | H22: FIAT | I22: DUCATO | J22: 2006 | K22: L4H2 | L22: 4035
A23: NISSAN | B23: NV_400_PROPULSION | D23: Tubes | H23: FIAT | I23: DUCATO | J23: 2006 | K23: L4H3 | L23: 4035
A24: OPEL | B24: COMBO | D24: Grilles | H24: FIAT | I24: DUCATO | J24: 2006 | K24: L5H2 | L24: 4035XL
A25: OPEL | B25: VIVARO | H25: FIAT | I25: DUCATO | J25: 2006 | K25: L5H3 | L25: 4035XL
A26: OPEL | B26: MOVANO_TRACTION | H26: FIAT | I26: FIORINO | J26: 2008 | K26: L1H1 | L26: 2513
A27: OPEL | B27: MOVANO_PROPULSION | D27: OUI | H27: FIAT | I27: TALENTO | J27: 2016 | K27: L1H1 | L27: 3098
A28: PEUGEOT | B28: BIPPER | D28: NON | H28: FIAT | I28: TALENTO | J28: 2016 | K28: L1H2 | L28: 3098
A29: PEUGEOT | B29: PARTNER | H29: FIAT | I29: TALENTO | J29: 2016 | K29: L2H1 | L29: 3498
A30: PEUGEOT | B30: EXPERT | D30: OUI | H30: FIAT | I30: TALENTO | J30: 2016 | K30: L2H2 | L30: 3498
A31: PEUGEOT | B31: BOXER | D31: NON | H31: FORD | I31: CUSTOM | J31: 2012 | K31: L1H1 | L31: 2933
A32: RENAULT | B32: KANGOO | H32: FORD | I32: CUSTOM | J32: 2012 | K32: L1H2 | L32: 2933
A33: RENAULT | B33: TRAFIC | H33: FORD | I33: CUSTOM | J33: 2012 | K33: L2H1 | L33: 3300
A34: RENAULT | B34: MASTER_TRACTION | D34: BON DE COMMANDE | H34: FORD | I34: CUSTOM | J34: 2012 | K34: L2H2 | L34: 3300
A35: RENAULT | B35: MASTER_PROPULSION | D35: DEVIS | H35: FORD | I35: TRANSIT_CONNECT | J35: 2014 | K35: L1H1 | L35: 2662
A36: TOYOTA | B36: PROACE | H36: FORD | I36: TRANSIT_CONNECT | J36: 2014 | K36: L2H1 | L36: 3062
A37: VOLKSWAGEN | B37: CADDY | H37: FORD | I37: TRANSIT_COURIER | J37: 2014 | K37: L1H1 | L37: 2489
A38: VOLKSWAGEN | B38: T_6 | D38: Technicien | H38: FORD | I38: TRANSIT_PROPULSION | J38: 2014 | K38: L2H2 | L38: 3300
A39: VOLKSWAGEN | B39: CRAFTER_TRACTION | D39: Carrossier | H39: FORD | I39: TRANSIT_PROPULSION | J39: 2014 | K39: L2H3 | L39: 3300
A40: VOLKSWAGEN | B40: CRAFTER_PROPULSION | D40: Client | H40: FORD | I40: TRANSIT_PROPULSION | J40: 2014 | K40: L3H2 | L40: 3750
A41: MAN | B41: TGE_TRACTION | H41: FORD | I41: TRANSIT_PROPULSION | J41: 2014 | K41: L3H3 | L41: 3750
A42: MAN | B42: TGE_PROPULSION | D42: Vinyle | H42: FORD | I42: TRANSIT_PROPULSION | J42: 2014 | K42: L4H3 | L42: 3750
D43: Trend | H43: FORD | I43: TRANSIT_TRACTION | J43: 2014 | K43: L2H2 | L43: 3300
H44: FORD | I44: TRANSIT_TRACTION | J44: 2014 | K44: L2H3 | L44: 3300
H45: FORD | I45: TRANSIT_TRACTION | J45: 2014 | K45: L3H2 | L45: 3750
H46: FORD | I46: TRANSIT_TRACTION | J46: 2014 | K46: L3H3 | L46: 3750
H47: IVECO | I47: DAILY | J47: 2014 | K47: L2H1 | L47: 3520
H48: IVECO | I48: DAILY | J48: 2014 | K48: L2H2 | L48: 3520
H49: IVECO | I49: DAILY | J49: 2014 | K49: L3H2 | L49: 3520L
H50: IVECO | I50: DAILY | J50: 2014 | K50: L3H3 | L50: 3520L
H51: IVECO | I51: DAILY | J51: 2014 | K51: L4H2 | L51: 4100
H52: IVECO | I52: DAILY | J52: 2014 | K52: L4H3 | L52: 4100
H53: MERCEDES | I53: CITAN | J53: 2012 | K53: L1H1 | L53: 2313
H54: MERCEDES | I54: CITAN | J54: 2012 | K54: L2H1 | L54: 2697
H55: MERCEDES | I55: CITAN | J55: 2012 | K55: L3H1 | L55: 3081
H56: MERCEDES | I56: SPRINTER | J56: 2006 | K56: L1H1 | L56: 3250
H57: MERCEDES | I57: SPRINTER | J57: 2006 | K57: L1H2 | L57: 3250
H58: MERCEDES | I58: SPRINTER | J58: 2006 | K58: L2H1 | L58: 3665
H59: MERCEDES | I59: SPRINTER | J59: 2006 | K59: L2H2 | L59: 3665
H60: MERCEDES | I60: SPRINTER | J60: 2006 | K60: L2H3 | L60: 3665
H61: MERCEDES | I61: SPRINTER | J61: 2006 | K61: L3H2 | L61: 4325
H62: MERCEDES | I62: SPRINTER | J62: 2006 | K62: L3H3 | L62: 4325
H63: MERCEDES | I63: SPRINTER | J63: 2006 | K63: L4H2 | L63: 4325XL
H64: MERCEDES | I64: SPRINTER | J64: 2006 | K64: L4H3 | L64: 4325XL
H65: MERCEDES | I65: VITO | J65: 2014 | K65: L1H1 | L65: 3200
H66: MERCEDES | I66: VITO | J66: 2014 | K66: L2H1 | L66: 3200
H67: MERCEDES | I67: VITO | J67: 2014 | K67: L3H1 | L67: 3430
H68: NISSAN | I68: NV_200 | J68: 2009 | K68: L1H1 | L68: 2725
H69: NISSAN | I69: NV_300 | J69: 2016 | K69: L1H1 | L69: 3098
H70: NISSAN | I70: NV_300 | J70: 2016 | K70: L1H2 | L70: 3498
H71: NISSAN | I71: NV_300 | J71: 2016 | K71: L2H1 | L71: 3498
H72: NISSAN | I72: NV_300 | J72: 2016 | K72: L2H2 | L72: 3498
H73: NISSAN | I73: NV_400_PROPULSION | J73: 2010 | K73: L3H2 | L73: 3682
H74: NISSAN | I74: NV_400_PROPULSION | J74: 2010 | K74: L3H3 | L74: 3682
H75: NISSAN | I75: NV_400_PROPULSION | J75: 2010 | K75: L4H2 | L75: 4332
H76: NISSAN | I76: NV_400_PROPULSION | J76: 2010 | K76: L4H3 | L76: 4332
... H106: PEUGEOT | I106: BOXER | J106: 2006 | K106: L3H3 | L106: 4035
H107: PEUGEOT | I107: BOXER | J107: 2006 | K107: L4H2 | L107: 4035XL
H108: PEUGEOT | I108: BOXER | J108: 2006 | K108: L4H3 | L108: 4035XL
H109: PEUGEOT | I109: EXPERT | J109: 2016 | K109: L2H1 | L109: 3275
H110: PEUGEOT | I110: PARTNER | J110: 2008 | K110: L1H1 | L110: 2728
H111: PEUGEOT | I111: PARTNER | J111: 2008 | K111: L2H1 | L111: 2728
H112: RENAULT | I112: KANGOO | J112: 2013 | K112: L0H1 | L112: 2313
H113: RENAULT | I113: KANGOO | J113: 2013 | K113: L1H1 | L113: 2697
H114: RENAULT | I114: KANGOO | J114: 2013 | K114: L2H1 | L114: 3081
H115: RENAULT | I115: MASTER_PROPULSION | J115: 2014 | K115: L3H2 | L115: 3682
H116: RENAULT | I116: MASTER_PROPULSION | J116: 2014 | K116: L3H3 | L116: 3682
H117: RENAULT | I117: MASTER_PROPULSION | J117: 2014 | K117: L4H2 | L117: 4332
H118: RENAULT | I118: MASTER_PROPULSION | J118: 2014 | K118: L4H3 | L118: 4332
H119: RENAULT | I119: MASTER_TRACTION | J119: 2014 | K119: L1H1 | L119: 3182
H120: RENAULT | I120: MASTER_TRACTION | J120: 2014 | K120: L1H2 | L120: 3182
... H135: VOLKSWAGEN | I135: CRAFTER_TRACTION | J135: 2017 | K135: L4H4 | L135: 4490
H136: VOLKSWAGEN | I136: CRAFTER_TRACTION | J136: 2017 | K136: L5H3 | L136: 4490XL
H137: VOLKSWAGEN | I137: CRAFTER_TRACTION | J137: 2017 | K137: L5H4 | L137: 4490XL
H138: VOLKSWAGEN | I138: CRAFTER_PROPULSION | J138: 2017 | K138: L3H2 | L138: 3640
H139: VOLKSWAGEN | I139: CRAFTER_PROPULSION | J139: 2017 | K139: L3H3 | L139: 3640
H140: VOLKSWAGEN | I140: CRAFTER_PROPULSION | J140: 2017 | K140: L4H3 | L140: 4490
H141: VOLKSWAGEN | I141: CRAFTER_PROPULSION | J141: 2017 | K141: L4H4 | L141: 4490
H142: VOLKSWAGEN | I142: CRAFTER_PROPULSION | J142: 2017 | K142: L5H3 | L142: 4490XL
H143: VOLKSWAGEN | I143: CRAFTER_PROPULSION | J143: 2017 | K143: L5H4 | L143: 4490XL
...

Sheet MASTER L2H2
A1: Raccourci | C1: Référence | D1: Désignation
A3: A : LES PROTECTIONS
A4: =IFERROR(VLOOKUP(C4,base!N:AK,10,FALSE),"") | B4: PLANCHER | C4: 0963 941 328 | D4: =IFERROR(VLOOKUP(C4,base!N:AS,32,FALSE),"")
A5: =IFERROR(VLOOKUP(C5,base!N:AK,10,FALSE),"") | B5: PROTECTIONS_LATERALES | C5: 0963 941 329 | D5: =IFERROR(VLOOKUP(C5,base!N:AS,32,FALSE),"")
A6: =IFERROR(VLOOKUP(C6,base!N:AK,10,FALSE),"") | B6: PASSAGE_DE_ROUES | C6: 0963 941 331 | D6: =IFERROR(VLOOKUP(C6,base!N:AS,32,FALSE),"")
A7: =IFERROR(VLOOKUP(C7,base!N:AK,10,FALSE),"") | B7: KIT_DE_PROTECTION | C7: 0963 941 333
D8: PROTECTIONS_LATERALES
A9: B : L'AMENAGEMENT | D9: PASSAGE_DE_ROUES
A10: Côté Gauche : | D10: KIT_DE_PROTECTION
A11: MUOK11 | C11: =IFERROR(VLOOKUP(A11,base!B:AM,13,FALSE),"") -> 0963 532 011 | D11: =IFERROR(VLOOKUP(A11,base!B:AS,44,FALSE),"") -> CAISSON PASSAGE DE ROUE PLAQUE-MUOK11
A12: MLR3 | C12: =IFERROR(VLOOKUP(A12,base!B:AM,13,FALSE),"") -> 0963 547 703 | D12: =IFERROR(VLOOKUP(A12,base!B:AS,44,FALSE),"") -> ETAGÈRE-DE-STOCKAGE-À-REBORD-MLR3
A13: MUOB31 | C13: =IFERROR(VLOOKUP(A13,base!B:AM,13,FALSE),"") -> 0963 533 031 | D13: =IFERROR(VLOOKUP(A13,base!B:AS,44,FALSE),"") -> CAISSON PASSAGE DE ROUE OUVERT-MUOB31
A14: MLBR24 | C14: =IFERROR(VLOOKUP(A14,base!B:AM,13,FALSE),"") -> 0963 548 724 | D14: =IFERROR(VLOOKUP(A14,base!B:AS,44,FALSE),"") -> ETAGÈRE-DE-STOCKAGE-6-BOITES-MLBR24
A15: MADL4L | C15: =IFERROR(VLOOKUP(A15,base!B:AM,13,FALSE),"") -> 0963 577 004 | D15: =IFERROR(VLOOKUP(A15,base!B:AS,44,FALSE),"") -> PAIRE-DE-REHAUSSES-MADL4
A16: MLR11 | C16: =IFERROR(VLOOKUP(A16,base!B:AM,13,FALSE),"") -> 0963 547 711 | D16: =IFERROR(VLOOKUP(A16,base!B:AS,44,FALSE),"") -> ETAGÈRE-DE-STOCKAGE-À-REBORD-MLR11
A17: MADL10M | C17: =IFERROR(VLOOKUP(A17,base!B:AM,13,FALSE),"") -> 0963 577 010 | D17: =IFERROR(VLOOKUP(A17,base!B:AS,44,FALSE),"") -> PAIRE-DE-REHAUSSES-MADL10
A18: MADL11L | C18: =IFERROR(VLOOKUP(A18,base!B:AM,13,FALSE),"") -> 0963 577 011 | D18: =IFERROR(VLOOKUP(A18,base!B:AS,44,FALSE),"") -> PAIRE-DE-REHAUSSES-MADL11
A19: MADL11M | C19: =IFERROR(VLOOKUP(A19,base!B:AM,13,FALSE),"") -> 0963 577 011 | D19: =IFERROR(VLOOKUP(A19,base!B:AS,44,FALSE),"") -> PAIRE-DE-REHAUSSES-MADL11
A20: LW5 | C20: =IFERROR(VLOOKUP(A20,base!B:AM,13,FALSE),"") -> 0963 545 607 | D20: =IFERROR(VLOOKUP(A20,base!B:AS,44,FALSE),"") -> BAC POUR PIECES LONGUES-MLW5
A21: MKM532 | C21: =IFERROR(VLOOKUP(A21,base!B:AM,13,FALSE),"") -> 0963 542 532 | D21: =IFERROR(VLOOKUP(A21,base!B:AS,44,FALSE),"") -> MODULE POUR 2 COFFRETS -MKM532
A22: MKM533 | C22: =IFERROR(VLOOKUP(A22,base!B:AM,13,FALSE),"") -> 0963 542 533 | D22: =IFERROR(VLOOKUP(A22,base!B:AS,44,FALSE),"") -> MODULE COFFRETS MKM533
C23: =IFERROR(VLOOKUP(A23,base!B:AM,13,FALSE),"") | D23: =IFERROR(VLOOKUP(A23,base!B:AS,44,FALSE),"")
A24: Au choix : | C24: =IFERROR(VLOOKUP(A24,base!B:AM,13,FALSE),"") | D24: =IFERROR(VLOOKUP(A24,base!B:AS,44,FALSE),"")
A25: MSBS | C25: =IFERROR(VLOOKUP(A25,base!B:AM,13,FALSE),"") -> 0963 022 030 | D25: =IFERROR(VLOOKUP(A25,base!B:AS,44,FALSE),"") -> KIT-DE-FIXATION-LATERAL-MSBS
A26: BSS | C26: =IFERROR(VLOOKUP(A26,base!B:AM,13,FALSE),"") -> 0963 80 502 | D26: =IFERROR(VLOOKUP(A26,base!B:AS,44,FALSE),"") -> KIT DE FIXATION MONTAGE FLOTTANT
A27: BSS9 | C27: =IFERROR(VLOOKUP(A27,base!B:AM,13,FALSE),"") -> 0963 940 998 | D27: =IFERROR(VLOOKUP(A27,base!B:AS,44,FALSE),"") -> Kit de fixation montage flottant 9mm
A28: PM | C28: =IFERROR(VLOOKUP(A28,base!B:AM,13,FALSE),"") -> 0996 32 | D28: =IFERROR(VLOOKUP(A28,base!B:AS,44,FALSE),"") -> Prémontage
A30: AMENAGEMENT | C30: =IFERROR(VLOOKUP(A30,base!B:AM,13,FALSE),"") | D30: =IFERROR(VLOOKUP(A30,base!B:AS,44,FALSE),"")
A31: Côté Droit : | C31: =IFERROR(VLOOKUP(A31,base!B:AM,13,FALSE),"") | D31: =IFERROR(VLOOKUP(A31,base!B:AS,44,FALSE),"")
A32: MWD380 | C32: =IFERROR(VLOOKUP(A32,base!B:AM,13,FALSE),"") -> 0963 535 380 | D32: =IFERROR(VLOOKUP(A32,base!B:AS,44,FALSE),"") -> CAISSON PASSAGE DE ROUE ETABLI EX-MWD380
A33: MKS12 | C33: =IFERROR(VLOOKUP(A33,base!B:AM,13,FALSE),"") -> 0963 543 412 | D33: =IFERROR(VLOOKUP(A33,base!B:AS,44,FALSE),"") -> ARMOIRE MKS12
A34: MSM32 | C34: =IFERROR(VLOOKUP(A34,base!B:AM,13,FALSE),"") -> 0963 541 132 | D34: =IFERROR(VLOOKUP(A34,base!B:AS,44,FALSE),"") -> MODULE TIROIRS-MSM32
A35: MLR13 | C35: =IFERROR(VLOOKUP(A35,base!B:AM,13,FALSE),"") -> 0963 547 713 | D35: =IFERROR(VLOOKUP(A35,base!B:AS,44,FALSE),"") -> ETAGÈRE-DE-STOCKAGE-À-REBORD-MLR13
A36: MADL10US | C36: =IFERROR(VLOOKUP(A36,base!B:AM,13,FALSE),"") -> 0963 577 010 | D36: =IFERROR(VLOOKUP(A36,base!B:AS,44,FALSE),"") -> PAIRE-DE-REHAUSSES-MADL10
... A38: MRA18 | C38: =IFERROR(VLOOKUP(A38,base!B:AM,13,FALSE),"") -> 0963 546 618 | D38: =IFERROR(VLOOKUP(A38,base!B:AS,44,FALSE),"") -> ELÉMENT-CADRE-DE-FINITION-MRA18
C39: =IFERROR(VLOOKUP(A39,base!B:AM,13,FALSE),"") | D39: =IFERROR(VLOOKUP(A39,base!B:AS,44,FALSE),"")
A40: Au choix : | C40: =IFERROR(VLOOKUP(A40,base!B:AM,13,FALSE),"") | D40: =IFERROR(VLOOKUP(A40,base!B:AS,44,FALSE),"")
A41: MSBS | C41: =IFERROR(VLOOKUP(A41,base!B:AM,13,FALSE),"") -> 0963 022 030 | D41: =IFERROR(VLOOKUP(A41,base!B:AS,44,FALSE),"") -> KIT-DE-FIXATION-LATERAL-MSBS
A42: BSS | C42: =IFERROR(VLOOKUP(A42,base!B:AM,13,FALSE),"") -> 0963 80 502 | D42: =IFERROR(VLOOKUP(A42,base!B:AS,44,FALSE),"") -> KIT DE FIXATION MONTAGE FLOTTANT
A43: BSS9 | C43: =IFERROR(VLOOKUP(A43,base!B:AM,13,FALSE),"") -> 0963 940 998 | D43: =IFERROR(VLOOKUP(A43,base!B:AS,44,FALSE),"") -> Kit de fixation montage flottant 9mm
A44: PM | C44: =IFERROR(VLOOKUP(A44,base!B:AM,13,FALSE),"") -> 0996 32 | D44: =IFERROR(VLOOKUP(A44,base!B:AS,44,FALSE),"") -> Prémontage
A46: AMENAGEMENT | C46: =IFERROR(VLOOKUP(A46,base!B:AM,13,FALSE),"") | D46: =IFERROR(VLOOKUP(A46,base!B:AS,44,FALSE),"")
A47: Dos de Cabine : | C47: =IFERROR(VLOOKUP(A47,base!B:AM,13,FALSE),"") | D47: =IFERROR(VLOOKUP(A47,base!B:AS,44,FALSE),"")
C48: =IFERROR(VLOOKUP(A48,base!B:AM,13,FALSE),"") | D48: =IFERROR(VLOOKUP(A48,base!B:AS,44,FALSE),"")
C50: =IFERROR(VLOOKUP(A50,base!B:AM,13,FALSE),"") | D50: =IFERROR(VLOOKUP(A50,base!B:AS,44,FALSE),"")
A51: Au choix : | C51: =IFERROR(VLOOKUP(A51,base!B:AM,13,FALSE),"") | D51: =IFERROR(VLOOKUP(A51,base!B:AS,44,FALSE),"")
A52: MSBS | C52: =IFERROR(VLOOKUP(A52,base!B:AM,13,FALSE),"") -> 0963 022 030 | D52: =IFERROR(VLOOKUP(A52,base!B:AS,44,FALSE),"") -> KIT-DE-FIXATION-LATERAL-MSBS
A53: BSS | C53: =IFERROR(VLOOKUP(A53,base!B:AM,13,FALSE),"") -> 0963 80 502 | D53: =IFERROR(VLOOKUP(A53,base!B:AS,44,FALSE),"") -> KIT DE FIXATION MONTAGE FLOTTANT
A54: BSS9 | C54: =IFERROR(VLOOKUP(A54,base!B:AM,13,FALSE),"") -> 0963 940 998 | D54: =IFERROR(VLOOKUP(A54,base!B:AS,44,FALSE),"") -> Kit de fixation montage flottant 9mm
A55: PM | C55: =IFERROR(VLOOKUP(A55,base!B:AM,13,FALSE),"") -> 0996 32 | D55: =IFERROR(VLOOKUP(A55,base!B:AS,44,FALSE),"") -> Prémontage
A57: C : LES ACCESSOIRES
A58: MAM20 | C58: =IFERROR(VLOOKUP(A58,base!B:AM,13,FALSE),"") -> 0963 580 120 | D58: =IFERROR(VLOOKUP(A58,base!B:AS,44,FALSE),"") -> Tapis antidérapant MAM20
A59: MAM40 | C59: =IFERROR(VLOOKUP(A59,base!B:AM,13,FALSE),"") -> 0963 580 140 | D59: =IFERROR(VLOOKUP(A59,base!B:AS,44,FALSE),"") -> Tapis antidérapant MAM40
A60: MAM90 | C60: =IFERROR(VLOOKUP(A60,base!B:AM,13,FALSE),"") -> 0963 580 190 | D60: =IFERROR(VLOOKUP(A60,base!B:AS,44,FALSE),"") -> Tapis antidérapant MAM90
A61: DT120 | C61: =IFERROR(VLOOKUP(A61,base!B:AM,13,FALSE),"") -> 0963 50 013 | D61: =IFERROR(VLOOKUP(A61,base!B:AS,44,FALSE),"") -> BASE PIVOTANTE POUR ETAU DT120
A62: PS120 | C62: =IFERROR(VLOOKUP(A62,base!B:AM,13,FALSE),"") -> 0963 50 003 | D62: =IFERROR(VLOOKUP(A62,base!B:AS,44,FALSE),"") -> ETAU 120 MM
A63: FL1 | C63: =IFERROR(VLOOKUP(A63,base!B:AM,13,FALSE),"") -> 0963 80 900 | D63: =IFERROR(VLOOKUP(A63,base!B:AS,44,FALSE),"") -> EXTINCTEUR FL1
A64: ASM1 | C64: =IFERROR(VLOOKUP(A64,base!B:AM,13,FALSE),"") -> 0963 80 915 | D64: =IFERROR(VLOOKUP(A64,base!B:AS,44,FALSE),"") -> LAMPE DE TRAVAIL ASM1
A65: LG1000 | C65: =IFERROR(VLOOKUP(A65,base!B:AM,13,FALSE),"") -> 0963 80 552 | D65: =IFERROR(VLOOKUP(A65,base!B:AS,44,FALSE),"") -> SANGLE + 2 CROCHETS LG 1000
A66: MAM22 | C66: =IFERROR(VLOOKUP(A66,base!B:AM,13,FALSE),"") -> 0963 580 122 | D66: =IFERROR(VLOOKUP(A66,base!B:AS,44,FALSE),"") -> Tapis antidérapant MAM22
A67: MAM75 | C67: =IFERROR(VLOOKUP(A67,base!B:AM,13,FALSE),"") -> 0963 580 175 | D67: =IFERROR(VLOOKUP(A67,base!B:AS,44,FALSE),"") -> Tapis antidérapant MAM75
A68: KKT547 | C68: =IFERROR(VLOOKUP(A68,base!B:AM,13,FALSE),"") -> 0963 72 035 | D68: =IFERROR(VLOOKUP(A68,base!B:AS,44,FALSE),"") -> COFFRET ORSY 8.4.2 TRANSPARENT 4 BOXS
A69: KKT541 | C69: =IFERROR(VLOOKUP(A69,base!B:AM,13,FALSE),"") -> 0963 72 031 | D69: =IFERROR(VLOOKUP(A69,base!B:AS,44,FALSE),"") -> COFFRET ORSY 8.4.1 TRANSPARENT 10 BOXS
... A72: HTF12 | C72: =IFERROR(VLOOKUP(A72,base!B:AM,13,FALSE),"") -> 0963 80 893 | D72: =IFERROR(VLOOKUP(A72,base!B:AS,44,FALSE),"") -> GUIDE POUR MASTER MOVANO 2010 HTF12
A73: =IFERROR(VLOOKUP(C73,base!N:AK,10,FALSE),"") | D73: =IFERROR(VLOOKUP(C73,base!N:AS,32,FALSE),"")
A74: =IFERROR(VLOOKUP(C74,base!N:AK,10,FALSE),"") | D74: =IFERROR(VLOOKUP(C74,base!N:AS,32,FALSE),"")
A75: =IFERROR(VLOOKUP(C75,base!N:AK,10,FALSE),"") | D75: =IFERROR(VLOOKUP(C75,base!N:AS,32,FALSE),"")
A76: =IFERROR(VLOOKUP(C76,base!N:AK,10,FALSE),"") | D76: =IFERROR(VLOOKUP(C76,base!N:AS,32,FALSE),"")
A78: D : LES OPTIONS
A79: VLD | C79: =IFERROR(VLOOKUP(A79,base!B:AM,13,FALSE),"") -> 5964 000 330 | D79: =IFERROR(VLOOKUP(A79,base!B:AS,44,FALSE),"") -> Van Lock Double | E79: 5964 000 330
A80: SHS02 | C80: =IFERROR(VLOOKUP(A80,base!B:AM,13,FALSE),"") -> 0963 580 889 | D80: =IFERROR(VLOOKUP(A80,base!B:AS,44,FALSE),"") -> SERRURE-2PC-VEH-SATURN-EVO-SHS02 | E80: 0963 580 889
A81: RE503 | C81: =IFERROR(VLOOKUP(A81,base!B:AM,13,FALSE),"") -> 0963 940 999 | D81: =IFERROR(VLOOKUP(A81,base!B:AS,44,FALSE),"") -> Rail à bride encastré + rail pavillon pour plancher 12 mm | E81: 0963 940 999
A82: LOT 2 BARRES | C82: 0963 99 300 | D82: Barres longueur 2000 mm avec mousses de protection | E82: 0963 99 300
D83: =IFERROR(VLOOKUP(C83,base!N:AS,32,FALSE),"")
A86: E : LES FORFAITS MONTAGES
A87: =IFERROR(VLOOKUP(C87,[2]base!N:AK,10,FALSE),"") -> Carrosserie montage 1H niveau 1 | C87: 0996 320 000 | D87: =IFERROR(VLOOKUP(C87,[2]base!N:AS,32,FALSE),"") -> Carrosserie montage 1H niveau 1
A88: =IFERROR(VLOOKUP(C88,[2]base!N:AK,10,FALSE),"") -> carrosserie montage 1H niveau 2 | C88: 0996 320 001 | D88: =IFERROR(VLOOKUP(C88,[2]base!N:AS,32,FALSE),"") -> carrosserie montage 1H niveau 2
A89: =IFERROR(VLOOKUP(C89,[2]base!N:AK,10,FALSE),"") -> carrosserie montage 1H niveau 3 | C89: 0996 320 002 | D89: =IFERROR(VLOOKUP(C89,[2]base!N:AS,32,FALSE),"") -> carrosserie montage 1H niveau 3
A90: =IFERROR(VLOOKUP(C90,[2]base!N:AK,10,FALSE),"") -> carrosserie montage 1H niveau 4 | C90: 0996 320 003 | D90: =IFERROR(VLOOKUP(C90,[2]base!N:AS,32,FALSE),"") -> carrosserie montage 1H niveau 4
A91: =IFERROR(VLOOKUP(C91,[2]base!N:AK,10,FALSE),"") -> carrosserie montage 1H niveau 5 | C91: 0996 320 004 | D91: =IFERROR(VLOOKUP(C91,[2]base!N:AS,32,FALSE),"") -> carrosserie montage 1H niveau 5
A92: =IFERROR(VLOOKUP(C92,[2]base!N:AK,10,FALSE),"") -> OM montage 1 journée | C92: 0996 320 005 | D92: =IFERROR(VLOOKUP(C92,[2]base!N:AS,32,FALSE),"") -> OM montage 1 journée
A93: =IFERROR(VLOOKUP(C93,[2]base!N:AK,10,FALSE),"") -> OM montage 1/2 journée | C93: 0996 320 006 | D93: =IFERROR(VLOOKUP(C93,[2]base!N:AS,32,FALSE),"") -> OM montage 1/2 journée
A94: MONTAGE DES OPTIONS | D94: à PRECISER
D98: =IFERROR(VLOOKUP(A98,base!B:AS,44,FALSE),"")
A99: =IFERROR(VLOOKUP(C99,base!N:AK,10,FALSE),"") | D99: =IFERROR(VLOOKUP(C99,base!N:AS,32,FALSE),"")
A100: =IFERROR(VLOOKUP(C100,base!N:AK,10,FALSE),"") | D100: =IFERROR(VLOOKUP(C100,base!N:AS,32,FALSE),"")
A102: SAUVEGARDE
A103: Formules initiales | D103: =IFERROR(VLOOKUP(C103,base!N:AS,32,FALSE),"")
A104: =IFERROR(VLOOKUP(C104,base!N:AK,10,FALSE),"") | D104: =IFERROR(VLOOKUP(C104,base!N:AS,32,FALSE),"")
A105: =IFERROR(VLOOKUP(C105,base!N:AK,10,FALSE),"") | D105: =IFERROR(VLOOKUP(C105,base!N:AS,32,FALSE),"")
A106: =IFERROR(VLOOKUP(C106,base!N:AK,10,FALSE),"") | D106: =IFERROR(VLOOKUP(C106,base!N:AS,32,FALSE),"")
A107: =IFERROR(VLOOKUP(C107,base!N:AK,10,FALSE),"") | D107: =IFERROR(VLOOKUP(C107,base!N:AS,32,FALSE),"")
A108: =IFERROR(VLOOKUP(C108,base!N:AK,10,FALSE),"") | D108: =IFERROR(VLOOKUP(C108,base!N:AS,32,FALSE),"")
C109: =IFERROR(VLOOKUP(A109,base!B:AM,13,FALSE),"") | D109: =IFERROR(VLOOKUP(A109,base!B:AS,44,FALSE),"")
C110: =IFERROR(VLOOKUP(A110,base!B:AM,13,FALSE),"") | D110: =IFERROR(VLOOKUP(A110,base!B:AS,44,FALSE),"")
C111: =IFERROR(VLOOKUP(A111,base!B:AM,13,FALSE),"") | D111: =IFERROR(VLOOKUP(A111,base!B:AS,44,FALSE),"")
C112: =IFERROR(VLOOKUP(A112,base!B:AM,13,FALSE),"") | D112: =IFERROR(VLOOKUP(A112,base!B:AS,44,FALSE),"")

Sheet KANGOO
A1: Raccourci | C1: Référence | D1: Désignation
A3: A : LES PROTECTIONS
A4: =IFERROR(VLOOKUP(C4,base!N:AK,10,FALSE),"") -> TYP196L1H1PLSTD | B4: PLANCHER | C4: 0963 940 709 | D4: =IFERROR(VLOOKUP(C4,base!N:AS,32,FALSE),"") -> TYP196 L1H1 2013 PLANCHER 9mm
A5: =IFERROR(VLOOKUP(C5,base!N:AK,10,FALSE),"") -> TYP196L1H1HASTD | B5: PROTECTIONS_LATERALES | C5: 0963 940 710 | D5: =IFERROR(VLOOKUP(C5,base!N:AS,32,FALSE),"") -> TYP196 L1H1 2013 PROT LAT HDF 4mm
A6: =IFERROR(VLOOKUP(C6,base!N:AK,10,FALSE),"") | B6: PASSAGE_DE_ROUES | C6: 0963 940 707 | D6: =IFERROR(VLOOKUP(C6,base!N:AS,32,FALSE),"")
A7: =IFERROR(VLOOKUP(C7,base!N:AK,10,FALSE),"") -> TYP196L1H1KITSTD | B7: KIT_DE_PROTECTION | C7: 0963 940 705 | D7: =IFERROR(VLOOKUP(C7,base!N:AS,32,FALSE),"") -> TYP196 L1H1 2013 KIT COMPLET ECO
A9: B : L'AMENAGEMENT
A10: Côté Gauche :
A11: MUMK36 | C11: =IFERROR(VLOOKUP(A11,base!B:AM,13,FALSE),"") -> 0963 534 036 | D11: =IFERROR(VLOOKUP(A11,base!B:AS,44,FALSE),"") -> CAISSON PASSAGE DE ROUE CLAPET-MUMK36
A12: MLR52 | C12: =IFERROR(VLOOKUP(A12,base!B:AM,13,FALSE),"") -> 0963 547 752 | D12: =IFERROR(VLOOKUP(A12,base!B:AS,44,FALSE),"") -> ETAGÈRE-DE-STOCKAGE-À-REBORD-MLR52
A13: MLBR32 | C13: =IFERROR(VLOOKUP(A13,base!B:AM,13,FALSE),"") -> 0963 548 732 | D13: =IFERROR(VLOOKUP(A13,base!B:AS,44,FALSE),"") -> ETAGÈRE-DE-STOCKAGE-7-BOITES-MLBR32
A14: MRA30 | C14: =IFERROR(VLOOKUP(A14,base!B:AM,13,FALSE),"") -> 0963 546 630 | D14: =IFERROR(VLOOKUP(A14,base!B:AS,44,FALSE),"") -> ELÉMENT-CADRE-DE-FINITION-MRA30
C15: =IFERROR(VLOOKUP(A15,base!B:AM,13,FALSE),"") | D15: =IFERROR(VLOOKUP(A15,base!B:AS,44,FALSE),"")
C16: =IFERROR(VLOOKUP(A16,base!B:AM,13,FALSE),"") | D16: =IFERROR(VLOOKUP(A16,base!B:AS,44,FALSE),"")
C17: =IFERROR(VLOOKUP(A17,base!B:AM,13,FALSE),"") | D17: =IFERROR(VLOOKUP(A17,base!B:AS,44,FALSE),"")
C18: =IFERROR(VLOOKUP(A18,base!B:AM,13,FALSE),"") | D18: =IFERROR(VLOOKUP(A18,base!B:AS,44,FALSE),"")
C19: =IFERROR(VLOOKUP(A19,base!B:AM,13,FALSE),"") | D19: =IFERROR(VLOOKUP(A19,base!B:AS,44,FALSE),"")
A20: Au choix : | C20: =IFERROR(VLOOKUP(A20,base!B:AM,13,FALSE),"") | D20: =IFERROR(VLOOKUP(A20,base!B:AS,44,FALSE),"")
A21: MSBS | C21: =IFERROR(VLOOKUP(A21,base!B:AM,13,FALSE),"") -> 0963 022 030 | D21: =IFERROR(VLOOKUP(A21,base!B:AS,44,FALSE),"") -> KIT-DE-FIXATION-LATERAL-MSBS
A22: BSS | C22: =IFERROR(VLOOKUP(A22,base!B:AM,13,FALSE),"") -> 0963 80 502 | D22: =IFERROR(VLOOKUP(A22,base!B:AS,44,FALSE),"") -> KIT DE FIXATION MONTAGE FLOTTANT
A23: BSS9 | C23: =IFERROR(VLOOKUP(A23,base!B:AM,13,FALSE),"") -> 0963 940 998 | D23: =IFERROR(VLOOKUP(A23,base!B:AS,44,FALSE),"") -> Kit de fixation montage flottant 9mm
A24: PM | C24: =IFERROR(VLOOKUP(A24,base!B:AM,13,FALSE),"") -> 0996 32 | D24: =IFERROR(VLOOKUP(A24,base!B:AS,44,FALSE),"") -> Prémontage
A26: AMENAGEMENT | C26: =IFERROR(VLOOKUP(A26,base!B:AM,13,FALSE),"") | D26: =IFERROR(VLOOKUP(A26,base!B:AS,44,FALSE),"")
A27: Côté Droit : | C27: =IFERROR(VLOOKUP(A27,base!B:AM,13,FALSE),"") | D27: =IFERROR(VLOOKUP(A27,base!B:AS,44,FALSE),"")
A28: ZSA995 | C28: =IFERROR(VLOOKUP(A28,base!B:AM,13,FALSE),"") -> 0963 80 245 | D28: =IFERROR(VLOOKUP(A28,base!B:AS,44,FALSE),"") -> Rail Alu 995 mm ZSA 995
A29: RZG1000 | C29: =IFERROR(VLOOKUP(A29,base!B:AM,13,FALSE),"") -> 0963 80 206 | D29: =IFERROR(VLOOKUP(A29,base!B:AS,44,FALSE),"") -> SANGLE D'ARRIMAGE RZG 1000
C30: =IFERROR(VLOOKUP(A30,base!B:AM,13,FALSE),"") | D30: =IFERROR(VLOOKUP(A30,base!B:AS,44,FALSE),"")
C31: =IFERROR(VLOOKUP(A31,base!B:AM,13,FALSE),"") | D31: =IFERROR(VLOOKUP(A31,base!B:AS,44,FALSE),"")
C32: =IFERROR(VLOOKUP(A32,base!B:AM,13,FALSE),"") | D32: =IFERROR(VLOOKUP(A32,base!B:AS,44,FALSE),"")
C33: =IFERROR(VLOOKUP(A33,base!B:AM,13,FALSE),"") | D33: =IFERROR(VLOOKUP(A33,base!B:AS,44,FALSE),"")
C34: =IFERROR(VLOOKUP(A34,base!B:AM,13,FALSE),"") | D34: =IFERROR(VLOOKUP(A34,base!B:AS,44,FALSE),"")
C35: =IFERROR(VLOOKUP(A35,base!B:AM,13,FALSE),"") | D35: =IFERROR(VLOOKUP(A35,base!B:AS,44,FALSE),"")
A36: Au choix : | C36: =IFERROR(VLOOKUP(A36,base!B:AM,13,FALSE),"") | D36: =IFERROR(VLOOKUP(A36,base!B:AS,44,FALSE),"")
A37: MSBS | C37: =IFERROR(VLOOKUP(A37,base!B:AM,13,FALSE),"") -> 0963 022 030 | D37: =IFERROR(VLOOKUP(A37,base!B:AS,44,FALSE),"") -> KIT-DE-FIXATION-LATERAL-MSBS
A38: BSS | C38: =IFERROR(VLOOKUP(A38,base!B:AM,13,FALSE),"") -> 0963 80 502 | D38: =IFERROR(VLOOKUP(A38,base!B:AS,44,FALSE),"") -> KIT DE FIXATION MONTAGE FLOTTANT
A39: BSS9 | C39: =IFERROR(VLOOKUP(A39,base!B:AM,13,FALSE),"") -> 0963 940 998 | D39: =IFERROR(VLOOKUP(A39,base!B:AS,44,FALSE),"") -> Kit de fixation montage flottant 9mm
A40: PM | C40: =IFERROR(VLOOKUP(A40,base!B:AM,13,FALSE),"") -> 0996 32 | D40: =IFERROR(VLOOKUP(A40,base!B:AS,44,FALSE),"") -> Prémontage
A42: AMENAGEMENT | C42: =IFERROR(VLOOKUP(A42,base!B:AM,13,FALSE),"") | D42: =IFERROR(VLOOKUP(A42,base!B:AS,44,FALSE),"")
A43: Dos de Cabine : | C43: =IFERROR(VLOOKUP(A43,base!B:AM,13,FALSE),"") | D43: =IFERROR(VLOOKUP(A43,base!B:AS,44,FALSE),"")
A44: ZSA995 | C44: =IFERROR(VLOOKUP(A44,base!B:AM,13,FALSE),"") -> 0963 80 245 | D44: =IFERROR(VLOOKUP(A44,base!B:AS,44,FALSE),"") -> Rail Alu 995 mm ZSA 995
A45: RZG1000 | C45: =IFERROR(VLOOKUP(A45,base!B:AM,13,FALSE),"") -> 0963 80 206 | D45: =IFERROR(VLOOKUP(A45,base!B:AS,44,FALSE),"") -> SANGLE D'ARRIMAGE RZG 1000
A46: ZS10 | C46: =IFERROR(VLOOKUP(A46,base!B:AM,13,FALSE),"") -> 0963 80 202 | D46: =IFERROR(VLOOKUP(A46,base!B:AS,44,FALSE),"") -> RAIL D'ARRIMAGE ZS10
A47: RZG10_11 | C47: =IFERROR(VLOOKUP(A47,base!B:AM,13,FALSE),"") -> 0963 80 204 | D47: =IFERROR(VLOOKUP(A47,base!B:AS,44,FALSE),"") -> SANGLE D'ARRIMAGE RZG10/11
A48: Au choix : | C48: =IFERROR(VLOOKUP(A48,base!B:AM,13,FALSE),"") | D48: =IFERROR(VLOOKUP(A48,base!B:AS,44,FALSE),"")
... A52: PM | C52: =IFERROR(VLOOKUP(A52,base!B:AM,13,FALSE),"") -> 0996 32 | D52: =IFERROR(VLOOKUP(A52,base!B:AS,44,FALSE),"") -> Prémontage
A54: C : LES ACCESSOIRES
A55: MAM62 | C55: =IFERROR(VLOOKUP(A55,base!B:AM,13,FALSE),"") -> 0963 580 162 | D55: =IFERROR(VLOOKUP(A55,base!B:AS,44,FALSE),"") -> Tapis antidérapant MAM62
A56: MAM30 | C56: =IFERROR(VLOOKUP(A56,base!B:AM,13,FALSE),"") -> 0963 580 130 | D56: =IFERROR(VLOOKUP(A56,base!B:AS,44,FALSE),"") -> Tapis antidérapant MAM30
C57: =IFERROR(VLOOKUP(A57,base!B:AM,13,FALSE),"") | D57: =IFERROR(VLOOKUP(A57,base!B:AS,44,FALSE),"")
C59: =IFERROR(VLOOKUP(A59,base!B:AM,13,FALSE),"") | D59: =IFERROR(VLOOKUP(A59,base!B:AS,44,FALSE),"")
A60: =IFERROR(VLOOKUP(C60,base!N:AK,10,FALSE),"") | D60: =IFERROR(VLOOKUP(C60,base!N:AS,32,FALSE),"")
A61: =IFERROR(VLOOKUP(C61,base!N:AK,10,FALSE),"") | D61: =IFERROR(VLOOKUP(C61,base!N:AS,32,FALSE),"")
A62: =IFERROR(VLOOKUP(C62,base!N:AK,10,FALSE),"") | D62: =IFERROR(VLOOKUP(C62,base!N:AS,32,FALSE),"")
A63: =IFERROR(VLOOKUP(C63,base!N:AK,10,FALSE),"") | D63: =IFERROR(VLOOKUP(C63,base!N:AS,32,FALSE),"")
A65: D : LES OPTIONS
A66: VLD | C66: =IFERROR(VLOOKUP(A66,base!B:AM,13,FALSE),"") -> 5964 000 330 | D66: =IFERROR(VLOOKUP(A66,base!B:AS,44,FALSE),"") -> Van Lock Double
A67: SHS02 | C67: =IFERROR(VLOOKUP(A67,base!B:AM,13,FALSE),"") -> 0963 580 889 | D67: =IFERROR(VLOOKUP(A67,base!B:AS,44,FALSE),"") -> SERRURE-2PC-VEH-SATURN-EVO-SHS02
A73: E : LES FORFAITS MONTAGES
A74: =IFERROR(VLOOKUP(C74,[2]base!N:AK,10,FALSE),"") -> Carrosserie montage 1H niveau 1 | C74: 0996 320 000 | D74: =IFERROR(VLOOKUP(C74,[2]base!N:AS,32,FALSE),"") -> Carrosserie montage 1H niveau 1
A75: =IFERROR(VLOOKUP(C75,[2]base!N:AK,10,FALSE),"") -> carrosserie montage 1H niveau 2 | C75: 0996 320 001 | D75: =IFERROR(VLOOKUP(C75,[2]base!N:AS,32,FALSE),"") -> carrosserie montage 1H niveau 2
A76: =IFERROR(VLOOKUP(C76,[2]base!N:AK,10,FALSE),"") -> carrosserie montage 1H niveau 3 | C76: 0996 320 002 | D76: =IFERROR(VLOOKUP(C76,[2]base!N:AS,32,FALSE),"") -> carrosserie montage 1H niveau 3
A77: =IFERROR(VLOOKUP(C77,[2]base!N:AK,10,FALSE),"") -> carrosserie montage 1H niveau 4 | C77: 0996 320 003 | D77: =IFERROR(VLOOKUP(C77,[2]base!N:AS,32,FALSE),"") -> carrosserie montage 1H niveau 4
A78: =IFERROR(VLOOKUP(C78,[2]base!N:AK,10,FALSE),"") -> carrosserie montage 1H niveau 5 | C78: 0996 320 004 | D78: =IFERROR(VLOOKUP(C78,[2]base!N:AS,32,FALSE),"") -> carrosserie montage 1H niveau 5
A79: =IFERROR(VLOOKUP(C79,[2]base!N:AK,10,FALSE),"") -> OM montage 1 journée | C79: 0996 320 005 | D79: =IFERROR(VLOOKUP(C79,[2]base!N:AS,32,FALSE),"") -> OM montage 1 journée
A80: =IFERROR(VLOOKUP(C80,[2]base!N:AK,10,FALSE),"") -> OM montage 1/2 journée | C80: 0996 320 006 | D80: =IFERROR(VLOOKUP(C80,[2]base!N:AS,32,FALSE),"") -> OM montage 1/2 journée
A81: MONTAGE DES OPTIONS | D81: à PRECISER
D85: =IFERROR(VLOOKUP(A85,base!B:AS,44,FALSE),"")
A86: =IFERROR(VLOOKUP(C86,base!N:AK,10,FALSE),"") | D86: =IFERROR(VLOOKUP(C86,base!N:AS,32,FALSE),"")
A87: =IFERROR(VLOOKUP(C87,base!N:AK,10,FALSE),"") | D87: =IFERROR(VLOOKUP(C87,base!N:AS,32,FALSE),"")
A89: SAUVEGARDE
A90: Formules initiales | D90: =IFERROR(VLOOKUP(C90,base!N:AS,32,FALSE),"")
A91: =IFERROR(VLOOKUP(C91,base!N:AK,10,FALSE),"") | D91: =IFERROR(VLOOKUP(C91,base!N:AS,32,FALSE),"")
A92: =IFERROR(VLOOKUP(C92,base!N:AK,10,FALSE),"") | D92: =IFERROR(VLOOKUP(C92,base!N:AS,32,FALSE),"")
A93: =IFERROR(VLOOKUP(C93,base!N:AK,10,FALSE),"") | D93: =IFERROR(VLOOKUP(C93,base!N:AS,32,FALSE),"")
A94: =IFERROR(VLOOKUP(C94,base!N:AK,10,FALSE),"") | D94: =IFERROR(VLOOKUP(C94,base!N:AS,32,FALSE),"")
A95: =IFERROR(VLOOKUP(C95,base!N:AK,10,FALSE),"") | D95: =IFERROR(VLOOKUP(C95,base!N:AS,32,FALSE),"")
C96: =IFERROR(VLOOKUP(A96,base!B:AM,13,FALSE),"") | D96: =IFERROR(VLOOKUP(A96,base!B:AS,44,FALSE),"")
C97: =IFERROR(VLOOKUP(A97,base!B:AM,13,FALSE),"") | D97: =IFERROR(VLOOKUP(A97,base!B:AS,44,FALSE),"")
C98: =IFERROR(VLOOKUP(A98,base!B:AM,13,FALSE),"") | D98: =IFERROR(VLOOKUP(A98,base!B:AS,44,FALSE),"")
C99: =IFERROR(VLOOKUP(A99,base!B:AM,13,FALSE),"") | D99: =IFERROR(VLOOKUP(A99,base!B:AS,44,FALSE),"")

Sheet Bon de Commande
F1: Protections
B2: Réfs | C2: TARIFS 2020 | D2: Qtités | E2: TOTAUX
A4: Renault TRAFIC L1H1 empattement 3098 mm année millésime 2014 | E4: =VLOOKUP(A4,'listes déroulantes'!A7:B9,2,FALSE) -> TRAFIC
A5: A. Les PROTECTIONS : Au choix, selon le véhicule :
A7: KIT_DE_PROTECTION | B7: =IF($E$4="TRAFIC",VLOOKUP(A7,'Trafic L1H1'!$B$4:$C$7,2,FALSE),IF($E$4="MASTER_TRACTION",VLOOKUP(A7,'MASTER L2H2'!$B$4:$C$7,2,FALSE))) -> 0963 940 608 | C7: =IF($E$4="TRAFIC",VLOOKUP(B7,'Trafic L1H1'!$C$4:$E$7,7,FALSE),IF($E$4="MASTER_TRACTION",VLOOKUP(B7,'MASTER L2H2'!$C$4:$E$7,8,FALSE))) -> #REF! | D7: 1 | E7: =SUM(C7*D7) -> #REF!
A8: (Plancher 12mm + Protections Latérales 4,2mm + Passage de roues)
A9: PLANCHER | B9: =IF($E$4="TRAFIC",VLOOKUP(A9,'Trafic L1H1'!$B$4:$C$7,2,FALSE),IF($E$4="MASTER_TRACTION",VLOOKUP(A9,'MASTER L2H2'!$B$4:$C$7,2,FALSE))) -> 0963 940 604 | C9: =IF($E$4="TRAFIC",VLOOKUP(B9,'Trafic L1H1'!$C$4:$E$7,7,FALSE),IF($E$4="MASTER_TRACTION",VLOOKUP(B9,'MASTER L2H2'!$C$4:$E$7,8,FALSE))) -> #REF! | D9: 0 | E9: =SUM(C9*D9) -> #REF!
A10: PROTECTIONS_LATERALES | B10: =IF($E$4="TRAFIC",VLOOKUP(A10,'Trafic L1H1'!$B$4:$C$7,2,FALSE),IF($E$4="MASTER_TRACTION",VLOOKUP(A10,'MASTER L2H2'!$B$4:$C$7,2,FALSE))) -> 0963 940 607 | C10: =IF($E$4="TRAFIC",VLOOKUP(B10,'Trafic L1H1'!$C$4:$E$7,7,FALSE),IF($E$4="MASTER_TRACTION",VLOOKUP(B10,'MASTER L2H2'!$C$4:$E$7,8,FALSE))) -> #REF! | D10: 0 | E10: =SUM(C10*D10) -> #REF!
A11: PASSAGE_DE_ROUES | B11: =IF($E$4="TRAFIC",VLOOKUP(A11,'Trafic L1H1'!$B$4:$C$7,2,FALSE),IF($E$4="MASTER_TRACTION",VLOOKUP(A11,'MASTER L2H2'!$B$4:$C$7,2,FALSE))) -> 0963 940 602 | C11: =IF($E$4="TRAFIC",VLOOKUP(B11,'Trafic L1H1'!$C$4:$E$7,7,FALSE),IF($E$4="MASTER_TRACTION",VLOOKUP(B11,'MASTER L2H2'!$C$4:$E$7,8,FALSE))) -> #REF! | D11: 0 | E11: =SUM(C11*D11) -> #REF!
A12: … | D12: 0 | E12: =SUM(C12*D12) -> 0
A14: B. Les MODULES ORSYmobil prémontés pour : | D14: Qtités | E14: TOTAUX
A17: Côté Gauche | C17: =IF($E$4="TRAFIC",'Trafic L1H1'!#REF!,'MASTER L2H2'!#REF!) -> #REF! | D17: 1 | E17: =SUM(C17*D17) -> #REF!
A18: Côté Droit | C18: =IF($E$4="TRAFIC",'Trafic L1H1'!#REF!,'MASTER L2H2'!#REF!) -> #REF! | D18: 1 | E18: =SUM(C18*D18) -> #REF!
A19: Dos de Cabine | C19: =IF($E$4="TRAFIC",'Trafic L1H1'!#REF!,'MASTER L2H2'!#REF!) -> #REF! | D19: 1 | E19: =SUM(C19*D19) -> #REF!
A21: C. Les Accessoires : | D21: Qtités | E21: TOTAUX
A23: Selon détail joint | C23: =IF($E$4="TRAFIC",'Trafic L1H1'!#REF!,'MASTER L2H2'!#REF!) -> #REF! | D23: 1 | E23: =SUM(C23:C24)*D23 -> #REF!
A26: D. Les Options (livrées, posées) : | D26: Qtités | E26: TOTAUX
A28: Van Lock Double | B28: =VLOOKUP(A28,'Trafic L1H1'!D79:E82,2,FALSE) -> 5964 000 330 | C28: =VLOOKUP(B28,'Trafic L1H1'!C79:E82,8,FALSE) -> #REF! | D28: 0 | E28: =SUM(C28*D28) -> #REF!
A29: SERRURE-2PC-VEH-SATURN-EVO-SHS02 | B29: =VLOOKUP(A29,'Trafic L1H1'!D80:E83,2,FALSE) -> 0963 580 889 | C29: =VLOOKUP(B29,'Trafic L1H1'!C80:E83,8,FALSE) -> #REF! | D29: 0 | E29: =SUM(C29*D29) -> #REF!
A30: Rail à bride encastré + rail pavillon pour plancher 12 mm | B30: =VLOOKUP(A30,'Trafic L1H1'!D81:E84,2,FALSE) -> 0963 940 999 | C30: =VLOOKUP(B30,'Trafic L1H1'!C81:E84,8,FALSE) -> #REF! | D30: 0 | E30: =SUM(C30*D30) -> #REF!
A31: Barres longueur 2000 mm avec mousses de protection | B31: =VLOOKUP(A31,'Trafic L1H1'!D82:E85,2,FALSE) -> 0963 99 300 | C31: =VLOOKUP(B31,'Trafic L1H1'!C82:E85,8,FALSE) -> #REF! | D31: 0 | E31: =SUM(C31*D31) -> #REF!
A33: E. FORFAITS MONTAGES : | D33: Qtités | E33: TOTAUX
A35: Carrosserie montage 1H niveau 1 | C35: ='Trafic L1H1'!#REF! -> #REF! | D35: =IF($E$4="TRAFIC",'Trafic L1H1'!#REF!,'MASTER L2H2'!#REF!) -> #REF! | E35: =SUM(C35*D35) -> #REF!
C36: 0 | D36: 0 | E36: =SUM(C36*D36) -> 0
C37: 0 | D37: 0 | E37: =SUM(C37*D37) -> 0
A38: F. Divers : | D38: Qtités | E38: TOTAUX
C40: 0 | D40: 1 | E40: =SUM(C40*D40) -> 0
C41: 0 | D41: 1 | E41: =SUM(C41*D41) -> 0
C42: 0 | D42: 1 | E42: =SUM(C42*D42) -> 0
E43: =SUM(E7:E42) -> #REF!
A44: Bon pour Accord : | B44: à :
A48: Signature : | B48: Le :
E51: Page 1/1

Sheet listes déroulantes
A6: Choix Véhicule | B6: Désignation courte
A7: Renault TRAFIC L1H1 empattement 3098 mm année millésime 2014 | B7: TRAFIC
A8: Renault MASTER L2H2 empattement 3682 mm année millésime 2019 | B8: MASTER_TRACTION
A9: Renault KANGOO Express empattement 2697 mm année millésime 2013 | B9: KANGOO
A11: Protection
A12: TRAFIC | B12: 2014 | C12: L1H1 | D12: 3098 | E12: TYP164 | G12: Pro | H12: PASSAGE_DE_ROUES | I12: 0963 940 602 | J12: TYP164 L1H1 2014 PDR 12mm
A13: TRAFIC | B13: 2014 | C13: L1H1 | D13: 3098 | E13: TYP164 | G13: Pro | H13: PLANCHER | I13: 0963 940 604 | J13: TYP164 L1H1 2014 PLANCHER 12mm
A14: TRAFIC | B14: 2014 | C14: L1H1 | D14: 3098 | E14: TYP164 | G14: Pro | H14: PROTECTIONS_LATERALES | I14: 0963 940 607 | J14: TYP164 L1H1 2014 PROT LAT PP 4,2mm
A15: TRAFIC | B15: 2014 | C15: L1H1 | D15: 3098 | E15: TYP164 | G15: Pro | H15: KIT_DE_PROTECTION | I15: 0963 940 608 | J15: TYP164 L1H1 2014 KIT COMPLET PRO
A16: MASTER_TRACTION | B16: 2019 | C16: L2H2 | D16: 3682 | E16: TYP199 | F16: 10,8 m3 | G16: Pro | H16: KIT_DE_PROTECTION | I16: 0963 941 328 | J16: TYP199 L2H2 TRACTION 2019 KIT COMPLET PRO
A17: MASTER_TRACTION | B17: 2019 | C17: L2H2 | D17: 3682 | E17: TYP199 | F17: 10,8 m3 | G17: Pro | H17: PASSAGE_DE_ROUES | I17: 0963 941 329 | J17: TYP199 L2H2 TRACTION 2019 PDR 12mm
A18: MASTER_TRACTION | B18: 2019 | C18: L2H2 | D18: 3682 | E18: TYP199 | F18: 10,8 m3 | G18: Pro | H18: PLANCHER | I18: 0963 941 331 | J18: TYP199 L2H2 TRACTION 2019 PLANCHER 12mm
A19: MASTER_TRACTION | B19: 2019 | C19: L2H2 | D19: 3682 | E19: TYP199 | F19: 10,8 m3 | G19: Pro | H19: PROTECTIONS_LATERALES | I19: 0963 941 333 | J19: TYP199 L2H2 TRACTION 2019 PROT LAT PP 4,2mm
A20: KANGOO | B20: 2013 | C20: L1H1 | D20: 2697 | E20: TYP196 | G20: Pro | H20: PASSAGE_DE_ROUES | I20: 0963 940 706 | J20: TYP196 L1H1 2013 PDR 12mm
A21: KANGOO | B21: 2013 | C21: L1H1 | D21: 2697 | E21: TYP196 | G21: Pro | H21: PLANCHER | I21: 0963 940 708 | J21: TYP196 L1H1 2013 PLANCHER 12mm
A22: KANGOO | B22: 2013 | C22: L1H1 | D22: 2697 | E22: TYP196 | G22: Pro | H22: PROTECTIONS_LATERALES | I22: 0963 940 711 | J22: TYP196 L1H1 2013 PROT LAT PP 4,2mm
A23: KANGOO | B23: 2013 | C23: L1H1 | D23: 2697 | E23: TYP196 | G23: Pro | H23: KIT_DE_PROTECTION | I23: 0963 940 712 | J23: TYP196 L1H1 2013 KIT COMPLET PRO
A25: Protection
