Workbook
Name BDC: Feuil1!$D$34:$D$35
Name BERLINGO: Feuil1!$K$2:$K$3
Name BIPPER: Feuil1!$K$100
Name BOXER: Feuil1!$K$101:$K$108
Name CADDY: Feuil1!$K$130:$K$131
Name CITAN: Feuil1!$K$53:$K$55
Name CITROEN: Feuil1!$B$2:$B$5
Name CLOISON: Feuil1!$D$22:$D$24
Name COMBO: Feuil1!$K$83:$K$85
Name CONSTRCUTEUR: [1]Feuil1!$N$2:$N$14
Name CONSTRUCTEUR: Feuil1!$N$2:$N$14
Name CRAFTER_PROPULSION: Feuil1!$K$138:$K$143
Name CRAFTER_TRACTION: Feuil1!$K$132:$K$137
Name CUSTOM: Feuil1!$K$31:$K$34
Name DACIA: Feuil1!$B$6
Name DAILY: Feuil1!$K$47:$K$52
Name DOBLO: Feuil1!$K$15:$K$17
Name DUCATO: Feuil1!$K$18:$K$25
Name EXPERT: Feuil1!$K$155:$K$157
Name FIAT: Feuil1!$B$7:$B$10
Name FIORINO: Feuil1!$K$26
Name FORD: Feuil1!$B$11:$B$15
Name IVECO: Feuil1!$B$16
Name JUMPER: Feuil1!$K$4:$K$11
Name JUMPY: Feuil1!$K$149:$K$151
Name KANGOO: Feuil1!$K$112:$K$114
Name LATERALE: Feuil1!$D$13:$D$16
Name MAN: Feuil1!$B$41:$B$42
Name MASTER_PROPULSION: Feuil1!$K$115:$K$118
Name MASTER_TRACTION: Feuil1!$K$119:$K$124
Name MERCEDES: Feuil1!$B$17:$B$19
Name montage: Feuil1!$D$38:$D$40
Name MOVANO_PROPULSION: Feuil1!$K$86:$K$89
Name MOVANO_TRACTION: Feuil1!$K$90:$K$95
Name NEMO: Feuil1!$K$2
Name NISSAN: Feuil1!$B$20:$B$23
Name NV_200: Feuil1!$K$68
Name NV_300: Feuil1!$K$69:$K$72
Name NV_400_PROPULSION: Feuil1!$K$73:$K$76
Name NV_400_TRACTION: Feuil1!$K$77:$K$82
Name OPEL: Feuil1!$B$24:$B$27
Name OUI: Feuil1!$D$30:$D$31
Name PARTNER: Feuil1!$K$110:$K$111
Name PEUGEOT: Feuil1!$B$28:$B$31
Name PORTE: Feuil1!$D$10:$D$11
Name PROACE: Feuil1!$K$152:$K$154
Name PRODUITS: Feuil1!$D$2:$D$5
Name RENAULT: Feuil1!$B$32:$B$35
Name RJ: Feuil1!$D$18:$D$19
Name spec: Feuil1!$D$42:$D$43
Name SPRINTER: Feuil1!$K$56:$K$64
Name T_6: Feuil1!$K$144:$K$148
Name TALENTO: Feuil1!$K$27:$K$30
Name TGE_PROPULSION: Feuil1!$K$164:$K$169
Name TGE_TRACTION: Feuil1!$K$158:$K$163
Name TOYOTA: Feuil1!$B$36
Name TRAFIC: Feuil1!$K$125:$K$128
Name TRANSIT_CONNECT: Feuil1!$K$35:$K$36
Name TRANSIT_COURIER: Feuil1!$K$37
Name TRANSIT_PROPULSION: Feuil1!$K$38:$K$42

Sheet Trafic L1H1
A1: Raccourci | C1: Référence | D1: Désignation
A3: A : LES PROTECTIONS
A4: =IFERROR(VLOOKUP(C4,base!N:AK,10,FALSE),"") -> TYP164L1H1PLPRO | B4: PLANCHER | C4: 0963 940 604 | D4: =IFERROR(VLOOKUP(C4,base!N:AS,32,FALSE),"") -> TYP164 L1H1 2014 PLANCHER 12mm
A5: =IFERROR(VLOOKUP(C5,base!N:AK,10,FALSE),"") -> TYP164L1H1HAPRO | B5: PROTECTIONS_LATERALES | C5: 0963 940 607 | D5: =IFERROR(VLOOKUP(C5,base!N:AS,32,FALSE),"") -> TYP164 L1H1 2014 PROT LAT PP 4,8mm
A6: =IFERROR(VLOOKUP(C6,base!N:AK,10,FALSE),"") -> TYP164L1H1PDRPRO | B6: PASSAGE_DE_ROUES | C6: 0963 940 602 | D6: =IFERROR(VLOOKUP(C6,base!N:AS,32,FALSE),"") -> TYP164 L1H1 2014 PDR 12mm
A7: =IFERROR(VLOOKUP(C7,base!N:AK,10,FALSE),"") -> TYP164L1H1KITPRO | B7: KIT_DE_PROTECTION | C7: 0963 940 608 | D7: =IFERROR(VLOOKUP(C7,base!N:AS,32,FALSE),"") -> TYP164 L1H1 2014 KIT COMPLET PRO
A9: B : L'AMENAGEMENT
A10: Côté Gauche :
A11: MUOK20 | C11: =IFERROR(VLOOKUP(A11,base!B:AM,13,FALSE),"") -> 0963 532 020 | D11: =IFERROR(VLOOKUP(A11,base!B:AS,44,FALSE),"") -> CAISSON PASSAGE DE ROUE PLAQUE-MUOK20
A12: MKM202 | C12: =IFERROR(VLOOKUP(A12,base!B:AM,13,FALSE),"") -> 0963 542 202 | D12: =IFERROR(VLOOKUP(A12,base!B:AS,44,FALSE),"") -> MODULE POUR 4 COFFRETS MKM202
A13: MSMSH31 | C13: =IFERROR(VLOOKUP(A13,base!B:AM,13,FALSE),"") -> 0963 541 531 | D13: =IFERROR(VLOOKUP(A13,base!B:AS,44,FALSE),"") -> MODULE TIROIRS-MSMSH31
A14: MSMH31 | C14: =IFERROR(VLOOKUP(A14,base!B:AM,13,FALSE),"") -> 0963 541 431 | D14: =IFERROR(VLOOKUP(A14,base!B:AS,44,FALSE),"") -> MODULE TIROIRS-MSMH31
A15: MLBR24 | C15: =IFERROR(VLOOKUP(A15,base!B:AM,13,FALSE),"") -> 0963 548 724 | D15: =IFERROR(VLOOKUP(A15,base!B:AS,44,FALSE),"") -> ETAGÈRE-DE-STOCKAGE-6-BOITES-MLBR24
A16: MKM533 | C16: =IFERROR(VLOOKUP(A16,base!B:AM,13,FALSE),"") -> 0963 542 533 | D16: =IFERROR(VLOOKUP(A16,base!B:AS,44,FALSE),"") -> MODULE COFFRETS MKM533
A17: MADAW380 | C17: =IFERROR(VLOOKUP(A17,base!B:AM,13,FALSE),"") -> 0963 549 380 | D17: =IFERROR(VLOOKUP(A17,base!B:AS,44,FALSE),"") -> ADAPTEUR PROLONGATEUR-MADAW380
A18: MADL10L | C18: =IFERROR(VLOOKUP(A18,base!B:AM,13,FALSE),"") -> 0963 577 010 | D18: =IFERROR(VLOOKUP(A18,base!B:AS,44,FALSE),"") -> PAIRE-DE-REHAUSSES-MADL10
A19: MLR11 | C19: =IFERROR(VLOOKUP(A19,base!B:AM,13,FALSE),"") -> 0963 547 711 | D19: =IFERROR(VLOOKUP(A19,base!B:AS,44,FALSE),"") -> ETAGÈRE-DE-STOCKAGE-À-REBORD-MLR11
A20: MLR13 | C20: =IFERROR(VLOOKUP(A20,base!B:AM,13,FALSE),"") -> 0963 547 713 | D20: =IFERROR(VLOOKUP(A20,base!B:AS,44,FALSE),"") -> ETAGÈRE-DE-STOCKAGE-À-REBORD-MLR13
A21: LW7 | C21: =IFERROR(VLOOKUP(A21,base!B:AM,13,FALSE),"") -> 0963 545 605 | D21: =IFERROR(VLOOKUP(A21,base!B:AS,44,FALSE),"") -> BAC POUR PIECES LONGUES LW7
A22: MADL4L | C22: =IFERROR(VLOOKUP(A22,base!B:AM,13,FALSE),"") -> 0963 577 004 | D22: =IFERROR(VLOOKUP(A22,base!B:AS,44,FALSE),"") -> PAIRE-DE-REHAUSSES-MADL4
... A37: MRA20 | C37: =IFERROR(VLOOKUP(A37,base!B:AM,13,FALSE),"") -> 0963 546 620 | D37: =IFERROR(VLOOKUP(A37,base!B:AS,44,FALSE),"") -> ELÉMENT-CADRE-DE-FINITION-MRA20
C38: =IFERROR(VLOOKUP(A38,base!B:AM,13,FALSE),"") | D38: =IFERROR(VLOOKUP(A38,base!B:AS,44,FALSE),"")
C39: =IFERROR(VLOOKUP(A39,base!B:AM,13,FALSE),"") | D39: =IFERROR(VLOOKUP(A39,base!B:AS,44,FALSE),"")
A40: Au choix : | C40: =IFERROR(VLOOKUP(A40,base!B:AM,13,FALSE),"") | D40: =IFERROR(VLOOKUP(A40,base!B:AS,44,FALSE),"")
A41: MSBS | C41: =IFERROR(VLOOKUP(A41,base!B:AM,13,FALSE),"") -> 0963 022 030 | D41: =IFERROR(VLOOKUP(A41,base!B:AS,44,FALSE),"") -> KIT-DE-FIXATION-LATERAL-MSBS
A42: BSS | C42: =IFERROR(VLOOKUP(A42,base!B:AM,13,FALSE),"") -> 0963 80 502 | D42: =IFERROR(VLOOKUP(A42,base!B:AS,44,FALSE),"") -> KIT DE FIXATION MONTAGE FLOTTANT
A43: BSS9 | C43: =IFERROR(VLOOKUP(A43,base!B:AM,13,FALSE),"") -> 0963 940 998 | D43: =IFERROR(VLOOKUP(A43,base!B:AS,44,FALSE),"") -> Kit de fixation montage flottant 9mm
A44: PM | C44: =IFERROR(VLOOKUP(A44,base!B:AM,13,FALSE),"") -> 0996 32 | D44: =IFERROR(VLOOKUP(A44,base!B:AS,44,FALSE),"") -> Prémontage
A46: AMENAGEMENT | C46: =IFERROR(VLOOKUP(A46,base!B:AM,13,FALSE),"") | D46: =IFERROR(VLOOKUP(A46,base!B:AS,44,FALSE),"")
A47: Dos de Cabine : | C47: =IFERROR(VLOOKUP(A47,base!B:AM,13,FALSE),"") | D47: =IFERROR(VLOOKUP(A47,base!B:AS,44,FALSE),"")
C48: =IFERROR(VLOOKUP(A48,base!B:AM,13,FALSE),"") | D48: =IFERROR(VLOOKUP(A48,base!B:AS,44,FALSE),"")
C50: =IFERROR(VLOOKUP(A50,base!B:AM,13,FALSE),"") | D50: =IFERROR(VLOOKUP(A50,base!B:AS,44,FALSE),"")
A51: Au choix : | C51: =IFERROR(VLOOKUP(A51,base!B:AM,13,FALSE),"") | D51: =IFERROR(VLOOKUP(A51,base!B:AS,44,FALSE),"")
A52: MSBS | C52: =IFERROR(VLOOKUP(A52,base!B:AM,13,FALSE),"") -> 0963 022 030 | D52: =IFERROR(VLOOKUP(A52,base!B:AS,44,FALSE),"") -> KIT-DE-FIXATION-LATERAL-MSBS
A53: BSS | C53: =IFERROR(VLOOKUP(A53,base!B:AM,13,FALSE),"") -> 0963 80 502 | D53: =IFERROR(VLOOKUP(A53,base!B:AS,44,FALSE),"") -> KIT DE FIXATION MONTAGE FLOTTANT
A54: BSS9 | C54: =IFERROR(VLOOKUP(A54,base!B:AM,13,FALSE),"") -> 0963 940 998 | D54: =IFERROR(VLOOKUP(A54,base!B:AS,44,FALSE),"") -> Kit de fixation montage flottant 9mm
A55: PM | C55: =IFERROR(VLOOKUP(A55,base!B:AM,13,FALSE),"") -> 0996 32 | D55: =IFERROR(VLOOKUP(A55,base!B:AS,44,FALSE),"") -> Prémontage
A57: C : LES ACCESSOIRES
A58: MAM80 | C58: =IFERROR(VLOOKUP(A58,base!B:AM,13,FALSE),"") -> 0963 580 180 | D58: =IFERROR(VLOOKUP(A58,base!B:AS,44,FALSE),"") -> Tapis antidérapant MAM80
A59: MAM40 | C59: =IFERROR(VLOOKUP(A59,base!B:AM,13,FALSE),"") -> 0963 580 140 | D59: =IFERROR(VLOOKUP(A59,base!B:AS,44,FALSE),"") -> Tapis antidérapant MAM40
...

Sheet base
A1: Concatenation PDT | B1: Concatenation Modele | C1: Constructeur | D1: Modèle | E1: Année | H1: LH | I1: Empatement | J1: TYP 1 | K1: TYP | L1: Finition | M1: référence | N1: référence | O1: code | P1: PR | Q1: UNITE DE PR | R1: Poids | S1: PR | T1: New SP1 | U1: Temps de pose | V1: Cout de la pose | W1: Kurz | X1: PIC | Y1: RM ARCO | Z1: RM GC | AA1: ARCO | AB1: RM GC | AC1: Profondeur | AD1: Longueur | AE1: Hauteur | AF1: Categorie | AG1: PIC | AH1: NOM Commercial | AI1: PA | AJ1: RMGV | AK1: Prix net GV | AL1: Référence MAN | AM1: Prix MAN | AN1: RM GC | AO1: RM MAX C3 | AS1: Désignation | AT1: 17
B2: MVAD | M2: 963576000 | N2: 0963 576 000 | O2: MVAD | P2: 31.17 | Q2: 1 | R2: 1.4 | S2: 31.17 | T2: 129 | U2: 2.5 | V2: =IFERROR(ROUNDUP(U2*(80/60),0),"") -> 4 | W2: MVAD | X2: =ROUND(T2*(1-#REF!),2) -> #REF! | Y2: =ROUND(T2*(1-AA2),2) -> 90.3 | Z2: =ROUND(T2*(1-AB2),2) -> 90.3 | AA2: 0.3 | AB2: 0.3 | AC2: 200 | AD2: 30 | AE2: 350 | AF2: MEUBLES | AI2: =ROUND(S2/1.04,2) -> 29.97 | AN2: 0.3 | AO2: =ROUND(T2*(1-AN2),2) -> 90.3 | AS2: ADAPTATEUR-EXTENSIBLE-MVAD
B3: KG18 | M3: 96380753 | N3: 0963 80 753 | O3: #N/A | P3: 32.47 | Q3: 1 | R3: 1.13 | S3: 32.47 | T3: 109 | U3: 12 | V3: 16 | W3: KG18 | X3: 88.28 | Y3: =ROUND(T3*(1-AA3),2) -> 76.3 | Z3: =ROUND(T3*(1-AB3),2) -> 76.3 | AA3: 0.3 | AB3: 0.3 | AC3: 166 | AD3: 242 | AE3: 185 | AF3: ACCESSOIRES | AI3: =ROUND(S3/1.04,2) -> 31.22 | AN3: 0.3 | AO3: =ROUND(T3*(1-AN3),2) -> 76.3 | AS3: BIDON EAU 5 L AVEC SUPPORT
B4: MLBR13 | M4: 963548713 | N4: 0963 548 713 | O4: MLBR13 | P4: 92.6 | Q4: 1 | R4: 19.5 | S4: 92.6 | T4: 269 | U4: 5 | V4: =IFERROR(ROUNDUP(U4*(80/60),0),"") -> 7 | W4: MLBR13 | X4: =ROUND(T4*(1-#REF!),2) -> #REF! | Y4: =ROUND(T4*(1-AA4),2) -> 188.3 | Z4: =ROUND(T4*(1-AB4),2) -> 188.3 | AA4: 0.3 | AB4: 0.3 | AC4: 452 | AD4: 1668 | AE4: 250 | AF4: MEUBLES | AI4: =ROUND(S4/1.04,2) -> 89.04 | AN4: 0.3 | AO4: =ROUND(T4*(1-AN4),2) -> 188.3 | AS4: ETAGERE 5 BACS PLASTIQUE MLBR13
B5: KH1 | M5: 96380825 | N5: 0963 80 825 | O5: #N/A | P5: 14.5 | Q5: 1 | R5: 0.1 | S5: 14.5 | T5: 69 | U5: 0 | V5: =IFERROR(ROUNDUP(U5*(80/60),0),"") -> 0 | W5: KH1 | X5: =ROUND(T5*(1-#REF!),2) -> #REF! | Y5: =ROUND(T5*(1-AA5),2) -> 48.3 | Z5: =ROUND(T5*(1-AB5),2) -> 48.3 | AA5: 0.3 | AB5: 0.3 | AC5: 313 | AD5: 365 | AE5: 100 | AF5: ACCESSOIRES | AI5: 13.67 | AN5: 0.3 | AO5: =ROUND(T5*(1-AN5),2) -> 48.3 | AS5: SUPPORT POUR CARTOUCHES
B6: MKS12 | M6: 963543412 | N6: 0963 543 412 | O6: MKS12 | P6: 308.7 | Q6: 1 | R6: 27.7 | S6: 308.7 | T6: 689 | U6: 30 | V6: =IFERROR(ROUNDUP(U6*(80/60),0),"") -> 40 | W6: MKS12 | X6: =ROUND(T6*(1-#REF!),2) -> #REF! | Y6: =ROUND(T6*(1-AA6),2) -> 482.3 | Z6: =ROUND(T6*(1-AB6),2) -> 482.3 | AA6: 0.3 | AB6: 0.3 | AC6: 380 | AD6: 556 | AE6: 1240 | AF6: MEUBLES | AI6: =ROUND(S6/1.04,2) -> 296.83 | AN6: 0.3 | AO6: =ROUND(T6*(1-AN6),2) -> 482.3 | AS6: ARMOIRE MKS12
B7: MKS13 | M7: 963542413 | N7: 0963 543 413 | O7: MKS13 | P7: 326.01 | Q7: 1 | R7: 30.2 | S7: 326.01 | T7: 729 | U7: 30 | V7: =IFERROR(ROUNDUP(U7*(80/60),0),"") -> 40 | W7: MKS13 | X7: =ROUND(T7*(1-#REF!),2) -> #REF! | Y7: =ROUND(T7*(1-AA7),2) -> 510.3 | Z7: =ROUND(T7*(1-AB7),2) -> 510.3 | AA7: 0.3 | AB7: 0.3 | AC7: 450 | AD7: 556 | AE7: 1240 | AF7: MEUBLES | AI7: =ROUND(S7/1.04,2) -> 313.47 | AN7: 0.3 | AO7: =ROUND(T7*(1-AN7),2) -> 510.3 | AS7: ARMOIRE MKS13
B8: LOT PROMO BARRES | M8: 5988593417 | N8: 5988 593 417 | O8: #N/A | P8: 147.42 | Q8: #N/A | R8: 20 | S8: 147.42 | T8: 499 | U8: 60 | V8: =IFERROR(ROUNDUP(U8*(80/60),0),"") -> 80 | W8: LOTPROMO | X8: =ROUND(T8*(1-#REF!),2) -> #REF! | Y8: =ROUND(T8*(1-AA8),2) -> 499 | Z8: =ROUND(T8*(1-AB8),2) -> 499 | AA8: 0 | AB8: 0 | AC8: NC | AD8: NC | AE8: NC | AF8: BARRES | AI8: =ROUND(S8/1.04,2) -> 141.75 | AN8: 0 | AO8: =ROUND(T8*(1-AN8),2) -> 499 | AS8: LOT 4 BARRES DE MAINTIEN
B9: AOS200-1 | M9: 963545550 | N9: 0963 545 550 | O9: 0 | P9: 164.53 | Q9: 1 | R9: 7 | S9: 164.53 | T9: 359 | U9: 0 | V9: =IFERROR(ROUNDUP(U9*(80/60),0),"") -> 0 | W9: AOS200-1 | X9: =ROUND(T9*(1-#REF!),2) -> #REF! | Y9: =ROUND(T9*(1-AA9),2) -> 251.3 | Z9: =ROUND(T9*(1-AB9),2) -> 251.3 | AA9: 0.3 | AB9: 0.3 | AC9: NC | AD9: NC | AE9: NC | AF9: RAMPES | AI9: =ROUND(S9/1.04,2) -> 158.2 | AN9: 0.3 | AO9: =ROUND(T9*(1-AN9),2) -> 251.3 | AS9: PAIRE DE RAMPES EN ALU 60-200-1500
B10: AOS200-2 | M10: 963545551 | N10: 0963 545 551 | O10: 0 | P10: 190.74 | Q10: 1 | R10: 8 | S10: 190.74 | T10: 409 | U10: 0 | V10: =IFERROR(ROUNDUP(U10*(80/60),0),"") -> 0 | W10: AOS200-2 | X10: =ROUND(T10*(1-#REF!),2) -> #REF! | Y10: =ROUND(T10*(1-AA10),2) -> 286.3 | Z10: =ROUND(T10*(1-AB10),2) -> 286.3 | AA10: 0.3 | AB10: 0.3 | AC10: NC | AD10: NC | AE10: NC | AF10: RAMPES | AI10: =ROUND(S10/1.04,2) -> 183.4 | AN10: 0.3 | AO10: =ROUND(T10*(1-AN10),2) -> 286.3 | AS10: PAIRE DE RAMPES EN ALU 60-200-2000
B11: AOS200-3 | M11: 963545552 | N11: 0963 545 552 | O11: 0 | P11: 209.66 | Q11: 1 | R11: 9 | S11: 209.66 | T11: 449 | U11: 0 | V11: =IFERROR(ROUNDUP(U11*(80/60),0),"") -> 0 | W11: AOS200-3 | X11: =ROUND(T11*(1-#REF!),2) -> #REF! | Y11: =ROUND(T11*(1-AA11),2) -> 314.3 | Z11: =ROUND(T11*(1-AB11),2) -> 314.3 | AA11: 0.3 | AB11: 0.3 | AC11: NC | AD11: NC | AE11: NC | AF11: RAMPES | AI11: =ROUND(S11/1.04,2) -> 201.6 | AN11: 0.3 | AO11: =ROUND(T11*(1-AN11),2) -> 314.3 | AS11: PAIRE DE RAMPES EN ALU 60-200-2500
B12: AOS200-4 | M12: 963545553 | N12: 0963 545 553 | O12: 0 | P12: 247.52 | Q12: 1 | R12: 11 | S12: 247.52 | T12: 529 | U12: 0 | V12: =IFERROR(ROUNDUP(U12*(80/60),0),"") -> 0 | W12: AOS200-4 | X12: =ROUND(T12*(1-#REF!),2) -> #REF! | Y12: =ROUND(T12*(1-AA12),2) -> 370.3 | Z12: =ROUND(T12*(1-AB12),2) -> 370.3 | AA12: 0.3 | AB12: 0.3 | AC12: NC | AD12: NC | AE12: NC | AF12: RAMPES | AI12: =ROUND(S12/1.04,2) -> 238 | AN12: 0.3 | AO12: =ROUND(T12*(1-AN12),2) -> 370.3 | AS12: PAIRE DE RAMPES EN ALU 60-200-3000
B13: AOS300-1 | M13: 963545554 | N13: 0963 545 554 | O13: 0 | P13: 254.8 | Q13: 1 | R13: 10 | S13: 254.8 | T13: 549 | U13: 0 | V13: =IFERROR(ROUNDUP(U13*(80/60),0),"") -> 0 | W13: AOS300-1 | X13: =ROUND(T13*(1-#REF!),2) -> #REF! | Y13: =ROUND(T13*(1-AA13),2) -> 384.3 | Z13: =ROUND(T13*(1-AB13),2) -> 384.3 | AA13: 0.3 | AB13: 0.3 | AC13: NC | AD13: NC | AE13: NC | AF13: RAMPES | AI13: =ROUND(S13/1.04,2) -> 245 | AN13: 0.3 | AO13: =ROUND(T13*(1-AN13),2) -> 384.3 | AS13: PAIRE DE RAMPES EN ALU 60-300-1500
B14: AOS300-2 | M14: 963545555 | N14: 0963 545 555 | O14: 0 | P14: 305.76 | Q14: 1 | R14: 12 | S14: 305.76 | T14: 669 | U14: 0 | V14: =IFERROR(ROUNDUP(U14*(80/60),0),"") -> 0 | W14: AOS300-2 | X14: =ROUND(T14*(1-#REF!),2) -> #REF! | Y14: =ROUND(T14*(1-AA14),2) -> 468.3 | Z14: =ROUND(T14*(1-AB14),2) -> 468.3 | AA14: 0.3 | AB14: 0.3 | AC14: NC | AD14: NC | AE14: NC | AF14: RAMPES | AI14: =ROUND(S14/1.04,2) -> 294 | AN14: 0.3 | AO14: =ROUND(T14*(1-AN14),2) -> 468.3 | AS14: PAIRE DE RAMPES EN ALU 60-300-2000
B15: AOS300-3 | M15: 963545556 | N15: 0963 545 556 | O15: 0 | P15: 384.38 | Q15: 1 | R15: 14 | S15: 384.38 | T15: 829 | U15: 0 | V15: =IFERROR(ROUNDUP(U15*(80/60),0),"") -> 0 | W15: AOS300-3 | X15: =ROUND(T15*(1-#REF!),2) -> #REF! | Y15: =ROUND(T15*(1-AA15),2) -> 580.3 | Z15: =ROUND(T15*(1-AB15),2) -> 580.3 | AA15: 0.3 | AB15: 0.3 | AC15: NC | AD15: NC | AE15: NC | AF15: RAMPES | AI15: =ROUND(S15/1.04,2) -> 369.6 | AN15: 0.3 | AO15: =ROUND(T15*(1-AN15),2) -> 580.3 | AS15: PAIRE DE RAMPES EN ALU 60-300-2500
B16: AOS300-4 | M16: 963545557 | N16: 0963 545 557 | O16: 0 | P16: 457.91 | Q16: 1 | R16: 16 | S16: 457.91 | T16: 999 | U16: 0 | V16: =IFERROR(ROUNDUP(U16*(80/60),0),"") -> 0 | W16: AOS300-4 | X16: =ROUND(T16*(1-#REF!),2) -> #REF! | Y16: =ROUND(T16*(1-AA16),2) -> 699.3 | Z16: =ROUND(T16*(1-AB16),2) -> 699.3 | AA16: 0.3 | AB16: 0.3 | AC16: NC | AD16: NC | AE16: NC | AF16: RAMPES | AI16: =ROUND(S16/1.04,2) -> 440.3 | AN16: 0.3 | AO16: =ROUND(T16*(1-AN16),2) -> 699.3 | AS16: PAIRE DE RAMPES EN ALU 60-300-3000
B17: AOS300-5 | M17: 963545558 | N17: 0963 545 558 | O17: 0 | P17: 439.71 | Q17: 1 | R17: 14 | S17: 439.71 | T17: 939 | U17: 0 | V17: =IFERROR(ROUNDUP(U17*(80/60),0),"") -> 0 | W17: AOS300-5 | X17: =ROUND(T17*(1-#REF!),2) -> #REF! | Y17: =ROUND(T17*(1-AA17),2) -> 657.3 | Z17: =ROUND(T17*(1-AB17),2) -> 657.3 | AA17: 0.3 | AB17: 0.3 | AC17: NC | AD17: NC | AE17: NC | AF17: RAMPES | AI17: =ROUND(S17/1.04,2) -> 422.8 | AN17: 0.3 | AO17: =ROUND(T17*(1-AN17),2) -> 657.3 | AS17: PAIRE DE RAMPES EN ALU 65-300-1500
B18: AOS300-6 | M18: 963545559 | N18: 0963 545 559 | O18: 0 | P18: 511.06 | Q18: 1 | R18: 17 | S18: 511.06 | T18: 1139 | U18: 0 | V18: =IFERROR(ROUNDUP(U18*(80/60),0),"") -> 0 | W18: AOS300-6 | X18: =ROUND(T18*(1-#REF!),2) -> #REF! | Y18: =ROUND(T18*(1-AA18),2) -> 797.3 | Z18: =ROUND(T18*(1-AB18),2) -> 797.3 | AA18: 0.3 | AB18: 0.3 | AC18: NC | AD18: NC | AE18: NC | AF18: RAMPES | AI18: =ROUND(S18/1.04,2) -> 491.4 | AN18: 0.3 | AO18: =ROUND(T18*(1-AN18),2) -> 797.3 | AS18: PAIRE DE RAMPES EN ALU 65-300-2000
B19: AOS300-7 | M19: 963545560 | N19: 0963 545 560 | O19: 0 | P19: 630.45 | Q19: 1 | R19: 21 | S19: 630.45 | T19: 1349 | U19: 0 | V19: =IFERROR(ROUNDUP(U19*(80/60),0),"") -> 0 | W19: AOS300-7 | X19: =ROUND(T19*(1-#REF!),2) -> #REF! | Y19: =ROUND(T19*(1-AA19),2) -> 944.3 | Z19: =ROUND(T19*(1-AB19),2) -> 944.3 | AA19: 0.3 | AB19: 0.3 | AC19: NC | AD19: NC | AE19: NC | AF19: RAMPES | AI19: =ROUND(S19/1.04,2) -> 606.2 | AN19: 0.3 | AO19: =ROUND(T19*(1-AN19),2) -> 944.3 | AS19: PAIRE DE RAMPES EN ALU 65-300-2500
B20: AOS300-8 | M20: 963545561 | N20: 0963 545 561 | O20: 0 | P20: 785.51 | Q20: 1 | R20: 25 | S20: 785.51 | T20: 1699 | U20: 0 | V20: =IFERROR(ROUNDUP(U20*(80/60),0),"") -> 0 | W20: AOS300-8 | X20: =ROUND(T20*(1-#REF!),2) -> #REF! | Y20: =ROUND(T20*(1-AA20),2) -> 1189.3 | Z20: =ROUND(T20*(1-AB20),2) -> 1189.3 | AA20: 0.3 | AB20: 0.3 | AC20: NC | AD20: NC | AE20: NC | AF20: RAMPES | AI20: =ROUND(S20/1.04,2) -> 755.3 | AN20: 0.3 | AO20: =ROUND(T20*(1-AN20),2) -> 1189.3 | AS20: PAIRE DE RAMPES EN ALU 65-300-3000
... B33: ABS-F03 | M33: 963545574 | N33: 0963 545 574 | O33: 0 | P33: 283.19 | Q33: 1 | R33: 13 | S33: 283.19 | T33: 609 | U33: 0 | V33: =IFERROR(ROUNDUP(U33*(80/60),0),"") -> 0 | W33: ABS-F03 | X33: =ROUND(T33*(1-#REF!),2) -> #REF! | Y33: =ROUND(T33*(1-AA33),2) -> 426.3 | Z33: =ROUND(T33*(1-AB33),2) -> 426.3 | AA33: 0.3 | AB33: 0.3 | AC33: NC | AD33: NC | AE33: NC | AF33: RAMPES | AI33: =ROUND(S33/1.04,2) -> 272.3 | AN33: 0.3 | AO33: =ROUND(T33*(1-AN33),2) -> 426.3 | AS33: PAIRE DE RAILS DE CHARGEMENT R 3000
B34: ZOEMH | M34: 96380313 | N34: 0963 80 313 | O34: #N/A | P34: 3.45 | Q34: 1 | R34: 0.05 | S34: 3.45 | T34: 16 | U34: 0 | V34: =IFERROR(ROUNDUP(U34*(80/60),0),"") -> 0 | W34: ZOEMH | X34: =ROUND(T34*(1-#REF!),2) -> #REF! | Y34: =ROUND(T34*(1-AA34),2) -> 11.2 | Z34: =ROUND(T34*(1-AB34),2) -> 11.2 | AA34: 0.3 | AB34: 0.3 | AC34: NC | AD34: NC | AE34: NC | AF34: ACCESSOIRES | AI34: =ROUND(S34/1.04,2) -> 3.32 | AN34: 0.3 | AO34: =ROUND(T34*(1-AN34),2) -> 11.2 | AS34: PION ZOE MH
B35: MKS04 | M35: 963543410 | N35: 0963 543 410 | O35: MKS04 | P35: 233.17 | Q35: 1 | R35: 22 | S35: 233.17 | T35: 799 | U35: 30 | V35: =IFERROR(ROUNDUP(U35*(80/60),0),"") -> 40 | W35: MKS04 | X35: =ROUND(T35*(1-#REF!),2) -> #REF! | Y35: =ROUND(T35*(1-AA35),2) -> 559.3 | Z35: =ROUND(T35*(1-AB35),2) -> 559.3 | AA35: 0.3 | AB35: 0.3 | AC35: NC | AD35: NC | AE35: NC | AF35: MEUBLES | AI35: =ROUND(S35/1.04,2) -> 224.2 | AN35: 0.3 | AO35: =ROUND(T35*(1-AN35),2) -> 559.3 | AS35: ARMOIRE MKS04
B36: MLA14 | M36: 96375403 | N36: 0963 75 403 | O36: #N/A | P36: 76.18 | Q36: #N/A | R36: 6.8 | S36: 76.8 | T36: 159 | U36: 15 | V36: =IFERROR(ROUNDUP(U36*(80/60),0),"") -> 20 | W36: MLA14 | X36: =ROUND(T36*(1-#REF!),2) -> #REF! | Y36: =ROUND(T36*(1-AA36),2) -> 111.3 | Z36: =ROUND(T36*(1-AB36),2) -> 111.3 | AA36: 0.3 | AB36: 0.3 | AC36: NC | AD36: NC | AE36: NC | AF36: ACCESSOIRES | AI36: =ROUND(S36/1.04,2) -> 73.85 | AN36: 0.3 | AO36: =ROUND(T36*(1-AN36),2) -> 111.3 | AS36: PLANCHER MLA14
B37: MKM106 | M37: 963542106 | N37: 0963 542 106 | O37: MKM106 | P37: 145.67 | Q37: #N/A | R37: NC | S37: 145.67 | T37: 299 | U37: 25 | V37: =IFERROR(ROUNDUP(U37*(80/60),0),"") -> 34 | W37: MKM106 | X37: =ROUND(T37*(1-#REF!),2) -> #REF! | Y37: =ROUND(T37*(1-AA37),2) -> 209.3 | Z37: =ROUND(T37*(1-AB37),2) -> 209.3 | AA37: 0.3 | AB37: 0.3 | AC37: NC | AD37: NC | AE37: NC | AF37: MEUBLES | AI37: =ROUND(S37/1.04,2) -> 140.07 | AN37: 0.3 | AO37: =ROUND(T37*(1-AN37),2) -> 209.3 | AS37: MODULE POUR MALLETTES - MKM106
B38: SSK42 | M38: 96341042 | N38: 0963 41 042 | O38: #N/A | P38: 15.45 | Q38: 1 | R38: 0.4 | S38: 15.45 | T38: 79 | U38: NC | V38: =IFERROR(ROUNDUP(U38*(80/60),0),"") | W38: SSK42 | X38: =ROUND(T38*(1-#REF!),2) -> #REF! | Y38: =ROUND(T38*(1-AA38),2) -> 55.3 | Z38: =ROUND(T38*(1-AB38),2) -> 55.3 | AA38: 0.3 | AB38: 0.3 | AC38: NC | AD38: NC | AE38: NC | AF38: ACCESSOIRES | AI38: 14.14 | AN38: 0.3 | AO38: =ROUND(T38*(1-AN38),2) -> 55.3 | AS38: SYSTÈME-DE-FERMETURE-COMPLET-SSK42
B39: SSK43 | M39: 96341043 | N39: 0963 41 043 | O39: #N/A | P39: 17.67 | Q39: 1 | R39: 0.6 | S39: 17.67 | T39: 89 | U39: NC | V39: =IFERROR(ROUNDUP(U39*(80/60),0),"") | W39: SSK43 | X39: =ROUND(T39*(1-#REF!),2) -> #REF! | Y39: =ROUND(T39*(1-AA39),2) -> 62.3 | Z39: =ROUND(T39*(1-AB39),2) -> 62.3 | AA39: 0.3 | AB39: 0.3 | AC39: NC | AD39: NC | AE39: NC | AF39: ACCESSOIRES | AI39: 16.16 | AN39: 0.3 | AO39: =ROUND(T39*(1-AN39),2) -> 62.3 | AS39: SYSTÈME-DE-FERMETURE-COMPLET-SSK43
B40: TS309 | M40: 96341051 | N40: 0963 41 051 | O40: #N/A | P40: 2.24 | Q40: 1 | R40: 0.1 | S40: 2.24 | T40: 19 | U40: NC | V40: =IFERROR(ROUNDUP(U40*(80/60),0),"") | W40: TS309 | X40: =ROUND(T40*(1-#REF!),2) -> #REF! | Y40: =ROUND(T40*(1-AA40),2) -> 13.3 | Z40: =ROUND(T40*(1-AB40),2) -> 13.3 | AA40: 0.3 | AB40: 0.3 | AC40: NC | AD40: NC | AE40: NC | AF40: MEUBLES | AI40: 1.87 | AL40: 0 | AM40: 7 | AN40: 0.3 | AO40: =ROUND(T40*(1-AN40),2) -> 13.3 | AS40: SÉPARATION-SUPPLÉMENTAIRE-TS309
B41: TS312 | M41: 96341052 | N41: 0963 41 052 | O41: #N/A | P41: 2.91 | Q41: 1 | R41: 0.2 | S41: 2.91 | T41: 19 | U41: NC | V41: =IFERROR(ROUNDUP(U41*(80/60),0),"") | W41: TS312 | X41: =ROUND(T41*(1-#REF!),2) -> #REF! | Y41: =ROUND(T41*(1-AA41),2) -> 13.3 | Z41: =ROUND(T41*(1-AB41),2) -> 13.3 | AA41: 0.3 | AB41: 0.3 | AC41: NC | AD41: NC | AE41: NC | AF41: MEUBLES | AI41: 2.46 | AL41: 0 | AM41: 8.4 | AN41: 0.3 | AO41: =ROUND(T41*(1-AN41),2) -> 13.3 | AS41: SÉPARATION-SUPPLÉMENTAIRE-TS312
B42: TS318 | M42: 96341053 | N42: 0963 41 053 | O42: #N/A | P42: 3.42 | Q42: 1 | R42: 0.2 | S42: 3.42 | T42: 19 | U42: NC | V42: =IFERROR(ROUNDUP(U42*(80/60),0),"") | W42: TS318 | X42: =ROUND(T42*(1-#REF!),2) -> #REF! | Y42: =ROUND(T42*(1-AA42),2) -> 13.3 | Z42: =ROUND(T42*(1-AB42),2) -> 13.3 | AA42: 0.3 | AB42: 0.3 | AC42: NC | AD42: NC | AE42: NC | AF42: MEUBLES | AI42: 2.95 | AL42: 0 | AM42: 10.5 | AN42: 0.3 | AO42: =ROUND(T42*(1-AN42),2) -> 13.3 | AS42: SÉPARATION-SUPPLÉMENTAIRE-TS318
B43: TS409 | M43: 96341055 | N43: 0963 41 055 | O43: #N/A | P43: 2.55 | Q43: 1 | R43: 0.2 | S43: 2.55 | T43: 19 | U43: NC | V43: =IFERROR(ROUNDUP(U43*(80/60),0),"") | W43: TS409 | X43: =ROUND(T43*(1-#REF!),2) -> #REF! | Y43: =ROUND(T43*(1-AA43),2) -> 13.3 | Z43: =ROUND(T43*(1-AB43),2) -> 13.3 | AA43: 0.3 | AB43: 0.3 | AC43: NC | AD43: NC | AE43: NC | AF43: MEUBLES | AI43: 2.01 | AL43: 0 | AM43: 7 | AN43: 0.3 | AO43: =ROUND(T43*(1-AN43),2) -> 13.3 | AS43: SÉPARATION-SUPPLÉMENTAIRE-TS409
B44: TS412 | M44: 96341056 | N44: 0963 41 056 | O44: #N/A | P44: 3.23 | Q44: 1 | R44: 0.2 | S44: 3.23 | T44: 19 | U44: NC | V44: =IFERROR(ROUNDUP(U44*(80/60),0),"") | W44: TS412 | X44: =ROUND(T44*(1-#REF!),2) -> #REF! | Y44: =ROUND(T44*(1-AA44),2) -> 13.3 | Z44: =ROUND(T44*(1-AB44),2) -> 13.3 | AA44: 0.3 | AB44: 0.3 | AC44: NC | AD44: NC | AE44: NC | AF44: MEUBLES | AI44: 2.64 | AN44: 0.3 | AO44: =ROUND(T44*(1-AN44),2) -> 13.3 | AS44: SÉPARATION-SUPPLÉMENTAIRE-TS412
B45: TS512 | M45: 96341058 | N45: 0963 41 058 | O45: #N/A | P45: 4.26 | Q45: 1 | R45: 0.1 | S45: 4.26 | T45: 19 | U45: NC | V45: =IFERROR(ROUNDUP(U45*(80/60),0),"") | W45: TS512 | X45: =ROUND(T45*(1-#REF!),2) -> #REF! | Y45: =ROUND(T45*(1-AA45),2) -> 13.3 | Z45: =ROUND(T45*(1-AB45),2) -> 13.3 | AA45: 0.3 | AB45: 0.3 | AC45: NC | AD45: NC | AE45: NC | AF45: MEUBLES | AI45: 3.44 | AL45: 0 | AM45: 12.6 | AN45: 0.3 | AO45: =ROUND(T45*(1-AN45),2) -> 13.3 | AS45: SÉPARATION-TIROIR-SML-HAUTEUR 120-TS512
B46: TS518 | M46: 96341059 | N46: 0963 41 059 | O46: #N/A | P46: 5.01 | Q46: 1 | R46: 0.1 | S46: 5.01 | T46: 29 | U46: NC | V46: =IFERROR(ROUNDUP(U46*(80/60),0),"") | W46: TS518 | X46: =ROUND(T46*(1-#REF!),2) -> #REF! | Y46: =ROUND(T46*(1-AA46),2) -> 20.3 | Z46: =ROUND(T46*(1-AB46),2) -> 20.3 | AA46: 0.3 | AB46: 0.3 | AC46: NC | AD46: NC | AE46: NC | AF46: MEUBLES | AI46: 4 | AL46: 0 | AM46: 14.7 | AN46: 0.3 | AO46: =ROUND(T46*(1-AN46),2) -> 20.3 | AS46: SÉPARATION-TIROIR-SML-HAUTEUR 180-TS518
B47: TS209 | M47: 96341074 | N47: 0963 41 074 | O47: #N/A | P47: 4.16 | Q47: 1 | R47: 58.8 | S47: 4.16 | T47: 19 | U47: NC | V47: =IFERROR(ROUNDUP(U47*(80/60),0),"") | W47: TS209 | X47: =ROUND(T47*(1-#REF!),2) -> #REF! | Y47: =ROUND(T47*(1-AA47),2) -> 13.3 | Z47: =ROUND(T47*(1-AB47),2) -> 13.3 | AA47: 0.3 | AB47: 0.3 | AC47: NC | AD47: NC | AE47: NC | AF47: MEUBLES | AI47: 3.17 | AL47: 0 | AM47: 12.6 | AN47: 0.3 | AO47: =ROUND(T47*(1-AN47),2) -> 13.3 | AS47: SÉPARATION-TIROIR-90/330-TS209
B48: TS212 | M48: 96341075 | N48: 0963 41 075 | O48: #N/A | P48: 4.3 | Q48: 1 | R48: 80.9 | S48: 4.3 | T48: 29 | U48: NC | V48: =IFERROR(ROUNDUP(U48*(80/60),0),"") | W48: TS212 | X48: =ROUND(T48*(1-#REF!),2) -> #REF! | Y48: =ROUND(T48*(1-AA48),2) -> 20.3 | Z48: =ROUND(T48*(1-AB48),2) -> 20.3 | AA48: 0.3 | AB48: 0.3 | AC48: NC | AD48: NC | AE48: NC | AF48: MEUBLES | AI48: 3.59 | AL48: 0 | AM48: 12.6 | AN48: 0.3 | AO48: =ROUND(T48*(1-AN48),2) -> 20.3 | AS48: SÉPARATION-TIROIR-120/330-TS212
B49: TS218 | M49: 96341076 | N49: 0963 41 076 | O49: #N/A | P49: 5.01 | Q49: 1 | R49: 0.125 | S49: 5.01 | T49: 29 | U49: NC | V49: =IFERROR(ROUNDUP(U49*(80/60),0),"") | W49: TS218 | X49: =ROUND(T49*(1-#REF!),2) -> #REF! | Y49: =ROUND(T49*(1-AA49),2) -> 20.3 | Z49: =ROUND(T49*(1-AB49),2) -> 20.3 | AA49: 0.3 | AB49: 0.3 | AC49: NC | AD49: NC | AE49: NC | AF49: MEUBLES | AI49: 4 | AL49: 0 | AM49: 14.7 | AN49: 0.3 | AO49: =ROUND(T49*(1-AN49),2) -> 20.3 | AS49: SÉPARATION-TIROIR-180/330-TS218
B50: SMU82 | M50: 96341682 | N50: 0963 41 682 | O50: #N/A | P50: 402.53 | Q50: 1 | R50: 26.8 | S50: 402.53 | T50: 1329 | U50: NC | V50: =IFERROR(ROUNDUP(U50*(80/60),0),"") | W50: SMU82 | X50: =ROUND(T50*(1-#REF!),2) -> #REF! | Y50: =ROUND(T50*(1-AA50),2) -> 930.3 | Z50: =ROUND(T50*(1-AB50),2) -> 930.3 | AA50: 0.3 | AB50: 0.3 | AC50: NC | AD50: NC | AE50: NC | AF50: PREMONTES | AI50: 359.42 | AN50: 0.3 | AO50: =ROUND(T50*(1-AN50),2) -> 930.3 | AS50: MODULE TIROIRS-SMU82
B51: MAM207 | M51: 963580178 | N51: 0963 580 178 | O51: MAM207 | P51: 10.54 | Q51: 1 | R51: 0.8 | S51: 10.54 | T51: 39 | U51: NC | V51: =IFERROR(ROUNDUP(U51*(80/60),0),"") | W51: MAM207 | X51: =ROUND(T51*(1-#REF!),2) -> #REF! | Y51: =ROUND(T51*(1-AA51),2) -> 27.3 | Z51: =ROUND(T51*(1-AB51),2) -> 27.3 | AA51: 0.3 | AB51: 0.3 | AC51: NC | AD51: NC | AE51: NC | AF51: MEUBLES | AI51: 10.13 | AL51: 0 | AM51: 27.3 | AN51: 0.3 | AO51: =ROUND(T51*(1-AN51),2) -> 27.3 | AS51: TAPIS-ANTIDERAPANT-VEH-MAM207
B52: SHS02 | M52: 963580889 | N52: 0963 580 889 | O52: SHS02 | P52: 107.7 | Q52: 1 | R52: 2.056 | S52: 107.7 | T52: 259 | U52: NC | V52: =IFERROR(ROUNDUP(U52*(80/60),0),"") | W52: SHS02 | X52: =ROUND(T52*(1-#REF!),2) -> #REF! | Y52: =ROUND(T52*(1-AA52),2) -> 181.3 | Z52: =ROUND(T52*(1-AB52),2) -> 181.3 | AA52: 0.3 | AB52: 0.3 | AC52: NC | AD52: NC | AE52: NC | AF52: VAN LOCK | AI52: 126.28 | AL52: 0 | AM52: 180.6 | AN52: 0.3 | AO52: =ROUND(T52*(1-AN52),2) -> 181.3 | AS52: SERRURE-2PC-VEH-SATURN-EVO-SHS02
...

Sheet Feuil1
A1: Constructeur | D1: Produit | H1: Constructeur | I1: Modèle | J1: Année | K1: LH | L1: Empatement | N1: Constructeur
A2: CITROEN | B2: NEMO | D2: PLANCHER | H2: CITROEN | I2: BERLINGO | J2: 2008 | K2: L1H1 | L2: 2728 | N2: CITROEN
A3: CITROEN | B3: BERLINGO | D3: PROTECTIONS_LATERALES | H3: CITROEN | I3: BERLINGO | J3: 2008 | K3: L2H1 | L3: 2728 | N3: DACIA
A4: CITROEN | B4: JUMPY | D4: PASSAGE_DE_ROUES | H4: CITROEN | I4: JUMPER | J4: 2006 | K4: L1H1 | L4: 3000 | N4: FIAT
A5: CITROEN | B5: JUMPER | D5: KIT_DE_PROTECTION | H5: CITROEN | I5: JUMPER | J5: 2006 | K5: L1H2 | L5: 3000 | N5: FORD
A6: DACIA | B6: DOKKER | H6: CITROEN | I6: JUMPER | J6: 2006 | K6: L2H1 | L6: 3450 | N6: IVECO
A7: FIAT | B7: FIORINO | D7: Standard | H7: CITROEN | I7: JUMPER | J7: 2006 | K7: L2H2 | L7: 3450 | N7: MAN
A8: FIAT | B8: DOBLO | D8: Pro | H8: CITROEN | I8: JUMPER | J8: 2006 | K8: L3H2 | L8: 4035 | N8: MERCEDES
A9: FIAT | B9: TALENTO | H9: CITROEN | I9: JUMPER | J9: 2006 | K9: L3H3 | L9: 4035 | N9: NISSAN
A10: FIAT | B10: DUCATO | D10: Hayon | H10: CITROEN | I10: JUMPER | J10: 2006 | K10: L4H2 | L10: 4035XL | N10: OPEL
A11: FORD | B11: TRANSIT_COURIER | D11: Portes Battantes | H11: CITROEN | I11: JUMPER | J11: 2006 | K11: L4H3 | L11: 4035XL | N11: PEUGEOT
A12: FORD | B12: TRANSIT_CONNECT | H12: CITROEN | I12: JUMPY | J12: 2016 | K12: L2H1 | L12: 3275 | N12: RENAULT
A13: FORD | B13: CUSTOM | D13: Gauche | H13: CITROEN | I13: NEMO | J13: 2008 | K13: L1H1 | L13: 2513 | N13: TOYOTA
A14: FORD | B14: TRANSIT_TRACTION | D14: Droite | H14: DACIA | I14: DOKKER | J14: 2009 | K14: L1H1 | L14: 2810 | N14: VOLKSWAGEN
A15: FORD | B15: TRANSIT_PROPULSION | D15: Sans | H15: FIAT | I15: DOBLO | J15: 2010 | K15: L1H1 | L15: 2755
A16: IVECO | B16: DAILY | D16: Les 2 | H16: FIAT | I16: DOBLO | J16: 2010 | K16: L1H2 | L16: 2755
A17: MERCEDES | B17: CITAN | H17: FIAT | I17: DOBLO | J17: 2010 | K17: L2H1 | L17: 3105
A18: MERCEDES | B18: VITO | D18: RJ | H18: FIAT | I18: DUCATO | J18: 2006 | K18: L1H1 | L18: 3000
A19: MERCEDES | B19: SPRINTER | H19: FIAT | I19: DUCATO | J19: 2006 | K19: L1H2 | L19: 3000
A20: NISSAN | B20: NV_200 | H20: FIAT | I20: DUCATO | J20: 2006 | K20: L2H1 | L20: 3450
A21: NISSAN | B21: NV_300 | H21: FIAT | I21: DUCATO | J21: 2006 | K21: L2H2 | L21: 3450
A22: NISSAN | B22: NV_400_TRACTION | D22: Tôlée | H22: FIAT | I22: DUCATO | J22: 2006 | K22: L4H2 | L22: 4035
A23: NISSAN | B23: NV_400_PROPULSION | D23: Tubes | H23: FIAT | I23: DUCATO | J23: 2006 | K23: L4H3 | L23: 4035
A24: OPEL | B24: COMBO | D24: Grilles | H24: FIAT | I24: DUCATO | J24: 2006 | K24: L5H2 | L24: 4035XL
A25: OPEL | B25: VIVARO | H25: FIAT | I25: DUCATO | J25: 2006 | K25: L5H3 | L25: 4035XL
A26: OPEL | B26: MOVANO_TRACTION | H26: FIAT | I26: FIORINO | J26: 2008 | K26: L1H1 | L26: 2513
A27: OPEL | B27: MOVANO_PROPULSION | D27: OUI | H27: FIAT | I27: TALENTO | J27: 2016 | K27: L1H1 | L27: 3098
A28: PEUGEOT | B28: BIPPER | D28: NON | H28: FIAT | I28: TALENTO | J28: 2016 | K28: L1H2 | L28: 3098
A29: PEUGEOT | B29: PARTNER | H29: FIAT | I29: TALENTO | J29: 2016 | K29: L2H1 | L29: 3498
A30: PEUGEOT | B30: EXPERT | D30: OUI | H30: FIAT | I30: TALENTO | J30: 2016 | K30: L2H2 | L30: 3498
A31: PEUGEOT | B31: BOXER | D31: NON | H31: FORD | I31: CUSTOM | J31: 2012 | K31: L1H1 | L31: 2933
A32: RENAULT | B32: KANGOO | H32: FORD | I32: CUSTOM | J32: 2012 | K32: L1H2 | L32: 2933
A33: RENAULT | B33: TRAFIC | H33: FORD | I33: CUSTOM | J33: 2012 | K33: L2H1 | L33: 3300
A34: RENAULT | B34: MASTER_TRACTION | D34: BON DE COMMANDE | H34: FORD | I34: CUSTOM | J34: 2012 | K34: L2H2 | L34: 3300
A35: RENAULT | B35: MASTER_PROPULSION | D35: DEVIS | H35: FORD | I35: TRANSIT_CONNECT | J35: 2014 | K35: L1H1 | L35: 2662
A36: TOYOTA | B36: PROACE | H36: FORD | I36: TRANSIT_CONNECT | J36: 2014 | K36: L2H1 | L36: 3062
A37: VOLKSWAGEN | B37: CADDY | H37: FORD | I37: TRANSIT_COURIER | J37: 2014 | K37: L1H1 | L37: 2489
A38: VOLKSWAGEN | B38: T_6 | D38: Technicien | H38: FORD | I38: TRANSIT_PROPULSION | J38: 2014 | K38: L2H2 | L38: 3300
A39: VOLKSWAGEN | B39: CRAFTER_TRACTION | D39: Carrossier | H39: FORD | I39: TRANSIT_PROPULSION | J39: 2014 | K39: L2H3 | L39: 3300
A40: VOLKSWAGEN | B40: CRAFTER_PROPULSION | D40: Client | H40: FORD | I40: TRANSIT_PROPULSION | J40: 2014 | K40: L3H2 | L40: 3750
...

Sheet MASTER L2H2
A1: Raccourci | C1: Référence | D1: Désignation
A3: A : LES PROTECTIONS
A4: =IFERROR(VLOOKUP(C4,base!N:AK,10,FALSE),"") | B4: PLANCHER | C4: 0963 941 328 | D4: =IFERROR(VLOOKUP(C4,base!N:AS,32,FALSE),"")
A5: =IFERROR(VLOOKUP(C5,base!N:AK,10,FALSE),"") | B5: PROTECTIONS_LATERALES | C5: 0963 941 329 | D5: =IFERROR(VLOOKUP(C5,base!N:AS,32,FALSE),"")
A6: =IFERROR(VLOOKUP(C6,base!N:AK,10,FALSE),"") | B6: PASSAGE_DE_ROUES | C6: 0963 941 331 | D6: =IFERROR(VLOOKUP(C6,base!N:AS,32,FALSE),"")
A7: =IFERROR(VLOOKUP(C7,base!N:AK,10,FALSE),"") | B7: KIT_DE_PROTECTION | C7: 0963 941 333
D8: PROTECTIONS_LATERALES
A9: B : L'AMENAGEMENT | D9: PASSAGE_DE_ROUES
A10: Côté Gauche : | D10: KIT_DE_PROTECTION
A11: MUOK11 | C11: =IFERROR(VLOOKUP(A11,base!B:AM,13,FALSE),"") -> 0963 532 011 | D11: =IFERROR(VLOOKUP(A11,base!B:AS,44,FALSE),"") -> CAISSON PASSAGE DE ROUE PLAQUE-MUOK11
A12: MLR3 | C12: =IFERROR(VLOOKUP(A12,base!B:AM,13,FALSE),"") -> 0963 547 703 | D12: =IFERROR(VLOOKUP(A12,base!B:AS,44,FALSE),"") -> ETAGÈRE-DE-STOCKAGE-À-REBORD-MLR3
A13: MUOB31 | C13: =IFERROR(VLOOKUP(A13,base!B:AM,13,FALSE),"") -> 0963 533 031 | D13: =IFERROR(VLOOKUP(A13,base!B:AS,44,FALSE),"") -> CAISSON PASSAGE DE ROUE OUVERT-MUOB31
A14: MLBR24 | C14: =IFERROR(VLOOKUP(A14,base!B:AM,13,FALSE),"") -> 0963 548 724 | D14: =IFERROR(VLOOKUP(A14,base!B:AS,44,FALSE),"") -> ETAGÈRE-DE-STOCKAGE-6-BOITES-MLBR24
A15: MADL4L | C15: =IFERROR(VLOOKUP(A15,base!B:AM,13,FALSE),"") -> 0963 577 004 | D15: =IFERROR(VLOOKUP(A15,base!B:AS,44,FALSE),"") -> PAIRE-DE-REHAUSSES-MADL4
A16: MLR11 | C16: =IFERROR(VLOOKUP(A16,base!B:AM,13,FALSE),"") -> 0963 547 711 | D16: =IFERROR(VLOOKUP(A16,base!B:AS,44,FALSE),"") -> ETAGÈRE-DE-STOCKAGE-À-REBORD-MLR11
A17: MADL10M | C17: =IFERROR(VLOOKUP(A17,base!B:AM,13,FALSE),"") -> 0963 577 010 | D17: =IFERROR(VLOOKUP(A17,base!B:AS,44,FALSE),"") -> PAIRE-DE-REHAUSSES-MADL10
A18: MADL11L | C18: =IFERROR(VLOOKUP(A18,base!B:AM,13,FALSE),"") -> 0963 577 011 | D18: =IFERROR(VLOOKUP(A18,base!B:AS,44,FALSE),"") -> PAIRE-DE-REHAUSSES-MADL11
A19: MADL11M | C19: =IFERROR(VLOOKUP(A19,base!B:AM,13,FALSE),"") -> 0963 577 011 | D19: =IFERROR(VLOOKUP(A19,base!B:AS,44,FALSE),"") -> PAIRE-DE-REHAUSSES-MADL11
A20: LW5 | C20: =IFERROR(VLOOKUP(A20,base!B:AM,13,FALSE),"") -> 0963 545 607 | D20: =IFERROR(VLOOKUP(A20,base!B:AS,44,FALSE),"") -> BAC POUR PIECES LONGUES-MLW5
A21: MKM532 | C21: =IFERROR(VLOOKUP(A21,base!B:AM,13,FALSE),"") -> 0963 542 532 | D21: =IFERROR(VLOOKUP(A21,base!B:AS,44,FALSE),"") -> MODULE POUR 2 COFFRETS -MKM532
A22: MKM533 | C22: =IFERROR(VLOOKUP(A22,base!B:AM,13,FALSE),"") -> 0963 542 533 | D22: =IFERROR(VLOOKUP(A22,base!B:AS,44,FALSE),"") -> MODULE COFFRETS MKM533
C23: =IFERROR(VLOOKUP(A23,base!B:AM,13,FALSE),"") | D23: =IFERROR(VLOOKUP(A23,base!B:AS,44,FALSE),"")
A24: Au choix : | C24: =IFERROR(VLOOKUP(A24,base!B:AM,13,FALSE),"") | D24: =IFERROR(VLOOKUP(A24,base!B:AS,44,FALSE),"")
A25: MSBS | C25: =IFERROR(VLOOKUP(A25,base!B:AM,13,FALSE),"") -> 0963 022 030 | D25: =IFERROR(VLOOKUP(A25,base!B:AS,44,FALSE),"") -> KIT-DE-FIXATION-LATERAL-MSBS
A26: BSS | C26: =IFERROR(VLOOKUP(A26,base!B:AM,13,FALSE),"") -> 0963 80 502 | D26: =IFERROR(VLOOKUP(A26,base!B:AS,44,FALSE),"") -> KIT DE FIXATION MONTAGE FLOTTANT
A27: BSS9 | C27: =IFERROR(VLOOKUP(A27,base!B:AM,13,FALSE),"") -> 0963 940 998 | D27: =IFERROR(VLOOKUP(A27,base!B:AS,44,FALSE),"") -> Kit de fixation montage flottant 9mm
A28: PM | C28: =IFERROR(VLOOKUP(A28,base!B:AM,13,FALSE),"") -> 0996 32 | D28: =IFERROR(VLOOKUP(A28,base!B:AS,44,FALSE),"") -> Prémontage
A30: AMENAGEMENT | C30: =IFERROR(VLOOKUP(A30,base!B:AM,13,FALSE),"") | D30: =IFERROR(VLOOKUP(A30,base!B:AS,44,FALSE),"")
A31: Côté Droit : | C31: =IFERROR(VLOOKUP(A31,base!B:AM,13,FALSE),"") | D31: =IFERROR(VLOOKUP(A31,base!B:AS,44,FALSE),"")
A32: MWD380 | C32: =IFERROR(VLOOKUP(A32,base!B:AM,13,FALSE),"") -> 0963 535 380 | D32: =IFERROR(VLOOKUP(A32,base!B:AS,44,FALSE),"") -> CAISSON PASSAGE DE ROUE ETABLI EX-MWD380
A33: MKS12 | C33: =IFERROR(VLOOKUP(A33,base!B:AM,13,FALSE),"") -> 0963 543 412 | D33: =IFERROR(VLOOKUP(A33,base!B:AS,44,FALSE),"") -> ARMOIRE MKS12
A34: MSM32 | C34: =IFERROR(VLOOKUP(A34,base!B:AM,13,FALSE),"") -> 0963 541 132 | D34: =IFERROR(VLOOKUP(A34,base!B:AS,44,FALSE),"") -> MODULE TIROIRS-MSM32
A35: MLR13 | C35: =IFERROR(VLOOKUP(A35,base!B:AM,13,FALSE),"") -> 0963 547 713 | D35: =IFERROR(VLOOKUP(A35,base!B:AS,44,FALSE),"") -> ETAGÈRE-DE-STOCKAGE-À-REBORD-MLR13
A36: MADL10US | C36: =IFERROR(VLOOKUP(A36,base!B:AM,13,FALSE),"") -> 0963 577 010 | D36: =IFERROR(VLOOKUP(A36,base!B:AS,44,FALSE),"") -> PAIRE-DE-REHAUSSES-MADL10
... A38: MRA18 | C38: =IFERROR(VLOOKUP(A38,base!B:AM,13,FALSE),"") -> 0963 546 618 | D38: =IFERROR(VLOOKUP(A38,base!B:AS,44,FALSE),"") -> ELÉMENT-CADRE-DE-FINITION-MRA18
C39: =IFERROR(VLOOKUP(A39,base!B:AM,13,FALSE),"") | D39: =IFERROR(VLOOKUP(A39,base!B:AS,44,FALSE),"")
A40: Au choix : | C40: =IFERROR(VLOOKUP(A40,base!B:AM,13,FALSE),"") | D40: =IFERROR(VLOOKUP(A40,base!B:AS,44,FALSE),"")
A41: MSBS | C41: =IFERROR(VLOOKUP(A41,base!B:AM,13,FALSE),"") -> 0963 022 030 | D41: =IFERROR(VLOOKUP(A41,base!B:AS,44,FALSE),"") -> KIT-DE-FIXATION-LATERAL-MSBS
A42: BSS | C42: =IFERROR(VLOOKUP(A42,base!B:AM,13,FALSE),"") -> 0963 80 502 | D42: =IFERROR(VLOOKUP(A42,base!B:AS,44,FALSE),"") -> KIT DE FIXATION MONTAGE FLOTTANT
A43: BSS9 | C43: =IFERROR(VLOOKUP(A43,base!B:AM,13,FALSE),"") -> 0963 940 998 | D43: =IFERROR(VLOOKUP(A43,base!B:AS,44,FALSE),"") -> Kit de fixation montage flottant 9mm
...

Sheet KANGOO
A1: Raccourci | C1: Référence | D1: Désignation
A3: A : LES PROTECTIONS
A4: =IFERROR(VLOOKUP(C4,base!N:AK,10,FALSE),"") -> TYP196L1H1PLSTD | B4: PLANCHER | C4: 0963 940 709 | D4: =IFERROR(VLOOKUP(C4,base!N:AS,32,FALSE),"") -> TYP196 L1H1 2013 PLANCHER 9mm
A5: =IFERROR(VLOOKUP(C5,base!N:AK,10,FALSE),"") -> TYP196L1H1HASTD | B5: PROTECTIONS_LATERALES | C5: 0963 940 710 | D5: =IFERROR(VLOOKUP(C5,base!N:AS,32,FALSE),"") -> TYP196 L1H1 2013 PROT LAT HDF 4mm
A6: =IFERROR(VLOOKUP(C6,base!N:AK,10,FALSE),"") | B6: PASSAGE_DE_ROUES | C6: 0963 940 707 | D6: =IFERROR(VLOOKUP(C6,base!N:AS,32,FALSE),"")
A7: =IFERROR(VLOOKUP(C7,base!N:AK,10,FALSE),"") -> TYP196L1H1KITSTD | B7: KIT_DE_PROTECTION | C7: 0963 940 705 | D7: =IFERROR(VLOOKUP(C7,base!N:AS,32,FALSE),"") -> TYP196 L1H1 2013 KIT COMPLET ECO
A9: B : L'AMENAGEMENT
A10: Côté Gauche :
A11: MUMK36 | C11: =IFERROR(VLOOKUP(A11,base!B:AM,13,FALSE),"") -> 0963 534 036 | D11: =IFERROR(VLOOKUP(A11,base!B:AS,44,FALSE),"") -> CAISSON PASSAGE DE ROUE CLAPET-MUMK36
A12: MLR52 | C12: =IFERROR(VLOOKUP(A12,base!B:AM,13,FALSE),"") -> 0963 547 752 | D12: =IFERROR(VLOOKUP(A12,base!B:AS,44,FALSE),"") -> ETAGÈRE-DE-STOCKAGE-À-REBORD-MLR52
A13: MLBR32 | C13: =IFERROR(VLOOKUP(A13,base!B:AM,13,FALSE),"") -> 0963 548 732 | D13: =IFERROR(VLOOKUP(A13,base!B:AS,44,FALSE),"") -> ETAGÈRE-DE-STOCKAGE-7-BOITES-MLBR32
A14: MRA30 | C14: =IFERROR(VLOOKUP(A14,base!B:AM,13,FALSE),"") -> 0963 546 630 | D14: =IFERROR(VLOOKUP(A14,base!B:AS,44,FALSE),"") -> ELÉMENT-CADRE-DE-FINITION-MRA30
C15: =IFERROR(VLOOKUP(A15,base!B:AM,13,FALSE),"") | D15: =IFERROR(VLOOKUP(A15,base!B:AS,44,FALSE),"")
C16: =IFERROR(VLOOKUP(A16,base!B:AM,13,FALSE),"") | D16: =IFERROR(VLOOKUP(A16,base!B:AS,44,FALSE),"")
C17: =IFERROR(VLOOKUP(A17,base!B:AM,13,FALSE),"") | D17: =IFERROR(VLOOKUP(A17,base!B:AS,44,FALSE),"")
C18: =IFERROR(VLOOKUP(A18,base!B:AM,13,FALSE),"") | D18: =IFERROR(VLOOKUP(A18,base!B:AS,44,FALSE),"")
C19: =IFERROR(VLOOKUP(A19,base!B:AM,13,FALSE),"") | D19: =IFERROR(VLOOKUP(A19,base!B:AS,44,FALSE),"")
A20: Au choix : | C20: =IFERROR(VLOOKUP(A20,base!B:AM,13,FALSE),"") | D20: =IFERROR(VLOOKUP(A20,base!B:AS,44,FALSE),"")
A21: MSBS | C21: =IFERROR(VLOOKUP(A21,base!B:AM,13,FALSE),"") -> 0963 022 030 | D21: =IFERROR(VLOOKUP(A21,base!B:AS,44,FALSE),"") -> KIT-DE-FIXATION-LATERAL-MSBS
A22: BSS | C22: =IFERROR(VLOOKUP(A22,base!B:AM,13,FALSE),"") -> 0963 80 502 | D22: =IFERROR(VLOOKUP(A22,base!B:AS,44,FALSE),"") -> KIT DE FIXATION MONTAGE FLOTTANT
A23: BSS9 | C23: =IFERROR(VLOOKUP(A23,base!B:AM,13,FALSE),"") -> 0963 940 998 | D23: =IFERROR(VLOOKUP(A23,base!B:AS,44,FALSE),"") -> Kit de fixation montage flottant 9mm
A24: PM | C24: =IFERROR(VLOOKUP(A24,base!B:AM,13,FALSE),"") -> 0996 32 | D24: =IFERROR(VLOOKUP(A24,base!B:AS,44,FALSE),"") -> Prémontage
A26: AMENAGEMENT | C26: =IFERROR(VLOOKUP(A26,base!B:AM,13,FALSE),"") | D26: =IFERROR(VLOOKUP(A26,base!B:AS,44,FALSE),"")
A27: Côté Droit : | C27: =IFERROR(VLOOKUP(A27,base!B:AM,13,FALSE),"") | D27: =IFERROR(VLOOKUP(A27,base!B:AS,44,FALSE),"")
A28: ZSA995 | C28: =IFERROR(VLOOKUP(A28,base!B:AM,13,FALSE),"") -> 0963 80 245 | D28: =IFERROR(VLOOKUP(A28,base!B:AS,44,FALSE),"") -> Rail Alu 995 mm ZSA 995
A29: RZG1000 | C29: =IFERROR(VLOOKUP(A29,base!B:AM,13,FALSE),"") -> 0963 80 206 | D29: =IFERROR(VLOOKUP(A29,base!B:AS,44,FALSE),"") -> SANGLE D'ARRIMAGE RZG 1000
C30: =IFERROR(VLOOKUP(A30,base!B:AM,13,FALSE),"") | D30: =IFERROR(VLOOKUP(A30,base!B:AS,44,FALSE),"")
C31: =IFERROR(VLOOKUP(A31,base!B:AM,13,FALSE),"") | D31: =IFERROR(VLOOKUP(A31,base!B:AS,44,FALSE),"")
C32: =IFERROR(VLOOKUP(A32,base!B:AM,13,FALSE),"") | D32: =IFERROR(VLOOKUP(A32,base!B:AS,44,FALSE),"")
C33: =IFERROR(VLOOKUP(A33,base!B:AM,13,FALSE),"") | D33: =IFERROR(VLOOKUP(A33,base!B:AS,44,FALSE),"")
C34: =IFERROR(VLOOKUP(A34,base!B:AM,13,FALSE),"") | D34: =IFERROR(VLOOKUP(A34,base!B:AS,44,FALSE),"")
C35: =IFERROR(VLOOKUP(A35,base!B:AM,13,FALSE),"") | D35: =IFERROR(VLOOKUP(A35,base!B:AS,44,FALSE),"")
A36: Au choix : | C36: =IFERROR(VLOOKUP(A36,base!B:AM,13,FALSE),"") | D36: =IFERROR(VLOOKUP(A36,base!B:AS,44,FALSE),"")
A37: MSBS | C37: =IFERROR(VLOOKUP(A37,base!B:AM,13,FALSE),"") -> 0963 022 030 | D37: =IFERROR(VLOOKUP(A37,base!B:AS,44,FALSE),"") -> KIT-DE-FIXATION-LATERAL-MSBS
A38: BSS | C38: =IFERROR(VLOOKUP(A38,base!B:AM,13,FALSE),"") -> 0963 80 502 | D38: =IFERROR(VLOOKUP(A38,base!B:AS,44,FALSE),"") -> KIT DE FIXATION MONTAGE FLOTTANT
A39: BSS9 | C39: =IFERROR(VLOOKUP(A39,base!B:AM,13,FALSE),"") -> 0963 940 998 | D39: =IFERROR(VLOOKUP(A39,base!B:AS,44,FALSE),"") -> Kit de fixation montage flottant 9mm
A40: PM | C40: =IFERROR(VLOOKUP(A40,base!B:AM,13,FALSE),"") -> 0996 32 | D40: =IFERROR(VLOOKUP(A40,base!B:AS,44,FALSE),"") -> Prémontage
A42: AMENAGEMENT | C42: =IFERROR(VLOOKUP(A42,base!B:AM,13,FALSE),"") | D42: =IFERROR(VLOOKUP(A42,base!B:AS,44,FALSE),"")
A43: Dos de Cabine : | C43: =IFERROR(VLOOKUP(A43,base!B:AM,13,FALSE),"") | D43: =IFERROR(VLOOKUP(A43,base!B:AS,44,FALSE),"")
A44: ZSA995 | C44: =IFERROR(VLOOKUP(A44,base!B:AM,13,FALSE),"") -> 0963 80 245 | D44: =IFERROR(VLOOKUP(A44,base!B:AS,44,FALSE),"") -> Rail Alu 995 mm ZSA 995
...

Sheet Bon de Commande
F1: Protections
B2: Réfs | C2: TARIFS 2020 | D2: Qtités | E2: TOTAUX
A4: Renault TRAFIC L1H1 empattement 3098 mm année millésime 2014 | E4: =VLOOKUP(A4,'listes déroulantes'!A7:B9,2,FALSE) -> TRAFIC
A5: A. Les PROTECTIONS : Au choix, selon le véhicule :
A7: KIT_DE_PROTECTION | B7: =IF($E$4="TRAFIC",VLOOKUP(A7,'Trafic L1H1'!$B$4:$C$7,2,FALSE),IF($E$4="MASTER_TRACTION",VLOOKUP(A7,'MASTER L2H2'!$B$4:$C$7,2,FALSE))) -> 0963 940 608 | C7: =IF($E$4="TRAFIC",VLOOKUP(B7,'Trafic L1H1'!$C$4:$E$7,7,FALSE),IF($E$4="MASTER_TRACTION",VLOOKUP(B7,'MASTER L2H2'!$C$4:$E$7,8,FALSE))) -> #REF! | D7: 1 | E7: =SUM(C7*D7) -> #REF!
A8: (Plancher 12mm + Protections Latérales 4,2mm + Passage de roues)
A9: PLANCHER | B9: =IF($E$4="TRAFIC",VLOOKUP(A9,'Trafic L1H1'!$B$4:$C$7,2,FALSE),IF($E$4="MASTER_TRACTION",VLOOKUP(A9,'MASTER L2H2'!$B$4:$C$7,2,FALSE))) -> 0963 940 604 | C9: =IF($E$4="TRAFIC",VLOOKUP(B9,'Trafic L1H1'!$C$4:$E$7,7,FALSE),IF($E$4="MASTER_TRACTION",VLOOKUP(B9,'MASTER L2H2'!$C$4:$E$7,8,FALSE))) -> #REF! | D9: 0 | E9: =SUM(C9*D9) -> #REF!
A10: PROTECTIONS_LATERALES | B10: =IF($E$4="TRAFIC",VLOOKUP(A10,'Trafic L1H1'!$B$4:$C$7,2,FALSE),IF($E$4="MASTER_TRACTION",VLOOKUP(A10,'MASTER L2H2'!$B$4:$C$7,2,FALSE))) -> 0963 940 607 | C10: =IF($E$4="TRAFIC",VLOOKUP(B10,'Trafic L1H1'!$C$4:$E$7,7,FALSE),IF($E$4="MASTER_TRACTION",VLOOKUP(B10,'MASTER L2H2'!$C$4:$E$7,8,FALSE))) -> #REF! | D10: 0 | E10: =SUM(C10*D10) -> #REF!
A11: PASSAGE_DE_ROUES | B11: =IF($E$4="TRAFIC",VLOOKUP(A11,'Trafic L1H1'!$B$4:$C$7,2,FALSE),IF($E$4="MASTER_TRACTION",VLOOKUP(A11,'MASTER L2H2'!$B$4:$C$7,2,FALSE))) -> 0963 940 602 | C11: =IF($E$4="TRAFIC",VLOOKUP(B11,'Trafic L1H1'!$C$4:$E$7,7,FALSE),IF($E$4="MASTER_TRACTION",VLOOKUP(B11,'MASTER L2H2'!$C$4:$E$7,8,FALSE))) -> #REF! | D11: 0 | E11: =SUM(C11*D11) -> #REF!
A12: … | D12: 0 | E12: =SUM(C12*D12) -> 0
A14: B. Les MODULES ORSYmobil prémontés pour : | D14: Qtités | E14: TOTAUX
A17: Côté Gauche | C17: =IF($E$4="TRAFIC",'Trafic L1H1'!#REF!,'MASTER L2H2'!#REF!) -> #REF! | D17: 1 | E17: =SUM(C17*D17) -> #REF!
A18: Côté Droit | C18: =IF($E$4="TRAFIC",'Trafic L1H1'!#REF!,'MASTER L2H2'!#REF!) -> #REF! | D18: 1 | E18: =SUM(C18*D18) -> #REF!
A19: Dos de Cabine | C19: =IF($E$4="TRAFIC",'Trafic L1H1'!#REF!,'MASTER L2H2'!#REF!) -> #REF! | D19: 1 | E19: =SUM(C19*D19) -> #REF!
A21: C. Les Accessoires : | D21: Qtités | E21: TOTAUX
A23: Selon détail joint | C23: =IF($E$4="TRAFIC",'Trafic L1H1'!#REF!,'MASTER L2H2'!#REF!) -> #REF! | D23: 1 | E23: =SUM(C23:C24)*D23 -> #REF!
A26: D. Les Options (livrées, posées) : | D26: Qtités | E26: TOTAUX
A28: Van Lock Double | B28: =VLOOKUP(A28,'Trafic L1H1'!D79:E82,2,FALSE) -> 5964 000 330 | C28: =VLOOKUP(B28,'Trafic L1H1'!C79:E82,8,FALSE) -> #REF! | D28: 0 | E28: =SUM(C28*D28) -> #REF!
A29: SERRURE-2PC-VEH-SATURN-EVO-SHS02 | B29: =VLOOKUP(A29,'Trafic L1H1'!D80:E83,2,FALSE) -> 0963 580 889 | C29: =VLOOKUP(B29,'Trafic L1H1'!C80:E83,8,FALSE) -> #REF! | D29: 0 | E29: =SUM(C29*D29) -> #REF!
A30: Rail à bride encastré + rail pavillon pour plancher 12 mm | B30: =VLOOKUP(A30,'Trafic L1H1'!D81:E84,2,FALSE) -> 0963 940 999 | C30: =VLOOKUP(B30,'Trafic L1H1'!C81:E84,8,FALSE) -> #REF! | D30: 0 | E30: =SUM(C30*D30) -> #REF!
A31: Barres longueur 2000 mm avec mousses de protection | B31: =VLOOKUP(A31,'Trafic L1H1'!D82:E85,2,FALSE) -> 0963 99 300 | C31: =VLOOKUP(B31,'Trafic L1H1'!C82:E85,8,FALSE) -> #REF! | D31: 0 | E31: =SUM(C31*D31) -> #REF!
A33: E. FORFAITS MONTAGES : | D33: Qtités | E33: TOTAUX
A35: Carrosserie montage 1H niveau 1 | C35: ='Trafic L1H1'!#REF! -> #REF! | D35: =IF($E$4="TRAFIC",'Trafic L1H1'!#REF!,'MASTER L2H2'!#REF!) -> #REF! | E35: =SUM(C35*D35) -> #REF!
C36: 0 | D36: 0 | E36: =SUM(C36*D36) -> 0
C37: 0 | D37: 0 | E37: =SUM(C37*D37) -> 0
A38: F. Divers : | D38: Qtités | E38: TOTAUX
C40: 0 | D40: 1 | E40: =SUM(C40*D40) -> 0
C41: 0 | D41: 1 | E41: =SUM(C41*D41) -> 0
C42: 0 | D42: 1 | E42: =SUM(C42*D42) -> 0
E43: =SUM(E7:E42) -> #REF!
A44: Bon pour Accord : | B44: à :
A48: Signature : | B48: Le :
E51: Page 1/1

Sheet listes déroulantes
A6: Choix Véhicule | B6: Désignation courte
A7: Renault TRAFIC L1H1 empattement 3098 mm année millésime 2014 | B7: TRAFIC
A8: Renault MASTER L2H2 empattement 3682 mm année millésime 2019 | B8: MASTER_TRACTION
A9: Renault KANGOO Express empattement 2697 mm année millésime 2013 | B9: KANGOO
A11: Protection
A12: TRAFIC | B12: 2014 | C12: L1H1 | D12: 3098 | E12: TYP164 | G12: Pro | H12: PASSAGE_DE_ROUES | I12: 0963 940 602 | J12: TYP164 L1H1 2014 PDR 12mm
A13: TRAFIC | B13: 2014 | C13: L1H1 | D13: 3098 | E13: TYP164 | G13: Pro | H13: PLANCHER | I13: 0963 940 604 | J13: TYP164 L1H1 2014 PLANCHER 12mm
A14: TRAFIC | B14: 2014 | C14: L1H1 | D14: 3098 | E14: TYP164 | G14: Pro | H14: PROTECTIONS_LATERALES | I14: 0963 940 607 | J14: TYP164 L1H1 2014 PROT LAT PP 4,2mm
A15: TRAFIC | B15: 2014 | C15: L1H1 | D15: 3098 | E15: TYP164 | G15: Pro | H15: KIT_DE_PROTECTION | I15: 0963 940 608 | J15: TYP164 L1H1 2014 KIT COMPLET PRO
A16: MASTER_TRACTION | B16: 2019 | C16: L2H2 | D16: 3682 | E16: TYP199 | F16: 10,8 m3 | G16: Pro | H16: KIT_DE_PROTECTION | I16: 0963 941 328 | J16: TYP199 L2H2 TRACTION 2019 KIT COMPLET PRO
A17: MASTER_TRACTION | B17: 2019 | C17: L2H2 | D17: 3682 | E17: TYP199 | F17: 10,8 m3 | G17: Pro | H17: PASSAGE_DE_ROUES | I17: 0963 941 329 | J17: TYP199 L2H2 TRACTION 2019 PDR 12mm
A18: MASTER_TRACTION | B18: 2019 | C18: L2H2 | D18: 3682 | E18: TYP199 | F18: 10,8 m3 | G18: Pro | H18: PLANCHER | I18: 0963 941 331 | J18: TYP199 L2H2 TRACTION 2019 PLANCHER 12mm
A19: MASTER_TRACTION | B19: 2019 | C19: L2H2 | D19: 3682 | E19: TYP199 | F19: 10,8 m3 | G19: Pro | H19: PROTECTIONS_LATERALES | I19: 0963 941 333 | J19: TYP199 L2H2 TRACTION 2019 PROT LAT PP 4,2mm
A20: KANGOO | B20: 2013 | C20: L1H1 | D20: 2697 | E20: TYP196 | G20: Pro | H20: PASSAGE_DE_ROUES | I20: 0963 940 706 | J20: TYP196 L1H1 2013 PDR 12mm
A21: KANGOO | B21: 2013 | C21: L1H1 | D21: 2697 | E21: TYP196 | G21: Pro | H21: PLANCHER | I21: 0963 940 708 | J21: TYP196 L1H1 2013 PLANCHER 12mm
A22: KANGOO | B22: 2013 | C22: L1H1 | D22: 2697 | E22: TYP196 | G22: Pro | H22: PROTECTIONS_LATERALES | I22: 0963 940 711 | J22: TYP196 L1H1 2013 PROT LAT PP 4,2mm
A23: KANGOO | B23: 2013 | C23: L1H1 | D23: 2697 | E23: TYP196 | G23: Pro | H23: KIT_DE_PROTECTION | I23: 0963 940 712 | J23: TYP196 L1H1 2013 KIT COMPLET PRO
A25: Protection
