Workbook

Sheet Statistique
B1: Masculin | K1: Féminin | T1: Total
B2: 6 ans et - | C2: 6/8 ans | D2: 8/10 ans | E2: 10/12 ans | F2: 12/14 ans | G2: 14/16 ans | H2: 16 / 18 ans | I2: 18 ans et + | J2: Total | K2: 6 ans et - | L2: 6/8 ans | M2: 8/10 ans | N2: 10/12 ans | O2: 12/14 ans | P2: 14/16 ans | Q2: 16 / 18 ans | R2: 18 ans et + | S2: Total | T2: 6 ans et - | U2: 6/8 ans | V2: 8/10 ans | W2: 10/12 ans | X2: 12/14 ans | Y2: 14/16 ans | Z2: 16 / 18 ans | AA2: 18 ans et + | AB2: Total
A3: Tennis | B3: {=SUMPRODUCT(('Base de données'!$D$2:$D$5=Statistique!$A3)*('Base de données'!$G$2:$G$5=Statistique!B$2)*('Base de données'!$F$2:$F$5=Statistique!$B$1))} -> 0 | C3: {=SUMPRODUCT(('Base de données'!$D$2:$D$5=Statistique!$A3)*('Base de données'!$G$2:$G$5=Statistique!C$2)*('Base de données'!$F$2:$F$5=Statistique!$B$1))} -> 0 | D3: {=SUMPRODUCT(('Base de données'!$D$2:$D$5=Statistique!$A3)*('Base de données'!$G$2:$G$5=Statistique!D$2)*('Base de données'!$F$2:$F$5=Statistique!$B$1))} -> 0 | E3: {=SUMPRODUCT(('Base de données'!$D$2:$D$5=Statistique!$A3)*('Base de données'!$G$2:$G$5=Statistique!E$2)*('Base de données'!$F$2:$F$5=Statistique!$B$1))} -> 0 | F3: {=SUMPRODUCT(('Base de données'!$D$2:$D$5=Statistique!$A3)*('Base de données'!$G$2:$G$5=Statistique!F$2)*('Base de données'!$F$2:$F$5=Statistique!$B$1))} -> 0 | G3: {=SUMPRODUCT(('Base de données'!$D$2:$D$5=Statistique!$A3)*('Base de données'!$G$2:$G$5=Statistique!G$2)*('Base de données'!$F$2:$F$5=Statistique!$B$1))} -> 0 | H3: {=SUMPRODUCT(('Base de données'!$D$2:$D$5=Statistique!$A3)*('Base de données'!$G$2:$G$5=Statistique!H$2)*('Base de données'!$F$2:$F$5=Statistique!$B$1))} -> 0 | I3: {=SUMPRODUCT(('Base de données'!$D$2:$D$5=Statistique!$A3)*('Base de données'!$G$2:$G$5=Statistique!I$2)*('Base de données'!$F$2:$F$5=Statistique!$B$1))} -> 1 | J3: =SUM(B3:I3) -> 1 | K3: {=SUMPRODUCT(('Base de données'!$D$2:$D$5=Statistique!$A3)*('Base de données'!$G$2:$G$5=Statistique!K$2)*('Base de données'!$F$2:$F$5=Statistique!$K$1))} -> 1 | L3: {=SUMPRODUCT(('Base de données'!$D$2:$D$5=Statistique!$A3)*('Base de données'!$G$2:$G$5=Statistique!L$2)*('Base de données'!$F$2:$F$5=Statistique!$K$1))} -> 0 | M3: {=SUMPRODUCT(('Base de données'!$D$2:$D$5=Statistique!$A3)*('Base de données'!$G$2:$G$5=Statistique!M$2)*('Base de données'!$F$2:$F$5=Statistique!$K$1))} -> 0 | N3: {=SUMPRODUCT(('Base de données'!$D$2:$D$5=Statistique!$A3)*('Base de données'!$G$2:$G$5=Statistique!N$2)*('Base de données'!$F$2:$F$5=Statistique!$K$1))} -> 0 | O3: {=SUMPRODUCT(('Base de données'!$D$2:$D$5=Statistique!$A3)*('Base de données'!$G$2:$G$5=Statistique!O$2)*('Base de données'!$F$2:$F$5=Statistique!$K$1))} -> 0 | P3: {=SUMPRODUCT(('Base de données'!$D$2:$D$5=Statistique!$A3)*('Base de données'!$G$2:$G$5=Statistique!P$2)*('Base de données'!$F$2:$F$5=Statistique!$K$1))} -> 0 | Q3: {=SUMPRODUCT(('Base de données'!$D$2:$D$5=Statistique!$A3)*('Base de données'!$G$2:$G$5=Statistique!Q$2)*('Base de données'!$F$2:$F$5=Statistique!$K$1))} -> 0 | R3: {=SUMPRODUCT(('Base de données'!$D$2:$D$5=Statistique!$A3)*('Base de données'!$G$2:$G$5=Statistique!R$2)*('Base de données'!$F$2:$F$5=Statistique!$K$1))} -> 0 | S3: =SUM(K3:R3) -> 1 | T3: =K3+B3 -> 1 | U3: =L3+C3 -> 0 | V3: =M3+D3 -> 0 | W3: =N3+E3 -> 0 | X3: =O3+F3 -> 0 | Y3: =P3+G3 -> 0 | Z3: =Q3+H3 -> 0 | AA3: =R3+I3 -> 1 | AB3: =SUM(T3:AA3) -> 2
A4: Voile | B4: {=SUMPRODUCT(('Base de données'!$D$2:$D$5=Statistique!$A4)*('Base de données'!$G$2:$G$5=Statistique!B$2)*('Base de données'!$F$2:$F$5=Statistique!$B$1))} -> 0 | C4: {=SUMPRODUCT(('Base de données'!$D$2:$D$5=Statistique!$A4)*('Base de données'!$G$2:$G$5=Statistique!C$2)*('Base de données'!$F$2:$F$5=Statistique!$B$1))} -> 0 | D4: {=SUMPRODUCT(('Base de données'!$D$2:$D$5=Statistique!$A4)*('Base de données'!$G$2:$G$5=Statistique!D$2)*('Base de données'!$F$2:$F$5=Statistique!$B$1))} -> 0 | E4: {=SUMPRODUCT(('Base de données'!$D$2:$D$5=Statistique!$A4)*('Base de données'!$G$2:$G$5=Statistique!E$2)*('Base de données'!$F$2:$F$5=Statistique!$B$1))} -> 0 | F4: {=SUMPRODUCT(('Base de données'!$D$2:$D$5=Statistique!$A4)*('Base de données'!$G$2:$G$5=Statistique!F$2)*('Base de données'!$F$2:$F$5=Statistique!$B$1))} -> 0 | G4: {=SUMPRODUCT(('Base de données'!$D$2:$D$5=Statistique!$A4)*('Base de données'!$G$2:$G$5=Statistique!G$2)*('Base de données'!$F$2:$F$5=Statistique!$B$1))} -> 0 | H4: {=SUMPRODUCT(('Base de données'!$D$2:$D$5=Statistique!$A4)*('Base de données'!$G$2:$G$5=Statistique!H$2)*('Base de données'!$F$2:$F$5=Statistique!$B$1))} -> 0 | I4: {=SUMPRODUCT(('Base de données'!$D$2:$D$5=Statistique!$A4)*('Base de données'!$G$2:$G$5=Statistique!I$2)*('Base de données'!$F$2:$F$5=Statistique!$B$1))} -> 1 | J4: =SUM(B4:I4) -> 1 | K4: {=SUMPRODUCT(('Base de données'!$D$2:$D$5=Statistique!$A4)*('Base de données'!$G$2:$G$5=Statistique!K$2)*('Base de données'!$F$2:$F$5=Statistique!$K$1))} -> 0 | L4: {=SUMPRODUCT(('Base de données'!$D$2:$D$5=Statistique!$A4)*('Base de données'!$G$2:$G$5=Statistique!L$2)*('Base de données'!$F$2:$F$5=Statistique!$K$1))} -> 0 | M4: {=SUMPRODUCT(('Base de données'!$D$2:$D$5=Statistique!$A4)*('Base de données'!$G$2:$G$5=Statistique!M$2)*('Base de données'!$F$2:$F$5=Statistique!$K$1))} -> 0 | N4: {=SUMPRODUCT(('Base de données'!$D$2:$D$5=Statistique!$A4)*('Base de données'!$G$2:$G$5=Statistique!N$2)*('Base de données'!$F$2:$F$5=Statistique!$K$1))} -> 0 | O4: {=SUMPRODUCT(('Base de données'!$D$2:$D$5=Statistique!$A4)*('Base de données'!$G$2:$G$5=Statistique!O$2)*('Base de données'!$F$2:$F$5=Statistique!$K$1))} -> 1 | P4: {=SUMPRODUCT(('Base de données'!$D$2:$D$5=Statistique!$A4)*('Base de données'!$G$2:$G$5=Statistique!P$2)*('Base de données'!$F$2:$F$5=Statistique!$K$1))} -> 0 | Q4: {=SUMPRODUCT(('Base de données'!$D$2:$D$5=Statistique!$A4)*('Base de données'!$G$2:$G$5=Statistique!Q$2)*('Base de données'!$F$2:$F$5=Statistique!$K$1))} -> 0 | R4: {=SUMPRODUCT(('Base de données'!$D$2:$D$5=Statistique!$A4)*('Base de données'!$G$2:$G$5=Statistique!R$2)*('Base de données'!$F$2:$F$5=Statistique!$K$1))} -> 0 | S4: =SUM(K4:R4) -> 1 | T4: =K4+B4 -> 0 | U4: =L4+C4 -> 0 | V4: =M4+D4 -> 0 | W4: =N4+E4 -> 0 | X4: =O4+F4 -> 1 | Y4: =P4+G4 -> 0 | Z4: =Q4+H4 -> 0 | AA4: =R4+I4 -> 1 | AB4: =SUM(T4:AA4) -> 2
B5: {=SUMPRODUCT(('Base de données'!$D$2:$D$5=Statistique!$A5)*('Base de données'!$G$2:$G$5=Statistique!B$2)*('Base de données'!$F$2:$F$5=Statistique!$B$1))} -> 0 | C5: {=SUMPRODUCT(('Base de données'!$D$2:$D$5=Statistique!$A5)*('Base de données'!$G$2:$G$5=Statistique!C$2)*('Base de données'!$F$2:$F$5=Statistique!$B$1))} -> 0 | D5: {=SUMPRODUCT(('Base de données'!$D$2:$D$5=Statistique!$A5)*('Base de données'!$G$2:$G$5=Statistique!D$2)*('Base de données'!$F$2:$F$5=Statistique!$B$1))} -> 0 | E5: {=SUMPRODUCT(('Base de données'!$D$2:$D$5=Statistique!$A5)*('Base de données'!$G$2:$G$5=Statistique!E$2)*('Base de données'!$F$2:$F$5=Statistique!$B$1))} -> 0 | F5: {=SUMPRODUCT(('Base de données'!$D$2:$D$5=Statistique!$A5)*('Base de données'!$G$2:$G$5=Statistique!F$2)*('Base de données'!$F$2:$F$5=Statistique!$B$1))} -> 0 | G5: {=SUMPRODUCT(('Base de données'!$D$2:$D$5=Statistique!$A5)*('Base de données'!$G$2:$G$5=Statistique!G$2)*('Base de données'!$F$2:$F$5=Statistique!$B$1))} -> 0 | H5: {=SUMPRODUCT(('Base de données'!$D$2:$D$5=Statistique!$A5)*('Base de données'!$G$2:$G$5=Statistique!H$2)*('Base de données'!$F$2:$F$5=Statistique!$B$1))} -> 0 | I5: {=SUMPRODUCT(('Base de données'!$D$2:$D$5=Statistique!$A5)*('Base de données'!$G$2:$G$5=Statistique!I$2)*('Base de données'!$F$2:$F$5=Statistique!$B$1))} -> 0 | J5: =SUM(B5:I5) -> 0 | K5: {=SUMPRODUCT(('Base de données'!$D$2:$D$5=Statistique!$A5)*('Base de données'!$G$2:$G$5=Statistique!K$2)*('Base de données'!$F$2:$F$5=Statistique!$K$1))} -> 0 | L5: {=SUMPRODUCT(('Base de données'!$D$2:$D$5=Statistique!$A5)*('Base de données'!$G$2:$G$5=Statistique!L$2)*('Base de données'!$F$2:$F$5=Statistique!$K$1))} -> 0 | M5: {=SUMPRODUCT(('Base de données'!$D$2:$D$5=Statistique!$A5)*('Base de données'!$G$2:$G$5=Statistique!M$2)*('Base de données'!$F$2:$F$5=Statistique!$K$1))} -> 0 | N5: {=SUMPRODUCT(('Base de données'!$D$2:$D$5=Statistique!$A5)*('Base de données'!$G$2:$G$5=Statistique!N$2)*('Base de données'!$F$2:$F$5=Statistique!$K$1))} -> 0 | O5: {=SUMPRODUCT(('Base de données'!$D$2:$D$5=Statistique!$A5)*('Base de données'!$G$2:$G$5=Statistique!O$2)*('Base de données'!$F$2:$F$5=Statistique!$K$1))} -> 0 | P5: {=SUMPRODUCT(('Base de données'!$D$2:$D$5=Statistique!$A5)*('Base de données'!$G$2:$G$5=Statistique!P$2)*('Base de données'!$F$2:$F$5=Statistique!$K$1))} -> 0 | Q5: {=SUMPRODUCT(('Base de données'!$D$2:$D$5=Statistique!$A5)*('Base de données'!$G$2:$G$5=Statistique!Q$2)*('Base de données'!$F$2:$F$5=Statistique!$K$1))} -> 0 | R5: {=SUMPRODUCT(('Base de données'!$D$2:$D$5=Statistique!$A5)*('Base de données'!$G$2:$G$5=Statistique!R$2)*('Base de données'!$F$2:$F$5=Statistique!$K$1))} -> 0 | S5: =SUM(K5:R5) -> 0 | T5: =K5+B5 -> 0 | U5: =L5+C5 -> 0 | V5: =M5+D5 -> 0 | W5: =N5+E5 -> 0 | X5: =O5+F5 -> 0 | Y5: =P5+G5 -> 0 | Z5: =Q5+H5 -> 0 | AA5: =R5+I5 -> 0 | AB5: =SUM(T5:AA5) -> 0
B6: {=SUMPRODUCT(('Base de données'!$D$2:$D$5=Statistique!$A6)*('Base de données'!$G$2:$G$5=Statistique!B$2)*('Base de données'!$F$2:$F$5=Statistique!$B$1))} -> 0 | C6: {=SUMPRODUCT(('Base de données'!$D$2:$D$5=Statistique!$A6)*('Base de données'!$G$2:$G$5=Statistique!C$2)*('Base de données'!$F$2:$F$5=Statistique!$B$1))} -> 0 | D6: {=SUMPRODUCT(('Base de données'!$D$2:$D$5=Statistique!$A6)*('Base de données'!$G$2:$G$5=Statistique!D$2)*('Base de données'!$F$2:$F$5=Statistique!$B$1))} -> 0 | E6: {=SUMPRODUCT(('Base de données'!$D$2:$D$5=Statistique!$A6)*('Base de données'!$G$2:$G$5=Statistique!E$2)*('Base de données'!$F$2:$F$5=Statistique!$B$1))} -> 0 | F6: {=SUMPRODUCT(('Base de données'!$D$2:$D$5=Statistique!$A6)*('Base de données'!$G$2:$G$5=Statistique!F$2)*('Base de données'!$F$2:$F$5=Statistique!$B$1))} -> 0 | G6: {=SUMPRODUCT(('Base de données'!$D$2:$D$5=Statistique!$A6)*('Base de données'!$G$2:$G$5=Statistique!G$2)*('Base de données'!$F$2:$F$5=Statistique!$B$1))} -> 0 | H6: {=SUMPRODUCT(('Base de données'!$D$2:$D$5=Statistique!$A6)*('Base de données'!$G$2:$G$5=Statistique!H$2)*('Base de données'!$F$2:$F$5=Statistique!$B$1))} -> 0 | I6: {=SUMPRODUCT(('Base de données'!$D$2:$D$5=Statistique!$A6)*('Base de données'!$G$2:$G$5=Statistique!I$2)*('Base de données'!$F$2:$F$5=Statistique!$B$1))} -> 0 | J6: =SUM(B6:I6) -> 0 | K6: {=SUMPRODUCT(('Base de données'!$D$2:$D$5=Statistique!$A6)*('Base de données'!$G$2:$G$5=Statistique!K$2)*('Base de données'!$F$2:$F$5=Statistique!$K$1))} -> 0 | L6: {=SUMPRODUCT(('Base de données'!$D$2:$D$5=Statistique!$A6)*('Base de données'!$G$2:$G$5=Statistique!L$2)*('Base de données'!$F$2:$F$5=Statistique!$K$1))} -> 0 | M6: {=SUMPRODUCT(('Base de données'!$D$2:$D$5=Statistique!$A6)*('Base de données'!$G$2:$G$5=Statistique!M$2)*('Base de données'!$F$2:$F$5=Statistique!$K$1))} -> 0 | N6: {=SUMPRODUCT(('Base de données'!$D$2:$D$5=Statistique!$A6)*('Base de données'!$G$2:$G$5=Statistique!N$2)*('Base de données'!$F$2:$F$5=Statistique!$K$1))} -> 0 | O6: {=SUMPRODUCT(('Base de données'!$D$2:$D$5=Statistique!$A6)*('Base de données'!$G$2:$G$5=Statistique!O$2)*('Base de données'!$F$2:$F$5=Statistique!$K$1))} -> 0 | P6: {=SUMPRODUCT(('Base de données'!$D$2:$D$5=Statistique!$A6)*('Base de données'!$G$2:$G$5=Statistique!P$2)*('Base de données'!$F$2:$F$5=Statistique!$K$1))} -> 0 | Q6: {=SUMPRODUCT(('Base de données'!$D$2:$D$5=Statistique!$A6)*('Base de données'!$G$2:$G$5=Statistique!Q$2)*('Base de données'!$F$2:$F$5=Statistique!$K$1))} -> 0 | R6: {=SUMPRODUCT(('Base de données'!$D$2:$D$5=Statistique!$A6)*('Base de données'!$G$2:$G$5=Statistique!R$2)*('Base de données'!$F$2:$F$5=Statistique!$K$1))} -> 0 | S6: =SUM(K6:R6) -> 0 | T6: =K6+B6 -> 0 | U6: =L6+C6 -> 0 | V6: =M6+D6 -> 0 | W6: =N6+E6 -> 0 | X6: =O6+F6 -> 0 | Y6: =P6+G6 -> 0 | Z6: =Q6+H6 -> 0 | AA6: =R6+I6 -> 0 | AB6: =SUM(T6:AA6) -> 0
B7: {=SUMPRODUCT(('Base de données'!$D$2:$D$5=Statistique!$A7)*('Base de données'!$G$2:$G$5=Statistique!B$2)*('Base de données'!$F$2:$F$5=Statistique!$B$1))} -> 0 | C7: {=SUMPRODUCT(('Base de données'!$D$2:$D$5=Statistique!$A7)*('Base de données'!$G$2:$G$5=Statistique!C$2)*('Base de données'!$F$2:$F$5=Statistique!$B$1))} -> 0 | D7: {=SUMPRODUCT(('Base de données'!$D$2:$D$5=Statistique!$A7)*('Base de données'!$G$2:$G$5=Statistique!D$2)*('Base de données'!$F$2:$F$5=Statistique!$B$1))} -> 0 | E7: {=SUMPRODUCT(('Base de données'!$D$2:$D$5=Statistique!$A7)*('Base de données'!$G$2:$G$5=Statistique!E$2)*('Base de données'!$F$2:$F$5=Statistique!$B$1))} -> 0 | F7: {=SUMPRODUCT(('Base de données'!$D$2:$D$5=Statistique!$A7)*('Base de données'!$G$2:$G$5=Statistique!F$2)*('Base de données'!$F$2:$F$5=Statistique!$B$1))} -> 0 | G7: {=SUMPRODUCT(('Base de données'!$D$2:$D$5=Statistique!$A7)*('Base de données'!$G$2:$G$5=Statistique!G$2)*('Base de données'!$F$2:$F$5=Statistique!$B$1))} -> 0 | H7: {=SUMPRODUCT(('Base de données'!$D$2:$D$5=Statistique!$A7)*('Base de données'!$G$2:$G$5=Statistique!H$2)*('Base de données'!$F$2:$F$5=Statistique!$B$1))} -> 0 | I7: {=SUMPRODUCT(('Base de données'!$D$2:$D$5=Statistique!$A7)*('Base de données'!$G$2:$G$5=Statistique!I$2)*('Base de données'!$F$2:$F$5=Statistique!$B$1))} -> 0 | J7: =SUM(B7:I7) -> 0 | K7: {=SUMPRODUCT(('Base de données'!$D$2:$D$5=Statistique!$A7)*('Base de données'!$G$2:$G$5=Statistique!K$2)*('Base de données'!$F$2:$F$5=Statistique!$K$1))} -> 0 | L7: {=SUMPRODUCT(('Base de données'!$D$2:$D$5=Statistique!$A7)*('Base de données'!$G$2:$G$5=Statistique!L$2)*('Base de données'!$F$2:$F$5=Statistique!$K$1))} -> 0 | M7: {=SUMPRODUCT(('Base de données'!$D$2:$D$5=Statistique!$A7)*('Base de données'!$G$2:$G$5=Statistique!M$2)*('Base de données'!$F$2:$F$5=Statistique!$K$1))} -> 0 | N7: {=SUMPRODUCT(('Base de données'!$D$2:$D$5=Statistique!$A7)*('Base de données'!$G$2:$G$5=Statistique!N$2)*('Base de données'!$F$2:$F$5=Statistique!$K$1))} -> 0 | O7: {=SUMPRODUCT(('Base de données'!$D$2:$D$5=Statistique!$A7)*('Base de données'!$G$2:$G$5=Statistique!O$2)*('Base de données'!$F$2:$F$5=Statistique!$K$1))} -> 0 | P7: {=SUMPRODUCT(('Base de données'!$D$2:$D$5=Statistique!$A7)*('Base de données'!$G$2:$G$5=Statistique!P$2)*('Base de données'!$F$2:$F$5=Statistique!$K$1))} -> 0 | Q7: {=SUMPRODUCT(('Base de données'!$D$2:$D$5=Statistique!$A7)*('Base de données'!$G$2:$G$5=Statistique!Q$2)*('Base de données'!$F$2:$F$5=Statistique!$K$1))} -> 0 | R7: {=SUMPRODUCT(('Base de données'!$D$2:$D$5=Statistique!$A7)*('Base de données'!$G$2:$G$5=Statistique!R$2)*('Base de données'!$F$2:$F$5=Statistique!$K$1))} -> 0 | S7: =SUM(K7:R7) -> 0 | T7: =K7+B7 -> 0 | U7: =L7+C7 -> 0 | V7: =M7+D7 -> 0 | W7: =N7+E7 -> 0 | X7: =O7+F7 -> 0 | Y7: =P7+G7 -> 0 | Z7: =Q7+H7 -> 0 | AA7: =R7+I7 -> 0 | AB7: =SUM(T7:AA7) -> 0
B8: {=SUMPRODUCT(('Base de données'!$D$2:$D$5=Statistique!$A8)*('Base de données'!$G$2:$G$5=Statistique!B$2)*('Base de données'!$F$2:$F$5=Statistique!$B$1))} -> 0 | C8: {=SUMPRODUCT(('Base de données'!$D$2:$D$5=Statistique!$A8)*('Base de données'!$G$2:$G$5=Statistique!C$2)*('Base de données'!$F$2:$F$5=Statistique!$B$1))} -> 0 | D8: {=SUMPRODUCT(('Base de données'!$D$2:$D$5=Statistique!$A8)*('Base de données'!$G$2:$G$5=Statistique!D$2)*('Base de données'!$F$2:$F$5=Statistique!$B$1))} -> 0 | E8: {=SUMPRODUCT(('Base de données'!$D$2:$D$5=Statistique!$A8)*('Base de données'!$G$2:$G$5=Statistique!E$2)*('Base de données'!$F$2:$F$5=Statistique!$B$1))} -> 0 | F8: {=SUMPRODUCT(('Base de données'!$D$2:$D$5=Statistique!$A8)*('Base de données'!$G$2:$G$5=Statistique!F$2)*('Base de données'!$F$2:$F$5=Statistique!$B$1))} -> 0 | G8: {=SUMPRODUCT(('Base de données'!$D$2:$D$5=Statistique!$A8)*('Base de données'!$G$2:$G$5=Statistique!G$2)*('Base de données'!$F$2:$F$5=Statistique!$B$1))} -> 0 | H8: {=SUMPRODUCT(('Base de données'!$D$2:$D$5=Statistique!$A8)*('Base de données'!$G$2:$G$5=Statistique!H$2)*('Base de données'!$F$2:$F$5=Statistique!$B$1))} -> 0 | I8: {=SUMPRODUCT(('Base de données'!$D$2:$D$5=Statistique!$A8)*('Base de données'!$G$2:$G$5=Statistique!I$2)*('Base de données'!$F$2:$F$5=Statistique!$B$1))} -> 0 | J8: =SUM(B8:I8) -> 0 | K8: {=SUMPRODUCT(('Base de données'!$D$2:$D$5=Statistique!$A8)*('Base de données'!$G$2:$G$5=Statistique!K$2)*('Base de données'!$F$2:$F$5=Statistique!$K$1))} -> 0 | L8: {=SUMPRODUCT(('Base de données'!$D$2:$D$5=Statistique!$A8)*('Base de données'!$G$2:$G$5=Statistique!L$2)*('Base de données'!$F$2:$F$5=Statistique!$K$1))} -> 0 | M8: {=SUMPRODUCT(('Base de données'!$D$2:$D$5=Statistique!$A8)*('Base de données'!$G$2:$G$5=Statistique!M$2)*('Base de données'!$F$2:$F$5=Statistique!$K$1))} -> 0 | N8: {=SUMPRODUCT(('Base de données'!$D$2:$D$5=Statistique!$A8)*('Base de données'!$G$2:$G$5=Statistique!N$2)*('Base de données'!$F$2:$F$5=Statistique!$K$1))} -> 0 | O8: {=SUMPRODUCT(('Base de données'!$D$2:$D$5=Statistique!$A8)*('Base de données'!$G$2:$G$5=Statistique!O$2)*('Base de données'!$F$2:$F$5=Statistique!$K$1))} -> 0 | P8: {=SUMPRODUCT(('Base de données'!$D$2:$D$5=Statistique!$A8)*('Base de données'!$G$2:$G$5=Statistique!P$2)*('Base de données'!$F$2:$F$5=Statistique!$K$1))} -> 0 | Q8: {=SUMPRODUCT(('Base de données'!$D$2:$D$5=Statistique!$A8)*('Base de données'!$G$2:$G$5=Statistique!Q$2)*('Base de données'!$F$2:$F$5=Statistique!$K$1))} -> 0 | R8: {=SUMPRODUCT(('Base de données'!$D$2:$D$5=Statistique!$A8)*('Base de données'!$G$2:$G$5=Statistique!R$2)*('Base de données'!$F$2:$F$5=Statistique!$K$1))} -> 0 | S8: =SUM(K8:R8) -> 0 | T8: =K8+B8 -> 0 | U8: =L8+C8 -> 0 | V8: =M8+D8 -> 0 | W8: =N8+E8 -> 0 | X8: =O8+F8 -> 0 | Y8: =P8+G8 -> 0 | Z8: =Q8+H8 -> 0 | AA8: =R8+I8 -> 0 | AB8: =SUM(T8:AA8) -> 0
B9: {=SUMPRODUCT(('Base de données'!$D$2:$D$5=Statistique!$A9)*('Base de données'!$G$2:$G$5=Statistique!B$2)*('Base de données'!$F$2:$F$5=Statistique!$B$1))} -> 0 | C9: {=SUMPRODUCT(('Base de données'!$D$2:$D$5=Statistique!$A9)*('Base de données'!$G$2:$G$5=Statistique!C$2)*('Base de données'!$F$2:$F$5=Statistique!$B$1))} -> 0 | D9: {=SUMPRODUCT(('Base de données'!$D$2:$D$5=Statistique!$A9)*('Base de données'!$G$2:$G$5=Statistique!D$2)*('Base de données'!$F$2:$F$5=Statistique!$B$1))} -> 0 | E9: {=SUMPRODUCT(('Base de données'!$D$2:$D$5=Statistique!$A9)*('Base de données'!$G$2:$G$5=Statistique!E$2)*('Base de données'!$F$2:$F$5=Statistique!$B$1))} -> 0 | F9: {=SUMPRODUCT(('Base de données'!$D$2:$D$5=Statistique!$A9)*('Base de données'!$G$2:$G$5=Statistique!F$2)*('Base de données'!$F$2:$F$5=Statistique!$B$1))} -> 0 | G9: {=SUMPRODUCT(('Base de données'!$D$2:$D$5=Statistique!$A9)*('Base de données'!$G$2:$G$5=Statistique!G$2)*('Base de données'!$F$2:$F$5=Statistique!$B$1))} -> 0 | H9: {=SUMPRODUCT(('Base de données'!$D$2:$D$5=Statistique!$A9)*('Base de données'!$G$2:$G$5=Statistique!H$2)*('Base de données'!$F$2:$F$5=Statistique!$B$1))} -> 0 | I9: {=SUMPRODUCT(('Base de données'!$D$2:$D$5=Statistique!$A9)*('Base de données'!$G$2:$G$5=Statistique!I$2)*('Base de données'!$F$2:$F$5=Statistique!$B$1))} -> 0 | J9: =SUM(B9:I9) -> 0 | K9: {=SUMPRODUCT(('Base de données'!$D$2:$D$5=Statistique!$A9)*('Base de données'!$G$2:$G$5=Statistique!K$2)*('Base de données'!$F$2:$F$5=Statistique!$K$1))} -> 0 | L9: {=SUMPRODUCT(('Base de données'!$D$2:$D$5=Statistique!$A9)*('Base de données'!$G$2:$G$5=Statistique!L$2)*('Base de données'!$F$2:$F$5=Statistique!$K$1))} -> 0 | M9: {=SUMPRODUCT(('Base de données'!$D$2:$D$5=Statistique!$A9)*('Base de données'!$G$2:$G$5=Statistique!M$2)*('Base de données'!$F$2:$F$5=Statistique!$K$1))} -> 0 | N9: {=SUMPRODUCT(('Base de données'!$D$2:$D$5=Statistique!$A9)*('Base de données'!$G$2:$G$5=Statistique!N$2)*('Base de données'!$F$2:$F$5=Statistique!$K$1))} -> 0 | O9: {=SUMPRODUCT(('Base de données'!$D$2:$D$5=Statistique!$A9)*('Base de données'!$G$2:$G$5=Statistique!O$2)*('Base de données'!$F$2:$F$5=Statistique!$K$1))} -> 0 | P9: {=SUMPRODUCT(('Base de données'!$D$2:$D$5=Statistique!$A9)*('Base de données'!$G$2:$G$5=Statistique!P$2)*('Base de données'!$F$2:$F$5=Statistique!$K$1))} -> 0 | Q9: {=SUMPRODUCT(('Base de données'!$D$2:$D$5=Statistique!$A9)*('Base de données'!$G$2:$G$5=Statistique!Q$2)*('Base de données'!$F$2:$F$5=Statistique!$K$1))} -> 0 | R9: {=SUMPRODUCT(('Base de données'!$D$2:$D$5=Statistique!$A9)*('Base de données'!$G$2:$G$5=Statistique!R$2)*('Base de données'!$F$2:$F$5=Statistique!$K$1))} -> 0 | S9: =SUM(K9:R9) -> 0 | T9: =K9+B9 -> 0 | U9: =L9+C9 -> 0 | V9: =M9+D9 -> 0 | W9: =N9+E9 -> 0 | X9: =O9+F9 -> 0 | Y9: =P9+G9 -> 0 | Z9: =Q9+H9 -> 0 | AA9: =R9+I9 -> 0 | AB9: =SUM(T9:AA9) -> 0
B10: {=SUMPRODUCT(('Base de données'!$D$2:$D$5=Statistique!$A10)*('Base de données'!$G$2:$G$5=Statistique!B$2)*('Base de données'!$F$2:$F$5=Statistique!$B$1))} -> 0 | C10: {=SUMPRODUCT(('Base de données'!$D$2:$D$5=Statistique!$A10)*('Base de données'!$G$2:$G$5=Statistique!C$2)*('Base de données'!$F$2:$F$5=Statistique!$B$1))} -> 0 | D10: {=SUMPRODUCT(('Base de données'!$D$2:$D$5=Statistique!$A10)*('Base de données'!$G$2:$G$5=Statistique!D$2)*('Base de données'!$F$2:$F$5=Statistique!$B$1))} -> 0 | E10: {=SUMPRODUCT(('Base de données'!$D$2:$D$5=Statistique!$A10)*('Base de données'!$G$2:$G$5=Statistique!E$2)*('Base de données'!$F$2:$F$5=Statistique!$B$1))} -> 0 | F10: {=SUMPRODUCT(('Base de données'!$D$2:$D$5=Statistique!$A10)*('Base de données'!$G$2:$G$5=Statistique!F$2)*('Base de données'!$F$2:$F$5=Statistique!$B$1))} -> 0 | G10: {=SUMPRODUCT(('Base de données'!$D$2:$D$5=Statistique!$A10)*('Base de données'!$G$2:$G$5=Statistique!G$2)*('Base de données'!$F$2:$F$5=Statistique!$B$1))} -> 0 | H10: {=SUMPRODUCT(('Base de données'!$D$2:$D$5=Statistique!$A10)*('Base de données'!$G$2:$G$5=Statistique!H$2)*('Base de données'!$F$2:$F$5=Statistique!$B$1))} -> 0 | I10: {=SUMPRODUCT(('Base de données'!$D$2:$D$5=Statistique!$A10)*('Base de données'!$G$2:$G$5=Statistique!I$2)*('Base de données'!$F$2:$F$5=Statistique!$B$1))} -> 0 | J10: =SUM(B10:I10) -> 0 | K10: {=SUMPRODUCT(('Base de données'!$D$2:$D$5=Statistique!$A10)*('Base de données'!$G$2:$G$5=Statistique!K$2)*('Base de données'!$F$2:$F$5=Statistique!$K$1))} -> 0 | L10: {=SUMPRODUCT(('Base de données'!$D$2:$D$5=Statistique!$A10)*('Base de données'!$G$2:$G$5=Statistique!L$2)*('Base de données'!$F$2:$F$5=Statistique!$K$1))} -> 0 | M10: {=SUMPRODUCT(('Base de données'!$D$2:$D$5=Statistique!$A10)*('Base de données'!$G$2:$G$5=Statistique!M$2)*('Base de données'!$F$2:$F$5=Statistique!$K$1))} -> 0 | N10: {=SUMPRODUCT(('Base de données'!$D$2:$D$5=Statistique!$A10)*('Base de données'!$G$2:$G$5=Statistique!N$2)*('Base de données'!$F$2:$F$5=Statistique!$K$1))} -> 0 | O10: {=SUMPRODUCT(('Base de données'!$D$2:$D$5=Statistique!$A10)*('Base de données'!$G$2:$G$5=Statistique!O$2)*('Base de données'!$F$2:$F$5=Statistique!$K$1))} -> 0 | P10: {=SUMPRODUCT(('Base de données'!$D$2:$D$5=Statistique!$A10)*('Base de données'!$G$2:$G$5=Statistique!P$2)*('Base de données'!$F$2:$F$5=Statistique!$K$1))} -> 0 | Q10: {=SUMPRODUCT(('Base de données'!$D$2:$D$5=Statistique!$A10)*('Base de données'!$G$2:$G$5=Statistique!Q$2)*('Base de données'!$F$2:$F$5=Statistique!$K$1))} -> 0 | R10: {=SUMPRODUCT(('Base de données'!$D$2:$D$5=Statistique!$A10)*('Base de données'!$G$2:$G$5=Statistique!R$2)*('Base de données'!$F$2:$F$5=Statistique!$K$1))} -> 0 | S10: =SUM(K10:R10) -> 0 | T10: =K10+B10 -> 0 | U10: =L10+C10 -> 0 | V10: =M10+D10 -> 0 | W10: =N10+E10 -> 0 | X10: =O10+F10 -> 0 | Y10: =P10+G10 -> 0 | Z10: =Q10+H10 -> 0 | AA10: =R10+I10 -> 0 | AB10: =SUM(T10:AA10) -> 0

Sheet TCD
A3: Count of Organisations | B3: Column Labels
B4: Femme | D4: Femme Total | E4: Masculin | F4: Masculin Total | G4: Grand Total
A5: Row Labels | B5: 12/14 ans | C5: 6 ans et - | E5: 18 ans et +
A6: Tennis | C6: 1 | D6: 1 | E6: 1 | F6: 1 | G6: 2
A7: Voile | B7: 1 | D7: 1 | E7: 1 | F7: 1 | G7: 2
A8: Grand Total | B8: 1 | C8: 1 | D8: 2 | E8: 2 | F8: 2 | G8: 4

Sheet Base  de données
A1: ID du Contact | B1: Nom | C1: Prénom | D1: Organisations | E1: Date de naissance / Âge | F1: Sexe | G1: catégorie | N1: catégorie | O1: libellé
B2: ab | C2: d | D2: Tennis | E2: 42103 | F2: Féminin | G2: =INDEX($O$2:$O$9,MATCH(YEAR(TODAY())-YEAR(E2),$N$2:$N$9,1)) -> 6 ans et - | N2: 0 | O2: 6 ans et -
B3: sc | C3: d | D3: Tennis | E3: 37591 | F3: Masculin | G3: =INDEX($O$2:$O$9,MATCH(YEAR(TODAY())-YEAR(E3),$N$2:$N$9,1)) -> 18 ans et + | N3: 6 | O3: 6/8 ans
B4: ds | C4: ss | D4: Voile | E4: 39203 | F4: Féminin | G4: =INDEX($O$2:$O$9,MATCH(YEAR(TODAY())-YEAR(E4),$N$2:$N$9,1)) -> 12/14 ans | N4: 8 | O4: 8/10 ans
B5: ff | C5: gg | D5: Voile | E5: 36820 | F5: Masculin | G5: =INDEX($O$2:$O$9,MATCH(YEAR(TODAY())-YEAR(E5),$N$2:$N$9,1)) -> 18 ans et + | N5: 10 | O5: 10/12 ans
N6: 12 | O6: 12/14 ans
N7: 14 | O7: 14/16 ans
N8: 16 | O8: 16 / 18 ans
N9: 18 | O9: 18 ans et +
