Workbook
Name CindexComp: [1]Données!$B$34
Name CindexComp: [1]Données!$B$34
Name CindexComp: [2]Données!$B$34
Name CindexNote: [1]Données!$B$37
Name CindexNote: [1]Données!$B$37
Name CindexNote: [2]Données!$B$37
Name CindexReuss: [1]Données!$B$39
Name CindexReuss: [1]Données!$B$39
Name CindexReuss: [2]Données!$B$39
Name Compétences: #REF!
Name LindexComp: [1]Données!$A$34
Name LindexComp: [1]Données!$A$34
Name LindexComp: [2]Données!$A$34
Name LindexNote: [1]Données!$A$37
Name LindexNote: [1]Données!$A$37
Name LindexNote: [2]Données!$A$37
Name LindexReuss: [1]Données!$A$39
Name LindexReuss: [1]Données!$A$39
Name LindexReuss: [2]Données!$A$39
Name MarqueurA: [1]Données!$A$3
Name MarqueurA: [1]Données!$A$3
Name MarqueurA: [2]Données!$A$3
Name MarqueurB: [1]Données!$A$4
Name MarqueurB: [1]Données!$A$4
Name MarqueurB: [2]Données!$A$4
Name MarqueurC: [1]Données!$A$5
Name MarqueurC: [1]Données!$A$5
Name MarqueurC: [2]Données!$A$5
Name MarqueurD: [1]Données!$A$6
Name MarqueurD: [1]Données!$A$6
Name MarqueurD: [2]Données!$A$6
Name MarqueurNE: [1]Données!$A$7
Name MarqueurNE: [1]Données!$A$7
Name MarqueurNE: [2]Données!$A$7
Name Poids: Données!$F$11:$F$24
Name Seuil_max_A: Données!$C$11
Name Seuil_max_B: Données!$C$12
Name Seuil_max_C: Données!$C$13
Name Seuil_max_D: Données!$C$14
Name Seuil_min_E: Données!$C$15
Name Seuil_mon_∅: Données!$C$16
Name SeuilDev0: [1]Données!$B$31
Name SeuilDev0: [1]Données!$B$31
Name SeuilDev0: [2]Données!$B$31
Name SeuilDev1: [1]Données!$B$30
Name SeuilDev1: [1]Données!$B$30
Name SeuilDev1: [2]Données!$B$30
Name SeuilDev2: [1]Données!$B$29
Name SeuilDev2: [1]Données!$B$29
Name SeuilDev2: [2]Données!$B$29
Name SeuilDev3: [1]Données!$B$28
Name SeuilDev3: [1]Données!$B$28
Name SeuilDev3: [2]Données!$B$28
Name SeuilMaxB: [1]Données!$B$22
Name SeuilMaxB: [1]Données!$B$22
Name SeuilMaxB: [2]Données!$B$22
Name SeuilMaxC: [1]Données!$B$23
Name SeuilMaxC: [1]Données!$B$23
Name SeuilMaxC: [2]Données!$B$23
Name SeuilMaxD: [1]Données!$B$24

Sheet S1
B1: =Liste!F2 & CHAR(10) & Liste!D2 & "élèves" -> ClasseA 20élèves | L1: Moy. S.1 | M1: Appréciations - 1er Semestre | O1: Nb. de caractère dans l'appréciation (max = 255)
B2: Date | O2: max= | P2: 255
B3: Note sur
B4: Elèves | Coeff. | C4: G.
B5: =Liste!G2 -> Élève n°1 | C5: =Liste!C2 -> G1 | L5: =IF(AND(OR(D5="ABS",D5="N.NOT",D5="N.N"),E5="",F5="",G5="",H5="",I5="",J5="",K5=""),D5,CEILING(20*(IF(AND(D5<>"N.NOT",D5<>"N.N",D5<>"ABS"),D5*$D$4,0)+IF(AND(E5<>"N.NOT",E5<>"N.N",E5<>"ABS"),E5*$E$4,0)+IF(AND(F5<>"N.NOT",F5<>"N.N",F5<>"ABS"),F5*$F$4,0)+IF(AND(G5<>"N.NOT",G5<>"N.N",G5<>"ABS"),G5*$G$4,0)+IF(AND(H5<>"N.NOT",H5<>"N.N",H5<>"ABS"),H5*$H$4,0)+IF(AND(I5<>"N.NOT",I5<>"N.N",I5<>"ABS"),I5*$I$4,0)+IF(AND(J5<>"N.NOT",J5<>"N.N",J5<>"ABS"),J5*$J$4,0)+IF(AND(K5<>"N.NOT",K5<>"N.N",K5<>"ABS"),K5*$K$4,0))/(IF(AND(D5<>"N.NOT",D5<>"N.N",D5<>"ABS"),$D$4*$D$3,0)+IF(AND(E5<>"N.NOT",E5<>"N.N",E5<>"ABS"),$E$4*$E$3,0)+IF(AND(F5<>"N.NOT",F5<>"N.N",F5<>"ABS"),$F$4*$F$3,0)+IF(AND(G5<>"N.NOT",G5<>"N.N",G5<>"ABS"),$G$4*$G$3,0)+IF(AND(H5<>"N.NOT",H5<>"N.N",H5<>"ABS"),$H$4*$H$3,0)+IF(AND(I5<>"N.NOT",I5<>"N.N",I5<>"ABS"),$I$4*$I$3,0)+IF(AND(J5<>"N.NOT",J5<>"N.N",J5<>"ABS"),$J$4*$J$3,0)+IF(AND(K5<>"N.NOT",K5<>"N.N",K5<>"ABS"),$K$4*$K$3,0)),0.1)) -> #DIV/0! | O5: =LEN(M5) -> 0 | P5: / 255
B6: =Liste!G3 -> Élève n°2 | C6: =Liste!C3 -> G1 | L6: =IF(AND(OR(D6="ABS",D6="N.NOT",D6="N.N"),E6="",F6="",G6="",H6="",I6="",J6="",K6=""),D6,CEILING(20*(IF(AND(D6<>"N.NOT",D6<>"N.N",D6<>"ABS"),D6*$D$4,0)+IF(AND(E6<>"N.NOT",E6<>"N.N",E6<>"ABS"),E6*$E$4,0)+IF(AND(F6<>"N.NOT",F6<>"N.N",F6<>"ABS"),F6*$F$4,0)+IF(AND(G6<>"N.NOT",G6<>"N.N",G6<>"ABS"),G6*$G$4,0)+IF(AND(H6<>"N.NOT",H6<>"N.N",H6<>"ABS"),H6*$H$4,0)+IF(AND(I6<>"N.NOT",I6<>"N.N",I6<>"ABS"),I6*$I$4,0)+IF(AND(J6<>"N.NOT",J6<>"N.N",J6<>"ABS"),J6*$J$4,0)+IF(AND(K6<>"N.NOT",K6<>"N.N",K6<>"ABS"),K6*$K$4,0))/(IF(AND(D6<>"N.NOT",D6<>"N.N",D6<>"ABS"),$D$4*$D$3,0)+IF(AND(E6<>"N.NOT",E6<>"N.N",E6<>"ABS"),$E$4*$E$3,0)+IF(AND(F6<>"N.NOT",F6<>"N.N",F6<>"ABS"),$F$4*$F$3,0)+IF(AND(G6<>"N.NOT",G6<>"N.N",G6<>"ABS"),$G$4*$G$3,0)+IF(AND(H6<>"N.NOT",H6<>"N.N",H6<>"ABS"),$H$4*$H$3,0)+IF(AND(I6<>"N.NOT",I6<>"N.N",I6<>"ABS"),$I$4*$I$3,0)+IF(AND(J6<>"N.NOT",J6<>"N.N",J6<>"ABS"),$J$4*$J$3,0)+IF(AND(K6<>"N.NOT",K6<>"N.N",K6<>"ABS"),$K$4*$K$3,0)),0.1)) -> #DIV/0! | O6: =LEN(M6) -> 0 | P6: / 255
B7: =Liste!G4 -> Élève n°3 | C7: =Liste!C4 -> G2 | L7: =IF(AND(OR(D7="ABS",D7="N.NOT",D7="N.N"),E7="",F7="",G7="",H7="",I7="",J7="",K7=""),D7,CEILING(20*(IF(AND(D7<>"N.NOT",D7<>"N.N",D7<>"ABS"),D7*$D$4,0)+IF(AND(E7<>"N.NOT",E7<>"N.N",E7<>"ABS"),E7*$E$4,0)+IF(AND(F7<>"N.NOT",F7<>"N.N",F7<>"ABS"),F7*$F$4,0)+IF(AND(G7<>"N.NOT",G7<>"N.N",G7<>"ABS"),G7*$G$4,0)+IF(AND(H7<>"N.NOT",H7<>"N.N",H7<>"ABS"),H7*$H$4,0)+IF(AND(I7<>"N.NOT",I7<>"N.N",I7<>"ABS"),I7*$I$4,0)+IF(AND(J7<>"N.NOT",J7<>"N.N",J7<>"ABS"),J7*$J$4,0)+IF(AND(K7<>"N.NOT",K7<>"N.N",K7<>"ABS"),K7*$K$4,0))/(IF(AND(D7<>"N.NOT",D7<>"N.N",D7<>"ABS"),$D$4*$D$3,0)+IF(AND(E7<>"N.NOT",E7<>"N.N",E7<>"ABS"),$E$4*$E$3,0)+IF(AND(F7<>"N.NOT",F7<>"N.N",F7<>"ABS"),$F$4*$F$3,0)+IF(AND(G7<>"N.NOT",G7<>"N.N",G7<>"ABS"),$G$4*$G$3,0)+IF(AND(H7<>"N.NOT",H7<>"N.N",H7<>"ABS"),$H$4*$H$3,0)+IF(AND(I7<>"N.NOT",I7<>"N.N",I7<>"ABS"),$I$4*$I$3,0)+IF(AND(J7<>"N.NOT",J7<>"N.N",J7<>"ABS"),$J$4*$J$3,0)+IF(AND(K7<>"N.NOT",K7<>"N.N",K7<>"ABS"),$K$4*$K$3,0)),0.1)) -> #DIV/0! | O7: =LEN(M7) -> 0 | P7: / 255
B8: =Liste!G5 -> Élève n°4 | C8: =Liste!C5 -> G2 | L8: =IF(AND(OR(D8="ABS",D8="N.NOT",D8="N.N"),E8="",F8="",G8="",H8="",I8="",J8="",K8=""),D8,CEILING(20*(IF(AND(D8<>"N.NOT",D8<>"N.N",D8<>"ABS"),D8*$D$4,0)+IF(AND(E8<>"N.NOT",E8<>"N.N",E8<>"ABS"),E8*$E$4,0)+IF(AND(F8<>"N.NOT",F8<>"N.N",F8<>"ABS"),F8*$F$4,0)+IF(AND(G8<>"N.NOT",G8<>"N.N",G8<>"ABS"),G8*$G$4,0)+IF(AND(H8<>"N.NOT",H8<>"N.N",H8<>"ABS"),H8*$H$4,0)+IF(AND(I8<>"N.NOT",I8<>"N.N",I8<>"ABS"),I8*$I$4,0)+IF(AND(J8<>"N.NOT",J8<>"N.N",J8<>"ABS"),J8*$J$4,0)+IF(AND(K8<>"N.NOT",K8<>"N.N",K8<>"ABS"),K8*$K$4,0))/(IF(AND(D8<>"N.NOT",D8<>"N.N",D8<>"ABS"),$D$4*$D$3,0)+IF(AND(E8<>"N.NOT",E8<>"N.N",E8<>"ABS"),$E$4*$E$3,0)+IF(AND(F8<>"N.NOT",F8<>"N.N",F8<>"ABS"),$F$4*$F$3,0)+IF(AND(G8<>"N.NOT",G8<>"N.N",G8<>"ABS"),$G$4*$G$3,0)+IF(AND(H8<>"N.NOT",H8<>"N.N",H8<>"ABS"),$H$4*$H$3,0)+IF(AND(I8<>"N.NOT",I8<>"N.N",I8<>"ABS"),$I$4*$I$3,0)+IF(AND(J8<>"N.NOT",J8<>"N.N",J8<>"ABS"),$J$4*$J$3,0)+IF(AND(K8<>"N.NOT",K8<>"N.N",K8<>"ABS"),$K$4*$K$3,0)),0.1)) -> #DIV/0! | O8: =LEN(M8) -> 0 | P8: / 255
B9: =Liste!G6 -> Élève n°5 | C9: =Liste!C6 -> G1 | L9: =IF(AND(OR(D9="ABS",D9="N.NOT",D9="N.N"),E9="",F9="",G9="",H9="",I9="",J9="",K9=""),D9,CEILING(20*(IF(AND(D9<>"N.NOT",D9<>"N.N",D9<>"ABS"),D9*$D$4,0)+IF(AND(E9<>"N.NOT",E9<>"N.N",E9<>"ABS"),E9*$E$4,0)+IF(AND(F9<>"N.NOT",F9<>"N.N",F9<>"ABS"),F9*$F$4,0)+IF(AND(G9<>"N.NOT",G9<>"N.N",G9<>"ABS"),G9*$G$4,0)+IF(AND(H9<>"N.NOT",H9<>"N.N",H9<>"ABS"),H9*$H$4,0)+IF(AND(I9<>"N.NOT",I9<>"N.N",I9<>"ABS"),I9*$I$4,0)+IF(AND(J9<>"N.NOT",J9<>"N.N",J9<>"ABS"),J9*$J$4,0)+IF(AND(K9<>"N.NOT",K9<>"N.N",K9<>"ABS"),K9*$K$4,0))/(IF(AND(D9<>"N.NOT",D9<>"N.N",D9<>"ABS"),$D$4*$D$3,0)+IF(AND(E9<>"N.NOT",E9<>"N.N",E9<>"ABS"),$E$4*$E$3,0)+IF(AND(F9<>"N.NOT",F9<>"N.N",F9<>"ABS"),$F$4*$F$3,0)+IF(AND(G9<>"N.NOT",G9<>"N.N",G9<>"ABS"),$G$4*$G$3,0)+IF(AND(H9<>"N.NOT",H9<>"N.N",H9<>"ABS"),$H$4*$H$3,0)+IF(AND(I9<>"N.NOT",I9<>"N.N",I9<>"ABS"),$I$4*$I$3,0)+IF(AND(J9<>"N.NOT",J9<>"N.N",J9<>"ABS"),$J$4*$J$3,0)+IF(AND(K9<>"N.NOT",K9<>"N.N",K9<>"ABS"),$K$4*$K$3,0)),0.1)) -> #DIV/0! | O9: =LEN(M9) -> 0 | P9: / 255
B10: =Liste!G7 -> Élève n°6 | C10: =Liste!C7 -> G1 | L10: =IF(AND(OR(D10="ABS",D10="N.NOT",D10="N.N"),E10="",F10="",G10="",H10="",I10="",J10="",K10=""),D10,CEILING(20*(IF(AND(D10<>"N.NOT",D10<>"N.N",D10<>"ABS"),D10*$D$4,0)+IF(AND(E10<>"N.NOT",E10<>"N.N",E10<>"ABS"),E10*$E$4,0)+IF(AND(F10<>"N.NOT",F10<>"N.N",F10<>"ABS"),F10*$F$4,0)+IF(AND(G10<>"N.NOT",G10<>"N.N",G10<>"ABS"),G10*$G$4,0)+IF(AND(H10<>"N.NOT",H10<>"N.N",H10<>"ABS"),H10*$H$4,0)+IF(AND(I10<>"N.NOT",I10<>"N.N",I10<>"ABS"),I10*$I$4,0)+IF(AND(J10<>"N.NOT",J10<>"N.N",J10<>"ABS"),J10*$J$4,0)+IF(AND(K10<>"N.NOT",K10<>"N.N",K10<>"ABS"),K10*$K$4,0))/(IF(AND(D10<>"N.NOT",D10<>"N.N",D10<>"ABS"),$D$4*$D$3,0)+IF(AND(E10<>"N.NOT",E10<>"N.N",E10<>"ABS"),$E$4*$E$3,0)+IF(AND(F10<>"N.NOT",F10<>"N.N",F10<>"ABS"),$F$4*$F$3,0)+IF(AND(G10<>"N.NOT",G10<>"N.N",G10<>"ABS"),$G$4*$G$3,0)+IF(AND(H10<>"N.NOT",H10<>"N.N",H10<>"ABS"),$H$4*$H$3,0)+IF(AND(I10<>"N.NOT",I10<>"N.N",I10<>"ABS"),$I$4*$I$3,0)+IF(AND(J10<>"N.NOT",J10<>"N.N",J10<>"ABS"),$J$4*$J$3,0)+IF(AND(K10<>"N.NOT",K10<>"N.N",K10<>"ABS"),$K$4*$K$3,0)),0.1)) -> #DIV/0! | O10: =LEN(M10) -> 0 | P10: / 255
B11: =Liste!G8 -> Élève n°7 | C11: =Liste!C8 -> G1 | L11: =IF(AND(OR(D11="ABS",D11="N.NOT",D11="N.N"),E11="",F11="",G11="",H11="",I11="",J11="",K11=""),D11,CEILING(20*(IF(AND(D11<>"N.NOT",D11<>"N.N",D11<>"ABS"),D11*$D$4,0)+IF(AND(E11<>"N.NOT",E11<>"N.N",E11<>"ABS"),E11*$E$4,0)+IF(AND(F11<>"N.NOT",F11<>"N.N",F11<>"ABS"),F11*$F$4,0)+IF(AND(G11<>"N.NOT",G11<>"N.N",G11<>"ABS"),G11*$G$4,0)+IF(AND(H11<>"N.NOT",H11<>"N.N",H11<>"ABS"),H11*$H$4,0)+IF(AND(I11<>"N.NOT",I11<>"N.N",I11<>"ABS"),I11*$I$4,0)+IF(AND(J11<>"N.NOT",J11<>"N.N",J11<>"ABS"),J11*$J$4,0)+IF(AND(K11<>"N.NOT",K11<>"N.N",K11<>"ABS"),K11*$K$4,0))/(IF(AND(D11<>"N.NOT",D11<>"N.N",D11<>"ABS"),$D$4*$D$3,0)+IF(AND(E11<>"N.NOT",E11<>"N.N",E11<>"ABS"),$E$4*$E$3,0)+IF(AND(F11<>"N.NOT",F11<>"N.N",F11<>"ABS"),$F$4*$F$3,0)+IF(AND(G11<>"N.NOT",G11<>"N.N",G11<>"ABS"),$G$4*$G$3,0)+IF(AND(H11<>"N.NOT",H11<>"N.N",H11<>"ABS"),$H$4*$H$3,0)+IF(AND(I11<>"N.NOT",I11<>"N.N",I11<>"ABS"),$I$4*$I$3,0)+IF(AND(J11<>"N.NOT",J11<>"N.N",J11<>"ABS"),$J$4*$J$3,0)+IF(AND(K11<>"N.NOT",K11<>"N.N",K11<>"ABS"),$K$4*$K$3,0)),0.1)) -> #DIV/0! | O11: =LEN(M11) -> 0 | P11: / 255
B12: =Liste!G9 -> Élève n°8 | C12: =Liste!C9 -> G1 | L12: =IF(AND(OR(D12="ABS",D12="N.NOT",D12="N.N"),E12="",F12="",G12="",H12="",I12="",J12="",K12=""),D12,CEILING(20*(IF(AND(D12<>"N.NOT",D12<>"N.N",D12<>"ABS"),D12*$D$4,0)+IF(AND(E12<>"N.NOT",E12<>"N.N",E12<>"ABS"),E12*$E$4,0)+IF(AND(F12<>"N.NOT",F12<>"N.N",F12<>"ABS"),F12*$F$4,0)+IF(AND(G12<>"N.NOT",G12<>"N.N",G12<>"ABS"),G12*$G$4,0)+IF(AND(H12<>"N.NOT",H12<>"N.N",H12<>"ABS"),H12*$H$4,0)+IF(AND(I12<>"N.NOT",I12<>"N.N",I12<>"ABS"),I12*$I$4,0)+IF(AND(J12<>"N.NOT",J12<>"N.N",J12<>"ABS"),J12*$J$4,0)+IF(AND(K12<>"N.NOT",K12<>"N.N",K12<>"ABS"),K12*$K$4,0))/(IF(AND(D12<>"N.NOT",D12<>"N.N",D12<>"ABS"),$D$4*$D$3,0)+IF(AND(E12<>"N.NOT",E12<>"N.N",E12<>"ABS"),$E$4*$E$3,0)+IF(AND(F12<>"N.NOT",F12<>"N.N",F12<>"ABS"),$F$4*$F$3,0)+IF(AND(G12<>"N.NOT",G12<>"N.N",G12<>"ABS"),$G$4*$G$3,0)+IF(AND(H12<>"N.NOT",H12<>"N.N",H12<>"ABS"),$H$4*$H$3,0)+IF(AND(I12<>"N.NOT",I12<>"N.N",I12<>"ABS"),$I$4*$I$3,0)+IF(AND(J12<>"N.NOT",J12<>"N.N",J12<>"ABS"),$J$4*$J$3,0)+IF(AND(K12<>"N.NOT",K12<>"N.N",K12<>"ABS"),$K$4*$K$3,0)),0.1)) -> #DIV/0! | O12: =LEN(M12) -> 0 | P12: / 255
B13: =Liste!G10 -> Élève n°9 | C13: =Liste!C10 -> G2 | L13: =IF(AND(OR(D13="ABS",D13="N.NOT",D13="N.N"),E13="",F13="",G13="",H13="",I13="",J13="",K13=""),D13,CEILING(20*(IF(AND(D13<>"N.NOT",D13<>"N.N",D13<>"ABS"),D13*$D$4,0)+IF(AND(E13<>"N.NOT",E13<>"N.N",E13<>"ABS"),E13*$E$4,0)+IF(AND(F13<>"N.NOT",F13<>"N.N",F13<>"ABS"),F13*$F$4,0)+IF(AND(G13<>"N.NOT",G13<>"N.N",G13<>"ABS"),G13*$G$4,0)+IF(AND(H13<>"N.NOT",H13<>"N.N",H13<>"ABS"),H13*$H$4,0)+IF(AND(I13<>"N.NOT",I13<>"N.N",I13<>"ABS"),I13*$I$4,0)+IF(AND(J13<>"N.NOT",J13<>"N.N",J13<>"ABS"),J13*$J$4,0)+IF(AND(K13<>"N.NOT",K13<>"N.N",K13<>"ABS"),K13*$K$4,0))/(IF(AND(D13<>"N.NOT",D13<>"N.N",D13<>"ABS"),$D$4*$D$3,0)+IF(AND(E13<>"N.NOT",E13<>"N.N",E13<>"ABS"),$E$4*$E$3,0)+IF(AND(F13<>"N.NOT",F13<>"N.N",F13<>"ABS"),$F$4*$F$3,0)+IF(AND(G13<>"N.NOT",G13<>"N.N",G13<>"ABS"),$G$4*$G$3,0)+IF(AND(H13<>"N.NOT",H13<>"N.N",H13<>"ABS"),$H$4*$H$3,0)+IF(AND(I13<>"N.NOT",I13<>"N.N",I13<>"ABS"),$I$4*$I$3,0)+IF(AND(J13<>"N.NOT",J13<>"N.N",J13<>"ABS"),$J$4*$J$3,0)+IF(AND(K13<>"N.NOT",K13<>"N.N",K13<>"ABS"),$K$4*$K$3,0)),0.1)) -> #DIV/0! | O13: =LEN(M13) -> 0 | P13: / 255
B14: =Liste!G11 -> Élève n°10 | C14: =Liste!C11 -> G2 | L14: =IF(AND(OR(D14="ABS",D14="N.NOT",D14="N.N"),E14="",F14="",G14="",H14="",I14="",J14="",K14=""),D14,CEILING(20*(IF(AND(D14<>"N.NOT",D14<>"N.N",D14<>"ABS"),D14*$D$4,0)+IF(AND(E14<>"N.NOT",E14<>"N.N",E14<>"ABS"),E14*$E$4,0)+IF(AND(F14<>"N.NOT",F14<>"N.N",F14<>"ABS"),F14*$F$4,0)+IF(AND(G14<>"N.NOT",G14<>"N.N",G14<>"ABS"),G14*$G$4,0)+IF(AND(H14<>"N.NOT",H14<>"N.N",H14<>"ABS"),H14*$H$4,0)+IF(AND(I14<>"N.NOT",I14<>"N.N",I14<>"ABS"),I14*$I$4,0)+IF(AND(J14<>"N.NOT",J14<>"N.N",J14<>"ABS"),J14*$J$4,0)+IF(AND(K14<>"N.NOT",K14<>"N.N",K14<>"ABS"),K14*$K$4,0))/(IF(AND(D14<>"N.NOT",D14<>"N.N",D14<>"ABS"),$D$4*$D$3,0)+IF(AND(E14<>"N.NOT",E14<>"N.N",E14<>"ABS"),$E$4*$E$3,0)+IF(AND(F14<>"N.NOT",F14<>"N.N",F14<>"ABS"),$F$4*$F$3,0)+IF(AND(G14<>"N.NOT",G14<>"N.N",G14<>"ABS"),$G$4*$G$3,0)+IF(AND(H14<>"N.NOT",H14<>"N.N",H14<>"ABS"),$H$4*$H$3,0)+IF(AND(I14<>"N.NOT",I14<>"N.N",I14<>"ABS"),$I$4*$I$3,0)+IF(AND(J14<>"N.NOT",J14<>"N.N",J14<>"ABS"),$J$4*$J$3,0)+IF(AND(K14<>"N.NOT",K14<>"N.N",K14<>"ABS"),$K$4*$K$3,0)),0.1)) -> #DIV/0! | O14: =LEN(M14) -> 0 | P14: / 255
B15: =Liste!G12 -> Élève n°11 | C15: =Liste!C12 -> G1 | L15: =IF(AND(OR(D15="ABS",D15="N.NOT",D15="N.N"),E15="",F15="",G15="",H15="",I15="",J15="",K15=""),D15,CEILING(20*(IF(AND(D15<>"N.NOT",D15<>"N.N",D15<>"ABS"),D15*$D$4,0)+IF(AND(E15<>"N.NOT",E15<>"N.N",E15<>"ABS"),E15*$E$4,0)+IF(AND(F15<>"N.NOT",F15<>"N.N",F15<>"ABS"),F15*$F$4,0)+IF(AND(G15<>"N.NOT",G15<>"N.N",G15<>"ABS"),G15*$G$4,0)+IF(AND(H15<>"N.NOT",H15<>"N.N",H15<>"ABS"),H15*$H$4,0)+IF(AND(I15<>"N.NOT",I15<>"N.N",I15<>"ABS"),I15*$I$4,0)+IF(AND(J15<>"N.NOT",J15<>"N.N",J15<>"ABS"),J15*$J$4,0)+IF(AND(K15<>"N.NOT",K15<>"N.N",K15<>"ABS"),K15*$K$4,0))/(IF(AND(D15<>"N.NOT",D15<>"N.N",D15<>"ABS"),$D$4*$D$3,0)+IF(AND(E15<>"N.NOT",E15<>"N.N",E15<>"ABS"),$E$4*$E$3,0)+IF(AND(F15<>"N.NOT",F15<>"N.N",F15<>"ABS"),$F$4*$F$3,0)+IF(AND(G15<>"N.NOT",G15<>"N.N",G15<>"ABS"),$G$4*$G$3,0)+IF(AND(H15<>"N.NOT",H15<>"N.N",H15<>"ABS"),$H$4*$H$3,0)+IF(AND(I15<>"N.NOT",I15<>"N.N",I15<>"ABS"),$I$4*$I$3,0)+IF(AND(J15<>"N.NOT",J15<>"N.N",J15<>"ABS"),$J$4*$J$3,0)+IF(AND(K15<>"N.NOT",K15<>"N.N",K15<>"ABS"),$K$4*$K$3,0)),0.1)) -> #DIV/0! | O15: =LEN(M15) -> 0 | P15: / 255
B16: =Liste!G13 -> Élève n°12 | C16: =Liste!C13 -> G1 | L16: =IF(AND(OR(D16="ABS",D16="N.NOT",D16="N.N"),E16="",F16="",G16="",H16="",I16="",J16="",K16=""),D16,CEILING(20*(IF(AND(D16<>"N.NOT",D16<>"N.N",D16<>"ABS"),D16*$D$4,0)+IF(AND(E16<>"N.NOT",E16<>"N.N",E16<>"ABS"),E16*$E$4,0)+IF(AND(F16<>"N.NOT",F16<>"N.N",F16<>"ABS"),F16*$F$4,0)+IF(AND(G16<>"N.NOT",G16<>"N.N",G16<>"ABS"),G16*$G$4,0)+IF(AND(H16<>"N.NOT",H16<>"N.N",H16<>"ABS"),H16*$H$4,0)+IF(AND(I16<>"N.NOT",I16<>"N.N",I16<>"ABS"),I16*$I$4,0)+IF(AND(J16<>"N.NOT",J16<>"N.N",J16<>"ABS"),J16*$J$4,0)+IF(AND(K16<>"N.NOT",K16<>"N.N",K16<>"ABS"),K16*$K$4,0))/(IF(AND(D16<>"N.NOT",D16<>"N.N",D16<>"ABS"),$D$4*$D$3,0)+IF(AND(E16<>"N.NOT",E16<>"N.N",E16<>"ABS"),$E$4*$E$3,0)+IF(AND(F16<>"N.NOT",F16<>"N.N",F16<>"ABS"),$F$4*$F$3,0)+IF(AND(G16<>"N.NOT",G16<>"N.N",G16<>"ABS"),$G$4*$G$3,0)+IF(AND(H16<>"N.NOT",H16<>"N.N",H16<>"ABS"),$H$4*$H$3,0)+IF(AND(I16<>"N.NOT",I16<>"N.N",I16<>"ABS"),$I$4*$I$3,0)+IF(AND(J16<>"N.NOT",J16<>"N.N",J16<>"ABS"),$J$4*$J$3,0)+IF(AND(K16<>"N.NOT",K16<>"N.N",K16<>"ABS"),$K$4*$K$3,0)),0.1)) -> #DIV/0! | O16: =LEN(M16) -> 0 | P16: / 255
... B24: =Liste!G21 -> Élève n°20 | C24: =Liste!C21 -> G1 | L24: =IF(AND(OR(D24="ABS",D24="N.NOT",D24="N.N"),E24="",F24="",G24="",H24="",I24="",J24="",K24=""),D24,CEILING(20*(IF(AND(D24<>"N.NOT",D24<>"N.N",D24<>"ABS"),D24*$D$4,0)+IF(AND(E24<>"N.NOT",E24<>"N.N",E24<>"ABS"),E24*$E$4,0)+IF(AND(F24<>"N.NOT",F24<>"N.N",F24<>"ABS"),F24*$F$4,0)+IF(AND(G24<>"N.NOT",G24<>"N.N",G24<>"ABS"),G24*$G$4,0)+IF(AND(H24<>"N.NOT",H24<>"N.N",H24<>"ABS"),H24*$H$4,0)+IF(AND(I24<>"N.NOT",I24<>"N.N",I24<>"ABS"),I24*$I$4,0)+IF(AND(J24<>"N.NOT",J24<>"N.N",J24<>"ABS"),J24*$J$4,0)+IF(AND(K24<>"N.NOT",K24<>"N.N",K24<>"ABS"),K24*$K$4,0))/(IF(AND(D24<>"N.NOT",D24<>"N.N",D24<>"ABS"),$D$4*$D$3,0)+IF(AND(E24<>"N.NOT",E24<>"N.N",E24<>"ABS"),$E$4*$E$3,0)+IF(AND(F24<>"N.NOT",F24<>"N.N",F24<>"ABS"),$F$4*$F$3,0)+IF(AND(G24<>"N.NOT",G24<>"N.N",G24<>"ABS"),$G$4*$G$3,0)+IF(AND(H24<>"N.NOT",H24<>"N.N",H24<>"ABS"),$H$4*$H$3,0)+IF(AND(I24<>"N.NOT",I24<>"N.N",I24<>"ABS"),$I$4*$I$3,0)+IF(AND(J24<>"N.NOT",J24<>"N.N",J24<>"ABS"),$J$4*$J$3,0)+IF(AND(K24<>"N.NOT",K24<>"N.N",K24<>"ABS"),$K$4*$K$3,0)),0.1)) -> #DIV/0! | O24: =LEN(M24) -> 0 | P24: / 255
B25: =Liste!G22 | C25: =Liste!C22 -> 0 | L25: =IF(AND(OR(D25="ABS",D25="N.NOT",D25="N.N"),E25="",F25="",G25="",H25="",I25="",J25="",K25=""),D25,CEILING(20*(IF(AND(D25<>"N.NOT",D25<>"N.N",D25<>"ABS"),D25*$D$4,0)+IF(AND(E25<>"N.NOT",E25<>"N.N",E25<>"ABS"),E25*$E$4,0)+IF(AND(F25<>"N.NOT",F25<>"N.N",F25<>"ABS"),F25*$F$4,0)+IF(AND(G25<>"N.NOT",G25<>"N.N",G25<>"ABS"),G25*$G$4,0)+IF(AND(H25<>"N.NOT",H25<>"N.N",H25<>"ABS"),H25*$H$4,0)+IF(AND(I25<>"N.NOT",I25<>"N.N",I25<>"ABS"),I25*$I$4,0)+IF(AND(J25<>"N.NOT",J25<>"N.N",J25<>"ABS"),J25*$J$4,0)+IF(AND(K25<>"N.NOT",K25<>"N.N",K25<>"ABS"),K25*$K$4,0))/(IF(AND(D25<>"N.NOT",D25<>"N.N",D25<>"ABS"),$D$4*$D$3,0)+IF(AND(E25<>"N.NOT",E25<>"N.N",E25<>"ABS"),$E$4*$E$3,0)+IF(AND(F25<>"N.NOT",F25<>"N.N",F25<>"ABS"),$F$4*$F$3,0)+IF(AND(G25<>"N.NOT",G25<>"N.N",G25<>"ABS"),$G$4*$G$3,0)+IF(AND(H25<>"N.NOT",H25<>"N.N",H25<>"ABS"),$H$4*$H$3,0)+IF(AND(I25<>"N.NOT",I25<>"N.N",I25<>"ABS"),$I$4*$I$3,0)+IF(AND(J25<>"N.NOT",J25<>"N.N",J25<>"ABS"),$J$4*$J$3,0)+IF(AND(K25<>"N.NOT",K25<>"N.N",K25<>"ABS"),$K$4*$K$3,0)),0.1)) -> #DIV/0!
B26: =Liste!G23 | C26: =Liste!C23 -> 0 | L26: =IF(AND(OR(D26="ABS",D26="N.NOT",D26="N.N"),E26="",F26="",G26="",H26="",I26="",J26="",K26=""),D26,CEILING(20*(IF(AND(D26<>"N.NOT",D26<>"N.N",D26<>"ABS"),D26*$D$4,0)+IF(AND(E26<>"N.NOT",E26<>"N.N",E26<>"ABS"),E26*$E$4,0)+IF(AND(F26<>"N.NOT",F26<>"N.N",F26<>"ABS"),F26*$F$4,0)+IF(AND(G26<>"N.NOT",G26<>"N.N",G26<>"ABS"),G26*$G$4,0)+IF(AND(H26<>"N.NOT",H26<>"N.N",H26<>"ABS"),H26*$H$4,0)+IF(AND(I26<>"N.NOT",I26<>"N.N",I26<>"ABS"),I26*$I$4,0)+IF(AND(J26<>"N.NOT",J26<>"N.N",J26<>"ABS"),J26*$J$4,0)+IF(AND(K26<>"N.NOT",K26<>"N.N",K26<>"ABS"),K26*$K$4,0))/(IF(AND(D26<>"N.NOT",D26<>"N.N",D26<>"ABS"),$D$4*$D$3,0)+IF(AND(E26<>"N.NOT",E26<>"N.N",E26<>"ABS"),$E$4*$E$3,0)+IF(AND(F26<>"N.NOT",F26<>"N.N",F26<>"ABS"),$F$4*$F$3,0)+IF(AND(G26<>"N.NOT",G26<>"N.N",G26<>"ABS"),$G$4*$G$3,0)+IF(AND(H26<>"N.NOT",H26<>"N.N",H26<>"ABS"),$H$4*$H$3,0)+IF(AND(I26<>"N.NOT",I26<>"N.N",I26<>"ABS"),$I$4*$I$3,0)+IF(AND(J26<>"N.NOT",J26<>"N.N",J26<>"ABS"),$J$4*$J$3,0)+IF(AND(K26<>"N.NOT",K26<>"N.N",K26<>"ABS"),$K$4*$K$3,0)),0.1)) -> #DIV/0!
B27: =Liste!G24 | C27: =Liste!C24 -> 0 | L27: =IF(AND(OR(D27="ABS",D27="N.NOT",D27="N.N"),E27="",F27="",G27="",H27="",I27="",J27="",K27=""),D27,CEILING(20*(IF(AND(D27<>"N.NOT",D27<>"N.N",D27<>"ABS"),D27*$D$4,0)+IF(AND(E27<>"N.NOT",E27<>"N.N",E27<>"ABS"),E27*$E$4,0)+IF(AND(F27<>"N.NOT",F27<>"N.N",F27<>"ABS"),F27*$F$4,0)+IF(AND(G27<>"N.NOT",G27<>"N.N",G27<>"ABS"),G27*$G$4,0)+IF(AND(H27<>"N.NOT",H27<>"N.N",H27<>"ABS"),H27*$H$4,0)+IF(AND(I27<>"N.NOT",I27<>"N.N",I27<>"ABS"),I27*$I$4,0)+IF(AND(J27<>"N.NOT",J27<>"N.N",J27<>"ABS"),J27*$J$4,0)+IF(AND(K27<>"N.NOT",K27<>"N.N",K27<>"ABS"),K27*$K$4,0))/(IF(AND(D27<>"N.NOT",D27<>"N.N",D27<>"ABS"),$D$4*$D$3,0)+IF(AND(E27<>"N.NOT",E27<>"N.N",E27<>"ABS"),$E$4*$E$3,0)+IF(AND(F27<>"N.NOT",F27<>"N.N",F27<>"ABS"),$F$4*$F$3,0)+IF(AND(G27<>"N.NOT",G27<>"N.N",G27<>"ABS"),$G$4*$G$3,0)+IF(AND(H27<>"N.NOT",H27<>"N.N",H27<>"ABS"),$H$4*$H$3,0)+IF(AND(I27<>"N.NOT",I27<>"N.N",I27<>"ABS"),$I$4*$I$3,0)+IF(AND(J27<>"N.NOT",J27<>"N.N",J27<>"ABS"),$J$4*$J$3,0)+IF(AND(K27<>"N.NOT",K27<>"N.N",K27<>"ABS"),$K$4*$K$3,0)),0.1)) -> #DIV/0! | O27: =LEN(M27) -> 0 | P27: / 255
B28: =Liste!G25 | C28: =Liste!C25 -> 0 | L28: =IF(AND(OR(D28="ABS",D28="N.NOT",D28="N.N"),E28="",F28="",G28="",H28="",I28="",J28="",K28=""),D28,CEILING(20*(IF(AND(D28<>"N.NOT",D28<>"N.N",D28<>"ABS"),D28*$D$4,0)+IF(AND(E28<>"N.NOT",E28<>"N.N",E28<>"ABS"),E28*$E$4,0)+IF(AND(F28<>"N.NOT",F28<>"N.N",F28<>"ABS"),F28*$F$4,0)+IF(AND(G28<>"N.NOT",G28<>"N.N",G28<>"ABS"),G28*$G$4,0)+IF(AND(H28<>"N.NOT",H28<>"N.N",H28<>"ABS"),H28*$H$4,0)+IF(AND(I28<>"N.NOT",I28<>"N.N",I28<>"ABS"),I28*$I$4,0)+IF(AND(J28<>"N.NOT",J28<>"N.N",J28<>"ABS"),J28*$J$4,0)+IF(AND(K28<>"N.NOT",K28<>"N.N",K28<>"ABS"),K28*$K$4,0))/(IF(AND(D28<>"N.NOT",D28<>"N.N",D28<>"ABS"),$D$4*$D$3,0)+IF(AND(E28<>"N.NOT",E28<>"N.N",E28<>"ABS"),$E$4*$E$3,0)+IF(AND(F28<>"N.NOT",F28<>"N.N",F28<>"ABS"),$F$4*$F$3,0)+IF(AND(G28<>"N.NOT",G28<>"N.N",G28<>"ABS"),$G$4*$G$3,0)+IF(AND(H28<>"N.NOT",H28<>"N.N",H28<>"ABS"),$H$4*$H$3,0)+IF(AND(I28<>"N.NOT",I28<>"N.N",I28<>"ABS"),$I$4*$I$3,0)+IF(AND(J28<>"N.NOT",J28<>"N.N",J28<>"ABS"),$J$4*$J$3,0)+IF(AND(K28<>"N.NOT",K28<>"N.N",K28<>"ABS"),$K$4*$K$3,0)),0.1)) -> #DIV/0! | O28: =LEN(M28) -> 0 | P28: / 255
B29: =Liste!G26 | C29: =Liste!C26 -> 0 | L29: =IF(AND(OR(D29="ABS",D29="N.NOT",D29="N.N"),E29="",F29="",G29="",H29="",I29="",J29="",K29=""),D29,CEILING(20*(IF(AND(D29<>"N.NOT",D29<>"N.N",D29<>"ABS"),D29*$D$4,0)+IF(AND(E29<>"N.NOT",E29<>"N.N",E29<>"ABS"),E29*$E$4,0)+IF(AND(F29<>"N.NOT",F29<>"N.N",F29<>"ABS"),F29*$F$4,0)+IF(AND(G29<>"N.NOT",G29<>"N.N",G29<>"ABS"),G29*$G$4,0)+IF(AND(H29<>"N.NOT",H29<>"N.N",H29<>"ABS"),H29*$H$4,0)+IF(AND(I29<>"N.NOT",I29<>"N.N",I29<>"ABS"),I29*$I$4,0)+IF(AND(J29<>"N.NOT",J29<>"N.N",J29<>"ABS"),J29*$J$4,0)+IF(AND(K29<>"N.NOT",K29<>"N.N",K29<>"ABS"),K29*$K$4,0))/(IF(AND(D29<>"N.NOT",D29<>"N.N",D29<>"ABS"),$D$4*$D$3,0)+IF(AND(E29<>"N.NOT",E29<>"N.N",E29<>"ABS"),$E$4*$E$3,0)+IF(AND(F29<>"N.NOT",F29<>"N.N",F29<>"ABS"),$F$4*$F$3,0)+IF(AND(G29<>"N.NOT",G29<>"N.N",G29<>"ABS"),$G$4*$G$3,0)+IF(AND(H29<>"N.NOT",H29<>"N.N",H29<>"ABS"),$H$4*$H$3,0)+IF(AND(I29<>"N.NOT",I29<>"N.N",I29<>"ABS"),$I$4*$I$3,0)+IF(AND(J29<>"N.NOT",J29<>"N.N",J29<>"ABS"),$J$4*$J$3,0)+IF(AND(K29<>"N.NOT",K29<>"N.N",K29<>"ABS"),$K$4*$K$3,0)),0.1)) -> #DIV/0! | O29: =LEN(M29) -> 0 | P29: / 255
B30: =Liste!G27 | C30: =Liste!C27 -> 0 | L30: =IF(AND(OR(D30="ABS",D30="N.NOT",D30="N.N"),E30="",F30="",G30="",H30="",I30="",J30="",K30=""),D30,CEILING(20*(IF(AND(D30<>"N.NOT",D30<>"N.N",D30<>"ABS"),D30*$D$4,0)+IF(AND(E30<>"N.NOT",E30<>"N.N",E30<>"ABS"),E30*$E$4,0)+IF(AND(F30<>"N.NOT",F30<>"N.N",F30<>"ABS"),F30*$F$4,0)+IF(AND(G30<>"N.NOT",G30<>"N.N",G30<>"ABS"),G30*$G$4,0)+IF(AND(H30<>"N.NOT",H30<>"N.N",H30<>"ABS"),H30*$H$4,0)+IF(AND(I30<>"N.NOT",I30<>"N.N",I30<>"ABS"),I30*$I$4,0)+IF(AND(J30<>"N.NOT",J30<>"N.N",J30<>"ABS"),J30*$J$4,0)+IF(AND(K30<>"N.NOT",K30<>"N.N",K30<>"ABS"),K30*$K$4,0))/(IF(AND(D30<>"N.NOT",D30<>"N.N",D30<>"ABS"),$D$4*$D$3,0)+IF(AND(E30<>"N.NOT",E30<>"N.N",E30<>"ABS"),$E$4*$E$3,0)+IF(AND(F30<>"N.NOT",F30<>"N.N",F30<>"ABS"),$F$4*$F$3,0)+IF(AND(G30<>"N.NOT",G30<>"N.N",G30<>"ABS"),$G$4*$G$3,0)+IF(AND(H30<>"N.NOT",H30<>"N.N",H30<>"ABS"),$H$4*$H$3,0)+IF(AND(I30<>"N.NOT",I30<>"N.N",I30<>"ABS"),$I$4*$I$3,0)+IF(AND(J30<>"N.NOT",J30<>"N.N",J30<>"ABS"),$J$4*$J$3,0)+IF(AND(K30<>"N.NOT",K30<>"N.N",K30<>"ABS"),$K$4*$K$3,0)),0.1)) -> #DIV/0! | O30: =LEN(M30) -> 0 | P30: / 255
B31: Moyennes | D31: =IF(D3="","X",AVERAGE(D5:D30)) -> X | E31: =IF(E3="","X",AVERAGE(E5:E30)) -> X | F31: =IF(F3="","X",AVERAGE(F5:F30)) -> X | G31: =IF(G3="","X",AVERAGE(G5:G30)) -> X | H31: =IF(H3="","X",AVERAGE(H5:H30)) -> X | I31: =IF(I3="","X",AVERAGE(I5:I30)) -> X | J31: =IF(J3="","X",AVERAGE(J5:J30)) -> X | K31: =IF(K3="","X",AVERAGE(K5:K30)) -> X | L31: =AVERAGE(L5:L30) -> #DIV/0! | M31: Appréciation globale
B32: Note min. | D32: =IF(D3="","X",MIN(D5:D30)) -> X | E32: =IF(E3="","X",MIN(E5:E30)) -> X | F32: =IF(F3="","X",MIN(F5:F30)) -> X | G32: =IF(G3="","X",MIN(G5:G30)) -> X | H32: =IF(H3="","X",MIN(H5:H30)) -> X | I32: =IF(I3="","X",MIN(I5:I30)) -> X | J32: =IF(J3="","X",MIN(J5:J30)) -> X | K32: =IF(K3="","X",MIN(K5:K30)) -> X | L32: =MIN(L1:L30) -> #DIV/0!
B33: Note max. | D33: =IF(D3="","X",MAX(D5:D30)) -> X | E33: =IF(E3="","X",MAX(E5:E30)) -> X | F33: =IF(F3="","X",MAX(F5:F30)) -> X | G33: =IF(G3="","X",MAX(G5:G30)) -> X | H33: =IF(H3="","X",MAX(H5:H30)) -> X | I33: =IF(I3="","X",MAX(I5:I30)) -> X | J33: =IF(J3="","X",MAX(J5:J30)) -> X | K33: =IF(K3="","X",MAX(K5:K30)) -> X | L33: =MAX(L5:L30) -> #DIV/0! | O33: =LEN(M32) -> 0 | P33: / 400
B34: ** Délégués

Sheet S2
B1: =Liste!F2 & CHAR(10) & Liste!D2 & "élèves" -> ClasseA 20élèves | L1: Moy. S.2 | M1: Appréciations - 2ème Semestre | O1: Nb. de caractère dans l'appréciation (max = 255)
B2: Date | O2: max= | P2: 255
B3: Note sur
B4: Elèves | Coeff. | C4: G.
B5: =Liste!G2 -> Élève n°1 | C5: =Liste!C2 -> G1 | L5: =IF(AND(OR(D5="ABS",D5="N.NOT",D5="N.N"),E5="",F5="",G5="",H5="",I5="",J5="",K5=""),D5,CEILING(20*(IF(AND(D5<>"N.NOT",D5<>"N.N",D5<>"ABS"),D5*$D$4,0)+IF(AND(E5<>"N.NOT",E5<>"N.N",E5<>"ABS"),E5*$E$4,0)+IF(AND(F5<>"N.NOT",F5<>"N.N",F5<>"ABS"),F5*$F$4,0)+IF(AND(G5<>"N.NOT",G5<>"N.N",G5<>"ABS"),G5*$G$4,0)+IF(AND(H5<>"N.NOT",H5<>"N.N",H5<>"ABS"),H5*$H$4,0)+IF(AND(I5<>"N.NOT",I5<>"N.N",I5<>"ABS"),I5*$I$4,0)+IF(AND(J5<>"N.NOT",J5<>"N.N",J5<>"ABS"),J5*$J$4,0)+IF(AND(K5<>"N.NOT",K5<>"N.N",K5<>"ABS"),K5*$K$4,0))/(IF(AND(D5<>"N.NOT",D5<>"N.N",D5<>"ABS"),$D$4*$D$3,0)+IF(AND(E5<>"N.NOT",E5<>"N.N",E5<>"ABS"),$E$4*$E$3,0)+IF(AND(F5<>"N.NOT",F5<>"N.N",F5<>"ABS"),$F$4*$F$3,0)+IF(AND(G5<>"N.NOT",G5<>"N.N",G5<>"ABS"),$G$4*$G$3,0)+IF(AND(H5<>"N.NOT",H5<>"N.N",H5<>"ABS"),$H$4*$H$3,0)+IF(AND(I5<>"N.NOT",I5<>"N.N",I5<>"ABS"),$I$4*$I$3,0)+IF(AND(J5<>"N.NOT",J5<>"N.N",J5<>"ABS"),$J$4*$J$3,0)+IF(AND(K5<>"N.NOT",K5<>"N.N",K5<>"ABS"),$K$4*$K$3,0)),0.1)) -> #DIV/0! | O5: =LEN(M5) -> 0 | P5: / 255
B6: =Liste!G3 -> Élève n°2 | C6: =Liste!C3 -> G1 | L6: =IF(AND(OR(D6="ABS",D6="N.NOT",D6="N.N"),E6="",F6="",G6="",H6="",I6="",J6="",K6=""),D6,CEILING(20*(IF(AND(D6<>"N.NOT",D6<>"N.N",D6<>"ABS"),D6*$D$4,0)+IF(AND(E6<>"N.NOT",E6<>"N.N",E6<>"ABS"),E6*$E$4,0)+IF(AND(F6<>"N.NOT",F6<>"N.N",F6<>"ABS"),F6*$F$4,0)+IF(AND(G6<>"N.NOT",G6<>"N.N",G6<>"ABS"),G6*$G$4,0)+IF(AND(H6<>"N.NOT",H6<>"N.N",H6<>"ABS"),H6*$H$4,0)+IF(AND(I6<>"N.NOT",I6<>"N.N",I6<>"ABS"),I6*$I$4,0)+IF(AND(J6<>"N.NOT",J6<>"N.N",J6<>"ABS"),J6*$J$4,0)+IF(AND(K6<>"N.NOT",K6<>"N.N",K6<>"ABS"),K6*$K$4,0))/(IF(AND(D6<>"N.NOT",D6<>"N.N",D6<>"ABS"),$D$4*$D$3,0)+IF(AND(E6<>"N.NOT",E6<>"N.N",E6<>"ABS"),$E$4*$E$3,0)+IF(AND(F6<>"N.NOT",F6<>"N.N",F6<>"ABS"),$F$4*$F$3,0)+IF(AND(G6<>"N.NOT",G6<>"N.N",G6<>"ABS"),$G$4*$G$3,0)+IF(AND(H6<>"N.NOT",H6<>"N.N",H6<>"ABS"),$H$4*$H$3,0)+IF(AND(I6<>"N.NOT",I6<>"N.N",I6<>"ABS"),$I$4*$I$3,0)+IF(AND(J6<>"N.NOT",J6<>"N.N",J6<>"ABS"),$J$4*$J$3,0)+IF(AND(K6<>"N.NOT",K6<>"N.N",K6<>"ABS"),$K$4*$K$3,0)),0.1)) -> #DIV/0! | O6: =LEN(M6) -> 0 | P6: / 255
B7: =Liste!G4 -> Élève n°3 | C7: =Liste!C4 -> G2 | L7: =IF(AND(OR(D7="ABS",D7="N.NOT",D7="N.N"),E7="",F7="",G7="",H7="",I7="",J7="",K7=""),D7,CEILING(20*(IF(AND(D7<>"N.NOT",D7<>"N.N",D7<>"ABS"),D7*$D$4,0)+IF(AND(E7<>"N.NOT",E7<>"N.N",E7<>"ABS"),E7*$E$4,0)+IF(AND(F7<>"N.NOT",F7<>"N.N",F7<>"ABS"),F7*$F$4,0)+IF(AND(G7<>"N.NOT",G7<>"N.N",G7<>"ABS"),G7*$G$4,0)+IF(AND(H7<>"N.NOT",H7<>"N.N",H7<>"ABS"),H7*$H$4,0)+IF(AND(I7<>"N.NOT",I7<>"N.N",I7<>"ABS"),I7*$I$4,0)+IF(AND(J7<>"N.NOT",J7<>"N.N",J7<>"ABS"),J7*$J$4,0)+IF(AND(K7<>"N.NOT",K7<>"N.N",K7<>"ABS"),K7*$K$4,0))/(IF(AND(D7<>"N.NOT",D7<>"N.N",D7<>"ABS"),$D$4*$D$3,0)+IF(AND(E7<>"N.NOT",E7<>"N.N",E7<>"ABS"),$E$4*$E$3,0)+IF(AND(F7<>"N.NOT",F7<>"N.N",F7<>"ABS"),$F$4*$F$3,0)+IF(AND(G7<>"N.NOT",G7<>"N.N",G7<>"ABS"),$G$4*$G$3,0)+IF(AND(H7<>"N.NOT",H7<>"N.N",H7<>"ABS"),$H$4*$H$3,0)+IF(AND(I7<>"N.NOT",I7<>"N.N",I7<>"ABS"),$I$4*$I$3,0)+IF(AND(J7<>"N.NOT",J7<>"N.N",J7<>"ABS"),$J$4*$J$3,0)+IF(AND(K7<>"N.NOT",K7<>"N.N",K7<>"ABS"),$K$4*$K$3,0)),0.1)) -> #DIV/0! | O7: =LEN(M7) -> 0 | P7: / 255
B8: =Liste!G5 -> Élève n°4 | C8: =Liste!C5 -> G2 | L8: =IF(AND(OR(D8="ABS",D8="N.NOT",D8="N.N"),E8="",F8="",G8="",H8="",I8="",J8="",K8=""),D8,CEILING(20*(IF(AND(D8<>"N.NOT",D8<>"N.N",D8<>"ABS"),D8*$D$4,0)+IF(AND(E8<>"N.NOT",E8<>"N.N",E8<>"ABS"),E8*$E$4,0)+IF(AND(F8<>"N.NOT",F8<>"N.N",F8<>"ABS"),F8*$F$4,0)+IF(AND(G8<>"N.NOT",G8<>"N.N",G8<>"ABS"),G8*$G$4,0)+IF(AND(H8<>"N.NOT",H8<>"N.N",H8<>"ABS"),H8*$H$4,0)+IF(AND(I8<>"N.NOT",I8<>"N.N",I8<>"ABS"),I8*$I$4,0)+IF(AND(J8<>"N.NOT",J8<>"N.N",J8<>"ABS"),J8*$J$4,0)+IF(AND(K8<>"N.NOT",K8<>"N.N",K8<>"ABS"),K8*$K$4,0))/(IF(AND(D8<>"N.NOT",D8<>"N.N",D8<>"ABS"),$D$4*$D$3,0)+IF(AND(E8<>"N.NOT",E8<>"N.N",E8<>"ABS"),$E$4*$E$3,0)+IF(AND(F8<>"N.NOT",F8<>"N.N",F8<>"ABS"),$F$4*$F$3,0)+IF(AND(G8<>"N.NOT",G8<>"N.N",G8<>"ABS"),$G$4*$G$3,0)+IF(AND(H8<>"N.NOT",H8<>"N.N",H8<>"ABS"),$H$4*$H$3,0)+IF(AND(I8<>"N.NOT",I8<>"N.N",I8<>"ABS"),$I$4*$I$3,0)+IF(AND(J8<>"N.NOT",J8<>"N.N",J8<>"ABS"),$J$4*$J$3,0)+IF(AND(K8<>"N.NOT",K8<>"N.N",K8<>"ABS"),$K$4*$K$3,0)),0.1)) -> #DIV/0! | O8: =LEN(M8) -> 0 | P8: / 255
B9: =Liste!G6 -> Élève n°5 | C9: =Liste!C6 -> G1 | L9: =IF(AND(OR(D9="ABS",D9="N.NOT",D9="N.N"),E9="",F9="",G9="",H9="",I9="",J9="",K9=""),D9,CEILING(20*(IF(AND(D9<>"N.NOT",D9<>"N.N",D9<>"ABS"),D9*$D$4,0)+IF(AND(E9<>"N.NOT",E9<>"N.N",E9<>"ABS"),E9*$E$4,0)+IF(AND(F9<>"N.NOT",F9<>"N.N",F9<>"ABS"),F9*$F$4,0)+IF(AND(G9<>"N.NOT",G9<>"N.N",G9<>"ABS"),G9*$G$4,0)+IF(AND(H9<>"N.NOT",H9<>"N.N",H9<>"ABS"),H9*$H$4,0)+IF(AND(I9<>"N.NOT",I9<>"N.N",I9<>"ABS"),I9*$I$4,0)+IF(AND(J9<>"N.NOT",J9<>"N.N",J9<>"ABS"),J9*$J$4,0)+IF(AND(K9<>"N.NOT",K9<>"N.N",K9<>"ABS"),K9*$K$4,0))/(IF(AND(D9<>"N.NOT",D9<>"N.N",D9<>"ABS"),$D$4*$D$3,0)+IF(AND(E9<>"N.NOT",E9<>"N.N",E9<>"ABS"),$E$4*$E$3,0)+IF(AND(F9<>"N.NOT",F9<>"N.N",F9<>"ABS"),$F$4*$F$3,0)+IF(AND(G9<>"N.NOT",G9<>"N.N",G9<>"ABS"),$G$4*$G$3,0)+IF(AND(H9<>"N.NOT",H9<>"N.N",H9<>"ABS"),$H$4*$H$3,0)+IF(AND(I9<>"N.NOT",I9<>"N.N",I9<>"ABS"),$I$4*$I$3,0)+IF(AND(J9<>"N.NOT",J9<>"N.N",J9<>"ABS"),$J$4*$J$3,0)+IF(AND(K9<>"N.NOT",K9<>"N.N",K9<>"ABS"),$K$4*$K$3,0)),0.1)) -> #DIV/0! | O9: =LEN(M9) -> 0 | P9: / 255
B10: =Liste!G7 -> Élève n°6 | C10: =Liste!C7 -> G1 | L10: =IF(AND(OR(D10="ABS",D10="N.NOT",D10="N.N"),E10="",F10="",G10="",H10="",I10="",J10="",K10=""),D10,CEILING(20*(IF(AND(D10<>"N.NOT",D10<>"N.N",D10<>"ABS"),D10*$D$4,0)+IF(AND(E10<>"N.NOT",E10<>"N.N",E10<>"ABS"),E10*$E$4,0)+IF(AND(F10<>"N.NOT",F10<>"N.N",F10<>"ABS"),F10*$F$4,0)+IF(AND(G10<>"N.NOT",G10<>"N.N",G10<>"ABS"),G10*$G$4,0)+IF(AND(H10<>"N.NOT",H10<>"N.N",H10<>"ABS"),H10*$H$4,0)+IF(AND(I10<>"N.NOT",I10<>"N.N",I10<>"ABS"),I10*$I$4,0)+IF(AND(J10<>"N.NOT",J10<>"N.N",J10<>"ABS"),J10*$J$4,0)+IF(AND(K10<>"N.NOT",K10<>"N.N",K10<>"ABS"),K10*$K$4,0))/(IF(AND(D10<>"N.NOT",D10<>"N.N",D10<>"ABS"),$D$4*$D$3,0)+IF(AND(E10<>"N.NOT",E10<>"N.N",E10<>"ABS"),$E$4*$E$3,0)+IF(AND(F10<>"N.NOT",F10<>"N.N",F10<>"ABS"),$F$4*$F$3,0)+IF(AND(G10<>"N.NOT",G10<>"N.N",G10<>"ABS"),$G$4*$G$3,0)+IF(AND(H10<>"N.NOT",H10<>"N.N",H10<>"ABS"),$H$4*$H$3,0)+IF(AND(I10<>"N.NOT",I10<>"N.N",I10<>"ABS"),$I$4*$I$3,0)+IF(AND(J10<>"N.NOT",J10<>"N.N",J10<>"ABS"),$J$4*$J$3,0)+IF(AND(K10<>"N.NOT",K10<>"N.N",K10<>"ABS"),$K$4*$K$3,0)),0.1)) -> #DIV/0! | O10: =LEN(M10) -> 0 | P10: / 255
B11: =Liste!G8 -> Élève n°7 | C11: =Liste!C8 -> G1 | L11: =IF(AND(OR(D11="ABS",D11="N.NOT",D11="N.N"),E11="",F11="",G11="",H11="",I11="",J11="",K11=""),D11,CEILING(20*(IF(AND(D11<>"N.NOT",D11<>"N.N",D11<>"ABS"),D11*$D$4,0)+IF(AND(E11<>"N.NOT",E11<>"N.N",E11<>"ABS"),E11*$E$4,0)+IF(AND(F11<>"N.NOT",F11<>"N.N",F11<>"ABS"),F11*$F$4,0)+IF(AND(G11<>"N.NOT",G11<>"N.N",G11<>"ABS"),G11*$G$4,0)+IF(AND(H11<>"N.NOT",H11<>"N.N",H11<>"ABS"),H11*$H$4,0)+IF(AND(I11<>"N.NOT",I11<>"N.N",I11<>"ABS"),I11*$I$4,0)+IF(AND(J11<>"N.NOT",J11<>"N.N",J11<>"ABS"),J11*$J$4,0)+IF(AND(K11<>"N.NOT",K11<>"N.N",K11<>"ABS"),K11*$K$4,0))/(IF(AND(D11<>"N.NOT",D11<>"N.N",D11<>"ABS"),$D$4*$D$3,0)+IF(AND(E11<>"N.NOT",E11<>"N.N",E11<>"ABS"),$E$4*$E$3,0)+IF(AND(F11<>"N.NOT",F11<>"N.N",F11<>"ABS"),$F$4*$F$3,0)+IF(AND(G11<>"N.NOT",G11<>"N.N",G11<>"ABS"),$G$4*$G$3,0)+IF(AND(H11<>"N.NOT",H11<>"N.N",H11<>"ABS"),$H$4*$H$3,0)+IF(AND(I11<>"N.NOT",I11<>"N.N",I11<>"ABS"),$I$4*$I$3,0)+IF(AND(J11<>"N.NOT",J11<>"N.N",J11<>"ABS"),$J$4*$J$3,0)+IF(AND(K11<>"N.NOT",K11<>"N.N",K11<>"ABS"),$K$4*$K$3,0)),0.1)) -> #DIV/0! | O11: =LEN(M11) -> 0 | P11: / 255
B12: =Liste!G9 -> Élève n°8 | C12: =Liste!C9 -> G1 | L12: =IF(AND(OR(D12="ABS",D12="N.NOT",D12="N.N"),E12="",F12="",G12="",H12="",I12="",J12="",K12=""),D12,CEILING(20*(IF(AND(D12<>"N.NOT",D12<>"N.N",D12<>"ABS"),D12*$D$4,0)+IF(AND(E12<>"N.NOT",E12<>"N.N",E12<>"ABS"),E12*$E$4,0)+IF(AND(F12<>"N.NOT",F12<>"N.N",F12<>"ABS"),F12*$F$4,0)+IF(AND(G12<>"N.NOT",G12<>"N.N",G12<>"ABS"),G12*$G$4,0)+IF(AND(H12<>"N.NOT",H12<>"N.N",H12<>"ABS"),H12*$H$4,0)+IF(AND(I12<>"N.NOT",I12<>"N.N",I12<>"ABS"),I12*$I$4,0)+IF(AND(J12<>"N.NOT",J12<>"N.N",J12<>"ABS"),J12*$J$4,0)+IF(AND(K12<>"N.NOT",K12<>"N.N",K12<>"ABS"),K12*$K$4,0))/(IF(AND(D12<>"N.NOT",D12<>"N.N",D12<>"ABS"),$D$4*$D$3,0)+IF(AND(E12<>"N.NOT",E12<>"N.N",E12<>"ABS"),$E$4*$E$3,0)+IF(AND(F12<>"N.NOT",F12<>"N.N",F12<>"ABS"),$F$4*$F$3,0)+IF(AND(G12<>"N.NOT",G12<>"N.N",G12<>"ABS"),$G$4*$G$3,0)+IF(AND(H12<>"N.NOT",H12<>"N.N",H12<>"ABS"),$H$4*$H$3,0)+IF(AND(I12<>"N.NOT",I12<>"N.N",I12<>"ABS"),$I$4*$I$3,0)+IF(AND(J12<>"N.NOT",J12<>"N.N",J12<>"ABS"),$J$4*$J$3,0)+IF(AND(K12<>"N.NOT",K12<>"N.N",K12<>"ABS"),$K$4*$K$3,0)),0.1)) -> #DIV/0! | O12: =LEN(M12) -> 0 | P12: / 255
B13: =Liste!G10 -> Élève n°9 | C13: =Liste!C10 -> G2 | L13: =IF(AND(OR(D13="ABS",D13="N.NOT",D13="N.N"),E13="",F13="",G13="",H13="",I13="",J13="",K13=""),D13,CEILING(20*(IF(AND(D13<>"N.NOT",D13<>"N.N",D13<>"ABS"),D13*$D$4,0)+IF(AND(E13<>"N.NOT",E13<>"N.N",E13<>"ABS"),E13*$E$4,0)+IF(AND(F13<>"N.NOT",F13<>"N.N",F13<>"ABS"),F13*$F$4,0)+IF(AND(G13<>"N.NOT",G13<>"N.N",G13<>"ABS"),G13*$G$4,0)+IF(AND(H13<>"N.NOT",H13<>"N.N",H13<>"ABS"),H13*$H$4,0)+IF(AND(I13<>"N.NOT",I13<>"N.N",I13<>"ABS"),I13*$I$4,0)+IF(AND(J13<>"N.NOT",J13<>"N.N",J13<>"ABS"),J13*$J$4,0)+IF(AND(K13<>"N.NOT",K13<>"N.N",K13<>"ABS"),K13*$K$4,0))/(IF(AND(D13<>"N.NOT",D13<>"N.N",D13<>"ABS"),$D$4*$D$3,0)+IF(AND(E13<>"N.NOT",E13<>"N.N",E13<>"ABS"),$E$4*$E$3,0)+IF(AND(F13<>"N.NOT",F13<>"N.N",F13<>"ABS"),$F$4*$F$3,0)+IF(AND(G13<>"N.NOT",G13<>"N.N",G13<>"ABS"),$G$4*$G$3,0)+IF(AND(H13<>"N.NOT",H13<>"N.N",H13<>"ABS"),$H$4*$H$3,0)+IF(AND(I13<>"N.NOT",I13<>"N.N",I13<>"ABS"),$I$4*$I$3,0)+IF(AND(J13<>"N.NOT",J13<>"N.N",J13<>"ABS"),$J$4*$J$3,0)+IF(AND(K13<>"N.NOT",K13<>"N.N",K13<>"ABS"),$K$4*$K$3,0)),0.1)) -> #DIV/0! | O13: =LEN(M13) -> 0 | P13: / 255
B14: =Liste!G11 -> Élève n°10 | C14: =Liste!C11 -> G2 | L14: =IF(AND(OR(D14="ABS",D14="N.NOT",D14="N.N"),E14="",F14="",G14="",H14="",I14="",J14="",K14=""),D14,CEILING(20*(IF(AND(D14<>"N.NOT",D14<>"N.N",D14<>"ABS"),D14*$D$4,0)+IF(AND(E14<>"N.NOT",E14<>"N.N",E14<>"ABS"),E14*$E$4,0)+IF(AND(F14<>"N.NOT",F14<>"N.N",F14<>"ABS"),F14*$F$4,0)+IF(AND(G14<>"N.NOT",G14<>"N.N",G14<>"ABS"),G14*$G$4,0)+IF(AND(H14<>"N.NOT",H14<>"N.N",H14<>"ABS"),H14*$H$4,0)+IF(AND(I14<>"N.NOT",I14<>"N.N",I14<>"ABS"),I14*$I$4,0)+IF(AND(J14<>"N.NOT",J14<>"N.N",J14<>"ABS"),J14*$J$4,0)+IF(AND(K14<>"N.NOT",K14<>"N.N",K14<>"ABS"),K14*$K$4,0))/(IF(AND(D14<>"N.NOT",D14<>"N.N",D14<>"ABS"),$D$4*$D$3,0)+IF(AND(E14<>"N.NOT",E14<>"N.N",E14<>"ABS"),$E$4*$E$3,0)+IF(AND(F14<>"N.NOT",F14<>"N.N",F14<>"ABS"),$F$4*$F$3,0)+IF(AND(G14<>"N.NOT",G14<>"N.N",G14<>"ABS"),$G$4*$G$3,0)+IF(AND(H14<>"N.NOT",H14<>"N.N",H14<>"ABS"),$H$4*$H$3,0)+IF(AND(I14<>"N.NOT",I14<>"N.N",I14<>"ABS"),$I$4*$I$3,0)+IF(AND(J14<>"N.NOT",J14<>"N.N",J14<>"ABS"),$J$4*$J$3,0)+IF(AND(K14<>"N.NOT",K14<>"N.N",K14<>"ABS"),$K$4*$K$3,0)),0.1)) -> #DIV/0! | O14: =LEN(M14) -> 0 | P14: / 255
B15: =Liste!G12 -> Élève n°11 | C15: =Liste!C12 -> G1 | L15: =IF(AND(OR(D15="ABS",D15="N.NOT",D15="N.N"),E15="",F15="",G15="",H15="",I15="",J15="",K15=""),D15,CEILING(20*(IF(AND(D15<>"N.NOT",D15<>"N.N",D15<>"ABS"),D15*$D$4,0)+IF(AND(E15<>"N.NOT",E15<>"N.N",E15<>"ABS"),E15*$E$4,0)+IF(AND(F15<>"N.NOT",F15<>"N.N",F15<>"ABS"),F15*$F$4,0)+IF(AND(G15<>"N.NOT",G15<>"N.N",G15<>"ABS"),G15*$G$4,0)+IF(AND(H15<>"N.NOT",H15<>"N.N",H15<>"ABS"),H15*$H$4,0)+IF(AND(I15<>"N.NOT",I15<>"N.N",I15<>"ABS"),I15*$I$4,0)+IF(AND(J15<>"N.NOT",J15<>"N.N",J15<>"ABS"),J15*$J$4,0)+IF(AND(K15<>"N.NOT",K15<>"N.N",K15<>"ABS"),K15*$K$4,0))/(IF(AND(D15<>"N.NOT",D15<>"N.N",D15<>"ABS"),$D$4*$D$3,0)+IF(AND(E15<>"N.NOT",E15<>"N.N",E15<>"ABS"),$E$4*$E$3,0)+IF(AND(F15<>"N.NOT",F15<>"N.N",F15<>"ABS"),$F$4*$F$3,0)+IF(AND(G15<>"N.NOT",G15<>"N.N",G15<>"ABS"),$G$4*$G$3,0)+IF(AND(H15<>"N.NOT",H15<>"N.N",H15<>"ABS"),$H$4*$H$3,0)+IF(AND(I15<>"N.NOT",I15<>"N.N",I15<>"ABS"),$I$4*$I$3,0)+IF(AND(J15<>"N.NOT",J15<>"N.N",J15<>"ABS"),$J$4*$J$3,0)+IF(AND(K15<>"N.NOT",K15<>"N.N",K15<>"ABS"),$K$4*$K$3,0)),0.1)) -> #DIV/0! | O15: =LEN(M15) -> 0 | P15: / 255
B16: =Liste!G13 -> Élève n°12 | C16: =Liste!C13 -> G1 | L16: =IF(AND(OR(D16="ABS",D16="N.NOT",D16="N.N"),E16="",F16="",G16="",H16="",I16="",J16="",K16=""),D16,CEILING(20*(IF(AND(D16<>"N.NOT",D16<>"N.N",D16<>"ABS"),D16*$D$4,0)+IF(AND(E16<>"N.NOT",E16<>"N.N",E16<>"ABS"),E16*$E$4,0)+IF(AND(F16<>"N.NOT",F16<>"N.N",F16<>"ABS"),F16*$F$4,0)+IF(AND(G16<>"N.NOT",G16<>"N.N",G16<>"ABS"),G16*$G$4,0)+IF(AND(H16<>"N.NOT",H16<>"N.N",H16<>"ABS"),H16*$H$4,0)+IF(AND(I16<>"N.NOT",I16<>"N.N",I16<>"ABS"),I16*$I$4,0)+IF(AND(J16<>"N.NOT",J16<>"N.N",J16<>"ABS"),J16*$J$4,0)+IF(AND(K16<>"N.NOT",K16<>"N.N",K16<>"ABS"),K16*$K$4,0))/(IF(AND(D16<>"N.NOT",D16<>"N.N",D16<>"ABS"),$D$4*$D$3,0)+IF(AND(E16<>"N.NOT",E16<>"N.N",E16<>"ABS"),$E$4*$E$3,0)+IF(AND(F16<>"N.NOT",F16<>"N.N",F16<>"ABS"),$F$4*$F$3,0)+IF(AND(G16<>"N.NOT",G16<>"N.N",G16<>"ABS"),$G$4*$G$3,0)+IF(AND(H16<>"N.NOT",H16<>"N.N",H16<>"ABS"),$H$4*$H$3,0)+IF(AND(I16<>"N.NOT",I16<>"N.N",I16<>"ABS"),$I$4*$I$3,0)+IF(AND(J16<>"N.NOT",J16<>"N.N",J16<>"ABS"),$J$4*$J$3,0)+IF(AND(K16<>"N.NOT",K16<>"N.N",K16<>"ABS"),$K$4*$K$3,0)),0.1)) -> #DIV/0! | O16: =LEN(M16) -> 0 | P16: / 255
... B24: =Liste!G21 -> Élève n°20 | C24: =Liste!C21 -> G1 | L24: =IF(AND(OR(D24="ABS",D24="N.NOT",D24="N.N"),E24="",F24="",G24="",H24="",I24="",J24="",K24=""),D24,CEILING(20*(IF(AND(D24<>"N.NOT",D24<>"N.N",D24<>"ABS"),D24*$D$4,0)+IF(AND(E24<>"N.NOT",E24<>"N.N",E24<>"ABS"),E24*$E$4,0)+IF(AND(F24<>"N.NOT",F24<>"N.N",F24<>"ABS"),F24*$F$4,0)+IF(AND(G24<>"N.NOT",G24<>"N.N",G24<>"ABS"),G24*$G$4,0)+IF(AND(H24<>"N.NOT",H24<>"N.N",H24<>"ABS"),H24*$H$4,0)+IF(AND(I24<>"N.NOT",I24<>"N.N",I24<>"ABS"),I24*$I$4,0)+IF(AND(J24<>"N.NOT",J24<>"N.N",J24<>"ABS"),J24*$J$4,0)+IF(AND(K24<>"N.NOT",K24<>"N.N",K24<>"ABS"),K24*$K$4,0))/(IF(AND(D24<>"N.NOT",D24<>"N.N",D24<>"ABS"),$D$4*$D$3,0)+IF(AND(E24<>"N.NOT",E24<>"N.N",E24<>"ABS"),$E$4*$E$3,0)+IF(AND(F24<>"N.NOT",F24<>"N.N",F24<>"ABS"),$F$4*$F$3,0)+IF(AND(G24<>"N.NOT",G24<>"N.N",G24<>"ABS"),$G$4*$G$3,0)+IF(AND(H24<>"N.NOT",H24<>"N.N",H24<>"ABS"),$H$4*$H$3,0)+IF(AND(I24<>"N.NOT",I24<>"N.N",I24<>"ABS"),$I$4*$I$3,0)+IF(AND(J24<>"N.NOT",J24<>"N.N",J24<>"ABS"),$J$4*$J$3,0)+IF(AND(K24<>"N.NOT",K24<>"N.N",K24<>"ABS"),$K$4*$K$3,0)),0.1)) -> #DIV/0! | O24: =LEN(M24) -> 0 | P24: / 255
B25: =Liste!G22 | C25: =Liste!C22 -> 0 | L25: =IF(AND(OR(D25="ABS",D25="N.NOT",D25="N.N"),E25="",F25="",G25="",H25="",I25="",J25="",K25=""),D25,CEILING(20*(IF(AND(D25<>"N.NOT",D25<>"N.N",D25<>"ABS"),D25*$D$4,0)+IF(AND(E25<>"N.NOT",E25<>"N.N",E25<>"ABS"),E25*$E$4,0)+IF(AND(F25<>"N.NOT",F25<>"N.N",F25<>"ABS"),F25*$F$4,0)+IF(AND(G25<>"N.NOT",G25<>"N.N",G25<>"ABS"),G25*$G$4,0)+IF(AND(H25<>"N.NOT",H25<>"N.N",H25<>"ABS"),H25*$H$4,0)+IF(AND(I25<>"N.NOT",I25<>"N.N",I25<>"ABS"),I25*$I$4,0)+IF(AND(J25<>"N.NOT",J25<>"N.N",J25<>"ABS"),J25*$J$4,0)+IF(AND(K25<>"N.NOT",K25<>"N.N",K25<>"ABS"),K25*$K$4,0))/(IF(AND(D25<>"N.NOT",D25<>"N.N",D25<>"ABS"),$D$4*$D$3,0)+IF(AND(E25<>"N.NOT",E25<>"N.N",E25<>"ABS"),$E$4*$E$3,0)+IF(AND(F25<>"N.NOT",F25<>"N.N",F25<>"ABS"),$F$4*$F$3,0)+IF(AND(G25<>"N.NOT",G25<>"N.N",G25<>"ABS"),$G$4*$G$3,0)+IF(AND(H25<>"N.NOT",H25<>"N.N",H25<>"ABS"),$H$4*$H$3,0)+IF(AND(I25<>"N.NOT",I25<>"N.N",I25<>"ABS"),$I$4*$I$3,0)+IF(AND(J25<>"N.NOT",J25<>"N.N",J25<>"ABS"),$J$4*$J$3,0)+IF(AND(K25<>"N.NOT",K25<>"N.N",K25<>"ABS"),$K$4*$K$3,0)),0.1)) -> #DIV/0!
B26: =Liste!G23 | C26: =Liste!C23 -> 0 | L26: =IF(AND(OR(D26="ABS",D26="N.NOT",D26="N.N"),E26="",F26="",G26="",H26="",I26="",J26="",K26=""),D26,CEILING(20*(IF(AND(D26<>"N.NOT",D26<>"N.N",D26<>"ABS"),D26*$D$4,0)+IF(AND(E26<>"N.NOT",E26<>"N.N",E26<>"ABS"),E26*$E$4,0)+IF(AND(F26<>"N.NOT",F26<>"N.N",F26<>"ABS"),F26*$F$4,0)+IF(AND(G26<>"N.NOT",G26<>"N.N",G26<>"ABS"),G26*$G$4,0)+IF(AND(H26<>"N.NOT",H26<>"N.N",H26<>"ABS"),H26*$H$4,0)+IF(AND(I26<>"N.NOT",I26<>"N.N",I26<>"ABS"),I26*$I$4,0)+IF(AND(J26<>"N.NOT",J26<>"N.N",J26<>"ABS"),J26*$J$4,0)+IF(AND(K26<>"N.NOT",K26<>"N.N",K26<>"ABS"),K26*$K$4,0))/(IF(AND(D26<>"N.NOT",D26<>"N.N",D26<>"ABS"),$D$4*$D$3,0)+IF(AND(E26<>"N.NOT",E26<>"N.N",E26<>"ABS"),$E$4*$E$3,0)+IF(AND(F26<>"N.NOT",F26<>"N.N",F26<>"ABS"),$F$4*$F$3,0)+IF(AND(G26<>"N.NOT",G26<>"N.N",G26<>"ABS"),$G$4*$G$3,0)+IF(AND(H26<>"N.NOT",H26<>"N.N",H26<>"ABS"),$H$4*$H$3,0)+IF(AND(I26<>"N.NOT",I26<>"N.N",I26<>"ABS"),$I$4*$I$3,0)+IF(AND(J26<>"N.NOT",J26<>"N.N",J26<>"ABS"),$J$4*$J$3,0)+IF(AND(K26<>"N.NOT",K26<>"N.N",K26<>"ABS"),$K$4*$K$3,0)),0.1)) -> #DIV/0!
B27: =Liste!G24 | C27: =Liste!C24 -> 0 | L27: =IF(AND(OR(D27="ABS",D27="N.NOT",D27="N.N"),E27="",F27="",G27="",H27="",I27="",J27="",K27=""),D27,CEILING(20*(IF(AND(D27<>"N.NOT",D27<>"N.N",D27<>"ABS"),D27*$D$4,0)+IF(AND(E27<>"N.NOT",E27<>"N.N",E27<>"ABS"),E27*$E$4,0)+IF(AND(F27<>"N.NOT",F27<>"N.N",F27<>"ABS"),F27*$F$4,0)+IF(AND(G27<>"N.NOT",G27<>"N.N",G27<>"ABS"),G27*$G$4,0)+IF(AND(H27<>"N.NOT",H27<>"N.N",H27<>"ABS"),H27*$H$4,0)+IF(AND(I27<>"N.NOT",I27<>"N.N",I27<>"ABS"),I27*$I$4,0)+IF(AND(J27<>"N.NOT",J27<>"N.N",J27<>"ABS"),J27*$J$4,0)+IF(AND(K27<>"N.NOT",K27<>"N.N",K27<>"ABS"),K27*$K$4,0))/(IF(AND(D27<>"N.NOT",D27<>"N.N",D27<>"ABS"),$D$4*$D$3,0)+IF(AND(E27<>"N.NOT",E27<>"N.N",E27<>"ABS"),$E$4*$E$3,0)+IF(AND(F27<>"N.NOT",F27<>"N.N",F27<>"ABS"),$F$4*$F$3,0)+IF(AND(G27<>"N.NOT",G27<>"N.N",G27<>"ABS"),$G$4*$G$3,0)+IF(AND(H27<>"N.NOT",H27<>"N.N",H27<>"ABS"),$H$4*$H$3,0)+IF(AND(I27<>"N.NOT",I27<>"N.N",I27<>"ABS"),$I$4*$I$3,0)+IF(AND(J27<>"N.NOT",J27<>"N.N",J27<>"ABS"),$J$4*$J$3,0)+IF(AND(K27<>"N.NOT",K27<>"N.N",K27<>"ABS"),$K$4*$K$3,0)),0.1)) -> #DIV/0! | O27: =LEN(M27) -> 0 | P27: / 255
B28: =Liste!G25 | C28: =Liste!C25 -> 0 | L28: =IF(AND(OR(D28="ABS",D28="N.NOT",D28="N.N"),E28="",F28="",G28="",H28="",I28="",J28="",K28=""),D28,CEILING(20*(IF(AND(D28<>"N.NOT",D28<>"N.N",D28<>"ABS"),D28*$D$4,0)+IF(AND(E28<>"N.NOT",E28<>"N.N",E28<>"ABS"),E28*$E$4,0)+IF(AND(F28<>"N.NOT",F28<>"N.N",F28<>"ABS"),F28*$F$4,0)+IF(AND(G28<>"N.NOT",G28<>"N.N",G28<>"ABS"),G28*$G$4,0)+IF(AND(H28<>"N.NOT",H28<>"N.N",H28<>"ABS"),H28*$H$4,0)+IF(AND(I28<>"N.NOT",I28<>"N.N",I28<>"ABS"),I28*$I$4,0)+IF(AND(J28<>"N.NOT",J28<>"N.N",J28<>"ABS"),J28*$J$4,0)+IF(AND(K28<>"N.NOT",K28<>"N.N",K28<>"ABS"),K28*$K$4,0))/(IF(AND(D28<>"N.NOT",D28<>"N.N",D28<>"ABS"),$D$4*$D$3,0)+IF(AND(E28<>"N.NOT",E28<>"N.N",E28<>"ABS"),$E$4*$E$3,0)+IF(AND(F28<>"N.NOT",F28<>"N.N",F28<>"ABS"),$F$4*$F$3,0)+IF(AND(G28<>"N.NOT",G28<>"N.N",G28<>"ABS"),$G$4*$G$3,0)+IF(AND(H28<>"N.NOT",H28<>"N.N",H28<>"ABS"),$H$4*$H$3,0)+IF(AND(I28<>"N.NOT",I28<>"N.N",I28<>"ABS"),$I$4*$I$3,0)+IF(AND(J28<>"N.NOT",J28<>"N.N",J28<>"ABS"),$J$4*$J$3,0)+IF(AND(K28<>"N.NOT",K28<>"N.N",K28<>"ABS"),$K$4*$K$3,0)),0.1)) -> #DIV/0! | O28: =LEN(M28) -> 0 | P28: / 255
B29: =Liste!G26 | C29: =Liste!C26 -> 0 | L29: =IF(AND(OR(D29="ABS",D29="N.NOT",D29="N.N"),E29="",F29="",G29="",H29="",I29="",J29="",K29=""),D29,CEILING(20*(IF(AND(D29<>"N.NOT",D29<>"N.N",D29<>"ABS"),D29*$D$4,0)+IF(AND(E29<>"N.NOT",E29<>"N.N",E29<>"ABS"),E29*$E$4,0)+IF(AND(F29<>"N.NOT",F29<>"N.N",F29<>"ABS"),F29*$F$4,0)+IF(AND(G29<>"N.NOT",G29<>"N.N",G29<>"ABS"),G29*$G$4,0)+IF(AND(H29<>"N.NOT",H29<>"N.N",H29<>"ABS"),H29*$H$4,0)+IF(AND(I29<>"N.NOT",I29<>"N.N",I29<>"ABS"),I29*$I$4,0)+IF(AND(J29<>"N.NOT",J29<>"N.N",J29<>"ABS"),J29*$J$4,0)+IF(AND(K29<>"N.NOT",K29<>"N.N",K29<>"ABS"),K29*$K$4,0))/(IF(AND(D29<>"N.NOT",D29<>"N.N",D29<>"ABS"),$D$4*$D$3,0)+IF(AND(E29<>"N.NOT",E29<>"N.N",E29<>"ABS"),$E$4*$E$3,0)+IF(AND(F29<>"N.NOT",F29<>"N.N",F29<>"ABS"),$F$4*$F$3,0)+IF(AND(G29<>"N.NOT",G29<>"N.N",G29<>"ABS"),$G$4*$G$3,0)+IF(AND(H29<>"N.NOT",H29<>"N.N",H29<>"ABS"),$H$4*$H$3,0)+IF(AND(I29<>"N.NOT",I29<>"N.N",I29<>"ABS"),$I$4*$I$3,0)+IF(AND(J29<>"N.NOT",J29<>"N.N",J29<>"ABS"),$J$4*$J$3,0)+IF(AND(K29<>"N.NOT",K29<>"N.N",K29<>"ABS"),$K$4*$K$3,0)),0.1)) -> #DIV/0! | O29: =LEN(M29) -> 0 | P29: / 255
B30: =Liste!G27 | C30: =Liste!C27 -> 0 | L30: =IF(AND(OR(D30="ABS",D30="N.NOT",D30="N.N"),E30="",F30="",G30="",H30="",I30="",J30="",K30=""),D30,CEILING(20*(IF(AND(D30<>"N.NOT",D30<>"N.N",D30<>"ABS"),D30*$D$4,0)+IF(AND(E30<>"N.NOT",E30<>"N.N",E30<>"ABS"),E30*$E$4,0)+IF(AND(F30<>"N.NOT",F30<>"N.N",F30<>"ABS"),F30*$F$4,0)+IF(AND(G30<>"N.NOT",G30<>"N.N",G30<>"ABS"),G30*$G$4,0)+IF(AND(H30<>"N.NOT",H30<>"N.N",H30<>"ABS"),H30*$H$4,0)+IF(AND(I30<>"N.NOT",I30<>"N.N",I30<>"ABS"),I30*$I$4,0)+IF(AND(J30<>"N.NOT",J30<>"N.N",J30<>"ABS"),J30*$J$4,0)+IF(AND(K30<>"N.NOT",K30<>"N.N",K30<>"ABS"),K30*$K$4,0))/(IF(AND(D30<>"N.NOT",D30<>"N.N",D30<>"ABS"),$D$4*$D$3,0)+IF(AND(E30<>"N.NOT",E30<>"N.N",E30<>"ABS"),$E$4*$E$3,0)+IF(AND(F30<>"N.NOT",F30<>"N.N",F30<>"ABS"),$F$4*$F$3,0)+IF(AND(G30<>"N.NOT",G30<>"N.N",G30<>"ABS"),$G$4*$G$3,0)+IF(AND(H30<>"N.NOT",H30<>"N.N",H30<>"ABS"),$H$4*$H$3,0)+IF(AND(I30<>"N.NOT",I30<>"N.N",I30<>"ABS"),$I$4*$I$3,0)+IF(AND(J30<>"N.NOT",J30<>"N.N",J30<>"ABS"),$J$4*$J$3,0)+IF(AND(K30<>"N.NOT",K30<>"N.N",K30<>"ABS"),$K$4*$K$3,0)),0.1)) -> #DIV/0! | O30: =LEN(M30) -> 0 | P30: / 255
B31: Moyennes | D31: =IF(D3="","X",AVERAGE(D5:D30)) -> X | E31: =IF(E3="","X",AVERAGE(E5:E30)) -> X | F31: =IF(F3="","X",AVERAGE(F5:F30)) -> X | G31: =IF(G3="","X",AVERAGE(G5:G30)) -> X | H31: =IF(H3="","X",AVERAGE(H5:H30)) -> X | I31: =IF(I3="","X",AVERAGE(I5:I30)) -> X | J31: =IF(J3="","X",AVERAGE(J5:J30)) -> X | K31: =IF(K3="","X",AVERAGE(K5:K30)) -> X | L31: =AVERAGE(L5:L30) -> #DIV/0! | M31: Appréciation globale
B32: Note min. | D32: =IF(D3="","X",MIN(D5:D30)) -> X | E32: =IF(E3="","X",MIN(E5:E30)) -> X | F32: =IF(F3="","X",MIN(F5:F30)) -> X | G32: =IF(G3="","X",MIN(G5:G30)) -> X | H32: =IF(H3="","X",MIN(H5:H30)) -> X | I32: =IF(I3="","X",MIN(I5:I30)) -> X | J32: =IF(J3="","X",MIN(J5:J30)) -> X | K32: =IF(K3="","X",MIN(K5:K30)) -> X | L32: =MIN(L1:L30) -> #DIV/0!
B33: Note max. | D33: =IF(D3="","X",MAX(D5:D30)) -> X | E33: =IF(E3="","X",MAX(E5:E30)) -> X | F33: =IF(F3="","X",MAX(F5:F30)) -> X | G33: =IF(G3="","X",MAX(G5:G30)) -> X | H33: =IF(H3="","X",MAX(H5:H30)) -> X | I33: =IF(I3="","X",MAX(I5:I30)) -> X | J33: =IF(J3="","X",MAX(J5:J30)) -> X | K33: =IF(K3="","X",MAX(K5:K30)) -> X | L33: =MAX(L5:L30) -> #DIV/0! | O33: =LEN(M32) -> 0 | P33: / 400
B34: ** Délégués

Sheet Export-Eval
A1: Classe | B1: Noms | AK1: APPpourcent | AL1: ANApourcent | AM1: REApourcent | AN1: VALpourcent | AO1: COMpourcent | AP1: AUTOpourcent | AQ1: RCOpourcent | AR1: APP-Niv.M | AS1: ANA-Niv.M | AT1: REA-Niv.M | AU1: VAL-Niv.M | AV1: COM-Niv.M | AW1: AUTO-Niv.M | AX1: RCO-Niv.M | AY1: APP-Note | AZ1: ANA-Note | BA1: REA-Note | BB1: VAL-Note | BC1: COM-Note | BD1: AUTO-Note | BE1: RCO-Note | BF1: NOTE | BG1: APP-Tot | BH1: ANA-Tot | BI1: REA-Tot | BJ1: VAL-Tot | BK1: COM-Tot | BL1: AUTO-Tot | BM1: RCO-Tot | BN1: Moy | BO1: Min | BP1: Max | BQ1: ="Observations ( Encore "& COUNTBLANK(BQ2:BQ20) & " restantes )" -> Observations ( Encore 19 restantes ) | BR1: Noms
A2: =Liste!C2 -> G1 | B2: =Liste!G2 -> Élève n°1 | BN2: =AVERAGE($BF$2:$BF$27) -> #DIV/0! | BO2: =MIN($BF$2:$BF$27) -> 0 | BP2: =MAX($BF$2:$BF$27) -> 0 | BR2: =Liste!G2 -> Élève n°1
A3: =Liste!C3 -> G1 | B3: =Liste!G3 -> Élève n°2 | BN3: =AVERAGE($BF$2:$BF$27) -> #DIV/0! | BO3: =MIN($BF$2:$BF$27) -> 0 | BP3: =MAX($BF$2:$BF$27) -> 0 | BR3: =Liste!G3 -> Élève n°2
A4: =Liste!C4 -> G2 | B4: =Liste!G4 -> Élève n°3 | BN4: =AVERAGE($BF$2:$BF$27) -> #DIV/0! | BO4: =MIN($BF$2:$BF$27) -> 0 | BP4: =MAX($BF$2:$BF$27) -> 0 | BR4: =Liste!G4 -> Élève n°3
A5: =Liste!C5 -> G2 | B5: =Liste!G5 -> Élève n°4 | BN5: =AVERAGE($BF$2:$BF$27) -> #DIV/0! | BO5: =MIN($BF$2:$BF$27) -> 0 | BP5: =MAX($BF$2:$BF$27) -> 0 | BR5: =Liste!G5 -> Élève n°4
A6: =Liste!C6 -> G1 | B6: =Liste!G6 -> Élève n°5 | BN6: =AVERAGE($BF$2:$BF$27) -> #DIV/0! | BO6: =MIN($BF$2:$BF$27) -> 0 | BP6: =MAX($BF$2:$BF$27) -> 0 | BR6: =Liste!G6 -> Élève n°5
A7: =Liste!C7 -> G1 | B7: =Liste!G7 -> Élève n°6 | BN7: =AVERAGE($BF$2:$BF$27) -> #DIV/0! | BO7: =MIN($BF$2:$BF$27) -> 0 | BP7: =MAX($BF$2:$BF$27) -> 0 | BR7: =Liste!G7 -> Élève n°6
A8: =Liste!C8 -> G1 | B8: =Liste!G8 -> Élève n°7 | BN8: =AVERAGE($BF$2:$BF$27) -> #DIV/0! | BO8: =MIN($BF$2:$BF$27) -> 0 | BP8: =MAX($BF$2:$BF$27) -> 0 | BR8: =Liste!G8 -> Élève n°7
A9: =Liste!C9 -> G1 | B9: =Liste!G9 -> Élève n°8 | BN9: =AVERAGE($BF$2:$BF$27) -> #DIV/0! | BO9: =MIN($BF$2:$BF$27) -> 0 | BP9: =MAX($BF$2:$BF$27) -> 0 | BR9: =Liste!G9 -> Élève n°8
A10: =Liste!C10 -> G2 | B10: =Liste!G10 -> Élève n°9 | BN10: =AVERAGE($BF$2:$BF$27) -> #DIV/0! | BO10: =MIN($BF$2:$BF$27) -> 0 | BP10: =MAX($BF$2:$BF$27) -> 0 | BR10: =Liste!G10 -> Élève n°9
A11: =Liste!C11 -> G2 | B11: =Liste!G11 -> Élève n°10 | BN11: =AVERAGE($BF$2:$BF$27) -> #DIV/0! | BO11: =MIN($BF$2:$BF$27) -> 0 | BP11: =MAX($BF$2:$BF$27) -> 0 | BR11: =Liste!G11 -> Élève n°10
A12: =Liste!C12 -> G1 | B12: =Liste!G12 -> Élève n°11 | BN12: =AVERAGE($BF$2:$BF$27) -> #DIV/0! | BO12: =MIN($BF$2:$BF$27) -> 0 | BP12: =MAX($BF$2:$BF$27) -> 0 | BR12: =Liste!G12 -> Élève n°11
A13: =Liste!C13 -> G1 | B13: =Liste!G13 -> Élève n°12 | BN13: =AVERAGE($BF$2:$BF$27) -> #DIV/0! | BO13: =MIN($BF$2:$BF$27) -> 0 | BP13: =MAX($BF$2:$BF$27) -> 0 | BR13: =Liste!G13 -> Élève n°12
... A35: =Liste!C35 -> 0 | B35: =Liste!G35 | BN35: =AVERAGE($BF$2:$BF$27) -> #DIV/0! | BO35: =MIN($BF$2:$BF$27) -> 0 | BP35: =MAX($BF$2:$BF$27) -> 0 | BR35: =Liste!G35

Sheet -_-

Sheet Éval-Modèle(Nouveau)
F1: X , NR, ABS → | G1: ABS | H1: X | I1: NR | O1: ABS | AP1: ⚠️🔒 NE PAS MODIFIER LES CELLULES CI-DESSOUS 🔒 ⚠️
A2: LYCÉE LE CORBUSIER | D2: PHYSIQUE - CHIMIE | G2: Noms des élèves évalués. (⚠️Ne pas modifier ici ! Modifier la feuille Liste-ÉLÈVES⚠️) | AP2: Pondération par le niveau d'évaluation (⚠️Ne pas modifier ici ! Modifier la feuille Liste-ÉLÈVES⚠️) | BX2: Moyenne | BY2: Réussite
A3: =Liste!F2 -> ClasseA | D3: ÉVALUATION SOMMATIVE | E3: 44231 | G3: =Liste!$G2 -> Élève n°1 | H3: =Liste!$G3 -> Élève n°2 | I3: =Liste!$G4 -> Élève n°3 | J3: =Liste!$G5 -> Élève n°4 | K3: =Liste!$G6 -> Élève n°5 | L3: =Liste!$G7 -> Élève n°6 | M3: =Liste!$G8 -> Élève n°7 | N3: =Liste!$G9 -> Élève n°8 | O3: =Liste!$G10 -> Élève n°9 | P3: =Liste!$G11 -> Élève n°10 | Q3: =Liste!$G12 -> Élève n°11 | R3: =Liste!$G13 -> Élève n°12 | S3: =Liste!$G14 -> Élève n°13 | T3: =Liste!$G15 -> Élève n°14 | U3: =Liste!$G16 -> Élève n°15 | V3: =Liste!$G17 -> Élève n°16 | W3: =Liste!$G18 -> Élève n°17 | X3: =Liste!$G19 -> Élève n°18 | Y3: =Liste!$G20 -> Élève n°19 | Z3: =Liste!$G21 -> Élève n°20 | AA3: =Liste!$G22 | AB3: =Liste!$G23 | AC3: =Liste!$G24 | AD3: =Liste!$G25 | AE3: =Liste!$G26 | AF3: =Liste!$G27 | AG3: =Liste!$G28 | AH3: =Liste!$G29 | AI3: =Liste!$G30 | AJ3: =Liste!$G31 | AK3: =Liste!$G32 | AL3: =Liste!$G33 | AM3: =Liste!$G34 | AN3: =Liste!$G35 | AP3: =G3 -> Élève n°1 | AQ3: =H3 -> Élève n°2 | AR3: =I3 -> Élève n°3 | AS3: =J3 -> Élève n°4 | AT3: =K3 -> Élève n°5 | AU3: =L3 -> Élève n°6 | AV3: =M3 -> Élève n°7 | AW3: =N3 -> Élève n°8 | ... BW3: =AN3
A4: Évaluation n° : Titre de l'évaluation
A6: Question | B6: Compétence mobilisée | C6: Capacité évaluée / Observable | E6: Poids
AP7: =IF(G7="","",(IF(G7="A",Seuil_max_A,IF(G7="B",Seuil_max_B,IF(G7="C",Seuil_max_C,IF(G7="D",Seuil_max_D,0)))))*$E7) | AQ7: =IF(H7="","",(IF(H7="A",Seuil_max_A,IF(H7="B",Seuil_max_B,IF(H7="C",Seuil_max_C,IF(H7="D",Seuil_max_D,0)))))*$E7) | AR7: =IF(I7="","",(IF(I7="A",Seuil_max_A,IF(I7="B",Seuil_max_B,IF(I7="C",Seuil_max_C,IF(I7="D",Seuil_max_D,0)))))*$E7) | AS7: =IF(J7="","",(IF(J7="A",Seuil_max_A,IF(J7="B",Seuil_max_B,IF(J7="C",Seuil_max_C,IF(J7="D",Seuil_max_D,0)))))*$E7) | AT7: =IF(K7="","",(IF(K7="A",Seuil_max_A,IF(K7="B",Seuil_max_B,IF(K7="C",Seuil_max_C,IF(K7="D",Seuil_max_D,0)))))*$E7) | AU7: =IF(L7="","",(IF(L7="A",Seuil_max_A,IF(L7="B",Seuil_max_B,IF(L7="C",Seuil_max_C,IF(L7="D",Seuil_max_D,0)))))*$E7) | AV7: =IF(M7="","",(IF(M7="A",Seuil_max_A,IF(M7="B",Seuil_max_B,IF(M7="C",Seuil_max_C,IF(M7="D",Seuil_max_D,0)))))*$E7) | AW7: =IF(N7="","",(IF(N7="A",Seuil_max_A,IF(N7="B",Seuil_max_B,IF(N7="C",Seuil_max_C,IF(N7="D",Seuil_max_D,0)))))*$E7) | ... BW7: =IF(AN7="","",(IF(AN7="A",Seuil_max_A,IF(AN7="B",Seuil_max_B,IF(AN7="C",Seuil_max_C,IF(AN7="D",Seuil_max_D,0)))))*$E7) | BX7: =IFERROR(AVERAGE(AP7:BW7),"") | BY7: =IFERROR(IF(OR($E7=0,$E7=""),"",$BX7/$E7),"")
AP8: =IF(G8="","",(IF(G8="A",Seuil_max_A,IF(G8="B",Seuil_max_B,IF(G8="C",Seuil_max_C,IF(G8="D",Seuil_max_D,0)))))*$E8) | AQ8: =IF(H8="","",(IF(H8="A",Seuil_max_A,IF(H8="B",Seuil_max_B,IF(H8="C",Seuil_max_C,IF(H8="D",Seuil_max_D,0)))))*$E8) | AR8: =IF(I8="","",(IF(I8="A",Seuil_max_A,IF(I8="B",Seuil_max_B,IF(I8="C",Seuil_max_C,IF(I8="D",Seuil_max_D,0)))))*$E8) | AS8: =IF(J8="","",(IF(J8="A",Seuil_max_A,IF(J8="B",Seuil_max_B,IF(J8="C",Seuil_max_C,IF(J8="D",Seuil_max_D,0)))))*$E8) | AT8: =IF(K8="","",(IF(K8="A",Seuil_max_A,IF(K8="B",Seuil_max_B,IF(K8="C",Seuil_max_C,IF(K8="D",Seuil_max_D,0)))))*$E8) | AU8: =IF(L8="","",(IF(L8="A",Seuil_max_A,IF(L8="B",Seuil_max_B,IF(L8="C",Seuil_max_C,IF(L8="D",Seuil_max_D,0)))))*$E8) | AV8: =IF(M8="","",(IF(M8="A",Seuil_max_A,IF(M8="B",Seuil_max_B,IF(M8="C",Seuil_max_C,IF(M8="D",Seuil_max_D,0)))))*$E8) | AW8: =IF(N8="","",(IF(N8="A",Seuil_max_A,IF(N8="B",Seuil_max_B,IF(N8="C",Seuil_max_C,IF(N8="D",Seuil_max_D,0)))))*$E8) | ... BW8: =IF(AN8="","",(IF(AN8="A",Seuil_max_A,IF(AN8="B",Seuil_max_B,IF(AN8="C",Seuil_max_C,IF(AN8="D",Seuil_max_D,0)))))*$E8) | BX8: =IFERROR(AVERAGE(AP8:BW8),"") | BY8: =IFERROR(IF(OR($E8=0,$E8=""),"",$BX8/$E8),"")
AP9: =IF(G9="","",(IF(G9="A",Seuil_max_A,IF(G9="B",Seuil_max_B,IF(G9="C",Seuil_max_C,IF(G9="D",Seuil_max_D,0)))))*$E9) | AQ9: =IF(H9="","",(IF(H9="A",Seuil_max_A,IF(H9="B",Seuil_max_B,IF(H9="C",Seuil_max_C,IF(H9="D",Seuil_max_D,0)))))*$E9) | AR9: =IF(I9="","",(IF(I9="A",Seuil_max_A,IF(I9="B",Seuil_max_B,IF(I9="C",Seuil_max_C,IF(I9="D",Seuil_max_D,0)))))*$E9) | AS9: =IF(J9="","",(IF(J9="A",Seuil_max_A,IF(J9="B",Seuil_max_B,IF(J9="C",Seuil_max_C,IF(J9="D",Seuil_max_D,0)))))*$E9) | AT9: =IF(K9="","",(IF(K9="A",Seuil_max_A,IF(K9="B",Seuil_max_B,IF(K9="C",Seuil_max_C,IF(K9="D",Seuil_max_D,0)))))*$E9) | AU9: =IF(L9="","",(IF(L9="A",Seuil_max_A,IF(L9="B",Seuil_max_B,IF(L9="C",Seuil_max_C,IF(L9="D",Seuil_max_D,0)))))*$E9) | AV9: =IF(M9="","",(IF(M9="A",Seuil_max_A,IF(M9="B",Seuil_max_B,IF(M9="C",Seuil_max_C,IF(M9="D",Seuil_max_D,0)))))*$E9) | AW9: =IF(N9="","",(IF(N9="A",Seuil_max_A,IF(N9="B",Seuil_max_B,IF(N9="C",Seuil_max_C,IF(N9="D",Seuil_max_D,0)))))*$E9) | ... BW9: =IF(AN9="","",(IF(AN9="A",Seuil_max_A,IF(AN9="B",Seuil_max_B,IF(AN9="C",Seuil_max_C,IF(AN9="D",Seuil_max_D,0)))))*$E9) | BX9: =IFERROR(AVERAGE(AP9:BW9),"") | BY9: =IFERROR(IF(OR($E9=0,$E9=""),"",$BX9/$E9),"")
AP10: =IF(G10="","",(IF(G10="A",Seuil_max_A,IF(G10="B",Seuil_max_B,IF(G10="C",Seuil_max_C,IF(G10="D",Seuil_max_D,0)))))*$E10) | AQ10: =IF(H10="","",(IF(H10="A",Seuil_max_A,IF(H10="B",Seuil_max_B,IF(H10="C",Seuil_max_C,IF(H10="D",Seuil_max_D,0)))))*$E10) | AR10: =IF(I10="","",(IF(I10="A",Seuil_max_A,IF(I10="B",Seuil_max_B,IF(I10="C",Seuil_max_C,IF(I10="D",Seuil_max_D,0)))))*$E10) | AS10: =IF(J10="","",(IF(J10="A",Seuil_max_A,IF(J10="B",Seuil_max_B,IF(J10="C",Seuil_max_C,IF(J10="D",Seuil_max_D,0)))))*$E10) | AT10: =IF(K10="","",(IF(K10="A",Seuil_max_A,IF(K10="B",Seuil_max_B,IF(K10="C",Seuil_max_C,IF(K10="D",Seuil_max_D,0)))))*$E10) | AU10: =IF(L10="","",(IF(L10="A",Seuil_max_A,IF(L10="B",Seuil_max_B,IF(L10="C",Seuil_max_C,IF(L10="D",Seuil_max_D,0)))))*$E10) | AV10: =IF(M10="","",(IF(M10="A",Seuil_max_A,IF(M10="B",Seuil_max_B,IF(M10="C",Seuil_max_C,IF(M10="D",Seuil_max_D,0)))))*$E10) | AW10: =IF(N10="","",(IF(N10="A",Seuil_max_A,IF(N10="B",Seuil_max_B,IF(N10="C",Seuil_max_C,IF(N10="D",Seuil_max_D,0)))))*$E10) | ... BW10: =IF(AN10="","",(IF(AN10="A",Seuil_max_A,IF(AN10="B",Seuil_max_B,IF(AN10="C",Seuil_max_C,IF(AN10="D",Seuil_max_D,0)))))*$E10) | BX10: =IFERROR(AVERAGE(AP10:BW10),"") | BY10: =IFERROR(IF(OR($E10=0,$E10=""),"",$BX10/$E10),"")
AO11: è | AP11: =IF(G11="","",(IF(G11="A",Seuil_max_A,IF(G11="B",Seuil_max_B,IF(G11="C",Seuil_max_C,IF(G11="D",Seuil_max_D,0)))))*$E11) | AQ11: =IF(H11="","",(IF(H11="A",Seuil_max_A,IF(H11="B",Seuil_max_B,IF(H11="C",Seuil_max_C,IF(H11="D",Seuil_max_D,0)))))*$E11) | AR11: =IF(I11="","",(IF(I11="A",Seuil_max_A,IF(I11="B",Seuil_max_B,IF(I11="C",Seuil_max_C,IF(I11="D",Seuil_max_D,0)))))*$E11) | AS11: =IF(J11="","",(IF(J11="A",Seuil_max_A,IF(J11="B",Seuil_max_B,IF(J11="C",Seuil_max_C,IF(J11="D",Seuil_max_D,0)))))*$E11) | AT11: =IF(K11="","",(IF(K11="A",Seuil_max_A,IF(K11="B",Seuil_max_B,IF(K11="C",Seuil_max_C,IF(K11="D",Seuil_max_D,0)))))*$E11) | AU11: =IF(L11="","",(IF(L11="A",Seuil_max_A,IF(L11="B",Seuil_max_B,IF(L11="C",Seuil_max_C,IF(L11="D",Seuil_max_D,0)))))*$E11) | AV11: =IF(M11="","",(IF(M11="A",Seuil_max_A,IF(M11="B",Seuil_max_B,IF(M11="C",Seuil_max_C,IF(M11="D",Seuil_max_D,0)))))*$E11) | AW11: =IF(N11="","",(IF(N11="A",Seuil_max_A,IF(N11="B",Seuil_max_B,IF(N11="C",Seuil_max_C,IF(N11="D",Seuil_max_D,0)))))*$E11) | ... BW11: =IF(AN11="","",(IF(AN11="A",Seuil_max_A,IF(AN11="B",Seuil_max_B,IF(AN11="C",Seuil_max_C,IF(AN11="D",Seuil_max_D,0)))))*$E11) | BX11: =IFERROR(AVERAGE(AP11:BW11),"") | BY11: =IFERROR(IF(OR($E11=0,$E11=""),"",$BX11/$E11),"")
AP12: =IF(G12="","",(IF(G12="A",Seuil_max_A,IF(G12="B",Seuil_max_B,IF(G12="C",Seuil_max_C,IF(G12="D",Seuil_max_D,0)))))*$E12) | AQ12: =IF(H12="","",(IF(H12="A",Seuil_max_A,IF(H12="B",Seuil_max_B,IF(H12="C",Seuil_max_C,IF(H12="D",Seuil_max_D,0)))))*$E12) | AR12: =IF(I12="","",(IF(I12="A",Seuil_max_A,IF(I12="B",Seuil_max_B,IF(I12="C",Seuil_max_C,IF(I12="D",Seuil_max_D,0)))))*$E12) | AS12: =IF(J12="","",(IF(J12="A",Seuil_max_A,IF(J12="B",Seuil_max_B,IF(J12="C",Seuil_max_C,IF(J12="D",Seuil_max_D,0)))))*$E12) | AT12: =IF(K12="","",(IF(K12="A",Seuil_max_A,IF(K12="B",Seuil_max_B,IF(K12="C",Seuil_max_C,IF(K12="D",Seuil_max_D,0)))))*$E12) | AU12: =IF(L12="","",(IF(L12="A",Seuil_max_A,IF(L12="B",Seuil_max_B,IF(L12="C",Seuil_max_C,IF(L12="D",Seuil_max_D,0)))))*$E12) | AV12: =IF(M12="","",(IF(M12="A",Seuil_max_A,IF(M12="B",Seuil_max_B,IF(M12="C",Seuil_max_C,IF(M12="D",Seuil_max_D,0)))))*$E12) | AW12: =IF(N12="","",(IF(N12="A",Seuil_max_A,IF(N12="B",Seuil_max_B,IF(N12="C",Seuil_max_C,IF(N12="D",Seuil_max_D,0)))))*$E12) | ... BW12: =IF(AN12="","",(IF(AN12="A",Seuil_max_A,IF(AN12="B",Seuil_max_B,IF(AN12="C",Seuil_max_C,IF(AN12="D",Seuil_max_D,0)))))*$E12) | BX12: =IFERROR(AVERAGE(AP12:BW12),"") | BY12: =IFERROR(IF(OR($E12=0,$E12=""),"",$BX12/$E12),"")
AP13: =IF(G13="","",(IF(G13="A",Seuil_max_A,IF(G13="B",Seuil_max_B,IF(G13="C",Seuil_max_C,IF(G13="D",Seuil_max_D,0)))))*$E13) | AQ13: =IF(H13="","",(IF(H13="A",Seuil_max_A,IF(H13="B",Seuil_max_B,IF(H13="C",Seuil_max_C,IF(H13="D",Seuil_max_D,0)))))*$E13) | AR13: =IF(I13="","",(IF(I13="A",Seuil_max_A,IF(I13="B",Seuil_max_B,IF(I13="C",Seuil_max_C,IF(I13="D",Seuil_max_D,0)))))*$E13) | AS13: =IF(J13="","",(IF(J13="A",Seuil_max_A,IF(J13="B",Seuil_max_B,IF(J13="C",Seuil_max_C,IF(J13="D",Seuil_max_D,0)))))*$E13) | AT13: =IF(K13="","",(IF(K13="A",Seuil_max_A,IF(K13="B",Seuil_max_B,IF(K13="C",Seuil_max_C,IF(K13="D",Seuil_max_D,0)))))*$E13) | AU13: =IF(L13="","",(IF(L13="A",Seuil_max_A,IF(L13="B",Seuil_max_B,IF(L13="C",Seuil_max_C,IF(L13="D",Seuil_max_D,0)))))*$E13) | AV13: =IF(M13="","",(IF(M13="A",Seuil_max_A,IF(M13="B",Seuil_max_B,IF(M13="C",Seuil_max_C,IF(M13="D",Seuil_max_D,0)))))*$E13) | AW13: =IF(N13="","",(IF(N13="A",Seuil_max_A,IF(N13="B",Seuil_max_B,IF(N13="C",Seuil_max_C,IF(N13="D",Seuil_max_D,0)))))*$E13) | ... BW13: =IF(AN13="","",(IF(AN13="A",Seuil_max_A,IF(AN13="B",Seuil_max_B,IF(AN13="C",Seuil_max_C,IF(AN13="D",Seuil_max_D,0)))))*$E13) | BX13: =IFERROR(AVERAGE(AP13:BW13),"") | BY13: =IFERROR(IF(OR($E13=0,$E13=""),"",$BX13/$E13),"")
