Workbook
Name CindexComp: [1]Données!$B$34
Name CindexComp: [1]Données!$B$34
Name CindexComp: [2]Données!$B$34
Name CindexNote: [1]Données!$B$37
Name CindexNote: [1]Données!$B$37
Name CindexNote: [2]Données!$B$37
Name CindexReuss: [1]Données!$B$39
Name CindexReuss: [1]Données!$B$39
Name CindexReuss: [2]Données!$B$39
Name Compétences: #REF!
Name LindexComp: [1]Données!$A$34
Name LindexComp: [1]Données!$A$34
Name LindexComp: [2]Données!$A$34
Name LindexNote: [1]Données!$A$37
Name LindexNote: [1]Données!$A$37
Name LindexNote: [2]Données!$A$37
Name LindexReuss: [1]Données!$A$39
Name LindexReuss: [1]Données!$A$39
Name LindexReuss: [2]Données!$A$39
Name MarqueurA: [1]Données!$A$3
Name MarqueurA: [1]Données!$A$3
Name MarqueurA: [2]Données!$A$3
Name MarqueurB: [1]Données!$A$4
Name MarqueurB: [1]Données!$A$4
Name MarqueurB: [2]Données!$A$4
Name MarqueurC: [1]Données!$A$5
Name MarqueurC: [1]Données!$A$5
Name MarqueurC: [2]Données!$A$5
Name MarqueurD: [1]Données!$A$6
Name MarqueurD: [1]Données!$A$6
Name MarqueurD: [2]Données!$A$6
Name MarqueurNE: [1]Données!$A$7
Name MarqueurNE: [1]Données!$A$7
Name MarqueurNE: [2]Données!$A$7
Name Poids: Données!$F$11:$F$24
Name Seuil_max_A: Données!$C$11
Name Seuil_max_B: Données!$C$12
Name Seuil_max_C: Données!$C$13
Name Seuil_max_D: Données!$C$14
Name Seuil_min_E: Données!$C$15
Name Seuil_mon_∅: Données!$C$16
Name SeuilDev0: [1]Données!$B$31
Name SeuilDev0: [1]Données!$B$31
Name SeuilDev0: [2]Données!$B$31
Name SeuilDev1: [1]Données!$B$30
Name SeuilDev1: [1]Données!$B$30
Name SeuilDev1: [2]Données!$B$30
Name SeuilDev2: [1]Données!$B$29
Name SeuilDev2: [1]Données!$B$29
Name SeuilDev2: [2]Données!$B$29
Name SeuilDev3: [1]Données!$B$28
Name SeuilDev3: [1]Données!$B$28
Name SeuilDev3: [2]Données!$B$28
Name SeuilMaxB: [1]Données!$B$22
Name SeuilMaxB: [1]Données!$B$22
Name SeuilMaxB: [2]Données!$B$22
Name SeuilMaxC: [1]Données!$B$23
Name SeuilMaxC: [1]Données!$B$23
Name SeuilMaxC: [2]Données!$B$23
Name SeuilMaxD: [1]Données!$B$24

Sheet S1
B1: =Liste!F2 & CHAR(10) & Liste!D2 & "élèves" -> ClasseA 20élèves | L1: Moy. S.1 | M1: Appréciations - 1er Semestre | O1: Nb. de caractère dans l'appréciation (max = 255)
B2: Date | O2: max= | P2: 255
B3: Note sur
B4: Elèves | Coeff. | C4: G.
B5: =Liste!G2 -> Élève n°1 | C5: =Liste!C2 -> G1 | L5: =IF(AND(OR(D5="ABS",D5="N.NOT",D5="N.N"),E5="",F5="",G5="",H5="",I5="",J5="",K5=""),D5,CEILING(20*(IF(AND(D5<>"N.NOT",D5<>"N.N",D5<>"ABS"),D5*$D$4,0)+IF(AND(E5<>"N.NOT",E5<>"N.N",E5<>"ABS"),E5*$E$4,0)+IF(AND(F5<>"N.NOT",F5<>"N.N",F5<>"ABS"),F5*$F$4,0)+IF(AND(G5<>"N.NOT",G5<>"N.N",G5<>"ABS"),G5*$G$4,0)+IF(AND(H5<>"N.NOT",H5<>"N.N",H5<>"ABS"),H5*$H$4,0)+IF(AND(I5<>"N.NOT",I5<>"N.N",I5<>"ABS"),I5*$I$4,0)+IF(AND(J5<>"N.NOT",J5<>"N.N",J5<>"ABS"),J5*$J$4,0)+IF(AND(K5<>"N.NOT",K5<>"N.N",K5<>"ABS"),K5*$K$4,0))/(IF(AND(D5<>"N.NOT",D5<>"N.N",D5<>"ABS"),$D$4*$D$3,0)+IF(AND(E5<>"N.NOT",E5<>"N.N",E5<>"ABS"),$E$4*$E$3,0)+IF(AND(F5<>"N.NOT",F5<>"N.N",F5<>"ABS"),$F$4*$F$3,0)+IF(AND(G5<>"N.NOT",G5<>"N.N",G5<>"ABS"),$G$4*$G$3,0)+IF(AND(H5<>"N.NOT",H5<>"N.N",H5<>"ABS"),$H$4*$H$3,0)+IF(AND(I5<>"N.NOT",I5<>"N.N",I5<>"ABS"),$I$4*$I$3,0)+IF(AND(J5<>"N.NOT",J5<>"N.N",J5<>"ABS"),$J$4*$J$3,0)+IF(AND(K5<>"N.NOT",K5<>"N.N",K5<>"ABS"),$K$4*$K$3,0)),0.1)) -> #DIV/0! | O5: =LEN(M5) -> 0 | P5: / 255
B6: =Liste!G3 -> Élève n°2 | C6: =Liste!C3 -> G1 | L6: =IF(AND(OR(D6="ABS",D6="N.NOT",D6="N.N"),E6="",F6="",G6="",H6="",I6="",J6="",K6=""),D6,CEILING(20*(IF(AND(D6<>"N.NOT",D6<>"N.N",D6<>"ABS"),D6*$D$4,0)+IF(AND(E6<>"N.NOT",E6<>"N.N",E6<>"ABS"),E6*$E$4,0)+IF(AND(F6<>"N.NOT",F6<>"N.N",F6<>"ABS"),F6*$F$4,0)+IF(AND(G6<>"N.NOT",G6<>"N.N",G6<>"ABS"),G6*$G$4,0)+IF(AND(H6<>"N.NOT",H6<>"N.N",H6<>"ABS"),H6*$H$4,0)+IF(AND(I6<>"N.NOT",I6<>"N.N",I6<>"ABS"),I6*$I$4,0)+IF(AND(J6<>"N.NOT",J6<>"N.N",J6<>"ABS"),J6*$J$4,0)+IF(AND(K6<>"N.NOT",K6<>"N.N",K6<>"ABS"),K6*$K$4,0))/(IF(AND(D6<>"N.NOT",D6<>"N.N",D6<>"ABS"),$D$4*$D$3,0)+IF(AND(E6<>"N.NOT",E6<>"N.N",E6<>"ABS"),$E$4*$E$3,0)+IF(AND(F6<>"N.NOT",F6<>"N.N",F6<>"ABS"),$F$4*$F$3,0)+IF(AND(G6<>"N.NOT",G6<>"N.N",G6<>"ABS"),$G$4*$G$3,0)+IF(AND(H6<>"N.NOT",H6<>"N.N",H6<>"ABS"),$H$4*$H$3,0)+IF(AND(I6<>"N.NOT",I6<>"N.N",I6<>"ABS"),$I$4*$I$3,0)+IF(AND(J6<>"N.NOT",J6<>"N.N",J6<>"ABS"),$J$4*$J$3,0)+IF(AND(K6<>"N.NOT",K6<>"N.N",K6<>"ABS"),$K$4*$K$3,0)),0.1)) -> #DIV/0! | O6: =LEN(M6) -> 0 | P6: / 255
B7: =Liste!G4 -> Élève n°3 | C7: =Liste!C4 -> G2 | L7: =IF(AND(OR(D7="ABS",D7="N.NOT",D7="N.N"),E7="",F7="",G7="",H7="",I7="",J7="",K7=""),D7,CEILING(20*(IF(AND(D7<>"N.NOT",D7<>"N.N",D7<>"ABS"),D7*$D$4,0)+IF(AND(E7<>"N.NOT",E7<>"N.N",E7<>"ABS"),E7*$E$4,0)+IF(AND(F7<>"N.NOT",F7<>"N.N",F7<>"ABS"),F7*$F$4,0)+IF(AND(G7<>"N.NOT",G7<>"N.N",G7<>"ABS"),G7*$G$4,0)+IF(AND(H7<>"N.NOT",H7<>"N.N",H7<>"ABS"),H7*$H$4,0)+IF(AND(I7<>"N.NOT",I7<>"N.N",I7<>"ABS"),I7*$I$4,0)+IF(AND(J7<>"N.NOT",J7<>"N.N",J7<>"ABS"),J7*$J$4,0)+IF(AND(K7<>"N.NOT",K7<>"N.N",K7<>"ABS"),K7*$K$4,0))/(IF(AND(D7<>"N.NOT",D7<>"N.N",D7<>"ABS"),$D$4*$D$3,0)+IF(AND(E7<>"N.NOT",E7<>"N.N",E7<>"ABS"),$E$4*$E$3,0)+IF(AND(F7<>"N.NOT",F7<>"N.N",F7<>"ABS"),$F$4*$F$3,0)+IF(AND(G7<>"N.NOT",G7<>"N.N",G7<>"ABS"),$G$4*$G$3,0)+IF(AND(H7<>"N.NOT",H7<>"N.N",H7<>"ABS"),$H$4*$H$3,0)+IF(AND(I7<>"N.NOT",I7<>"N.N",I7<>"ABS"),$I$4*$I$3,0)+IF(AND(J7<>"N.NOT",J7<>"N.N",J7<>"ABS"),$J$4*$J$3,0)+IF(AND(K7<>"N.NOT",K7<>"N.N",K7<>"ABS"),$K$4*$K$3,0)),0.1)) -> #DIV/0! | O7: =LEN(M7) -> 0 | P7: / 255
B8: =Liste!G5 -> Élève n°4 | C8: =Liste!C5 -> G2 | L8: =IF(AND(OR(D8="ABS",D8="N.NOT",D8="N.N"),E8="",F8="",G8="",H8="",I8="",J8="",K8=""),D8,CEILING(20*(IF(AND(D8<>"N.NOT",D8<>"N.N",D8<>"ABS"),D8*$D$4,0)+IF(AND(E8<>"N.NOT",E8<>"N.N",E8<>"ABS"),E8*$E$4,0)+IF(AND(F8<>"N.NOT",F8<>"N.N",F8<>"ABS"),F8*$F$4,0)+IF(AND(G8<>"N.NOT",G8<>"N.N",G8<>"ABS"),G8*$G$4,0)+IF(AND(H8<>"N.NOT",H8<>"N.N",H8<>"ABS"),H8*$H$4,0)+IF(AND(I8<>"N.NOT",I8<>"N.N",I8<>"ABS"),I8*$I$4,0)+IF(AND(J8<>"N.NOT",J8<>"N.N",J8<>"ABS"),J8*$J$4,0)+IF(AND(K8<>"N.NOT",K8<>"N.N",K8<>"ABS"),K8*$K$4,0))/(IF(AND(D8<>"N.NOT",D8<>"N.N",D8<>"ABS"),$D$4*$D$3,0)+IF(AND(E8<>"N.NOT",E8<>"N.N",E8<>"ABS"),$E$4*$E$3,0)+IF(AND(F8<>"N.NOT",F8<>"N.N",F8<>"ABS"),$F$4*$F$3,0)+IF(AND(G8<>"N.NOT",G8<>"N.N",G8<>"ABS"),$G$4*$G$3,0)+IF(AND(H8<>"N.NOT",H8<>"N.N",H8<>"ABS"),$H$4*$H$3,0)+IF(AND(I8<>"N.NOT",I8<>"N.N",I8<>"ABS"),$I$4*$I$3,0)+IF(AND(J8<>"N.NOT",J8<>"N.N",J8<>"ABS"),$J$4*$J$3,0)+IF(AND(K8<>"N.NOT",K8<>"N.N",K8<>"ABS"),$K$4*$K$3,0)),0.1)) -> #DIV/0! | O8: =LEN(M8) -> 0 | P8: / 255
B9: =Liste!G6 -> Élève n°5 | C9: =Liste!C6 -> G1 | L9: =IF(AND(OR(D9="ABS",D9="N.NOT",D9="N.N"),E9="",F9="",G9="",H9="",I9="",J9="",K9=""),D9,CEILING(20*(IF(AND(D9<>"N.NOT",D9<>"N.N",D9<>"ABS"),D9*$D$4,0)+IF(AND(E9<>"N.NOT",E9<>"N.N",E9<>"ABS"),E9*$E$4,0)+IF(AND(F9<>"N.NOT",F9<>"N.N",F9<>"ABS"),F9*$F$4,0)+IF(AND(G9<>"N.NOT",G9<>"N.N",G9<>"ABS"),G9*$G$4,0)+IF(AND(H9<>"N.NOT",H9<>"N.N",H9<>"ABS"),H9*$H$4,0)+IF(AND(I9<>"N.NOT",I9<>"N.N",I9<>"ABS"),I9*$I$4,0)+IF(AND(J9<>"N.NOT",J9<>"N.N",J9<>"ABS"),J9*$J$4,0)+IF(AND(K9<>"N.NOT",K9<>"N.N",K9<>"ABS"),K9*$K$4,0))/(IF(AND(D9<>"N.NOT",D9<>"N.N",D9<>"ABS"),$D$4*$D$3,0)+IF(AND(E9<>"N.NOT",E9<>"N.N",E9<>"ABS"),$E$4*$E$3,0)+IF(AND(F9<>"N.NOT",F9<>"N.N",F9<>"ABS"),$F$4*$F$3,0)+IF(AND(G9<>"N.NOT",G9<>"N.N",G9<>"ABS"),$G$4*$G$3,0)+IF(AND(H9<>"N.NOT",H9<>"N.N",H9<>"ABS"),$H$4*$H$3,0)+IF(AND(I9<>"N.NOT",I9<>"N.N",I9<>"ABS"),$I$4*$I$3,0)+IF(AND(J9<>"N.NOT",J9<>"N.N",J9<>"ABS"),$J$4*$J$3,0)+IF(AND(K9<>"N.NOT",K9<>"N.N",K9<>"ABS"),$K$4*$K$3,0)),0.1)) -> #DIV/0! | O9: =LEN(M9) -> 0 | P9: / 255
B10: =Liste!G7 -> Élève n°6 | C10: =Liste!C7 -> G1 | L10: =IF(AND(OR(D10="ABS",D10="N.NOT",D10="N.N"),E10="",F10="",G10="",H10="",I10="",J10="",K10=""),D10,CEILING(20*(IF(AND(D10<>"N.NOT",D10<>"N.N",D10<>"ABS"),D10*$D$4,0)+IF(AND(E10<>"N.NOT",E10<>"N.N",E10<>"ABS"),E10*$E$4,0)+IF(AND(F10<>"N.NOT",F10<>"N.N",F10<>"ABS"),F10*$F$4,0)+IF(AND(G10<>"N.NOT",G10<>"N.N",G10<>"ABS"),G10*$G$4,0)+IF(AND(H10<>"N.NOT",H10<>"N.N",H10<>"ABS"),H10*$H$4,0)+IF(AND(I10<>"N.NOT",I10<>"N.N",I10<>"ABS"),I10*$I$4,0)+IF(AND(J10<>"N.NOT",J10<>"N.N",J10<>"ABS"),J10*$J$4,0)+IF(AND(K10<>"N.NOT",K10<>"N.N",K10<>"ABS"),K10*$K$4,0))/(IF(AND(D10<>"N.NOT",D10<>"N.N",D10<>"ABS"),$D$4*$D$3,0)+IF(AND(E10<>"N.NOT",E10<>"N.N",E10<>"ABS"),$E$4*$E$3,0)+IF(AND(F10<>"N.NOT",F10<>"N.N",F10<>"ABS"),$F$4*$F$3,0)+IF(AND(G10<>"N.NOT",G10<>"N.N",G10<>"ABS"),$G$4*$G$3,0)+IF(AND(H10<>"N.NOT",H10<>"N.N",H10<>"ABS"),$H$4*$H$3,0)+IF(AND(I10<>"N.NOT",I10<>"N.N",I10<>"ABS"),$I$4*$I$3,0)+IF(AND(J10<>"N.NOT",J10<>"N.N",J10<>"ABS"),$J$4*$J$3,0)+IF(AND(K10<>"N.NOT",K10<>"N.N",K10<>"ABS"),$K$4*$K$3,0)),0.1)) -> #DIV/0! | O10: =LEN(M10) -> 0 | P10: / 255
B11: =Liste!G8 -> Élève n°7 | C11: =Liste!C8 -> G1 | L11: =IF(AND(OR(D11="ABS",D11="N.NOT",D11="N.N"),E11="",F11="",G11="",H11="",I11="",J11="",K11=""),D11,CEILING(20*(IF(AND(D11<>"N.NOT",D11<>"N.N",D11<>"ABS"),D11*$D$4,0)+IF(AND(E11<>"N.NOT",E11<>"N.N",E11<>"ABS"),E11*$E$4,0)+IF(AND(F11<>"N.NOT",F11<>"N.N",F11<>"ABS"),F11*$F$4,0)+IF(AND(G11<>"N.NOT",G11<>"N.N",G11<>"ABS"),G11*$G$4,0)+IF(AND(H11<>"N.NOT",H11<>"N.N",H11<>"ABS"),H11*$H$4,0)+IF(AND(I11<>"N.NOT",I11<>"N.N",I11<>"ABS"),I11*$I$4,0)+IF(AND(J11<>"N.NOT",J11<>"N.N",J11<>"ABS"),J11*$J$4,0)+IF(AND(K11<>"N.NOT",K11<>"N.N",K11<>"ABS"),K11*$K$4,0))/(IF(AND(D11<>"N.NOT",D11<>"N.N",D11<>"ABS"),$D$4*$D$3,0)+IF(AND(E11<>"N.NOT",E11<>"N.N",E11<>"ABS"),$E$4*$E$3,0)+IF(AND(F11<>"N.NOT",F11<>"N.N",F11<>"ABS"),$F$4*$F$3,0)+IF(AND(G11<>"N.NOT",G11<>"N.N",G11<>"ABS"),$G$4*$G$3,0)+IF(AND(H11<>"N.NOT",H11<>"N.N",H11<>"ABS"),$H$4*$H$3,0)+IF(AND(I11<>"N.NOT",I11<>"N.N",I11<>"ABS"),$I$4*$I$3,0)+IF(AND(J11<>"N.NOT",J11<>"N.N",J11<>"ABS"),$J$4*$J$3,0)+IF(AND(K11<>"N.NOT",K11<>"N.N",K11<>"ABS"),$K$4*$K$3,0)),0.1)) -> #DIV/0! | O11: =LEN(M11) -> 0 | P11: / 255
B12: =Liste!G9 -> Élève n°8 | C12: =Liste!C9 -> G1 | L12: =IF(AND(OR(D12="ABS",D12="N.NOT",D12="N.N"),E12="",F12="",G12="",H12="",I12="",J12="",K12=""),D12,CEILING(20*(IF(AND(D12<>"N.NOT",D12<>"N.N",D12<>"ABS"),D12*$D$4,0)+IF(AND(E12<>"N.NOT",E12<>"N.N",E12<>"ABS"),E12*$E$4,0)+IF(AND(F12<>"N.NOT",F12<>"N.N",F12<>"ABS"),F12*$F$4,0)+IF(AND(G12<>"N.NOT",G12<>"N.N",G12<>"ABS"),G12*$G$4,0)+IF(AND(H12<>"N.NOT",H12<>"N.N",H12<>"ABS"),H12*$H$4,0)+IF(AND(I12<>"N.NOT",I12<>"N.N",I12<>"ABS"),I12*$I$4,0)+IF(AND(J12<>"N.NOT",J12<>"N.N",J12<>"ABS"),J12*$J$4,0)+IF(AND(K12<>"N.NOT",K12<>"N.N",K12<>"ABS"),K12*$K$4,0))/(IF(AND(D12<>"N.NOT",D12<>"N.N",D12<>"ABS"),$D$4*$D$3,0)+IF(AND(E12<>"N.NOT",E12<>"N.N",E12<>"ABS"),$E$4*$E$3,0)+IF(AND(F12<>"N.NOT",F12<>"N.N",F12<>"ABS"),$F$4*$F$3,0)+IF(AND(G12<>"N.NOT",G12<>"N.N",G12<>"ABS"),$G$4*$G$3,0)+IF(AND(H12<>"N.NOT",H12<>"N.N",H12<>"ABS"),$H$4*$H$3,0)+IF(AND(I12<>"N.NOT",I12<>"N.N",I12<>"ABS"),$I$4*$I$3,0)+IF(AND(J12<>"N.NOT",J12<>"N.N",J12<>"ABS"),$J$4*$J$3,0)+IF(AND(K12<>"N.NOT",K12<>"N.N",K12<>"ABS"),$K$4*$K$3,0)),0.1)) -> #DIV/0! | O12: =LEN(M12) -> 0 | P12: / 255
B13: =Liste!G10 -> Élève n°9 | C13: =Liste!C10 -> G2 | L13: =IF(AND(OR(D13="ABS",D13="N.NOT",D13="N.N"),E13="",F13="",G13="",H13="",I13="",J13="",K13=""),D13,CEILING(20*(IF(AND(D13<>"N.NOT",D13<>"N.N",D13<>"ABS"),D13*$D$4,0)+IF(AND(E13<>"N.NOT",E13<>"N.N",E13<>"ABS"),E13*$E$4,0)+IF(AND(F13<>"N.NOT",F13<>"N.N",F13<>"ABS"),F13*$F$4,0)+IF(AND(G13<>"N.NOT",G13<>"N.N",G13<>"ABS"),G13*$G$4,0)+IF(AND(H13<>"N.NOT",H13<>"N.N",H13<>"ABS"),H13*$H$4,0)+IF(AND(I13<>"N.NOT",I13<>"N.N",I13<>"ABS"),I13*$I$4,0)+IF(AND(J13<>"N.NOT",J13<>"N.N",J13<>"ABS"),J13*$J$4,0)+IF(AND(K13<>"N.NOT",K13<>"N.N",K13<>"ABS"),K13*$K$4,0))/(IF(AND(D13<>"N.NOT",D13<>"N.N",D13<>"ABS"),$D$4*$D$3,0)+IF(AND(E13<>"N.NOT",E13<>"N.N",E13<>"ABS"),$E$4*$E$3,0)+IF(AND(F13<>"N.NOT",F13<>"N.N",F13<>"ABS"),$F$4*$F$3,0)+IF(AND(G13<>"N.NOT",G13<>"N.N",G13<>"ABS"),$G$4*$G$3,0)+IF(AND(H13<>"N.NOT",H13<>"N.N",H13<>"ABS"),$H$4*$H$3,0)+IF(AND(I13<>"N.NOT",I13<>"N.N",I13<>"ABS"),$I$4*$I$3,0)+IF(AND(J13<>"N.NOT",J13<>"N.N",J13<>"ABS"),$J$4*$J$3,0)+IF(AND(K13<>"N.NOT",K13<>"N.N",K13<>"ABS"),$K$4*$K$3,0)),0.1)) -> #DIV/0! | O13: =LEN(M13) -> 0 | P13: / 255
B14: =Liste!G11 -> Élève n°10 | C14: =Liste!C11 -> G2 | L14: =IF(AND(OR(D14="ABS",D14="N.NOT",D14="N.N"),E14="",F14="",G14="",H14="",I14="",J14="",K14=""),D14,CEILING(20*(IF(AND(D14<>"N.NOT",D14<>"N.N",D14<>"ABS"),D14*$D$4,0)+IF(AND(E14<>"N.NOT",E14<>"N.N",E14<>"ABS"),E14*$E$4,0)+IF(AND(F14<>"N.NOT",F14<>"N.N",F14<>"ABS"),F14*$F$4,0)+IF(AND(G14<>"N.NOT",G14<>"N.N",G14<>"ABS"),G14*$G$4,0)+IF(AND(H14<>"N.NOT",H14<>"N.N",H14<>"ABS"),H14*$H$4,0)+IF(AND(I14<>"N.NOT",I14<>"N.N",I14<>"ABS"),I14*$I$4,0)+IF(AND(J14<>"N.NOT",J14<>"N.N",J14<>"ABS"),J14*$J$4,0)+IF(AND(K14<>"N.NOT",K14<>"N.N",K14<>"ABS"),K14*$K$4,0))/(IF(AND(D14<>"N.NOT",D14<>"N.N",D14<>"ABS"),$D$4*$D$3,0)+IF(AND(E14<>"N.NOT",E14<>"N.N",E14<>"ABS"),$E$4*$E$3,0)+IF(AND(F14<>"N.NOT",F14<>"N.N",F14<>"ABS"),$F$4*$F$3,0)+IF(AND(G14<>"N.NOT",G14<>"N.N",G14<>"ABS"),$G$4*$G$3,0)+IF(AND(H14<>"N.NOT",H14<>"N.N",H14<>"ABS"),$H$4*$H$3,0)+IF(AND(I14<>"N.NOT",I14<>"N.N",I14<>"ABS"),$I$4*$I$3,0)+IF(AND(J14<>"N.NOT",J14<>"N.N",J14<>"ABS"),$J$4*$J$3,0)+IF(AND(K14<>"N.NOT",K14<>"N.N",K14<>"ABS"),$K$4*$K$3,0)),0.1)) -> #DIV/0! | O14: =LEN(M14) -> 0 | P14: / 255
B15: =Liste!G12 -> Élève n°11 | C15: =Liste!C12 -> G1 | L15: =IF(AND(OR(D15="ABS",D15="N.NOT",D15="N.N"),E15="",F15="",G15="",H15="",I15="",J15="",K15=""),D15,CEILING(20*(IF(AND(D15<>"N.NOT",D15<>"N.N",D15<>"ABS"),D15*$D$4,0)+IF(AND(E15<>"N.NOT",E15<>"N.N",E15<>"ABS"),E15*$E$4,0)+IF(AND(F15<>"N.NOT",F15<>"N.N",F15<>"ABS"),F15*$F$4,0)+IF(AND(G15<>"N.NOT",G15<>"N.N",G15<>"ABS"),G15*$G$4,0)+IF(AND(H15<>"N.NOT",H15<>"N.N",H15<>"ABS"),H15*$H$4,0)+IF(AND(I15<>"N.NOT",I15<>"N.N",I15<>"ABS"),I15*$I$4,0)+IF(AND(J15<>"N.NOT",J15<>"N.N",J15<>"ABS"),J15*$J$4,0)+IF(AND(K15<>"N.NOT",K15<>"N.N",K15<>"ABS"),K15*$K$4,0))/(IF(AND(D15<>"N.NOT",D15<>"N.N",D15<>"ABS"),$D$4*$D$3,0)+IF(AND(E15<>"N.NOT",E15<>"N.N",E15<>"ABS"),$E$4*$E$3,0)+IF(AND(F15<>"N.NOT",F15<>"N.N",F15<>"ABS"),$F$4*$F$3,0)+IF(AND(G15<>"N.NOT",G15<>"N.N",G15<>"ABS"),$G$4*$G$3,0)+IF(AND(H15<>"N.NOT",H15<>"N.N",H15<>"ABS"),$H$4*$H$3,0)+IF(AND(I15<>"N.NOT",I15<>"N.N",I15<>"ABS"),$I$4*$I$3,0)+IF(AND(J15<>"N.NOT",J15<>"N.N",J15<>"ABS"),$J$4*$J$3,0)+IF(AND(K15<>"N.NOT",K15<>"N.N",K15<>"ABS"),$K$4*$K$3,0)),0.1)) -> #DIV/0! | O15: =LEN(M15) -> 0 | P15: / 255
B16: =Liste!G13 -> Élève n°12 | C16: =Liste!C13 -> G1 | L16: =IF(AND(OR(D16="ABS",D16="N.NOT",D16="N.N"),E16="",F16="",G16="",H16="",I16="",J16="",K16=""),D16,CEILING(20*(IF(AND(D16<>"N.NOT",D16<>"N.N",D16<>"ABS"),D16*$D$4,0)+IF(AND(E16<>"N.NOT",E16<>"N.N",E16<>"ABS"),E16*$E$4,0)+IF(AND(F16<>"N.NOT",F16<>"N.N",F16<>"ABS"),F16*$F$4,0)+IF(AND(G16<>"N.NOT",G16<>"N.N",G16<>"ABS"),G16*$G$4,0)+IF(AND(H16<>"N.NOT",H16<>"N.N",H16<>"ABS"),H16*$H$4,0)+IF(AND(I16<>"N.NOT",I16<>"N.N",I16<>"ABS"),I16*$I$4,0)+IF(AND(J16<>"N.NOT",J16<>"N.N",J16<>"ABS"),J16*$J$4,0)+IF(AND(K16<>"N.NOT",K16<>"N.N",K16<>"ABS"),K16*$K$4,0))/(IF(AND(D16<>"N.NOT",D16<>"N.N",D16<>"ABS"),$D$4*$D$3,0)+IF(AND(E16<>"N.NOT",E16<>"N.N",E16<>"ABS"),$E$4*$E$3,0)+IF(AND(F16<>"N.NOT",F16<>"N.N",F16<>"ABS"),$F$4*$F$3,0)+IF(AND(G16<>"N.NOT",G16<>"N.N",G16<>"ABS"),$G$4*$G$3,0)+IF(AND(H16<>"N.NOT",H16<>"N.N",H16<>"ABS"),$H$4*$H$3,0)+IF(AND(I16<>"N.NOT",I16<>"N.N",I16<>"ABS"),$I$4*$I$3,0)+IF(AND(J16<>"N.NOT",J16<>"N.N",J16<>"ABS"),$J$4*$J$3,0)+IF(AND(K16<>"N.NOT",K16<>"N.N",K16<>"ABS"),$K$4*$K$3,0)),0.1)) -> #DIV/0! | O16: =LEN(M16) -> 0 | P16: / 255
... B24: =Liste!G21 -> Élève n°20 | C24: =Liste!C21 -> G1 | L24: =IF(AND(OR(D24="ABS",D24="N.NOT",D24="N.N"),E24="",F24="",G24="",H24="",I24="",J24="",K24=""),D24,CEILING(20*(IF(AND(D24<>"N.NOT",D24<>"N.N",D24<>"ABS"),D24*$D$4,0)+IF(AND(E24<>"N.NOT",E24<>"N.N",E24<>"ABS"),E24*$E$4,0)+IF(AND(F24<>"N.NOT",F24<>"N.N",F24<>"ABS"),F24*$F$4,0)+IF(AND(G24<>"N.NOT",G24<>"N.N",G24<>"ABS"),G24*$G$4,0)+IF(AND(H24<>"N.NOT",H24<>"N.N",H24<>"ABS"),H24*$H$4,0)+IF(AND(I24<>"N.NOT",I24<>"N.N",I24<>"ABS"),I24*$I$4,0)+IF(AND(J24<>"N.NOT",J24<>"N.N",J24<>"ABS"),J24*$J$4,0)+IF(AND(K24<>"N.NOT",K24<>"N.N",K24<>"ABS"),K24*$K$4,0))/(IF(AND(D24<>"N.NOT",D24<>"N.N",D24<>"ABS"),$D$4*$D$3,0)+IF(AND(E24<>"N.NOT",E24<>"N.N",E24<>"ABS"),$E$4*$E$3,0)+IF(AND(F24<>"N.NOT",F24<>"N.N",F24<>"ABS"),$F$4*$F$3,0)+IF(AND(G24<>"N.NOT",G24<>"N.N",G24<>"ABS"),$G$4*$G$3,0)+IF(AND(H24<>"N.NOT",H24<>"N.N",H24<>"ABS"),$H$4*$H$3,0)+IF(AND(I24<>"N.NOT",I24<>"N.N",I24<>"ABS"),$I$4*$I$3,0)+IF(AND(J24<>"N.NOT",J24<>"N.N",J24<>"ABS"),$J$4*$J$3,0)+IF(AND(K24<>"N.NOT",K24<>"N.N",K24<>"ABS"),$K$4*$K$3,0)),0.1)) -> #DIV/0! | O24: =LEN(M24) -> 0 | P24: / 255
B25: =Liste!G22 | C25: =Liste!C22 -> 0 | L25: =IF(AND(OR(D25="ABS",D25="N.NOT",D25="N.N"),E25="",F25="",G25="",H25="",I25="",J25="",K25=""),D25,CEILING(20*(IF(AND(D25<>"N.NOT",D25<>"N.N",D25<>"ABS"),D25*$D$4,0)+IF(AND(E25<>"N.NOT",E25<>"N.N",E25<>"ABS"),E25*$E$4,0)+IF(AND(F25<>"N.NOT",F25<>"N.N",F25<>"ABS"),F25*$F$4,0)+IF(AND(G25<>"N.NOT",G25<>"N.N",G25<>"ABS"),G25*$G$4,0)+IF(AND(H25<>"N.NOT",H25<>"N.N",H25<>"ABS"),H25*$H$4,0)+IF(AND(I25<>"N.NOT",I25<>"N.N",I25<>"ABS"),I25*$I$4,0)+IF(AND(J25<>"N.NOT",J25<>"N.N",J25<>"ABS"),J25*$J$4,0)+IF(AND(K25<>"N.NOT",K25<>"N.N",K25<>"ABS"),K25*$K$4,0))/(IF(AND(D25<>"N.NOT",D25<>"N.N",D25<>"ABS"),$D$4*$D$3,0)+IF(AND(E25<>"N.NOT",E25<>"N.N",E25<>"ABS"),$E$4*$E$3,0)+IF(AND(F25<>"N.NOT",F25<>"N.N",F25<>"ABS"),$F$4*$F$3,0)+IF(AND(G25<>"N.NOT",G25<>"N.N",G25<>"ABS"),$G$4*$G$3,0)+IF(AND(H25<>"N.NOT",H25<>"N.N",H25<>"ABS"),$H$4*$H$3,0)+IF(AND(I25<>"N.NOT",I25<>"N.N",I25<>"ABS"),$I$4*$I$3,0)+IF(AND(J25<>"N.NOT",J25<>"N.N",J25<>"ABS"),$J$4*$J$3,0)+IF(AND(K25<>"N.NOT",K25<>"N.N",K25<>"ABS"),$K$4*$K$3,0)),0.1)) -> #DIV/0!
B26: =Liste!G23 | C26: =Liste!C23 -> 0 | L26: =IF(AND(OR(D26="ABS",D26="N.NOT",D26="N.N"),E26="",F26="",G26="",H26="",I26="",J26="",K26=""),D26,CEILING(20*(IF(AND(D26<>"N.NOT",D26<>"N.N",D26<>"ABS"),D26*$D$4,0)+IF(AND(E26<>"N.NOT",E26<>"N.N",E26<>"ABS"),E26*$E$4,0)+IF(AND(F26<>"N.NOT",F26<>"N.N",F26<>"ABS"),F26*$F$4,0)+IF(AND(G26<>"N.NOT",G26<>"N.N",G26<>"ABS"),G26*$G$4,0)+IF(AND(H26<>"N.NOT",H26<>"N.N",H26<>"ABS"),H26*$H$4,0)+IF(AND(I26<>"N.NOT",I26<>"N.N",I26<>"ABS"),I26*$I$4,0)+IF(AND(J26<>"N.NOT",J26<>"N.N",J26<>"ABS"),J26*$J$4,0)+IF(AND(K26<>"N.NOT",K26<>"N.N",K26<>"ABS"),K26*$K$4,0))/(IF(AND(D26<>"N.NOT",D26<>"N.N",D26<>"ABS"),$D$4*$D$3,0)+IF(AND(E26<>"N.NOT",E26<>"N.N",E26<>"ABS"),$E$4*$E$3,0)+IF(AND(F26<>"N.NOT",F26<>"N.N",F26<>"ABS"),$F$4*$F$3,0)+IF(AND(G26<>"N.NOT",G26<>"N.N",G26<>"ABS"),$G$4*$G$3,0)+IF(AND(H26<>"N.NOT",H26<>"N.N",H26<>"ABS"),$H$4*$H$3,0)+IF(AND(I26<>"N.NOT",I26<>"N.N",I26<>"ABS"),$I$4*$I$3,0)+IF(AND(J26<>"N.NOT",J26<>"N.N",J26<>"ABS"),$J$4*$J$3,0)+IF(AND(K26<>"N.NOT",K26<>"N.N",K26<>"ABS"),$K$4*$K$3,0)),0.1)) -> #DIV/0!
B27: =Liste!G24 | C27: =Liste!C24 -> 0 | L27: =IF(AND(OR(D27="ABS",D27="N.NOT",D27="N.N"),E27="",F27="",G27="",H27="",I27="",J27="",K27=""),D27,CEILING(20*(IF(AND(D27<>"N.NOT",D27<>"N.N",D27<>"ABS"),D27*$D$4,0)+IF(AND(E27<>"N.NOT",E27<>"N.N",E27<>"ABS"),E27*$E$4,0)+IF(AND(F27<>"N.NOT",F27<>"N.N",F27<>"ABS"),F27*$F$4,0)+IF(AND(G27<>"N.NOT",G27<>"N.N",G27<>"ABS"),G27*$G$4,0)+IF(AND(H27<>"N.NOT",H27<>"N.N",H27<>"ABS"),H27*$H$4,0)+IF(AND(I27<>"N.NOT",I27<>"N.N",I27<>"ABS"),I27*$I$4,0)+IF(AND(J27<>"N.NOT",J27<>"N.N",J27<>"ABS"),J27*$J$4,0)+IF(AND(K27<>"N.NOT",K27<>"N.N",K27<>"ABS"),K27*$K$4,0))/(IF(AND(D27<>"N.NOT",D27<>"N.N",D27<>"ABS"),$D$4*$D$3,0)+IF(AND(E27<>"N.NOT",E27<>"N.N",E27<>"ABS"),$E$4*$E$3,0)+IF(AND(F27<>"N.NOT",F27<>"N.N",F27<>"ABS"),$F$4*$F$3,0)+IF(AND(G27<>"N.NOT",G27<>"N.N",G27<>"ABS"),$G$4*$G$3,0)+IF(AND(H27<>"N.NOT",H27<>"N.N",H27<>"ABS"),$H$4*$H$3,0)+IF(AND(I27<>"N.NOT",I27<>"N.N",I27<>"ABS"),$I$4*$I$3,0)+IF(AND(J27<>"N.NOT",J27<>"N.N",J27<>"ABS"),$J$4*$J$3,0)+IF(AND(K27<>"N.NOT",K27<>"N.N",K27<>"ABS"),$K$4*$K$3,0)),0.1)) -> #DIV/0! | O27: =LEN(M27) -> 0 | P27: / 255
B28: =Liste!G25 | C28: =Liste!C25 -> 0 | L28: =IF(AND(OR(D28="ABS",D28="N.NOT",D28="N.N"),E28="",F28="",G28="",H28="",I28="",J28="",K28=""),D28,CEILING(20*(IF(AND(D28<>"N.NOT",D28<>"N.N",D28<>"ABS"),D28*$D$4,0)+IF(AND(E28<>"N.NOT",E28<>"N.N",E28<>"ABS"),E28*$E$4,0)+IF(AND(F28<>"N.NOT",F28<>"N.N",F28<>"ABS"),F28*$F$4,0)+IF(AND(G28<>"N.NOT",G28<>"N.N",G28<>"ABS"),G28*$G$4,0)+IF(AND(H28<>"N.NOT",H28<>"N.N",H28<>"ABS"),H28*$H$4,0)+IF(AND(I28<>"N.NOT",I28<>"N.N",I28<>"ABS"),I28*$I$4,0)+IF(AND(J28<>"N.NOT",J28<>"N.N",J28<>"ABS"),J28*$J$4,0)+IF(AND(K28<>"N.NOT",K28<>"N.N",K28<>"ABS"),K28*$K$4,0))/(IF(AND(D28<>"N.NOT",D28<>"N.N",D28<>"ABS"),$D$4*$D$3,0)+IF(AND(E28<>"N.NOT",E28<>"N.N",E28<>"ABS"),$E$4*$E$3,0)+IF(AND(F28<>"N.NOT",F28<>"N.N",F28<>"ABS"),$F$4*$F$3,0)+IF(AND(G28<>"N.NOT",G28<>"N.N",G28<>"ABS"),$G$4*$G$3,0)+IF(AND(H28<>"N.NOT",H28<>"N.N",H28<>"ABS"),$H$4*$H$3,0)+IF(AND(I28<>"N.NOT",I28<>"N.N",I28<>"ABS"),$I$4*$I$3,0)+IF(AND(J28<>"N.NOT",J28<>"N.N",J28<>"ABS"),$J$4*$J$3,0)+IF(AND(K28<>"N.NOT",K28<>"N.N",K28<>"ABS"),$K$4*$K$3,0)),0.1)) -> #DIV/0! | O28: =LEN(M28) -> 0 | P28: / 255
B29: =Liste!G26 | C29: =Liste!C26 -> 0 | L29: =IF(AND(OR(D29="ABS",D29="N.NOT",D29="N.N"),E29="",F29="",G29="",H29="",I29="",J29="",K29=""),D29,CEILING(20*(IF(AND(D29<>"N.NOT",D29<>"N.N",D29<>"ABS"),D29*$D$4,0)+IF(AND(E29<>"N.NOT",E29<>"N.N",E29<>"ABS"),E29*$E$4,0)+IF(AND(F29<>"N.NOT",F29<>"N.N",F29<>"ABS"),F29*$F$4,0)+IF(AND(G29<>"N.NOT",G29<>"N.N",G29<>"ABS"),G29*$G$4,0)+IF(AND(H29<>"N.NOT",H29<>"N.N",H29<>"ABS"),H29*$H$4,0)+IF(AND(I29<>"N.NOT",I29<>"N.N",I29<>"ABS"),I29*$I$4,0)+IF(AND(J29<>"N.NOT",J29<>"N.N",J29<>"ABS"),J29*$J$4,0)+IF(AND(K29<>"N.NOT",K29<>"N.N",K29<>"ABS"),K29*$K$4,0))/(IF(AND(D29<>"N.NOT",D29<>"N.N",D29<>"ABS"),$D$4*$D$3,0)+IF(AND(E29<>"N.NOT",E29<>"N.N",E29<>"ABS"),$E$4*$E$3,0)+IF(AND(F29<>"N.NOT",F29<>"N.N",F29<>"ABS"),$F$4*$F$3,0)+IF(AND(G29<>"N.NOT",G29<>"N.N",G29<>"ABS"),$G$4*$G$3,0)+IF(AND(H29<>"N.NOT",H29<>"N.N",H29<>"ABS"),$H$4*$H$3,0)+IF(AND(I29<>"N.NOT",I29<>"N.N",I29<>"ABS"),$I$4*$I$3,0)+IF(AND(J29<>"N.NOT",J29<>"N.N",J29<>"ABS"),$J$4*$J$3,0)+IF(AND(K29<>"N.NOT",K29<>"N.N",K29<>"ABS"),$K$4*$K$3,0)),0.1)) -> #DIV/0! | O29: =LEN(M29) -> 0 | P29: / 255
B30: =Liste!G27 | C30: =Liste!C27 -> 0 | L30: =IF(AND(OR(D30="ABS",D30="N.NOT",D30="N.N"),E30="",F30="",G30="",H30="",I30="",J30="",K30=""),D30,CEILING(20*(IF(AND(D30<>"N.NOT",D30<>"N.N",D30<>"ABS"),D30*$D$4,0)+IF(AND(E30<>"N.NOT",E30<>"N.N",E30<>"ABS"),E30*$E$4,0)+IF(AND(F30<>"N.NOT",F30<>"N.N",F30<>"ABS"),F30*$F$4,0)+IF(AND(G30<>"N.NOT",G30<>"N.N",G30<>"ABS"),G30*$G$4,0)+IF(AND(H30<>"N.NOT",H30<>"N.N",H30<>"ABS"),H30*$H$4,0)+IF(AND(I30<>"N.NOT",I30<>"N.N",I30<>"ABS"),I30*$I$4,0)+IF(AND(J30<>"N.NOT",J30<>"N.N",J30<>"ABS"),J30*$J$4,0)+IF(AND(K30<>"N.NOT",K30<>"N.N",K30<>"ABS"),K30*$K$4,0))/(IF(AND(D30<>"N.NOT",D30<>"N.N",D30<>"ABS"),$D$4*$D$3,0)+IF(AND(E30<>"N.NOT",E30<>"N.N",E30<>"ABS"),$E$4*$E$3,0)+IF(AND(F30<>"N.NOT",F30<>"N.N",F30<>"ABS"),$F$4*$F$3,0)+IF(AND(G30<>"N.NOT",G30<>"N.N",G30<>"ABS"),$G$4*$G$3,0)+IF(AND(H30<>"N.NOT",H30<>"N.N",H30<>"ABS"),$H$4*$H$3,0)+IF(AND(I30<>"N.NOT",I30<>"N.N",I30<>"ABS"),$I$4*$I$3,0)+IF(AND(J30<>"N.NOT",J30<>"N.N",J30<>"ABS"),$J$4*$J$3,0)+IF(AND(K30<>"N.NOT",K30<>"N.N",K30<>"ABS"),$K$4*$K$3,0)),0.1)) -> #DIV/0! | O30: =LEN(M30) -> 0 | P30: / 255
B31: Moyennes | D31: =IF(D3="","X",AVERAGE(D5:D30)) -> X | E31: =IF(E3="","X",AVERAGE(E5:E30)) -> X | F31: =IF(F3="","X",AVERAGE(F5:F30)) -> X | G31: =IF(G3="","X",AVERAGE(G5:G30)) -> X | H31: =IF(H3="","X",AVERAGE(H5:H30)) -> X | I31: =IF(I3="","X",AVERAGE(I5:I30)) -> X | J31: =IF(J3="","X",AVERAGE(J5:J30)) -> X | K31: =IF(K3="","X",AVERAGE(K5:K30)) -> X | L31: =AVERAGE(L5:L30) -> #DIV/0! | M31: Appréciation globale
B32: Note min. | D32: =IF(D3="","X",MIN(D5:D30)) -> X | E32: =IF(E3="","X",MIN(E5:E30)) -> X | F32: =IF(F3="","X",MIN(F5:F30)) -> X | G32: =IF(G3="","X",MIN(G5:G30)) -> X | H32: =IF(H3="","X",MIN(H5:H30)) -> X | I32: =IF(I3="","X",MIN(I5:I30)) -> X | J32: =IF(J3="","X",MIN(J5:J30)) -> X | K32: =IF(K3="","X",MIN(K5:K30)) -> X | L32: =MIN(L1:L30) -> #DIV/0!
B33: Note max. | D33: =IF(D3="","X",MAX(D5:D30)) -> X | E33: =IF(E3="","X",MAX(E5:E30)) -> X | F33: =IF(F3="","X",MAX(F5:F30)) -> X | G33: =IF(G3="","X",MAX(G5:G30)) -> X | H33: =IF(H3="","X",MAX(H5:H30)) -> X | I33: =IF(I3="","X",MAX(I5:I30)) -> X | J33: =IF(J3="","X",MAX(J5:J30)) -> X | K33: =IF(K3="","X",MAX(K5:K30)) -> X | L33: =MAX(L5:L30) -> #DIV/0! | O33: =LEN(M32) -> 0 | P33: / 400
B34: ** Délégués

Sheet S2
B1: =Liste!F2 & CHAR(10) & Liste!D2 & "élèves" -> ClasseA 20élèves | L1: Moy. S.2 | M1: Appréciations - 2ème Semestre | O1: Nb. de caractère dans l'appréciation (max = 255)
B2: Date | O2: max= | P2: 255
B3: Note sur
B4: Elèves | Coeff. | C4: G.
B5: =Liste!G2 -> Élève n°1 | C5: =Liste!C2 -> G1 | L5: =IF(AND(OR(D5="ABS",D5="N.NOT",D5="N.N"),E5="",F5="",G5="",H5="",I5="",J5="",K5=""),D5,CEILING(20*(IF(AND(D5<>"N.NOT",D5<>"N.N",D5<>"ABS"),D5*$D$4,0)+IF(AND(E5<>"N.NOT",E5<>"N.N",E5<>"ABS"),E5*$E$4,0)+IF(AND(F5<>"N.NOT",F5<>"N.N",F5<>"ABS"),F5*$F$4,0)+IF(AND(G5<>"N.NOT",G5<>"N.N",G5<>"ABS"),G5*$G$4,0)+IF(AND(H5<>"N.NOT",H5<>"N.N",H5<>"ABS"),H5*$H$4,0)+IF(AND(I5<>"N.NOT",I5<>"N.N",I5<>"ABS"),I5*$I$4,0)+IF(AND(J5<>"N.NOT",J5<>"N.N",J5<>"ABS"),J5*$J$4,0)+IF(AND(K5<>"N.NOT",K5<>"N.N",K5<>"ABS"),K5*$K$4,0))/(IF(AND(D5<>"N.NOT",D5<>"N.N",D5<>"ABS"),$D$4*$D$3,0)+IF(AND(E5<>"N.NOT",E5<>"N.N",E5<>"ABS"),$E$4*$E$3,0)+IF(AND(F5<>"N.NOT",F5<>"N.N",F5<>"ABS"),$F$4*$F$3,0)+IF(AND(G5<>"N.NOT",G5<>"N.N",G5<>"ABS"),$G$4*$G$3,0)+IF(AND(H5<>"N.NOT",H5<>"N.N",H5<>"ABS"),$H$4*$H$3,0)+IF(AND(I5<>"N.NOT",I5<>"N.N",I5<>"ABS"),$I$4*$I$3,0)+IF(AND(J5<>"N.NOT",J5<>"N.N",J5<>"ABS"),$J$4*$J$3,0)+IF(AND(K5<>"N.NOT",K5<>"N.N",K5<>"ABS"),$K$4*$K$3,0)),0.1)) -> #DIV/0! | O5: =LEN(M5) -> 0 | P5: / 255
B6: =Liste!G3 -> Élève n°2 | C6: =Liste!C3 -> G1 | L6: =IF(AND(OR(D6="ABS",D6="N.NOT",D6="N.N"),E6="",F6="",G6="",H6="",I6="",J6="",K6=""),D6,CEILING(20*(IF(AND(D6<>"N.NOT",D6<>"N.N",D6<>"ABS"),D6*$D$4,0)+IF(AND(E6<>"N.NOT",E6<>"N.N",E6<>"ABS"),E6*$E$4,0)+IF(AND(F6<>"N.NOT",F6<>"N.N",F6<>"ABS"),F6*$F$4,0)+IF(AND(G6<>"N.NOT",G6<>"N.N",G6<>"ABS"),G6*$G$4,0)+IF(AND(H6<>"N.NOT",H6<>"N.N",H6<>"ABS"),H6*$H$4,0)+IF(AND(I6<>"N.NOT",I6<>"N.N",I6<>"ABS"),I6*$I$4,0)+IF(AND(J6<>"N.NOT",J6<>"N.N",J6<>"ABS"),J6*$J$4,0)+IF(AND(K6<>"N.NOT",K6<>"N.N",K6<>"ABS"),K6*$K$4,0))/(IF(AND(D6<>"N.NOT",D6<>"N.N",D6<>"ABS"),$D$4*$D$3,0)+IF(AND(E6<>"N.NOT",E6<>"N.N",E6<>"ABS"),$E$4*$E$3,0)+IF(AND(F6<>"N.NOT",F6<>"N.N",F6<>"ABS"),$F$4*$F$3,0)+IF(AND(G6<>"N.NOT",G6<>"N.N",G6<>"ABS"),$G$4*$G$3,0)+IF(AND(H6<>"N.NOT",H6<>"N.N",H6<>"ABS"),$H$4*$H$3,0)+IF(AND(I6<>"N.NOT",I6<>"N.N",I6<>"ABS"),$I$4*$I$3,0)+IF(AND(J6<>"N.NOT",J6<>"N.N",J6<>"ABS"),$J$4*$J$3,0)+IF(AND(K6<>"N.NOT",K6<>"N.N",K6<>"ABS"),$K$4*$K$3,0)),0.1)) -> #DIV/0! | O6: =LEN(M6) -> 0 | P6: / 255
B7: =Liste!G4 -> Élève n°3 | C7: =Liste!C4 -> G2 | L7: =IF(AND(OR(D7="ABS",D7="N.NOT",D7="N.N"),E7="",F7="",G7="",H7="",I7="",J7="",K7=""),D7,CEILING(20*(IF(AND(D7<>"N.NOT",D7<>"N.N",D7<>"ABS"),D7*$D$4,0)+IF(AND(E7<>"N.NOT",E7<>"N.N",E7<>"ABS"),E7*$E$4,0)+IF(AND(F7<>"N.NOT",F7<>"N.N",F7<>"ABS"),F7*$F$4,0)+IF(AND(G7<>"N.NOT",G7<>"N.N",G7<>"ABS"),G7*$G$4,0)+IF(AND(H7<>"N.NOT",H7<>"N.N",H7<>"ABS"),H7*$H$4,0)+IF(AND(I7<>"N.NOT",I7<>"N.N",I7<>"ABS"),I7*$I$4,0)+IF(AND(J7<>"N.NOT",J7<>"N.N",J7<>"ABS"),J7*$J$4,0)+IF(AND(K7<>"N.NOT",K7<>"N.N",K7<>"ABS"),K7*$K$4,0))/(IF(AND(D7<>"N.NOT",D7<>"N.N",D7<>"ABS"),$D$4*$D$3,0)+IF(AND(E7<>"N.NOT",E7<>"N.N",E7<>"ABS"),$E$4*$E$3,0)+IF(AND(F7<>"N.NOT",F7<>"N.N",F7<>"ABS"),$F$4*$F$3,0)+IF(AND(G7<>"N.NOT",G7<>"N.N",G7<>"ABS"),$G$4*$G$3,0)+IF(AND(H7<>"N.NOT",H7<>"N.N",H7<>"ABS"),$H$4*$H$3,0)+IF(AND(I7<>"N.NOT",I7<>"N.N",I7<>"ABS"),$I$4*$I$3,0)+IF(AND(J7<>"N.NOT",J7<>"N.N",J7<>"ABS"),$J$4*$J$3,0)+IF(AND(K7<>"N.NOT",K7<>"N.N",K7<>"ABS"),$K$4*$K$3,0)),0.1)) -> #DIV/0! | O7: =LEN(M7) -> 0 | P7: / 255
B8: =Liste!G5 -> Élève n°4 | C8: =Liste!C5 -> G2 | L8: =IF(AND(OR(D8="ABS",D8="N.NOT",D8="N.N"),E8="",F8="",G8="",H8="",I8="",J8="",K8=""),D8,CEILING(20*(IF(AND(D8<>"N.NOT",D8<>"N.N",D8<>"ABS"),D8*$D$4,0)+IF(AND(E8<>"N.NOT",E8<>"N.N",E8<>"ABS"),E8*$E$4,0)+IF(AND(F8<>"N.NOT",F8<>"N.N",F8<>"ABS"),F8*$F$4,0)+IF(AND(G8<>"N.NOT",G8<>"N.N",G8<>"ABS"),G8*$G$4,0)+IF(AND(H8<>"N.NOT",H8<>"N.N",H8<>"ABS"),H8*$H$4,0)+IF(AND(I8<>"N.NOT",I8<>"N.N",I8<>"ABS"),I8*$I$4,0)+IF(AND(J8<>"N.NOT",J8<>"N.N",J8<>"ABS"),J8*$J$4,0)+IF(AND(K8<>"N.NOT",K8<>"N.N",K8<>"ABS"),K8*$K$4,0))/(IF(AND(D8<>"N.NOT",D8<>"N.N",D8<>"ABS"),$D$4*$D$3,0)+IF(AND(E8<>"N.NOT",E8<>"N.N",E8<>"ABS"),$E$4*$E$3,0)+IF(AND(F8<>"N.NOT",F8<>"N.N",F8<>"ABS"),$F$4*$F$3,0)+IF(AND(G8<>"N.NOT",G8<>"N.N",G8<>"ABS"),$G$4*$G$3,0)+IF(AND(H8<>"N.NOT",H8<>"N.N",H8<>"ABS"),$H$4*$H$3,0)+IF(AND(I8<>"N.NOT",I8<>"N.N",I8<>"ABS"),$I$4*$I$3,0)+IF(AND(J8<>"N.NOT",J8<>"N.N",J8<>"ABS"),$J$4*$J$3,0)+IF(AND(K8<>"N.NOT",K8<>"N.N",K8<>"ABS"),$K$4*$K$3,0)),0.1)) -> #DIV/0! | O8: =LEN(M8) -> 0 | P8: / 255
B9: =Liste!G6 -> Élève n°5 | C9: =Liste!C6 -> G1 | L9: =IF(AND(OR(D9="ABS",D9="N.NOT",D9="N.N"),E9="",F9="",G9="",H9="",I9="",J9="",K9=""),D9,CEILING(20*(IF(AND(D9<>"N.NOT",D9<>"N.N",D9<>"ABS"),D9*$D$4,0)+IF(AND(E9<>"N.NOT",E9<>"N.N",E9<>"ABS"),E9*$E$4,0)+IF(AND(F9<>"N.NOT",F9<>"N.N",F9<>"ABS"),F9*$F$4,0)+IF(AND(G9<>"N.NOT",G9<>"N.N",G9<>"ABS"),G9*$G$4,0)+IF(AND(H9<>"N.NOT",H9<>"N.N",H9<>"ABS"),H9*$H$4,0)+IF(AND(I9<>"N.NOT",I9<>"N.N",I9<>"ABS"),I9*$I$4,0)+IF(AND(J9<>"N.NOT",J9<>"N.N",J9<>"ABS"),J9*$J$4,0)+IF(AND(K9<>"N.NOT",K9<>"N.N",K9<>"ABS"),K9*$K$4,0))/(IF(AND(D9<>"N.NOT",D9<>"N.N",D9<>"ABS"),$D$4*$D$3,0)+IF(AND(E9<>"N.NOT",E9<>"N.N",E9<>"ABS"),$E$4*$E$3,0)+IF(AND(F9<>"N.NOT",F9<>"N.N",F9<>"ABS"),$F$4*$F$3,0)+IF(AND(G9<>"N.NOT",G9<>"N.N",G9<>"ABS"),$G$4*$G$3,0)+IF(AND(H9<>"N.NOT",H9<>"N.N",H9<>"ABS"),$H$4*$H$3,0)+IF(AND(I9<>"N.NOT",I9<>"N.N",I9<>"ABS"),$I$4*$I$3,0)+IF(AND(J9<>"N.NOT",J9<>"N.N",J9<>"ABS"),$J$4*$J$3,0)+IF(AND(K9<>"N.NOT",K9<>"N.N",K9<>"ABS"),$K$4*$K$3,0)),0.1)) -> #DIV/0! | O9: =LEN(M9) -> 0 | P9: / 255
B10: =Liste!G7 -> Élève n°6 | C10: =Liste!C7 -> G1 | L10: =IF(AND(OR(D10="ABS",D10="N.NOT",D10="N.N"),E10="",F10="",G10="",H10="",I10="",J10="",K10=""),D10,CEILING(20*(IF(AND(D10<>"N.NOT",D10<>"N.N",D10<>"ABS"),D10*$D$4,0)+IF(AND(E10<>"N.NOT",E10<>"N.N",E10<>"ABS"),E10*$E$4,0)+IF(AND(F10<>"N.NOT",F10<>"N.N",F10<>"ABS"),F10*$F$4,0)+IF(AND(G10<>"N.NOT",G10<>"N.N",G10<>"ABS"),G10*$G$4,0)+IF(AND(H10<>"N.NOT",H10<>"N.N",H10<>"ABS"),H10*$H$4,0)+IF(AND(I10<>"N.NOT",I10<>"N.N",I10<>"ABS"),I10*$I$4,0)+IF(AND(J10<>"N.NOT",J10<>"N.N",J10<>"ABS"),J10*$J$4,0)+IF(AND(K10<>"N.NOT",K10<>"N.N",K10<>"ABS"),K10*$K$4,0))/(IF(AND(D10<>"N.NOT",D10<>"N.N",D10<>"ABS"),$D$4*$D$3,0)+IF(AND(E10<>"N.NOT",E10<>"N.N",E10<>"ABS"),$E$4*$E$3,0)+IF(AND(F10<>"N.NOT",F10<>"N.N",F10<>"ABS"),$F$4*$F$3,0)+IF(AND(G10<>"N.NOT",G10<>"N.N",G10<>"ABS"),$G$4*$G$3,0)+IF(AND(H10<>"N.NOT",H10<>"N.N",H10<>"ABS"),$H$4*$H$3,0)+IF(AND(I10<>"N.NOT",I10<>"N.N",I10<>"ABS"),$I$4*$I$3,0)+IF(AND(J10<>"N.NOT",J10<>"N.N",J10<>"ABS"),$J$4*$J$3,0)+IF(AND(K10<>"N.NOT",K10<>"N.N",K10<>"ABS"),$K$4*$K$3,0)),0.1)) -> #DIV/0! | O10: =LEN(M10) -> 0 | P10: / 255
B11: =Liste!G8 -> Élève n°7 | C11: =Liste!C8 -> G1 | L11: =IF(AND(OR(D11="ABS",D11="N.NOT",D11="N.N"),E11="",F11="",G11="",H11="",I11="",J11="",K11=""),D11,CEILING(20*(IF(AND(D11<>"N.NOT",D11<>"N.N",D11<>"ABS"),D11*$D$4,0)+IF(AND(E11<>"N.NOT",E11<>"N.N",E11<>"ABS"),E11*$E$4,0)+IF(AND(F11<>"N.NOT",F11<>"N.N",F11<>"ABS"),F11*$F$4,0)+IF(AND(G11<>"N.NOT",G11<>"N.N",G11<>"ABS"),G11*$G$4,0)+IF(AND(H11<>"N.NOT",H11<>"N.N",H11<>"ABS"),H11*$H$4,0)+IF(AND(I11<>"N.NOT",I11<>"N.N",I11<>"ABS"),I11*$I$4,0)+IF(AND(J11<>"N.NOT",J11<>"N.N",J11<>"ABS"),J11*$J$4,0)+IF(AND(K11<>"N.NOT",K11<>"N.N",K11<>"ABS"),K11*$K$4,0))/(IF(AND(D11<>"N.NOT",D11<>"N.N",D11<>"ABS"),$D$4*$D$3,0)+IF(AND(E11<>"N.NOT",E11<>"N.N",E11<>"ABS"),$E$4*$E$3,0)+IF(AND(F11<>"N.NOT",F11<>"N.N",F11<>"ABS"),$F$4*$F$3,0)+IF(AND(G11<>"N.NOT",G11<>"N.N",G11<>"ABS"),$G$4*$G$3,0)+IF(AND(H11<>"N.NOT",H11<>"N.N",H11<>"ABS"),$H$4*$H$3,0)+IF(AND(I11<>"N.NOT",I11<>"N.N",I11<>"ABS"),$I$4*$I$3,0)+IF(AND(J11<>"N.NOT",J11<>"N.N",J11<>"ABS"),$J$4*$J$3,0)+IF(AND(K11<>"N.NOT",K11<>"N.N",K11<>"ABS"),$K$4*$K$3,0)),0.1)) -> #DIV/0! | O11: =LEN(M11) -> 0 | P11: / 255
B12: =Liste!G9 -> Élève n°8 | C12: =Liste!C9 -> G1 | L12: =IF(AND(OR(D12="ABS",D12="N.NOT",D12="N.N"),E12="",F12="",G12="",H12="",I12="",J12="",K12=""),D12,CEILING(20*(IF(AND(D12<>"N.NOT",D12<>"N.N",D12<>"ABS"),D12*$D$4,0)+IF(AND(E12<>"N.NOT",E12<>"N.N",E12<>"ABS"),E12*$E$4,0)+IF(AND(F12<>"N.NOT",F12<>"N.N",F12<>"ABS"),F12*$F$4,0)+IF(AND(G12<>"N.NOT",G12<>"N.N",G12<>"ABS"),G12*$G$4,0)+IF(AND(H12<>"N.NOT",H12<>"N.N",H12<>"ABS"),H12*$H$4,0)+IF(AND(I12<>"N.NOT",I12<>"N.N",I12<>"ABS"),I12*$I$4,0)+IF(AND(J12<>"N.NOT",J12<>"N.N",J12<>"ABS"),J12*$J$4,0)+IF(AND(K12<>"N.NOT",K12<>"N.N",K12<>"ABS"),K12*$K$4,0))/(IF(AND(D12<>"N.NOT",D12<>"N.N",D12<>"ABS"),$D$4*$D$3,0)+IF(AND(E12<>"N.NOT",E12<>"N.N",E12<>"ABS"),$E$4*$E$3,0)+IF(AND(F12<>"N.NOT",F12<>"N.N",F12<>"ABS"),$F$4*$F$3,0)+IF(AND(G12<>"N.NOT",G12<>"N.N",G12<>"ABS"),$G$4*$G$3,0)+IF(AND(H12<>"N.NOT",H12<>"N.N",H12<>"ABS"),$H$4*$H$3,0)+IF(AND(I12<>"N.NOT",I12<>"N.N",I12<>"ABS"),$I$4*$I$3,0)+IF(AND(J12<>"N.NOT",J12<>"N.N",J12<>"ABS"),$J$4*$J$3,0)+IF(AND(K12<>"N.NOT",K12<>"N.N",K12<>"ABS"),$K$4*$K$3,0)),0.1)) -> #DIV/0! | O12: =LEN(M12) -> 0 | P12: / 255
B13: =Liste!G10 -> Élève n°9 | C13: =Liste!C10 -> G2 | L13: =IF(AND(OR(D13="ABS",D13="N.NOT",D13="N.N"),E13="",F13="",G13="",H13="",I13="",J13="",K13=""),D13,CEILING(20*(IF(AND(D13<>"N.NOT",D13<>"N.N",D13<>"ABS"),D13*$D$4,0)+IF(AND(E13<>"N.NOT",E13<>"N.N",E13<>"ABS"),E13*$E$4,0)+IF(AND(F13<>"N.NOT",F13<>"N.N",F13<>"ABS"),F13*$F$4,0)+IF(AND(G13<>"N.NOT",G13<>"N.N",G13<>"ABS"),G13*$G$4,0)+IF(AND(H13<>"N.NOT",H13<>"N.N",H13<>"ABS"),H13*$H$4,0)+IF(AND(I13<>"N.NOT",I13<>"N.N",I13<>"ABS"),I13*$I$4,0)+IF(AND(J13<>"N.NOT",J13<>"N.N",J13<>"ABS"),J13*$J$4,0)+IF(AND(K13<>"N.NOT",K13<>"N.N",K13<>"ABS"),K13*$K$4,0))/(IF(AND(D13<>"N.NOT",D13<>"N.N",D13<>"ABS"),$D$4*$D$3,0)+IF(AND(E13<>"N.NOT",E13<>"N.N",E13<>"ABS"),$E$4*$E$3,0)+IF(AND(F13<>"N.NOT",F13<>"N.N",F13<>"ABS"),$F$4*$F$3,0)+IF(AND(G13<>"N.NOT",G13<>"N.N",G13<>"ABS"),$G$4*$G$3,0)+IF(AND(H13<>"N.NOT",H13<>"N.N",H13<>"ABS"),$H$4*$H$3,0)+IF(AND(I13<>"N.NOT",I13<>"N.N",I13<>"ABS"),$I$4*$I$3,0)+IF(AND(J13<>"N.NOT",J13<>"N.N",J13<>"ABS"),$J$4*$J$3,0)+IF(AND(K13<>"N.NOT",K13<>"N.N",K13<>"ABS"),$K$4*$K$3,0)),0.1)) -> #DIV/0! | O13: =LEN(M13) -> 0 | P13: / 255
B14: =Liste!G11 -> Élève n°10 | C14: =Liste!C11 -> G2 | L14: =IF(AND(OR(D14="ABS",D14="N.NOT",D14="N.N"),E14="",F14="",G14="",H14="",I14="",J14="",K14=""),D14,CEILING(20*(IF(AND(D14<>"N.NOT",D14<>"N.N",D14<>"ABS"),D14*$D$4,0)+IF(AND(E14<>"N.NOT",E14<>"N.N",E14<>"ABS"),E14*$E$4,0)+IF(AND(F14<>"N.NOT",F14<>"N.N",F14<>"ABS"),F14*$F$4,0)+IF(AND(G14<>"N.NOT",G14<>"N.N",G14<>"ABS"),G14*$G$4,0)+IF(AND(H14<>"N.NOT",H14<>"N.N",H14<>"ABS"),H14*$H$4,0)+IF(AND(I14<>"N.NOT",I14<>"N.N",I14<>"ABS"),I14*$I$4,0)+IF(AND(J14<>"N.NOT",J14<>"N.N",J14<>"ABS"),J14*$J$4,0)+IF(AND(K14<>"N.NOT",K14<>"N.N",K14<>"ABS"),K14*$K$4,0))/(IF(AND(D14<>"N.NOT",D14<>"N.N",D14<>"ABS"),$D$4*$D$3,0)+IF(AND(E14<>"N.NOT",E14<>"N.N",E14<>"ABS"),$E$4*$E$3,0)+IF(AND(F14<>"N.NOT",F14<>"N.N",F14<>"ABS"),$F$4*$F$3,0)+IF(AND(G14<>"N.NOT",G14<>"N.N",G14<>"ABS"),$G$4*$G$3,0)+IF(AND(H14<>"N.NOT",H14<>"N.N",H14<>"ABS"),$H$4*$H$3,0)+IF(AND(I14<>"N.NOT",I14<>"N.N",I14<>"ABS"),$I$4*$I$3,0)+IF(AND(J14<>"N.NOT",J14<>"N.N",J14<>"ABS"),$J$4*$J$3,0)+IF(AND(K14<>"N.NOT",K14<>"N.N",K14<>"ABS"),$K$4*$K$3,0)),0.1)) -> #DIV/0! | O14: =LEN(M14) -> 0 | P14: / 255
B15: =Liste!G12 -> Élève n°11 | C15: =Liste!C12 -> G1 | L15: =IF(AND(OR(D15="ABS",D15="N.NOT",D15="N.N"),E15="",F15="",G15="",H15="",I15="",J15="",K15=""),D15,CEILING(20*(IF(AND(D15<>"N.NOT",D15<>"N.N",D15<>"ABS"),D15*$D$4,0)+IF(AND(E15<>"N.NOT",E15<>"N.N",E15<>"ABS"),E15*$E$4,0)+IF(AND(F15<>"N.NOT",F15<>"N.N",F15<>"ABS"),F15*$F$4,0)+IF(AND(G15<>"N.NOT",G15<>"N.N",G15<>"ABS"),G15*$G$4,0)+IF(AND(H15<>"N.NOT",H15<>"N.N",H15<>"ABS"),H15*$H$4,0)+IF(AND(I15<>"N.NOT",I15<>"N.N",I15<>"ABS"),I15*$I$4,0)+IF(AND(J15<>"N.NOT",J15<>"N.N",J15<>"ABS"),J15*$J$4,0)+IF(AND(K15<>"N.NOT",K15<>"N.N",K15<>"ABS"),K15*$K$4,0))/(IF(AND(D15<>"N.NOT",D15<>"N.N",D15<>"ABS"),$D$4*$D$3,0)+IF(AND(E15<>"N.NOT",E15<>"N.N",E15<>"ABS"),$E$4*$E$3,0)+IF(AND(F15<>"N.NOT",F15<>"N.N",F15<>"ABS"),$F$4*$F$3,0)+IF(AND(G15<>"N.NOT",G15<>"N.N",G15<>"ABS"),$G$4*$G$3,0)+IF(AND(H15<>"N.NOT",H15<>"N.N",H15<>"ABS"),$H$4*$H$3,0)+IF(AND(I15<>"N.NOT",I15<>"N.N",I15<>"ABS"),$I$4*$I$3,0)+IF(AND(J15<>"N.NOT",J15<>"N.N",J15<>"ABS"),$J$4*$J$3,0)+IF(AND(K15<>"N.NOT",K15<>"N.N",K15<>"ABS"),$K$4*$K$3,0)),0.1)) -> #DIV/0! | O15: =LEN(M15) -> 0 | P15: / 255
B16: =Liste!G13 -> Élève n°12 | C16: =Liste!C13 -> G1 | L16: =IF(AND(OR(D16="ABS",D16="N.NOT",D16="N.N"),E16="",F16="",G16="",H16="",I16="",J16="",K16=""),D16,CEILING(20*(IF(AND(D16<>"N.NOT",D16<>"N.N",D16<>"ABS"),D16*$D$4,0)+IF(AND(E16<>"N.NOT",E16<>"N.N",E16<>"ABS"),E16*$E$4,0)+IF(AND(F16<>"N.NOT",F16<>"N.N",F16<>"ABS"),F16*$F$4,0)+IF(AND(G16<>"N.NOT",G16<>"N.N",G16<>"ABS"),G16*$G$4,0)+IF(AND(H16<>"N.NOT",H16<>"N.N",H16<>"ABS"),H16*$H$4,0)+IF(AND(I16<>"N.NOT",I16<>"N.N",I16<>"ABS"),I16*$I$4,0)+IF(AND(J16<>"N.NOT",J16<>"N.N",J16<>"ABS"),J16*$J$4,0)+IF(AND(K16<>"N.NOT",K16<>"N.N",K16<>"ABS"),K16*$K$4,0))/(IF(AND(D16<>"N.NOT",D16<>"N.N",D16<>"ABS"),$D$4*$D$3,0)+IF(AND(E16<>"N.NOT",E16<>"N.N",E16<>"ABS"),$E$4*$E$3,0)+IF(AND(F16<>"N.NOT",F16<>"N.N",F16<>"ABS"),$F$4*$F$3,0)+IF(AND(G16<>"N.NOT",G16<>"N.N",G16<>"ABS"),$G$4*$G$3,0)+IF(AND(H16<>"N.NOT",H16<>"N.N",H16<>"ABS"),$H$4*$H$3,0)+IF(AND(I16<>"N.NOT",I16<>"N.N",I16<>"ABS"),$I$4*$I$3,0)+IF(AND(J16<>"N.NOT",J16<>"N.N",J16<>"ABS"),$J$4*$J$3,0)+IF(AND(K16<>"N.NOT",K16<>"N.N",K16<>"ABS"),$K$4*$K$3,0)),0.1)) -> #DIV/0! | O16: =LEN(M16) -> 0 | P16: / 255
... B24: =Liste!G21 -> Élève n°20 | C24: =Liste!C21 -> G1 | L24: =IF(AND(OR(D24="ABS",D24="N.NOT",D24="N.N"),E24="",F24="",G24="",H24="",I24="",J24="",K24=""),D24,CEILING(20*(IF(AND(D24<>"N.NOT",D24<>"N.N",D24<>"ABS"),D24*$D$4,0)+IF(AND(E24<>"N.NOT",E24<>"N.N",E24<>"ABS"),E24*$E$4,0)+IF(AND(F24<>"N.NOT",F24<>"N.N",F24<>"ABS"),F24*$F$4,0)+IF(AND(G24<>"N.NOT",G24<>"N.N",G24<>"ABS"),G24*$G$4,0)+IF(AND(H24<>"N.NOT",H24<>"N.N",H24<>"ABS"),H24*$H$4,0)+IF(AND(I24<>"N.NOT",I24<>"N.N",I24<>"ABS"),I24*$I$4,0)+IF(AND(J24<>"N.NOT",J24<>"N.N",J24<>"ABS"),J24*$J$4,0)+IF(AND(K24<>"N.NOT",K24<>"N.N",K24<>"ABS"),K24*$K$4,0))/(IF(AND(D24<>"N.NOT",D24<>"N.N",D24<>"ABS"),$D$4*$D$3,0)+IF(AND(E24<>"N.NOT",E24<>"N.N",E24<>"ABS"),$E$4*$E$3,0)+IF(AND(F24<>"N.NOT",F24<>"N.N",F24<>"ABS"),$F$4*$F$3,0)+IF(AND(G24<>"N.NOT",G24<>"N.N",G24<>"ABS"),$G$4*$G$3,0)+IF(AND(H24<>"N.NOT",H24<>"N.N",H24<>"ABS"),$H$4*$H$3,0)+IF(AND(I24<>"N.NOT",I24<>"N.N",I24<>"ABS"),$I$4*$I$3,0)+IF(AND(J24<>"N.NOT",J24<>"N.N",J24<>"ABS"),$J$4*$J$3,0)+IF(AND(K24<>"N.NOT",K24<>"N.N",K24<>"ABS"),$K$4*$K$3,0)),0.1)) -> #DIV/0! | O24: =LEN(M24) -> 0 | P24: / 255
B25: =Liste!G22 | C25: =Liste!C22 -> 0 | L25: =IF(AND(OR(D25="ABS",D25="N.NOT",D25="N.N"),E25="",F25="",G25="",H25="",I25="",J25="",K25=""),D25,CEILING(20*(IF(AND(D25<>"N.NOT",D25<>"N.N",D25<>"ABS"),D25*$D$4,0)+IF(AND(E25<>"N.NOT",E25<>"N.N",E25<>"ABS"),E25*$E$4,0)+IF(AND(F25<>"N.NOT",F25<>"N.N",F25<>"ABS"),F25*$F$4,0)+IF(AND(G25<>"N.NOT",G25<>"N.N",G25<>"ABS"),G25*$G$4,0)+IF(AND(H25<>"N.NOT",H25<>"N.N",H25<>"ABS"),H25*$H$4,0)+IF(AND(I25<>"N.NOT",I25<>"N.N",I25<>"ABS"),I25*$I$4,0)+IF(AND(J25<>"N.NOT",J25<>"N.N",J25<>"ABS"),J25*$J$4,0)+IF(AND(K25<>"N.NOT",K25<>"N.N",K25<>"ABS"),K25*$K$4,0))/(IF(AND(D25<>"N.NOT",D25<>"N.N",D25<>"ABS"),$D$4*$D$3,0)+IF(AND(E25<>"N.NOT",E25<>"N.N",E25<>"ABS"),$E$4*$E$3,0)+IF(AND(F25<>"N.NOT",F25<>"N.N",F25<>"ABS"),$F$4*$F$3,0)+IF(AND(G25<>"N.NOT",G25<>"N.N",G25<>"ABS"),$G$4*$G$3,0)+IF(AND(H25<>"N.NOT",H25<>"N.N",H25<>"ABS"),$H$4*$H$3,0)+IF(AND(I25<>"N.NOT",I25<>"N.N",I25<>"ABS"),$I$4*$I$3,0)+IF(AND(J25<>"N.NOT",J25<>"N.N",J25<>"ABS"),$J$4*$J$3,0)+IF(AND(K25<>"N.NOT",K25<>"N.N",K25<>"ABS"),$K$4*$K$3,0)),0.1)) -> #DIV/0!
B26: =Liste!G23 | C26: =Liste!C23 -> 0 | L26: =IF(AND(OR(D26="ABS",D26="N.NOT",D26="N.N"),E26="",F26="",G26="",H26="",I26="",J26="",K26=""),D26,CEILING(20*(IF(AND(D26<>"N.NOT",D26<>"N.N",D26<>"ABS"),D26*$D$4,0)+IF(AND(E26<>"N.NOT",E26<>"N.N",E26<>"ABS"),E26*$E$4,0)+IF(AND(F26<>"N.NOT",F26<>"N.N",F26<>"ABS"),F26*$F$4,0)+IF(AND(G26<>"N.NOT",G26<>"N.N",G26<>"ABS"),G26*$G$4,0)+IF(AND(H26<>"N.NOT",H26<>"N.N",H26<>"ABS"),H26*$H$4,0)+IF(AND(I26<>"N.NOT",I26<>"N.N",I26<>"ABS"),I26*$I$4,0)+IF(AND(J26<>"N.NOT",J26<>"N.N",J26<>"ABS"),J26*$J$4,0)+IF(AND(K26<>"N.NOT",K26<>"N.N",K26<>"ABS"),K26*$K$4,0))/(IF(AND(D26<>"N.NOT",D26<>"N.N",D26<>"ABS"),$D$4*$D$3,0)+IF(AND(E26<>"N.NOT",E26<>"N.N",E26<>"ABS"),$E$4*$E$3,0)+IF(AND(F26<>"N.NOT",F26<>"N.N",F26<>"ABS"),$F$4*$F$3,0)+IF(AND(G26<>"N.NOT",G26<>"N.N",G26<>"ABS"),$G$4*$G$3,0)+IF(AND(H26<>"N.NOT",H26<>"N.N",H26<>"ABS"),$H$4*$H$3,0)+IF(AND(I26<>"N.NOT",I26<>"N.N",I26<>"ABS"),$I$4*$I$3,0)+IF(AND(J26<>"N.NOT",J26<>"N.N",J26<>"ABS"),$J$4*$J$3,0)+IF(AND(K26<>"N.NOT",K26<>"N.N",K26<>"ABS"),$K$4*$K$3,0)),0.1)) -> #DIV/0!
B27: =Liste!G24 | C27: =Liste!C24 -> 0 | L27: =IF(AND(OR(D27="ABS",D27="N.NOT",D27="N.N"),E27="",F27="",G27="",H27="",I27="",J27="",K27=""),D27,CEILING(20*(IF(AND(D27<>"N.NOT",D27<>"N.N",D27<>"ABS"),D27*$D$4,0)+IF(AND(E27<>"N.NOT",E27<>"N.N",E27<>"ABS"),E27*$E$4,0)+IF(AND(F27<>"N.NOT",F27<>"N.N",F27<>"ABS"),F27*$F$4,0)+IF(AND(G27<>"N.NOT",G27<>"N.N",G27<>"ABS"),G27*$G$4,0)+IF(AND(H27<>"N.NOT",H27<>"N.N",H27<>"ABS"),H27*$H$4,0)+IF(AND(I27<>"N.NOT",I27<>"N.N",I27<>"ABS"),I27*$I$4,0)+IF(AND(J27<>"N.NOT",J27<>"N.N",J27<>"ABS"),J27*$J$4,0)+IF(AND(K27<>"N.NOT",K27<>"N.N",K27<>"ABS"),K27*$K$4,0))/(IF(AND(D27<>"N.NOT",D27<>"N.N",D27<>"ABS"),$D$4*$D$3,0)+IF(AND(E27<>"N.NOT",E27<>"N.N",E27<>"ABS"),$E$4*$E$3,0)+IF(AND(F27<>"N.NOT",F27<>"N.N",F27<>"ABS"),$F$4*$F$3,0)+IF(AND(G27<>"N.NOT",G27<>"N.N",G27<>"ABS"),$G$4*$G$3,0)+IF(AND(H27<>"N.NOT",H27<>"N.N",H27<>"ABS"),$H$4*$H$3,0)+IF(AND(I27<>"N.NOT",I27<>"N.N",I27<>"ABS"),$I$4*$I$3,0)+IF(AND(J27<>"N.NOT",J27<>"N.N",J27<>"ABS"),$J$4*$J$3,0)+IF(AND(K27<>"N.NOT",K27<>"N.N",K27<>"ABS"),$K$4*$K$3,0)),0.1)) -> #DIV/0! | O27: =LEN(M27) -> 0 | P27: / 255
B28: =Liste!G25 | C28: =Liste!C25 -> 0 | L28: =IF(AND(OR(D28="ABS",D28="N.NOT",D28="N.N"),E28="",F28="",G28="",H28="",I28="",J28="",K28=""),D28,CEILING(20*(IF(AND(D28<>"N.NOT",D28<>"N.N",D28<>"ABS"),D28*$D$4,0)+IF(AND(E28<>"N.NOT",E28<>"N.N",E28<>"ABS"),E28*$E$4,0)+IF(AND(F28<>"N.NOT",F28<>"N.N",F28<>"ABS"),F28*$F$4,0)+IF(AND(G28<>"N.NOT",G28<>"N.N",G28<>"ABS"),G28*$G$4,0)+IF(AND(H28<>"N.NOT",H28<>"N.N",H28<>"ABS"),H28*$H$4,0)+IF(AND(I28<>"N.NOT",I28<>"N.N",I28<>"ABS"),I28*$I$4,0)+IF(AND(J28<>"N.NOT",J28<>"N.N",J28<>"ABS"),J28*$J$4,0)+IF(AND(K28<>"N.NOT",K28<>"N.N",K28<>"ABS"),K28*$K$4,0))/(IF(AND(D28<>"N.NOT",D28<>"N.N",D28<>"ABS"),$D$4*$D$3,0)+IF(AND(E28<>"N.NOT",E28<>"N.N",E28<>"ABS"),$E$4*$E$3,0)+IF(AND(F28<>"N.NOT",F28<>"N.N",F28<>"ABS"),$F$4*$F$3,0)+IF(AND(G28<>"N.NOT",G28<>"N.N",G28<>"ABS"),$G$4*$G$3,0)+IF(AND(H28<>"N.NOT",H28<>"N.N",H28<>"ABS"),$H$4*$H$3,0)+IF(AND(I28<>"N.NOT",I28<>"N.N",I28<>"ABS"),$I$4*$I$3,0)+IF(AND(J28<>"N.NOT",J28<>"N.N",J28<>"ABS"),$J$4*$J$3,0)+IF(AND(K28<>"N.NOT",K28<>"N.N",K28<>"ABS"),$K$4*$K$3,0)),0.1)) -> #DIV/0! | O28: =LEN(M28) -> 0 | P28: / 255
B29: =Liste!G26 | C29: =Liste!C26 -> 0 | L29: =IF(AND(OR(D29="ABS",D29="N.NOT",D29="N.N"),E29="",F29="",G29="",H29="",I29="",J29="",K29=""),D29,CEILING(20*(IF(AND(D29<>"N.NOT",D29<>"N.N",D29<>"ABS"),D29*$D$4,0)+IF(AND(E29<>"N.NOT",E29<>"N.N",E29<>"ABS"),E29*$E$4,0)+IF(AND(F29<>"N.NOT",F29<>"N.N",F29<>"ABS"),F29*$F$4,0)+IF(AND(G29<>"N.NOT",G29<>"N.N",G29<>"ABS"),G29*$G$4,0)+IF(AND(H29<>"N.NOT",H29<>"N.N",H29<>"ABS"),H29*$H$4,0)+IF(AND(I29<>"N.NOT",I29<>"N.N",I29<>"ABS"),I29*$I$4,0)+IF(AND(J29<>"N.NOT",J29<>"N.N",J29<>"ABS"),J29*$J$4,0)+IF(AND(K29<>"N.NOT",K29<>"N.N",K29<>"ABS"),K29*$K$4,0))/(IF(AND(D29<>"N.NOT",D29<>"N.N",D29<>"ABS"),$D$4*$D$3,0)+IF(AND(E29<>"N.NOT",E29<>"N.N",E29<>"ABS"),$E$4*$E$3,0)+IF(AND(F29<>"N.NOT",F29<>"N.N",F29<>"ABS"),$F$4*$F$3,0)+IF(AND(G29<>"N.NOT",G29<>"N.N",G29<>"ABS"),$G$4*$G$3,0)+IF(AND(H29<>"N.NOT",H29<>"N.N",H29<>"ABS"),$H$4*$H$3,0)+IF(AND(I29<>"N.NOT",I29<>"N.N",I29<>"ABS"),$I$4*$I$3,0)+IF(AND(J29<>"N.NOT",J29<>"N.N",J29<>"ABS"),$J$4*$J$3,0)+IF(AND(K29<>"N.NOT",K29<>"N.N",K29<>"ABS"),$K$4*$K$3,0)),0.1)) -> #DIV/0! | O29: =LEN(M29) -> 0 | P29: / 255
B30: =Liste!G27 | C30: =Liste!C27 -> 0 | L30: =IF(AND(OR(D30="ABS",D30="N.NOT",D30="N.N"),E30="",F30="",G30="",H30="",I30="",J30="",K30=""),D30,CEILING(20*(IF(AND(D30<>"N.NOT",D30<>"N.N",D30<>"ABS"),D30*$D$4,0)+IF(AND(E30<>"N.NOT",E30<>"N.N",E30<>"ABS"),E30*$E$4,0)+IF(AND(F30<>"N.NOT",F30<>"N.N",F30<>"ABS"),F30*$F$4,0)+IF(AND(G30<>"N.NOT",G30<>"N.N",G30<>"ABS"),G30*$G$4,0)+IF(AND(H30<>"N.NOT",H30<>"N.N",H30<>"ABS"),H30*$H$4,0)+IF(AND(I30<>"N.NOT",I30<>"N.N",I30<>"ABS"),I30*$I$4,0)+IF(AND(J30<>"N.NOT",J30<>"N.N",J30<>"ABS"),J30*$J$4,0)+IF(AND(K30<>"N.NOT",K30<>"N.N",K30<>"ABS"),K30*$K$4,0))/(IF(AND(D30<>"N.NOT",D30<>"N.N",D30<>"ABS"),$D$4*$D$3,0)+IF(AND(E30<>"N.NOT",E30<>"N.N",E30<>"ABS"),$E$4*$E$3,0)+IF(AND(F30<>"N.NOT",F30<>"N.N",F30<>"ABS"),$F$4*$F$3,0)+IF(AND(G30<>"N.NOT",G30<>"N.N",G30<>"ABS"),$G$4*$G$3,0)+IF(AND(H30<>"N.NOT",H30<>"N.N",H30<>"ABS"),$H$4*$H$3,0)+IF(AND(I30<>"N.NOT",I30<>"N.N",I30<>"ABS"),$I$4*$I$3,0)+IF(AND(J30<>"N.NOT",J30<>"N.N",J30<>"ABS"),$J$4*$J$3,0)+IF(AND(K30<>"N.NOT",K30<>"N.N",K30<>"ABS"),$K$4*$K$3,0)),0.1)) -> #DIV/0! | O30: =LEN(M30) -> 0 | P30: / 255
B31: Moyennes | D31: =IF(D3="","X",AVERAGE(D5:D30)) -> X | E31: =IF(E3="","X",AVERAGE(E5:E30)) -> X | F31: =IF(F3="","X",AVERAGE(F5:F30)) -> X | G31: =IF(G3="","X",AVERAGE(G5:G30)) -> X | H31: =IF(H3="","X",AVERAGE(H5:H30)) -> X | I31: =IF(I3="","X",AVERAGE(I5:I30)) -> X | J31: =IF(J3="","X",AVERAGE(J5:J30)) -> X | K31: =IF(K3="","X",AVERAGE(K5:K30)) -> X | L31: =AVERAGE(L5:L30) -> #DIV/0! | M31: Appréciation globale
B32: Note min. | D32: =IF(D3="","X",MIN(D5:D30)) -> X | E32: =IF(E3="","X",MIN(E5:E30)) -> X | F32: =IF(F3="","X",MIN(F5:F30)) -> X | G32: =IF(G3="","X",MIN(G5:G30)) -> X | H32: =IF(H3="","X",MIN(H5:H30)) -> X | I32: =IF(I3="","X",MIN(I5:I30)) -> X | J32: =IF(J3="","X",MIN(J5:J30)) -> X | K32: =IF(K3="","X",MIN(K5:K30)) -> X | L32: =MIN(L1:L30) -> #DIV/0!
B33: Note max. | D33: =IF(D3="","X",MAX(D5:D30)) -> X | E33: =IF(E3="","X",MAX(E5:E30)) -> X | F33: =IF(F3="","X",MAX(F5:F30)) -> X | G33: =IF(G3="","X",MAX(G5:G30)) -> X | H33: =IF(H3="","X",MAX(H5:H30)) -> X | I33: =IF(I3="","X",MAX(I5:I30)) -> X | J33: =IF(J3="","X",MAX(J5:J30)) -> X | K33: =IF(K3="","X",MAX(K5:K30)) -> X | L33: =MAX(L5:L30) -> #DIV/0! | O33: =LEN(M32) -> 0 | P33: / 400
B34: ** Délégués

Sheet Export-Eval
A1: Classe | B1: Noms | AK1: APPpourcent | AL1: ANApourcent | AM1: REApourcent | AN1: VALpourcent | AO1: COMpourcent | AP1: AUTOpourcent | AQ1: RCOpourcent | AR1: APP-Niv.M | AS1: ANA-Niv.M | AT1: REA-Niv.M | AU1: VAL-Niv.M | AV1: COM-Niv.M | AW1: AUTO-Niv.M | AX1: RCO-Niv.M | AY1: APP-Note | AZ1: ANA-Note | BA1: REA-Note | BB1: VAL-Note | BC1: COM-Note | BD1: AUTO-Note | BE1: RCO-Note | BF1: NOTE | BG1: APP-Tot | BH1: ANA-Tot | BI1: REA-Tot | BJ1: VAL-Tot | BK1: COM-Tot | BL1: AUTO-Tot | BM1: RCO-Tot | BN1: Moy | BO1: Min | BP1: Max | BQ1: ="Observations ( Encore "& COUNTBLANK(BQ2:BQ20) & " restantes )" -> Observations ( Encore 19 restantes ) | BR1: Noms
A2: =Liste!C2 -> G1 | B2: =Liste!G2 -> Élève n°1 | BN2: =AVERAGE($BF$2:$BF$27) -> #DIV/0! | BO2: =MIN($BF$2:$BF$27) -> 0 | BP2: =MAX($BF$2:$BF$27) -> 0 | BR2: =Liste!G2 -> Élève n°1
A3: =Liste!C3 -> G1 | B3: =Liste!G3 -> Élève n°2 | BN3: =AVERAGE($BF$2:$BF$27) -> #DIV/0! | BO3: =MIN($BF$2:$BF$27) -> 0 | BP3: =MAX($BF$2:$BF$27) -> 0 | BR3: =Liste!G3 -> Élève n°2
A4: =Liste!C4 -> G2 | B4: =Liste!G4 -> Élève n°3 | BN4: =AVERAGE($BF$2:$BF$27) -> #DIV/0! | BO4: =MIN($BF$2:$BF$27) -> 0 | BP4: =MAX($BF$2:$BF$27) -> 0 | BR4: =Liste!G4 -> Élève n°3
A5: =Liste!C5 -> G2 | B5: =Liste!G5 -> Élève n°4 | BN5: =AVERAGE($BF$2:$BF$27) -> #DIV/0! | BO5: =MIN($BF$2:$BF$27) -> 0 | BP5: =MAX($BF$2:$BF$27) -> 0 | BR5: =Liste!G5 -> Élève n°4
A6: =Liste!C6 -> G1 | B6: =Liste!G6 -> Élève n°5 | BN6: =AVERAGE($BF$2:$BF$27) -> #DIV/0! | BO6: =MIN($BF$2:$BF$27) -> 0 | BP6: =MAX($BF$2:$BF$27) -> 0 | BR6: =Liste!G6 -> Élève n°5
A7: =Liste!C7 -> G1 | B7: =Liste!G7 -> Élève n°6 | BN7: =AVERAGE($BF$2:$BF$27) -> #DIV/0! | BO7: =MIN($BF$2:$BF$27) -> 0 | BP7: =MAX($BF$2:$BF$27) -> 0 | BR7: =Liste!G7 -> Élève n°6
A8: =Liste!C8 -> G1 | B8: =Liste!G8 -> Élève n°7 | BN8: =AVERAGE($BF$2:$BF$27) -> #DIV/0! | BO8: =MIN($BF$2:$BF$27) -> 0 | BP8: =MAX($BF$2:$BF$27) -> 0 | BR8: =Liste!G8 -> Élève n°7
A9: =Liste!C9 -> G1 | B9: =Liste!G9 -> Élève n°8 | BN9: =AVERAGE($BF$2:$BF$27) -> #DIV/0! | BO9: =MIN($BF$2:$BF$27) -> 0 | BP9: =MAX($BF$2:$BF$27) -> 0 | BR9: =Liste!G9 -> Élève n°8
A10: =Liste!C10 -> G2 | B10: =Liste!G10 -> Élève n°9 | BN10: =AVERAGE($BF$2:$BF$27) -> #DIV/0! | BO10: =MIN($BF$2:$BF$27) -> 0 | BP10: =MAX($BF$2:$BF$27) -> 0 | BR10: =Liste!G10 -> Élève n°9
A11: =Liste!C11 -> G2 | B11: =Liste!G11 -> Élève n°10 | BN11: =AVERAGE($BF$2:$BF$27) -> #DIV/0! | BO11: =MIN($BF$2:$BF$27) -> 0 | BP11: =MAX($BF$2:$BF$27) -> 0 | BR11: =Liste!G11 -> Élève n°10
A12: =Liste!C12 -> G1 | B12: =Liste!G12 -> Élève n°11 | BN12: =AVERAGE($BF$2:$BF$27) -> #DIV/0! | BO12: =MIN($BF$2:$BF$27) -> 0 | BP12: =MAX($BF$2:$BF$27) -> 0 | BR12: =Liste!G12 -> Élève n°11
A13: =Liste!C13 -> G1 | B13: =Liste!G13 -> Élève n°12 | BN13: =AVERAGE($BF$2:$BF$27) -> #DIV/0! | BO13: =MIN($BF$2:$BF$27) -> 0 | BP13: =MAX($BF$2:$BF$27) -> 0 | BR13: =Liste!G13 -> Élève n°12
... A35: =Liste!C35 -> 0 | B35: =Liste!G35 | BN35: =AVERAGE($BF$2:$BF$27) -> #DIV/0! | BO35: =MIN($BF$2:$BF$27) -> 0 | BP35: =MAX($BF$2:$BF$27) -> 0 | BR35: =Liste!G35

Sheet -_-

Sheet Éval-Modèle(Nouveau)
F1: X , NR, ABS → | G1: ABS | H1: X | I1: NR | O1: ABS | AP1: ⚠️🔒 NE PAS MODIFIER LES CELLULES CI-DESSOUS 🔒 ⚠️
A2: LYCÉE LE CORBUSIER | D2: PHYSIQUE - CHIMIE | G2: Noms des élèves évalués. (⚠️Ne pas modifier ici ! Modifier la feuille Liste-ÉLÈVES⚠️) | AP2: Pondération par le niveau d'évaluation (⚠️Ne pas modifier ici ! Modifier la feuille Liste-ÉLÈVES⚠️) | BX2: Moyenne | BY2: Réussite
A3: =Liste!F2 -> ClasseA | D3: ÉVALUATION SOMMATIVE | E3: 44231 | G3: =Liste!$G2 -> Élève n°1 | H3: =Liste!$G3 -> Élève n°2 | I3: =Liste!$G4 -> Élève n°3 | J3: =Liste!$G5 -> Élève n°4 | K3: =Liste!$G6 -> Élève n°5 | L3: =Liste!$G7 -> Élève n°6 | M3: =Liste!$G8 -> Élève n°7 | N3: =Liste!$G9 -> Élève n°8 | O3: =Liste!$G10 -> Élève n°9 | P3: =Liste!$G11 -> Élève n°10 | Q3: =Liste!$G12 -> Élève n°11 | R3: =Liste!$G13 -> Élève n°12 | S3: =Liste!$G14 -> Élève n°13 | T3: =Liste!$G15 -> Élève n°14 | U3: =Liste!$G16 -> Élève n°15 | V3: =Liste!$G17 -> Élève n°16 | W3: =Liste!$G18 -> Élève n°17 | X3: =Liste!$G19 -> Élève n°18 | Y3: =Liste!$G20 -> Élève n°19 | Z3: =Liste!$G21 -> Élève n°20 | AA3: =Liste!$G22 | AB3: =Liste!$G23 | AC3: =Liste!$G24 | AD3: =Liste!$G25 | AE3: =Liste!$G26 | AF3: =Liste!$G27 | AG3: =Liste!$G28 | AH3: =Liste!$G29 | AI3: =Liste!$G30 | AJ3: =Liste!$G31 | AK3: =Liste!$G32 | AL3: =Liste!$G33 | AM3: =Liste!$G34 | AN3: =Liste!$G35 | AP3: =G3 -> Élève n°1 | AQ3: =H3 -> Élève n°2 | AR3: =I3 -> Élève n°3 | AS3: =J3 -> Élève n°4 | AT3: =K3 -> Élève n°5 | AU3: =L3 -> Élève n°6 | AV3: =M3 -> Élève n°7 | AW3: =N3 -> Élève n°8 | ... BW3: =AN3
A4: Évaluation n° : Titre de l'évaluation
A6: Question | B6: Compétence mobilisée | C6: Capacité évaluée / Observable | E6: Poids
AP7: =IF(G7="","",(IF(G7="A",Seuil_max_A,IF(G7="B",Seuil_max_B,IF(G7="C",Seuil_max_C,IF(G7="D",Seuil_max_D,0)))))*$E7) | AQ7: =IF(H7="","",(IF(H7="A",Seuil_max_A,IF(H7="B",Seuil_max_B,IF(H7="C",Seuil_max_C,IF(H7="D",Seuil_max_D,0)))))*$E7) | AR7: =IF(I7="","",(IF(I7="A",Seuil_max_A,IF(I7="B",Seuil_max_B,IF(I7="C",Seuil_max_C,IF(I7="D",Seuil_max_D,0)))))*$E7) | AS7: =IF(J7="","",(IF(J7="A",Seuil_max_A,IF(J7="B",Seuil_max_B,IF(J7="C",Seuil_max_C,IF(J7="D",Seuil_max_D,0)))))*$E7) | AT7: =IF(K7="","",(IF(K7="A",Seuil_max_A,IF(K7="B",Seuil_max_B,IF(K7="C",Seuil_max_C,IF(K7="D",Seuil_max_D,0)))))*$E7) | AU7: =IF(L7="","",(IF(L7="A",Seuil_max_A,IF(L7="B",Seuil_max_B,IF(L7="C",Seuil_max_C,IF(L7="D",Seuil_max_D,0)))))*$E7) | AV7: =IF(M7="","",(IF(M7="A",Seuil_max_A,IF(M7="B",Seuil_max_B,IF(M7="C",Seuil_max_C,IF(M7="D",Seuil_max_D,0)))))*$E7) | AW7: =IF(N7="","",(IF(N7="A",Seuil_max_A,IF(N7="B",Seuil_max_B,IF(N7="C",Seuil_max_C,IF(N7="D",Seuil_max_D,0)))))*$E7) | ... BW7: =IF(AN7="","",(IF(AN7="A",Seuil_max_A,IF(AN7="B",Seuil_max_B,IF(AN7="C",Seuil_max_C,IF(AN7="D",Seuil_max_D,0)))))*$E7) | BX7: =IFERROR(AVERAGE(AP7:BW7),"") | BY7: =IFERROR(IF(OR($E7=0,$E7=""),"",$BX7/$E7),"")
AP8: =IF(G8="","",(IF(G8="A",Seuil_max_A,IF(G8="B",Seuil_max_B,IF(G8="C",Seuil_max_C,IF(G8="D",Seuil_max_D,0)))))*$E8) | AQ8: =IF(H8="","",(IF(H8="A",Seuil_max_A,IF(H8="B",Seuil_max_B,IF(H8="C",Seuil_max_C,IF(H8="D",Seuil_max_D,0)))))*$E8) | AR8: =IF(I8="","",(IF(I8="A",Seuil_max_A,IF(I8="B",Seuil_max_B,IF(I8="C",Seuil_max_C,IF(I8="D",Seuil_max_D,0)))))*$E8) | AS8: =IF(J8="","",(IF(J8="A",Seuil_max_A,IF(J8="B",Seuil_max_B,IF(J8="C",Seuil_max_C,IF(J8="D",Seuil_max_D,0)))))*$E8) | AT8: =IF(K8="","",(IF(K8="A",Seuil_max_A,IF(K8="B",Seuil_max_B,IF(K8="C",Seuil_max_C,IF(K8="D",Seuil_max_D,0)))))*$E8) | AU8: =IF(L8="","",(IF(L8="A",Seuil_max_A,IF(L8="B",Seuil_max_B,IF(L8="C",Seuil_max_C,IF(L8="D",Seuil_max_D,0)))))*$E8) | AV8: =IF(M8="","",(IF(M8="A",Seuil_max_A,IF(M8="B",Seuil_max_B,IF(M8="C",Seuil_max_C,IF(M8="D",Seuil_max_D,0)))))*$E8) | AW8: =IF(N8="","",(IF(N8="A",Seuil_max_A,IF(N8="B",Seuil_max_B,IF(N8="C",Seuil_max_C,IF(N8="D",Seuil_max_D,0)))))*$E8) | ... BW8: =IF(AN8="","",(IF(AN8="A",Seuil_max_A,IF(AN8="B",Seuil_max_B,IF(AN8="C",Seuil_max_C,IF(AN8="D",Seuil_max_D,0)))))*$E8) | BX8: =IFERROR(AVERAGE(AP8:BW8),"") | BY8: =IFERROR(IF(OR($E8=0,$E8=""),"",$BX8/$E8),"")
AP9: =IF(G9="","",(IF(G9="A",Seuil_max_A,IF(G9="B",Seuil_max_B,IF(G9="C",Seuil_max_C,IF(G9="D",Seuil_max_D,0)))))*$E9) | AQ9: =IF(H9="","",(IF(H9="A",Seuil_max_A,IF(H9="B",Seuil_max_B,IF(H9="C",Seuil_max_C,IF(H9="D",Seuil_max_D,0)))))*$E9) | AR9: =IF(I9="","",(IF(I9="A",Seuil_max_A,IF(I9="B",Seuil_max_B,IF(I9="C",Seuil_max_C,IF(I9="D",Seuil_max_D,0)))))*$E9) | AS9: =IF(J9="","",(IF(J9="A",Seuil_max_A,IF(J9="B",Seuil_max_B,IF(J9="C",Seuil_max_C,IF(J9="D",Seuil_max_D,0)))))*$E9) | AT9: =IF(K9="","",(IF(K9="A",Seuil_max_A,IF(K9="B",Seuil_max_B,IF(K9="C",Seuil_max_C,IF(K9="D",Seuil_max_D,0)))))*$E9) | AU9: =IF(L9="","",(IF(L9="A",Seuil_max_A,IF(L9="B",Seuil_max_B,IF(L9="C",Seuil_max_C,IF(L9="D",Seuil_max_D,0)))))*$E9) | AV9: =IF(M9="","",(IF(M9="A",Seuil_max_A,IF(M9="B",Seuil_max_B,IF(M9="C",Seuil_max_C,IF(M9="D",Seuil_max_D,0)))))*$E9) | AW9: =IF(N9="","",(IF(N9="A",Seuil_max_A,IF(N9="B",Seuil_max_B,IF(N9="C",Seuil_max_C,IF(N9="D",Seuil_max_D,0)))))*$E9) | ... BW9: =IF(AN9="","",(IF(AN9="A",Seuil_max_A,IF(AN9="B",Seuil_max_B,IF(AN9="C",Seuil_max_C,IF(AN9="D",Seuil_max_D,0)))))*$E9) | BX9: =IFERROR(AVERAGE(AP9:BW9),"") | BY9: =IFERROR(IF(OR($E9=0,$E9=""),"",$BX9/$E9),"")
AP10: =IF(G10="","",(IF(G10="A",Seuil_max_A,IF(G10="B",Seuil_max_B,IF(G10="C",Seuil_max_C,IF(G10="D",Seuil_max_D,0)))))*$E10) | AQ10: =IF(H10="","",(IF(H10="A",Seuil_max_A,IF(H10="B",Seuil_max_B,IF(H10="C",Seuil_max_C,IF(H10="D",Seuil_max_D,0)))))*$E10) | AR10: =IF(I10="","",(IF(I10="A",Seuil_max_A,IF(I10="B",Seuil_max_B,IF(I10="C",Seuil_max_C,IF(I10="D",Seuil_max_D,0)))))*$E10) | AS10: =IF(J10="","",(IF(J10="A",Seuil_max_A,IF(J10="B",Seuil_max_B,IF(J10="C",Seuil_max_C,IF(J10="D",Seuil_max_D,0)))))*$E10) | AT10: =IF(K10="","",(IF(K10="A",Seuil_max_A,IF(K10="B",Seuil_max_B,IF(K10="C",Seuil_max_C,IF(K10="D",Seuil_max_D,0)))))*$E10) | AU10: =IF(L10="","",(IF(L10="A",Seuil_max_A,IF(L10="B",Seuil_max_B,IF(L10="C",Seuil_max_C,IF(L10="D",Seuil_max_D,0)))))*$E10) | AV10: =IF(M10="","",(IF(M10="A",Seuil_max_A,IF(M10="B",Seuil_max_B,IF(M10="C",Seuil_max_C,IF(M10="D",Seuil_max_D,0)))))*$E10) | AW10: =IF(N10="","",(IF(N10="A",Seuil_max_A,IF(N10="B",Seuil_max_B,IF(N10="C",Seuil_max_C,IF(N10="D",Seuil_max_D,0)))))*$E10) | ... BW10: =IF(AN10="","",(IF(AN10="A",Seuil_max_A,IF(AN10="B",Seuil_max_B,IF(AN10="C",Seuil_max_C,IF(AN10="D",Seuil_max_D,0)))))*$E10) | BX10: =IFERROR(AVERAGE(AP10:BW10),"") | BY10: =IFERROR(IF(OR($E10=0,$E10=""),"",$BX10/$E10),"")
AO11: è | AP11: =IF(G11="","",(IF(G11="A",Seuil_max_A,IF(G11="B",Seuil_max_B,IF(G11="C",Seuil_max_C,IF(G11="D",Seuil_max_D,0)))))*$E11) | AQ11: =IF(H11="","",(IF(H11="A",Seuil_max_A,IF(H11="B",Seuil_max_B,IF(H11="C",Seuil_max_C,IF(H11="D",Seuil_max_D,0)))))*$E11) | AR11: =IF(I11="","",(IF(I11="A",Seuil_max_A,IF(I11="B",Seuil_max_B,IF(I11="C",Seuil_max_C,IF(I11="D",Seuil_max_D,0)))))*$E11) | AS11: =IF(J11="","",(IF(J11="A",Seuil_max_A,IF(J11="B",Seuil_max_B,IF(J11="C",Seuil_max_C,IF(J11="D",Seuil_max_D,0)))))*$E11) | AT11: =IF(K11="","",(IF(K11="A",Seuil_max_A,IF(K11="B",Seuil_max_B,IF(K11="C",Seuil_max_C,IF(K11="D",Seuil_max_D,0)))))*$E11) | AU11: =IF(L11="","",(IF(L11="A",Seuil_max_A,IF(L11="B",Seuil_max_B,IF(L11="C",Seuil_max_C,IF(L11="D",Seuil_max_D,0)))))*$E11) | AV11: =IF(M11="","",(IF(M11="A",Seuil_max_A,IF(M11="B",Seuil_max_B,IF(M11="C",Seuil_max_C,IF(M11="D",Seuil_max_D,0)))))*$E11) | AW11: =IF(N11="","",(IF(N11="A",Seuil_max_A,IF(N11="B",Seuil_max_B,IF(N11="C",Seuil_max_C,IF(N11="D",Seuil_max_D,0)))))*$E11) | ... BW11: =IF(AN11="","",(IF(AN11="A",Seuil_max_A,IF(AN11="B",Seuil_max_B,IF(AN11="C",Seuil_max_C,IF(AN11="D",Seuil_max_D,0)))))*$E11) | BX11: =IFERROR(AVERAGE(AP11:BW11),"") | BY11: =IFERROR(IF(OR($E11=0,$E11=""),"",$BX11/$E11),"")
AP12: =IF(G12="","",(IF(G12="A",Seuil_max_A,IF(G12="B",Seuil_max_B,IF(G12="C",Seuil_max_C,IF(G12="D",Seuil_max_D,0)))))*$E12) | AQ12: =IF(H12="","",(IF(H12="A",Seuil_max_A,IF(H12="B",Seuil_max_B,IF(H12="C",Seuil_max_C,IF(H12="D",Seuil_max_D,0)))))*$E12) | AR12: =IF(I12="","",(IF(I12="A",Seuil_max_A,IF(I12="B",Seuil_max_B,IF(I12="C",Seuil_max_C,IF(I12="D",Seuil_max_D,0)))))*$E12) | AS12: =IF(J12="","",(IF(J12="A",Seuil_max_A,IF(J12="B",Seuil_max_B,IF(J12="C",Seuil_max_C,IF(J12="D",Seuil_max_D,0)))))*$E12) | AT12: =IF(K12="","",(IF(K12="A",Seuil_max_A,IF(K12="B",Seuil_max_B,IF(K12="C",Seuil_max_C,IF(K12="D",Seuil_max_D,0)))))*$E12) | AU12: =IF(L12="","",(IF(L12="A",Seuil_max_A,IF(L12="B",Seuil_max_B,IF(L12="C",Seuil_max_C,IF(L12="D",Seuil_max_D,0)))))*$E12) | AV12: =IF(M12="","",(IF(M12="A",Seuil_max_A,IF(M12="B",Seuil_max_B,IF(M12="C",Seuil_max_C,IF(M12="D",Seuil_max_D,0)))))*$E12) | AW12: =IF(N12="","",(IF(N12="A",Seuil_max_A,IF(N12="B",Seuil_max_B,IF(N12="C",Seuil_max_C,IF(N12="D",Seuil_max_D,0)))))*$E12) | ... BW12: =IF(AN12="","",(IF(AN12="A",Seuil_max_A,IF(AN12="B",Seuil_max_B,IF(AN12="C",Seuil_max_C,IF(AN12="D",Seuil_max_D,0)))))*$E12) | BX12: =IFERROR(AVERAGE(AP12:BW12),"") | BY12: =IFERROR(IF(OR($E12=0,$E12=""),"",$BX12/$E12),"")
AP13: =IF(G13="","",(IF(G13="A",Seuil_max_A,IF(G13="B",Seuil_max_B,IF(G13="C",Seuil_max_C,IF(G13="D",Seuil_max_D,0)))))*$E13) | AQ13: =IF(H13="","",(IF(H13="A",Seuil_max_A,IF(H13="B",Seuil_max_B,IF(H13="C",Seuil_max_C,IF(H13="D",Seuil_max_D,0)))))*$E13) | AR13: =IF(I13="","",(IF(I13="A",Seuil_max_A,IF(I13="B",Seuil_max_B,IF(I13="C",Seuil_max_C,IF(I13="D",Seuil_max_D,0)))))*$E13) | AS13: =IF(J13="","",(IF(J13="A",Seuil_max_A,IF(J13="B",Seuil_max_B,IF(J13="C",Seuil_max_C,IF(J13="D",Seuil_max_D,0)))))*$E13) | AT13: =IF(K13="","",(IF(K13="A",Seuil_max_A,IF(K13="B",Seuil_max_B,IF(K13="C",Seuil_max_C,IF(K13="D",Seuil_max_D,0)))))*$E13) | AU13: =IF(L13="","",(IF(L13="A",Seuil_max_A,IF(L13="B",Seuil_max_B,IF(L13="C",Seuil_max_C,IF(L13="D",Seuil_max_D,0)))))*$E13) | AV13: =IF(M13="","",(IF(M13="A",Seuil_max_A,IF(M13="B",Seuil_max_B,IF(M13="C",Seuil_max_C,IF(M13="D",Seuil_max_D,0)))))*$E13) | AW13: =IF(N13="","",(IF(N13="A",Seuil_max_A,IF(N13="B",Seuil_max_B,IF(N13="C",Seuil_max_C,IF(N13="D",Seuil_max_D,0)))))*$E13) | ... BW13: =IF(AN13="","",(IF(AN13="A",Seuil_max_A,IF(AN13="B",Seuil_max_B,IF(AN13="C",Seuil_max_C,IF(AN13="D",Seuil_max_D,0)))))*$E13) | BX13: =IFERROR(AVERAGE(AP13:BW13),"") | BY13: =IFERROR(IF(OR($E13=0,$E13=""),"",$BX13/$E13),"")
AP14: =IF(G14="","",(IF(G14="A",Seuil_max_A,IF(G14="B",Seuil_max_B,IF(G14="C",Seuil_max_C,IF(G14="D",Seuil_max_D,0)))))*$E14) | AQ14: =IF(H14="","",(IF(H14="A",Seuil_max_A,IF(H14="B",Seuil_max_B,IF(H14="C",Seuil_max_C,IF(H14="D",Seuil_max_D,0)))))*$E14) | AR14: =IF(I14="","",(IF(I14="A",Seuil_max_A,IF(I14="B",Seuil_max_B,IF(I14="C",Seuil_max_C,IF(I14="D",Seuil_max_D,0)))))*$E14) | AS14: =IF(J14="","",(IF(J14="A",Seuil_max_A,IF(J14="B",Seuil_max_B,IF(J14="C",Seuil_max_C,IF(J14="D",Seuil_max_D,0)))))*$E14) | AT14: =IF(K14="","",(IF(K14="A",Seuil_max_A,IF(K14="B",Seuil_max_B,IF(K14="C",Seuil_max_C,IF(K14="D",Seuil_max_D,0)))))*$E14) | AU14: =IF(L14="","",(IF(L14="A",Seuil_max_A,IF(L14="B",Seuil_max_B,IF(L14="C",Seuil_max_C,IF(L14="D",Seuil_max_D,0)))))*$E14) | AV14: =IF(M14="","",(IF(M14="A",Seuil_max_A,IF(M14="B",Seuil_max_B,IF(M14="C",Seuil_max_C,IF(M14="D",Seuil_max_D,0)))))*$E14) | AW14: =IF(N14="","",(IF(N14="A",Seuil_max_A,IF(N14="B",Seuil_max_B,IF(N14="C",Seuil_max_C,IF(N14="D",Seuil_max_D,0)))))*$E14) | ... BW14: =IF(AN14="","",(IF(AN14="A",Seuil_max_A,IF(AN14="B",Seuil_max_B,IF(AN14="C",Seuil_max_C,IF(AN14="D",Seuil_max_D,0)))))*$E14) | BX14: =IFERROR(AVERAGE(AP14:BW14),"") | BY14: =IFERROR(IF(OR($E14=0,$E14=""),"",$BX14/$E14),"")
AP15: =IF(G15="","",(IF(G15="A",Seuil_max_A,IF(G15="B",Seuil_max_B,IF(G15="C",Seuil_max_C,IF(G15="D",Seuil_max_D,0)))))*$E15) | AQ15: =IF(H15="","",(IF(H15="A",Seuil_max_A,IF(H15="B",Seuil_max_B,IF(H15="C",Seuil_max_C,IF(H15="D",Seuil_max_D,0)))))*$E15) | AR15: =IF(I15="","",(IF(I15="A",Seuil_max_A,IF(I15="B",Seuil_max_B,IF(I15="C",Seuil_max_C,IF(I15="D",Seuil_max_D,0)))))*$E15) | AS15: =IF(J15="","",(IF(J15="A",Seuil_max_A,IF(J15="B",Seuil_max_B,IF(J15="C",Seuil_max_C,IF(J15="D",Seuil_max_D,0)))))*$E15) | AT15: =IF(K15="","",(IF(K15="A",Seuil_max_A,IF(K15="B",Seuil_max_B,IF(K15="C",Seuil_max_C,IF(K15="D",Seuil_max_D,0)))))*$E15) | AU15: =IF(L15="","",(IF(L15="A",Seuil_max_A,IF(L15="B",Seuil_max_B,IF(L15="C",Seuil_max_C,IF(L15="D",Seuil_max_D,0)))))*$E15) | AV15: =IF(M15="","",(IF(M15="A",Seuil_max_A,IF(M15="B",Seuil_max_B,IF(M15="C",Seuil_max_C,IF(M15="D",Seuil_max_D,0)))))*$E15) | AW15: =IF(N15="","",(IF(N15="A",Seuil_max_A,IF(N15="B",Seuil_max_B,IF(N15="C",Seuil_max_C,IF(N15="D",Seuil_max_D,0)))))*$E15) | ... BW15: =IF(AN15="","",(IF(AN15="A",Seuil_max_A,IF(AN15="B",Seuil_max_B,IF(AN15="C",Seuil_max_C,IF(AN15="D",Seuil_max_D,0)))))*$E15) | BX15: =IFERROR(AVERAGE(AP15:BW15),"") | BY15: =IFERROR(IF(OR($E15=0,$E15=""),"",$BX15/$E15),"")
AP16: =IF(G16="","",(IF(G16="A",Seuil_max_A,IF(G16="B",Seuil_max_B,IF(G16="C",Seuil_max_C,IF(G16="D",Seuil_max_D,0)))))*$E16) | AQ16: =IF(H16="","",(IF(H16="A",Seuil_max_A,IF(H16="B",Seuil_max_B,IF(H16="C",Seuil_max_C,IF(H16="D",Seuil_max_D,0)))))*$E16) | AR16: =IF(I16="","",(IF(I16="A",Seuil_max_A,IF(I16="B",Seuil_max_B,IF(I16="C",Seuil_max_C,IF(I16="D",Seuil_max_D,0)))))*$E16) | AS16: =IF(J16="","",(IF(J16="A",Seuil_max_A,IF(J16="B",Seuil_max_B,IF(J16="C",Seuil_max_C,IF(J16="D",Seuil_max_D,0)))))*$E16) | AT16: =IF(K16="","",(IF(K16="A",Seuil_max_A,IF(K16="B",Seuil_max_B,IF(K16="C",Seuil_max_C,IF(K16="D",Seuil_max_D,0)))))*$E16) | AU16: =IF(L16="","",(IF(L16="A",Seuil_max_A,IF(L16="B",Seuil_max_B,IF(L16="C",Seuil_max_C,IF(L16="D",Seuil_max_D,0)))))*$E16) | AV16: =IF(M16="","",(IF(M16="A",Seuil_max_A,IF(M16="B",Seuil_max_B,IF(M16="C",Seuil_max_C,IF(M16="D",Seuil_max_D,0)))))*$E16) | AW16: =IF(N16="","",(IF(N16="A",Seuil_max_A,IF(N16="B",Seuil_max_B,IF(N16="C",Seuil_max_C,IF(N16="D",Seuil_max_D,0)))))*$E16) | ... BW16: =IF(AN16="","",(IF(AN16="A",Seuil_max_A,IF(AN16="B",Seuil_max_B,IF(AN16="C",Seuil_max_C,IF(AN16="D",Seuil_max_D,0)))))*$E16) | BX16: =IFERROR(AVERAGE(AP16:BW16),"") | BY16: =IFERROR(IF(OR($E16=0,$E16=""),"",$BX16/$E16),"")
AP17: =IF(G17="","",(IF(G17="A",Seuil_max_A,IF(G17="B",Seuil_max_B,IF(G17="C",Seuil_max_C,IF(G17="D",Seuil_max_D,0)))))*$E17) | AQ17: =IF(H17="","",(IF(H17="A",Seuil_max_A,IF(H17="B",Seuil_max_B,IF(H17="C",Seuil_max_C,IF(H17="D",Seuil_max_D,0)))))*$E17) | AR17: =IF(I17="","",(IF(I17="A",Seuil_max_A,IF(I17="B",Seuil_max_B,IF(I17="C",Seuil_max_C,IF(I17="D",Seuil_max_D,0)))))*$E17) | AS17: =IF(J17="","",(IF(J17="A",Seuil_max_A,IF(J17="B",Seuil_max_B,IF(J17="C",Seuil_max_C,IF(J17="D",Seuil_max_D,0)))))*$E17) | AT17: =IF(K17="","",(IF(K17="A",Seuil_max_A,IF(K17="B",Seuil_max_B,IF(K17="C",Seuil_max_C,IF(K17="D",Seuil_max_D,0)))))*$E17) | AU17: =IF(L17="","",(IF(L17="A",Seuil_max_A,IF(L17="B",Seuil_max_B,IF(L17="C",Seuil_max_C,IF(L17="D",Seuil_max_D,0)))))*$E17) | AV17: =IF(M17="","",(IF(M17="A",Seuil_max_A,IF(M17="B",Seuil_max_B,IF(M17="C",Seuil_max_C,IF(M17="D",Seuil_max_D,0)))))*$E17) | AW17: =IF(N17="","",(IF(N17="A",Seuil_max_A,IF(N17="B",Seuil_max_B,IF(N17="C",Seuil_max_C,IF(N17="D",Seuil_max_D,0)))))*$E17) | ... BW17: =IF(AN17="","",(IF(AN17="A",Seuil_max_A,IF(AN17="B",Seuil_max_B,IF(AN17="C",Seuil_max_C,IF(AN17="D",Seuil_max_D,0)))))*$E17) | BX17: =IFERROR(AVERAGE(AP17:BW17),"") | BY17: =IFERROR(IF(OR($E17=0,$E17=""),"",$BX17/$E17),"")
AP18: =IF(G18="","",(IF(G18="A",Seuil_max_A,IF(G18="B",Seuil_max_B,IF(G18="C",Seuil_max_C,IF(G18="D",Seuil_max_D,0)))))*$E18) | AQ18: =IF(H18="","",(IF(H18="A",Seuil_max_A,IF(H18="B",Seuil_max_B,IF(H18="C",Seuil_max_C,IF(H18="D",Seuil_max_D,0)))))*$E18) | AR18: =IF(I18="","",(IF(I18="A",Seuil_max_A,IF(I18="B",Seuil_max_B,IF(I18="C",Seuil_max_C,IF(I18="D",Seuil_max_D,0)))))*$E18) | AS18: =IF(J18="","",(IF(J18="A",Seuil_max_A,IF(J18="B",Seuil_max_B,IF(J18="C",Seuil_max_C,IF(J18="D",Seuil_max_D,0)))))*$E18) | AT18: =IF(K18="","",(IF(K18="A",Seuil_max_A,IF(K18="B",Seuil_max_B,IF(K18="C",Seuil_max_C,IF(K18="D",Seuil_max_D,0)))))*$E18) | AU18: =IF(L18="","",(IF(L18="A",Seuil_max_A,IF(L18="B",Seuil_max_B,IF(L18="C",Seuil_max_C,IF(L18="D",Seuil_max_D,0)))))*$E18) | AV18: =IF(M18="","",(IF(M18="A",Seuil_max_A,IF(M18="B",Seuil_max_B,IF(M18="C",Seuil_max_C,IF(M18="D",Seuil_max_D,0)))))*$E18) | AW18: =IF(N18="","",(IF(N18="A",Seuil_max_A,IF(N18="B",Seuil_max_B,IF(N18="C",Seuil_max_C,IF(N18="D",Seuil_max_D,0)))))*$E18) | ... BW18: =IF(AN18="","",(IF(AN18="A",Seuil_max_A,IF(AN18="B",Seuil_max_B,IF(AN18="C",Seuil_max_C,IF(AN18="D",Seuil_max_D,0)))))*$E18) | BX18: =IFERROR(AVERAGE(AP18:BW18),"") | BY18: =IFERROR(IF(OR($E18=0,$E18=""),"",$BX18/$E18),"")
AO19: è | AP19: =IF(G19="","",(IF(G19="A",Seuil_max_A,IF(G19="B",Seuil_max_B,IF(G19="C",Seuil_max_C,IF(G19="D",Seuil_max_D,0)))))*$E19) | AQ19: =IF(H19="","",(IF(H19="A",Seuil_max_A,IF(H19="B",Seuil_max_B,IF(H19="C",Seuil_max_C,IF(H19="D",Seuil_max_D,0)))))*$E19) | AR19: =IF(I19="","",(IF(I19="A",Seuil_max_A,IF(I19="B",Seuil_max_B,IF(I19="C",Seuil_max_C,IF(I19="D",Seuil_max_D,0)))))*$E19) | AS19: =IF(J19="","",(IF(J19="A",Seuil_max_A,IF(J19="B",Seuil_max_B,IF(J19="C",Seuil_max_C,IF(J19="D",Seuil_max_D,0)))))*$E19) | AT19: =IF(K19="","",(IF(K19="A",Seuil_max_A,IF(K19="B",Seuil_max_B,IF(K19="C",Seuil_max_C,IF(K19="D",Seuil_max_D,0)))))*$E19) | AU19: =IF(L19="","",(IF(L19="A",Seuil_max_A,IF(L19="B",Seuil_max_B,IF(L19="C",Seuil_max_C,IF(L19="D",Seuil_max_D,0)))))*$E19) | AV19: =IF(M19="","",(IF(M19="A",Seuil_max_A,IF(M19="B",Seuil_max_B,IF(M19="C",Seuil_max_C,IF(M19="D",Seuil_max_D,0)))))*$E19) | AW19: =IF(N19="","",(IF(N19="A",Seuil_max_A,IF(N19="B",Seuil_max_B,IF(N19="C",Seuil_max_C,IF(N19="D",Seuil_max_D,0)))))*$E19) | ... BW19: =IF(AN19="","",(IF(AN19="A",Seuil_max_A,IF(AN19="B",Seuil_max_B,IF(AN19="C",Seuil_max_C,IF(AN19="D",Seuil_max_D,0)))))*$E19) | BX19: =IFERROR(AVERAGE(AP19:BW19),"") | BY19: =IFERROR(IF(OR($E19=0,$E19=""),"",$BX19/$E19),"")
AP20: =IF(G20="","",(IF(G20="A",Seuil_max_A,IF(G20="B",Seuil_max_B,IF(G20="C",Seuil_max_C,IF(G20="D",Seuil_max_D,0)))))*$E20) | AQ20: =IF(H20="","",(IF(H20="A",Seuil_max_A,IF(H20="B",Seuil_max_B,IF(H20="C",Seuil_max_C,IF(H20="D",Seuil_max_D,0)))))*$E20) | AR20: =IF(I20="","",(IF(I20="A",Seuil_max_A,IF(I20="B",Seuil_max_B,IF(I20="C",Seuil_max_C,IF(I20="D",Seuil_max_D,0)))))*$E20) | AS20: =IF(J20="","",(IF(J20="A",Seuil_max_A,IF(J20="B",Seuil_max_B,IF(J20="C",Seuil_max_C,IF(J20="D",Seuil_max_D,0)))))*$E20) | AT20: =IF(K20="","",(IF(K20="A",Seuil_max_A,IF(K20="B",Seuil_max_B,IF(K20="C",Seuil_max_C,IF(K20="D",Seuil_max_D,0)))))*$E20) | AU20: =IF(L20="","",(IF(L20="A",Seuil_max_A,IF(L20="B",Seuil_max_B,IF(L20="C",Seuil_max_C,IF(L20="D",Seuil_max_D,0)))))*$E20) | AV20: =IF(M20="","",(IF(M20="A",Seuil_max_A,IF(M20="B",Seuil_max_B,IF(M20="C",Seuil_max_C,IF(M20="D",Seuil_max_D,0)))))*$E20) | AW20: =IF(N20="","",(IF(N20="A",Seuil_max_A,IF(N20="B",Seuil_max_B,IF(N20="C",Seuil_max_C,IF(N20="D",Seuil_max_D,0)))))*$E20) | ... BW20: =IF(AN20="","",(IF(AN20="A",Seuil_max_A,IF(AN20="B",Seuil_max_B,IF(AN20="C",Seuil_max_C,IF(AN20="D",Seuil_max_D,0)))))*$E20) | BX20: =IFERROR(AVERAGE(AP20:BW20),"") | BY20: =IFERROR(IF(OR($E20=0,$E20=""),"",$BX20/$E20),"")
AP21: =IF(G21="","",(IF(G21="A",Seuil_max_A,IF(G21="B",Seuil_max_B,IF(G21="C",Seuil_max_C,IF(G21="D",Seuil_max_D,0)))))*$E21) | AQ21: =IF(H21="","",(IF(H21="A",Seuil_max_A,IF(H21="B",Seuil_max_B,IF(H21="C",Seuil_max_C,IF(H21="D",Seuil_max_D,0)))))*$E21) | AR21: =IF(I21="","",(IF(I21="A",Seuil_max_A,IF(I21="B",Seuil_max_B,IF(I21="C",Seuil_max_C,IF(I21="D",Seuil_max_D,0)))))*$E21) | AS21: =IF(J21="","",(IF(J21="A",Seuil_max_A,IF(J21="B",Seuil_max_B,IF(J21="C",Seuil_max_C,IF(J21="D",Seuil_max_D,0)))))*$E21) | AT21: =IF(K21="","",(IF(K21="A",Seuil_max_A,IF(K21="B",Seuil_max_B,IF(K21="C",Seuil_max_C,IF(K21="D",Seuil_max_D,0)))))*$E21) | AU21: =IF(L21="","",(IF(L21="A",Seuil_max_A,IF(L21="B",Seuil_max_B,IF(L21="C",Seuil_max_C,IF(L21="D",Seuil_max_D,0)))))*$E21) | AV21: =IF(M21="","",(IF(M21="A",Seuil_max_A,IF(M21="B",Seuil_max_B,IF(M21="C",Seuil_max_C,IF(M21="D",Seuil_max_D,0)))))*$E21) | AW21: =IF(N21="","",(IF(N21="A",Seuil_max_A,IF(N21="B",Seuil_max_B,IF(N21="C",Seuil_max_C,IF(N21="D",Seuil_max_D,0)))))*$E21) | ... BW21: =IF(AN21="","",(IF(AN21="A",Seuil_max_A,IF(AN21="B",Seuil_max_B,IF(AN21="C",Seuil_max_C,IF(AN21="D",Seuil_max_D,0)))))*$E21) | BX21: =IFERROR(AVERAGE(AP21:BW21),"") | BY21: =IFERROR(IF(OR($E21=0,$E21=""),"",$BX21/$E21),"")
AP22: =IF(G22="","",(IF(G22="A",Seuil_max_A,IF(G22="B",Seuil_max_B,IF(G22="C",Seuil_max_C,IF(G22="D",Seuil_max_D,0)))))*$E22) | AQ22: =IF(H22="","",(IF(H22="A",Seuil_max_A,IF(H22="B",Seuil_max_B,IF(H22="C",Seuil_max_C,IF(H22="D",Seuil_max_D,0)))))*$E22) | AR22: =IF(I22="","",(IF(I22="A",Seuil_max_A,IF(I22="B",Seuil_max_B,IF(I22="C",Seuil_max_C,IF(I22="D",Seuil_max_D,0)))))*$E22) | AS22: =IF(J22="","",(IF(J22="A",Seuil_max_A,IF(J22="B",Seuil_max_B,IF(J22="C",Seuil_max_C,IF(J22="D",Seuil_max_D,0)))))*$E22) | AT22: =IF(K22="","",(IF(K22="A",Seuil_max_A,IF(K22="B",Seuil_max_B,IF(K22="C",Seuil_max_C,IF(K22="D",Seuil_max_D,0)))))*$E22) | AU22: =IF(L22="","",(IF(L22="A",Seuil_max_A,IF(L22="B",Seuil_max_B,IF(L22="C",Seuil_max_C,IF(L22="D",Seuil_max_D,0)))))*$E22) | AV22: =IF(M22="","",(IF(M22="A",Seuil_max_A,IF(M22="B",Seuil_max_B,IF(M22="C",Seuil_max_C,IF(M22="D",Seuil_max_D,0)))))*$E22) | AW22: =IF(N22="","",(IF(N22="A",Seuil_max_A,IF(N22="B",Seuil_max_B,IF(N22="C",Seuil_max_C,IF(N22="D",Seuil_max_D,0)))))*$E22) | ... BW22: =IF(AN22="","",(IF(AN22="A",Seuil_max_A,IF(AN22="B",Seuil_max_B,IF(AN22="C",Seuil_max_C,IF(AN22="D",Seuil_max_D,0)))))*$E22) | BX22: =IFERROR(AVERAGE(AP22:BW22),"") | BY22: =IFERROR(IF(OR($E22=0,$E22=""),"",$BX22/$E22),"")
AP23: =IF(G23="","",(IF(G23="A",Seuil_max_A,IF(G23="B",Seuil_max_B,IF(G23="C",Seuil_max_C,IF(G23="D",Seuil_max_D,0)))))*$E23) | AQ23: =IF(H23="","",(IF(H23="A",Seuil_max_A,IF(H23="B",Seuil_max_B,IF(H23="C",Seuil_max_C,IF(H23="D",Seuil_max_D,0)))))*$E23) | AR23: =IF(I23="","",(IF(I23="A",Seuil_max_A,IF(I23="B",Seuil_max_B,IF(I23="C",Seuil_max_C,IF(I23="D",Seuil_max_D,0)))))*$E23) | AS23: =IF(J23="","",(IF(J23="A",Seuil_max_A,IF(J23="B",Seuil_max_B,IF(J23="C",Seuil_max_C,IF(J23="D",Seuil_max_D,0)))))*$E23) | AT23: =IF(K23="","",(IF(K23="A",Seuil_max_A,IF(K23="B",Seuil_max_B,IF(K23="C",Seuil_max_C,IF(K23="D",Seuil_max_D,0)))))*$E23) | AU23: =IF(L23="","",(IF(L23="A",Seuil_max_A,IF(L23="B",Seuil_max_B,IF(L23="C",Seuil_max_C,IF(L23="D",Seuil_max_D,0)))))*$E23) | AV23: =IF(M23="","",(IF(M23="A",Seuil_max_A,IF(M23="B",Seuil_max_B,IF(M23="C",Seuil_max_C,IF(M23="D",Seuil_max_D,0)))))*$E23) | AW23: =IF(N23="","",(IF(N23="A",Seuil_max_A,IF(N23="B",Seuil_max_B,IF(N23="C",Seuil_max_C,IF(N23="D",Seuil_max_D,0)))))*$E23) | ... BW23: =IF(AN23="","",(IF(AN23="A",Seuil_max_A,IF(AN23="B",Seuil_max_B,IF(AN23="C",Seuil_max_C,IF(AN23="D",Seuil_max_D,0)))))*$E23) | BX23: =IFERROR(AVERAGE(AP23:BW23),"") | BY23: =IFERROR(IF(OR($E23=0,$E23=""),"",$BX23/$E23),"")
AP24: =IF(G24="","",(IF(G24="A",Seuil_max_A,IF(G24="B",Seuil_max_B,IF(G24="C",Seuil_max_C,IF(G24="D",Seuil_max_D,0)))))*$E24) | AQ24: =IF(H24="","",(IF(H24="A",Seuil_max_A,IF(H24="B",Seuil_max_B,IF(H24="C",Seuil_max_C,IF(H24="D",Seuil_max_D,0)))))*$E24) | AR24: =IF(I24="","",(IF(I24="A",Seuil_max_A,IF(I24="B",Seuil_max_B,IF(I24="C",Seuil_max_C,IF(I24="D",Seuil_max_D,0)))))*$E24) | AS24: =IF(J24="","",(IF(J24="A",Seuil_max_A,IF(J24="B",Seuil_max_B,IF(J24="C",Seuil_max_C,IF(J24="D",Seuil_max_D,0)))))*$E24) | AT24: =IF(K24="","",(IF(K24="A",Seuil_max_A,IF(K24="B",Seuil_max_B,IF(K24="C",Seuil_max_C,IF(K24="D",Seuil_max_D,0)))))*$E24) | AU24: =IF(L24="","",(IF(L24="A",Seuil_max_A,IF(L24="B",Seuil_max_B,IF(L24="C",Seuil_max_C,IF(L24="D",Seuil_max_D,0)))))*$E24) | AV24: =IF(M24="","",(IF(M24="A",Seuil_max_A,IF(M24="B",Seuil_max_B,IF(M24="C",Seuil_max_C,IF(M24="D",Seuil_max_D,0)))))*$E24) | AW24: =IF(N24="","",(IF(N24="A",Seuil_max_A,IF(N24="B",Seuil_max_B,IF(N24="C",Seuil_max_C,IF(N24="D",Seuil_max_D,0)))))*$E24) | ... BW24: =IF(AN24="","",(IF(AN24="A",Seuil_max_A,IF(AN24="B",Seuil_max_B,IF(AN24="C",Seuil_max_C,IF(AN24="D",Seuil_max_D,0)))))*$E24) | BX24: =IFERROR(AVERAGE(AP24:BW24),"") | BY24: =IFERROR(IF(OR($E24=0,$E24=""),"",$BX24/$E24),"")
AP25: =IF(G25="","",(IF(G25="A",Seuil_max_A,IF(G25="B",Seuil_max_B,IF(G25="C",Seuil_max_C,IF(G25="D",Seuil_max_D,0)))))*$E25) | AQ25: =IF(H25="","",(IF(H25="A",Seuil_max_A,IF(H25="B",Seuil_max_B,IF(H25="C",Seuil_max_C,IF(H25="D",Seuil_max_D,0)))))*$E25) | AR25: =IF(I25="","",(IF(I25="A",Seuil_max_A,IF(I25="B",Seuil_max_B,IF(I25="C",Seuil_max_C,IF(I25="D",Seuil_max_D,0)))))*$E25) | AS25: =IF(J25="","",(IF(J25="A",Seuil_max_A,IF(J25="B",Seuil_max_B,IF(J25="C",Seuil_max_C,IF(J25="D",Seuil_max_D,0)))))*$E25) | AT25: =IF(K25="","",(IF(K25="A",Seuil_max_A,IF(K25="B",Seuil_max_B,IF(K25="C",Seuil_max_C,IF(K25="D",Seuil_max_D,0)))))*$E25) | AU25: =IF(L25="","",(IF(L25="A",Seuil_max_A,IF(L25="B",Seuil_max_B,IF(L25="C",Seuil_max_C,IF(L25="D",Seuil_max_D,0)))))*$E25) | AV25: =IF(M25="","",(IF(M25="A",Seuil_max_A,IF(M25="B",Seuil_max_B,IF(M25="C",Seuil_max_C,IF(M25="D",Seuil_max_D,0)))))*$E25) | AW25: =IF(N25="","",(IF(N25="A",Seuil_max_A,IF(N25="B",Seuil_max_B,IF(N25="C",Seuil_max_C,IF(N25="D",Seuil_max_D,0)))))*$E25) | ... BW25: =IF(AN25="","",(IF(AN25="A",Seuil_max_A,IF(AN25="B",Seuil_max_B,IF(AN25="C",Seuil_max_C,IF(AN25="D",Seuil_max_D,0)))))*$E25) | BX25: =IFERROR(AVERAGE(AP25:BW25),"") | BY25: =IFERROR(IF(OR($E25=0,$E25=""),"",$BX25/$E25),"")
AP26: =IF(G26="","",(IF(G26="A",Seuil_max_A,IF(G26="B",Seuil_max_B,IF(G26="C",Seuil_max_C,IF(G26="D",Seuil_max_D,0)))))*$E26) | AQ26: =IF(H26="","",(IF(H26="A",Seuil_max_A,IF(H26="B",Seuil_max_B,IF(H26="C",Seuil_max_C,IF(H26="D",Seuil_max_D,0)))))*$E26) | AR26: =IF(I26="","",(IF(I26="A",Seuil_max_A,IF(I26="B",Seuil_max_B,IF(I26="C",Seuil_max_C,IF(I26="D",Seuil_max_D,0)))))*$E26) | AS26: =IF(J26="","",(IF(J26="A",Seuil_max_A,IF(J26="B",Seuil_max_B,IF(J26="C",Seuil_max_C,IF(J26="D",Seuil_max_D,0)))))*$E26) | AT26: =IF(K26="","",(IF(K26="A",Seuil_max_A,IF(K26="B",Seuil_max_B,IF(K26="C",Seuil_max_C,IF(K26="D",Seuil_max_D,0)))))*$E26) | AU26: =IF(L26="","",(IF(L26="A",Seuil_max_A,IF(L26="B",Seuil_max_B,IF(L26="C",Seuil_max_C,IF(L26="D",Seuil_max_D,0)))))*$E26) | AV26: =IF(M26="","",(IF(M26="A",Seuil_max_A,IF(M26="B",Seuil_max_B,IF(M26="C",Seuil_max_C,IF(M26="D",Seuil_max_D,0)))))*$E26) | AW26: =IF(N26="","",(IF(N26="A",Seuil_max_A,IF(N26="B",Seuil_max_B,IF(N26="C",Seuil_max_C,IF(N26="D",Seuil_max_D,0)))))*$E26) | ... BW26: =IF(AN26="","",(IF(AN26="A",Seuil_max_A,IF(AN26="B",Seuil_max_B,IF(AN26="C",Seuil_max_C,IF(AN26="D",Seuil_max_D,0)))))*$E26) | BX26: =IFERROR(AVERAGE(AP26:BW26),"") | BY26: =IFERROR(IF(OR($E26=0,$E26=""),"",$BX26/$E26),"")
AO27: è | AP27: =IF(G27="","",(IF(G27="A",Seuil_max_A,IF(G27="B",Seuil_max_B,IF(G27="C",Seuil_max_C,IF(G27="D",Seuil_max_D,0)))))*$E27) | AQ27: =IF(H27="","",(IF(H27="A",Seuil_max_A,IF(H27="B",Seuil_max_B,IF(H27="C",Seuil_max_C,IF(H27="D",Seuil_max_D,0)))))*$E27) | AR27: =IF(I27="","",(IF(I27="A",Seuil_max_A,IF(I27="B",Seuil_max_B,IF(I27="C",Seuil_max_C,IF(I27="D",Seuil_max_D,0)))))*$E27) | AS27: =IF(J27="","",(IF(J27="A",Seuil_max_A,IF(J27="B",Seuil_max_B,IF(J27="C",Seuil_max_C,IF(J27="D",Seuil_max_D,0)))))*$E27) | AT27: =IF(K27="","",(IF(K27="A",Seuil_max_A,IF(K27="B",Seuil_max_B,IF(K27="C",Seuil_max_C,IF(K27="D",Seuil_max_D,0)))))*$E27) | AU27: =IF(L27="","",(IF(L27="A",Seuil_max_A,IF(L27="B",Seuil_max_B,IF(L27="C",Seuil_max_C,IF(L27="D",Seuil_max_D,0)))))*$E27) | AV27: =IF(M27="","",(IF(M27="A",Seuil_max_A,IF(M27="B",Seuil_max_B,IF(M27="C",Seuil_max_C,IF(M27="D",Seuil_max_D,0)))))*$E27) | AW27: =IF(N27="","",(IF(N27="A",Seuil_max_A,IF(N27="B",Seuil_max_B,IF(N27="C",Seuil_max_C,IF(N27="D",Seuil_max_D,0)))))*$E27) | ... BW27: =IF(AN27="","",(IF(AN27="A",Seuil_max_A,IF(AN27="B",Seuil_max_B,IF(AN27="C",Seuil_max_C,IF(AN27="D",Seuil_max_D,0)))))*$E27) | BX27: =IFERROR(AVERAGE(AP27:BW27),"") | BY27: =IFERROR(IF(OR($E27=0,$E27=""),"",$BX27/$E27),"")
AP28: =IF(G28="","",(IF(G28="A",Seuil_max_A,IF(G28="B",Seuil_max_B,IF(G28="C",Seuil_max_C,IF(G28="D",Seuil_max_D,0)))))*$E28) | AQ28: =IF(H28="","",(IF(H28="A",Seuil_max_A,IF(H28="B",Seuil_max_B,IF(H28="C",Seuil_max_C,IF(H28="D",Seuil_max_D,0)))))*$E28) | AR28: =IF(I28="","",(IF(I28="A",Seuil_max_A,IF(I28="B",Seuil_max_B,IF(I28="C",Seuil_max_C,IF(I28="D",Seuil_max_D,0)))))*$E28) | AS28: =IF(J28="","",(IF(J28="A",Seuil_max_A,IF(J28="B",Seuil_max_B,IF(J28="C",Seuil_max_C,IF(J28="D",Seuil_max_D,0)))))*$E28) | AT28: =IF(K28="","",(IF(K28="A",Seuil_max_A,IF(K28="B",Seuil_max_B,IF(K28="C",Seuil_max_C,IF(K28="D",Seuil_max_D,0)))))*$E28) | AU28: =IF(L28="","",(IF(L28="A",Seuil_max_A,IF(L28="B",Seuil_max_B,IF(L28="C",Seuil_max_C,IF(L28="D",Seuil_max_D,0)))))*$E28) | AV28: =IF(M28="","",(IF(M28="A",Seuil_max_A,IF(M28="B",Seuil_max_B,IF(M28="C",Seuil_max_C,IF(M28="D",Seuil_max_D,0)))))*$E28) | AW28: =IF(N28="","",(IF(N28="A",Seuil_max_A,IF(N28="B",Seuil_max_B,IF(N28="C",Seuil_max_C,IF(N28="D",Seuil_max_D,0)))))*$E28) | ... BW28: =IF(AN28="","",(IF(AN28="A",Seuil_max_A,IF(AN28="B",Seuil_max_B,IF(AN28="C",Seuil_max_C,IF(AN28="D",Seuil_max_D,0)))))*$E28) | BX28: =IFERROR(AVERAGE(AP28:BW28),"") | BY28: =IFERROR(IF(OR($E28=0,$E28=""),"",$BX28/$E28),"")
AP29: =IF(G29="","",(IF(G29="A",Seuil_max_A,IF(G29="B",Seuil_max_B,IF(G29="C",Seuil_max_C,IF(G29="D",Seuil_max_D,0)))))*$E29) | AQ29: =IF(H29="","",(IF(H29="A",Seuil_max_A,IF(H29="B",Seuil_max_B,IF(H29="C",Seuil_max_C,IF(H29="D",Seuil_max_D,0)))))*$E29) | AR29: =IF(I29="","",(IF(I29="A",Seuil_max_A,IF(I29="B",Seuil_max_B,IF(I29="C",Seuil_max_C,IF(I29="D",Seuil_max_D,0)))))*$E29) | AS29: =IF(J29="","",(IF(J29="A",Seuil_max_A,IF(J29="B",Seuil_max_B,IF(J29="C",Seuil_max_C,IF(J29="D",Seuil_max_D,0)))))*$E29) | AT29: =IF(K29="","",(IF(K29="A",Seuil_max_A,IF(K29="B",Seuil_max_B,IF(K29="C",Seuil_max_C,IF(K29="D",Seuil_max_D,0)))))*$E29) | AU29: =IF(L29="","",(IF(L29="A",Seuil_max_A,IF(L29="B",Seuil_max_B,IF(L29="C",Seuil_max_C,IF(L29="D",Seuil_max_D,0)))))*$E29) | AV29: =IF(M29="","",(IF(M29="A",Seuil_max_A,IF(M29="B",Seuil_max_B,IF(M29="C",Seuil_max_C,IF(M29="D",Seuil_max_D,0)))))*$E29) | AW29: =IF(N29="","",(IF(N29="A",Seuil_max_A,IF(N29="B",Seuil_max_B,IF(N29="C",Seuil_max_C,IF(N29="D",Seuil_max_D,0)))))*$E29) | ... BW29: =IF(AN29="","",(IF(AN29="A",Seuil_max_A,IF(AN29="B",Seuil_max_B,IF(AN29="C",Seuil_max_C,IF(AN29="D",Seuil_max_D,0)))))*$E29) | BX29: =IFERROR(AVERAGE(AP29:BW29),"") | BY29: =IFERROR(IF(OR($E29=0,$E29=""),"",$BX29/$E29),"")
AP30: =IF(G30="","",(IF(G30="A",Seuil_max_A,IF(G30="B",Seuil_max_B,IF(G30="C",Seuil_max_C,IF(G30="D",Seuil_max_D,0)))))*$E30) | AQ30: =IF(H30="","",(IF(H30="A",Seuil_max_A,IF(H30="B",Seuil_max_B,IF(H30="C",Seuil_max_C,IF(H30="D",Seuil_max_D,0)))))*$E30) | AR30: =IF(I30="","",(IF(I30="A",Seuil_max_A,IF(I30="B",Seuil_max_B,IF(I30="C",Seuil_max_C,IF(I30="D",Seuil_max_D,0)))))*$E30) | AS30: =IF(J30="","",(IF(J30="A",Seuil_max_A,IF(J30="B",Seuil_max_B,IF(J30="C",Seuil_max_C,IF(J30="D",Seuil_max_D,0)))))*$E30) | AT30: =IF(K30="","",(IF(K30="A",Seuil_max_A,IF(K30="B",Seuil_max_B,IF(K30="C",Seuil_max_C,IF(K30="D",Seuil_max_D,0)))))*$E30) | AU30: =IF(L30="","",(IF(L30="A",Seuil_max_A,IF(L30="B",Seuil_max_B,IF(L30="C",Seuil_max_C,IF(L30="D",Seuil_max_D,0)))))*$E30) | AV30: =IF(M30="","",(IF(M30="A",Seuil_max_A,IF(M30="B",Seuil_max_B,IF(M30="C",Seuil_max_C,IF(M30="D",Seuil_max_D,0)))))*$E30) | AW30: =IF(N30="","",(IF(N30="A",Seuil_max_A,IF(N30="B",Seuil_max_B,IF(N30="C",Seuil_max_C,IF(N30="D",Seuil_max_D,0)))))*$E30) | ... BW30: =IF(AN30="","",(IF(AN30="A",Seuil_max_A,IF(AN30="B",Seuil_max_B,IF(AN30="C",Seuil_max_C,IF(AN30="D",Seuil_max_D,0)))))*$E30) | BX30: =IFERROR(AVERAGE(AP30:BW30),"") | BY30: =IFERROR(IF(OR($E30=0,$E30=""),"",$BX30/$E30),"")
AP31: =IF(G31="","",(IF(G31="A",Seuil_max_A,IF(G31="B",Seuil_max_B,IF(G31="C",Seuil_max_C,IF(G31="D",Seuil_max_D,0)))))*$E31) | AQ31: =IF(H31="","",(IF(H31="A",Seuil_max_A,IF(H31="B",Seuil_max_B,IF(H31="C",Seuil_max_C,IF(H31="D",Seuil_max_D,0)))))*$E31) | AR31: =IF(I31="","",(IF(I31="A",Seuil_max_A,IF(I31="B",Seuil_max_B,IF(I31="C",Seuil_max_C,IF(I31="D",Seuil_max_D,0)))))*$E31) | AS31: =IF(J31="","",(IF(J31="A",Seuil_max_A,IF(J31="B",Seuil_max_B,IF(J31="C",Seuil_max_C,IF(J31="D",Seuil_max_D,0)))))*$E31) | AT31: =IF(K31="","",(IF(K31="A",Seuil_max_A,IF(K31="B",Seuil_max_B,IF(K31="C",Seuil_max_C,IF(K31="D",Seuil_max_D,0)))))*$E31) | AU31: =IF(L31="","",(IF(L31="A",Seuil_max_A,IF(L31="B",Seuil_max_B,IF(L31="C",Seuil_max_C,IF(L31="D",Seuil_max_D,0)))))*$E31) | AV31: =IF(M31="","",(IF(M31="A",Seuil_max_A,IF(M31="B",Seuil_max_B,IF(M31="C",Seuil_max_C,IF(M31="D",Seuil_max_D,0)))))*$E31) | AW31: =IF(N31="","",(IF(N31="A",Seuil_max_A,IF(N31="B",Seuil_max_B,IF(N31="C",Seuil_max_C,IF(N31="D",Seuil_max_D,0)))))*$E31) | ... BW31: =IF(AN31="","",(IF(AN31="A",Seuil_max_A,IF(AN31="B",Seuil_max_B,IF(AN31="C",Seuil_max_C,IF(AN31="D",Seuil_max_D,0)))))*$E31) | BX31: =IFERROR(AVERAGE(AP31:BW31),"") | BY31: =IFERROR(IF(OR($E31=0,$E31=""),"",$BX31/$E31),"")
AP32: =IF(G32="","",(IF(G32="A",Seuil_max_A,IF(G32="B",Seuil_max_B,IF(G32="C",Seuil_max_C,IF(G32="D",Seuil_max_D,0)))))*$E32) | AQ32: =IF(H32="","",(IF(H32="A",Seuil_max_A,IF(H32="B",Seuil_max_B,IF(H32="C",Seuil_max_C,IF(H32="D",Seuil_max_D,0)))))*$E32) | AR32: =IF(I32="","",(IF(I32="A",Seuil_max_A,IF(I32="B",Seuil_max_B,IF(I32="C",Seuil_max_C,IF(I32="D",Seuil_max_D,0)))))*$E32) | AS32: =IF(J32="","",(IF(J32="A",Seuil_max_A,IF(J32="B",Seuil_max_B,IF(J32="C",Seuil_max_C,IF(J32="D",Seuil_max_D,0)))))*$E32) | AT32: =IF(K32="","",(IF(K32="A",Seuil_max_A,IF(K32="B",Seuil_max_B,IF(K32="C",Seuil_max_C,IF(K32="D",Seuil_max_D,0)))))*$E32) | AU32: =IF(L32="","",(IF(L32="A",Seuil_max_A,IF(L32="B",Seuil_max_B,IF(L32="C",Seuil_max_C,IF(L32="D",Seuil_max_D,0)))))*$E32) | AV32: =IF(M32="","",(IF(M32="A",Seuil_max_A,IF(M32="B",Seuil_max_B,IF(M32="C",Seuil_max_C,IF(M32="D",Seuil_max_D,0)))))*$E32) | AW32: =IF(N32="","",(IF(N32="A",Seuil_max_A,IF(N32="B",Seuil_max_B,IF(N32="C",Seuil_max_C,IF(N32="D",Seuil_max_D,0)))))*$E32) | ... BW32: =IF(AN32="","",(IF(AN32="A",Seuil_max_A,IF(AN32="B",Seuil_max_B,IF(AN32="C",Seuil_max_C,IF(AN32="D",Seuil_max_D,0)))))*$E32) | BX32: =IFERROR(AVERAGE(AP32:BW32),"") | BY32: =IFERROR(IF(OR($E32=0,$E32=""),"",$BX32/$E32),"")
AP33: =IF(G33="","",(IF(G33="A",Seuil_max_A,IF(G33="B",Seuil_max_B,IF(G33="C",Seuil_max_C,IF(G33="D",Seuil_max_D,0)))))*$E33) | AQ33: =IF(H33="","",(IF(H33="A",Seuil_max_A,IF(H33="B",Seuil_max_B,IF(H33="C",Seuil_max_C,IF(H33="D",Seuil_max_D,0)))))*$E33) | AR33: =IF(I33="","",(IF(I33="A",Seuil_max_A,IF(I33="B",Seuil_max_B,IF(I33="C",Seuil_max_C,IF(I33="D",Seuil_max_D,0)))))*$E33) | AS33: =IF(J33="","",(IF(J33="A",Seuil_max_A,IF(J33="B",Seuil_max_B,IF(J33="C",Seuil_max_C,IF(J33="D",Seuil_max_D,0)))))*$E33) | AT33: =IF(K33="","",(IF(K33="A",Seuil_max_A,IF(K33="B",Seuil_max_B,IF(K33="C",Seuil_max_C,IF(K33="D",Seuil_max_D,0)))))*$E33) | AU33: =IF(L33="","",(IF(L33="A",Seuil_max_A,IF(L33="B",Seuil_max_B,IF(L33="C",Seuil_max_C,IF(L33="D",Seuil_max_D,0)))))*$E33) | AV33: =IF(M33="","",(IF(M33="A",Seuil_max_A,IF(M33="B",Seuil_max_B,IF(M33="C",Seuil_max_C,IF(M33="D",Seuil_max_D,0)))))*$E33) | AW33: =IF(N33="","",(IF(N33="A",Seuil_max_A,IF(N33="B",Seuil_max_B,IF(N33="C",Seuil_max_C,IF(N33="D",Seuil_max_D,0)))))*$E33) | ... BW33: =IF(AN33="","",(IF(AN33="A",Seuil_max_A,IF(AN33="B",Seuil_max_B,IF(AN33="C",Seuil_max_C,IF(AN33="D",Seuil_max_D,0)))))*$E33) | BX33: =IFERROR(AVERAGE(AP33:BW33),"") | BY33: =IFERROR(IF(OR($E33=0,$E33=""),"",$BX33/$E33),"")
AP34: =IF(G34="","",(IF(G34="A",Seuil_max_A,IF(G34="B",Seuil_max_B,IF(G34="C",Seuil_max_C,IF(G34="D",Seuil_max_D,0)))))*$E34) | AQ34: =IF(H34="","",(IF(H34="A",Seuil_max_A,IF(H34="B",Seuil_max_B,IF(H34="C",Seuil_max_C,IF(H34="D",Seuil_max_D,0)))))*$E34) | AR34: =IF(I34="","",(IF(I34="A",Seuil_max_A,IF(I34="B",Seuil_max_B,IF(I34="C",Seuil_max_C,IF(I34="D",Seuil_max_D,0)))))*$E34) | AS34: =IF(J34="","",(IF(J34="A",Seuil_max_A,IF(J34="B",Seuil_max_B,IF(J34="C",Seuil_max_C,IF(J34="D",Seuil_max_D,0)))))*$E34) | AT34: =IF(K34="","",(IF(K34="A",Seuil_max_A,IF(K34="B",Seuil_max_B,IF(K34="C",Seuil_max_C,IF(K34="D",Seuil_max_D,0)))))*$E34) | AU34: =IF(L34="","",(IF(L34="A",Seuil_max_A,IF(L34="B",Seuil_max_B,IF(L34="C",Seuil_max_C,IF(L34="D",Seuil_max_D,0)))))*$E34) | AV34: =IF(M34="","",(IF(M34="A",Seuil_max_A,IF(M34="B",Seuil_max_B,IF(M34="C",Seuil_max_C,IF(M34="D",Seuil_max_D,0)))))*$E34) | AW34: =IF(N34="","",(IF(N34="A",Seuil_max_A,IF(N34="B",Seuil_max_B,IF(N34="C",Seuil_max_C,IF(N34="D",Seuil_max_D,0)))))*$E34) | ... BW34: =IF(AN34="","",(IF(AN34="A",Seuil_max_A,IF(AN34="B",Seuil_max_B,IF(AN34="C",Seuil_max_C,IF(AN34="D",Seuil_max_D,0)))))*$E34) | BX34: =IFERROR(AVERAGE(AP34:BW34),"") | BY34: =IFERROR(IF(OR($E34=0,$E34=""),"",$BX34/$E34),"")
AP35: =IF(G35="","",(IF(G35="A",Seuil_max_A,IF(G35="B",Seuil_max_B,IF(G35="C",Seuil_max_C,IF(G35="D",Seuil_max_D,0)))))*$E35) | AQ35: =IF(H35="","",(IF(H35="A",Seuil_max_A,IF(H35="B",Seuil_max_B,IF(H35="C",Seuil_max_C,IF(H35="D",Seuil_max_D,0)))))*$E35) | AR35: =IF(I35="","",(IF(I35="A",Seuil_max_A,IF(I35="B",Seuil_max_B,IF(I35="C",Seuil_max_C,IF(I35="D",Seuil_max_D,0)))))*$E35) | AS35: =IF(J35="","",(IF(J35="A",Seuil_max_A,IF(J35="B",Seuil_max_B,IF(J35="C",Seuil_max_C,IF(J35="D",Seuil_max_D,0)))))*$E35) | AT35: =IF(K35="","",(IF(K35="A",Seuil_max_A,IF(K35="B",Seuil_max_B,IF(K35="C",Seuil_max_C,IF(K35="D",Seuil_max_D,0)))))*$E35) | AU35: =IF(L35="","",(IF(L35="A",Seuil_max_A,IF(L35="B",Seuil_max_B,IF(L35="C",Seuil_max_C,IF(L35="D",Seuil_max_D,0)))))*$E35) | AV35: =IF(M35="","",(IF(M35="A",Seuil_max_A,IF(M35="B",Seuil_max_B,IF(M35="C",Seuil_max_C,IF(M35="D",Seuil_max_D,0)))))*$E35) | AW35: =IF(N35="","",(IF(N35="A",Seuil_max_A,IF(N35="B",Seuil_max_B,IF(N35="C",Seuil_max_C,IF(N35="D",Seuil_max_D,0)))))*$E35) | ... BW35: =IF(AN35="","",(IF(AN35="A",Seuil_max_A,IF(AN35="B",Seuil_max_B,IF(AN35="C",Seuil_max_C,IF(AN35="D",Seuil_max_D,0)))))*$E35) | BX35: =IFERROR(AVERAGE(AP35:BW35),"") | BY35: =IFERROR(IF(OR($E35=0,$E35=""),"",$BX35/$E35),"")
AO36: è | AP36: =IF(G36="","",(IF(G36="A",Seuil_max_A,IF(G36="B",Seuil_max_B,IF(G36="C",Seuil_max_C,IF(G36="D",Seuil_max_D,0)))))*$E36) | AQ36: =IF(H36="","",(IF(H36="A",Seuil_max_A,IF(H36="B",Seuil_max_B,IF(H36="C",Seuil_max_C,IF(H36="D",Seuil_max_D,0)))))*$E36) | AR36: =IF(I36="","",(IF(I36="A",Seuil_max_A,IF(I36="B",Seuil_max_B,IF(I36="C",Seuil_max_C,IF(I36="D",Seuil_max_D,0)))))*$E36) | AS36: =IF(J36="","",(IF(J36="A",Seuil_max_A,IF(J36="B",Seuil_max_B,IF(J36="C",Seuil_max_C,IF(J36="D",Seuil_max_D,0)))))*$E36) | AT36: =IF(K36="","",(IF(K36="A",Seuil_max_A,IF(K36="B",Seuil_max_B,IF(K36="C",Seuil_max_C,IF(K36="D",Seuil_max_D,0)))))*$E36) | AU36: =IF(L36="","",(IF(L36="A",Seuil_max_A,IF(L36="B",Seuil_max_B,IF(L36="C",Seuil_max_C,IF(L36="D",Seuil_max_D,0)))))*$E36) | AV36: =IF(M36="","",(IF(M36="A",Seuil_max_A,IF(M36="B",Seuil_max_B,IF(M36="C",Seuil_max_C,IF(M36="D",Seuil_max_D,0)))))*$E36) | AW36: =IF(N36="","",(IF(N36="A",Seuil_max_A,IF(N36="B",Seuil_max_B,IF(N36="C",Seuil_max_C,IF(N36="D",Seuil_max_D,0)))))*$E36) | ... BW36: =IF(AN36="","",(IF(AN36="A",Seuil_max_A,IF(AN36="B",Seuil_max_B,IF(AN36="C",Seuil_max_C,IF(AN36="D",Seuil_max_D,0)))))*$E36) | BX36: =IFERROR(AVERAGE(AP36:BW36),"") | BY36: =IFERROR(IF(OR($E36=0,$E36=""),"",$BX36/$E36),"")
AP37: =IF(G37="","",(IF(G37="A",Seuil_max_A,IF(G37="B",Seuil_max_B,IF(G37="C",Seuil_max_C,IF(G37="D",Seuil_max_D,0)))))*$E37) | AQ37: =IF(H37="","",(IF(H37="A",Seuil_max_A,IF(H37="B",Seuil_max_B,IF(H37="C",Seuil_max_C,IF(H37="D",Seuil_max_D,0)))))*$E37) | AR37: =IF(I37="","",(IF(I37="A",Seuil_max_A,IF(I37="B",Seuil_max_B,IF(I37="C",Seuil_max_C,IF(I37="D",Seuil_max_D,0)))))*$E37) | AS37: =IF(J37="","",(IF(J37="A",Seuil_max_A,IF(J37="B",Seuil_max_B,IF(J37="C",Seuil_max_C,IF(J37="D",Seuil_max_D,0)))))*$E37) | AT37: =IF(K37="","",(IF(K37="A",Seuil_max_A,IF(K37="B",Seuil_max_B,IF(K37="C",Seuil_max_C,IF(K37="D",Seuil_max_D,0)))))*$E37) | AU37: =IF(L37="","",(IF(L37="A",Seuil_max_A,IF(L37="B",Seuil_max_B,IF(L37="C",Seuil_max_C,IF(L37="D",Seuil_max_D,0)))))*$E37) | AV37: =IF(M37="","",(IF(M37="A",Seuil_max_A,IF(M37="B",Seuil_max_B,IF(M37="C",Seuil_max_C,IF(M37="D",Seuil_max_D,0)))))*$E37) | AW37: =IF(N37="","",(IF(N37="A",Seuil_max_A,IF(N37="B",Seuil_max_B,IF(N37="C",Seuil_max_C,IF(N37="D",Seuil_max_D,0)))))*$E37) | ... BW37: =IF(AN37="","",(IF(AN37="A",Seuil_max_A,IF(AN37="B",Seuil_max_B,IF(AN37="C",Seuil_max_C,IF(AN37="D",Seuil_max_D,0)))))*$E37) | BX37: =IFERROR(AVERAGE(AP37:BW37),"") | BY37: =IFERROR(IF(OR($E37=0,$E37=""),"",$BX37/$E37),"")
AP38: =IF(G38="","",(IF(G38="A",Seuil_max_A,IF(G38="B",Seuil_max_B,IF(G38="C",Seuil_max_C,IF(G38="D",Seuil_max_D,0)))))*$E38) | AQ38: =IF(H38="","",(IF(H38="A",Seuil_max_A,IF(H38="B",Seuil_max_B,IF(H38="C",Seuil_max_C,IF(H38="D",Seuil_max_D,0)))))*$E38) | AR38: =IF(I38="","",(IF(I38="A",Seuil_max_A,IF(I38="B",Seuil_max_B,IF(I38="C",Seuil_max_C,IF(I38="D",Seuil_max_D,0)))))*$E38) | AS38: =IF(J38="","",(IF(J38="A",Seuil_max_A,IF(J38="B",Seuil_max_B,IF(J38="C",Seuil_max_C,IF(J38="D",Seuil_max_D,0)))))*$E38) | AT38: =IF(K38="","",(IF(K38="A",Seuil_max_A,IF(K38="B",Seuil_max_B,IF(K38="C",Seuil_max_C,IF(K38="D",Seuil_max_D,0)))))*$E38) | AU38: =IF(L38="","",(IF(L38="A",Seuil_max_A,IF(L38="B",Seuil_max_B,IF(L38="C",Seuil_max_C,IF(L38="D",Seuil_max_D,0)))))*$E38) | AV38: =IF(M38="","",(IF(M38="A",Seuil_max_A,IF(M38="B",Seuil_max_B,IF(M38="C",Seuil_max_C,IF(M38="D",Seuil_max_D,0)))))*$E38) | AW38: =IF(N38="","",(IF(N38="A",Seuil_max_A,IF(N38="B",Seuil_max_B,IF(N38="C",Seuil_max_C,IF(N38="D",Seuil_max_D,0)))))*$E38) | ... BW38: =IF(AN38="","",(IF(AN38="A",Seuil_max_A,IF(AN38="B",Seuil_max_B,IF(AN38="C",Seuil_max_C,IF(AN38="D",Seuil_max_D,0)))))*$E38) | BX38: =IFERROR(AVERAGE(AP38:BW38),"") | BY38: =IFERROR(IF(OR($E38=0,$E38=""),"",$BX38/$E38),"")
AP39: =IF(G39="","",(IF(G39="A",Seuil_max_A,IF(G39="B",Seuil_max_B,IF(G39="C",Seuil_max_C,IF(G39="D",Seuil_max_D,0)))))*$E39) | AQ39: =IF(H39="","",(IF(H39="A",Seuil_max_A,IF(H39="B",Seuil_max_B,IF(H39="C",Seuil_max_C,IF(H39="D",Seuil_max_D,0)))))*$E39) | AR39: =IF(I39="","",(IF(I39="A",Seuil_max_A,IF(I39="B",Seuil_max_B,IF(I39="C",Seuil_max_C,IF(I39="D",Seuil_max_D,0)))))*$E39) | AS39: =IF(J39="","",(IF(J39="A",Seuil_max_A,IF(J39="B",Seuil_max_B,IF(J39="C",Seuil_max_C,IF(J39="D",Seuil_max_D,0)))))*$E39) | AT39: =IF(K39="","",(IF(K39="A",Seuil_max_A,IF(K39="B",Seuil_max_B,IF(K39="C",Seuil_max_C,IF(K39="D",Seuil_max_D,0)))))*$E39) | AU39: =IF(L39="","",(IF(L39="A",Seuil_max_A,IF(L39="B",Seuil_max_B,IF(L39="C",Seuil_max_C,IF(L39="D",Seuil_max_D,0)))))*$E39) | AV39: =IF(M39="","",(IF(M39="A",Seuil_max_A,IF(M39="B",Seuil_max_B,IF(M39="C",Seuil_max_C,IF(M39="D",Seuil_max_D,0)))))*$E39) | AW39: =IF(N39="","",(IF(N39="A",Seuil_max_A,IF(N39="B",Seuil_max_B,IF(N39="C",Seuil_max_C,IF(N39="D",Seuil_max_D,0)))))*$E39) | ... BW39: =IF(AN39="","",(IF(AN39="A",Seuil_max_A,IF(AN39="B",Seuil_max_B,IF(AN39="C",Seuil_max_C,IF(AN39="D",Seuil_max_D,0)))))*$E39) | BX39: =IFERROR(AVERAGE(AP39:BW39),"") | BY39: =IFERROR(IF(OR($E39=0,$E39=""),"",$BX39/$E39),"")
AP40: =IF(G40="","",(IF(G40="A",Seuil_max_A,IF(G40="B",Seuil_max_B,IF(G40="C",Seuil_max_C,IF(G40="D",Seuil_max_D,0)))))*$E40) | AQ40: =IF(H40="","",(IF(H40="A",Seuil_max_A,IF(H40="B",Seuil_max_B,IF(H40="C",Seuil_max_C,IF(H40="D",Seuil_max_D,0)))))*$E40) | AR40: =IF(I40="","",(IF(I40="A",Seuil_max_A,IF(I40="B",Seuil_max_B,IF(I40="C",Seuil_max_C,IF(I40="D",Seuil_max_D,0)))))*$E40) | AS40: =IF(J40="","",(IF(J40="A",Seuil_max_A,IF(J40="B",Seuil_max_B,IF(J40="C",Seuil_max_C,IF(J40="D",Seuil_max_D,0)))))*$E40) | AT40: =IF(K40="","",(IF(K40="A",Seuil_max_A,IF(K40="B",Seuil_max_B,IF(K40="C",Seuil_max_C,IF(K40="D",Seuil_max_D,0)))))*$E40) | AU40: =IF(L40="","",(IF(L40="A",Seuil_max_A,IF(L40="B",Seuil_max_B,IF(L40="C",Seuil_max_C,IF(L40="D",Seuil_max_D,0)))))*$E40) | AV40: =IF(M40="","",(IF(M40="A",Seuil_max_A,IF(M40="B",Seuil_max_B,IF(M40="C",Seuil_max_C,IF(M40="D",Seuil_max_D,0)))))*$E40) | AW40: =IF(N40="","",(IF(N40="A",Seuil_max_A,IF(N40="B",Seuil_max_B,IF(N40="C",Seuil_max_C,IF(N40="D",Seuil_max_D,0)))))*$E40) | ... BW40: =IF(AN40="","",(IF(AN40="A",Seuil_max_A,IF(AN40="B",Seuil_max_B,IF(AN40="C",Seuil_max_C,IF(AN40="D",Seuil_max_D,0)))))*$E40) | BX40: =IFERROR(AVERAGE(AP40:BW40),"") | BY40: =IFERROR(IF(OR($E40=0,$E40=""),"",$BX40/$E40),"")
D41: Total : | E41: =SUM(E7:E40) -> 0 | F41: 🔒→ | G41: =IF(G1="","",G1) -> ABS | H41: =IF(H1="","",H1) -> X | I41: =IF(I1="","",I1) -> NR | J41: =IF(J1="","",J1) | K41: =IF(K1="","",K1) | L41: =IF(L1="","",L1) | M41: =IF(M1="","",M1) | N41: =IF(N1="","",N1) | ... AN41: =IF(AN1="","",AN1) | AO41: TOT. | AP41: =IF(G41<>"X",AP63,IF(COUNT(AP7:AP40)=0,AP63,SUM(AP7:AP40))) -> ABS | AQ41: =IF(H41<>"X",AQ63,IF(COUNT(AQ7:AQ40)=0,AQ63,SUM(AQ7:AQ40))) -> X | AR41: =IF(I41<>"X",AR63,IF(COUNT(AR7:AR40)=0,AR63,SUM(AR7:AR40))) -> NR | AS41: =IF(J41<>"X",AS63,IF(COUNT(AS7:AS40)=0,AS63,SUM(AS7:AS40))) | AT41: =IF(K41<>"X",AT63,IF(COUNT(AT7:AT40)=0,AT63,SUM(AT7:AT40))) | AU41: =IF(L41<>"X",AU63,IF(COUNT(AU7:AU40)=0,AU63,SUM(AU7:AU40))) | AV41: =IF(M41<>"X",AV63,IF(COUNT(AV7:AV40)=0,AV63,SUM(AV7:AV40))) | AW41: =IF(N41<>"X",AW63,IF(COUNT(AW7:AW40)=0,AW63,SUM(AW7:AW40))) | ... BW41: =IF(AN41<>"X",BW63,IF(COUNT(BW7:BW40)=0,BW63,SUM(BW7:BW40))) | BX41: =IFERROR(AVERAGE(AP41:BW41),"") | BY41: =IFERROR(IF(OR($E41=0,$E41=""),"",$BX41/$E41),"") | CA41: ANALYSE DU SUJET
AN42: Note sur : | AO42: 20 | AP42: =IF(COUNT(AP7:AP40)=0,AP41,IF($E$41=0,"",IF(G41<>"X","Err. !",CEILING(AP41*$AO$42/$E$41,0.25)))) -> ABS | AQ42: =IF(COUNT(AQ7:AQ40)=0,AQ41,IF($E$41=0,"",IF(H41<>"X","Err. !",CEILING(AQ41*$AO$42/$E$41,0.25)))) -> X | AR42: =IF(COUNT(AR7:AR40)=0,AR41,IF($E$41=0,"",IF(I41<>"X","Err. !",CEILING(AR41*$AO$42/$E$41,0.25)))) -> NR | AS42: =IF(COUNT(AS7:AS40)=0,AS41,IF($E$41=0,"",IF(J41<>"X","Err. !",CEILING(AS41*$AO$42/$E$41,0.25)))) | AT42: =IF(COUNT(AT7:AT40)=0,AT41,IF($E$41=0,"",IF(K41<>"X","Err. !",CEILING(AT41*$AO$42/$E$41,0.25)))) | AU42: =IF(COUNT(AU7:AU40)=0,AU41,IF($E$41=0,"",IF(L41<>"X","Err. !",CEILING(AU41*$AO$42/$E$41,0.25)))) | AV42: =IF(COUNT(AV7:AV40)=0,AV41,IF($E$41=0,"",IF(M41<>"X","Err. !",CEILING(AV41*$AO$42/$E$41,0.25)))) | AW42: =IF(COUNT(AW7:AW40)=0,AW41,IF($E$41=0,"",IF(N41<>"X","Err. !",CEILING(AW41*$AO$42/$E$41,0.25)))) | ... BW42: =IF(COUNT(BW7:BW40)=0,BW41,IF($E$41=0,"",IF(AN41<>"X","Err. !",CEILING(BW41*$AO$42/$E$41,0.25)))) | BX42: Moyenne
D43: Barème | E43: Compétence évaluée | G43: Niveau moyen dans la compétence / Note globale | AP43: Pourcentage de réussite dans la compétence | CA43: Compétence évaluée | CB43: Durée totale consacrée (en minutes) ou poids | CC43: Poids de la compétence dans l'évaluation
D44: =IF(CC44=0,"NE",$CB$44/$CB$51*20) -> #DIV/0! | E44: S'approprier | G44: =IF(AP44="NE","NE",IF(AP44>Seuil_max_B,"A",IF(AND(Seuil_max_C<AP44,AP44<=Seuil_max_B),"B",IF(AND(Seuil_max_D<AP44,AP44<=Seuil_max_C),"C",IF(AND(AP44>0,AP44<=Seuil_max_D),"D",IF(AP44=0,"E","∅")))))) -> NE | H44: =IF(AQ44="NE","NE",IF(AQ44>Seuil_max_B,"A",IF(AND(Seuil_max_C<AQ44,AQ44<=Seuil_max_B),"B",IF(AND(Seuil_max_D<AQ44,AQ44<=Seuil_max_C),"C",IF(AND(AQ44>0,AQ44<=Seuil_max_D),"D",IF(AQ44=0,"E","∅")))))) -> NE | I44: =IF(AR44="NE","NE",IF(AR44>Seuil_max_B,"A",IF(AND(Seuil_max_C<AR44,AR44<=Seuil_max_B),"B",IF(AND(Seuil_max_D<AR44,AR44<=Seuil_max_C),"C",IF(AND(AR44>0,AR44<=Seuil_max_D),"D",IF(AR44=0,"E","∅")))))) -> NE | J44: =IF(AS44="NE","NE",IF(AS44>Seuil_max_B,"A",IF(AND(Seuil_max_C<AS44,AS44<=Seuil_max_B),"B",IF(AND(Seuil_max_D<AS44,AS44<=Seuil_max_C),"C",IF(AND(AS44>0,AS44<=Seuil_max_D),"D",IF(AS44=0,"E","∅")))))) -> NE | K44: =IF(AT44="NE","NE",IF(AT44>Seuil_max_B,"A",IF(AND(Seuil_max_C<AT44,AT44<=Seuil_max_B),"B",IF(AND(Seuil_max_D<AT44,AT44<=Seuil_max_C),"C",IF(AND(AT44>0,AT44<=Seuil_max_D),"D",IF(AT44=0,"E","∅")))))) -> NE | L44: =IF(AU44="NE","NE",IF(AU44>Seuil_max_B,"A",IF(AND(Seuil_max_C<AU44,AU44<=Seuil_max_B),"B",IF(AND(Seuil_max_D<AU44,AU44<=Seuil_max_C),"C",IF(AND(AU44>0,AU44<=Seuil_max_D),"D",IF(AU44=0,"E","∅")))))) -> NE | M44: =IF(AV44="NE","NE",IF(AV44>Seuil_max_B,"A",IF(AND(Seuil_max_C<AV44,AV44<=Seuil_max_B),"B",IF(AND(Seuil_max_D<AV44,AV44<=Seuil_max_C),"C",IF(AND(AV44>0,AV44<=Seuil_max_D),"D",IF(AV44=0,"E","∅")))))) -> NE | N44: =IF(AW44="NE","NE",IF(AW44>Seuil_max_B,"A",IF(AND(Seuil_max_C<AW44,AW44<=Seuil_max_B),"B",IF(AND(Seuil_max_D<AW44,AW44<=Seuil_max_C),"C",IF(AND(AW44>0,AW44<=Seuil_max_D),"D",IF(AW44=0,"E","∅")))))) -> NE | ... AN44: =IF(BW44="NE","NE",IF(BW44>Seuil_max_B,"A",IF(AND(Seuil_max_C<BW44,BW44<=Seuil_max_B),"B",IF(AND(Seuil_max_D<BW44,BW44<=Seuil_max_C),"C",IF(AND(BW44>0,BW44<=Seuil_max_D),"D",IF(BW44=0,"E","∅")))))) -> NE | AP44: =IF($CB$44=0,"NE",(SUMIF($B$7:$B$40,"APP",AP$7:AP$40))/$CB$44) -> NE | AQ44: =IF($CB$44=0,"NE",(SUMIF($B$7:$B$40,"APP",AQ$7:AQ$40))/$CB$44) -> NE | AR44: =IF($CB$44=0,"NE",(SUMIF($B$7:$B$40,"APP",AR$7:AR$40))/$CB$44) -> NE | AS44: =IF($CB$44=0,"NE",(SUMIF($B$7:$B$40,"APP",AS$7:AS$40))/$CB$44) -> NE | AT44: =IF($CB$44=0,"NE",(SUMIF($B$7:$B$40,"APP",AT$7:AT$40))/$CB$44) -> NE | AU44: =IF($CB$44=0,"NE",(SUMIF($B$7:$B$40,"APP",AU$7:AU$40))/$CB$44) -> NE | AV44: =IF($CB$44=0,"NE",(SUMIF($B$7:$B$40,"APP",AV$7:AV$40))/$CB$44) -> NE | AW44: =IF($CB$44=0,"NE",(SUMIF($B$7:$B$40,"APP",AW$7:AW$40))/$CB$44) -> NE | ... BW44: =IF($CB$44=0,"NE",(SUMIF($B$7:$B$40,"APP",BW$7:BW$40))/$CB$44) -> NE | CA44: S'approprier | CB44: =SUMIF($B$7:$B$40,"APP",$E$7:$E$40) -> 0 | CC44: =CB44/$CB$51 -> #DIV/0!
D45: =IF(CC45=0,"NE",$CB$45/$CB$51*20) -> #DIV/0! | E45: Analyser | G45: =IF(AP45="NE","NE",IF(AP45>Seuil_max_B,"A",IF(AND(Seuil_max_C<AP45,AP45<=Seuil_max_B),"B",IF(AND(Seuil_max_D<AP45,AP45<=Seuil_max_C),"C",IF(AND(AP45>0,AP45<=Seuil_max_D),"D",IF(AP45=0,"E","∅")))))) -> NE | H45: =IF(AQ45="NE","NE",IF(AQ45>Seuil_max_B,"A",IF(AND(Seuil_max_C<AQ45,AQ45<=Seuil_max_B),"B",IF(AND(Seuil_max_D<AQ45,AQ45<=Seuil_max_C),"C",IF(AND(AQ45>0,AQ45<=Seuil_max_D),"D",IF(AQ45=0,"E","∅")))))) -> NE | I45: =IF(AR45="NE","NE",IF(AR45>Seuil_max_B,"A",IF(AND(Seuil_max_C<AR45,AR45<=Seuil_max_B),"B",IF(AND(Seuil_max_D<AR45,AR45<=Seuil_max_C),"C",IF(AND(AR45>0,AR45<=Seuil_max_D),"D",IF(AR45=0,"E","∅")))))) -> NE | J45: =IF(AS45="NE","NE",IF(AS45>Seuil_max_B,"A",IF(AND(Seuil_max_C<AS45,AS45<=Seuil_max_B),"B",IF(AND(Seuil_max_D<AS45,AS45<=Seuil_max_C),"C",IF(AND(AS45>0,AS45<=Seuil_max_D),"D",IF(AS45=0,"E","∅")))))) -> NE | K45: =IF(AT45="NE","NE",IF(AT45>Seuil_max_B,"A",IF(AND(Seuil_max_C<AT45,AT45<=Seuil_max_B),"B",IF(AND(Seuil_max_D<AT45,AT45<=Seuil_max_C),"C",IF(AND(AT45>0,AT45<=Seuil_max_D),"D",IF(AT45=0,"E","∅")))))) -> NE | L45: =IF(AU45="NE","NE",IF(AU45>Seuil_max_B,"A",IF(AND(Seuil_max_C<AU45,AU45<=Seuil_max_B),"B",IF(AND(Seuil_max_D<AU45,AU45<=Seuil_max_C),"C",IF(AND(AU45>0,AU45<=Seuil_max_D),"D",IF(AU45=0,"E","∅")))))) -> NE | M45: =IF(AV45="NE","NE",IF(AV45>Seuil_max_B,"A",IF(AND(Seuil_max_C<AV45,AV45<=Seuil_max_B),"B",IF(AND(Seuil_max_D<AV45,AV45<=Seuil_max_C),"C",IF(AND(AV45>0,AV45<=Seuil_max_D),"D",IF(AV45=0,"E","∅")))))) -> NE | N45: =IF(AW45="NE","NE",IF(AW45>Seuil_max_B,"A",IF(AND(Seuil_max_C<AW45,AW45<=Seuil_max_B),"B",IF(AND(Seuil_max_D<AW45,AW45<=Seuil_max_C),"C",IF(AND(AW45>0,AW45<=Seuil_max_D),"D",IF(AW45=0,"E","∅")))))) -> NE | ... AN45: =IF(BW45="NE","NE",IF(BW45>Seuil_max_B,"A",IF(AND(Seuil_max_C<BW45,BW45<=Seuil_max_B),"B",IF(AND(Seuil_max_D<BW45,BW45<=Seuil_max_C),"C",IF(AND(BW45>0,BW45<=Seuil_max_D),"D",IF(BW45=0,"E","∅")))))) -> NE | AP45: =IF($CB$45=0,"NE",(SUMIF($B$7:$B$40,"ANA",AP$7:AP$40))/$CB$45) -> NE | AQ45: =IF($CB$45=0,"NE",(SUMIF($B$7:$B$40,"ANA",AQ$7:AQ$40))/$CB$45) -> NE | AR45: =IF($CB$45=0,"NE",(SUMIF($B$7:$B$40,"ANA",AR$7:AR$40))/$CB$45) -> NE | AS45: =IF($CB$45=0,"NE",(SUMIF($B$7:$B$40,"ANA",AS$7:AS$40))/$CB$45) -> NE | AT45: =IF($CB$45=0,"NE",(SUMIF($B$7:$B$40,"ANA",AT$7:AT$40))/$CB$45) -> NE | AU45: =IF($CB$45=0,"NE",(SUMIF($B$7:$B$40,"ANA",AU$7:AU$40))/$CB$45) -> NE | AV45: =IF($CB$45=0,"NE",(SUMIF($B$7:$B$40,"ANA",AV$7:AV$40))/$CB$45) -> NE | AW45: =IF($CB$45=0,"NE",(SUMIF($B$7:$B$40,"ANA",AW$7:AW$40))/$CB$45) -> NE | ... BW45: =IF($CB$45=0,"NE",(SUMIF($B$7:$B$40,"ANA",BW$7:BW$40))/$CB$45) -> NE | CA45: Analyser | CB45: =SUMIF($B$7:$B$40,"ANA",$E$7:$E$40) -> 0 | CC45: =CB45/$CB$51 -> #DIV/0!
D46: =IF(CC46=0,"NE",$CB$46/$CB$51*20) -> #DIV/0! | E46: Réaliser | G46: =IF(AP46="NE","NE",IF(AP46>Seuil_max_B,"A",IF(AND(Seuil_max_C<AP46,AP46<=Seuil_max_B),"B",IF(AND(Seuil_max_D<AP46,AP46<=Seuil_max_C),"C",IF(AND(AP46>0,AP46<=Seuil_max_D),"D",IF(AP46=0,"E","∅")))))) -> NE | H46: =IF(AQ46="NE","NE",IF(AQ46>Seuil_max_B,"A",IF(AND(Seuil_max_C<AQ46,AQ46<=Seuil_max_B),"B",IF(AND(Seuil_max_D<AQ46,AQ46<=Seuil_max_C),"C",IF(AND(AQ46>0,AQ46<=Seuil_max_D),"D",IF(AQ46=0,"E","∅")))))) -> NE | I46: =IF(AR46="NE","NE",IF(AR46>Seuil_max_B,"A",IF(AND(Seuil_max_C<AR46,AR46<=Seuil_max_B),"B",IF(AND(Seuil_max_D<AR46,AR46<=Seuil_max_C),"C",IF(AND(AR46>0,AR46<=Seuil_max_D),"D",IF(AR46=0,"E","∅")))))) -> NE | J46: =IF(AS46="NE","NE",IF(AS46>Seuil_max_B,"A",IF(AND(Seuil_max_C<AS46,AS46<=Seuil_max_B),"B",IF(AND(Seuil_max_D<AS46,AS46<=Seuil_max_C),"C",IF(AND(AS46>0,AS46<=Seuil_max_D),"D",IF(AS46=0,"E","∅")))))) -> NE | K46: =IF(AT46="NE","NE",IF(AT46>Seuil_max_B,"A",IF(AND(Seuil_max_C<AT46,AT46<=Seuil_max_B),"B",IF(AND(Seuil_max_D<AT46,AT46<=Seuil_max_C),"C",IF(AND(AT46>0,AT46<=Seuil_max_D),"D",IF(AT46=0,"E","∅")))))) -> NE | L46: =IF(AU46="NE","NE",IF(AU46>Seuil_max_B,"A",IF(AND(Seuil_max_C<AU46,AU46<=Seuil_max_B),"B",IF(AND(Seuil_max_D<AU46,AU46<=Seuil_max_C),"C",IF(AND(AU46>0,AU46<=Seuil_max_D),"D",IF(AU46=0,"E","∅")))))) -> NE | M46: =IF(AV46="NE","NE",IF(AV46>Seuil_max_B,"A",IF(AND(Seuil_max_C<AV46,AV46<=Seuil_max_B),"B",IF(AND(Seuil_max_D<AV46,AV46<=Seuil_max_C),"C",IF(AND(AV46>0,AV46<=Seuil_max_D),"D",IF(AV46=0,"E","∅")))))) -> NE | N46: =IF(AW46="NE","NE",IF(AW46>Seuil_max_B,"A",IF(AND(Seuil_max_C<AW46,AW46<=Seuil_max_B),"B",IF(AND(Seuil_max_D<AW46,AW46<=Seuil_max_C),"C",IF(AND(AW46>0,AW46<=Seuil_max_D),"D",IF(AW46=0,"E","∅")))))) -> NE | ... AN46: =IF(BW46="NE","NE",IF(BW46>Seuil_max_B,"A",IF(AND(Seuil_max_C<BW46,BW46<=Seuil_max_B),"B",IF(AND(Seuil_max_D<BW46,BW46<=Seuil_max_C),"C",IF(AND(BW46>0,BW46<=Seuil_max_D),"D",IF(BW46=0,"E","∅")))))) -> NE | AP46: =IF($CB$46=0,"NE",(SUMIF($B$7:$B$40,"REA",AP$7:AP$40))/$CB$46) -> NE | AQ46: =IF($CB$46=0,"NE",(SUMIF($B$7:$B$40,"REA",AQ$7:AQ$40))/$CB$46) -> NE | AR46: =IF($CB$46=0,"NE",(SUMIF($B$7:$B$40,"REA",AR$7:AR$40))/$CB$46) -> NE | AS46: =IF($CB$46=0,"NE",(SUMIF($B$7:$B$40,"REA",AS$7:AS$40))/$CB$46) -> NE | AT46: =IF($CB$46=0,"NE",(SUMIF($B$7:$B$40,"REA",AT$7:AT$40))/$CB$46) -> NE | AU46: =IF($CB$46=0,"NE",(SUMIF($B$7:$B$40,"REA",AU$7:AU$40))/$CB$46) -> NE | AV46: =IF($CB$46=0,"NE",(SUMIF($B$7:$B$40,"REA",AV$7:AV$40))/$CB$46) -> NE | AW46: =IF($CB$46=0,"NE",(SUMIF($B$7:$B$40,"REA",AW$7:AW$40))/$CB$46) -> NE | ... BW46: =IF($CB$46=0,"NE",(SUMIF($B$7:$B$40,"REA",BW$7:BW$40))/$CB$46) -> NE | CA46: Réaliser | CB46: =SUMIF($B$7:$B$40,"REA",$E$7:$E$40) -> 0 | CC46: =CB46/$CB$51 -> #DIV/0!
D47: =IF(CC47=0,"NE",$CB$47/$CB$51*20) -> #DIV/0! | E47: Valider | G47: =IF(AP47="NE","NE",IF(AP47>Seuil_max_B,"A",IF(AND(Seuil_max_C<AP47,AP47<=Seuil_max_B),"B",IF(AND(Seuil_max_D<AP47,AP47<=Seuil_max_C),"C",IF(AND(AP47>0,AP47<=Seuil_max_D),"D",IF(AP47=0,"E","∅")))))) -> NE | H47: =IF(AQ47="NE","NE",IF(AQ47>Seuil_max_B,"A",IF(AND(Seuil_max_C<AQ47,AQ47<=Seuil_max_B),"B",IF(AND(Seuil_max_D<AQ47,AQ47<=Seuil_max_C),"C",IF(AND(AQ47>0,AQ47<=Seuil_max_D),"D",IF(AQ47=0,"E","∅")))))) -> NE | I47: =IF(AR47="NE","NE",IF(AR47>Seuil_max_B,"A",IF(AND(Seuil_max_C<AR47,AR47<=Seuil_max_B),"B",IF(AND(Seuil_max_D<AR47,AR47<=Seuil_max_C),"C",IF(AND(AR47>0,AR47<=Seuil_max_D),"D",IF(AR47=0,"E","∅")))))) -> NE | J47: =IF(AS47="NE","NE",IF(AS47>Seuil_max_B,"A",IF(AND(Seuil_max_C<AS47,AS47<=Seuil_max_B),"B",IF(AND(Seuil_max_D<AS47,AS47<=Seuil_max_C),"C",IF(AND(AS47>0,AS47<=Seuil_max_D),"D",IF(AS47=0,"E","∅")))))) -> NE | K47: =IF(AT47="NE","NE",IF(AT47>Seuil_max_B,"A",IF(AND(Seuil_max_C<AT47,AT47<=Seuil_max_B),"B",IF(AND(Seuil_max_D<AT47,AT47<=Seuil_max_C),"C",IF(AND(AT47>0,AT47<=Seuil_max_D),"D",IF(AT47=0,"E","∅")))))) -> NE | L47: =IF(AU47="NE","NE",IF(AU47>Seuil_max_B,"A",IF(AND(Seuil_max_C<AU47,AU47<=Seuil_max_B),"B",IF(AND(Seuil_max_D<AU47,AU47<=Seuil_max_C),"C",IF(AND(AU47>0,AU47<=Seuil_max_D),"D",IF(AU47=0,"E","∅")))))) -> NE | M47: =IF(AV47="NE","NE",IF(AV47>Seuil_max_B,"A",IF(AND(Seuil_max_C<AV47,AV47<=Seuil_max_B),"B",IF(AND(Seuil_max_D<AV47,AV47<=Seuil_max_C),"C",IF(AND(AV47>0,AV47<=Seuil_max_D),"D",IF(AV47=0,"E","∅")))))) -> NE | N47: =IF(AW47="NE","NE",IF(AW47>Seuil_max_B,"A",IF(AND(Seuil_max_C<AW47,AW47<=Seuil_max_B),"B",IF(AND(Seuil_max_D<AW47,AW47<=Seuil_max_C),"C",IF(AND(AW47>0,AW47<=Seuil_max_D),"D",IF(AW47=0,"E","∅")))))) -> NE | ... AN47: =IF(BW47="NE","NE",IF(BW47>Seuil_max_B,"A",IF(AND(Seuil_max_C<BW47,BW47<=Seuil_max_B),"B",IF(AND(Seuil_max_D<BW47,BW47<=Seuil_max_C),"C",IF(AND(BW47>0,BW47<=Seuil_max_D),"D",IF(BW47=0,"E","∅")))))) -> NE | AO47: ç | AP47: =IF($CB$47=0,"NE",(SUMIF($B$7:$B$40,"VAL",AP$7:AP$40))/$CB$47) -> NE | AQ47: =IF($CB$47=0,"NE",(SUMIF($B$7:$B$40,"VAL",AQ$7:AQ$40))/$CB$47) -> NE | AR47: =IF($CB$47=0,"NE",(SUMIF($B$7:$B$40,"VAL",AR$7:AR$40))/$CB$47) -> NE | AS47: =IF($CB$47=0,"NE",(SUMIF($B$7:$B$40,"VAL",AS$7:AS$40))/$CB$47) -> NE | AT47: =IF($CB$47=0,"NE",(SUMIF($B$7:$B$40,"VAL",AT$7:AT$40))/$CB$47) -> NE | AU47: =IF($CB$47=0,"NE",(SUMIF($B$7:$B$40,"VAL",AU$7:AU$40))/$CB$47) -> NE | AV47: =IF($CB$47=0,"NE",(SUMIF($B$7:$B$40,"VAL",AV$7:AV$40))/$CB$47) -> NE | AW47: =IF($CB$47=0,"NE",(SUMIF($B$7:$B$40,"VAL",AW$7:AW$40))/$CB$47) -> NE | ... BW47: =IF($CB$47=0,"NE",(SUMIF($B$7:$B$40,"VAL",BW$7:BW$40))/$CB$47) -> NE | CA47: Valider | CB47: =SUMIF($B$7:$B$40,"VAL",$E$7:$E$40) -> 0 | CC47: =CB47/$CB$51 -> #DIV/0!
D48: =IF(CC48=0,"NE",$CB$48/$CB$51*20) -> #DIV/0! | E48: Communiquer | G48: =IF(AP48="NE","NE",IF(AP48>Seuil_max_B,"A",IF(AND(Seuil_max_C<AP48,AP48<=Seuil_max_B),"B",IF(AND(Seuil_max_D<AP48,AP48<=Seuil_max_C),"C",IF(AND(AP48>0,AP48<=Seuil_max_D),"D",IF(AP48=0,"E","∅")))))) -> NE | H48: =IF(AQ48="NE","NE",IF(AQ48>Seuil_max_B,"A",IF(AND(Seuil_max_C<AQ48,AQ48<=Seuil_max_B),"B",IF(AND(Seuil_max_D<AQ48,AQ48<=Seuil_max_C),"C",IF(AND(AQ48>0,AQ48<=Seuil_max_D),"D",IF(AQ48=0,"E","∅")))))) -> NE | I48: =IF(AR48="NE","NE",IF(AR48>Seuil_max_B,"A",IF(AND(Seuil_max_C<AR48,AR48<=Seuil_max_B),"B",IF(AND(Seuil_max_D<AR48,AR48<=Seuil_max_C),"C",IF(AND(AR48>0,AR48<=Seuil_max_D),"D",IF(AR48=0,"E","∅")))))) -> NE | J48: =IF(AS48="NE","NE",IF(AS48>Seuil_max_B,"A",IF(AND(Seuil_max_C<AS48,AS48<=Seuil_max_B),"B",IF(AND(Seuil_max_D<AS48,AS48<=Seuil_max_C),"C",IF(AND(AS48>0,AS48<=Seuil_max_D),"D",IF(AS48=0,"E","∅")))))) -> NE | K48: =IF(AT48="NE","NE",IF(AT48>Seuil_max_B,"A",IF(AND(Seuil_max_C<AT48,AT48<=Seuil_max_B),"B",IF(AND(Seuil_max_D<AT48,AT48<=Seuil_max_C),"C",IF(AND(AT48>0,AT48<=Seuil_max_D),"D",IF(AT48=0,"E","∅")))))) -> NE | L48: =IF(AU48="NE","NE",IF(AU48>Seuil_max_B,"A",IF(AND(Seuil_max_C<AU48,AU48<=Seuil_max_B),"B",IF(AND(Seuil_max_D<AU48,AU48<=Seuil_max_C),"C",IF(AND(AU48>0,AU48<=Seuil_max_D),"D",IF(AU48=0,"E","∅")))))) -> NE | M48: =IF(AV48="NE","NE",IF(AV48>Seuil_max_B,"A",IF(AND(Seuil_max_C<AV48,AV48<=Seuil_max_B),"B",IF(AND(Seuil_max_D<AV48,AV48<=Seuil_max_C),"C",IF(AND(AV48>0,AV48<=Seuil_max_D),"D",IF(AV48=0,"E","∅")))))) -> NE | N48: =IF(AW48="NE","NE",IF(AW48>Seuil_max_B,"A",IF(AND(Seuil_max_C<AW48,AW48<=Seuil_max_B),"B",IF(AND(Seuil_max_D<AW48,AW48<=Seuil_max_C),"C",IF(AND(AW48>0,AW48<=Seuil_max_D),"D",IF(AW48=0,"E","∅")))))) -> NE | ... AN48: =IF(BW48="NE","NE",IF(BW48>Seuil_max_B,"A",IF(AND(Seuil_max_C<BW48,BW48<=Seuil_max_B),"B",IF(AND(Seuil_max_D<BW48,BW48<=Seuil_max_C),"C",IF(AND(BW48>0,BW48<=Seuil_max_D),"D",IF(BW48=0,"E","∅")))))) -> NE | AP48: =IF($CB$48=0,"NE",(SUMIF($B$7:$B$40,"COM",AP$7:AP$40))/$CB$48) -> NE | AQ48: =IF($CB$48=0,"NE",(SUMIF($B$7:$B$40,"COM",AQ$7:AQ$40))/$CB$48) -> NE | AR48: =IF($CB$48=0,"NE",(SUMIF($B$7:$B$40,"COM",AR$7:AR$40))/$CB$48) -> NE | AS48: =IF($CB$48=0,"NE",(SUMIF($B$7:$B$40,"COM",AS$7:AS$40))/$CB$48) -> NE | AT48: =IF($CB$48=0,"NE",(SUMIF($B$7:$B$40,"COM",AT$7:AT$40))/$CB$48) -> NE | AU48: =IF($CB$48=0,"NE",(SUMIF($B$7:$B$40,"COM",AU$7:AU$40))/$CB$48) -> NE | AV48: =IF($CB$48=0,"NE",(SUMIF($B$7:$B$40,"COM",AV$7:AV$40))/$CB$48) -> NE | AW48: =IF($CB$48=0,"NE",(SUMIF($B$7:$B$40,"COM",AW$7:AW$40))/$CB$48) -> NE | ... BW48: =IF($CB$48=0,"NE",(SUMIF($B$7:$B$40,"COM",BW$7:BW$40))/$CB$48) -> NE | CA48: Communiquer | CB48: =SUMIF($B$7:$B$40,"COM",$E$7:$E$40) -> 0 | CC48: =CB48/$CB$51 -> #DIV/0!
D49: =IF(CC49=0,"NE",$CB$49/$CB$51*20) -> #DIV/0! | E49: Être autonome, faire preuve d'initiative | G49: =IF(AP49="NE","NE",IF(AP49>Seuil_max_B,"A",IF(AND(Seuil_max_C<AP49,AP49<=Seuil_max_B),"B",IF(AND(Seuil_max_D<AP49,AP49<=Seuil_max_C),"C",IF(AND(AP49>0,AP49<=Seuil_max_D),"D",IF(AP49=0,"E","∅")))))) -> NE | H49: =IF(AQ49="NE","NE",IF(AQ49>Seuil_max_B,"A",IF(AND(Seuil_max_C<AQ49,AQ49<=Seuil_max_B),"B",IF(AND(Seuil_max_D<AQ49,AQ49<=Seuil_max_C),"C",IF(AND(AQ49>0,AQ49<=Seuil_max_D),"D",IF(AQ49=0,"E","∅")))))) -> NE | I49: =IF(AR49="NE","NE",IF(AR49>Seuil_max_B,"A",IF(AND(Seuil_max_C<AR49,AR49<=Seuil_max_B),"B",IF(AND(Seuil_max_D<AR49,AR49<=Seuil_max_C),"C",IF(AND(AR49>0,AR49<=Seuil_max_D),"D",IF(AR49=0,"E","∅")))))) -> NE | J49: =IF(AS49="NE","NE",IF(AS49>Seuil_max_B,"A",IF(AND(Seuil_max_C<AS49,AS49<=Seuil_max_B),"B",IF(AND(Seuil_max_D<AS49,AS49<=Seuil_max_C),"C",IF(AND(AS49>0,AS49<=Seuil_max_D),"D",IF(AS49=0,"E","∅")))))) -> NE | K49: =IF(AT49="NE","NE",IF(AT49>Seuil_max_B,"A",IF(AND(Seuil_max_C<AT49,AT49<=Seuil_max_B),"B",IF(AND(Seuil_max_D<AT49,AT49<=Seuil_max_C),"C",IF(AND(AT49>0,AT49<=Seuil_max_D),"D",IF(AT49=0,"E","∅")))))) -> NE | L49: =IF(AU49="NE","NE",IF(AU49>Seuil_max_B,"A",IF(AND(Seuil_max_C<AU49,AU49<=Seuil_max_B),"B",IF(AND(Seuil_max_D<AU49,AU49<=Seuil_max_C),"C",IF(AND(AU49>0,AU49<=Seuil_max_D),"D",IF(AU49=0,"E","∅")))))) -> NE | M49: =IF(AV49="NE","NE",IF(AV49>Seuil_max_B,"A",IF(AND(Seuil_max_C<AV49,AV49<=Seuil_max_B),"B",IF(AND(Seuil_max_D<AV49,AV49<=Seuil_max_C),"C",IF(AND(AV49>0,AV49<=Seuil_max_D),"D",IF(AV49=0,"E","∅")))))) -> NE | N49: =IF(AW49="NE","NE",IF(AW49>Seuil_max_B,"A",IF(AND(Seuil_max_C<AW49,AW49<=Seuil_max_B),"B",IF(AND(Seuil_max_D<AW49,AW49<=Seuil_max_C),"C",IF(AND(AW49>0,AW49<=Seuil_max_D),"D",IF(AW49=0,"E","∅")))))) -> NE | ... AN49: =IF(BW49="NE","NE",IF(BW49>Seuil_max_B,"A",IF(AND(Seuil_max_C<BW49,BW49<=Seuil_max_B),"B",IF(AND(Seuil_max_D<BW49,BW49<=Seuil_max_C),"C",IF(AND(BW49>0,BW49<=Seuil_max_D),"D",IF(BW49=0,"E","∅")))))) -> NE | AP49: =IF($CB$49=0,"NE",(SUMIF($B$7:$B$40,"AUTO",AP$7:AP$40))/$CB$49) -> NE | AQ49: =IF($CB$49=0,"NE",(SUMIF($B$7:$B$40,"AUTO",AQ$7:AQ$40))/$CB$49) -> NE | AR49: =IF($CB$49=0,"NE",(SUMIF($B$7:$B$40,"AUTO",AR$7:AR$40))/$CB$49) -> NE | AS49: =IF($CB$49=0,"NE",(SUMIF($B$7:$B$40,"AUTO",AS$7:AS$40))/$CB$49) -> NE | AT49: =IF($CB$49=0,"NE",(SUMIF($B$7:$B$40,"AUTO",AT$7:AT$40))/$CB$49) -> NE | AU49: =IF($CB$49=0,"NE",(SUMIF($B$7:$B$40,"AUTO",AU$7:AU$40))/$CB$49) -> NE | AV49: =IF($CB$49=0,"NE",(SUMIF($B$7:$B$40,"AUTO",AV$7:AV$40))/$CB$49) -> NE | AW49: =IF($CB$49=0,"NE",(SUMIF($B$7:$B$40,"AUTO",AW$7:AW$40))/$CB$49) -> NE | ... BW49: =IF($CB$49=0,"NE",(SUMIF($B$7:$B$40,"AUTO",BW$7:BW$40))/$CB$49) -> NE | CA49: Être autonome, faire preuve d'initiative | CB49: =SUMIF($B$7:$B$40,"AUTO",$E$7:$E$40) -> 0 | CC49: =CB49/$CB$51 -> #DIV/0!
D50: =IF(CC50=0,"NE",$CB$50/$CB$51*20) -> #DIV/0! | E50: Restituer des connaissances | G50: =IF(AP50="NE","NE",IF(AP50>Seuil_max_B,"A",IF(AND(Seuil_max_C<AP50,AP50<=Seuil_max_B),"B",IF(AND(Seuil_max_D<AP50,AP50<=Seuil_max_C),"C",IF(AND(AP50>0,AP50<=Seuil_max_D),"D",IF(AP50=0,"E","∅")))))) -> NE | H50: =IF(AQ50="NE","NE",IF(AQ50>Seuil_max_B,"A",IF(AND(Seuil_max_C<AQ50,AQ50<=Seuil_max_B),"B",IF(AND(Seuil_max_D<AQ50,AQ50<=Seuil_max_C),"C",IF(AND(AQ50>0,AQ50<=Seuil_max_D),"D",IF(AQ50=0,"E","∅")))))) -> NE | I50: =IF(AR50="NE","NE",IF(AR50>Seuil_max_B,"A",IF(AND(Seuil_max_C<AR50,AR50<=Seuil_max_B),"B",IF(AND(Seuil_max_D<AR50,AR50<=Seuil_max_C),"C",IF(AND(AR50>0,AR50<=Seuil_max_D),"D",IF(AR50=0,"E","∅")))))) -> NE | J50: =IF(AS50="NE","NE",IF(AS50>Seuil_max_B,"A",IF(AND(Seuil_max_C<AS50,AS50<=Seuil_max_B),"B",IF(AND(Seuil_max_D<AS50,AS50<=Seuil_max_C),"C",IF(AND(AS50>0,AS50<=Seuil_max_D),"D",IF(AS50=0,"E","∅")))))) -> NE | K50: =IF(AT50="NE","NE",IF(AT50>Seuil_max_B,"A",IF(AND(Seuil_max_C<AT50,AT50<=Seuil_max_B),"B",IF(AND(Seuil_max_D<AT50,AT50<=Seuil_max_C),"C",IF(AND(AT50>0,AT50<=Seuil_max_D),"D",IF(AT50=0,"E","∅")))))) -> NE | L50: =IF(AU50="NE","NE",IF(AU50>Seuil_max_B,"A",IF(AND(Seuil_max_C<AU50,AU50<=Seuil_max_B),"B",IF(AND(Seuil_max_D<AU50,AU50<=Seuil_max_C),"C",IF(AND(AU50>0,AU50<=Seuil_max_D),"D",IF(AU50=0,"E","∅")))))) -> NE | M50: =IF(AV50="NE","NE",IF(AV50>Seuil_max_B,"A",IF(AND(Seuil_max_C<AV50,AV50<=Seuil_max_B),"B",IF(AND(Seuil_max_D<AV50,AV50<=Seuil_max_C),"C",IF(AND(AV50>0,AV50<=Seuil_max_D),"D",IF(AV50=0,"E","∅")))))) -> NE | N50: =IF(AW50="NE","NE",IF(AW50>Seuil_max_B,"A",IF(AND(Seuil_max_C<AW50,AW50<=Seuil_max_B),"B",IF(AND(Seuil_max_D<AW50,AW50<=Seuil_max_C),"C",IF(AND(AW50>0,AW50<=Seuil_max_D),"D",IF(AW50=0,"E","∅")))))) -> NE | ... AN50: =IF(BW50="NE","NE",IF(BW50>Seuil_max_B,"A",IF(AND(Seuil_max_C<BW50,BW50<=Seuil_max_B),"B",IF(AND(Seuil_max_D<BW50,BW50<=Seuil_max_C),"C",IF(AND(BW50>0,BW50<=Seuil_max_D),"D",IF(BW50=0,"E","∅")))))) -> NE | AP50: =IF($CB$50=0,"NE",(SUMIF($B$7:$B$40,"RCO",AP$7:AP$40))/$CB$50) -> NE | AQ50: =IF($CB$50=0,"NE",(SUMIF($B$7:$B$40,"RCO",AQ$7:AQ$40))/$CB$50) -> NE | AR50: =IF($CB$50=0,"NE",(SUMIF($B$7:$B$40,"RCO",AR$7:AR$40))/$CB$50) -> NE | AS50: =IF($CB$50=0,"NE",(SUMIF($B$7:$B$40,"RCO",AS$7:AS$40))/$CB$50) -> NE | AT50: =IF($CB$50=0,"NE",(SUMIF($B$7:$B$40,"RCO",AT$7:AT$40))/$CB$50) -> NE | AU50: =IF($CB$50=0,"NE",(SUMIF($B$7:$B$40,"RCO",AU$7:AU$40))/$CB$50) -> NE | AV50: =IF($CB$50=0,"NE",(SUMIF($B$7:$B$40,"RCO",AV$7:AV$40))/$CB$50) -> NE | AW50: =IF($CB$50=0,"NE",(SUMIF($B$7:$B$40,"RCO",AW$7:AW$40))/$CB$50) -> NE | ... BW50: =IF($CB$50=0,"NE",(SUMIF($B$7:$B$40,"RCO",BW$7:BW$40))/$CB$50) -> NE | CA50: Restituer des connaissances | CB50: =SUMIF($B$7:$B$40,"RCO",$E$7:$E$40) -> 0 | CC50: =CB50/$CB$51 -> #DIV/0!
D51: =SUM(D44:D50) -> #DIV/0! | E51: Total évaluation | G51: =G62 -> 0 | H51: =H62 -> 0 | I51: =I62 -> 0 | J51: =J62 -> 0 | K51: =K62 -> 0 | L51: =L62 -> 0 | M51: =M62 -> 0 | N51: =N62 -> 0 | ... AN51: =AN62 -> 0 | CA51: Total évaluation | CB51: =SUM(CB44:CB50) -> 0 | CC51: =SUM(CC44:CC50) -> #DIV/0!
G52: ê | H52: ê | M52: ê | N52: ê | S52: ê | AN52: ê | AP52: ê | AQ52: ê | AZ52: ê | BA52: ê | BB52: ê | BC52: ê | BL52: ê | BW52: ê | CN52: Attention : Valeurs à transposer dans la feuille d'export pour le publipostage. Ne copier que les valeurs dans ce qui est encadré !
CD53: À copier directement pour le publipostage dans la feuille d'Export. | CO53: 1 | CP53: 2 | CQ53: 3 | CR53: 4 | CS53: 5 | CT53: 6 | CU53: 7 | CV53: 8 | CW53: 9 | CX53: 10 | CY53: 11 | CZ53: 12 | DA53: 13 | DB53: 14 | DC53: 15 | DD53: 16 | DE53: 17 | DF53: 18 | DG53: 19 | DH53: 20 | DI53: 21 | DJ53: 22 | DK53: 23 | DL53: 24 | DM53: 25 | DN53: 26 | DO53: 27 | DP53: 28 | DQ53: 29 | DR53: 30 | DS53: 31 | DT53: 32 | DU53: 33 | DV53: 34
D54: Barème | E54: Compétence évaluée | G54: Note par compétence / Note globale arrondie au demi-point | AP54: Note par somme de chaque compétence / Note globale arrondie au demi-point | CD54: NOTE | CE54: APP-Tot | CF54: ANA-Tot | CG54: REA-Tot | CH54: VAL-Tot | CI54: COM-Tot | CJ54: AUTO-Tot | CK54: RCO-Tot | CN54: APPpourcent | CO54: =AP44 -> NE | CP54: =AQ44 -> NE | CQ54: =AR44 -> NE | CR54: =AS44 -> NE | CS54: =AT44 -> NE | CT54: =AU44 -> NE | CU54: =AV44 -> NE | CV54: =AW44 -> NE | ... DV54: =BW44 -> NE
D55: =$D44 -> #DIV/0! | E55: S'approprier | G55: =IF(G44="NE","NE",$D55*IF(G44="A",Seuil_max_A,IF(G44="B",Seuil_max_B,IF(G44="C",Seuil_max_C,IF(G44="D",Seuil_max_D,0))))) -> NE | H55: =IF(H44="NE","NE",$D55*IF(H44="A",Seuil_max_A,IF(H44="B",Seuil_max_B,IF(H44="C",Seuil_max_C,IF(H44="D",Seuil_max_D,0))))) -> NE | I55: =IF(I44="NE","NE",$D55*IF(I44="A",Seuil_max_A,IF(I44="B",Seuil_max_B,IF(I44="C",Seuil_max_C,IF(I44="D",Seuil_max_D,0))))) -> NE | J55: =IF(J44="NE","NE",$D55*IF(J44="A",Seuil_max_A,IF(J44="B",Seuil_max_B,IF(J44="C",Seuil_max_C,IF(J44="D",Seuil_max_D,0))))) -> NE | K55: =IF(K44="NE","NE",$D55*IF(K44="A",Seuil_max_A,IF(K44="B",Seuil_max_B,IF(K44="C",Seuil_max_C,IF(K44="D",Seuil_max_D,0))))) -> NE | L55: =IF(L44="NE","NE",$D55*IF(L44="A",Seuil_max_A,IF(L44="B",Seuil_max_B,IF(L44="C",Seuil_max_C,IF(L44="D",Seuil_max_D,0))))) -> NE | M55: =IF(M44="NE","NE",$D55*IF(M44="A",Seuil_max_A,IF(M44="B",Seuil_max_B,IF(M44="C",Seuil_max_C,IF(M44="D",Seuil_max_D,0))))) -> NE | N55: =IF(N44="NE","NE",$D55*IF(N44="A",Seuil_max_A,IF(N44="B",Seuil_max_B,IF(N44="C",Seuil_max_C,IF(N44="D",Seuil_max_D,0))))) -> NE | ... AN55: =IF(AN44="NE","NE",$D55*IF(AN44="A",Seuil_max_A,IF(AN44="B",Seuil_max_B,IF(AN44="C",Seuil_max_C,IF(AN44="D",Seuil_max_D,0))))) -> NE | AP55: =IF(AP44="NE","NE",$D55*AP44) -> NE | AQ55: =IF(AQ44="NE","NE",$D55*AQ44) -> NE | AR55: =IF(AR44="NE","NE",$D55*AR44) -> NE | AS55: =IF(AS44="NE","NE",$D55*AS44) -> NE | AT55: =IF(AT44="NE","NE",$D55*AT44) -> NE | AU55: =IF(AU44="NE","NE",$D55*AU44) -> NE | AV55: =IF(AV44="NE","NE",$D55*AV44) -> NE | AW55: =IF(AW44="NE","NE",$D55*AW44) -> NE | ... BW55: =IF(BW44="NE","NE",$D55*BW44) -> NE | CC55: 1 | CD55: =AP$62 -> 0 | CE55: =$D$44 -> #DIV/0! | CF55: =$D$45 -> #DIV/0! | CG55: =$D$46 -> #DIV/0! | CH55: =$D$47 -> #DIV/0! | CI55: =$D$48 -> #DIV/0! | CJ55: =$D$49 -> #DIV/0! | CK55: =$D$50 -> #DIV/0! | CL55: =G$41 -> ABS | CN55: ANApourcent | CO55: =AP45 -> NE | CP55: =AQ45 -> NE | CQ55: =AR45 -> NE | CR55: =AS45 -> NE | CS55: =AT45 -> NE | CT55: =AU45 -> NE | CU55: =AV45 -> NE | CV55: =AW45 -> NE | ... DV55: =BW45 -> NE
D56: =$D45 -> #DIV/0! | E56: Analyser | G56: =IF(G45="NE","NE",$D56*IF(G45="A",Seuil_max_A,IF(G45="B",Seuil_max_B,IF(G45="C",Seuil_max_C,IF(G45="D",Seuil_max_D,0))))) -> NE | H56: =IF(H45="NE","NE",$D56*IF(H45="A",Seuil_max_A,IF(H45="B",Seuil_max_B,IF(H45="C",Seuil_max_C,IF(H45="D",Seuil_max_D,0))))) -> NE | I56: =IF(I45="NE","NE",$D56*IF(I45="A",Seuil_max_A,IF(I45="B",Seuil_max_B,IF(I45="C",Seuil_max_C,IF(I45="D",Seuil_max_D,0))))) -> NE | J56: =IF(J45="NE","NE",$D56*IF(J45="A",Seuil_max_A,IF(J45="B",Seuil_max_B,IF(J45="C",Seuil_max_C,IF(J45="D",Seuil_max_D,0))))) -> NE | K56: =IF(K45="NE","NE",$D56*IF(K45="A",Seuil_max_A,IF(K45="B",Seuil_max_B,IF(K45="C",Seuil_max_C,IF(K45="D",Seuil_max_D,0))))) -> NE | L56: =IF(L45="NE","NE",$D56*IF(L45="A",Seuil_max_A,IF(L45="B",Seuil_max_B,IF(L45="C",Seuil_max_C,IF(L45="D",Seuil_max_D,0))))) -> NE | M56: =IF(M45="NE","NE",$D56*IF(M45="A",Seuil_max_A,IF(M45="B",Seuil_max_B,IF(M45="C",Seuil_max_C,IF(M45="D",Seuil_max_D,0))))) -> NE | N56: =IF(N45="NE","NE",$D56*IF(N45="A",Seuil_max_A,IF(N45="B",Seuil_max_B,IF(N45="C",Seuil_max_C,IF(N45="D",Seuil_max_D,0))))) -> NE | ... AN56: =IF(AN45="NE","NE",$D56*IF(AN45="A",Seuil_max_A,IF(AN45="B",Seuil_max_B,IF(AN45="C",Seuil_max_C,IF(AN45="D",Seuil_max_D,0))))) -> NE | AP56: =IF(AP45="NE","NE",$D56*AP45) -> NE | AQ56: =IF(AQ45="NE","NE",$D56*AQ45) -> NE | AR56: =IF(AR45="NE","NE",$D56*AR45) -> NE | AS56: =IF(AS45="NE","NE",$D56*AS45) -> NE | AT56: =IF(AT45="NE","NE",$D56*AT45) -> NE | AU56: =IF(AU45="NE","NE",$D56*AU45) -> NE | AV56: =IF(AV45="NE","NE",$D56*AV45) -> NE | AW56: =IF(AW45="NE","NE",$D56*AW45) -> NE | ... BW56: =IF(BW45="NE","NE",$D56*BW45) -> NE | CC56: 2 | CD56: =AQ$62 -> 0 | CE56: =$D$44 -> #DIV/0! | CF56: =$D$45 -> #DIV/0! | CG56: =$D$46 -> #DIV/0! | CH56: =$D$47 -> #DIV/0! | CI56: =$D$48 -> #DIV/0! | CJ56: =$D$49 -> #DIV/0! | CK56: =$D$50 -> #DIV/0! | CL56: =H$41 -> X | CN56: REApourcent | CO56: =AP46 -> NE | CP56: =AQ46 -> NE | CQ56: =AR46 -> NE | CR56: =AS46 -> NE | CS56: =AT46 -> NE | CT56: =AU46 -> NE | CU56: =AV46 -> NE | CV56: =AW46 -> NE | ... DV56: =BW46 -> NE
D57: =$D46 -> #DIV/0! | E57: Réaliser | G57: =IF(G46="NE","NE",$D57*IF(G46="A",Seuil_max_A,IF(G46="B",Seuil_max_B,IF(G46="C",Seuil_max_C,IF(G46="D",Seuil_max_D,0))))) -> NE | H57: =IF(H46="NE","NE",$D57*IF(H46="A",Seuil_max_A,IF(H46="B",Seuil_max_B,IF(H46="C",Seuil_max_C,IF(H46="D",Seuil_max_D,0))))) -> NE | I57: =IF(I46="NE","NE",$D57*IF(I46="A",Seuil_max_A,IF(I46="B",Seuil_max_B,IF(I46="C",Seuil_max_C,IF(I46="D",Seuil_max_D,0))))) -> NE | J57: =IF(J46="NE","NE",$D57*IF(J46="A",Seuil_max_A,IF(J46="B",Seuil_max_B,IF(J46="C",Seuil_max_C,IF(J46="D",Seuil_max_D,0))))) -> NE | K57: =IF(K46="NE","NE",$D57*IF(K46="A",Seuil_max_A,IF(K46="B",Seuil_max_B,IF(K46="C",Seuil_max_C,IF(K46="D",Seuil_max_D,0))))) -> NE | L57: =IF(L46="NE","NE",$D57*IF(L46="A",Seuil_max_A,IF(L46="B",Seuil_max_B,IF(L46="C",Seuil_max_C,IF(L46="D",Seuil_max_D,0))))) -> NE | M57: =IF(M46="NE","NE",$D57*IF(M46="A",Seuil_max_A,IF(M46="B",Seuil_max_B,IF(M46="C",Seuil_max_C,IF(M46="D",Seuil_max_D,0))))) -> NE | N57: =IF(N46="NE","NE",$D57*IF(N46="A",Seuil_max_A,IF(N46="B",Seuil_max_B,IF(N46="C",Seuil_max_C,IF(N46="D",Seuil_max_D,0))))) -> NE | ... AN57: =IF(AN46="NE","NE",$D57*IF(AN46="A",Seuil_max_A,IF(AN46="B",Seuil_max_B,IF(AN46="C",Seuil_max_C,IF(AN46="D",Seuil_max_D,0))))) -> NE | AP57: =IF(AP46="NE","NE",$D57*AP46) -> NE | AQ57: =IF(AQ46="NE","NE",$D57*AQ46) -> NE | AR57: =IF(AR46="NE","NE",$D57*AR46) -> NE | AS57: =IF(AS46="NE","NE",$D57*AS46) -> NE | AT57: =IF(AT46="NE","NE",$D57*AT46) -> NE | AU57: =IF(AU46="NE","NE",$D57*AU46) -> NE | AV57: =IF(AV46="NE","NE",$D57*AV46) -> NE | AW57: =IF(AW46="NE","NE",$D57*AW46) -> NE | ... BW57: =IF(BW46="NE","NE",$D57*BW46) -> NE | CC57: 3 | CD57: =AR$62 -> 0 | CE57: =$D$44 -> #DIV/0! | CF57: =$D$45 -> #DIV/0! | CG57: =$D$46 -> #DIV/0! | CH57: =$D$47 -> #DIV/0! | CI57: =$D$48 -> #DIV/0! | CJ57: =$D$49 -> #DIV/0! | CK57: =$D$50 -> #DIV/0! | CL57: =I$41 -> NR | CN57: VALpourcent | CO57: =AP47 -> NE | CP57: =AQ47 -> NE | CQ57: =AR47 -> NE | CR57: =AS47 -> NE | CS57: =AT47 -> NE | CT57: =AU47 -> NE | CU57: =AV47 -> NE | CV57: =AW47 -> NE | ... DV57: =BW47 -> NE
D58: =$D47 -> #DIV/0! | E58: Valider | G58: =IF(G47="NE","NE",$D58*IF(G47="A",Seuil_max_A,IF(G47="B",Seuil_max_B,IF(G47="C",Seuil_max_C,IF(G47="D",Seuil_max_D,0))))) -> NE | H58: =IF(H47="NE","NE",$D58*IF(H47="A",Seuil_max_A,IF(H47="B",Seuil_max_B,IF(H47="C",Seuil_max_C,IF(H47="D",Seuil_max_D,0))))) -> NE | I58: =IF(I47="NE","NE",$D58*IF(I47="A",Seuil_max_A,IF(I47="B",Seuil_max_B,IF(I47="C",Seuil_max_C,IF(I47="D",Seuil_max_D,0))))) -> NE | J58: =IF(J47="NE","NE",$D58*IF(J47="A",Seuil_max_A,IF(J47="B",Seuil_max_B,IF(J47="C",Seuil_max_C,IF(J47="D",Seuil_max_D,0))))) -> NE | K58: =IF(K47="NE","NE",$D58*IF(K47="A",Seuil_max_A,IF(K47="B",Seuil_max_B,IF(K47="C",Seuil_max_C,IF(K47="D",Seuil_max_D,0))))) -> NE | L58: =IF(L47="NE","NE",$D58*IF(L47="A",Seuil_max_A,IF(L47="B",Seuil_max_B,IF(L47="C",Seuil_max_C,IF(L47="D",Seuil_max_D,0))))) -> NE | M58: =IF(M47="NE","NE",$D58*IF(M47="A",Seuil_max_A,IF(M47="B",Seuil_max_B,IF(M47="C",Seuil_max_C,IF(M47="D",Seuil_max_D,0))))) -> NE | N58: =IF(N47="NE","NE",$D58*IF(N47="A",Seuil_max_A,IF(N47="B",Seuil_max_B,IF(N47="C",Seuil_max_C,IF(N47="D",Seuil_max_D,0))))) -> NE | ... AN58: =IF(AN47="NE","NE",$D58*IF(AN47="A",Seuil_max_A,IF(AN47="B",Seuil_max_B,IF(AN47="C",Seuil_max_C,IF(AN47="D",Seuil_max_D,0))))) -> NE | AP58: =IF(AP47="NE","NE",$D58*AP47) -> NE | AQ58: =IF(AQ47="NE","NE",$D58*AQ47) -> NE | AR58: =IF(AR47="NE","NE",$D58*AR47) -> NE | AS58: =IF(AS47="NE","NE",$D58*AS47) -> NE | AT58: =IF(AT47="NE","NE",$D58*AT47) -> NE | AU58: =IF(AU47="NE","NE",$D58*AU47) -> NE | AV58: =IF(AV47="NE","NE",$D58*AV47) -> NE | AW58: =IF(AW47="NE","NE",$D58*AW47) -> NE | ... BW58: =IF(BW47="NE","NE",$D58*BW47) -> NE | CC58: 4 | CD58: =AS$62 -> 0 | CE58: =$D$44 -> #DIV/0! | CF58: =$D$45 -> #DIV/0! | CG58: =$D$46 -> #DIV/0! | CH58: =$D$47 -> #DIV/0! | CI58: =$D$48 -> #DIV/0! | CJ58: =$D$49 -> #DIV/0! | CK58: =$D$50 -> #DIV/0! | CL58: =J$41 | CN58: COMpourcent | CO58: =AP48 -> NE | CP58: =AQ48 -> NE | CQ58: =AR48 -> NE | CR58: =AS48 -> NE | CS58: =AT48 -> NE | CT58: =AU48 -> NE | CU58: =AV48 -> NE | CV58: =AW48 -> NE | ... DV58: =BW48 -> NE
D59: =$D48 -> #DIV/0! | E59: Communiquer | G59: =IF(G48="NE","NE",$D59*IF(G48="A",Seuil_max_A,IF(G48="B",Seuil_max_B,IF(G48="C",Seuil_max_C,IF(G48="D",Seuil_max_D,0))))) -> NE | H59: =IF(H48="NE","NE",$D59*IF(H48="A",Seuil_max_A,IF(H48="B",Seuil_max_B,IF(H48="C",Seuil_max_C,IF(H48="D",Seuil_max_D,0))))) -> NE | I59: =IF(I48="NE","NE",$D59*IF(I48="A",Seuil_max_A,IF(I48="B",Seuil_max_B,IF(I48="C",Seuil_max_C,IF(I48="D",Seuil_max_D,0))))) -> NE | J59: =IF(J48="NE","NE",$D59*IF(J48="A",Seuil_max_A,IF(J48="B",Seuil_max_B,IF(J48="C",Seuil_max_C,IF(J48="D",Seuil_max_D,0))))) -> NE | K59: =IF(K48="NE","NE",$D59*IF(K48="A",Seuil_max_A,IF(K48="B",Seuil_max_B,IF(K48="C",Seuil_max_C,IF(K48="D",Seuil_max_D,0))))) -> NE | L59: =IF(L48="NE","NE",$D59*IF(L48="A",Seuil_max_A,IF(L48="B",Seuil_max_B,IF(L48="C",Seuil_max_C,IF(L48="D",Seuil_max_D,0))))) -> NE | M59: =IF(M48="NE","NE",$D59*IF(M48="A",Seuil_max_A,IF(M48="B",Seuil_max_B,IF(M48="C",Seuil_max_C,IF(M48="D",Seuil_max_D,0))))) -> NE | N59: =IF(N48="NE","NE",$D59*IF(N48="A",Seuil_max_A,IF(N48="B",Seuil_max_B,IF(N48="C",Seuil_max_C,IF(N48="D",Seuil_max_D,0))))) -> NE | ... AN59: =IF(AN48="NE","NE",$D59*IF(AN48="A",Seuil_max_A,IF(AN48="B",Seuil_max_B,IF(AN48="C",Seuil_max_C,IF(AN48="D",Seuil_max_D,0))))) -> NE | AP59: =IF(AP48="NE","NE",$D59*AP48) -> NE | AQ59: =IF(AQ48="NE","NE",$D59*AQ48) -> NE | AR59: =IF(AR48="NE","NE",$D59*AR48) -> NE | AS59: =IF(AS48="NE","NE",$D59*AS48) -> NE | AT59: =IF(AT48="NE","NE",$D59*AT48) -> NE | AU59: =IF(AU48="NE","NE",$D59*AU48) -> NE | AV59: =IF(AV48="NE","NE",$D59*AV48) -> NE | AW59: =IF(AW48="NE","NE",$D59*AW48) -> NE | ... BW59: =IF(BW48="NE","NE",$D59*BW48) -> NE | CC59: 5 | CD59: =AT$62 -> 0 | CE59: =$D$44 -> #DIV/0! | CF59: =$D$45 -> #DIV/0! | CG59: =$D$46 -> #DIV/0! | CH59: =$D$47 -> #DIV/0! | CI59: =$D$48 -> #DIV/0! | CJ59: =$D$49 -> #DIV/0! | CK59: =$D$50 -> #DIV/0! | CL59: =K$41 | CN59: AUTOpourcent | CO59: =AP49 -> NE | CP59: =AQ49 -> NE | CQ59: =AR49 -> NE | CR59: =AS49 -> NE | CS59: =AT49 -> NE | CT59: =AU49 -> NE | CU59: =AV49 -> NE | CV59: =AW49 -> NE | ... DV59: =BW49 -> NE
D60: =$D49 -> #DIV/0! | E60: Être autonome, faire preuve d'initiative | G60: =IF(G49="NE","NE",$D60*IF(G49="A",Seuil_max_A,IF(G49="B",Seuil_max_B,IF(G49="C",Seuil_max_C,IF(G49="D",Seuil_max_D,0))))) -> NE | H60: =IF(H49="NE","NE",$D60*IF(H49="A",Seuil_max_A,IF(H49="B",Seuil_max_B,IF(H49="C",Seuil_max_C,IF(H49="D",Seuil_max_D,0))))) -> NE | I60: =IF(I49="NE","NE",$D60*IF(I49="A",Seuil_max_A,IF(I49="B",Seuil_max_B,IF(I49="C",Seuil_max_C,IF(I49="D",Seuil_max_D,0))))) -> NE | J60: =IF(J49="NE","NE",$D60*IF(J49="A",Seuil_max_A,IF(J49="B",Seuil_max_B,IF(J49="C",Seuil_max_C,IF(J49="D",Seuil_max_D,0))))) -> NE | K60: =IF(K49="NE","NE",$D60*IF(K49="A",Seuil_max_A,IF(K49="B",Seuil_max_B,IF(K49="C",Seuil_max_C,IF(K49="D",Seuil_max_D,0))))) -> NE | L60: =IF(L49="NE","NE",$D60*IF(L49="A",Seuil_max_A,IF(L49="B",Seuil_max_B,IF(L49="C",Seuil_max_C,IF(L49="D",Seuil_max_D,0))))) -> NE | M60: =IF(M49="NE","NE",$D60*IF(M49="A",Seuil_max_A,IF(M49="B",Seuil_max_B,IF(M49="C",Seuil_max_C,IF(M49="D",Seuil_max_D,0))))) -> NE | N60: =IF(N49="NE","NE",$D60*IF(N49="A",Seuil_max_A,IF(N49="B",Seuil_max_B,IF(N49="C",Seuil_max_C,IF(N49="D",Seuil_max_D,0))))) -> NE | ... AN60: =IF(AN49="NE","NE",$D60*IF(AN49="A",Seuil_max_A,IF(AN49="B",Seuil_max_B,IF(AN49="C",Seuil_max_C,IF(AN49="D",Seuil_max_D,0))))) -> NE | AP60: =IF(AP49="NE","NE",$D60*AP49) -> NE | AQ60: =IF(AQ49="NE","NE",$D60*AQ49) -> NE | AR60: =IF(AR49="NE","NE",$D60*AR49) -> NE | AS60: =IF(AS49="NE","NE",$D60*AS49) -> NE | AT60: =IF(AT49="NE","NE",$D60*AT49) -> NE | AU60: =IF(AU49="NE","NE",$D60*AU49) -> NE | AV60: =IF(AV49="NE","NE",$D60*AV49) -> NE | AW60: =IF(AW49="NE","NE",$D60*AW49) -> NE | ... BW60: =IF(BW49="NE","NE",$D60*BW49) -> NE | CC60: 6 | CD60: =AU$62 -> 0 | CE60: =$D$44 -> #DIV/0! | CF60: =$D$45 -> #DIV/0! | CG60: =$D$46 -> #DIV/0! | CH60: =$D$47 -> #DIV/0! | CI60: =$D$48 -> #DIV/0! | CJ60: =$D$49 -> #DIV/0! | CK60: =$D$50 -> #DIV/0! | CL60: =L$41 | CN60: RCOpourcent | CO60: =AP50 -> NE | CP60: =AQ50 -> NE | CQ60: =AR50 -> NE | CR60: =AS50 -> NE | CS60: =AT50 -> NE | CT60: =AU50 -> NE | CU60: =AV50 -> NE | CV60: =AW50 -> NE | ... DV60: =BW50 -> NE
D61: =$D50 -> #DIV/0! | E61: Restituer des connaissances | G61: =IF(G50="NE","NE",$D61*IF(G50="A",Seuil_max_A,IF(G50="B",Seuil_max_B,IF(G50="C",Seuil_max_C,IF(G50="D",Seuil_max_D,0))))) -> NE | H61: =IF(H50="NE","NE",$D61*IF(H50="A",Seuil_max_A,IF(H50="B",Seuil_max_B,IF(H50="C",Seuil_max_C,IF(H50="D",Seuil_max_D,0))))) -> NE | I61: =IF(I50="NE","NE",$D61*IF(I50="A",Seuil_max_A,IF(I50="B",Seuil_max_B,IF(I50="C",Seuil_max_C,IF(I50="D",Seuil_max_D,0))))) -> NE | J61: =IF(J50="NE","NE",$D61*IF(J50="A",Seuil_max_A,IF(J50="B",Seuil_max_B,IF(J50="C",Seuil_max_C,IF(J50="D",Seuil_max_D,0))))) -> NE | K61: =IF(K50="NE","NE",$D61*IF(K50="A",Seuil_max_A,IF(K50="B",Seuil_max_B,IF(K50="C",Seuil_max_C,IF(K50="D",Seuil_max_D,0))))) -> NE | L61: =IF(L50="NE","NE",$D61*IF(L50="A",Seuil_max_A,IF(L50="B",Seuil_max_B,IF(L50="C",Seuil_max_C,IF(L50="D",Seuil_max_D,0))))) -> NE | M61: =IF(M50="NE","NE",$D61*IF(M50="A",Seuil_max_A,IF(M50="B",Seuil_max_B,IF(M50="C",Seuil_max_C,IF(M50="D",Seuil_max_D,0))))) -> NE | N61: =IF(N50="NE","NE",$D61*IF(N50="A",Seuil_max_A,IF(N50="B",Seuil_max_B,IF(N50="C",Seuil_max_C,IF(N50="D",Seuil_max_D,0))))) -> NE | ... AN61: =IF(AN50="NE","NE",$D61*IF(AN50="A",Seuil_max_A,IF(AN50="B",Seuil_max_B,IF(AN50="C",Seuil_max_C,IF(AN50="D",Seuil_max_D,0))))) -> NE | AP61: =IF(AP50="NE","NE",$D61*AP50) -> NE | AQ61: =IF(AQ50="NE","NE",$D61*AQ50) -> NE | AR61: =IF(AR50="NE","NE",$D61*AR50) -> NE | AS61: =IF(AS50="NE","NE",$D61*AS50) -> NE | AT61: =IF(AT50="NE","NE",$D61*AT50) -> NE | AU61: =IF(AU50="NE","NE",$D61*AU50) -> NE | AV61: =IF(AV50="NE","NE",$D61*AV50) -> NE | AW61: =IF(AW50="NE","NE",$D61*AW50) -> NE | ... BW61: =IF(BW50="NE","NE",$D61*BW50) -> NE | CC61: 7 | CD61: =AV$62 -> 0 | CE61: =$D$44 -> #DIV/0! | CF61: =$D$45 -> #DIV/0! | CG61: =$D$46 -> #DIV/0! | CH61: =$D$47 -> #DIV/0! | CI61: =$D$48 -> #DIV/0! | CJ61: =$D$49 -> #DIV/0! | CK61: =$D$50 -> #DIV/0! | CL61: =M$41 | CN61: APP-Niv.M | CO61: =G44 -> NE | CP61: =H44 -> NE | CQ61: =I44 -> NE | CR61: =J44 -> NE | CS61: =K44 -> NE | CT61: =L44 -> NE | CU61: =M44 -> NE | CV61: =N44 -> NE | ... DV61: =AN44 -> NE
D62: =SUM(D55:D61) -> #DIV/0! | E62: Total évaluation | G62: =MROUND(SUM(G55:G61),0.5) -> 0 | H62: =MROUND(SUM(H55:H61),0.5) -> 0 | I62: =MROUND(SUM(I55:I61),0.5) -> 0 | J62: =MROUND(SUM(J55:J61),0.5) -> 0 | K62: =MROUND(SUM(K55:K61),0.5) -> 0 | L62: =MROUND(SUM(L55:L61),0.5) -> 0 | M62: =MROUND(SUM(M55:M61),0.5) -> 0 | N62: =MROUND(SUM(N55:N61),0.5) -> 0 | ... AN62: =MROUND(SUM(AN55:AN61),0.5) -> 0 | AP62: =CEILING(SUM(AP55:AP61),0.5) -> 0 | AQ62: =CEILING(SUM(AQ55:AQ61),0.5) -> 0 | AR62: =CEILING(SUM(AR55:AR61),0.5) -> 0 | AS62: =CEILING(SUM(AS55:AS61),0.5) -> 0 | AT62: =CEILING(SUM(AT55:AT61),0.5) -> 0 | AU62: =CEILING(SUM(AU55:AU61),0.5) -> 0 | AV62: =CEILING(SUM(AV55:AV61),0.5) -> 0 | AW62: =CEILING(SUM(AW55:AW61),0.5) -> 0 | ... BW62: =CEILING(SUM(BW55:BW61),0.5) -> 0 | BX62: =AVERAGE(AP62:BW62) -> 0 | CC62: 8 | CD62: =AW$62 -> 0 | CE62: =$D$44 -> #DIV/0! | CF62: =$D$45 -> #DIV/0! | CG62: =$D$46 -> #DIV/0! | CH62: =$D$47 -> #DIV/0! | CI62: =$D$48 -> #DIV/0! | CJ62: =$D$49 -> #DIV/0! | CK62: =$D$50 -> #DIV/0! | CL62: =N$41 | CN62: ANA-Niv.M | CO62: =G45 -> NE | CP62: =H45 -> NE | CQ62: =I45 -> NE | CR62: =J45 -> NE | CS62: =K45 -> NE | CT62: =L45 -> NE | CU62: =M45 -> NE | CV62: =N45 -> NE | ... DV62: =AN45 -> NE
AP63: =IF(G1="","",G1) -> ABS | AQ63: =IF(H1="","",H1) -> X | AR63: =IF(I1="","",I1) -> NR | AS63: =IF(J1="","",J1) | AT63: =IF(K1="","",K1) | AU63: =IF(L1="","",L1) | AV63: =IF(M1="","",M1) | AW63: =IF(N1="","",N1) | ... BW63: =IF(AN1="","",AN1) | BX63: Moyenne | CC63: 9 | CD63: =AX$62 -> 0 | CE63: =$D$44 -> #DIV/0! | CF63: =$D$45 -> #DIV/0! | CG63: =$D$46 -> #DIV/0! | CH63: =$D$47 -> #DIV/0! | CI63: =$D$48 -> #DIV/0! | CJ63: =$D$49 -> #DIV/0! | CK63: =$D$50 -> #DIV/0! | CL63: =O$41 -> ABS | CN63: REA-Niv.M | CO63: =G46 -> NE | CP63: =H46 -> NE | CQ63: =I46 -> NE | CR63: =J46 -> NE | CS63: =K46 -> NE | CT63: =L46 -> NE | CU63: =M46 -> NE | CV63: =N46 -> NE | ... DV63: =AN46 -> NE
D64: Moyenne de la classe | E64: =ROUNDUP(AVERAGE(G51:AN51),1) -> 0 | CC64: 10 | CD64: =AY$62 -> 0 | CE64: =$D$44 -> #DIV/0! | CF64: =$D$45 -> #DIV/0! | CG64: =$D$46 -> #DIV/0! | CH64: =$D$47 -> #DIV/0! | CI64: =$D$48 -> #DIV/0! | CJ64: =$D$49 -> #DIV/0! | CK64: =$D$50 -> #DIV/0! | CL64: =P$41 | CN64: VAL-Niv.M | CO64: =G47 -> NE | CP64: =H47 -> NE | CQ64: =I47 -> NE | CR64: =J47 -> NE | CS64: =K47 -> NE | CT64: =L47 -> NE | CU64: =M47 -> NE | CV64: =N47 -> NE | ... DV64: =AN47 -> NE
CC65: 11 | CD65: =AZ$62 -> 0 | CE65: =$D$44 -> #DIV/0! | CF65: =$D$45 -> #DIV/0! | CG65: =$D$46 -> #DIV/0! | CH65: =$D$47 -> #DIV/0! | CI65: =$D$48 -> #DIV/0! | CJ65: =$D$49 -> #DIV/0! | CK65: =$D$50 -> #DIV/0! | CL65: =Q$41 | CN65: COM-Niv.M | CO65: =G48 -> NE | CP65: =H48 -> NE | CQ65: =I48 -> NE | CR65: =J48 -> NE | CS65: =K48 -> NE | CT65: =L48 -> NE | CU65: =M48 -> NE | CV65: =N48 -> NE | ... DV65: =AN48 -> NE
CC66: 12 | CD66: =BA$62 -> 0 | CE66: =$D$44 -> #DIV/0! | CF66: =$D$45 -> #DIV/0! | CG66: =$D$46 -> #DIV/0! | CH66: =$D$47 -> #DIV/0! | CI66: =$D$48 -> #DIV/0! | CJ66: =$D$49 -> #DIV/0! | CK66: =$D$50 -> #DIV/0! | CL66: =R$41 | CN66: AUTO-Niv.M | CO66: =G49 -> NE | CP66: =H49 -> NE | CQ66: =I49 -> NE | CR66: =J49 -> NE | CS66: =K49 -> NE | CT66: =L49 -> NE | CU66: =M49 -> NE | CV66: =N49 -> NE | ... DV66: =AN49 -> NE
CC67: 13 | CD67: =BB$62 -> 0 | CE67: =$D$44 -> #DIV/0! | CF67: =$D$45 -> #DIV/0! | CG67: =$D$46 -> #DIV/0! | CH67: =$D$47 -> #DIV/0! | CI67: =$D$48 -> #DIV/0! | CJ67: =$D$49 -> #DIV/0! | CK67: =$D$50 -> #DIV/0! | CL67: =S$41 | CN67: RCO-Niv.M | CO67: =G50 -> NE | CP67: =H50 -> NE | CQ67: =I50 -> NE | CR67: =J50 -> NE | CS67: =K50 -> NE | CT67: =L50 -> NE | CU67: =M50 -> NE | CV67: =N50 -> NE | ... DV67: =AN50 -> NE
CC68: 14 | CD68: =BC$62 -> 0 | CE68: =$D$44 -> #DIV/0! | CF68: =$D$45 -> #DIV/0! | CG68: =$D$46 -> #DIV/0! | CH68: =$D$47 -> #DIV/0! | CI68: =$D$48 -> #DIV/0! | CJ68: =$D$49 -> #DIV/0! | CK68: =$D$50 -> #DIV/0! | CL68: =T$41 | CN68: APP-Note | CO68: =AP55 -> NE | CP68: =AQ55 -> NE | CQ68: =AR55 -> NE | CR68: =AS55 -> NE | CS68: =AT55 -> NE | CT68: =AU55 -> NE | CU68: =AV55 -> NE | CV68: =AW55 -> NE | ... DV68: =BW55 -> NE
CC69: 15 | CD69: =BD$62 -> 0 | CE69: =$D$44 -> #DIV/0! | CF69: =$D$45 -> #DIV/0! | CG69: =$D$46 -> #DIV/0! | CH69: =$D$47 -> #DIV/0! | CI69: =$D$48 -> #DIV/0! | CJ69: =$D$49 -> #DIV/0! | CK69: =$D$50 -> #DIV/0! | CL69: =U$41 | CN69: ANA-Note | CO69: =AP56 -> NE | CP69: =AQ56 -> NE | CQ69: =AR56 -> NE | CR69: =AS56 -> NE | CS69: =AT56 -> NE | CT69: =AU56 -> NE | CU69: =AV56 -> NE | CV69: =AW56 -> NE | ... DV69: =BW56 -> NE
CC70: 16 | CD70: =BE$62 -> 0 | CE70: =$D$44 -> #DIV/0! | CF70: =$D$45 -> #DIV/0! | CG70: =$D$46 -> #DIV/0! | CH70: =$D$47 -> #DIV/0! | CI70: =$D$48 -> #DIV/0! | CJ70: =$D$49 -> #DIV/0! | CK70: =$D$50 -> #DIV/0! | CL70: =V$41 | CN70: REA-Note | CO70: =AP57 -> NE | CP70: =AQ57 -> NE | CQ70: =AR57 -> NE | CR70: =AS57 -> NE | CS70: =AT57 -> NE | CT70: =AU57 -> NE | CU70: =AV57 -> NE | CV70: =AW57 -> NE | ... DV70: =BW57 -> NE
CC71: 17 | CD71: =BF$62 -> 0 | CE71: =$D$44 -> #DIV/0! | CF71: =$D$45 -> #DIV/0! | CG71: =$D$46 -> #DIV/0! | CH71: =$D$47 -> #DIV/0! | CI71: =$D$48 -> #DIV/0! | CJ71: =$D$49 -> #DIV/0! | CK71: =$D$50 -> #DIV/0! | CL71: =W$41 | CN71: VAL-Note | CO71: =AP58 -> NE | CP71: =AQ58 -> NE | CQ71: =AR58 -> NE | CR71: =AS58 -> NE | CS71: =AT58 -> NE | CT71: =AU58 -> NE | CU71: =AV58 -> NE | CV71: =AW58 -> NE | ... DV71: =BW58 -> NE
CC72: 18 | CD72: =BG$62 -> 0 | CE72: =$D$44 -> #DIV/0! | CF72: =$D$45 -> #DIV/0! | CG72: =$D$46 -> #DIV/0! | CH72: =$D$47 -> #DIV/0! | CI72: =$D$48 -> #DIV/0! | CJ72: =$D$49 -> #DIV/0! | CK72: =$D$50 -> #DIV/0! | CL72: =X$41 | CN72: COM-Note | CO72: =AP59 -> NE | CP72: =AQ59 -> NE | CQ72: =AR59 -> NE | CR72: =AS59 -> NE | CS72: =AT59 -> NE | CT72: =AU59 -> NE | CU72: =AV59 -> NE | CV72: =AW59 -> NE | ... DV72: =BW59 -> NE
CC73: 19 | CD73: =BH$62 -> 0 | CE73: =$D$44 -> #DIV/0! | CF73: =$D$45 -> #DIV/0! | CG73: =$D$46 -> #DIV/0! | CH73: =$D$47 -> #DIV/0! | CI73: =$D$48 -> #DIV/0! | CJ73: =$D$49 -> #DIV/0! | CK73: =$D$50 -> #DIV/0! | CL73: =Y$41 | CN73: AUTO-Note | CO73: =AP60 -> NE | CP73: =AQ60 -> NE | CQ73: =AR60 -> NE | CR73: =AS60 -> NE | CS73: =AT60 -> NE | CT73: =AU60 -> NE | CU73: =AV60 -> NE | CV73: =AW60 -> NE | ... DV73: =BW60 -> NE
CC74: 20 | CD74: =BI$62 -> 0 | CE74: =$D$44 -> #DIV/0! | CF74: =$D$45 -> #DIV/0! | CG74: =$D$46 -> #DIV/0! | CH74: =$D$47 -> #DIV/0! | CI74: =$D$48 -> #DIV/0! | CJ74: =$D$49 -> #DIV/0! | CK74: =$D$50 -> #DIV/0! | CL74: =Z$41 | CN74: RCO-Note | CO74: =AP61 -> NE | CP74: =AQ61 -> NE | CQ74: =AR61 -> NE | CR74: =AS61 -> NE | CS74: =AT61 -> NE | CT74: =AU61 -> NE | CU74: =AV61 -> NE | CV74: =AW61 -> NE | ... DV74: =BW61 -> NE
CC75: 21 | CD75: =BJ$62 -> 0 | CE75: =$D$44 -> #DIV/0! | CF75: =$D$45 -> #DIV/0! | CG75: =$D$46 -> #DIV/0! | CH75: =$D$47 -> #DIV/0! | CI75: =$D$48 -> #DIV/0! | CJ75: =$D$49 -> #DIV/0! | CK75: =$D$50 -> #DIV/0! | CL75: =AA$41
CC76: 22 | CD76: =BK$62 -> 0 | CE76: =$D$44 -> #DIV/0! | CF76: =$D$45 -> #DIV/0! | CG76: =$D$46 -> #DIV/0! | CH76: =$D$47 -> #DIV/0! | CI76: =$D$48 -> #DIV/0! | CJ76: =$D$49 -> #DIV/0! | CK76: =$D$50 -> #DIV/0! | CL76: =AB$41
CC77: 23 | CD77: =BL$62 -> 0 | CE77: =$D$44 -> #DIV/0! | CF77: =$D$45 -> #DIV/0! | CG77: =$D$46 -> #DIV/0! | CH77: =$D$47 -> #DIV/0! | CI77: =$D$48 -> #DIV/0! | CJ77: =$D$49 -> #DIV/0! | CK77: =$D$50 -> #DIV/0! | CL77: =AC$41
CC78: 24 | CD78: =BM$62 -> 0 | CE78: =$D$44 -> #DIV/0! | CF78: =$D$45 -> #DIV/0! | CG78: =$D$46 -> #DIV/0! | CH78: =$D$47 -> #DIV/0! | CI78: =$D$48 -> #DIV/0! | CJ78: =$D$49 -> #DIV/0! | CK78: =$D$50 -> #DIV/0! | CL78: =AD$41
CC79: 25 | CD79: =BN$62 -> 0 | CE79: =$D$44 -> #DIV/0! | CF79: =$D$45 -> #DIV/0! | CG79: =$D$46 -> #DIV/0! | CH79: =$D$47 -> #DIV/0! | CI79: =$D$48 -> #DIV/0! | CJ79: =$D$49 -> #DIV/0! | CK79: =$D$50 -> #DIV/0! | CL79: =AE$41
CC80: 26 | CD80: =BO$62 -> 0 | CE80: =$D$44 -> #DIV/0! | CF80: =$D$45 -> #DIV/0! | CG80: =$D$46 -> #DIV/0! | CH80: =$D$47 -> #DIV/0! | CI80: =$D$48 -> #DIV/0! | CJ80: =$D$49 -> #DIV/0! | CK80: =$D$50 -> #DIV/0! | CL80: =AF$41
CD81: =BP$62 -> 0 | CE81: =$D$44 -> #DIV/0! | CF81: =$D$45 -> #DIV/0! | CG81: =$D$46 -> #DIV/0! | CH81: =$D$47 -> #DIV/0! | CI81: =$D$48 -> #DIV/0! | CJ81: =$D$49 -> #DIV/0! | CK81: =$D$50 -> #DIV/0! | CL81: =AG$41
CD82: =BQ$62 -> 0 | CE82: =$D$44 -> #DIV/0! | CF82: =$D$45 -> #DIV/0! | CG82: =$D$46 -> #DIV/0! | CH82: =$D$47 -> #DIV/0! | CI82: =$D$48 -> #DIV/0! | CJ82: =$D$49 -> #DIV/0! | CK82: =$D$50 -> #DIV/0! | CL82: =AH$41
CD83: =BR$62 -> 0 | CE83: =$D$44 -> #DIV/0! | CF83: =$D$45 -> #DIV/0! | CG83: =$D$46 -> #DIV/0! | CH83: =$D$47 -> #DIV/0! | CI83: =$D$48 -> #DIV/0! | CJ83: =$D$49 -> #DIV/0! | CK83: =$D$50 -> #DIV/0! | CL83: =AI$41
CD84: =BS$62 -> 0 | CE84: =$D$44 -> #DIV/0! | CF84: =$D$45 -> #DIV/0! | CG84: =$D$46 -> #DIV/0! | CH84: =$D$47 -> #DIV/0! | CI84: =$D$48 -> #DIV/0! | CJ84: =$D$49 -> #DIV/0! | CK84: =$D$50 -> #DIV/0! | CL84: =AJ$41
CD85: =BT$62 -> 0 | CE85: =$D$44 -> #DIV/0! | CF85: =$D$45 -> #DIV/0! | CG85: =$D$46 -> #DIV/0! | CH85: =$D$47 -> #DIV/0! | CI85: =$D$48 -> #DIV/0! | CJ85: =$D$49 -> #DIV/0! | CK85: =$D$50 -> #DIV/0! | CL85: =AK$41
CD86: =BU$62 -> 0 | CE86: =$D$44 -> #DIV/0! | CF86: =$D$45 -> #DIV/0! | CG86: =$D$46 -> #DIV/0! | CH86: =$D$47 -> #DIV/0! | CI86: =$D$48 -> #DIV/0! | CJ86: =$D$49 -> #DIV/0! | CK86: =$D$50 -> #DIV/0! | CL86: =AL$41
CD87: =BV$62 -> 0 | CE87: =$D$44 -> #DIV/0! | CF87: =$D$45 -> #DIV/0! | CG87: =$D$46 -> #DIV/0! | CH87: =$D$47 -> #DIV/0! | CI87: =$D$48 -> #DIV/0! | CJ87: =$D$49 -> #DIV/0! | CK87: =$D$50 -> #DIV/0! | CL87: =AM$41
CD88: =BW$62 -> 0 | CE88: =$D$44 -> #DIV/0! | CF88: =$D$45 -> #DIV/0! | CG88: =$D$46 -> #DIV/0! | CH88: =$D$47 -> #DIV/0! | CI88: =$D$48 -> #DIV/0! | CJ88: =$D$49 -> #DIV/0! | CK88: =$D$50 -> #DIV/0! | CL88: =AN$41

Sheet Liste
A1: NOM | B1: PRENOM | C1: Groupe | D1: Nb d'élèves: | F1: Classe | G1: Nom Prénom
A2: Élève n°1 | C2: G1 | D2: =COUNTIF(G2:G31,"<> ") -> 20 | F2: ClasseA | G2: =A2 &" " & B2 -> Élève n°1
A3: Élève n°2 | C3: G1 | D3: 34 maxi dans la liste | G3: =A3 &" " & B3 -> Élève n°2
A4: Élève n°3 | C4: G2 | G4: =A4 &" " & B4 -> Élève n°3
A5: Élève n°4 | C5: G2 | G5: =A5 &" " & B5 -> Élève n°4
A6: Élève n°5 | C6: G1 | G6: =A6 &" " & B6 -> Élève n°5
A7: Élève n°6 | C7: G1 | G7: =A7 &" " & B7 -> Élève n°6
A8: Élève n°7 | C8: G1 | G8: =A8 &" " & B8 -> Élève n°7
A9: Élève n°8 | C9: G1 | G9: =A9 &" " & B9 -> Élève n°8
A10: Élève n°9 | C10: G2 | G10: =A10 &" " & B10 -> Élève n°9
A11: Élève n°10 | C11: G2 | G11: =A11 &" " & B11 -> Élève n°10
A12: Élève n°11 | C12: G1 | G12: =A12 &" " & B12 -> Élève n°11
A13: Élève n°12 | C13: G1 | G13: =A13 &" " & B13 -> Élève n°12
A14: Élève n°13 | C14: G1 | G14: =A14 &" " & B14 -> Élève n°13
A15: Élève n°14 | C15: G1 | G15: =A15 &" " & B15 -> Élève n°14
... A21: Élève n°20 | C21: G1 | G21: =A21 &" " & B21 -> Élève n°20
G22: =A22 &" " & B22
G23: =A23 &" " & B23
G24: =A24 &" " & B24
G25: =A25 &" " & B25
G26: =A26 &" " & B26
G27: =A27 &" " & B27
G28: =A28 &" " & B28
G29: =A29 &" " & B29
G30: =A30 &" " & B30
G31: =A31 &" " & B31
G32: =A32 &" " & B32
G33: =A33 &" " & B33
... G35: =A35 &" " & B35

Sheet Données
B2: Marqueurs | I2: Compétences | J2: Définitions des compétences | K2: - | L2: APP | M2: RCO | N2: ANA | O2: REA | P2: VAL | Q2: COM | R2: AUTO
B3: A | C3: Tout est parfait, ou avec une petite erreur non pénalisante. | I3: - | J3: - | K3: - | L3: Extraire les informations utiles | M3: Restituer des connaissances | N3: Organiser et exploiter ses connaissances et les informations extraites | O3: Effectuer des calculs littéraux, établir des relations littérales entre les grandeurs | P3: Faire preuve d'esprit critique | Q3: Rédiger une explication, une réponse, une argumentation ou une synthèse (réponse construite), une conclusion | R3: Autonomie et prises d'initiatives
B4: B | C4: C'est assez bien dans l'ensemble, et il y a plusieurs petites erreur de faible gravité. | I4: APP | J4: S'approprier | K4: - | L4: Identifier un problème, le formuler. | M4: Restituer une démarche, un protocole | N4: Formuler une hypothèse | O4: Effectuer des calculs littéraux, établir des relations littérales entre les grandeurs, puis effectuer les calculs numériques. | P4: Discuter de la validité d'un résultat théorique | Q4: Décrire une observation, la démarche suivie | R4: S'impliquer en équipe, décider, anticiper
B5: C | C5: C'est moyen, et il y a trop de petites erreurs et une ou deux erreurs de moyenne gravité. | I5: RCO | J5: Restitution de connaissances | K5: - | L5: Extraire l’information utile sur des supports variés. Mobiliser ses connaissances. | M5: Restituer une formule apprise | N5: Construire les étapes d'une résolution d'un problème | O5: Effectuer des calculs numériques, Utiliser une formule | P5: Discuter de la validité d'une hypothèse, d'une propriété, d'une loi, d’un modèle, d’un protocole expérimental | Q5: Décrire une observation, rendre compte de résultats | R5: Solliciter une aide pertinente
B6: D | C6: Il y a trop d'erreurs (incompréhension ou autre) de moyenne gravité ou de forte gravité. | I6: ANA | J6: Analyser | K6: - | L6: Connaître le vocabulaire, les symboles et les unités mise en œuvre | M6: Connaître le vocabulaire, les symboles et les unités mise en œuvre | N6: Proposer un protocole expérimental | O6: Mettre en œuvre un protocole expérimental | P6: Exploiter et interpréter des observations, mesures ou graphiques | Q6: Utiliser un vocabulaire scientifique adapté et rigoureux | R6: Avoir son matériel
B7: E | C7: Il y a beaucoup trop d'erreurs ce qui entraine une réponse fausse ou complètement HS ; ou bien quelques mots n'ayant aucun sens car la phrase n'est pas finie. | I7: REA | J7: Réaliser des calculs ou méthodes | K7: - | L7: Extraire et organiser l'information en lien avec une problématique | M7: - | N7: Choisir (justifier) un protocole expérimental (ou des étapes) | O7: Manipuler dans le respect des règles de sécurité | P7: Identifier les sources d'erreurs | Q7: Présenter les résultats de manière adaptée (unités, chiffres significatifs, incertitudes) | R7: -
B8: ∅ | C8: Aucune réponse n'a été formulée. | I8: VAL | J8: Valider | K8: - | L8: Dégager une problématique d'un ensemble de documents | M8: - | N8: - | O8: Réaliser des mesures avec le matériel adapté | P8: Raisonner ; Démontrer ; Argumenter | Q8: Soigner/Améliorer sa production | R8: -
I9: COM | J9: Expression et communication écrite ou orale | K9: - | L9: Mobiliser les connaissances en rapport avec le problème | M9: - | N9: Utiliser une analyse dimensionnelle pour prédire ou vérifier une hypothèse | O9: Effectuer le traitement graphique de données (dont modélisation) | P9: Écrire un résultat avec son incertitude | Q9: Rédiger une synthèse. Utiliser un vocabulaire scientifique adapté et rigoureux. | R9: -
B10: Note sur : | C10: 20 | F10: Poids | I10: AUTO | J10: Autonomie, prises d'initiatives | K10: - | L10: Organiser et remettre en ordre son espace de travail | M10: - | N10: Proposer un modèle | O10: Procédure courante : Réaliser/construire un graphique | P10: Valider un choix technique en exploitant des documents, des résultats expérimentaux | Q10: - | R10: -
B11: Seuil max A | C11: 1 | D11: =$C$10*C11 -> 20 | F11: 0 | K11: - | L11: Maîtriser le vocabulaire du cours | M11: - | N11: Évaluer des ordres de grandeurs | O11: Procédure courante : Lecture/Exploitation d'un graphe | P11: Porter un regard critique sur des résultats (cohérence, confrontation de valeurs, sources d'erreurs, proposition d'améliorations du protocole) | Q11: - | R11: -
B12: Seuil max B | C12: 0.75 | D12: =$C$10*C12 -> 15 | F12: 0.25 | K12: - | L12: - | M12: - | N12: Exercer son esprit d'analyse | O12: Procédure courante : Réaliser un schéma | P12: Interpréter les résultats et les mesures expérimentales | Q12: - | R12: -
B13: Seuil max C | C13: 0.5 | D13: =$C$10*C13 -> 10 | F13: 0.5 | K13: - | L13: - | M13: - | N13: Choisir (justifier) un protocole expérimental (ou des étapes) | O13: Mobilisation des connaissances | P13: Discuter de la validité de résultats expérimentales | Q13: - | R13: -
B14: Seuil max D | C14: 0.25 | D14: =$C$10*C14 -> 5 | F14: 0.75 | I14: Attention: toutes les listes suivantes (colonnes I à P) doivent avoir le même nombre d'éléments (compléter par des "-" si nécessaire) | K14: - | L14: - | M14: - | N14: Schématiser (ou compléter) une situation (expérimentale ou autre) | O14: Écrire un résultat de façon adaptée | P14: Discuter de la validité des conditions expérimentales | Q14: - | R14: -
B15: Seuil min E | C15: 0 | D15: =$C$10*C15 -> 0 | F15: 1 | K15: - | L15: - | M15: - | N15: Analyser des données (concevoir les étapes de l'exploitation, effectuer un raisonnement) | O15: Écrire/Équilibrer une équation chimique | P15: Évaluer les sources d'erreurs expérimentales | Q15: - | R15: -
B16: Seuil mon ∅ | C16: 0 | D16: =$C$10*C16 -> 0 | F16: 1.5 | K16: - | L16: - | M16: - | N16: Identifier les paramètres d'influence d'un phénomène, d'une grandeur physique | O16: Exploiter un modèle théorique | Q16: - | R16: -
F17: 2 | K17: - | L17: - | M17: - | N17: Analyser les conditions de sécurité d'une expérience | O17: Rendre un document numérique en suivant les consignes | Q17: - | R17: -
B18: Auteurs : | C18: Licence CC | F18: 2.5 | K18: - | L18: - | M18: - | N18: Évaluer des incertitudes expérimentales | O18: Savoir utiliser logiciel d'acquisition | Q18: - | R18: -
B19: Pierrick B. | C19: BY-NC-ND 3.0 FR | F19: 3 | K19: - | L19: - | M19: - | N19: - | O19: Savoir utiliser un logiciel de traitement de texte pour exporter un compte rendu ou une courbe | P19: - | Q19: - | R19: -
B20: Gwen. R. | F20: 3.5 | K20: - | L20: - | M20: - | N20: - | O20: Représenter une molécule (formule brute OU développée OU semi-développée OU topologique, OU représentation de Cram, OU de Newman) | P20: - | Q20: - | R20: -
F21: 4 | K21: - | L21: - | M21: - | N21: - | O21: Exporter un document en format PDF en respectant une nomenclature pour le nom du fichier | P21: - | Q21: - | R21: -
F22: 4.5 | K22: - | L22: - | M22: - | N22: - | O22: Envoyer un document dans le casier ENT du professeur | P22: - | Q22: - | R22: -
F23: 5 | K23: - | L23: - | M23: - | N23: - | O23: - | P23: - | Q23: - | R23: -
F24: - | K24: - | L24: - | M24: - | N24: - | O24: - | P24: - | Q24: - | R24: -
K25: - | L25: - | M25: - | N25: - | O25: - | P25: - | Q25: - | R25: -
K26: - | L26: - | M26: - | N26: - | O26: - | P26: - | Q26: - | R26: -
K27: - | L27: - | M27: - | N27: - | O27: - | P27: - | Q27: - | R27: -
K28: - | L28: - | M28: - | N28: - | O28: - | P28: - | Q28: - | R28: -
N29: 12 | O29: 12
N30: 13 | O30: 13
N31: 14 | O31: 14
N32: 15 | O32: 15
N33: 16 | O33: 16
N34: 17 | O34: 17

Sheet Feuil2

Sheet Eval-Modèle(ANCIEN)
F1: X , NR, ABS → | AH1: ⚠️🔒 NE PAS MODIFIER LES CELLULES CI-DESSOUS 🔒 ⚠️
A2: LYCÉE LE CORBUSIER | D2: PHYSIQUE - CHIMIE | G2: Noms des élèves évalués. (⚠️Ne pas modifier ici ! Modifier la feuille Liste-ÉLÈVES⚠️) | AH2: Pondération par le niveau d'évaluation (⚠️Ne pas modifier ici ! Modifier la feuille Liste-ÉLÈVES⚠️) | BH2: Moyenne | BI2: Réussite
A3: =Liste!F2 -> ClasseA | D3: ÉVALUATION SOMMATIVE | E3: 43851 | G3: =Liste!$G2 -> Élève n°1 | H3: =Liste!$G3 -> Élève n°2 | I3: =Liste!$G4 -> Élève n°3 | J3: =Liste!$G5 -> Élève n°4 | K3: =Liste!$G6 -> Élève n°5 | L3: =Liste!$G7 -> Élève n°6 | M3: =Liste!$G8 -> Élève n°7 | N3: =Liste!$G9 -> Élève n°8 | O3: =Liste!$G10 -> Élève n°9 | P3: =Liste!$G11 -> Élève n°10 | Q3: =Liste!$G12 -> Élève n°11 | R3: =Liste!$G13 -> Élève n°12 | S3: =Liste!$G14 -> Élève n°13 | T3: =Liste!$G15 -> Élève n°14 | U3: =Liste!$G16 -> Élève n°15 | V3: =Liste!$G17 -> Élève n°16 | W3: =Liste!$G18 -> Élève n°17 | X3: =Liste!$G19 -> Élève n°18 | Y3: =Liste!$G20 -> Élève n°19 | Z3: =Liste!$G21 -> Élève n°20 | AA3: =Liste!$G22 | AB3: =Liste!$G23 | AC3: =Liste!$G24 | AD3: =Liste!$G25 | AE3: =Liste!$G26 | AF3: =Liste!$G27 | AH3: =G3 -> Élève n°1 | AI3: =H3 -> Élève n°2 | AJ3: =I3 -> Élève n°3 | AK3: =J3 -> Élève n°4 | AL3: =K3 -> Élève n°5 | AM3: =L3 -> Élève n°6 | AN3: =M3 -> Élève n°7 | AO3: =N3 -> Élève n°8 | ... BG3: =AF3
A4: Évaluation n° : Titre
A6: Question | B6: Compétence mobilisée | C6: Capacité évaluée / Observable | E6: Poids
AH7: =IF(G7="","",(IF(G7="A",Seuil_max_A,IF(G7="B",Seuil_max_B,IF(G7="C",Seuil_max_C,IF(G7="D",Seuil_max_D,0)))))*$E7) | AI7: =IF(H7="","",(IF(H7="A",Seuil_max_A,IF(H7="B",Seuil_max_B,IF(H7="C",Seuil_max_C,IF(H7="D",Seuil_max_D,0)))))*$E7) | AJ7: =IF(I7="","",(IF(I7="A",Seuil_max_A,IF(I7="B",Seuil_max_B,IF(I7="C",Seuil_max_C,IF(I7="D",Seuil_max_D,0)))))*$E7) | AK7: =IF(J7="","",(IF(J7="A",Seuil_max_A,IF(J7="B",Seuil_max_B,IF(J7="C",Seuil_max_C,IF(J7="D",Seuil_max_D,0)))))*$E7) | AL7: =IF(K7="","",(IF(K7="A",Seuil_max_A,IF(K7="B",Seuil_max_B,IF(K7="C",Seuil_max_C,IF(K7="D",Seuil_max_D,0)))))*$E7) | AM7: =IF(L7="","",(IF(L7="A",Seuil_max_A,IF(L7="B",Seuil_max_B,IF(L7="C",Seuil_max_C,IF(L7="D",Seuil_max_D,0)))))*$E7) | AN7: =IF(M7="","",(IF(M7="A",Seuil_max_A,IF(M7="B",Seuil_max_B,IF(M7="C",Seuil_max_C,IF(M7="D",Seuil_max_D,0)))))*$E7) | AO7: =IF(N7="","",(IF(N7="A",Seuil_max_A,IF(N7="B",Seuil_max_B,IF(N7="C",Seuil_max_C,IF(N7="D",Seuil_max_D,0)))))*$E7) | ... BG7: =IF(AF7="","",(IF(AF7="A",Seuil_max_A,IF(AF7="B",Seuil_max_B,IF(AF7="C",Seuil_max_C,IF(AF7="D",Seuil_max_D,0)))))*$E7) | BH7: =IFERROR(AVERAGE(AH7:BG7),"") | BI7: =IFERROR(IF(OR($E7=0,$E7=""),"",$BH7/$E7),"")
AH8: =IF(G8="","",(IF(G8="A",Seuil_max_A,IF(G8="B",Seuil_max_B,IF(G8="C",Seuil_max_C,IF(G8="D",Seuil_max_D,0)))))*$E8) | AI8: =IF(H8="","",(IF(H8="A",Seuil_max_A,IF(H8="B",Seuil_max_B,IF(H8="C",Seuil_max_C,IF(H8="D",Seuil_max_D,0)))))*$E8) | AJ8: =IF(I8="","",(IF(I8="A",Seuil_max_A,IF(I8="B",Seuil_max_B,IF(I8="C",Seuil_max_C,IF(I8="D",Seuil_max_D,0)))))*$E8) | AK8: =IF(J8="","",(IF(J8="A",Seuil_max_A,IF(J8="B",Seuil_max_B,IF(J8="C",Seuil_max_C,IF(J8="D",Seuil_max_D,0)))))*$E8) | AL8: =IF(K8="","",(IF(K8="A",Seuil_max_A,IF(K8="B",Seuil_max_B,IF(K8="C",Seuil_max_C,IF(K8="D",Seuil_max_D,0)))))*$E8) | AM8: =IF(L8="","",(IF(L8="A",Seuil_max_A,IF(L8="B",Seuil_max_B,IF(L8="C",Seuil_max_C,IF(L8="D",Seuil_max_D,0)))))*$E8) | AN8: =IF(M8="","",(IF(M8="A",Seuil_max_A,IF(M8="B",Seuil_max_B,IF(M8="C",Seuil_max_C,IF(M8="D",Seuil_max_D,0)))))*$E8) | AO8: =IF(N8="","",(IF(N8="A",Seuil_max_A,IF(N8="B",Seuil_max_B,IF(N8="C",Seuil_max_C,IF(N8="D",Seuil_max_D,0)))))*$E8) | ... BG8: =IF(AF8="","",(IF(AF8="A",Seuil_max_A,IF(AF8="B",Seuil_max_B,IF(AF8="C",Seuil_max_C,IF(AF8="D",Seuil_max_D,0)))))*$E8) | BH8: =IFERROR(AVERAGE(AH8:BG8),"") | BI8: =IFERROR(IF(OR($E8=0,$E8=""),"",$BH8/$E8),"")
AH9: =IF(G9="","",(IF(G9="A",Seuil_max_A,IF(G9="B",Seuil_max_B,IF(G9="C",Seuil_max_C,IF(G9="D",Seuil_max_D,0)))))*$E9) | AI9: =IF(H9="","",(IF(H9="A",Seuil_max_A,IF(H9="B",Seuil_max_B,IF(H9="C",Seuil_max_C,IF(H9="D",Seuil_max_D,0)))))*$E9) | AJ9: =IF(I9="","",(IF(I9="A",Seuil_max_A,IF(I9="B",Seuil_max_B,IF(I9="C",Seuil_max_C,IF(I9="D",Seuil_max_D,0)))))*$E9) | AK9: =IF(J9="","",(IF(J9="A",Seuil_max_A,IF(J9="B",Seuil_max_B,IF(J9="C",Seuil_max_C,IF(J9="D",Seuil_max_D,0)))))*$E9) | AL9: =IF(K9="","",(IF(K9="A",Seuil_max_A,IF(K9="B",Seuil_max_B,IF(K9="C",Seuil_max_C,IF(K9="D",Seuil_max_D,0)))))*$E9) | AM9: =IF(L9="","",(IF(L9="A",Seuil_max_A,IF(L9="B",Seuil_max_B,IF(L9="C",Seuil_max_C,IF(L9="D",Seuil_max_D,0)))))*$E9) | AN9: =IF(M9="","",(IF(M9="A",Seuil_max_A,IF(M9="B",Seuil_max_B,IF(M9="C",Seuil_max_C,IF(M9="D",Seuil_max_D,0)))))*$E9) | AO9: =IF(N9="","",(IF(N9="A",Seuil_max_A,IF(N9="B",Seuil_max_B,IF(N9="C",Seuil_max_C,IF(N9="D",Seuil_max_D,0)))))*$E9) | ... BG9: =IF(AF9="","",(IF(AF9="A",Seuil_max_A,IF(AF9="B",Seuil_max_B,IF(AF9="C",Seuil_max_C,IF(AF9="D",Seuil_max_D,0)))))*$E9) | BH9: =IFERROR(AVERAGE(AH9:BG9),"") | BI9: =IFERROR(IF(OR($E9=0,$E9=""),"",$BH9/$E9),"")
AH10: =IF(G10="","",(IF(G10="A",Seuil_max_A,IF(G10="B",Seuil_max_B,IF(G10="C",Seuil_max_C,IF(G10="D",Seuil_max_D,0)))))*$E10) | AI10: =IF(H10="","",(IF(H10="A",Seuil_max_A,IF(H10="B",Seuil_max_B,IF(H10="C",Seuil_max_C,IF(H10="D",Seuil_max_D,0)))))*$E10) | AJ10: =IF(I10="","",(IF(I10="A",Seuil_max_A,IF(I10="B",Seuil_max_B,IF(I10="C",Seuil_max_C,IF(I10="D",Seuil_max_D,0)))))*$E10) | AK10: =IF(J10="","",(IF(J10="A",Seuil_max_A,IF(J10="B",Seuil_max_B,IF(J10="C",Seuil_max_C,IF(J10="D",Seuil_max_D,0)))))*$E10) | AL10: =IF(K10="","",(IF(K10="A",Seuil_max_A,IF(K10="B",Seuil_max_B,IF(K10="C",Seuil_max_C,IF(K10="D",Seuil_max_D,0)))))*$E10) | AM10: =IF(L10="","",(IF(L10="A",Seuil_max_A,IF(L10="B",Seuil_max_B,IF(L10="C",Seuil_max_C,IF(L10="D",Seuil_max_D,0)))))*$E10) | AN10: =IF(M10="","",(IF(M10="A",Seuil_max_A,IF(M10="B",Seuil_max_B,IF(M10="C",Seuil_max_C,IF(M10="D",Seuil_max_D,0)))))*$E10) | AO10: =IF(N10="","",(IF(N10="A",Seuil_max_A,IF(N10="B",Seuil_max_B,IF(N10="C",Seuil_max_C,IF(N10="D",Seuil_max_D,0)))))*$E10) | ... BG10: =IF(AF10="","",(IF(AF10="A",Seuil_max_A,IF(AF10="B",Seuil_max_B,IF(AF10="C",Seuil_max_C,IF(AF10="D",Seuil_max_D,0)))))*$E10) | BH10: =IFERROR(AVERAGE(AH10:BG10),"") | BI10: =IFERROR(IF(OR($E10=0,$E10=""),"",$BH10/$E10),"")
AG11: è | AH11: =IF(G11="","",(IF(G11="A",Seuil_max_A,IF(G11="B",Seuil_max_B,IF(G11="C",Seuil_max_C,IF(G11="D",Seuil_max_D,0)))))*$E11) | AI11: =IF(H11="","",(IF(H11="A",Seuil_max_A,IF(H11="B",Seuil_max_B,IF(H11="C",Seuil_max_C,IF(H11="D",Seuil_max_D,0)))))*$E11) | AJ11: =IF(I11="","",(IF(I11="A",Seuil_max_A,IF(I11="B",Seuil_max_B,IF(I11="C",Seuil_max_C,IF(I11="D",Seuil_max_D,0)))))*$E11) | AK11: =IF(J11="","",(IF(J11="A",Seuil_max_A,IF(J11="B",Seuil_max_B,IF(J11="C",Seuil_max_C,IF(J11="D",Seuil_max_D,0)))))*$E11) | AL11: =IF(K11="","",(IF(K11="A",Seuil_max_A,IF(K11="B",Seuil_max_B,IF(K11="C",Seuil_max_C,IF(K11="D",Seuil_max_D,0)))))*$E11) | AM11: =IF(L11="","",(IF(L11="A",Seuil_max_A,IF(L11="B",Seuil_max_B,IF(L11="C",Seuil_max_C,IF(L11="D",Seuil_max_D,0)))))*$E11) | AN11: =IF(M11="","",(IF(M11="A",Seuil_max_A,IF(M11="B",Seuil_max_B,IF(M11="C",Seuil_max_C,IF(M11="D",Seuil_max_D,0)))))*$E11) | AO11: =IF(N11="","",(IF(N11="A",Seuil_max_A,IF(N11="B",Seuil_max_B,IF(N11="C",Seuil_max_C,IF(N11="D",Seuil_max_D,0)))))*$E11) | ... BG11: =IF(AF11="","",(IF(AF11="A",Seuil_max_A,IF(AF11="B",Seuil_max_B,IF(AF11="C",Seuil_max_C,IF(AF11="D",Seuil_max_D,0)))))*$E11) | BH11: =IFERROR(AVERAGE(AH11:BG11),"") | BI11: =IFERROR(IF(OR($E11=0,$E11=""),"",$BH11/$E11),"")
AH12: =IF(G12="","",(IF(G12="A",Seuil_max_A,IF(G12="B",Seuil_max_B,IF(G12="C",Seuil_max_C,IF(G12="D",Seuil_max_D,0)))))*$E12) | AI12: =IF(H12="","",(IF(H12="A",Seuil_max_A,IF(H12="B",Seuil_max_B,IF(H12="C",Seuil_max_C,IF(H12="D",Seuil_max_D,0)))))*$E12) | AJ12: =IF(I12="","",(IF(I12="A",Seuil_max_A,IF(I12="B",Seuil_max_B,IF(I12="C",Seuil_max_C,IF(I12="D",Seuil_max_D,0)))))*$E12) | AK12: =IF(J12="","",(IF(J12="A",Seuil_max_A,IF(J12="B",Seuil_max_B,IF(J12="C",Seuil_max_C,IF(J12="D",Seuil_max_D,0)))))*$E12) | AL12: =IF(K12="","",(IF(K12="A",Seuil_max_A,IF(K12="B",Seuil_max_B,IF(K12="C",Seuil_max_C,IF(K12="D",Seuil_max_D,0)))))*$E12) | AM12: =IF(L12="","",(IF(L12="A",Seuil_max_A,IF(L12="B",Seuil_max_B,IF(L12="C",Seuil_max_C,IF(L12="D",Seuil_max_D,0)))))*$E12) | AN12: =IF(M12="","",(IF(M12="A",Seuil_max_A,IF(M12="B",Seuil_max_B,IF(M12="C",Seuil_max_C,IF(M12="D",Seuil_max_D,0)))))*$E12) | AO12: =IF(N12="","",(IF(N12="A",Seuil_max_A,IF(N12="B",Seuil_max_B,IF(N12="C",Seuil_max_C,IF(N12="D",Seuil_max_D,0)))))*$E12) | ... BG12: =IF(AF12="","",(IF(AF12="A",Seuil_max_A,IF(AF12="B",Seuil_max_B,IF(AF12="C",Seuil_max_C,IF(AF12="D",Seuil_max_D,0)))))*$E12) | BH12: =IFERROR(AVERAGE(AH12:BG12),"") | BI12: =IFERROR(IF(OR($E12=0,$E12=""),"",$BH12/$E12),"")
AH13: =IF(G13="","",(IF(G13="A",Seuil_max_A,IF(G13="B",Seuil_max_B,IF(G13="C",Seuil_max_C,IF(G13="D",Seuil_max_D,0)))))*$E13) | AI13: =IF(H13="","",(IF(H13="A",Seuil_max_A,IF(H13="B",Seuil_max_B,IF(H13="C",Seuil_max_C,IF(H13="D",Seuil_max_D,0)))))*$E13) | AJ13: =IF(I13="","",(IF(I13="A",Seuil_max_A,IF(I13="B",Seuil_max_B,IF(I13="C",Seuil_max_C,IF(I13="D",Seuil_max_D,0)))))*$E13) | AK13: =IF(J13="","",(IF(J13="A",Seuil_max_A,IF(J13="B",Seuil_max_B,IF(J13="C",Seuil_max_C,IF(J13="D",Seuil_max_D,0)))))*$E13) | AL13: =IF(K13="","",(IF(K13="A",Seuil_max_A,IF(K13="B",Seuil_max_B,IF(K13="C",Seuil_max_C,IF(K13="D",Seuil_max_D,0)))))*$E13) | AM13: =IF(L13="","",(IF(L13="A",Seuil_max_A,IF(L13="B",Seuil_max_B,IF(L13="C",Seuil_max_C,IF(L13="D",Seuil_max_D,0)))))*$E13) | AN13: =IF(M13="","",(IF(M13="A",Seuil_max_A,IF(M13="B",Seuil_max_B,IF(M13="C",Seuil_max_C,IF(M13="D",Seuil_max_D,0)))))*$E13) | AO13: =IF(N13="","",(IF(N13="A",Seuil_max_A,IF(N13="B",Seuil_max_B,IF(N13="C",Seuil_max_C,IF(N13="D",Seuil_max_D,0)))))*$E13) | ... BG13: =IF(AF13="","",(IF(AF13="A",Seuil_max_A,IF(AF13="B",Seuil_max_B,IF(AF13="C",Seuil_max_C,IF(AF13="D",Seuil_max_D,0)))))*$E13) | BH13: =IFERROR(AVERAGE(AH13:BG13),"") | BI13: =IFERROR(IF(OR($E13=0,$E13=""),"",$BH13/$E13),"")
AH14: =IF(G14="","",(IF(G14="A",Seuil_max_A,IF(G14="B",Seuil_max_B,IF(G14="C",Seuil_max_C,IF(G14="D",Seuil_max_D,0)))))*$E14) | AI14: =IF(H14="","",(IF(H14="A",Seuil_max_A,IF(H14="B",Seuil_max_B,IF(H14="C",Seuil_max_C,IF(H14="D",Seuil_max_D,0)))))*$E14) | AJ14: =IF(I14="","",(IF(I14="A",Seuil_max_A,IF(I14="B",Seuil_max_B,IF(I14="C",Seuil_max_C,IF(I14="D",Seuil_max_D,0)))))*$E14) | AK14: =IF(J14="","",(IF(J14="A",Seuil_max_A,IF(J14="B",Seuil_max_B,IF(J14="C",Seuil_max_C,IF(J14="D",Seuil_max_D,0)))))*$E14) | AL14: =IF(K14="","",(IF(K14="A",Seuil_max_A,IF(K14="B",Seuil_max_B,IF(K14="C",Seuil_max_C,IF(K14="D",Seuil_max_D,0)))))*$E14) | AM14: =IF(L14="","",(IF(L14="A",Seuil_max_A,IF(L14="B",Seuil_max_B,IF(L14="C",Seuil_max_C,IF(L14="D",Seuil_max_D,0)))))*$E14) | AN14: =IF(M14="","",(IF(M14="A",Seuil_max_A,IF(M14="B",Seuil_max_B,IF(M14="C",Seuil_max_C,IF(M14="D",Seuil_max_D,0)))))*$E14) | AO14: =IF(N14="","",(IF(N14="A",Seuil_max_A,IF(N14="B",Seuil_max_B,IF(N14="C",Seuil_max_C,IF(N14="D",Seuil_max_D,0)))))*$E14) | ... BG14: =IF(AF14="","",(IF(AF14="A",Seuil_max_A,IF(AF14="B",Seuil_max_B,IF(AF14="C",Seuil_max_C,IF(AF14="D",Seuil_max_D,0)))))*$E14) | BH14: =IFERROR(AVERAGE(AH14:BG14),"") | BI14: =IFERROR(IF(OR($E14=0,$E14=""),"",$BH14/$E14),"")
AH15: =IF(G15="","",(IF(G15="A",Seuil_max_A,IF(G15="B",Seuil_max_B,IF(G15="C",Seuil_max_C,IF(G15="D",Seuil_max_D,0)))))*$E15) | AI15: =IF(H15="","",(IF(H15="A",Seuil_max_A,IF(H15="B",Seuil_max_B,IF(H15="C",Seuil_max_C,IF(H15="D",Seuil_max_D,0)))))*$E15) | AJ15: =IF(I15="","",(IF(I15="A",Seuil_max_A,IF(I15="B",Seuil_max_B,IF(I15="C",Seuil_max_C,IF(I15="D",Seuil_max_D,0)))))*$E15) | AK15: =IF(J15="","",(IF(J15="A",Seuil_max_A,IF(J15="B",Seuil_max_B,IF(J15="C",Seuil_max_C,IF(J15="D",Seuil_max_D,0)))))*$E15) | AL15: =IF(K15="","",(IF(K15="A",Seuil_max_A,IF(K15="B",Seuil_max_B,IF(K15="C",Seuil_max_C,IF(K15="D",Seuil_max_D,0)))))*$E15) | AM15: =IF(L15="","",(IF(L15="A",Seuil_max_A,IF(L15="B",Seuil_max_B,IF(L15="C",Seuil_max_C,IF(L15="D",Seuil_max_D,0)))))*$E15) | AN15: =IF(M15="","",(IF(M15="A",Seuil_max_A,IF(M15="B",Seuil_max_B,IF(M15="C",Seuil_max_C,IF(M15="D",Seuil_max_D,0)))))*$E15) | AO15: =IF(N15="","",(IF(N15="A",Seuil_max_A,IF(N15="B",Seuil_max_B,IF(N15="C",Seuil_max_C,IF(N15="D",Seuil_max_D,0)))))*$E15) | ... BG15: =IF(AF15="","",(IF(AF15="A",Seuil_max_A,IF(AF15="B",Seuil_max_B,IF(AF15="C",Seuil_max_C,IF(AF15="D",Seuil_max_D,0)))))*$E15) | BH15: =IFERROR(AVERAGE(AH15:BG15),"") | BI15: =IFERROR(IF(OR($E15=0,$E15=""),"",$BH15/$E15),"")
AH16: =IF(G16="","",(IF(G16="A",Seuil_max_A,IF(G16="B",Seuil_max_B,IF(G16="C",Seuil_max_C,IF(G16="D",Seuil_max_D,0)))))*$E16) | AI16: =IF(H16="","",(IF(H16="A",Seuil_max_A,IF(H16="B",Seuil_max_B,IF(H16="C",Seuil_max_C,IF(H16="D",Seuil_max_D,0)))))*$E16) | AJ16: =IF(I16="","",(IF(I16="A",Seuil_max_A,IF(I16="B",Seuil_max_B,IF(I16="C",Seuil_max_C,IF(I16="D",Seuil_max_D,0)))))*$E16) | AK16: =IF(J16="","",(IF(J16="A",Seuil_max_A,IF(J16="B",Seuil_max_B,IF(J16="C",Seuil_max_C,IF(J16="D",Seuil_max_D,0)))))*$E16) | AL16: =IF(K16="","",(IF(K16="A",Seuil_max_A,IF(K16="B",Seuil_max_B,IF(K16="C",Seuil_max_C,IF(K16="D",Seuil_max_D,0)))))*$E16) | AM16: =IF(L16="","",(IF(L16="A",Seuil_max_A,IF(L16="B",Seuil_max_B,IF(L16="C",Seuil_max_C,IF(L16="D",Seuil_max_D,0)))))*$E16) | AN16: =IF(M16="","",(IF(M16="A",Seuil_max_A,IF(M16="B",Seuil_max_B,IF(M16="C",Seuil_max_C,IF(M16="D",Seuil_max_D,0)))))*$E16) | AO16: =IF(N16="","",(IF(N16="A",Seuil_max_A,IF(N16="B",Seuil_max_B,IF(N16="C",Seuil_max_C,IF(N16="D",Seuil_max_D,0)))))*$E16) | ... BG16: =IF(AF16="","",(IF(AF16="A",Seuil_max_A,IF(AF16="B",Seuil_max_B,IF(AF16="C",Seuil_max_C,IF(AF16="D",Seuil_max_D,0)))))*$E16) | BH16: =IFERROR(AVERAGE(AH16:BG16),"") | BI16: =IFERROR(IF(OR($E16=0,$E16=""),"",$BH16/$E16),"")
AH17: =IF(G17="","",(IF(G17="A",Seuil_max_A,IF(G17="B",Seuil_max_B,IF(G17="C",Seuil_max_C,IF(G17="D",Seuil_max_D,0)))))*$E17) | AI17: =IF(H17="","",(IF(H17="A",Seuil_max_A,IF(H17="B",Seuil_max_B,IF(H17="C",Seuil_max_C,IF(H17="D",Seuil_max_D,0)))))*$E17) | AJ17: =IF(I17="","",(IF(I17="A",Seuil_max_A,IF(I17="B",Seuil_max_B,IF(I17="C",Seuil_max_C,IF(I17="D",Seuil_max_D,0)))))*$E17) | AK17: =IF(J17="","",(IF(J17="A",Seuil_max_A,IF(J17="B",Seuil_max_B,IF(J17="C",Seuil_max_C,IF(J17="D",Seuil_max_D,0)))))*$E17) | AL17: =IF(K17="","",(IF(K17="A",Seuil_max_A,IF(K17="B",Seuil_max_B,IF(K17="C",Seuil_max_C,IF(K17="D",Seuil_max_D,0)))))*$E17) | AM17: =IF(L17="","",(IF(L17="A",Seuil_max_A,IF(L17="B",Seuil_max_B,IF(L17="C",Seuil_max_C,IF(L17="D",Seuil_max_D,0)))))*$E17) | AN17: =IF(M17="","",(IF(M17="A",Seuil_max_A,IF(M17="B",Seuil_max_B,IF(M17="C",Seuil_max_C,IF(M17="D",Seuil_max_D,0)))))*$E17) | AO17: =IF(N17="","",(IF(N17="A",Seuil_max_A,IF(N17="B",Seuil_max_B,IF(N17="C",Seuil_max_C,IF(N17="D",Seuil_max_D,0)))))*$E17) | ... BG17: =IF(AF17="","",(IF(AF17="A",Seuil_max_A,IF(AF17="B",Seuil_max_B,IF(AF17="C",Seuil_max_C,IF(AF17="D",Seuil_max_D,0)))))*$E17) | BH17: =IFERROR(AVERAGE(AH17:BG17),"") | BI17: =IFERROR(IF(OR($E17=0,$E17=""),"",$BH17/$E17),"")
AH18: =IF(G18="","",(IF(G18="A",Seuil_max_A,IF(G18="B",Seuil_max_B,IF(G18="C",Seuil_max_C,IF(G18="D",Seuil_max_D,0)))))*$E18) | AI18: =IF(H18="","",(IF(H18="A",Seuil_max_A,IF(H18="B",Seuil_max_B,IF(H18="C",Seuil_max_C,IF(H18="D",Seuil_max_D,0)))))*$E18) | AJ18: =IF(I18="","",(IF(I18="A",Seuil_max_A,IF(I18="B",Seuil_max_B,IF(I18="C",Seuil_max_C,IF(I18="D",Seuil_max_D,0)))))*$E18) | AK18: =IF(J18="","",(IF(J18="A",Seuil_max_A,IF(J18="B",Seuil_max_B,IF(J18="C",Seuil_max_C,IF(J18="D",Seuil_max_D,0)))))*$E18) | AL18: =IF(K18="","",(IF(K18="A",Seuil_max_A,IF(K18="B",Seuil_max_B,IF(K18="C",Seuil_max_C,IF(K18="D",Seuil_max_D,0)))))*$E18) | AM18: =IF(L18="","",(IF(L18="A",Seuil_max_A,IF(L18="B",Seuil_max_B,IF(L18="C",Seuil_max_C,IF(L18="D",Seuil_max_D,0)))))*$E18) | AN18: =IF(M18="","",(IF(M18="A",Seuil_max_A,IF(M18="B",Seuil_max_B,IF(M18="C",Seuil_max_C,IF(M18="D",Seuil_max_D,0)))))*$E18) | AO18: =IF(N18="","",(IF(N18="A",Seuil_max_A,IF(N18="B",Seuil_max_B,IF(N18="C",Seuil_max_C,IF(N18="D",Seuil_max_D,0)))))*$E18) | ... BG18: =IF(AF18="","",(IF(AF18="A",Seuil_max_A,IF(AF18="B",Seuil_max_B,IF(AF18="C",Seuil_max_C,IF(AF18="D",Seuil_max_D,0)))))*$E18) | BH18: =IFERROR(AVERAGE(AH18:BG18),"") | BI18: =IFERROR(IF(OR($E18=0,$E18=""),"",$BH18/$E18),"")
AG19: è | AH19: =IF(G19="","",(IF(G19="A",Seuil_max_A,IF(G19="B",Seuil_max_B,IF(G19="C",Seuil_max_C,IF(G19="D",Seuil_max_D,0)))))*$E19) | AI19: =IF(H19="","",(IF(H19="A",Seuil_max_A,IF(H19="B",Seuil_max_B,IF(H19="C",Seuil_max_C,IF(H19="D",Seuil_max_D,0)))))*$E19) | AJ19: =IF(I19="","",(IF(I19="A",Seuil_max_A,IF(I19="B",Seuil_max_B,IF(I19="C",Seuil_max_C,IF(I19="D",Seuil_max_D,0)))))*$E19) | AK19: =IF(J19="","",(IF(J19="A",Seuil_max_A,IF(J19="B",Seuil_max_B,IF(J19="C",Seuil_max_C,IF(J19="D",Seuil_max_D,0)))))*$E19) | AL19: =IF(K19="","",(IF(K19="A",Seuil_max_A,IF(K19="B",Seuil_max_B,IF(K19="C",Seuil_max_C,IF(K19="D",Seuil_max_D,0)))))*$E19) | AM19: =IF(L19="","",(IF(L19="A",Seuil_max_A,IF(L19="B",Seuil_max_B,IF(L19="C",Seuil_max_C,IF(L19="D",Seuil_max_D,0)))))*$E19) | AN19: =IF(M19="","",(IF(M19="A",Seuil_max_A,IF(M19="B",Seuil_max_B,IF(M19="C",Seuil_max_C,IF(M19="D",Seuil_max_D,0)))))*$E19) | AO19: =IF(N19="","",(IF(N19="A",Seuil_max_A,IF(N19="B",Seuil_max_B,IF(N19="C",Seuil_max_C,IF(N19="D",Seuil_max_D,0)))))*$E19) | ... BG19: =IF(AF19="","",(IF(AF19="A",Seuil_max_A,IF(AF19="B",Seuil_max_B,IF(AF19="C",Seuil_max_C,IF(AF19="D",Seuil_max_D,0)))))*$E19) | BH19: =IFERROR(AVERAGE(AH19:BG19),"") | BI19: =IFERROR(IF(OR($E19=0,$E19=""),"",$BH19/$E19),"")
AH20: =IF(G20="","",(IF(G20="A",Seuil_max_A,IF(G20="B",Seuil_max_B,IF(G20="C",Seuil_max_C,IF(G20="D",Seuil_max_D,0)))))*$E20) | AI20: =IF(H20="","",(IF(H20="A",Seuil_max_A,IF(H20="B",Seuil_max_B,IF(H20="C",Seuil_max_C,IF(H20="D",Seuil_max_D,0)))))*$E20) | AJ20: =IF(I20="","",(IF(I20="A",Seuil_max_A,IF(I20="B",Seuil_max_B,IF(I20="C",Seuil_max_C,IF(I20="D",Seuil_max_D,0)))))*$E20) | AK20: =IF(J20="","",(IF(J20="A",Seuil_max_A,IF(J20="B",Seuil_max_B,IF(J20="C",Seuil_max_C,IF(J20="D",Seuil_max_D,0)))))*$E20) | AL20: =IF(K20="","",(IF(K20="A",Seuil_max_A,IF(K20="B",Seuil_max_B,IF(K20="C",Seuil_max_C,IF(K20="D",Seuil_max_D,0)))))*$E20) | AM20: =IF(L20="","",(IF(L20="A",Seuil_max_A,IF(L20="B",Seuil_max_B,IF(L20="C",Seuil_max_C,IF(L20="D",Seuil_max_D,0)))))*$E20) | AN20: =IF(M20="","",(IF(M20="A",Seuil_max_A,IF(M20="B",Seuil_max_B,IF(M20="C",Seuil_max_C,IF(M20="D",Seuil_max_D,0)))))*$E20) | AO20: =IF(N20="","",(IF(N20="A",Seuil_max_A,IF(N20="B",Seuil_max_B,IF(N20="C",Seuil_max_C,IF(N20="D",Seuil_max_D,0)))))*$E20) | ... BG20: =IF(AF20="","",(IF(AF20="A",Seuil_max_A,IF(AF20="B",Seuil_max_B,IF(AF20="C",Seuil_max_C,IF(AF20="D",Seuil_max_D,0)))))*$E20) | BH20: =IFERROR(AVERAGE(AH20:BG20),"") | BI20: =IFERROR(IF(OR($E20=0,$E20=""),"",$BH20/$E20),"")
AH21: =IF(G21="","",(IF(G21="A",Seuil_max_A,IF(G21="B",Seuil_max_B,IF(G21="C",Seuil_max_C,IF(G21="D",Seuil_max_D,0)))))*$E21) | AI21: =IF(H21="","",(IF(H21="A",Seuil_max_A,IF(H21="B",Seuil_max_B,IF(H21="C",Seuil_max_C,IF(H21="D",Seuil_max_D,0)))))*$E21) | AJ21: =IF(I21="","",(IF(I21="A",Seuil_max_A,IF(I21="B",Seuil_max_B,IF(I21="C",Seuil_max_C,IF(I21="D",Seuil_max_D,0)))))*$E21) | AK21: =IF(J21="","",(IF(J21="A",Seuil_max_A,IF(J21="B",Seuil_max_B,IF(J21="C",Seuil_max_C,IF(J21="D",Seuil_max_D,0)))))*$E21) | AL21: =IF(K21="","",(IF(K21="A",Seuil_max_A,IF(K21="B",Seuil_max_B,IF(K21="C",Seuil_max_C,IF(K21="D",Seuil_max_D,0)))))*$E21) | AM21: =IF(L21="","",(IF(L21="A",Seuil_max_A,IF(L21="B",Seuil_max_B,IF(L21="C",Seuil_max_C,IF(L21="D",Seuil_max_D,0)))))*$E21) | AN21: =IF(M21="","",(IF(M21="A",Seuil_max_A,IF(M21="B",Seuil_max_B,IF(M21="C",Seuil_max_C,IF(M21="D",Seuil_max_D,0)))))*$E21) | AO21: =IF(N21="","",(IF(N21="A",Seuil_max_A,IF(N21="B",Seuil_max_B,IF(N21="C",Seuil_max_C,IF(N21="D",Seuil_max_D,0)))))*$E21) | ... BG21: =IF(AF21="","",(IF(AF21="A",Seuil_max_A,IF(AF21="B",Seuil_max_B,IF(AF21="C",Seuil_max_C,IF(AF21="D",Seuil_max_D,0)))))*$E21) | BH21: =IFERROR(AVERAGE(AH21:BG21),"") | BI21: =IFERROR(IF(OR($E21=0,$E21=""),"",$BH21/$E21),"")
AH22: =IF(G22="","",(IF(G22="A",Seuil_max_A,IF(G22="B",Seuil_max_B,IF(G22="C",Seuil_max_C,IF(G22="D",Seuil_max_D,0)))))*$E22) | AI22: =IF(H22="","",(IF(H22="A",Seuil_max_A,IF(H22="B",Seuil_max_B,IF(H22="C",Seuil_max_C,IF(H22="D",Seuil_max_D,0)))))*$E22) | AJ22: =IF(I22="","",(IF(I22="A",Seuil_max_A,IF(I22="B",Seuil_max_B,IF(I22="C",Seuil_max_C,IF(I22="D",Seuil_max_D,0)))))*$E22) | AK22: =IF(J22="","",(IF(J22="A",Seuil_max_A,IF(J22="B",Seuil_max_B,IF(J22="C",Seuil_max_C,IF(J22="D",Seuil_max_D,0)))))*$E22) | AL22: =IF(K22="","",(IF(K22="A",Seuil_max_A,IF(K22="B",Seuil_max_B,IF(K22="C",Seuil_max_C,IF(K22="D",Seuil_max_D,0)))))*$E22) | AM22: =IF(L22="","",(IF(L22="A",Seuil_max_A,IF(L22="B",Seuil_max_B,IF(L22="C",Seuil_max_C,IF(L22="D",Seuil_max_D,0)))))*$E22) | AN22: =IF(M22="","",(IF(M22="A",Seuil_max_A,IF(M22="B",Seuil_max_B,IF(M22="C",Seuil_max_C,IF(M22="D",Seuil_max_D,0)))))*$E22) | AO22: =IF(N22="","",(IF(N22="A",Seuil_max_A,IF(N22="B",Seuil_max_B,IF(N22="C",Seuil_max_C,IF(N22="D",Seuil_max_D,0)))))*$E22) | ... BG22: =IF(AF22="","",(IF(AF22="A",Seuil_max_A,IF(AF22="B",Seuil_max_B,IF(AF22="C",Seuil_max_C,IF(AF22="D",Seuil_max_D,0)))))*$E22) | BH22: =IFERROR(AVERAGE(AH22:BG22),"") | BI22: =IFERROR(IF(OR($E22=0,$E22=""),"",$BH22/$E22),"")
AH23: =IF(G23="","",(IF(G23="A",Seuil_max_A,IF(G23="B",Seuil_max_B,IF(G23="C",Seuil_max_C,IF(G23="D",Seuil_max_D,0)))))*$E23) | AI23: =IF(H23="","",(IF(H23="A",Seuil_max_A,IF(H23="B",Seuil_max_B,IF(H23="C",Seuil_max_C,IF(H23="D",Seuil_max_D,0)))))*$E23) | AJ23: =IF(I23="","",(IF(I23="A",Seuil_max_A,IF(I23="B",Seuil_max_B,IF(I23="C",Seuil_max_C,IF(I23="D",Seuil_max_D,0)))))*$E23) | AK23: =IF(J23="","",(IF(J23="A",Seuil_max_A,IF(J23="B",Seuil_max_B,IF(J23="C",Seuil_max_C,IF(J23="D",Seuil_max_D,0)))))*$E23) | AL23: =IF(K23="","",(IF(K23="A",Seuil_max_A,IF(K23="B",Seuil_max_B,IF(K23="C",Seuil_max_C,IF(K23="D",Seuil_max_D,0)))))*$E23) | AM23: =IF(L23="","",(IF(L23="A",Seuil_max_A,IF(L23="B",Seuil_max_B,IF(L23="C",Seuil_max_C,IF(L23="D",Seuil_max_D,0)))))*$E23) | AN23: =IF(M23="","",(IF(M23="A",Seuil_max_A,IF(M23="B",Seuil_max_B,IF(M23="C",Seuil_max_C,IF(M23="D",Seuil_max_D,0)))))*$E23) | AO23: =IF(N23="","",(IF(N23="A",Seuil_max_A,IF(N23="B",Seuil_max_B,IF(N23="C",Seuil_max_C,IF(N23="D",Seuil_max_D,0)))))*$E23) | ... BG23: =IF(AF23="","",(IF(AF23="A",Seuil_max_A,IF(AF23="B",Seuil_max_B,IF(AF23="C",Seuil_max_C,IF(AF23="D",Seuil_max_D,0)))))*$E23) | BH23: =IFERROR(AVERAGE(AH23:BG23),"") | BI23: =IFERROR(IF(OR($E23=0,$E23=""),"",$BH23/$E23),"")
AH24: =IF(G24="","",(IF(G24="A",Seuil_max_A,IF(G24="B",Seuil_max_B,IF(G24="C",Seuil_max_C,IF(G24="D",Seuil_max_D,0)))))*$E24) | AI24: =IF(H24="","",(IF(H24="A",Seuil_max_A,IF(H24="B",Seuil_max_B,IF(H24="C",Seuil_max_C,IF(H24="D",Seuil_max_D,0)))))*$E24) | AJ24: =IF(I24="","",(IF(I24="A",Seuil_max_A,IF(I24="B",Seuil_max_B,IF(I24="C",Seuil_max_C,IF(I24="D",Seuil_max_D,0)))))*$E24) | AK24: =IF(J24="","",(IF(J24="A",Seuil_max_A,IF(J24="B",Seuil_max_B,IF(J24="C",Seuil_max_C,IF(J24="D",Seuil_max_D,0)))))*$E24) | AL24: =IF(K24="","",(IF(K24="A",Seuil_max_A,IF(K24="B",Seuil_max_B,IF(K24="C",Seuil_max_C,IF(K24="D",Seuil_max_D,0)))))*$E24) | AM24: =IF(L24="","",(IF(L24="A",Seuil_max_A,IF(L24="B",Seuil_max_B,IF(L24="C",Seuil_max_C,IF(L24="D",Seuil_max_D,0)))))*$E24) | AN24: =IF(M24="","",(IF(M24="A",Seuil_max_A,IF(M24="B",Seuil_max_B,IF(M24="C",Seuil_max_C,IF(M24="D",Seuil_max_D,0)))))*$E24) | AO24: =IF(N24="","",(IF(N24="A",Seuil_max_A,IF(N24="B",Seuil_max_B,IF(N24="C",Seuil_max_C,IF(N24="D",Seuil_max_D,0)))))*$E24) | ... BG24: =IF(AF24="","",(IF(AF24="A",Seuil_max_A,IF(AF24="B",Seuil_max_B,IF(AF24="C",Seuil_max_C,IF(AF24="D",Seuil_max_D,0)))))*$E24) | BH24: =IFERROR(AVERAGE(AH24:BG24),"") | BI24: =IFERROR(IF(OR($E24=0,$E24=""),"",$BH24/$E24),"")
AH25: =IF(G25="","",(IF(G25="A",Seuil_max_A,IF(G25="B",Seuil_max_B,IF(G25="C",Seuil_max_C,IF(G25="D",Seuil_max_D,0)))))*$E25) | AI25: =IF(H25="","",(IF(H25="A",Seuil_max_A,IF(H25="B",Seuil_max_B,IF(H25="C",Seuil_max_C,IF(H25="D",Seuil_max_D,0)))))*$E25) | AJ25: =IF(I25="","",(IF(I25="A",Seuil_max_A,IF(I25="B",Seuil_max_B,IF(I25="C",Seuil_max_C,IF(I25="D",Seuil_max_D,0)))))*$E25) | AK25: =IF(J25="","",(IF(J25="A",Seuil_max_A,IF(J25="B",Seuil_max_B,IF(J25="C",Seuil_max_C,IF(J25="D",Seuil_max_D,0)))))*$E25) | AL25: =IF(K25="","",(IF(K25="A",Seuil_max_A,IF(K25="B",Seuil_max_B,IF(K25="C",Seuil_max_C,IF(K25="D",Seuil_max_D,0)))))*$E25) | AM25: =IF(L25="","",(IF(L25="A",Seuil_max_A,IF(L25="B",Seuil_max_B,IF(L25="C",Seuil_max_C,IF(L25="D",Seuil_max_D,0)))))*$E25) | AN25: =IF(M25="","",(IF(M25="A",Seuil_max_A,IF(M25="B",Seuil_max_B,IF(M25="C",Seuil_max_C,IF(M25="D",Seuil_max_D,0)))))*$E25) | AO25: =IF(N25="","",(IF(N25="A",Seuil_max_A,IF(N25="B",Seuil_max_B,IF(N25="C",Seuil_max_C,IF(N25="D",Seuil_max_D,0)))))*$E25) | ... BG25: =IF(AF25="","",(IF(AF25="A",Seuil_max_A,IF(AF25="B",Seuil_max_B,IF(AF25="C",Seuil_max_C,IF(AF25="D",Seuil_max_D,0)))))*$E25) | BH25: =IFERROR(AVERAGE(AH25:BG25),"") | BI25: =IFERROR(IF(OR($E25=0,$E25=""),"",$BH25/$E25),"")
AH26: =IF(G26="","",(IF(G26="A",Seuil_max_A,IF(G26="B",Seuil_max_B,IF(G26="C",Seuil_max_C,IF(G26="D",Seuil_max_D,0)))))*$E26) | AI26: =IF(H26="","",(IF(H26="A",Seuil_max_A,IF(H26="B",Seuil_max_B,IF(H26="C",Seuil_max_C,IF(H26="D",Seuil_max_D,0)))))*$E26) | AJ26: =IF(I26="","",(IF(I26="A",Seuil_max_A,IF(I26="B",Seuil_max_B,IF(I26="C",Seuil_max_C,IF(I26="D",Seuil_max_D,0)))))*$E26) | AK26: =IF(J26="","",(IF(J26="A",Seuil_max_A,IF(J26="B",Seuil_max_B,IF(J26="C",Seuil_max_C,IF(J26="D",Seuil_max_D,0)))))*$E26) | AL26: =IF(K26="","",(IF(K26="A",Seuil_max_A,IF(K26="B",Seuil_max_B,IF(K26="C",Seuil_max_C,IF(K26="D",Seuil_max_D,0)))))*$E26) | AM26: =IF(L26="","",(IF(L26="A",Seuil_max_A,IF(L26="B",Seuil_max_B,IF(L26="C",Seuil_max_C,IF(L26="D",Seuil_max_D,0)))))*$E26) | AN26: =IF(M26="","",(IF(M26="A",Seuil_max_A,IF(M26="B",Seuil_max_B,IF(M26="C",Seuil_max_C,IF(M26="D",Seuil_max_D,0)))))*$E26) | AO26: =IF(N26="","",(IF(N26="A",Seuil_max_A,IF(N26="B",Seuil_max_B,IF(N26="C",Seuil_max_C,IF(N26="D",Seuil_max_D,0)))))*$E26) | ... BG26: =IF(AF26="","",(IF(AF26="A",Seuil_max_A,IF(AF26="B",Seuil_max_B,IF(AF26="C",Seuil_max_C,IF(AF26="D",Seuil_max_D,0)))))*$E26) | BH26: =IFERROR(AVERAGE(AH26:BG26),"") | BI26: =IFERROR(IF(OR($E26=0,$E26=""),"",$BH26/$E26),"")
AG27: è | AH27: =IF(G27="","",(IF(G27="A",Seuil_max_A,IF(G27="B",Seuil_max_B,IF(G27="C",Seuil_max_C,IF(G27="D",Seuil_max_D,0)))))*$E27) | AI27: =IF(H27="","",(IF(H27="A",Seuil_max_A,IF(H27="B",Seuil_max_B,IF(H27="C",Seuil_max_C,IF(H27="D",Seuil_max_D,0)))))*$E27) | AJ27: =IF(I27="","",(IF(I27="A",Seuil_max_A,IF(I27="B",Seuil_max_B,IF(I27="C",Seuil_max_C,IF(I27="D",Seuil_max_D,0)))))*$E27) | AK27: =IF(J27="","",(IF(J27="A",Seuil_max_A,IF(J27="B",Seuil_max_B,IF(J27="C",Seuil_max_C,IF(J27="D",Seuil_max_D,0)))))*$E27) | AL27: =IF(K27="","",(IF(K27="A",Seuil_max_A,IF(K27="B",Seuil_max_B,IF(K27="C",Seuil_max_C,IF(K27="D",Seuil_max_D,0)))))*$E27) | AM27: =IF(L27="","",(IF(L27="A",Seuil_max_A,IF(L27="B",Seuil_max_B,IF(L27="C",Seuil_max_C,IF(L27="D",Seuil_max_D,0)))))*$E27) | AN27: =IF(M27="","",(IF(M27="A",Seuil_max_A,IF(M27="B",Seuil_max_B,IF(M27="C",Seuil_max_C,IF(M27="D",Seuil_max_D,0)))))*$E27) | AO27: =IF(N27="","",(IF(N27="A",Seuil_max_A,IF(N27="B",Seuil_max_B,IF(N27="C",Seuil_max_C,IF(N27="D",Seuil_max_D,0)))))*$E27) | ... BG27: =IF(AF27="","",(IF(AF27="A",Seuil_max_A,IF(AF27="B",Seuil_max_B,IF(AF27="C",Seuil_max_C,IF(AF27="D",Seuil_max_D,0)))))*$E27) | BH27: =IFERROR(AVERAGE(AH27:BG27),"") | BI27: =IFERROR(IF(OR($E27=0,$E27=""),"",$BH27/$E27),"")
AH28: =IF(G28="","",(IF(G28="A",Seuil_max_A,IF(G28="B",Seuil_max_B,IF(G28="C",Seuil_max_C,IF(G28="D",Seuil_max_D,0)))))*$E28) | AI28: =IF(H28="","",(IF(H28="A",Seuil_max_A,IF(H28="B",Seuil_max_B,IF(H28="C",Seuil_max_C,IF(H28="D",Seuil_max_D,0)))))*$E28) | AJ28: =IF(I28="","",(IF(I28="A",Seuil_max_A,IF(I28="B",Seuil_max_B,IF(I28="C",Seuil_max_C,IF(I28="D",Seuil_max_D,0)))))*$E28) | AK28: =IF(J28="","",(IF(J28="A",Seuil_max_A,IF(J28="B",Seuil_max_B,IF(J28="C",Seuil_max_C,IF(J28="D",Seuil_max_D,0)))))*$E28) | AL28: =IF(K28="","",(IF(K28="A",Seuil_max_A,IF(K28="B",Seuil_max_B,IF(K28="C",Seuil_max_C,IF(K28="D",Seuil_max_D,0)))))*$E28) | AM28: =IF(L28="","",(IF(L28="A",Seuil_max_A,IF(L28="B",Seuil_max_B,IF(L28="C",Seuil_max_C,IF(L28="D",Seuil_max_D,0)))))*$E28) | AN28: =IF(M28="","",(IF(M28="A",Seuil_max_A,IF(M28="B",Seuil_max_B,IF(M28="C",Seuil_max_C,IF(M28="D",Seuil_max_D,0)))))*$E28) | AO28: =IF(N28="","",(IF(N28="A",Seuil_max_A,IF(N28="B",Seuil_max_B,IF(N28="C",Seuil_max_C,IF(N28="D",Seuil_max_D,0)))))*$E28) | ... BG28: =IF(AF28="","",(IF(AF28="A",Seuil_max_A,IF(AF28="B",Seuil_max_B,IF(AF28="C",Seuil_max_C,IF(AF28="D",Seuil_max_D,0)))))*$E28) | BH28: =IFERROR(AVERAGE(AH28:BG28),"") | BI28: =IFERROR(IF(OR($E28=0,$E28=""),"",$BH28/$E28),"")
AH29: =IF(G29="","",(IF(G29="A",Seuil_max_A,IF(G29="B",Seuil_max_B,IF(G29="C",Seuil_max_C,IF(G29="D",Seuil_max_D,0)))))*$E29) | AI29: =IF(H29="","",(IF(H29="A",Seuil_max_A,IF(H29="B",Seuil_max_B,IF(H29="C",Seuil_max_C,IF(H29="D",Seuil_max_D,0)))))*$E29) | AJ29: =IF(I29="","",(IF(I29="A",Seuil_max_A,IF(I29="B",Seuil_max_B,IF(I29="C",Seuil_max_C,IF(I29="D",Seuil_max_D,0)))))*$E29) | AK29: =IF(J29="","",(IF(J29="A",Seuil_max_A,IF(J29="B",Seuil_max_B,IF(J29="C",Seuil_max_C,IF(J29="D",Seuil_max_D,0)))))*$E29) | AL29: =IF(K29="","",(IF(K29="A",Seuil_max_A,IF(K29="B",Seuil_max_B,IF(K29="C",Seuil_max_C,IF(K29="D",Seuil_max_D,0)))))*$E29) | AM29: =IF(L29="","",(IF(L29="A",Seuil_max_A,IF(L29="B",Seuil_max_B,IF(L29="C",Seuil_max_C,IF(L29="D",Seuil_max_D,0)))))*$E29) | AN29: =IF(M29="","",(IF(M29="A",Seuil_max_A,IF(M29="B",Seuil_max_B,IF(M29="C",Seuil_max_C,IF(M29="D",Seuil_max_D,0)))))*$E29) | AO29: =IF(N29="","",(IF(N29="A",Seuil_max_A,IF(N29="B",Seuil_max_B,IF(N29="C",Seuil_max_C,IF(N29="D",Seuil_max_D,0)))))*$E29) | ... BG29: =IF(AF29="","",(IF(AF29="A",Seuil_max_A,IF(AF29="B",Seuil_max_B,IF(AF29="C",Seuil_max_C,IF(AF29="D",Seuil_max_D,0)))))*$E29) | BH29: =IFERROR(AVERAGE(AH29:BG29),"") | BI29: =IFERROR(IF(OR($E29=0,$E29=""),"",$BH29/$E29),"")
AH30: =IF(G30="","",(IF(G30="A",Seuil_max_A,IF(G30="B",Seuil_max_B,IF(G30="C",Seuil_max_C,IF(G30="D",Seuil_max_D,0)))))*$E30) | AI30: =IF(H30="","",(IF(H30="A",Seuil_max_A,IF(H30="B",Seuil_max_B,IF(H30="C",Seuil_max_C,IF(H30="D",Seuil_max_D,0)))))*$E30) | AJ30: =IF(I30="","",(IF(I30="A",Seuil_max_A,IF(I30="B",Seuil_max_B,IF(I30="C",Seuil_max_C,IF(I30="D",Seuil_max_D,0)))))*$E30) | AK30: =IF(J30="","",(IF(J30="A",Seuil_max_A,IF(J30="B",Seuil_max_B,IF(J30="C",Seuil_max_C,IF(J30="D",Seuil_max_D,0)))))*$E30) | AL30: =IF(K30="","",(IF(K30="A",Seuil_max_A,IF(K30="B",Seuil_max_B,IF(K30="C",Seuil_max_C,IF(K30="D",Seuil_max_D,0)))))*$E30) | AM30: =IF(L30="","",(IF(L30="A",Seuil_max_A,IF(L30="B",Seuil_max_B,IF(L30="C",Seuil_max_C,IF(L30="D",Seuil_max_D,0)))))*$E30) | AN30: =IF(M30="","",(IF(M30="A",Seuil_max_A,IF(M30="B",Seuil_max_B,IF(M30="C",Seuil_max_C,IF(M30="D",Seuil_max_D,0)))))*$E30) | AO30: =IF(N30="","",(IF(N30="A",Seuil_max_A,IF(N30="B",Seuil_max_B,IF(N30="C",Seuil_max_C,IF(N30="D",Seuil_max_D,0)))))*$E30) | ... BG30: =IF(AF30="","",(IF(AF30="A",Seuil_max_A,IF(AF30="B",Seuil_max_B,IF(AF30="C",Seuil_max_C,IF(AF30="D",Seuil_max_D,0)))))*$E30) | BH30: =IFERROR(AVERAGE(AH30:BG30),"") | BI30: =IFERROR(IF(OR($E30=0,$E30=""),"",$BH30/$E30),"")
AH31: =IF(G31="","",(IF(G31="A",Seuil_max_A,IF(G31="B",Seuil_max_B,IF(G31="C",Seuil_max_C,IF(G31="D",Seuil_max_D,0)))))*$E31) | AI31: =IF(H31="","",(IF(H31="A",Seuil_max_A,IF(H31="B",Seuil_max_B,IF(H31="C",Seuil_max_C,IF(H31="D",Seuil_max_D,0)))))*$E31) | AJ31: =IF(I31="","",(IF(I31="A",Seuil_max_A,IF(I31="B",Seuil_max_B,IF(I31="C",Seuil_max_C,IF(I31="D",Seuil_max_D,0)))))*$E31) | AK31: =IF(J31="","",(IF(J31="A",Seuil_max_A,IF(J31="B",Seuil_max_B,IF(J31="C",Seuil_max_C,IF(J31="D",Seuil_max_D,0)))))*$E31) | AL31: =IF(K31="","",(IF(K31="A",Seuil_max_A,IF(K31="B",Seuil_max_B,IF(K31="C",Seuil_max_C,IF(K31="D",Seuil_max_D,0)))))*$E31) | AM31: =IF(L31="","",(IF(L31="A",Seuil_max_A,IF(L31="B",Seuil_max_B,IF(L31="C",Seuil_max_C,IF(L31="D",Seuil_max_D,0)))))*$E31) | AN31: =IF(M31="","",(IF(M31="A",Seuil_max_A,IF(M31="B",Seuil_max_B,IF(M31="C",Seuil_max_C,IF(M31="D",Seuil_max_D,0)))))*$E31) | AO31: =IF(N31="","",(IF(N31="A",Seuil_max_A,IF(N31="B",Seuil_max_B,IF(N31="C",Seuil_max_C,IF(N31="D",Seuil_max_D,0)))))*$E31) | ... BG31: =IF(AF31="","",(IF(AF31="A",Seuil_max_A,IF(AF31="B",Seuil_max_B,IF(AF31="C",Seuil_max_C,IF(AF31="D",Seuil_max_D,0)))))*$E31) | BH31: =IFERROR(AVERAGE(AH31:BG31),"") | BI31: =IFERROR(IF(OR($E31=0,$E31=""),"",$BH31/$E31),"")
AH32: =IF(G32="","",(IF(G32="A",Seuil_max_A,IF(G32="B",Seuil_max_B,IF(G32="C",Seuil_max_C,IF(G32="D",Seuil_max_D,0)))))*$E32) | AI32: =IF(H32="","",(IF(H32="A",Seuil_max_A,IF(H32="B",Seuil_max_B,IF(H32="C",Seuil_max_C,IF(H32="D",Seuil_max_D,0)))))*$E32) | AJ32: =IF(I32="","",(IF(I32="A",Seuil_max_A,IF(I32="B",Seuil_max_B,IF(I32="C",Seuil_max_C,IF(I32="D",Seuil_max_D,0)))))*$E32) | AK32: =IF(J32="","",(IF(J32="A",Seuil_max_A,IF(J32="B",Seuil_max_B,IF(J32="C",Seuil_max_C,IF(J32="D",Seuil_max_D,0)))))*$E32) | AL32: =IF(K32="","",(IF(K32="A",Seuil_max_A,IF(K32="B",Seuil_max_B,IF(K32="C",Seuil_max_C,IF(K32="D",Seuil_max_D,0)))))*$E32) | AM32: =IF(L32="","",(IF(L32="A",Seuil_max_A,IF(L32="B",Seuil_max_B,IF(L32="C",Seuil_max_C,IF(L32="D",Seuil_max_D,0)))))*$E32) | AN32: =IF(M32="","",(IF(M32="A",Seuil_max_A,IF(M32="B",Seuil_max_B,IF(M32="C",Seuil_max_C,IF(M32="D",Seuil_max_D,0)))))*$E32) | AO32: =IF(N32="","",(IF(N32="A",Seuil_max_A,IF(N32="B",Seuil_max_B,IF(N32="C",Seuil_max_C,IF(N32="D",Seuil_max_D,0)))))*$E32) | ... BG32: =IF(AF32="","",(IF(AF32="A",Seuil_max_A,IF(AF32="B",Seuil_max_B,IF(AF32="C",Seuil_max_C,IF(AF32="D",Seuil_max_D,0)))))*$E32) | BH32: =IFERROR(AVERAGE(AH32:BG32),"") | BI32: =IFERROR(IF(OR($E32=0,$E32=""),"",$BH32/$E32),"")
AH33: =IF(G33="","",(IF(G33="A",Seuil_max_A,IF(G33="B",Seuil_max_B,IF(G33="C",Seuil_max_C,IF(G33="D",Seuil_max_D,0)))))*$E33) | AI33: =IF(H33="","",(IF(H33="A",Seuil_max_A,IF(H33="B",Seuil_max_B,IF(H33="C",Seuil_max_C,IF(H33="D",Seuil_max_D,0)))))*$E33) | AJ33: =IF(I33="","",(IF(I33="A",Seuil_max_A,IF(I33="B",Seuil_max_B,IF(I33="C",Seuil_max_C,IF(I33="D",Seuil_max_D,0)))))*$E33) | AK33: =IF(J33="","",(IF(J33="A",Seuil_max_A,IF(J33="B",Seuil_max_B,IF(J33="C",Seuil_max_C,IF(J33="D",Seuil_max_D,0)))))*$E33) | AL33: =IF(K33="","",(IF(K33="A",Seuil_max_A,IF(K33="B",Seuil_max_B,IF(K33="C",Seuil_max_C,IF(K33="D",Seuil_max_D,0)))))*$E33) | AM33: =IF(L33="","",(IF(L33="A",Seuil_max_A,IF(L33="B",Seuil_max_B,IF(L33="C",Seuil_max_C,IF(L33="D",Seuil_max_D,0)))))*$E33) | AN33: =IF(M33="","",(IF(M33="A",Seuil_max_A,IF(M33="B",Seuil_max_B,IF(M33="C",Seuil_max_C,IF(M33="D",Seuil_max_D,0)))))*$E33) | AO33: =IF(N33="","",(IF(N33="A",Seuil_max_A,IF(N33="B",Seuil_max_B,IF(N33="C",Seuil_max_C,IF(N33="D",Seuil_max_D,0)))))*$E33) | ... BG33: =IF(AF33="","",(IF(AF33="A",Seuil_max_A,IF(AF33="B",Seuil_max_B,IF(AF33="C",Seuil_max_C,IF(AF33="D",Seuil_max_D,0)))))*$E33) | BH33: =IFERROR(AVERAGE(AH33:BG33),"") | BI33: =IFERROR(IF(OR($E33=0,$E33=""),"",$BH33/$E33),"")
AH34: =IF(G34="","",(IF(G34="A",Seuil_max_A,IF(G34="B",Seuil_max_B,IF(G34="C",Seuil_max_C,IF(G34="D",Seuil_max_D,0)))))*$E34) | AI34: =IF(H34="","",(IF(H34="A",Seuil_max_A,IF(H34="B",Seuil_max_B,IF(H34="C",Seuil_max_C,IF(H34="D",Seuil_max_D,0)))))*$E34) | AJ34: =IF(I34="","",(IF(I34="A",Seuil_max_A,IF(I34="B",Seuil_max_B,IF(I34="C",Seuil_max_C,IF(I34="D",Seuil_max_D,0)))))*$E34) | AK34: =IF(J34="","",(IF(J34="A",Seuil_max_A,IF(J34="B",Seuil_max_B,IF(J34="C",Seuil_max_C,IF(J34="D",Seuil_max_D,0)))))*$E34) | AL34: =IF(K34="","",(IF(K34="A",Seuil_max_A,IF(K34="B",Seuil_max_B,IF(K34="C",Seuil_max_C,IF(K34="D",Seuil_max_D,0)))))*$E34) | AM34: =IF(L34="","",(IF(L34="A",Seuil_max_A,IF(L34="B",Seuil_max_B,IF(L34="C",Seuil_max_C,IF(L34="D",Seuil_max_D,0)))))*$E34) | AN34: =IF(M34="","",(IF(M34="A",Seuil_max_A,IF(M34="B",Seuil_max_B,IF(M34="C",Seuil_max_C,IF(M34="D",Seuil_max_D,0)))))*$E34) | AO34: =IF(N34="","",(IF(N34="A",Seuil_max_A,IF(N34="B",Seuil_max_B,IF(N34="C",Seuil_max_C,IF(N34="D",Seuil_max_D,0)))))*$E34) | ... BG34: =IF(AF34="","",(IF(AF34="A",Seuil_max_A,IF(AF34="B",Seuil_max_B,IF(AF34="C",Seuil_max_C,IF(AF34="D",Seuil_max_D,0)))))*$E34) | BH34: =IFERROR(AVERAGE(AH34:BG34),"") | BI34: =IFERROR(IF(OR($E34=0,$E34=""),"",$BH34/$E34),"")
AH35: =IF(G35="","",(IF(G35="A",Seuil_max_A,IF(G35="B",Seuil_max_B,IF(G35="C",Seuil_max_C,IF(G35="D",Seuil_max_D,0)))))*$E35) | AI35: =IF(H35="","",(IF(H35="A",Seuil_max_A,IF(H35="B",Seuil_max_B,IF(H35="C",Seuil_max_C,IF(H35="D",Seuil_max_D,0)))))*$E35) | AJ35: =IF(I35="","",(IF(I35="A",Seuil_max_A,IF(I35="B",Seuil_max_B,IF(I35="C",Seuil_max_C,IF(I35="D",Seuil_max_D,0)))))*$E35) | AK35: =IF(J35="","",(IF(J35="A",Seuil_max_A,IF(J35="B",Seuil_max_B,IF(J35="C",Seuil_max_C,IF(J35="D",Seuil_max_D,0)))))*$E35) | AL35: =IF(K35="","",(IF(K35="A",Seuil_max_A,IF(K35="B",Seuil_max_B,IF(K35="C",Seuil_max_C,IF(K35="D",Seuil_max_D,0)))))*$E35) | AM35: =IF(L35="","",(IF(L35="A",Seuil_max_A,IF(L35="B",Seuil_max_B,IF(L35="C",Seuil_max_C,IF(L35="D",Seuil_max_D,0)))))*$E35) | AN35: =IF(M35="","",(IF(M35="A",Seuil_max_A,IF(M35="B",Seuil_max_B,IF(M35="C",Seuil_max_C,IF(M35="D",Seuil_max_D,0)))))*$E35) | AO35: =IF(N35="","",(IF(N35="A",Seuil_max_A,IF(N35="B",Seuil_max_B,IF(N35="C",Seuil_max_C,IF(N35="D",Seuil_max_D,0)))))*$E35) | ... BG35: =IF(AF35="","",(IF(AF35="A",Seuil_max_A,IF(AF35="B",Seuil_max_B,IF(AF35="C",Seuil_max_C,IF(AF35="D",Seuil_max_D,0)))))*$E35) | BH35: =IFERROR(AVERAGE(AH35:BG35),"") | BI35: =IFERROR(IF(OR($E35=0,$E35=""),"",$BH35/$E35),"")
AG36: è | AH36: =IF(G36="","",(IF(G36="A",Seuil_max_A,IF(G36="B",Seuil_max_B,IF(G36="C",Seuil_max_C,IF(G36="D",Seuil_max_D,0)))))*$E36) | AI36: =IF(H36="","",(IF(H36="A",Seuil_max_A,IF(H36="B",Seuil_max_B,IF(H36="C",Seuil_max_C,IF(H36="D",Seuil_max_D,0)))))*$E36) | AJ36: =IF(I36="","",(IF(I36="A",Seuil_max_A,IF(I36="B",Seuil_max_B,IF(I36="C",Seuil_max_C,IF(I36="D",Seuil_max_D,0)))))*$E36) | AK36: =IF(J36="","",(IF(J36="A",Seuil_max_A,IF(J36="B",Seuil_max_B,IF(J36="C",Seuil_max_C,IF(J36="D",Seuil_max_D,0)))))*$E36) | AL36: =IF(K36="","",(IF(K36="A",Seuil_max_A,IF(K36="B",Seuil_max_B,IF(K36="C",Seuil_max_C,IF(K36="D",Seuil_max_D,0)))))*$E36) | AM36: =IF(L36="","",(IF(L36="A",Seuil_max_A,IF(L36="B",Seuil_max_B,IF(L36="C",Seuil_max_C,IF(L36="D",Seuil_max_D,0)))))*$E36) | AN36: =IF(M36="","",(IF(M36="A",Seuil_max_A,IF(M36="B",Seuil_max_B,IF(M36="C",Seuil_max_C,IF(M36="D",Seuil_max_D,0)))))*$E36) | AO36: =IF(N36="","",(IF(N36="A",Seuil_max_A,IF(N36="B",Seuil_max_B,IF(N36="C",Seuil_max_C,IF(N36="D",Seuil_max_D,0)))))*$E36) | ... BG36: =IF(AF36="","",(IF(AF36="A",Seuil_max_A,IF(AF36="B",Seuil_max_B,IF(AF36="C",Seuil_max_C,IF(AF36="D",Seuil_max_D,0)))))*$E36) | BH36: =IFERROR(AVERAGE(AH36:BG36),"") | BI36: =IFERROR(IF(OR($E36=0,$E36=""),"",$BH36/$E36),"")
AH37: =IF(G37="","",(IF(G37="A",Seuil_max_A,IF(G37="B",Seuil_max_B,IF(G37="C",Seuil_max_C,IF(G37="D",Seuil_max_D,0)))))*$E37) | AI37: =IF(H37="","",(IF(H37="A",Seuil_max_A,IF(H37="B",Seuil_max_B,IF(H37="C",Seuil_max_C,IF(H37="D",Seuil_max_D,0)))))*$E37) | AJ37: =IF(I37="","",(IF(I37="A",Seuil_max_A,IF(I37="B",Seuil_max_B,IF(I37="C",Seuil_max_C,IF(I37="D",Seuil_max_D,0)))))*$E37) | AK37: =IF(J37="","",(IF(J37="A",Seuil_max_A,IF(J37="B",Seuil_max_B,IF(J37="C",Seuil_max_C,IF(J37="D",Seuil_max_D,0)))))*$E37) | AL37: =IF(K37="","",(IF(K37="A",Seuil_max_A,IF(K37="B",Seuil_max_B,IF(K37="C",Seuil_max_C,IF(K37="D",Seuil_max_D,0)))))*$E37) | AM37: =IF(L37="","",(IF(L37="A",Seuil_max_A,IF(L37="B",Seuil_max_B,IF(L37="C",Seuil_max_C,IF(L37="D",Seuil_max_D,0)))))*$E37) | AN37: =IF(M37="","",(IF(M37="A",Seuil_max_A,IF(M37="B",Seuil_max_B,IF(M37="C",Seuil_max_C,IF(M37="D",Seuil_max_D,0)))))*$E37) | AO37: =IF(N37="","",(IF(N37="A",Seuil_max_A,IF(N37="B",Seuil_max_B,IF(N37="C",Seuil_max_C,IF(N37="D",Seuil_max_D,0)))))*$E37) | ... BG37: =IF(AF37="","",(IF(AF37="A",Seuil_max_A,IF(AF37="B",Seuil_max_B,IF(AF37="C",Seuil_max_C,IF(AF37="D",Seuil_max_D,0)))))*$E37) | BH37: =IFERROR(AVERAGE(AH37:BG37),"") | BI37: =IFERROR(IF(OR($E37=0,$E37=""),"",$BH37/$E37),"")
AH38: =IF(G38="","",(IF(G38="A",Seuil_max_A,IF(G38="B",Seuil_max_B,IF(G38="C",Seuil_max_C,IF(G38="D",Seuil_max_D,0)))))*$E38) | AI38: =IF(H38="","",(IF(H38="A",Seuil_max_A,IF(H38="B",Seuil_max_B,IF(H38="C",Seuil_max_C,IF(H38="D",Seuil_max_D,0)))))*$E38) | AJ38: =IF(I38="","",(IF(I38="A",Seuil_max_A,IF(I38="B",Seuil_max_B,IF(I38="C",Seuil_max_C,IF(I38="D",Seuil_max_D,0)))))*$E38) | AK38: =IF(J38="","",(IF(J38="A",Seuil_max_A,IF(J38="B",Seuil_max_B,IF(J38="C",Seuil_max_C,IF(J38="D",Seuil_max_D,0)))))*$E38) | AL38: =IF(K38="","",(IF(K38="A",Seuil_max_A,IF(K38="B",Seuil_max_B,IF(K38="C",Seuil_max_C,IF(K38="D",Seuil_max_D,0)))))*$E38) | AM38: =IF(L38="","",(IF(L38="A",Seuil_max_A,IF(L38="B",Seuil_max_B,IF(L38="C",Seuil_max_C,IF(L38="D",Seuil_max_D,0)))))*$E38) | AN38: =IF(M38="","",(IF(M38="A",Seuil_max_A,IF(M38="B",Seuil_max_B,IF(M38="C",Seuil_max_C,IF(M38="D",Seuil_max_D,0)))))*$E38) | AO38: =IF(N38="","",(IF(N38="A",Seuil_max_A,IF(N38="B",Seuil_max_B,IF(N38="C",Seuil_max_C,IF(N38="D",Seuil_max_D,0)))))*$E38) | ... BG38: =IF(AF38="","",(IF(AF38="A",Seuil_max_A,IF(AF38="B",Seuil_max_B,IF(AF38="C",Seuil_max_C,IF(AF38="D",Seuil_max_D,0)))))*$E38) | BH38: =IFERROR(AVERAGE(AH38:BG38),"") | BI38: =IFERROR(IF(OR($E38=0,$E38=""),"",$BH38/$E38),"")
AH39: =IF(G39="","",(IF(G39="A",Seuil_max_A,IF(G39="B",Seuil_max_B,IF(G39="C",Seuil_max_C,IF(G39="D",Seuil_max_D,0)))))*$E39) | AI39: =IF(H39="","",(IF(H39="A",Seuil_max_A,IF(H39="B",Seuil_max_B,IF(H39="C",Seuil_max_C,IF(H39="D",Seuil_max_D,0)))))*$E39) | AJ39: =IF(I39="","",(IF(I39="A",Seuil_max_A,IF(I39="B",Seuil_max_B,IF(I39="C",Seuil_max_C,IF(I39="D",Seuil_max_D,0)))))*$E39) | AK39: =IF(J39="","",(IF(J39="A",Seuil_max_A,IF(J39="B",Seuil_max_B,IF(J39="C",Seuil_max_C,IF(J39="D",Seuil_max_D,0)))))*$E39) | AL39: =IF(K39="","",(IF(K39="A",Seuil_max_A,IF(K39="B",Seuil_max_B,IF(K39="C",Seuil_max_C,IF(K39="D",Seuil_max_D,0)))))*$E39) | AM39: =IF(L39="","",(IF(L39="A",Seuil_max_A,IF(L39="B",Seuil_max_B,IF(L39="C",Seuil_max_C,IF(L39="D",Seuil_max_D,0)))))*$E39) | AN39: =IF(M39="","",(IF(M39="A",Seuil_max_A,IF(M39="B",Seuil_max_B,IF(M39="C",Seuil_max_C,IF(M39="D",Seuil_max_D,0)))))*$E39) | AO39: =IF(N39="","",(IF(N39="A",Seuil_max_A,IF(N39="B",Seuil_max_B,IF(N39="C",Seuil_max_C,IF(N39="D",Seuil_max_D,0)))))*$E39) | ... BG39: =IF(AF39="","",(IF(AF39="A",Seuil_max_A,IF(AF39="B",Seuil_max_B,IF(AF39="C",Seuil_max_C,IF(AF39="D",Seuil_max_D,0)))))*$E39) | BH39: =IFERROR(AVERAGE(AH39:BG39),"") | BI39: =IFERROR(IF(OR($E39=0,$E39=""),"",$BH39/$E39),"")
AH40: =IF(G40="","",(IF(G40="A",Seuil_max_A,IF(G40="B",Seuil_max_B,IF(G40="C",Seuil_max_C,IF(G40="D",Seuil_max_D,0)))))*$E40) | AI40: =IF(H40="","",(IF(H40="A",Seuil_max_A,IF(H40="B",Seuil_max_B,IF(H40="C",Seuil_max_C,IF(H40="D",Seuil_max_D,0)))))*$E40) | AJ40: =IF(I40="","",(IF(I40="A",Seuil_max_A,IF(I40="B",Seuil_max_B,IF(I40="C",Seuil_max_C,IF(I40="D",Seuil_max_D,0)))))*$E40) | AK40: =IF(J40="","",(IF(J40="A",Seuil_max_A,IF(J40="B",Seuil_max_B,IF(J40="C",Seuil_max_C,IF(J40="D",Seuil_max_D,0)))))*$E40) | AL40: =IF(K40="","",(IF(K40="A",Seuil_max_A,IF(K40="B",Seuil_max_B,IF(K40="C",Seuil_max_C,IF(K40="D",Seuil_max_D,0)))))*$E40) | AM40: =IF(L40="","",(IF(L40="A",Seuil_max_A,IF(L40="B",Seuil_max_B,IF(L40="C",Seuil_max_C,IF(L40="D",Seuil_max_D,0)))))*$E40) | AN40: =IF(M40="","",(IF(M40="A",Seuil_max_A,IF(M40="B",Seuil_max_B,IF(M40="C",Seuil_max_C,IF(M40="D",Seuil_max_D,0)))))*$E40) | AO40: =IF(N40="","",(IF(N40="A",Seuil_max_A,IF(N40="B",Seuil_max_B,IF(N40="C",Seuil_max_C,IF(N40="D",Seuil_max_D,0)))))*$E40) | ... BG40: =IF(AF40="","",(IF(AF40="A",Seuil_max_A,IF(AF40="B",Seuil_max_B,IF(AF40="C",Seuil_max_C,IF(AF40="D",Seuil_max_D,0)))))*$E40) | BH40: =IFERROR(AVERAGE(AH40:BG40),"") | BI40: =IFERROR(IF(OR($E40=0,$E40=""),"",$BH40/$E40),"")
D41: Total : | E41: =SUM(E7:E40) -> 0 | F41: 🔒→ | G41: =IF(G1="","",G1) | H41: =IF(H1="","",H1) | I41: =IF(I1="","",I1) | J41: =IF(J1="","",J1) | K41: =IF(K1="","",K1) | L41: =IF(L1="","",L1) | M41: =IF(M1="","",M1) | N41: =IF(N1="","",N1) | ... AF41: =IF(AF1="","",AF1) | AG41: TOTAL : | AH41: =IF(COUNT(AH7:AH40)=0,AH63,SUM(AH7:AH40)) | AI41: =IF(COUNT(AI7:AI40)=0,AI63,SUM(AI7:AI40)) | AJ41: =IF(COUNT(AJ7:AJ40)=0,AJ63,SUM(AJ7:AJ40)) | AK41: =IF(COUNT(AK7:AK40)=0,AK63,SUM(AK7:AK40)) | AL41: =IF(COUNT(AL7:AL40)=0,AL63,SUM(AL7:AL40)) | AM41: =IF(COUNT(AM7:AM40)=0,AM63,SUM(AM7:AM40)) | AN41: =IF(COUNT(AN7:AN40)=0,AN63,SUM(AN7:AN40)) | AO41: =IF(COUNT(AO7:AO40)=0,AO63,SUM(AO7:AO40)) | ... BG41: =IF(COUNT(BG7:BG40)=0,BG63,SUM(BG7:BG40)) | BH41: =IFERROR(AVERAGE(AH41:BG41),"") | BI41: =IFERROR(IF(OR($E41=0,$E41=""),"",$BH41/$E41),"") | BK41: ANALYSE DU SUJET
AG42: /20 | AH42: =IF(COUNT(AH7:AH40)=0,"",IF($E$41=0,"",AH41*20/$E$41)) | AI42: =IF(COUNT(AI7:AI40)=0,"",IF($E$41=0,"",AI41*20/$E$41)) | AJ42: =IF(COUNT(AJ7:AJ40)=0,"",IF($E$41=0,"",AJ41*20/$E$41)) | AK42: =IF(COUNT(AK7:AK40)=0,"",IF($E$41=0,"",AK41*20/$E$41)) | AL42: =IF(COUNT(AL7:AL40)=0,"",IF($E$41=0,"",AL41*20/$E$41)) | AM42: =IF(COUNT(AM7:AM40)=0,"",IF($E$41=0,"",AM41*20/$E$41)) | AN42: =IF(COUNT(AN7:AN40)=0,"",IF($E$41=0,"",AN41*20/$E$41)) | AO42: =IF(COUNT(AO7:AO40)=0,"",IF($E$41=0,"",AO41*20/$E$41)) | ... BG42: =IF(COUNT(BG7:BG40)=0,"",IF($E$41=0,"",BG41*20/$E$41)) | BH42: Moyenne
D43: Barème | E43: Compétence évaluée | G43: Niveau moyen dans la compétence / Note globale | AH43: Pourcentage de réussite dans la compétence | BK43: Compétence évaluée | BL43: Durée totale consacrée (en minutes) ou poids | BM43: Poids de la compétence dans l'évaluation
D44: =IF(BM44=0,"NE",$BL$44/$BL$51*20) -> #DIV/0! | E44: S'approprier | G44: =IF(AH44="NE","NE",IF(AH44>Seuil_max_B,"A",IF(AND(Seuil_max_C<AH44,AH44<=Seuil_max_B),"B",IF(AND(Seuil_max_D<AH44,AH44<=Seuil_max_C),"C",IF(AND(AH44>0,AH44<=Seuil_max_D),"D",IF(AH44=0,"E","∅")))))) -> NE | H44: =IF(AI44="NE","NE",IF(AI44>Seuil_max_B,"A",IF(AND(Seuil_max_C<AI44,AI44<=Seuil_max_B),"B",IF(AND(Seuil_max_D<AI44,AI44<=Seuil_max_C),"C",IF(AND(AI44>0,AI44<=Seuil_max_D),"D",IF(AI44=0,"E","∅")))))) -> NE | I44: =IF(AJ44="NE","NE",IF(AJ44>Seuil_max_B,"A",IF(AND(Seuil_max_C<AJ44,AJ44<=Seuil_max_B),"B",IF(AND(Seuil_max_D<AJ44,AJ44<=Seuil_max_C),"C",IF(AND(AJ44>0,AJ44<=Seuil_max_D),"D",IF(AJ44=0,"E","∅")))))) -> NE | J44: =IF(AK44="NE","NE",IF(AK44>Seuil_max_B,"A",IF(AND(Seuil_max_C<AK44,AK44<=Seuil_max_B),"B",IF(AND(Seuil_max_D<AK44,AK44<=Seuil_max_C),"C",IF(AND(AK44>0,AK44<=Seuil_max_D),"D",IF(AK44=0,"E","∅")))))) -> NE | K44: =IF(AL44="NE","NE",IF(AL44>Seuil_max_B,"A",IF(AND(Seuil_max_C<AL44,AL44<=Seuil_max_B),"B",IF(AND(Seuil_max_D<AL44,AL44<=Seuil_max_C),"C",IF(AND(AL44>0,AL44<=Seuil_max_D),"D",IF(AL44=0,"E","∅")))))) -> NE | L44: =IF(AM44="NE","NE",IF(AM44>Seuil_max_B,"A",IF(AND(Seuil_max_C<AM44,AM44<=Seuil_max_B),"B",IF(AND(Seuil_max_D<AM44,AM44<=Seuil_max_C),"C",IF(AND(AM44>0,AM44<=Seuil_max_D),"D",IF(AM44=0,"E","∅")))))) -> NE | M44: =IF(AN44="NE","NE",IF(AN44>Seuil_max_B,"A",IF(AND(Seuil_max_C<AN44,AN44<=Seuil_max_B),"B",IF(AND(Seuil_max_D<AN44,AN44<=Seuil_max_C),"C",IF(AND(AN44>0,AN44<=Seuil_max_D),"D",IF(AN44=0,"E","∅")))))) -> NE | N44: =IF(AO44="NE","NE",IF(AO44>Seuil_max_B,"A",IF(AND(Seuil_max_C<AO44,AO44<=Seuil_max_B),"B",IF(AND(Seuil_max_D<AO44,AO44<=Seuil_max_C),"C",IF(AND(AO44>0,AO44<=Seuil_max_D),"D",IF(AO44=0,"E","∅")))))) -> NE | ... AF44: =IF(BG44="NE","NE",IF(BG44>Seuil_max_B,"A",IF(AND(Seuil_max_C<BG44,BG44<=Seuil_max_B),"B",IF(AND(Seuil_max_D<BG44,BG44<=Seuil_max_C),"C",IF(AND(BG44>0,BG44<=Seuil_max_D),"D",IF(BG44=0,"E","∅")))))) -> NE | AH44: =IF($BL$44=0,"NE",(SUMIF($B$7:$B$40,"APP",AH$7:AH$40))/$BL$44) -> NE | AI44: =IF($BL$44=0,"NE",(SUMIF($B$7:$B$40,"APP",AI$7:AI$40))/$BL$44) -> NE | AJ44: =IF($BL$44=0,"NE",(SUMIF($B$7:$B$40,"APP",AJ$7:AJ$40))/$BL$44) -> NE | AK44: =IF($BL$44=0,"NE",(SUMIF($B$7:$B$40,"APP",AK$7:AK$40))/$BL$44) -> NE | AL44: =IF($BL$44=0,"NE",(SUMIF($B$7:$B$40,"APP",AL$7:AL$40))/$BL$44) -> NE | AM44: =IF($BL$44=0,"NE",(SUMIF($B$7:$B$40,"APP",AM$7:AM$40))/$BL$44) -> NE | AN44: =IF($BL$44=0,"NE",(SUMIF($B$7:$B$40,"APP",AN$7:AN$40))/$BL$44) -> NE | AO44: =IF($BL$44=0,"NE",(SUMIF($B$7:$B$40,"APP",AO$7:AO$40))/$BL$44) -> NE | ... BG44: =IF($BL$44=0,"NE",(SUMIF($B$7:$B$40,"APP",BG$7:BG$40))/$BL$44) -> NE | BK44: S'approprier | BL44: =SUMIF($B$7:$B$40,"APP",$E$7:$E$40) -> 0 | BM44: =BL44/$BL$51 -> #DIV/0!
