Workbook
Name AffichageMois: CALENDRIER!$C$4:$U$35
Name AfficherAnnée: CALENDRIER!$C$2
Name AfficherMois: CALENDRIER!$F$2
Name DateDébut: 'VERSION IMPRIMABLE'!$F$3
Name DateDébut: CALENDRIER!$F$3
Name Dates: tblÉvénements[Date début]
Name Dates: tblÉvénements[[Date début]:[Date fin]]
Name DébutLigneTableau: ROW(tblÉvénements[[#Headers],[Date début]])
Name DébutLigneTableau: ROW(tblÉvénements[[#Headers],[Date début]])
Name Événements: #REF!
Name Événements: #REF!
Name ÉvénementsQuotidiens: 'VERSION IMPRIMABLE'!$C$7:$U$10,'VERSION IMPRIMABLE'!$C$12:$U$15,'VERSION IMPRIMABLE'!$C$17:$U$20,'VERSION IMPRIMABLE'!$C$22:$U$25,'VERSION IMPRIMABLE'!$C$27:$U$30,'VERSION IMPRIMABLE'!$C$32:$F$35
Name ÉvénementsQuotidiens: CALENDRIER!$C$7:$U$10,CALENDRIER!$C$12:$U$15,CALENDRIER!$C$17:$U$20,CALENDRIER!$C$22:$U$25,CALENDRIER!$C$27:$U$30,CALENDRIER!$C$32:$F$35
Name NumMois: 'VERSION IMPRIMABLE'!$C$3
Name NumMois: CALENDRIER!$C$3
Name Segment_Mois: #N/A

Sheet ÉVÉNEMENTS
C2: ÉVÉNEMENTS 2020
D3: Events LB - BL
D4: Salons - Foires
D5: Inscription OK
D6: Inscription pas OK
D7: Event reporté à 2021
D8: Event reporté pas encore de date | W8: INTÉRÊT POUR LA LIGUE BRAILLE
C10: Mois | D10: Date début | E10: Date fin | F10: Evénements | G10: Nombre de jours | H10: CAT | I10: Régions | J10: AR | K10: Organisateurs | L10: Lieu | M10: Deadline inscription | N10: Prix (hors TVA) | O10: Prix | P10: Thème | Q10: Sponsor | R10: Nombre de visiteurs | S10: Public cible | T10: Formulaires total | U10: Formulaires autorisation | V10: Formulaires sans autorisation | W10: Médiatisation | X10: Récolte de fonds | Y10: Visibilité | Z10: Remarques | AA10: Feedback
C14: Mars | D14: 43895 | E14: 43898 | F14: Foire du Livre | G14: =IF(D14=0,"",E14-D14+1) -> 4 | H14: Salon | I14: Bruxelles | J14: Bruxelles | K14: Foire du livre asbl | L14: Tour & Taxis | M14: Bib | P14: Lecture | Q14: - | R14: 60 000 | S14: Tout public | T14: 10 | Y14: Stand très visible à l'entrée du salon Moindre fréquentation du salon cette année | Z14: Service Culturel | AA14: Dans le dossier de la Foire du Livre
N39: =SUM(N11:N37) -> 0 | O39: =SUM(O11:O37) -> 0

Sheet CALENDRIER
C2: 2020 | F2: =LOOKUP(NumMois,tblMois[NOMBRE],tblMois[MOIS]) -> MARS
C3: 3 | F3: =DATE(AfficherAnnée,NumMois,1) -> 43891 | I3: =WEEKDAY(DateDébut) -> 1
C4: LUN | F4: MAR | I4: MER | L4: JEU | O4: VEN | R4: SAM | U4: DIM
C6: =DateDébut-(WEEKDAY(DateDébut)-2)+{0;1;2;3;4;5}*7 +{1,2,3,4,5,6,7}-3+COLUMN(B1) -> 43892 | F6: =DateDébut-(WEEKDAY(DateDébut)-2)+{0;1;2;3;4;5}*7 +{1,2,3,4,5,6,7}-3+COLUMN(C1) -> 43893 | I6: =DateDébut-(WEEKDAY(DateDébut)-2)+{0;1;2;3;4;5}*7 +{1,2,3,4,5,6,7}-3+COLUMN(D1) -> 43894 | L6: =DateDébut-(WEEKDAY(DateDébut)-2)+{0;1;2;3;4;5}*7 +{1,2,3,4,5,6,7}-3+COLUMN(E1) -> 43895 | O6: =DateDébut-(WEEKDAY(DateDébut)-2)+{0;1;2;3;4;5}*7 +{1,2,3,4,5,6,7}-3+COLUMN(F1) -> 43896 | R6: =DateDébut-(WEEKDAY(DateDébut)-2)+{0;1;2;3;4;5}*7 +{1,2,3,4,5,6,7}-3+COLUMN(G1) -> 43897 | U6: =DateDébut-(WEEKDAY(DateDébut)-2)+{0;1;2;3;4;5}*7 +{1,2,3,4,5,6,7}-3+COLUMN(H1) -> 43898
C7: =IFERROR(INDEX(tblÉvénements[],SMALL(IF(Dates=C$6,ROW(Dates)),ROW(1:1))-DébutLigneTableau,4),"") | F7: {=IFERROR(INDEX(tblÉvénements[],SMALL(IF(Dates=F$6,ROW(Dates)),ROW(1:1))-DébutLigneTableau,4),"")} | I7: {=IFERROR(INDEX(tblÉvénements[],SMALL(IF(Dates=I$6,ROW(Dates)),ROW(1:1))-DébutLigneTableau,4),"")} | L7: {=IFERROR(INDEX(tblÉvénements[],SMALL(IF(Dates=L$6,ROW(Dates)),ROW(1:1))-DébutLigneTableau,4),"")} -> Foire du Livre | O7: {=IFERROR(INDEX(tblÉvénements[],SMALL(IF(Dates=O$6,ROW(Dates)),ROW(1:1))-DébutLigneTableau,4),"")} | R7: {=IFERROR(INDEX(tblÉvénements[],SMALL(IF(Dates=R$6,ROW(Dates)),ROW(1:1))-DébutLigneTableau,4),"")} | U7: {=IFERROR(INDEX(tblÉvénements[],SMALL(IF(Dates=U$6,ROW(Dates)),ROW(1:1))-DébutLigneTableau,4),"")} -> Foire du Livre
C8: =IFERROR(INDEX(tblÉvénements[],SMALL(IF(Dates=C$6,ROW(Dates)),ROW(2:2))-DébutLigneTableau,4),"") | F8: {=IFERROR(INDEX(tblÉvénements[],SMALL(IF(Dates=F$6,ROW(Dates)),ROW(2:2))-DébutLigneTableau,4),"")} | I8: {=IFERROR(INDEX(tblÉvénements[],SMALL(IF(Dates=I$6,ROW(Dates)),ROW(2:2))-DébutLigneTableau,4),"")} | L8: {=IFERROR(INDEX(tblÉvénements[],SMALL(IF(Dates=L$6,ROW(Dates)),ROW(2:2))-DébutLigneTableau,4),"")} | O8: {=IFERROR(INDEX(tblÉvénements[],SMALL(IF(Dates=O$6,ROW(Dates)),ROW(2:2))-DébutLigneTableau,4),"")} | R8: {=IFERROR(INDEX(tblÉvénements[],SMALL(IF(Dates=R$6,ROW(Dates)),ROW(2:2))-DébutLigneTableau,4),"")} | U8: {=IFERROR(INDEX(tblÉvénements[],SMALL(IF(Dates=U$6,ROW(Dates)),ROW(2:2))-DébutLigneTableau,4),"")}
C9: {=IFERROR(INDEX(tblÉvénements[],SMALL(IF(Dates=C$6,ROW(Dates)),ROW(3:3))-DébutLigneTableau,4),"")} | F9: {=IFERROR(INDEX(tblÉvénements[],SMALL(IF(Dates=F$6,ROW(Dates)),ROW(3:3))-DébutLigneTableau,4),"")} | I9: {=IFERROR(INDEX(tblÉvénements[],SMALL(IF(Dates=I$6,ROW(Dates)),ROW(3:3))-DébutLigneTableau,4),"")} | L9: {=IFERROR(INDEX(tblÉvénements[],SMALL(IF(Dates=L$6,ROW(Dates)),ROW(3:3))-DébutLigneTableau,4),"")} | O9: {=IFERROR(INDEX(tblÉvénements[],SMALL(IF(Dates=O$6,ROW(Dates)),ROW(3:3))-DébutLigneTableau,4),"")} | U9: {=IFERROR(INDEX(tblÉvénements[],SMALL(IF(Dates=U$6,ROW(Dates)),ROW(3:3))-DébutLigneTableau,4),"")}
C10: {=IFERROR(INDEX(tblÉvénements[],SMALL(IF(Dates=C$6,ROW(Dates)),ROW(4:4))-DébutLigneTableau,4),"")} | F10: {=IFERROR(INDEX(tblÉvénements[],SMALL(IF(Dates=F$6,ROW(Dates)),ROW(4:4))-DébutLigneTableau,4),"")} | I10: {=IFERROR(INDEX(tblÉvénements[],SMALL(IF(Dates=I$6,ROW(Dates)),ROW(4:4))-DébutLigneTableau,4),"")} | L10: {=IFERROR(INDEX(tblÉvénements[],SMALL(IF(Dates=L$6,ROW(Dates)),ROW(4:4))-DébutLigneTableau,4),"")} | O10: {=IFERROR(INDEX(tblÉvénements[],SMALL(IF(Dates=O$6,ROW(Dates)),ROW(4:4))-DébutLigneTableau,4),"")} | R10: {=IFERROR(INDEX(tblÉvénements[],SMALL(IF(Dates=R$6,ROW(Dates)),ROW(4:4))-DébutLigneTableau,4),"")} | U10: {=IFERROR(INDEX(tblÉvénements[],SMALL(IF(Dates=U$6,ROW(Dates)),ROW(4:4))-DébutLigneTableau,4),"")}
C11: =U6+1 -> 43899 | F11: =C11+1 -> 43900 | I11: =F11+1 -> 43901 | L11: =I11+1 -> 43902 | O11: =L11+1 -> 43903 | R11: =O11+1 -> 43904 | U11: =R11+1 -> 43905
C12: {=IFERROR(INDEX(tblÉvénements[],SMALL(IF(Dates=C$11,ROW(Dates)),ROW(1:1))-DébutLigneTableau,4),"")} | F12: {=IFERROR(INDEX(tblÉvénements[],SMALL(IF(Dates=F$11,ROW(Dates)),ROW(1:1))-DébutLigneTableau,4),"")} | I12: {=IFERROR(INDEX(tblÉvénements[],SMALL(IF(Dates=I$11,ROW(Dates)),ROW(1:1))-DébutLigneTableau,4),"")} | L12: {=IFERROR(INDEX(tblÉvénements[],SMALL(IF(Dates=L$11,ROW(Dates)),ROW(1:1))-DébutLigneTableau,4),"")} | O12: {=IFERROR(INDEX(tblÉvénements[],SMALL(IF(Dates=O$11,ROW(Dates)),ROW(1:1))-DébutLigneTableau,4),"")} | R12: {=IFERROR(INDEX(tblÉvénements[],SMALL(IF(Dates=R$11,ROW(Dates)),ROW(1:1))-DébutLigneTableau,4),"")} | U12: {=IFERROR(INDEX(tblÉvénements[],SMALL(IF(Dates=U$11,ROW(Dates)),ROW(1:1))-DébutLigneTableau,4),"")}
C13: {=IFERROR(INDEX(tblÉvénements[],SMALL(IF(Dates=C$11,ROW(Dates)),ROW(2:2))-DébutLigneTableau,4),"")} | F13: {=IFERROR(INDEX(tblÉvénements[],SMALL(IF(Dates=F$11,ROW(Dates)),ROW(2:2))-DébutLigneTableau,4),"")} | I13: {=IFERROR(INDEX(tblÉvénements[],SMALL(IF(Dates=I$11,ROW(Dates)),ROW(2:2))-DébutLigneTableau,4),"")} | L13: {=IFERROR(INDEX(tblÉvénements[],SMALL(IF(Dates=L$11,ROW(Dates)),ROW(2:2))-DébutLigneTableau,4),"")} | O13: {=IFERROR(INDEX(tblÉvénements[],SMALL(IF(Dates=O$11,ROW(Dates)),ROW(2:2))-DébutLigneTableau,4),"")} | R13: {=IFERROR(INDEX(tblÉvénements[],SMALL(IF(Dates=R$11,ROW(Dates)),ROW(2:2))-DébutLigneTableau,4),"")} | U13: {=IFERROR(INDEX(tblÉvénements[],SMALL(IF(Dates=U$11,ROW(Dates)),ROW(2:2))-DébutLigneTableau,4),"")}
C14: {=IFERROR(INDEX(tblÉvénements[],SMALL(IF(Dates=C$11,ROW(Dates)),ROW(3:3))-DébutLigneTableau,4),"")} | F14: {=IFERROR(INDEX(tblÉvénements[],SMALL(IF(Dates=F$11,ROW(Dates)),ROW(3:3))-DébutLigneTableau,4),"")} | I14: {=IFERROR(INDEX(tblÉvénements[],SMALL(IF(Dates=I$11,ROW(Dates)),ROW(3:3))-DébutLigneTableau,4),"")} | L14: {=IFERROR(INDEX(tblÉvénements[],SMALL(IF(Dates=L$11,ROW(Dates)),ROW(3:3))-DébutLigneTableau,4),"")} | O14: {=IFERROR(INDEX(tblÉvénements[],SMALL(IF(Dates=O$11,ROW(Dates)),ROW(3:3))-DébutLigneTableau,4),"")} | R14: {=IFERROR(INDEX(tblÉvénements[],SMALL(IF(Dates=R$11,ROW(Dates)),ROW(3:3))-DébutLigneTableau,4),"")} | U14: {=IFERROR(INDEX(tblÉvénements[],SMALL(IF(Dates=U$11,ROW(Dates)),ROW(3:3))-DébutLigneTableau,4),"")}
C15: {=IFERROR(INDEX(tblÉvénements[],SMALL(IF(Dates=C$11,ROW(Dates)),ROW(4:4))-DébutLigneTableau,4),"")} | F15: {=IFERROR(INDEX(tblÉvénements[],SMALL(IF(Dates=F$11,ROW(Dates)),ROW(4:4))-DébutLigneTableau,4),"")} | I15: {=IFERROR(INDEX(tblÉvénements[],SMALL(IF(Dates=I$11,ROW(Dates)),ROW(4:4))-DébutLigneTableau,4),"")} | L15: {=IFERROR(INDEX(tblÉvénements[],SMALL(IF(Dates=L$11,ROW(Dates)),ROW(4:4))-DébutLigneTableau,4),"")} | O15: {=IFERROR(INDEX(tblÉvénements[],SMALL(IF(Dates=O$11,ROW(Dates)),ROW(4:4))-DébutLigneTableau,4),"")} | R15: {=IFERROR(INDEX(tblÉvénements[],SMALL(IF(Dates=R$11,ROW(Dates)),ROW(4:4))-DébutLigneTableau,4),"")} | U15: {=IFERROR(INDEX(tblÉvénements[],SMALL(IF(Dates=U$11,ROW(Dates)),ROW(4:4))-DébutLigneTableau,4),"")}
C16: =U11+1 -> 43906 | F16: =C16+1 -> 43907 | I16: =F16+1 -> 43908 | L16: =I16+1 -> 43909 | O16: =L16+1 -> 43910 | R16: =O16+1 -> 43911 | U16: =R16+1 -> 43912
C17: {=IFERROR(INDEX(tblÉvénements[],SMALL(IF(Dates=C$16,ROW(Dates)),ROW(1:1))-DébutLigneTableau,4),"")} | F17: {=IFERROR(INDEX(tblÉvénements[],SMALL(IF(Dates=F$16,ROW(Dates)),ROW(1:1))-DébutLigneTableau,4),"")} | I17: {=IFERROR(INDEX(tblÉvénements[],SMALL(IF(Dates=I$16,ROW(Dates)),ROW(1:1))-DébutLigneTableau,4),"")} | L17: {=IFERROR(INDEX(tblÉvénements[],SMALL(IF(Dates=L$16,ROW(Dates)),ROW(1:1))-DébutLigneTableau,4),"")} | O17: {=IFERROR(INDEX(tblÉvénements[],SMALL(IF(Dates=O$16,ROW(Dates)),ROW(1:1))-DébutLigneTableau,4),"")} | R17: {=IFERROR(INDEX(tblÉvénements[],SMALL(IF(Dates=R$16,ROW(Dates)),ROW(1:1))-DébutLigneTableau,4),"")} | U17: {=IFERROR(INDEX(tblÉvénements[],SMALL(IF(Dates=U$16,ROW(Dates)),ROW(1:1))-DébutLigneTableau,4),"")}
C18: {=IFERROR(INDEX(tblÉvénements[],SMALL(IF(Dates=C$16,ROW(Dates)),ROW(2:2))-DébutLigneTableau,4),"")} | F18: {=IFERROR(INDEX(tblÉvénements[],SMALL(IF(Dates=F$16,ROW(Dates)),ROW(2:2))-DébutLigneTableau,4),"")} | I18: {=IFERROR(INDEX(tblÉvénements[],SMALL(IF(Dates=I$16,ROW(Dates)),ROW(2:2))-DébutLigneTableau,4),"")} | L18: {=IFERROR(INDEX(tblÉvénements[],SMALL(IF(Dates=L$16,ROW(Dates)),ROW(2:2))-DébutLigneTableau,4),"")} | O18: {=IFERROR(INDEX(tblÉvénements[],SMALL(IF(Dates=O$16,ROW(Dates)),ROW(2:2))-DébutLigneTableau,4),"")} | R18: {=IFERROR(INDEX(tblÉvénements[],SMALL(IF(Dates=R$16,ROW(Dates)),ROW(2:2))-DébutLigneTableau,4),"")} | U18: {=IFERROR(INDEX(tblÉvénements[],SMALL(IF(Dates=U$16,ROW(Dates)),ROW(2:2))-DébutLigneTableau,4),"")}
C19: {=IFERROR(INDEX(tblÉvénements[],SMALL(IF(Dates=C$16,ROW(Dates)),ROW(3:3))-DébutLigneTableau,4),"")} | F19: {=IFERROR(INDEX(tblÉvénements[],SMALL(IF(Dates=F$16,ROW(Dates)),ROW(3:3))-DébutLigneTableau,4),"")} | I19: {=IFERROR(INDEX(tblÉvénements[],SMALL(IF(Dates=I$16,ROW(Dates)),ROW(3:3))-DébutLigneTableau,4),"")} | L19: {=IFERROR(INDEX(tblÉvénements[],SMALL(IF(Dates=L$16,ROW(Dates)),ROW(3:3))-DébutLigneTableau,4),"")} | O19: {=IFERROR(INDEX(tblÉvénements[],SMALL(IF(Dates=O$16,ROW(Dates)),ROW(3:3))-DébutLigneTableau,4),"")} | R19: {=IFERROR(INDEX(tblÉvénements[],SMALL(IF(Dates=R$16,ROW(Dates)),ROW(3:3))-DébutLigneTableau,4),"")} | U19: {=IFERROR(INDEX(tblÉvénements[],SMALL(IF(Dates=U$16,ROW(Dates)),ROW(3:3))-DébutLigneTableau,4),"")}
C20: {=IFERROR(INDEX(tblÉvénements[],SMALL(IF(Dates=C$16,ROW(Dates)),ROW(4:4))-DébutLigneTableau,4),"")} | F20: {=IFERROR(INDEX(tblÉvénements[],SMALL(IF(Dates=F$16,ROW(Dates)),ROW(4:4))-DébutLigneTableau,4),"")} | I20: {=IFERROR(INDEX(tblÉvénements[],SMALL(IF(Dates=I$16,ROW(Dates)),ROW(4:4))-DébutLigneTableau,4),"")} | L20: {=IFERROR(INDEX(tblÉvénements[],SMALL(IF(Dates=L$16,ROW(Dates)),ROW(4:4))-DébutLigneTableau,4),"")} | O20: {=IFERROR(INDEX(tblÉvénements[],SMALL(IF(Dates=O$16,ROW(Dates)),ROW(4:4))-DébutLigneTableau,4),"")} | R20: {=IFERROR(INDEX(tblÉvénements[],SMALL(IF(Dates=R$16,ROW(Dates)),ROW(4:4))-DébutLigneTableau,4),"")} | U20: {=IFERROR(INDEX(tblÉvénements[],SMALL(IF(Dates=U$16,ROW(Dates)),ROW(4:4))-DébutLigneTableau,4),"")}
C21: =U16+1 -> 43913 | F21: =C21+1 -> 43914 | I21: =F21+1 -> 43915 | L21: =I21+1 -> 43916 | O21: =L21+1 -> 43917 | R21: =O21+1 -> 43918 | U21: =R21+1 -> 43919
C22: {=IFERROR(INDEX(tblÉvénements[],SMALL(IF(Dates=C$21,ROW(Dates)),ROW(1:1))-DébutLigneTableau,4),"")} | F22: {=IFERROR(INDEX(tblÉvénements[],SMALL(IF(Dates=F$21,ROW(Dates)),ROW(1:1))-DébutLigneTableau,4),"")} | I22: {=IFERROR(INDEX(tblÉvénements[],SMALL(IF(Dates=I$21,ROW(Dates)),ROW(1:1))-DébutLigneTableau,4),"")} | L22: {=IFERROR(INDEX(tblÉvénements[],SMALL(IF(Dates=L$21,ROW(Dates)),ROW(1:1))-DébutLigneTableau,4),"")} | O22: {=IFERROR(INDEX(tblÉvénements[],SMALL(IF(Dates=O$21,ROW(Dates)),ROW(1:1))-DébutLigneTableau,4),"")} | R22: {=IFERROR(INDEX(tblÉvénements[],SMALL(IF(Dates=R$21,ROW(Dates)),ROW(1:1))-DébutLigneTableau,4),"")} | U22: {=IFERROR(INDEX(tblÉvénements[],SMALL(IF(Dates=U$21,ROW(Dates)),ROW(1:1))-DébutLigneTableau,4),"")}
C23: {=IFERROR(INDEX(tblÉvénements[],SMALL(IF(Dates=C$21,ROW(Dates)),ROW(2:2))-DébutLigneTableau,4),"")} | F23: {=IFERROR(INDEX(tblÉvénements[],SMALL(IF(Dates=F$21,ROW(Dates)),ROW(2:2))-DébutLigneTableau,4),"")} | I23: {=IFERROR(INDEX(tblÉvénements[],SMALL(IF(Dates=I$21,ROW(Dates)),ROW(2:2))-DébutLigneTableau,4),"")} | L23: {=IFERROR(INDEX(tblÉvénements[],SMALL(IF(Dates=L$21,ROW(Dates)),ROW(2:2))-DébutLigneTableau,4),"")} | O23: {=IFERROR(INDEX(tblÉvénements[],SMALL(IF(Dates=O$21,ROW(Dates)),ROW(2:2))-DébutLigneTableau,4),"")} | R23: {=IFERROR(INDEX(tblÉvénements[],SMALL(IF(Dates=R$21,ROW(Dates)),ROW(2:2))-DébutLigneTableau,4),"")} | U23: {=IFERROR(INDEX(tblÉvénements[],SMALL(IF(Dates=U$21,ROW(Dates)),ROW(2:2))-DébutLigneTableau,4),"")}
C24: {=IFERROR(INDEX(tblÉvénements[],SMALL(IF(Dates=C$21,ROW(Dates)),ROW(3:3))-DébutLigneTableau,4),"")} | F24: {=IFERROR(INDEX(tblÉvénements[],SMALL(IF(Dates=F$21,ROW(Dates)),ROW(3:3))-DébutLigneTableau,4),"")} | I24: {=IFERROR(INDEX(tblÉvénements[],SMALL(IF(Dates=I$21,ROW(Dates)),ROW(3:3))-DébutLigneTableau,4),"")} | L24: {=IFERROR(INDEX(tblÉvénements[],SMALL(IF(Dates=L$21,ROW(Dates)),ROW(3:3))-DébutLigneTableau,4),"")} | O24: {=IFERROR(INDEX(tblÉvénements[],SMALL(IF(Dates=O$21,ROW(Dates)),ROW(3:3))-DébutLigneTableau,4),"")} | R24: {=IFERROR(INDEX(tblÉvénements[],SMALL(IF(Dates=R$21,ROW(Dates)),ROW(3:3))-DébutLigneTableau,4),"")} | U24: {=IFERROR(INDEX(tblÉvénements[],SMALL(IF(Dates=U$21,ROW(Dates)),ROW(3:3))-DébutLigneTableau,4),"")}
C25: {=IFERROR(INDEX(tblÉvénements[],SMALL(IF(Dates=C$21,ROW(Dates)),ROW(4:4))-DébutLigneTableau,4),"")} | F25: {=IFERROR(INDEX(tblÉvénements[],SMALL(IF(Dates=F$21,ROW(Dates)),ROW(4:4))-DébutLigneTableau,4),"")} | I25: {=IFERROR(INDEX(tblÉvénements[],SMALL(IF(Dates=I$21,ROW(Dates)),ROW(4:4))-DébutLigneTableau,4),"")} | L25: {=IFERROR(INDEX(tblÉvénements[],SMALL(IF(Dates=L$21,ROW(Dates)),ROW(4:4))-DébutLigneTableau,4),"")} | O25: {=IFERROR(INDEX(tblÉvénements[],SMALL(IF(Dates=O$21,ROW(Dates)),ROW(4:4))-DébutLigneTableau,4),"")} | R25: {=IFERROR(INDEX(tblÉvénements[],SMALL(IF(Dates=R$21,ROW(Dates)),ROW(4:4))-DébutLigneTableau,4),"")} | U25: {=IFERROR(INDEX(tblÉvénements[],SMALL(IF(Dates=U$21,ROW(Dates)),ROW(4:4))-DébutLigneTableau,4),"")}
C26: =U21+1 -> 43920 | F26: =C26+1 -> 43921 | I26: =F26+1 -> 43922 | L26: =I26+1 -> 43923 | O26: =L26+1 -> 43924 | R26: =O26+1 -> 43925 | U26: =R26+1 -> 43926
C27: {=IFERROR(INDEX(tblÉvénements[],SMALL(IF(Dates=C$26,ROW(Dates)),ROW(1:1))-DébutLigneTableau,4),"")} | F27: {=IFERROR(INDEX(tblÉvénements[],SMALL(IF(Dates=F$26,ROW(Dates)),ROW(1:1))-DébutLigneTableau,4),"")} | I27: {=IFERROR(INDEX(tblÉvénements[],SMALL(IF(Dates=I$26,ROW(Dates)),ROW(1:1))-DébutLigneTableau,4),"")} | L27: {=IFERROR(INDEX(tblÉvénements[],SMALL(IF(Dates=L$26,ROW(Dates)),ROW(1:1))-DébutLigneTableau,4),"")} | O27: {=IFERROR(INDEX(tblÉvénements[],SMALL(IF(Dates=O$26,ROW(Dates)),ROW(1:1))-DébutLigneTableau,4),"")} | R27: {=IFERROR(INDEX(tblÉvénements[],SMALL(IF(Dates=R$26,ROW(Dates)),ROW(1:1))-DébutLigneTableau,4),"")} | U27: {=IFERROR(INDEX(tblÉvénements[],SMALL(IF(Dates=U$26,ROW(Dates)),ROW(1:1))-DébutLigneTableau,4),"")}
C28: {=IFERROR(INDEX(tblÉvénements[],SMALL(IF(Dates=C$26,ROW(Dates)),ROW(2:2))-DébutLigneTableau,4),"")} | F28: {=IFERROR(INDEX(tblÉvénements[],SMALL(IF(Dates=F$26,ROW(Dates)),ROW(2:2))-DébutLigneTableau,4),"")} | I28: {=IFERROR(INDEX(tblÉvénements[],SMALL(IF(Dates=I$26,ROW(Dates)),ROW(2:2))-DébutLigneTableau,4),"")} | L28: {=IFERROR(INDEX(tblÉvénements[],SMALL(IF(Dates=L$26,ROW(Dates)),ROW(2:2))-DébutLigneTableau,4),"")} | O28: {=IFERROR(INDEX(tblÉvénements[],SMALL(IF(Dates=O$26,ROW(Dates)),ROW(2:2))-DébutLigneTableau,4),"")} | R28: {=IFERROR(INDEX(tblÉvénements[],SMALL(IF(Dates=R$26,ROW(Dates)),ROW(2:2))-DébutLigneTableau,4),"")} | U28: {=IFERROR(INDEX(tblÉvénements[],SMALL(IF(Dates=U$26,ROW(Dates)),ROW(2:2))-DébutLigneTableau,4),"")}
C29: {=IFERROR(INDEX(tblÉvénements[],SMALL(IF(Dates=C$26,ROW(Dates)),ROW(3:3))-DébutLigneTableau,4),"")} | F29: {=IFERROR(INDEX(tblÉvénements[],SMALL(IF(Dates=F$26,ROW(Dates)),ROW(3:3))-DébutLigneTableau,4),"")} | I29: {=IFERROR(INDEX(tblÉvénements[],SMALL(IF(Dates=I$26,ROW(Dates)),ROW(3:3))-DébutLigneTableau,4),"")} | L29: {=IFERROR(INDEX(tblÉvénements[],SMALL(IF(Dates=L$26,ROW(Dates)),ROW(3:3))-DébutLigneTableau,4),"")} | O29: {=IFERROR(INDEX(tblÉvénements[],SMALL(IF(Dates=O$26,ROW(Dates)),ROW(3:3))-DébutLigneTableau,4),"")} | R29: {=IFERROR(INDEX(tblÉvénements[],SMALL(IF(Dates=R$26,ROW(Dates)),ROW(3:3))-DébutLigneTableau,4),"")} | U29: {=IFERROR(INDEX(tblÉvénements[],SMALL(IF(Dates=U$26,ROW(Dates)),ROW(3:3))-DébutLigneTableau,4),"")}
C30: {=IFERROR(INDEX(tblÉvénements[],SMALL(IF(Dates=C$26,ROW(Dates)),ROW(4:4))-DébutLigneTableau,4),"")} | F30: {=IFERROR(INDEX(tblÉvénements[],SMALL(IF(Dates=F$26,ROW(Dates)),ROW(4:4))-DébutLigneTableau,4),"")} | I30: {=IFERROR(INDEX(tblÉvénements[],SMALL(IF(Dates=I$26,ROW(Dates)),ROW(4:4))-DébutLigneTableau,4),"")} | L30: {=IFERROR(INDEX(tblÉvénements[],SMALL(IF(Dates=L$26,ROW(Dates)),ROW(4:4))-DébutLigneTableau,4),"")} | O30: {=IFERROR(INDEX(tblÉvénements[],SMALL(IF(Dates=O$26,ROW(Dates)),ROW(4:4))-DébutLigneTableau,4),"")} | R30: {=IFERROR(INDEX(tblÉvénements[],SMALL(IF(Dates=R$26,ROW(Dates)),ROW(4:4))-DébutLigneTableau,4),"")} | U30: {=IFERROR(INDEX(tblÉvénements[],SMALL(IF(Dates=U$26,ROW(Dates)),ROW(4:4))-DébutLigneTableau,4),"")}
C31: =U26+1 -> 43927 | F31: =C31+1 -> 43928 | I31: NOTES :
C32: {=IFERROR(INDEX(tblÉvénements[],SMALL(IF(Dates=C$31,ROW(Dates)),ROW(1:1))-DébutLigneTableau,4),"")} | F32: {=IFERROR(INDEX(tblÉvénements[],SMALL(IF(Dates=F$31,ROW(Dates)),ROW(1:1))-DébutLigneTableau,4),"")}
C33: {=IFERROR(INDEX(tblÉvénements[],SMALL(IF(Dates=C$31,ROW(Dates)),ROW(2:2))-DébutLigneTableau,4),"")} | F33: {=IFERROR(INDEX(tblÉvénements[],SMALL(IF(Dates=F$31,ROW(Dates)),ROW(2:2))-DébutLigneTableau,4),"")}
C34: {=IFERROR(INDEX(tblÉvénements[],SMALL(IF(Dates=C$31,ROW(Dates)),ROW(3:3))-DébutLigneTableau,4),"")} | F34: {=IFERROR(INDEX(tblÉvénements[],SMALL(IF(Dates=F$31,ROW(Dates)),ROW(3:3))-DébutLigneTableau,4),"")}
C35: {=IFERROR(INDEX(tblÉvénements[],SMALL(IF(Dates=C$31,ROW(Dates)),ROW(4:4))-DébutLigneTableau,4),"")} | F35: {=IFERROR(INDEX(tblÉvénements[],SMALL(IF(Dates=F$31,ROW(Dates)),ROW(4:4))-DébutLigneTableau,4),"")}

Sheet VERSION IMPRIMABLE
C2: =AfficherAnnée -> 2020 | F2: =AfficherMois -> MARS | G2: 0 | H2: 0 | I2: 0 | J2: 0 | K2: 0 | L2: 0
C4: LUN | F4: MAR | I4: MER | L4: JEU | O4: VEN | R4: SAM | U4: DIM
C6: =CALENDRIER!C6 -> 43892 | D6: =CALENDRIER!D6 -> 0 | E6: =CALENDRIER!E6 -> 0 | F6: =CALENDRIER!F6 -> 43893 | G6: =CALENDRIER!G6 -> 0 | H6: =CALENDRIER!H6 -> 0 | I6: =CALENDRIER!I6 -> 43894 | J6: =CALENDRIER!J6 -> 0 | ... U6: =CALENDRIER!U6 -> 43898
C7: =CALENDRIER!C7 | D7: =CALENDRIER!D7 -> 0 | E7: =CALENDRIER!E7 -> 0 | F7: =CALENDRIER!F7 | G7: =CALENDRIER!G7 -> 0 | H7: =CALENDRIER!H7 -> 0 | I7: =CALENDRIER!I7 | J7: =CALENDRIER!J7 -> 0 | ... U7: =CALENDRIER!U7 -> Foire du Livre
C8: =CALENDRIER!C8 | D8: =CALENDRIER!D8 -> 0 | E8: =CALENDRIER!E8 -> 0 | F8: =CALENDRIER!F8 | G8: =CALENDRIER!G8 -> 0 | H8: =CALENDRIER!H8 -> 0 | I8: =CALENDRIER!I8 | J8: =CALENDRIER!J8 -> 0 | ... U8: =CALENDRIER!U8
C9: =CALENDRIER!C9 | D9: =CALENDRIER!D9 -> 0 | E9: =CALENDRIER!E9 -> 0 | F9: =CALENDRIER!F9 | G9: =CALENDRIER!G9 -> 0 | H9: =CALENDRIER!H9 -> 0 | I9: =CALENDRIER!I9 | J9: =CALENDRIER!J9 -> 0 | ... U9: =CALENDRIER!U9
C10: =CALENDRIER!C10 | D10: =CALENDRIER!D10 -> 0 | E10: =CALENDRIER!E10 -> 0 | F10: =CALENDRIER!F10 | G10: =CALENDRIER!G10 -> 0 | H10: =CALENDRIER!H10 -> 0 | I10: =CALENDRIER!I10 | J10: =CALENDRIER!J10 -> 0 | ... U10: =CALENDRIER!U10
C11: =CALENDRIER!C11 -> 43899 | D11: =CALENDRIER!D11 -> 0 | E11: =CALENDRIER!E11 -> 0 | F11: =CALENDRIER!F11 -> 43900 | G11: =CALENDRIER!G11 -> 0 | H11: =CALENDRIER!H11 -> 0 | I11: =CALENDRIER!I11 -> 43901 | J11: =CALENDRIER!J11 -> 0 | ... U11: =CALENDRIER!U11 -> 43905
C12: =CALENDRIER!C12 | D12: =CALENDRIER!D12 -> 0 | E12: =CALENDRIER!E12 -> 0 | F12: =CALENDRIER!F12 | G12: =CALENDRIER!G12 -> 0 | H12: =CALENDRIER!H12 -> 0 | I12: =CALENDRIER!I12 | J12: =CALENDRIER!J12 -> 0 | ... U12: =CALENDRIER!U12
C13: =CALENDRIER!C13 | D13: =CALENDRIER!D13 -> 0 | E13: =CALENDRIER!E13 -> 0 | F13: =CALENDRIER!F13 | G13: =CALENDRIER!G13 -> 0 | H13: =CALENDRIER!H13 -> 0 | I13: =CALENDRIER!I13 | J13: =CALENDRIER!J13 -> 0 | ... U13: =CALENDRIER!U13
C14: =CALENDRIER!C14 | D14: =CALENDRIER!D14 -> 0 | E14: =CALENDRIER!E14 -> 0 | F14: =CALENDRIER!F14 | G14: =CALENDRIER!G14 -> 0 | H14: =CALENDRIER!H14 -> 0 | I14: =CALENDRIER!I14 | J14: =CALENDRIER!J14 -> 0 | ... U14: =CALENDRIER!U14
C15: =CALENDRIER!C15 | D15: =CALENDRIER!D15 -> 0 | E15: =CALENDRIER!E15 -> 0 | F15: =CALENDRIER!F15 | G15: =CALENDRIER!G15 -> 0 | H15: =CALENDRIER!H15 -> 0 | I15: =CALENDRIER!I15 | J15: =CALENDRIER!J15 -> 0 | ... U15: =CALENDRIER!U15
C16: =CALENDRIER!C16 -> 43906 | D16: =CALENDRIER!D16 -> 0 | E16: =CALENDRIER!E16 -> 0 | F16: =CALENDRIER!F16 -> 43907 | G16: =CALENDRIER!G16 -> 0 | H16: =CALENDRIER!H16 -> 0 | I16: =CALENDRIER!I16 -> 43908 | J16: =CALENDRIER!J16 -> 0 | ... U16: =CALENDRIER!U16 -> 43912
C17: =CALENDRIER!C17 | D17: =CALENDRIER!D17 -> 0 | E17: =CALENDRIER!E17 -> 0 | F17: =CALENDRIER!F17 | G17: =CALENDRIER!G17 -> 0 | H17: =CALENDRIER!H17 -> 0 | I17: =CALENDRIER!I17 | J17: =CALENDRIER!J17 -> 0 | ... U17: =CALENDRIER!U17
... C30: =CALENDRIER!C30 | D30: =CALENDRIER!D30 -> 0 | E30: =CALENDRIER!E30 -> 0 | F30: =CALENDRIER!F30 | G30: =CALENDRIER!G30 -> 0 | H30: =CALENDRIER!H30 -> 0 | I30: =CALENDRIER!I30 | J30: =CALENDRIER!J30 -> 0 | ... U30: =CALENDRIER!U30
C31: =CALENDRIER!C31 -> 43927 | D31: =CALENDRIER!D31 -> 0 | E31: =CALENDRIER!E31 -> 0 | F31: =CALENDRIER!F31 -> 43928 | I31: =CALENDRIER!I31 -> NOTES :
C32: =CALENDRIER!C32 | D32: =CALENDRIER!D32 -> 0 | E32: =CALENDRIER!E32 -> 0 | F32: =CALENDRIER!F32
C33: =CALENDRIER!C33 | D33: =CALENDRIER!D33 -> 0 | E33: =CALENDRIER!E33 -> 0 | F33: =CALENDRIER!F33
C34: =CALENDRIER!C34 | D34: =CALENDRIER!D34 -> 0 | E34: =CALENDRIER!E34 -> 0 | F34: =CALENDRIER!F34
C35: =CALENDRIER!C35 | D35: =CALENDRIER!D35 -> 0 | E35: =CALENDRIER!E35 -> 0 | F35: =CALENDRIER!F35

Sheet Validation des données
A1: Mois | B1: AR | C1: Régions
A2: Janvier | B2: Anvers | C2: Bruxelles
A3: Février | B3: Ath | C3: Flandre
A4: Mars | B4: Bruxelles | C4: Wallonie
A5: Avril | B5: Charleroi
A6: Mai | B6: Courtrai
A7: Juin | B7: Gand
A8: Juillet | B8: Geel
A9: Août | B9: Hasselt
A10: Septembre | B10: Jambes
A11: Octobre | B11: Libramont
A12: Novembre | B12: Liège
A13: Décembre | B13: Louvain
B14: Partout

Sheet ADMINISTRATION
B2: MOIS | C2: NOMBRE
B3: JANVIER | C3: 1
B4: FÉVRIER | C4: 2
B5: MARS | C5: 3
B6: AVRIL | C6: 4
B7: MAI | C7: 5
B8: JUIN | C8: 6
B9: JUILLET | C9: 7
B10: AOÛT | C10: 8
B11: SEPTEMBRE | C11: 9
B12: OCTOBRE | C12: 10
B13: NOVEMBRE | C13: 11
B14: DÉCEMBRE | C14: 12
