Workbook

Sheet Feuil1
C2: Ne pas toucher
C3: Vous pouvez renseigner les colonnes
B5: N° d'Audit | C5: Mail du correspondant de l'audit | D5: Date de l'audit | E5: Lieu de l'audit | F5: Entreprise | G5: Gestionnaire du parc véhicule | H5: Immatriculation du véhicule | I5: Marque du véhicule | J5: Auditeur | K5: Audité | L5: Actions à réaliser | M5: Pilote de l'action | N5: Date d'ouverture de l'action | O5: Date de cloture de l'action | P5: Remarque
B6: =IF(Import!A2<>"",Import!A2,"") | C6: =IF(Import!B2<>"",Import!B2,"") | D6: =IF(Import!C2<>"",Import!C2,"") -> 43921 | E6: =IF(Import!D2<>"",Import!D2,"") -> Sur la chaise | F6: =IF(Import!E2<>"",Import!E2,"") -> 27 | G6: =IF(Import!F2<>"",Import!F2,"") | H6: =IF(Import!G2<>"",Import!G2,"") -> 1665 | I6: =IF(Import!H2<>"",Import!H2,"") -> Kro | J6: =IF(Import!K2<>"",Import!K2,"") -> CMUR | K6: =IF(Import!L2<>"",Import!L2,"") -> GBEZ | L6: =IF(Import!Q2<>"",Table1[[#Headers],[Pneus: Précisez les éléments à changer]] & " :" & CHAR(10) & Import!Q2 & CHAR(10),"") & IF(Import!S2<>"",Table1[[#Headers],[Pneus: Précisez le changement à prévoir]] & " :" & CHAR(10) & Import!S2 & CHAR(10),"") & IF(Import!W2<>"", Table1[[#Headers],[Rétroviseur: Précisez les éléments à réparer]] & " :" & CHAR(10) & Import!W2 & CHAR(10),"") & IF(Import!AA2<>"",Table1[[#Headers],[Carrosserie: Précisez les éléments à réparer]] & " :" & CHAR(10) & Import!AA2 & CHAR(10),"") & IF(Import!AE2<>"", Table1[[#Headers],[Optiques: Précisez les éléments à réparer]] & " :" & CHAR(10) & Import!AE2 & CHAR(10),"") & IF(Import!AF2<>"", Table1[[#Headers],[Ampoules: Précisez les éléments à changer]] & " :" & CHAR(10) & Import!AF2 & CHAR(10),"") & IF(Import!AJ2<>"", Table1[[#Headers],[Vitres: Précisez les éléments à réparer]] & " :" & CHAR(10) & Import!AJ2 & CHAR(10),"") & IF(Import!AK2<>"", Table1[[#Headers],[Essuie glace avant]] & " :" & CHAR(10) & Import!AK2 & CHAR(10),"") & IF(Import!AL2<>"",Table1[[#Headers],[Essuie glace arrière]] & " :" & CHAR(10) & Import!AL2 & CHAR(10),"") & IF(Import!AS2<>"",Table1[[#Headers],[Cassures: Précisez les éléments à remplacer]] & " :" & CHAR(10) & Import!AS2 & CHAR(10),"") & IF(Import!AU2<>"",Table1[[#Headers],[Précisez les éléments manquants / à remplacer]] & " :" & CHAR(10) & Import!AU2 & CHAR(10),"")
B7: =IF(Import!A3<>"",Import!A3,"") | C7: =IF(Import!B3<>"",Import!B3,"") | D7: =IF(Import!C3<>"",Import!C3,"") -> 43923 | E7: =IF(Import!D3<>"",Import!D3,"") -> Clemessy HABSHEIM | F7: =IF(Import!E3<>"",Import!E3,"") -> 153 | G7: =IF(Import!F3<>"",Import!F3,"") | H7: =IF(Import!G3<>"",Import!G3,"") -> XX-159-XX | I7: =IF(Import!H3<>"",Import!H3,"") -> FERRARI | J7: =IF(Import!K3<>"",Import!K3,"") -> NHAU | K7: =IF(Import!L3<>"",Import!L3,"") -> CMUR | L7: =IF(Import!Q3<>"",Table1[[#Headers],[Pneus: Précisez les éléments à changer]] & " :" & CHAR(10) & Import!Q3 & CHAR(10),"") & IF(Import!S3<>"",Table1[[#Headers],[Pneus: Précisez le changement à prévoir]] & " :" & CHAR(10) & Import!S3 & CHAR(10),"") & IF(Import!W3<>"", Table1[[#Headers],[Rétroviseur: Précisez les éléments à réparer]] & " :" & CHAR(10) & Import!W3 & CHAR(10),"") & IF(Import!AA3<>"",Table1[[#Headers],[Carrosserie: Précisez les éléments à réparer]] & " :" & CHAR(10) & Import!AA3 & CHAR(10),"") & IF(Import!AE3<>"", Table1[[#Headers],[Optiques: Précisez les éléments à réparer]] & " :" & CHAR(10) & Import!AE3 & CHAR(10),"") & IF(Import!AF3<>"", Table1[[#Headers],[Ampoules: Précisez les éléments à changer]] & " :" & CHAR(10) & Import!AF3 & CHAR(10),"") & IF(Import!AJ3<>"", Table1[[#Headers],[Vitres: Précisez les éléments à réparer]] & " :" & CHAR(10) & Import!AJ3 & CHAR(10),"") & IF(Import!AK3<>"", Table1[[#Headers],[Essuie glace avant]] & " :" & CHAR(10) & Import!AK3 & CHAR(10),"") & IF(Import!AL3<>"",Table1[[#Headers],[Essuie glace arrière]] & " :" & CHAR(10) & Import!AL3 & CHAR(10),"") & IF(Import!AS3<>"",Table1[[#Headers],[Cassures: Précisez les éléments à remplacer]] & " :" & CHAR(10) & Import!AS3 & CHAR(10),"") & IF(Import!AU3<>"",Table1[[#Headers],[Précisez les éléments manquants / à remplacer]] & " :" & CHAR(10) & Import!AU3 & CHAR(10),"")
B8: =IF(Import!A4<>"",Import!A4,"") | C8: =IF(Import!B4<>"",Import!B4,"") | D8: =IF(Import!C4<>"",Import!C4,"") -> 43927 | E8: =IF(Import!D4<>"",Import!D4,"") -> Wittelsheim | F8: =IF(Import!E4<>"",Import!E4,"") -> 27 | G8: =IF(Import!F4<>"",Import!F4,"") | H8: =IF(Import!G4<>"",Import!G4,"") -> xx-xxx-xx | I8: =IF(Import!H4<>"",Import!H4,"") -> SEAT | J8: =IF(Import!K4<>"",Import!K4,"") -> CMUR | K8: =IF(Import!L4<>"",Import!L4,"") -> GBEZ | L8: =IF(Import!Q4<>"",Table1[[#Headers],[Pneus: Précisez les éléments à changer]] & " :" & CHAR(10) & Import!Q4 & CHAR(10),"") & IF(Import!S4<>"",Table1[[#Headers],[Pneus: Précisez le changement à prévoir]] & " :" & CHAR(10) & Import!S4 & CHAR(10),"") & IF(Import!W4<>"", Table1[[#Headers],[Rétroviseur: Précisez les éléments à réparer]] & " :" & CHAR(10) & Import!W4 & CHAR(10),"") & IF(Import!AA4<>"",Table1[[#Headers],[Carrosserie: Précisez les éléments à réparer]] & " :" & CHAR(10) & Import!AA4 & CHAR(10),"") & IF(Import!AE4<>"", Table1[[#Headers],[Optiques: Précisez les éléments à réparer]] & " :" & CHAR(10) & Import!AE4 & CHAR(10),"") & IF(Import!AF4<>"", Table1[[#Headers],[Ampoules: Précisez les éléments à changer]] & " :" & CHAR(10) & Import!AF4 & CHAR(10),"") & IF(Import!AJ4<>"", Table1[[#Headers],[Vitres: Précisez les éléments à réparer]] & " :" & CHAR(10) & Import!AJ4 & CHAR(10),"") & IF(Import!AK4<>"", Table1[[#Headers],[Essuie glace avant]] & " :" & CHAR(10) & Import!AK4 & CHAR(10),"") & IF(Import!AL4<>"",Table1[[#Headers],[Essuie glace arrière]] & " :" & CHAR(10) & Import!AL4 & CHAR(10),"") & IF(Import!AS4<>"",Table1[[#Headers],[Cassures: Précisez les éléments à remplacer]] & " :" & CHAR(10) & Import!AS4 & CHAR(10),"") & IF(Import!AU4<>"",Table1[[#Headers],[Précisez les éléments manquants / à remplacer]] & " :" & CHAR(10) & Import!AU4 & CHAR(10),"")
B9: =IF(Import!A5<>"",Import!A5,"") | C9: =IF(Import!B5<>"",Import!B5,"") | D9: =IF(Import!C5<>"",Import!C5,"") -> 43927 | E9: =IF(Import!D5<>"",Import!D5,"") -> WITTELSHEIM | F9: =IF(Import!E5<>"",Import!E5,"") -> 68 | G9: =IF(Import!F5<>"",Import!F5,"") | H9: =IF(Import!G5<>"",Import!G5,"") -> XX-XXX-XX | I9: =IF(Import!H5<>"",Import!H5,"") -> SEAT | J9: =IF(Import!K5<>"",Import!K5,"") -> CMUR | K9: =IF(Import!L5<>"",Import!L5,"") -> GBEZ | L9: =IF(Import!Q5<>"",Table1[[#Headers],[Pneus: Précisez les éléments à changer]] & " :" & CHAR(10) & Import!Q5 & CHAR(10),"") & IF(Import!S5<>"",Table1[[#Headers],[Pneus: Précisez le changement à prévoir]] & " :" & CHAR(10) & Import!S5 & CHAR(10),"") & IF(Import!W5<>"", Table1[[#Headers],[Rétroviseur: Précisez les éléments à réparer]] & " :" & CHAR(10) & Import!W5 & CHAR(10),"") & IF(Import!AA5<>"",Table1[[#Headers],[Carrosserie: Précisez les éléments à réparer]] & " :" & CHAR(10) & Import!AA5 & CHAR(10),"") & IF(Import!AE5<>"", Table1[[#Headers],[Optiques: Précisez les éléments à réparer]] & " :" & CHAR(10) & Import!AE5 & CHAR(10),"") & IF(Import!AF5<>"", Table1[[#Headers],[Ampoules: Précisez les éléments à changer]] & " :" & CHAR(10) & Import!AF5 & CHAR(10),"") & IF(Import!AJ5<>"", Table1[[#Headers],[Vitres: Précisez les éléments à réparer]] & " :" & CHAR(10) & Import!AJ5 & CHAR(10),"") & IF(Import!AK5<>"", Table1[[#Headers],[Essuie glace avant]] & " :" & CHAR(10) & Import!AK5 & CHAR(10),"") & IF(Import!AL5<>"",Table1[[#Headers],[Essuie glace arrière]] & " :" & CHAR(10) & Import!AL5 & CHAR(10),"") & IF(Import!AS5<>"",Table1[[#Headers],[Cassures: Précisez les éléments à remplacer]] & " :" & CHAR(10) & Import!AS5 & CHAR(10),"") & IF(Import!AU5<>"",Table1[[#Headers],[Précisez les éléments manquants / à remplacer]] & " :" & CHAR(10) & Import!AU5 & CHAR(10),"")
B10: =IF(Import!A6<>"",Import!A6,"") | C10: =IF(Import!B6<>"",Import!B6,"") | D10: =IF(Import!C6<>"",Import!C6,"") -> 43927 | E10: =IF(Import!D6<>"",Import!D6,"") -> WW | F10: =IF(Import!E6<>"",Import!E6,"") -> ff | G10: =IF(Import!F6<>"",Import!F6,"") | H10: =IF(Import!G6<>"",Import!G6,"") -> ff | I10: =IF(Import!H6<>"",Import!H6,"") -> ff | J10: =IF(Import!K6<>"",Import!K6,"") | K10: =IF(Import!L6<>"",Import!L6,"") | L10: =IF(Import!Q6<>"",Table1[[#Headers],[Pneus: Précisez les éléments à changer]] & " :" & CHAR(10) & Import!Q6 & CHAR(10),"") & IF(Import!S6<>"",Table1[[#Headers],[Pneus: Précisez le changement à prévoir]] & " :" & CHAR(10) & Import!S6 & CHAR(10),"") & IF(Import!W6<>"", Table1[[#Headers],[Rétroviseur: Précisez les éléments à réparer]] & " :" & CHAR(10) & Import!W6 & CHAR(10),"") & IF(Import!AA6<>"",Table1[[#Headers],[Carrosserie: Précisez les éléments à réparer]] & " :" & CHAR(10) & Import!AA6 & CHAR(10),"") & IF(Import!AE6<>"", Table1[[#Headers],[Optiques: Précisez les éléments à réparer]] & " :" & CHAR(10) & Import!AE6 & CHAR(10),"") & IF(Import!AF6<>"", Table1[[#Headers],[Ampoules: Précisez les éléments à changer]] & " :" & CHAR(10) & Import!AF6 & CHAR(10),"") & IF(Import!AJ6<>"", Table1[[#Headers],[Vitres: Précisez les éléments à réparer]] & " :" & CHAR(10) & Import!AJ6 & CHAR(10),"") & IF(Import!AK6<>"", Table1[[#Headers],[Essuie glace avant]] & " :" & CHAR(10) & Import!AK6 & CHAR(10),"") & IF(Import!AL6<>"",Table1[[#Headers],[Essuie glace arrière]] & " :" & CHAR(10) & Import!AL6 & CHAR(10),"") & IF(Import!AS6<>"",Table1[[#Headers],[Cassures: Précisez les éléments à remplacer]] & " :" & CHAR(10) & Import!AS6 & CHAR(10),"") & IF(Import!AU6<>"",Table1[[#Headers],[Précisez les éléments manquants / à remplacer]] & " :" & CHAR(10) & Import!AU6 & CHAR(10),"")
B11: =IF(Import!A7<>"",Import!A7,"") | C11: =IF(Import!B7<>"",Import!B7,"") | D11: =IF(Import!C7<>"",Import!C7,"") -> 43934 | E11: =IF(Import!D7<>"",Import!D7,"") -> fffff | F11: =IF(Import!E7<>"",Import!E7,"") | G11: =IF(Import!F7<>"",Import!F7,"") | H11: =IF(Import!G7<>"",Import!G7,"") | I11: =IF(Import!H7<>"",Import!H7,"") | J11: =IF(Import!K7<>"",Import!K7,"") | K11: =IF(Import!L7<>"",Import!L7,"") | L11: =IF(Import!Q7<>"",Table1[[#Headers],[Pneus: Précisez les éléments à changer]] & " :" & CHAR(10) & Import!Q7 & CHAR(10),"") & IF(Import!S7<>"",Table1[[#Headers],[Pneus: Précisez le changement à prévoir]] & " :" & CHAR(10) & Import!S7 & CHAR(10),"") & IF(Import!W7<>"", Table1[[#Headers],[Rétroviseur: Précisez les éléments à réparer]] & " :" & CHAR(10) & Import!W7 & CHAR(10),"") & IF(Import!AA7<>"",Table1[[#Headers],[Carrosserie: Précisez les éléments à réparer]] & " :" & CHAR(10) & Import!AA7 & CHAR(10),"") & IF(Import!AE7<>"", Table1[[#Headers],[Optiques: Précisez les éléments à réparer]] & " :" & CHAR(10) & Import!AE7 & CHAR(10),"") & IF(Import!AF7<>"", Table1[[#Headers],[Ampoules: Précisez les éléments à changer]] & " :" & CHAR(10) & Import!AF7 & CHAR(10),"") & IF(Import!AJ7<>"", Table1[[#Headers],[Vitres: Précisez les éléments à réparer]] & " :" & CHAR(10) & Import!AJ7 & CHAR(10),"") & IF(Import!AK7<>"", Table1[[#Headers],[Essuie glace avant]] & " :" & CHAR(10) & Import!AK7 & CHAR(10),"") & IF(Import!AL7<>"",Table1[[#Headers],[Essuie glace arrière]] & " :" & CHAR(10) & Import!AL7 & CHAR(10),"") & IF(Import!AS7<>"",Table1[[#Headers],[Cassures: Précisez les éléments à remplacer]] & " :" & CHAR(10) & Import!AS7 & CHAR(10),"") & IF(Import!AU7<>"",Table1[[#Headers],[Précisez les éléments manquants / à remplacer]] & " :" & CHAR(10) & Import!AU7 & CHAR(10),"")
B12: =IF(Import!A8<>"",Import!A8,"") | C12: =IF(Import!B8<>"",Import!B8,"") | D12: =IF(Import!C8<>"",Import!C8,"") -> 43927 | E12: =IF(Import!D8<>"",Import!D8,"") -> Mulhouse | F12: =IF(Import!E8<>"",Import!E8,"") -> 29 | G12: =IF(Import!F8<>"",Import!F8,"") | H12: =IF(Import!G8<>"",Import!G8,"") -> XX-167-KK | I12: =IF(Import!H8<>"",Import!H8,"") -> Maserati | J12: =IF(Import!K8<>"",Import!K8,"") -> NHAU | K12: =IF(Import!L8<>"",Import!L8,"") -> GMIG | L12: =IF(Import!Q8<>"",Table1[[#Headers],[Pneus: Précisez les éléments à changer]] & " :" & CHAR(10) & Import!Q8 & CHAR(10),"") & IF(Import!S8<>"",Table1[[#Headers],[Pneus: Précisez le changement à prévoir]] & " :" & CHAR(10) & Import!S8 & CHAR(10),"") & IF(Import!W8<>"", Table1[[#Headers],[Rétroviseur: Précisez les éléments à réparer]] & " :" & CHAR(10) & Import!W8 & CHAR(10),"") & IF(Import!AA8<>"",Table1[[#Headers],[Carrosserie: Précisez les éléments à réparer]] & " :" & CHAR(10) & Import!AA8 & CHAR(10),"") & IF(Import!AE8<>"", Table1[[#Headers],[Optiques: Précisez les éléments à réparer]] & " :" & CHAR(10) & Import!AE8 & CHAR(10),"") & IF(Import!AF8<>"", Table1[[#Headers],[Ampoules: Précisez les éléments à changer]] & " :" & CHAR(10) & Import!AF8 & CHAR(10),"") & IF(Import!AJ8<>"", Table1[[#Headers],[Vitres: Précisez les éléments à réparer]] & " :" & CHAR(10) & Import!AJ8 & CHAR(10),"") & IF(Import!AK8<>"", Table1[[#Headers],[Essuie glace avant]] & " :" & CHAR(10) & Import!AK8 & CHAR(10),"") & IF(Import!AL8<>"",Table1[[#Headers],[Essuie glace arrière]] & " :" & CHAR(10) & Import!AL8 & CHAR(10),"") & IF(Import!AS8<>"",Table1[[#Headers],[Cassures: Précisez les éléments à remplacer]] & " :" & CHAR(10) & Import!AS8 & CHAR(10),"") & IF(Import!AU8<>"",Table1[[#Headers],[Précisez les éléments manquants / à remplacer]] & " :" & CHAR(10) & Import!AU8 & CHAR(10),"")
B13: =IF(Import!A9<>"",Import!A9,"") | C13: =IF(Import!B9<>"",Import!B9,"") | D13: =IF(Import!C9<>"",Import!C9,"") -> 43928 | E13: =IF(Import!D9<>"",Import!D9,"") -> vdvx | F13: =IF(Import!E9<>"",Import!E9,"") -> 25 | G13: =IF(Import!F9<>"",Import!F9,"") | H13: =IF(Import!G9<>"",Import!G9,"") -> vvvvvv | I13: =IF(Import!H9<>"",Import!H9,"") | J13: =IF(Import!K9<>"",Import!K9,"") | K13: =IF(Import!L9<>"",Import!L9,"") | L13: =IF(Import!Q9<>"",Table1[[#Headers],[Pneus: Précisez les éléments à changer]] & " :" & CHAR(10) & Import!Q9 & CHAR(10),"") & IF(Import!S9<>"",Table1[[#Headers],[Pneus: Précisez le changement à prévoir]] & " :" & CHAR(10) & Import!S9 & CHAR(10),"") & IF(Import!W9<>"", Table1[[#Headers],[Rétroviseur: Précisez les éléments à réparer]] & " :" & CHAR(10) & Import!W9 & CHAR(10),"") & IF(Import!AA9<>"",Table1[[#Headers],[Carrosserie: Précisez les éléments à réparer]] & " :" & CHAR(10) & Import!AA9 & CHAR(10),"") & IF(Import!AE9<>"", Table1[[#Headers],[Optiques: Précisez les éléments à réparer]] & " :" & CHAR(10) & Import!AE9 & CHAR(10),"") & IF(Import!AF9<>"", Table1[[#Headers],[Ampoules: Précisez les éléments à changer]] & " :" & CHAR(10) & Import!AF9 & CHAR(10),"") & IF(Import!AJ9<>"", Table1[[#Headers],[Vitres: Précisez les éléments à réparer]] & " :" & CHAR(10) & Import!AJ9 & CHAR(10),"") & IF(Import!AK9<>"", Table1[[#Headers],[Essuie glace avant]] & " :" & CHAR(10) & Import!AK9 & CHAR(10),"") & IF(Import!AL9<>"",Table1[[#Headers],[Essuie glace arrière]] & " :" & CHAR(10) & Import!AL9 & CHAR(10),"") & IF(Import!AS9<>"",Table1[[#Headers],[Cassures: Précisez les éléments à remplacer]] & " :" & CHAR(10) & Import!AS9 & CHAR(10),"") & IF(Import!AU9<>"",Table1[[#Headers],[Précisez les éléments manquants / à remplacer]] & " :" & CHAR(10) & Import!AU9 & CHAR(10),"")
B14: =IF(Import!A10<>"",Import!A10,"") | C14: =IF(Import!B10<>"",Import!B10,"") | D14: =IF(Import!C10<>"",Import!C10,"") -> 43934 | E14: =IF(Import!D10<>"",Import!D10,"") -> grdg | F14: =IF(Import!E10<>"",Import!E10,"") -> rgrd | G14: =IF(Import!F10<>"",Import!F10,"") | H14: =IF(Import!G10<>"",Import!G10,"") -> grdg | I14: =IF(Import!H10<>"",Import!H10,"") -> rgrdgdr | J14: =IF(Import!K10<>"",Import!K10,"") -> rdgrd | K14: =IF(Import!L10<>"",Import!L10,"") -> rdgrdg | L14: =IF(Import!Q10<>"",Table1[[#Headers],[Pneus: Précisez les éléments à changer]] & " :" & CHAR(10) & Import!Q10 & CHAR(10),"") & IF(Import!S10<>"",Table1[[#Headers],[Pneus: Précisez le changement à prévoir]] & " :" & CHAR(10) & Import!S10 & CHAR(10),"") & IF(Import!W10<>"", Table1[[#Headers],[Rétroviseur: Précisez les éléments à réparer]] & " :" & CHAR(10) & Import!W10 & CHAR(10),"") & IF(Import!AA10<>"",Table1[[#Headers],[Carrosserie: Précisez les éléments à réparer]] & " :" & CHAR(10) & Import!AA10 & CHAR(10),"") & IF(Import!AE10<>"", Table1[[#Headers],[Optiques: Précisez les éléments à réparer]] & " :" & CHAR(10) & Import!AE10 & CHAR(10),"") & IF(Import!AF10<>"", Table1[[#Headers],[Ampoules: Précisez les éléments à changer]] & " :" & CHAR(10) & Import!AF10 & CHAR(10),"") & IF(Import!AJ10<>"", Table1[[#Headers],[Vitres: Précisez les éléments à réparer]] & " :" & CHAR(10) & Import!AJ10 & CHAR(10),"") & IF(Import!AK10<>"", Table1[[#Headers],[Essuie glace avant]] & " :" & CHAR(10) & Import!AK10 & CHAR(10),"") & IF(Import!AL10<>"",Table1[[#Headers],[Essuie glace arrière]] & " :" & CHAR(10) & Import!AL10 & CHAR(10),"") & IF(Import!AS10<>"",Table1[[#Headers],[Cassures: Précisez les éléments à remplacer]] & " :" & CHAR(10) & Import!AS10 & CHAR(10),"") & IF(Import!AU10<>"",Table1[[#Headers],[Précisez les éléments manquants / à remplacer]] & " :" & CHAR(10) & Import!AU10 & CHAR(10),"")
B15: =IF(Import!A11<>"",Import!A11,"") | C15: =IF(Import!B11<>"",Import!B11,"") | D15: =IF(Import!C11<>"",Import!C11,"") -> 43927 | E15: =IF(Import!D11<>"",Import!D11,"") | F15: =IF(Import!E11<>"",Import!E11,"") -> hh | G15: =IF(Import!F11<>"",Import!F11,"") | H15: =IF(Import!G11<>"",Import!G11,"") -> hh | I15: =IF(Import!H11<>"",Import!H11,"") | J15: =IF(Import!K11<>"",Import!K11,"") | K15: =IF(Import!L11<>"",Import!L11,"") | L15: =IF(Import!Q11<>"",Table1[[#Headers],[Pneus: Précisez les éléments à changer]] & " :" & CHAR(10) & Import!Q11 & CHAR(10),"") & IF(Import!S11<>"",Table1[[#Headers],[Pneus: Précisez le changement à prévoir]] & " :" & CHAR(10) & Import!S11 & CHAR(10),"") & IF(Import!W11<>"", Table1[[#Headers],[Rétroviseur: Précisez les éléments à réparer]] & " :" & CHAR(10) & Import!W11 & CHAR(10),"") & IF(Import!AA11<>"",Table1[[#Headers],[Carrosserie: Précisez les éléments à réparer]] & " :" & CHAR(10) & Import!AA11 & CHAR(10),"") & IF(Import!AE11<>"", Table1[[#Headers],[Optiques: Précisez les éléments à réparer]] & " :" & CHAR(10) & Import!AE11 & CHAR(10),"") & IF(Import!AF11<>"", Table1[[#Headers],[Ampoules: Précisez les éléments à changer]] & " :" & CHAR(10) & Import!AF11 & CHAR(10),"") & IF(Import!AJ11<>"", Table1[[#Headers],[Vitres: Précisez les éléments à réparer]] & " :" & CHAR(10) & Import!AJ11 & CHAR(10),"") & IF(Import!AK11<>"", Table1[[#Headers],[Essuie glace avant]] & " :" & CHAR(10) & Import!AK11 & CHAR(10),"") & IF(Import!AL11<>"",Table1[[#Headers],[Essuie glace arrière]] & " :" & CHAR(10) & Import!AL11 & CHAR(10),"") & IF(Import!AS11<>"",Table1[[#Headers],[Cassures: Précisez les éléments à remplacer]] & " :" & CHAR(10) & Import!AS11 & CHAR(10),"") & IF(Import!AU11<>"",Table1[[#Headers],[Précisez les éléments manquants / à remplacer]] & " :" & CHAR(10) & Import!AU11 & CHAR(10),"")
B16: =IF(Import!A12<>"",Import!A12,"") | C16: =IF(Import!B12<>"",Import!B12,"") | D16: =IF(Import!C12<>"",Import!C12,"") -> 43929 | E16: =IF(Import!D12<>"",Import!D12,"") | F16: =IF(Import!E12<>"",Import!E12,"") -> cc | G16: =IF(Import!F12<>"",Import!F12,"") | H16: =IF(Import!G12<>"",Import!G12,"") -> cc | I16: =IF(Import!H12<>"",Import!H12,"") | J16: =IF(Import!K12<>"",Import!K12,"") | K16: =IF(Import!L12<>"",Import!L12,"") | L16: =IF(Import!Q12<>"",Table1[[#Headers],[Pneus: Précisez les éléments à changer]] & " :" & CHAR(10) & Import!Q12 & CHAR(10),"") & IF(Import!S12<>"",Table1[[#Headers],[Pneus: Précisez le changement à prévoir]] & " :" & CHAR(10) & Import!S12 & CHAR(10),"") & IF(Import!W12<>"", Table1[[#Headers],[Rétroviseur: Précisez les éléments à réparer]] & " :" & CHAR(10) & Import!W12 & CHAR(10),"") & IF(Import!AA12<>"",Table1[[#Headers],[Carrosserie: Précisez les éléments à réparer]] & " :" & CHAR(10) & Import!AA12 & CHAR(10),"") & IF(Import!AE12<>"", Table1[[#Headers],[Optiques: Précisez les éléments à réparer]] & " :" & CHAR(10) & Import!AE12 & CHAR(10),"") & IF(Import!AF12<>"", Table1[[#Headers],[Ampoules: Précisez les éléments à changer]] & " :" & CHAR(10) & Import!AF12 & CHAR(10),"") & IF(Import!AJ12<>"", Table1[[#Headers],[Vitres: Précisez les éléments à réparer]] & " :" & CHAR(10) & Import!AJ12 & CHAR(10),"") & IF(Import!AK12<>"", Table1[[#Headers],[Essuie glace avant]] & " :" & CHAR(10) & Import!AK12 & CHAR(10),"") & IF(Import!AL12<>"",Table1[[#Headers],[Essuie glace arrière]] & " :" & CHAR(10) & Import!AL12 & CHAR(10),"") & IF(Import!AS12<>"",Table1[[#Headers],[Cassures: Précisez les éléments à remplacer]] & " :" & CHAR(10) & Import!AS12 & CHAR(10),"") & IF(Import!AU12<>"",Table1[[#Headers],[Précisez les éléments manquants / à remplacer]] & " :" & CHAR(10) & Import!AU12 & CHAR(10),"") -> Pneus: Précisez les éléments à changer : Avant droit;Avant gauche; Pneus: Précisez le changement à prévoir : Mettre des pneus été Carrosserie: Précisez les éléments à réparer : Arrière gauche; Optiques: Précisez les éléments à réparer : Antibrouillard;Feux de stop arrière; Ampoules: Précisez les éléments à changer : Clignotants AV/AR et cotés;Feux de stop;Feux de croisement; Essuie glace avant : A remplacer Essuie glace arrière : A remplacer Cassures: Précisez les éléments à remplacer : Siège arrière passager conducteur;Tapis de sol conducteur;Tapis de sol passager conducteur; Précisez les éléments manquants / à remplacer : Gilet Jaune;Triangle;Jeu d'ampoules;Ethylotest;
B17: =IF(Import!A13<>"",Import!A13,"") | C17: =IF(Import!B13<>"",Import!B13,"") | D17: =IF(Import!C13<>"",Import!C13,"") -> 43929 | E17: =IF(Import!D13<>"",Import!D13,"") -> e | F17: =IF(Import!E13<>"",Import!E13,"") -> ee | G17: =IF(Import!F13<>"",Import!F13,"") | H17: =IF(Import!G13<>"",Import!G13,"") -> e | I17: =IF(Import!H13<>"",Import!H13,"") | J17: =IF(Import!K13<>"",Import!K13,"") | K17: =IF(Import!L13<>"",Import!L13,"") | L17: =IF(Import!Q13<>"",Table1[[#Headers],[Pneus: Précisez les éléments à changer]] & " :" & CHAR(10) & Import!Q13 & CHAR(10),"") & IF(Import!S13<>"",Table1[[#Headers],[Pneus: Précisez le changement à prévoir]] & " :" & CHAR(10) & Import!S13 & CHAR(10),"") & IF(Import!W13<>"", Table1[[#Headers],[Rétroviseur: Précisez les éléments à réparer]] & " :" & CHAR(10) & Import!W13 & CHAR(10),"") & IF(Import!AA13<>"",Table1[[#Headers],[Carrosserie: Précisez les éléments à réparer]] & " :" & CHAR(10) & Import!AA13 & CHAR(10),"") & IF(Import!AE13<>"", Table1[[#Headers],[Optiques: Précisez les éléments à réparer]] & " :" & CHAR(10) & Import!AE13 & CHAR(10),"") & IF(Import!AF13<>"", Table1[[#Headers],[Ampoules: Précisez les éléments à changer]] & " :" & CHAR(10) & Import!AF13 & CHAR(10),"") & IF(Import!AJ13<>"", Table1[[#Headers],[Vitres: Précisez les éléments à réparer]] & " :" & CHAR(10) & Import!AJ13 & CHAR(10),"") & IF(Import!AK13<>"", Table1[[#Headers],[Essuie glace avant]] & " :" & CHAR(10) & Import!AK13 & CHAR(10),"") & IF(Import!AL13<>"",Table1[[#Headers],[Essuie glace arrière]] & " :" & CHAR(10) & Import!AL13 & CHAR(10),"") & IF(Import!AS13<>"",Table1[[#Headers],[Cassures: Précisez les éléments à remplacer]] & " :" & CHAR(10) & Import!AS13 & CHAR(10),"") & IF(Import!AU13<>"",Table1[[#Headers],[Précisez les éléments manquants / à remplacer]] & " :" & CHAR(10) & Import!AU13 & CHAR(10),"")
... B42: =IF(Import!A38<>"",Import!A38,"") | C42: =IF(Import!B38<>"",Import!B38,"") | D42: =IF(Import!C38<>"",Import!C38,"") | E42: =IF(Import!D38<>"",Import!D38,"") | F42: =IF(Import!E38<>"",Import!E38,"") | G42: =IF(Import!F38<>"",Import!F38,"") | H42: =IF(Import!G38<>"",Import!G38,"") | I42: =IF(Import!H38<>"",Import!H38,"") | J42: =IF(Import!K38<>"",Import!K38,"") | K42: =IF(Import!L38<>"",Import!L38,"") | L42: =IF(Import!Q38<>"",Table1[[#Headers],[Pneus: Précisez les éléments à changer]] & " :" & CHAR(10) & Import!Q38 & CHAR(10),"") & IF(Import!S38<>"",Table1[[#Headers],[Pneus: Précisez le changement à prévoir]] & " :" & CHAR(10) & Import!S38 & CHAR(10),"") & IF(Import!W38<>"", Table1[[#Headers],[Rétroviseur: Précisez les éléments à réparer]] & " :" & CHAR(10) & Import!W38 & CHAR(10),"") & IF(Import!AA38<>"",Table1[[#Headers],[Carrosserie: Précisez les éléments à réparer]] & " :" & CHAR(10) & Import!AA38 & CHAR(10),"") & IF(Import!AE38<>"", Table1[[#Headers],[Optiques: Précisez les éléments à réparer]] & " :" & CHAR(10) & Import!AE38 & CHAR(10),"") & IF(Import!AF38<>"", Table1[[#Headers],[Ampoules: Précisez les éléments à changer]] & " :" & CHAR(10) & Import!AF38 & CHAR(10),"") & IF(Import!AJ38<>"", Table1[[#Headers],[Vitres: Précisez les éléments à réparer]] & " :" & CHAR(10) & Import!AJ38 & CHAR(10),"") & IF(Import!AK38<>"", Table1[[#Headers],[Essuie glace avant]] & " :" & CHAR(10) & Import!AK38 & CHAR(10),"") & IF(Import!AL38<>"",Table1[[#Headers],[Essuie glace arrière]] & " :" & CHAR(10) & Import!AL38 & CHAR(10),"") & IF(Import!AS38<>"",Table1[[#Headers],[Cassures: Précisez les éléments à remplacer]] & " :" & CHAR(10) & Import!AS38 & CHAR(10),"") & IF(Import!AU38<>"",Table1[[#Headers],[Précisez les éléments manquants / à remplacer]] & " :" & CHAR(10) & Import!AU38 & CHAR(10),"")

Sheet Import
A1: N° d'Audit | B1: Adresse de messagerie | C1: Date de l'audit | D1: Lieu de l'audit | E1: Entreprise (exemple: 27 / 59 / 68 ...) | F1: Qui est votre gestionnaire de parc véhicule? | G1: Immatriculation du véhicule | H1: Marque du véhicule | I1: Kilomètrage du véhicule | J1: Consommation moyenne L/100 | K1: Auditeur | L1: Audité (conducteur / responsable du véhicule) | M1: Logo | N1: Pneus | O1: Pneus: Précisez les éléments usés | P1: Pneus: Changement à faire | Q1: Pneus: Précisez les éléments à changer | R1: Pneus: Le véhicule est équipé de pneus en adéquation avec la saison | S1: Pneus: Précisez le changement à prévoir | T1: Rétroviseurs | U1: Rétroviseurs: Précisez les éléments détériorés | V1: Rétroviseurs: Réparation à faire | W1: Rétroviseur: Précisez les éléments à réparer | X1: Carrosserie | Y1: Carrosserie: Précisez les éléments détériorés | Z1: Carrosserie: Réparation à faire | AA1: Carrosserie: Précisez les éléments à réparer | AB1: Optiques | AC1: Optiques: Précisez les éléments détériorés | AD1: Optiques: Réparation à faire | AE1: Optiques: Précisez les éléments à réparer | AF1: Ampoules: Précisez les éléments à changer | AG1: Vitres | AH1: Vitres: Précisez les éléments détériorés | AI1: Vitres: Réparation à faire | AJ1: Vitres: Précisez les éléments à réparer | AK1: Essuie glace avant | AL1: Essuie glace arrière | AM1: Propreté: L'intérieur du véhicule est-il dans un bon état? | AN1: Propreté: Précisez les éléments présentant des salissures | AO1: Usures: L'intérieur du véhicule présente t-il des usures ? | AP1: Usures: Précisez les éléments présentant des usures | AQ1: Cassure: L'intérieur du véhicule présente t-il des cassures ? | AR1: Cassures: Précisez les éléments présentant des cassures ? | AS1: Cassures: Précisez les éléments à remplacer | AT1: Accessoires de sécurité: Les accessoires de sécurité obligatoires sont-ils disponibles ? | AU1: Précisez les éléments manquants / à remplacer | AV1: Véhicule de service: Le véhicule est-il un véhicule de service ? | AW1: Véhicule de service: Y a t-il une séparation type cache bagage? | AX1: Véhicule de service: La séparation type cache bagage est-elle en bon état? | AY1: Camionnette: Le véhicule est-il une camionnette? | AZ1: Camionnette: Un séparation pleine est-elle présente? | BA1: Camionnette: La séparation pleine est-elle en bon état? | BB1: Les opérations d’entretiens sont-ils réalisés? | BC1: Le contrôle technique du véhicule est-il à jour? | BD1: Le carnet d’entretien est-ils à jour? | BE1: Le macaron du contrôle technique est-il à jour? | BF1: Transport produits dangereux: Le véhicule transporte-t-il des produits dangereux ? | BG1: Transport produits dangereux: Précisez moyens de prévention mis en place. | BH1: Transport de charges: Effectuez vous des transports de charges? | BI1: Transport de charges: Précisez les conditions de sécurité du transport de charge appliquées. | BJ1: Les documents suivants sont-ils en possession du conducteur ? Sélectionner les éléments manquants. | BK1: Gestion économique: La gestion économique du véhicule est-elle en place ? (à vérifier auprès du gestionnaire du parc) | BL1: Gestion économique: Sélectionner les éléments présents. | BM1: Le véhicule porte-t-il le macaron "interdiction de fumer/vapoter"? | BN1: Le véhicule présente-t-il des odeurs de cigarette ou des traces de cendres? | BO1: Le conducteur a t-il été formé à l’éco-conduite au cours des 3 dernières années? | BP1: Commentaire de l'auditeur / audité
C2: 43921 | D2: Sur la chaise | E2: 27 | G2: 1665 | H2: Kro | I2: 1665 | J2: 10 | K2: CMUR | L2: GBEZ | AM2: Oui; | AT2: Gilet Jaune;Triangle;Jeu d'ampoules;Ethylotest;Couverture de survie;Roue de secours; | AV2: Non; | AY2: Non; | BB2: Oui; | BG2: NA; | BH2: Des dispositifs lumineux sont présents en cas de transport de matériel pouvant dépasser du véhicule ; | BJ2: Carte carburant;Permis de conduire;Carte grise ;Trame constat amiable vierge;Contrôle technique et anti-pollution (véhicule de plus de 4 ans); | BK2: Non; | BM2: Oui | BN2: Oui | BO2: Oui
C3: 43923 | D3: Clemessy HABSHEIM | E3: 153 | G3: XX-159-XX | H3: FERRARI | I3: 15025 | J3: 16 | K3: NHAU | L3: CMUR | AM3: Partiellement; | AT3: Couverture de survie; | AV3: Oui; | AY3: Non; | BB3: Oui; | BG3: Extincteur adapté au produit transporté; | BH3: Pas de place dans ma ferrari, elle est trop petite; | BJ3: Manque permis de conduire;Trame constat amiable vierge; | BK3: Non; | BM3: Oui | BN3: Non | BO3: Non | BP3: C'est fou qu'on puisse avoir une ferrari comme véhicule de service quand meme
C4: 43927 | D4: Wittelsheim | E4: 27 | G4: xx-xxx-xx | H4: SEAT | I4: 4500 | J4: 10 | K4: CMUR | L4: GBEZ | AM4: Oui; | AT4: Gilet Jaune;Triangle;Jeu d'ampoules;Ethylotest;Couverture de survie;Roue de secours; | AV4: Non; | AY4: Non; | BB4: Oui; | BG4: Identification des produits dangereux (plaque d’identification, pictogramme);Kit anti-pollution et EPI associés présents et adaptés aux risques;Bac de rétention pour empêcher le déversement de produits chimiques;Extincteur adapté au produit transporté; | BH4: Pas de transport de charge; | BJ4: Carte carburant; | BK4: Non; | BM4: Oui | BN4: Oui | BO4: Oui
C5: 43927 | D5: WITTELSHEIM | E5: 68 | G5: XX-XXX-XX | H5: SEAT | I5: 50000 | J5: 50 | K5: CMUR | L5: GBEZ | AM5: Oui; | BM5: Oui | BN5: Oui | BO5: Oui
C6: 43927 | D6: WW | E6: ff | G6: ff | H6: ff
C7: 43934 | D7: fffff
C8: 43927 | D8: Mulhouse | E8: 29 | G8: XX-167-KK | H8: Maserati | I8: 160 | J8: 24 | K8: NHAU | L8: GMIG | AM8: Ceinture de sécurité manquante;Non; | AT8: Ethylotest déjà utilisé et positif;Gilet Jaune;Triangle;Jeu d'ampoules;Couverture de survie;Roue de secours; | AV8: Oui; | AY8: Non; | BB8: CT manquant;Non; | BG8: On peut pas répondre non; | BH8: Des dispositifs lumineux sont présents en cas de transport de matériel pouvant dépasser du véhicule ; | BJ8: Le personnel GMIG n'a pas de permis;Carte carburant;Carte grise ;Vignette Crit’air;Certificat d’assurance en cours de validité;Trame constat amiable vierge;Contrôle technique et anti-pollution (véhicule de plus de 4 ans); | BK8: Non; | BM8: Non | BN8: Oui | BO8: Non | BP8: Le responsable du véhicule GMIG ne prend pas soin du matériel Clemessy
C9: 43928 | D9: vdvx | E9: 25 | G9: vvvvvv
C10: 43934 | D10: grdg | E10: rgrd | G10: grdg | H10: rgrdgdr | I10: drgrd | J10: drgrd | K10: rdgrd | L10: rdgrdg
C11: 43927 | E11: hh | G11: hh
C12: 43929 | E12: cc | G12: cc | M12: Bon état et visible | N12: Usés | O12: Arrière gauche;Roue de secours; | P12: Oui | Q12: Avant droit;Avant gauche; | R12: Non | S12: Mettre des pneus été | T12: Bon état | X12: Détérioré | Y12: Avant gauche;Arrière gauche; | Z12: Oui | AA12: Arrière gauche; | AB12: Détériorés | AC12: Arrière gauche;Antibrouillard; | AD12: Oui | AE12: Antibrouillard;Feux de stop arrière; | AF12: Clignotants AV/AR et cotés;Feux de stop;Feux de croisement; | AG12: Bon état | AK12: A remplacer | AL12: A remplacer | AM12: Non | AN12: Siège passager conducteur; | AO12: Oui | AP12: Tableau de bord;Siège conducteur; | AQ12: Oui | AR12: Siège arrière passager conducteur; | AS12: Siège arrière passager conducteur;Tapis de sol conducteur;Tapis de sol passager conducteur; | AT12: Non | AU12: Gilet Jaune;Triangle;Jeu d'ampoules;Ethylotest; | AV12: Oui | AW12: Oui | AX12: Non | AY12: Oui | AZ12: Oui | BA12: Oui | BB12: Non | BC12: Non | BD12: Non | BE12: Oui | BF12: Oui | BG12: Kit anti-pollution et EPI associés présents et adaptés aux risques;Extincteur adapté au produit transporté; | BH12: Oui | BI12: 4 points d’ancrage sont installés (coffre ou galerie); | BJ12: Carte carburant;Permis de conduire; | BK12: Oui | BL12: Carnet de bord;Tenue d’un fichier de suivi informatique ou papier envoyé hebdomadairement à l’agence (suivi des km); | BM12: Oui | BN12: Oui | BO12: Oui
C13: 43929 | D13: e | E13: ee | G13: e | N13: Usés
C14: 43936 | E14: y | G14: y | AM14: Oui
C15: 43949 | D15: Habsheim Plage | E15: 68 | G15: XX-973-XX | H15: Bugatti | I15: 123654 | J15: 17 | K15: NHAU | L15: GMIG | M15: A remplacer | N15: Bon état | R15: Non | S15: Mettre des pneus été | T15: Bon état | X15: Détérioré | Y15: ["Avant gauche","Arrière droit"] | Z15: Non | AB15: Bon état | AG15: Bon état | AK15: Bon état | AL15: Bon état | AM15: Oui | AO15: Non | AQ15: Non | AT15: Non | AU15: ["Jeu d'ampoules"] | AV15: Oui | AW15: Oui | AX15: Oui | AY15: Non | BB15: Oui | BC15: Non | BD15: Oui | BE15: Oui | BF15: Non | BH15: Non | BK15: Oui | BL15: ["Tenue d’un fichier de suivi informatique ou papier envoyé hebdomadairement à l’agence (suivi des km)"] | BM15: Oui | BN15: Oui | BO15: Non | BP15: Pas mal comme système, c'est vivant !
A16: 24 | C16: 43965 | D16: fsfs | E16: fsfs | G16: sfsf
