Workbook
Name Conditionfacturation: !#REF!
Name Conditions_facturation: !#REF!
Name Conditions_facturation: !#REF!
Name Conditions_reglement: !#REF!
Name Conditions_reglement: !#REF!
Name Modalité_de_facturation: !#REF!
Name Modalité_de_facturation: !#REF!

Sheet PARAMETRE_DEVIS
B2: =3.68+5.82+3.68-2.2 -> 10.98
A3: Fourniture et pose de semelles en sapin autoclave Classe IV 45 x145 , y compris la pose de la bande d'étanchéitée DELTA 200 afin d'assurer une coupure de capilarité entre la dalle et la structure bois
A4: Libellé | B4: Unité | C4: Quantité | D4: Prix d'achat unitaire H.T | E4: Coef corr | F4: Déboursé HT | G4: Total déboursé | H4: % Frais Généraux | I4: Prix de revient | J4: % Benefice | K4: P.U € | L4: Total HT
A5: Main d'œuvre | B5: H | C5: 0.35 | D5: 22 | E5: 1 | F5: =D5*E5 -> 22 | G5: =C5*F5 -> 7.7 | H5: 1 | I5: =F5*H5 -> 22 | J5: 1.15 | K5: =I5*J5 -> 25.3 | L5: =K5*C5 -> 8.855
A6: SEMELLE CL4 AUTOCLAVE 45x145 | B6: ml | C6: 1 | D6: 3.15 | E6: 1.05 | F6: =D6*E6 -> 3.3075 | G6: =C6*F6 -> 3.3075 | H6: 1 | I6: =F6*H6 -> 3.3075 | J6: 1.15 | K6: =I6*J6 -> 3.803625 | L6: =K6*C6 -> 3.803625
A7: Bande d'arase | B7: ml | C7: 1 | D7: 1 | E7: 1.05 | F7: =D7*E7 -> 1.05 | G7: =C7*F7 -> 1.05 | H7: 1 | I7: =F7*H7 -> 1.05 | J7: 1.15 | K7: =I7*J7 -> 1.2075 | L7: =K7*C7 -> 1.2075
A8: Vis béton | B8: u | C8: 4 | D8: 1 | E8: 1.05 | F8: =D8*E8 -> 1.05 | G8: =C8*F8 -> 4.2 | H8: 1 | I8: =F8*H8 -> 1.05 | J8: 1.15 | K8: =I8*J8 -> 1.2075 | L8: =K8*C8 -> 4.83
G9: 1 | L9: =SUM(L5:L8) -> 18.696125 | M9: =L9*B2 -> 205.28345
B13: 30
A14: Fabrication et pose de parois ossature bois constitués de montants de 45 x 145 mm en sapin du nord classe2, rabotés et chanfreinés répartis tous les 60 cm
A15: Libellé | B15: Unité | C15: Quantité | D15: Prix d'achat unitaire H.T | E15: Coef corr | F15: Déboursé HT | G15: Total déboursé | H15: % Frais Généraux | I15: Prix de revient | J15: % Benefice | K15: P.U € | L15: Total HT
A16: Main d'œuvre | B16: H | C16: 0.925 | D16: 22 | E16: 1 | F16: =D16*E16 -> 22 | G16: =C16*F16 -> 20.35 | H16: 1 | I16: =F16*H16 -> 22 | J16: 1.15 | K16: =I16*J16 -> 25.3 | L16: =K16*C16 -> 23.4025
A17: MONTANT nord calibré 45*145 au ml | B17: ml | C17: 1.91 | D17: 2.6 | E17: 1.05 | F17: =D17*E17 -> 2.73 | G17: =C17*F17 -> 5.2143 | H17: 1 | I17: =F17*H17 -> 2.73 | J17: 1.15 | K17: =I17*J17 -> 3.1395 | L17: =K17*C17 -> 5.996445
A18: Lisse basse nord calibré 45*145 au ml | B18: ml | C18: 0.4 | D18: 2.6 | E18: 1.05 | F18: =D18*E18 -> 2.73 | G18: =C18*F18 -> 1.092 | H18: 1 | I18: =F18*H18 -> 2.73 | J18: 1.15 | K18: =I18*J18 -> 3.1395 | L18: =K18*C18 -> 1.2558
A19: Lisse haute nord calibré 45*145 au ml | B19: ml | C19: 0.4 | D19: 2.6 | E19: 1.05 | F19: =D19*E19 -> 2.73 | G19: =C19*F19 -> 1.092 | H19: 1 | I19: =F19*H19 -> 2.73 | J19: 1.15 | K19: =I19*J19 -> 3.1395 | L19: =K19*C19 -> 1.2558
A20: Clous torsadés 90mm | B20: kg | C20: 0.9 | D20: 1.6 | E20: 1.05 | F20: =D20*E20 -> 1.68 | G20: =C20*F20 -> 1.512 | H20: 1 | I20: =F20*H20 -> 1.68 | J20: 1.15 | K20: =I20*J20 -> 1.932 | L20: =K20*C20 -> 1.7388
A21: Goujons d'ancrage | B21: u | C21: 1 | D21: 0.9 | E21: 1.05 | F21: =D21*E21 -> 0.945 | G21: =C21*F21 -> 0.945 | H21: 1 | I21: =F21*H21 -> 0.945 | J21: 1.15 | K21: =I21*J21 -> 1.08675 | L21: =K21*C21 -> 1.08675
G22: =SUM(G16:G21)*B13 -> 906.159 | L22: =SUM(L16:L21) -> 34.736095 | M22: =L22*B13 -> 1042.0829
B25: 30
A26: Fourniture et pose d'un voile de contreventement en panneaux d'OSB3 de 12 mm d'épaisseur fixé sur ossature bois
A27: Libellé | B27: Unité | C27: Quantité | D27: Prix d'achat unitaire H.T | E27: Coef corr | F27: Déboursé HT | G27: Total déboursé | H27: % Frais Généraux | I27: Prix de revient | J27: % Benefice | K27: P.U € | L27: Total HT
A28: Main d'œuvre | B28: H | C28: 0.15 | D28: 22 | E28: 1 | F28: =D28*E28 -> 22 | G28: =C28*F28 -> 3.3 | H28: 1.42 | I28: =F28*H28 -> 31.24 | J28: 1.15 | K28: =I28*J28 -> 35.926 | L28: =K28*C28 -> 5.3889
A29: OSB3 12 mm | B29: m² | C29: 1 | D29: 5.06 | E29: 1.05 | F29: =D29*E29 -> 5.313 | G29: =C29*F29 -> 5.313 | H29: 1.3 | I29: =F29*H29 -> 6.9069 | J29: 1.15 | K29: =I29*J29 -> 7.942935 | L29: =K29*C29 -> 7.942935
A30: Clous | B30: kg | C30: 0.1 | D30: 0.8 | E30: 1.05 | F30: =D30*E30 -> 0.84 | G30: =C30*F30 -> 0.084 | H30: 1.3 | I30: =F30*H30 -> 1.092 | J30: 1.15 | K30: =I30*J30 -> 1.2558 | L30: =K30*C30 -> 0.12558
G31: =SUM(G28:G30)*C25 -> 0 | L31: =SUM(L28:L30) -> 13.457415
B32: 30
A33: Fourniture et pose d'un film pare-pluie type DELTA VENT N, compris lattage de 45 x 27 mm d'épaisseur
A34: Libellé | B34: Unité | C34: Quantité | D34: Prix d'achat unitaire H.T | E34: Coef corr | F34: Déboursé HT | G34: Total déboursé | H34: % Frais Généraux | I34: Prix de revient | J34: % Benefice | K34: P.U € | L34: Total HT
A35: Main d'œuvre | B35: H | C35: 0.15 | D35: 22 | E35: 1 | F35: =D35*E35 -> 22 | G35: =C35*F35 -> 3.3 | H35: 1.42 | I35: =F35*H35 -> 31.24 | J35: 1.15 | K35: =I35*J35 -> 35.926 | L35: =K35*C35 -> 5.3889
A36: PARE PLUIE DELTA VENT (75m² rlx) | B36: m² | C36: 1 | D36: 0.85 | E36: 1.05 | F36: =D36*E36 -> 0.8925 | G36: =C36*F36 -> 0.8925 | H36: 1.3 | I36: =F36*H36 -> 1.16025 | J36: 1.15 | K36: =I36*J36 -> 1.3342875 | L36: =K36*C36 -> 1.3342875
A37: Liteau 45 x 27 ou 22 | B37: ml | C37: 2.8 | D37: 0.6 | E37: 1.05 | F37: =D37*E37 -> 0.63 | G37: =C37*F37 -> 1.764 | H37: 1.3 | I37: =F37*H37 -> 0.819 | J37: 1.15 | K37: =I37*J37 -> 0.94185 | L37: =K37*C37 -> 2.63718
A38: Clous | B38: kg | C38: 0.111 | D38: 3.7 | E38: 1.05 | F38: =D38*E38 -> 3.885 | G38: =C38*F38 -> 0.431235 | H38: 1.3 | I38: =F38*H38 -> 5.0505 | J38: 1.15 | K38: =I38*J38 -> 5.808075 | L38: =K38*C38 -> 0.64469632
G39: =SUM(G35:G38) -> 6.387735 | L39: =SUM(L35:L38) -> 10.005064
B42: 10.98
A43: Libellé | B43: Unité | C43: Quantité | D43: Prix d'achat unitaire H.T | E43: Coef corr | F43: Déboursé HT | G43: Total déboursé | H43: % Frais Généraux | I43: Prix de revient | J43: % Benefice | K43: P.U € | L43: Total HT
A44: Main d'œuvre | B44: H | C44: 0.08 | D44: 22 | E44: 1 | F44: =D44*E44 -> 22 | G44: =C44*F44 -> 1.76 | H44: 1.42 | I44: =F44*H44 -> 31.24 | J44: 1.15 | K44: =I44*J44 -> 35.926 | L44: =K44*C44 -> 2.87408
A45: LATTE VENTILATION ALU SETIN | B45: ml | C45: 1 | D45: 3.3 | E45: 1.05 | F45: =D45*E45 -> 3.465 | G45: =C45*F45 -> 3.465 | H45: 1.3 | I45: =F45*H45 -> 4.5045 | J45: 1.15 | K45: =I45*J45 -> 5.180175 | L45: =K45*C45 -> 5.180175
G46: =SUM(G44:G45)*B42 -> 57.3705 | L46: =SUM(L44:L45) -> 8.054255 | M46: =L46*B42 -> 88.43572
A49: BARDAGE BOIS | B49: 30
A50: Libellé | B50: Unité | C50: Quantité | D50: Prix d'achat unitaire H.T | E50: Coef corr | F50: Déboursé HT | G50: Total déboursé | H50: % Frais Généraux | I50: Prix de revient | J50: % Benefice | K50: P.U € | L50: Total HT
...

Sheet devis
A1: LOGO
H3: test Devis | K3: N° | L3: 001
H6: En date du
H7: Référence client
H8: A l'attention de
A11: Téléphone :
A12: Télécopie : | K12: NOM CLIENT
A13: Adresse mail
A14: Site internet
A17: Commentaire général :
A18: Désignation | L18: Qté | M18: Unité | N18: Prix unit. Ht | O18: Montant HT | Q18: TVA
A19: 1 Maçonnerie
A20: Réalisation de fondations en périphérie pour support des murs ossature bois comprenant ; Fouilles en rigole creusés manuellement, coulage du béton de fondations et réalisation d'un rang de chainage de 15 x 20 cm de hauteur pour support des parois ossature bois - N'est pas prévu de dalle béton dans le garage | L20: 1 | M20: EN | N20: 1200 | O20: =L20*N20 -> 1200 | Q20: 0.2
A22: 2 OSSATURE BOIS - CHARPENTE
A24: Fourniture et pose de semelles en sapin autoclave Classe IV 45 x145 , y compris la pose de la bande d'étanchéitée DELTA 200 afin d'assurer une coupure de capilarité entre la dalle et la structure bois | L24: =PARAMETRE_DEVIS!B2 -> 10.98 | M24: ml | N24: =PARAMETRE_DEVIS!L9 -> 18.696125 | O24: =L24*N24 -> 205.28345 | Q24: 0.2
A25: Fabrication et pose de parois ossature bois constitués de montants de 45 x 145 mm en sapin du nord classe2, rabotés et chanfreinés répartis tous les 60 cm | L25: 30 | M25: m² | N25: =PARAMETRE_DEVIS!L22 -> 34.736095 | O25: =L25*N25 -> 1042.0829 | Q25: 0.2
A26: Fourniture et pose d'un voile de contreventement en panneaux d'OSB3 de 12 mm d'épaisseur fixé sur ossature bois | L26: 30 | M26: m² | N26: =PARAMETRE_DEVIS!L31 -> 13.457415 | O26: =L26*N26 -> 403.72245 | Q26: 0.2
A27: Fourniture et pose d'un film pare-pluie type DELTA VENT N, compris lattage de 45 x 27 mm d'épaisseur | L27: 30 | M27: m² | N27: =PARAMETRE_DEVIS!L39 -> 10.005064 | O27: =L27*N27 -> 300.15191 | Q27: 0.2
A28: Fourniture et pose de grilles anti-rongeurs fixées en pied de paroi afin d'éviter l'intrusion des nuisibles | L28: 10.98 | M28: ml | N28: =PARAMETRE_DEVIS!L46 -> 8.054255 | O28: =L28*N28 -> 88.43572 | Q28: 0.2
A29: Fourniture et pose d'un clin bois de type SILVERWOOD coloris approchant de l'existant - Pose sur lattage de 45 x 27 mm d'épaisseur et cloué par clous inox - Compris traitement des retours de tableaux en pourtour de la porte sectionnelle | L29: 30 | M29: m² | N29: =PARAMETRE_DEVIS!L54 -> 76.122325 | O29: =L29*N29 -> 2283.6698 | Q29: 0.2
A30: Fourniture et pose du support de couverture en pannes de sapin traité classe 2 de section 8 x 23 cm | L30: 1 | M30: EN | N30: =+PARAMETRE_DEVIS!L63 -> 586.63312 | O30: =L30*N30 -> 586.63312 | Q30: 0.2
A31: Chevronnage en sapin de pays traité 50 x 75 | L31: 1 | M31: EN | N31: =PARAMETRE_DEVIS!L73 -> 488.00779 | O31: =L31*N31 -> 488.00779 | Q31: 0.2
A33: 3 COUVERTURE
A34: Fourniture et pose de tôles bac acier (non isolant) fixées par vis autoforeuse à tête teintés | L34: 21.5 | M34: m² | N34: =+PARAMETRE_DEVIS!L87 -> 41.500849 | O34: =L34*N34 -> 892.26826 | Q34: 0.2
A35: Fourniture et poses des tôles de faitage, égout et de rives assorties au bac acier - Est également compris la fourniture et pose des évacuation d'eaux pluviales | L35: 1 | M35: EN | N35: =PARAMETRE_DEVIS!L93 -> 481.40963 | O35: =N35*L35 -> 481.40963 | Q35: 0.2
A37: 4 PORTE SECTIONNELLE
A39: Fourniture et pose d'une porte sectionnelle manuelle de 2,50 x 2,10 m de hauteur, tablier aluminium RAL 7016 gris anthracite | L39: 1 | M39: u | N39: =PARAMETRE_DEVIS!L80 -> 1707.658 | O39: =L39*N39 -> 1707.658 | Q39: 0.2
L43: SOUS-TOTAL | O43: =SUM(O18:P40) -> 9679.323
L45: TVA 20% | O45: =O43*20% -> 1935.8646
L47: TOTAL TTC | O47: =O43+O45 -> 11615.188
