Workbook
Name Conditionfacturation: !#REF!
Name Conditions_facturation: !#REF!
Name Conditions_facturation: !#REF!
Name Conditions_reglement: !#REF!
Name Conditions_reglement: !#REF!
Name Modalité_de_facturation: !#REF!
Name Modalité_de_facturation: !#REF!

Sheet PARAMETRE_DEVIS
B2: =3.68+5.82+3.68-2.2 -> 10.98
A3: Fourniture et pose de semelles en sapin autoclave Classe IV 45 x145 , y compris la pose de la bande d'étanchéitée DELTA 200 afin d'assurer une coupure de capilarité entre la dalle et la structure bois
A4: Libellé | B4: Unité | C4: Quantité | D4: Prix d'achat unitaire H.T | E4: Coef corr | F4: Déboursé HT | G4: Total déboursé | H4: % Frais Généraux | I4: Prix de revient | J4: % Benefice | K4: P.U € | L4: Total HT
A5: Main d'œuvre | B5: H | C5: 0.35 | D5: 22 | E5: 1 | F5: =D5*E5 -> 22 | G5: =C5*F5 -> 7.7 | H5: 1 | I5: =F5*H5 -> 22 | J5: 1.15 | K5: =I5*J5 -> 25.3 | L5: =K5*C5 -> 8.855
A6: SEMELLE CL4 AUTOCLAVE 45x145 | B6: ml | C6: 1 | D6: 3.15 | E6: 1.05 | F6: =D6*E6 -> 3.3075 | G6: =C6*F6 -> 3.3075 | H6: 1 | I6: =F6*H6 -> 3.3075 | J6: 1.15 | K6: =I6*J6 -> 3.803625 | L6: =K6*C6 -> 3.803625
A7: Bande d'arase | B7: ml | C7: 1 | D7: 1 | E7: 1.05 | F7: =D7*E7 -> 1.05 | G7: =C7*F7 -> 1.05 | H7: 1 | I7: =F7*H7 -> 1.05 | J7: 1.15 | K7: =I7*J7 -> 1.2075 | L7: =K7*C7 -> 1.2075
A8: Vis béton | B8: u | C8: 4 | D8: 1 | E8: 1.05 | F8: =D8*E8 -> 1.05 | G8: =C8*F8 -> 4.2 | H8: 1 | I8: =F8*H8 -> 1.05 | J8: 1.15 | K8: =I8*J8 -> 1.2075 | L8: =K8*C8 -> 4.83
G9: 1 | L9: =SUM(L5:L8) -> 18.696125 | M9: =L9*B2 -> 205.28345
B13: 30
A14: Fabrication et pose de parois ossature bois constitués de montants de 45 x 145 mm en sapin du nord classe2, rabotés et chanfreinés répartis tous les 60 cm
A15: Libellé | B15: Unité | C15: Quantité | D15: Prix d'achat unitaire H.T | E15: Coef corr | F15: Déboursé HT | G15: Total déboursé | H15: % Frais Généraux | I15: Prix de revient | J15: % Benefice | K15: P.U € | L15: Total HT
A16: Main d'œuvre | B16: H | C16: 0.925 | D16: 22 | E16: 1 | F16: =D16*E16 -> 22 | G16: =C16*F16 -> 20.35 | H16: 1 | I16: =F16*H16 -> 22 | J16: 1.15 | K16: =I16*J16 -> 25.3 | L16: =K16*C16 -> 23.4025
A17: MONTANT nord calibré 45*145 au ml | B17: ml | C17: 1.91 | D17: 2.6 | E17: 1.05 | F17: =D17*E17 -> 2.73 | G17: =C17*F17 -> 5.2143 | H17: 1 | I17: =F17*H17 -> 2.73 | J17: 1.15 | K17: =I17*J17 -> 3.1395 | L17: =K17*C17 -> 5.996445
A18: Lisse basse nord calibré 45*145 au ml | B18: ml | C18: 0.4 | D18: 2.6 | E18: 1.05 | F18: =D18*E18 -> 2.73 | G18: =C18*F18 -> 1.092 | H18: 1 | I18: =F18*H18 -> 2.73 | J18: 1.15 | K18: =I18*J18 -> 3.1395 | L18: =K18*C18 -> 1.2558
A19: Lisse haute nord calibré 45*145 au ml | B19: ml | C19: 0.4 | D19: 2.6 | E19: 1.05 | F19: =D19*E19 -> 2.73 | G19: =C19*F19 -> 1.092 | H19: 1 | I19: =F19*H19 -> 2.73 | J19: 1.15 | K19: =I19*J19 -> 3.1395 | L19: =K19*C19 -> 1.2558
A20: Clous torsadés 90mm | B20: kg | C20: 0.9 | D20: 1.6 | E20: 1.05 | F20: =D20*E20 -> 1.68 | G20: =C20*F20 -> 1.512 | H20: 1 | I20: =F20*H20 -> 1.68 | J20: 1.15 | K20: =I20*J20 -> 1.932 | L20: =K20*C20 -> 1.7388
A21: Goujons d'ancrage | B21: u | C21: 1 | D21: 0.9 | E21: 1.05 | F21: =D21*E21 -> 0.945 | G21: =C21*F21 -> 0.945 | H21: 1 | I21: =F21*H21 -> 0.945 | J21: 1.15 | K21: =I21*J21 -> 1.08675 | L21: =K21*C21 -> 1.08675
G22: =SUM(G16:G21)*B13 -> 906.159 | L22: =SUM(L16:L21) -> 34.736095 | M22: =L22*B13 -> 1042.0829
B25: 30
A26: Fourniture et pose d'un voile de contreventement en panneaux d'OSB3 de 12 mm d'épaisseur fixé sur ossature bois
A27: Libellé | B27: Unité | C27: Quantité | D27: Prix d'achat unitaire H.T | E27: Coef corr | F27: Déboursé HT | G27: Total déboursé | H27: % Frais Généraux | I27: Prix de revient | J27: % Benefice | K27: P.U € | L27: Total HT
A28: Main d'œuvre | B28: H | C28: 0.15 | D28: 22 | E28: 1 | F28: =D28*E28 -> 22 | G28: =C28*F28 -> 3.3 | H28: 1.42 | I28: =F28*H28 -> 31.24 | J28: 1.15 | K28: =I28*J28 -> 35.926 | L28: =K28*C28 -> 5.3889
A29: OSB3 12 mm | B29: m² | C29: 1 | D29: 5.06 | E29: 1.05 | F29: =D29*E29 -> 5.313 | G29: =C29*F29 -> 5.313 | H29: 1.3 | I29: =F29*H29 -> 6.9069 | J29: 1.15 | K29: =I29*J29 -> 7.942935 | L29: =K29*C29 -> 7.942935
A30: Clous | B30: kg | C30: 0.1 | D30: 0.8 | E30: 1.05 | F30: =D30*E30 -> 0.84 | G30: =C30*F30 -> 0.084 | H30: 1.3 | I30: =F30*H30 -> 1.092 | J30: 1.15 | K30: =I30*J30 -> 1.2558 | L30: =K30*C30 -> 0.12558
G31: =SUM(G28:G30)*C25 -> 0 | L31: =SUM(L28:L30) -> 13.457415
B32: 30
A33: Fourniture et pose d'un film pare-pluie type DELTA VENT N, compris lattage de 45 x 27 mm d'épaisseur
A34: Libellé | B34: Unité | C34: Quantité | D34: Prix d'achat unitaire H.T | E34: Coef corr | F34: Déboursé HT | G34: Total déboursé | H34: % Frais Généraux | I34: Prix de revient | J34: % Benefice | K34: P.U € | L34: Total HT
A35: Main d'œuvre | B35: H | C35: 0.15 | D35: 22 | E35: 1 | F35: =D35*E35 -> 22 | G35: =C35*F35 -> 3.3 | H35: 1.42 | I35: =F35*H35 -> 31.24 | J35: 1.15 | K35: =I35*J35 -> 35.926 | L35: =K35*C35 -> 5.3889
A36: PARE PLUIE DELTA VENT (75m² rlx) | B36: m² | C36: 1 | D36: 0.85 | E36: 1.05 | F36: =D36*E36 -> 0.8925 | G36: =C36*F36 -> 0.8925 | H36: 1.3 | I36: =F36*H36 -> 1.16025 | J36: 1.15 | K36: =I36*J36 -> 1.3342875 | L36: =K36*C36 -> 1.3342875
A37: Liteau 45 x 27 ou 22 | B37: ml | C37: 2.8 | D37: 0.6 | E37: 1.05 | F37: =D37*E37 -> 0.63 | G37: =C37*F37 -> 1.764 | H37: 1.3 | I37: =F37*H37 -> 0.819 | J37: 1.15 | K37: =I37*J37 -> 0.94185 | L37: =K37*C37 -> 2.63718
A38: Clous | B38: kg | C38: 0.111 | D38: 3.7 | E38: 1.05 | F38: =D38*E38 -> 3.885 | G38: =C38*F38 -> 0.431235 | H38: 1.3 | I38: =F38*H38 -> 5.0505 | J38: 1.15 | K38: =I38*J38 -> 5.808075 | L38: =K38*C38 -> 0.64469632
G39: =SUM(G35:G38) -> 6.387735 | L39: =SUM(L35:L38) -> 10.005064
B42: 10.98
A43: Libellé | B43: Unité | C43: Quantité | D43: Prix d'achat unitaire H.T | E43: Coef corr | F43: Déboursé HT | G43: Total déboursé | H43: % Frais Généraux | I43: Prix de revient | J43: % Benefice | K43: P.U € | L43: Total HT
A44: Main d'œuvre | B44: H | C44: 0.08 | D44: 22 | E44: 1 | F44: =D44*E44 -> 22 | G44: =C44*F44 -> 1.76 | H44: 1.42 | I44: =F44*H44 -> 31.24 | J44: 1.15 | K44: =I44*J44 -> 35.926 | L44: =K44*C44 -> 2.87408
A45: LATTE VENTILATION ALU SETIN | B45: ml | C45: 1 | D45: 3.3 | E45: 1.05 | F45: =D45*E45 -> 3.465 | G45: =C45*F45 -> 3.465 | H45: 1.3 | I45: =F45*H45 -> 4.5045 | J45: 1.15 | K45: =I45*J45 -> 5.180175 | L45: =K45*C45 -> 5.180175
G46: =SUM(G44:G45)*B42 -> 57.3705 | L46: =SUM(L44:L45) -> 8.054255 | M46: =L46*B42 -> 88.43572
A49: BARDAGE BOIS | B49: 30
A50: Libellé | B50: Unité | C50: Quantité | D50: Prix d'achat unitaire H.T | E50: Coef corr | F50: Déboursé HT | G50: Total déboursé | H50: % Frais Généraux | I50: Prix de revient | J50: % Benefice | K50: P.U € | L50: Total HT
A51: Main d'œuvre | B51: H | C51: 0.83 | D51: 22 | E51: 1 | F51: =D51*E51 -> 22 | G51: =C51*F51 -> 18.26 | H51: 1.42 | I51: =F51*H51 -> 31.24 | J51: 1.15 | K51: =I51*J51 -> 35.926 | L51: =K51*C51 -> 29.81858
A52: BARDAGE BOIS | B52: m² | C52: 1 | D52: 28 | E52: 1.05 | F52: 30 | G52: =C52*F52 -> 30 | H52: 1.3 | I52: =F52*H52 -> 39 | J52: 1.15 | K52: =I52*J52 -> 44.85 | L52: =K52*C52 -> 44.85
A53: Clous | B53: kg | C53: 0.07 | D53: 13.23 | E53: 1.05 | F53: =D53*E53 -> 13.8915 | G53: =C53*F53 -> 0.972405 | H53: 1.3 | I53: =F53*H53 -> 18.05895 | J53: 1.15 | K53: =I53*J53 -> 20.767793 | L53: =K53*C53 -> 1.4537455
G54: =SUM(G51:G53)*B49 -> 1476.9722 | L54: =SUM(L51:L53) -> 76.122325 | M54: =L54*B49 -> 2283.6698
A57: Pannes 8x23 | B57: =0.08*0.23*23 -> 0.4232
A58: Libellé | B58: Unité | C58: Quantité | D58: Prix d'achat unitaire H.T | E58: Coef corr | F58: Déboursé HT | G58: Total déboursé | H58: % Frais Généraux | I58: Prix de revient | J58: % Benefice | K58: P.U € | L58: Total HT
A59: Main d'œuvre | B59: H | C59: 24 | D59: 22 | E59: 1 | F59: =D59*E59 -> 22 | G59: =C59*F59 -> 528 | H59: 1.42 | I59: =F59*H59 -> 31.24 | J59: 1.15 | K59: =I59*J59 -> 35.926 | L59: =K59*C59 -> 862.224
A60: Panne sapin du nord 8x23 | B60: m3 | C60: 1 | D60: 300 | E60: 1.1 | F60: =D60*E60 -> 330 | G60: =C60*F60 -> 330 | H60: 1.3 | I60: =F60*H60 -> 429 | J60: 1.15 | K60: =I60*J60 -> 493.35 | L60: =K60*C60 -> 493.35
A61: Clous 140 | B61: kg | C61: 5 | D61: 3.9 | E61: 1.05 | F61: =D61*E61 -> 4.095 | G61: =C61*F61 -> 20.475 | H61: 1.3 | I61: =F61*H61 -> 5.3235 | J61: 1.15 | K61: =I61*J61 -> 6.122025 | L61: =K61*C61 -> 30.610125
G63: =SUM(G59:G62)*B57 -> 371.77062 | L63: =SUM(L59:L62)*B57 -> 586.63312
A68: Chevronnage en sapin de pays traité 50 x 75 | B68: 0.3
A69: Libellé | B69: Unité | C69: Quantité | D69: Prix d'achat unitaire H.T | E69: Coef corr | F69: Déboursé HT | G69: Total déboursé | H69: % Frais Généraux | I69: Prix de revient | J69: % Benefice | K69: P.U € | L69: Total HT
A70: Main d'œuvre | B70: H | C70: 29 | D70: 22 | E70: 1 | F70: =D70*E70 -> 22 | G70: =C70*F70 -> 638 | H70: 1.42 | I70: =F70*H70 -> 31.24 | J70: 1.15 | K70: =I70*J70 -> 35.926 | L70: =K70*C70 -> 1041.854
A71: Cheron sapin de pays | B71: m3 | C71: 1.05 | D71: 365 | E71: 1 | F71: =D71*E71 -> 365 | G71: =C71*F71 -> 383.25 | H71: 1.3 | I71: =F71*H71 -> 474.5 | J71: 1.15 | K71: =I71*J71 -> 545.675 | L71: =K71*C71 -> 572.95875
A72: Pointe tête plate | B72: kg | C72: 3.44 | D72: 2.2 | E72: 1.05 | F72: =D72*E72 -> 2.31 | G72: =C72*F72 -> 7.9464 | H72: 1.3 | I72: =F72*H72 -> 3.003 | J72: 1.15 | K72: =I72*J72 -> 3.45345 | L72: =K72*C72 -> 11.879868
G73: =SUM(G70:G72)*B68 -> 308.75892 | L73: =SUM(L70:L72)*B68 -> 488.00779
A76: porte sectionnelle | B76: 1
A77: Libellé | B77: Unité | C77: Quantité | D77: Prix d'achat unitaire H.T | E77: Coef corr | F77: Déboursé HT | G77: Total déboursé | H77: % Frais Généraux | I77: Prix de revient | J77: % Benefice | K77: P.U € | L77: Total HT
A78: Main d'œuvre | B78: H | C78: 8 | D78: 22 | E78: 1 | F78: =D78*E78 -> 22 | G78: =C78*F78 -> 176 | H78: 1.42 | I78: =F78*H78 -> 31.24 | J78: 1.15 | K78: =I78*J78 -> 35.926 | L78: =K78*C78 -> 287.408
A79: porte sectionnelle | B79: Unité | C79: 1 | D79: 950 | E79: 1 | F79: =D79*E79 -> 950 | G79: =C79*F79 -> 950 | H79: 1.3 | I79: =F79*H79 -> 1235 | J79: 1.15 | K79: =I79*J79 -> 1420.25 | L79: =K79*C79 -> 1420.25
L80: =SUM(L78:L79) -> 1707.658
A82: BAC ACIER LAQUE
A83: Libellé | B83: Unité | C83: Quantité | D83: Prix d'achat unitaire H.T | E83: Coef corr | F83: Déboursé HT | G83: Total déboursé | H83: % Frais Généraux | I83: Prix de revient | J83: % Benefice | K83: P.U € | L83: Total HT
A84: Main d'œuvre | B84: H | C84: 0.3 | D84: 22 | E84: 1 | F84: =D84*E84 -> 22 | G84: =C84*F84 -> 6.6 | H84: 1.42 | I84: =F84*H84 -> 31.24 | J84: 1.111 | K84: =I84*J84 -> 34.70764 | L84: =K84*C84 -> 10.412292
A85: BAC ACIER | B85: m² | C85: 1 | D85: 19 | E85: 1.05 | F85: =D85*E85 -> 19.95 | G85: =C85*F85 -> 19.95 | H85: 1.3 | I85: =F85*H85 -> 25.935 | J85: 1.111 | K85: =I85*J85 -> 28.813785 | L85: =K85*C85 -> 28.813785
A86: VIS FIXATION AUTOFOREUSE | B86: Unité | C86: 3 | D86: 0.5 | E86: 1.05 | F86: =D86*E86 -> 0.525 | G86: =C86*F86 -> 1.575 | H86: 1.3 | I86: =F86*H86 -> 0.6825 | J86: 1.111 | K86: =I86*J86 -> 0.7582575 | L86: =K86*C86 -> 2.2747725
L87: =SUM(L84:L86) -> 41.500849
A89: BAC ACIER LAQUE
A90: Libellé | B90: Unité | C90: Quantité | D90: Prix d'achat unitaire H.T | E90: Coef corr | F90: Déboursé HT | G90: Total déboursé | H90: % Frais Généraux | I90: Prix de revient | J90: % Benefice | K90: P.U € | L90: Total HT
A91: Main d'œuvre | B91: H | C91: 3.8 | D91: 22 | E91: 1 | F91: =D91*E91 -> 22 | G91: =C91*F91 -> 83.6 | H91: 1.42 | I91: =F91*H91 -> 31.24 | J91: 1.111 | K91: =I91*J91 -> 34.70764 | L91: =K91*C91 -> 131.88903
A92: DESCENTES EP, goutières, rives, faitage | B92: EN | C92: 1 | D92: 242 | E92: 1 | F92: =D92*E92 -> 242 | G92: =C92*F92 -> 242 | H92: 1.3 | I92: =F92*H92 -> 314.6 | J92: 1.111 | K92: =I92*J92 -> 349.5206 | L92: =K92*C92 -> 349.5206
L93: =SUM(L91:L92) -> 481.40963
A96: DOUBLAGE 120 | B96: 91.9
A97: Libellé | B97: Unité | C97: Quantité | D97: Prix d'achat unitaire H.T | E97: Coef corr | F97: Déboursé HT | G97: Total déboursé | H97: % Frais Généraux | I97: Prix de revient | J97: % Benefice | K97: P.U € | L97: Total HT
A98: Main d'œuvre | B98: H | C98: 0.6 | D98: 22 | E98: 1 | F98: =D98*E98 -> 22 | G98: =C98*F98 -> 13.2 | H98: 1.5 | I98: =F98*H98 -> 33 | J98: 1.15 | K98: =I98*J98 -> 37.95 | L98: =K98*C98 -> 22.77
A99: placoplatre | B99: m² | C99: 1 | D99: 1.97 | E99: 1.05 | F99: =D99*E99 -> 2.0685 | G99: =C99*F99 -> 2.0685 | H99: 1.3 | I99: =F99*H99 -> 2.68905 | J99: 1.15 | K99: =I99*J99 -> 3.0924075 | L99: =K99*C99 -> 3.0924075
A100: PRK32 120 mm | B100: m² | C100: 1 | D100: 6.03 | E100: 1.05 | F100: =D100*E100 -> 6.3315 | G100: =C100*F100 -> 6.3315 | H100: 1.3 | I100: =F100*H100 -> 8.23095 | J100: 1.15 | K100: =I100*J100 -> 9.4655925 | L100: =K100*C100 -> 9.4655925
A101: Rail stil | B101: ml | C101: 1 | D101: 1 | E101: 1.05 | F101: =D101*E101 -> 1.05 | G101: =C101*F101 -> 1.05 | H101: 1.3 | I101: =F101*H101 -> 1.365 | J101: 1.15 | K101: =I101*J101 -> 1.56975 | L101: =K101*C101 -> 1.56975
A102: Montant stil doublé | B102: ml | C102: 4.2 | D102: 2 | E102: 1.05 | F102: =D102*E102 -> 2.1 | G102: =C102*F102 -> 8.82 | H102: 1.3 | I102: =F102*H102 -> 2.73 | J102: 1.15 | K102: =I102*J102 -> 3.1395 | L102: =K102*C102 -> 13.1859
A103: VIS TTPC 25 ou 35 | B103: u | C103: 11 | D103: 0.01 | E103: 1 | F103: =D103*E103 -> 0.01 | G103: =C103*F103 -> 0.11 | H103: 1.3 | I103: =F103*H103 -> 0.013 | J103: 1.15 | K103: =I103*J103 -> 0.01495 | L103: =K103*C103 -> 0.16445
A104: Bande | B104: ml | C104: 1.4 | D104: 0.1 | E104: 1 | F104: =D104*E104 -> 0.1 | G104: =C104*F104 -> 0.14 | H104: 1.3 | I104: =F104*H104 -> 0.13 | J104: 1.15 | K104: =I104*J104 -> 0.1495 | L104: =K104*C104 -> 0.2093
A105: Enduit prêt à l'emploi | B105: kg | C105: 0.47 | D105: 2.2 | E105: 1.05 | F105: =D105*E105 -> 2.31 | G105: =C105*F105 -> 1.0857 | H105: 1.3 | I105: =F105*H105 -> 3.003 | J105: 1.15 | K105: =I105*J105 -> 3.45345 | L105: =K105*C105 -> 1.6231215
G106: =SUM(G98:G105)*B96 -> 3014.8438 | L106: =SUM(L98:L105) -> 52.080522
A108: CLOISONS 72 | B108: 73.3
A109: Libellé | B109: Unité | C109: Quantité | D109: Prix d'achat unitaire H.T | E109: Coef corr | F109: Déboursé HT | G109: Total déboursé | H109: % Frais Généraux | I109: Prix de revient | J109: % Benefice | K109: P.U € | L109: Total HT
A110: Main d'œuvre | B110: H | C110: 0.62 | D110: 22 | E110: 1 | F110: =D110*E110 -> 22 | G110: =C110*F110 -> 13.64 | H110: 1.5 | I110: =F110*H110 -> 33 | J110: 1.15 | K110: =I110*J110 -> 37.95 | L110: =K110*C110 -> 23.529
A111: placoplatre | B111: m² | C111: 2.1 | D111: 1.97 | E111: 1.05 | F111: =D111*E111 -> 2.0685 | G111: =C111*F111 -> 4.34385 | H111: 1.3 | I111: =F111*H111 -> 2.68905 | J111: 1.15 | K111: =I111*J111 -> 3.0924075 | L111: =K111*C111 -> 6.4940558
A112: URSACOUSTIC 45 | B112: m² | C112: 1 | D112: 1.14 | E112: 1.05 | F112: =D112*E112 -> 1.197 | G112: =C112*F112 -> 1.197 | H112: 1.3 | I112: =F112*H112 -> 1.5561 | J112: 1.15 | K112: =I112*J112 -> 1.789515 | L112: =K112*C112 -> 1.789515
A113: Rail stil 45 | B113: ml | C113: 0.9 | D113: 0.81 | E113: 1.05 | F113: =D113*E113 -> 0.8505 | G113: =C113*F113 -> 0.76545 | H113: 1.3 | I113: =F113*H113 -> 1.10565 | J113: 1.15 | K113: =I113*J113 -> 1.2714975 | L113: =K113*C113 -> 1.1443478
A114: Montant stil doublé 45 | B114: ml | C114: 3.7 | D114: 0.93 | E114: 1.05 | F114: =D114*E114 -> 0.9765 | G114: =C114*F114 -> 3.61305 | H114: 1.3 | I114: =F114*H114 -> 1.26945 | J114: 1.15 | K114: =I114*J114 -> 1.4598675 | L114: =K114*C114 -> 5.4015098
A115: VIS TTPC 25 ou 35 | B115: u | C115: 22 | D115: 0.01 | E115: 1 | F115: =D115*E115 -> 0.01 | G115: =C115*F115 -> 0.22 | H115: 1.3 | I115: =F115*H115 -> 0.013 | J115: 1.15 | K115: =I115*J115 -> 0.01495 | L115: =K115*C115 -> 0.3289
A116: Bande | B116: ml | C116: 2.8 | D116: 0.1 | E116: 1 | F116: =D116*E116 -> 0.1 | G116: =C116*F116 -> 0.28 | H116: 1.3 | I116: =F116*H116 -> 0.13 | J116: 1.15 | K116: =I116*J116 -> 0.1495 | L116: =K116*C116 -> 0.4186
A117: Enduit prêt à l'emploi | B117: kg | C117: 0.94 | D117: 2.2 | E117: 1.05 | F117: =D117*E117 -> 2.31 | G117: =C117*F117 -> 2.1714 | H117: 1.3 | I117: =F117*H117 -> 3.003 | J117: 1.15 | K117: =I117*J117 -> 3.45345 | L117: =K117*C117 -> 3.246243
F118: =SUM(F110:F117) -> 29.5125 | G118: =SUM(G110:G117)*B108 -> 1922.714 | L118: =SUM(L110:L117) -> 42.352171
A122: BLOC PORTE 90 ALV | B122: 6
A123: Libellé | B123: Unité | C123: Quantité | D123: Prix d'achat unitaire H.T | E123: Coef corr | F123: Déboursé HT | G123: Total déboursé | H123: % Frais Généraux | I123: Prix de revient | J123: % Benefice | K123: P.U € | L123: Total HT
A124: Main d'œuvre | B124: H | C124: 1.81 | D124: 22 | E124: 1 | F124: =D124*E124 -> 22 | G124: =C124*F124 -> 39.82 | H124: 1.5 | I124: =F124*H124 -> 33 | J124: 1.15 | K124: =I124*J124 -> 37.95 | L124: =K124*C124 -> 68.6895
A125: bloc porte 90 ALV | B125: U | C125: 1 | D125: 67.19 | E125: 1 | F125: =D125*E125 -> 67.19 | G125: =C125*F125 -> 67.19 | H125: 1.3 | I125: =F125*H125 -> 87.347 | J125: 1.15 | K125: =I125*J125 -> 100.44905 | L125: =K125*C125 -> 100.44905
A126: Serrure | B126: U | C126: 1 | D126: 3 | E126: 1 | F126: =D126*E126 -> 3 | G126: =C126*F126 -> 3 | H126: 1.3 | I126: =F126*H126 -> 3.9 | J126: 1.15 | K126: =I126*J126 -> 4.485 | L126: =K126*C126 -> 4.485
A127: Butée de porte | B127: U | C127: 1 | D127: 1.26 | E127: 1 | F127: =D127*E127 -> 1.26 | G127: =C127*F127 -> 1.26 | H127: 1.3 | I127: =F127*H127 -> 1.638 | J127: 1.15 | K127: =I127*J127 -> 1.8837 | L127: =K127*C127 -> 1.8837
...

Sheet devis
A1: LOGO
H3: test Devis | K3: N° | L3: 001
H6: En date du
H7: Référence client
H8: A l'attention de
A11: Téléphone :
A12: Télécopie : | K12: NOM CLIENT
A13: Adresse mail
A14: Site internet
A17: Commentaire général :
A18: Désignation | L18: Qté | M18: Unité | N18: Prix unit. Ht | O18: Montant HT | Q18: TVA
A19: 1 Maçonnerie
A20: Réalisation de fondations en périphérie pour support des murs ossature bois comprenant ; Fouilles en rigole creusés manuellement, coulage du béton de fondations et réalisation d'un rang de chainage de 15 x 20 cm de hauteur pour support des parois ossature bois - N'est pas prévu de dalle béton dans le garage | L20: 1 | M20: EN | N20: 1200 | O20: =L20*N20 -> 1200 | Q20: 0.2
A22: 2 OSSATURE BOIS - CHARPENTE
A24: Fourniture et pose de semelles en sapin autoclave Classe IV 45 x145 , y compris la pose de la bande d'étanchéitée DELTA 200 afin d'assurer une coupure de capilarité entre la dalle et la structure bois | L24: =PARAMETRE_DEVIS!B2 -> 10.98 | M24: ml | N24: =PARAMETRE_DEVIS!L9 -> 18.696125 | O24: =L24*N24 -> 205.28345 | Q24: 0.2
A25: Fabrication et pose de parois ossature bois constitués de montants de 45 x 145 mm en sapin du nord classe2, rabotés et chanfreinés répartis tous les 60 cm | L25: 30 | M25: m² | N25: =PARAMETRE_DEVIS!L22 -> 34.736095 | O25: =L25*N25 -> 1042.0829 | Q25: 0.2
A26: Fourniture et pose d'un voile de contreventement en panneaux d'OSB3 de 12 mm d'épaisseur fixé sur ossature bois | L26: 30 | M26: m² | N26: =PARAMETRE_DEVIS!L31 -> 13.457415 | O26: =L26*N26 -> 403.72245 | Q26: 0.2
A27: Fourniture et pose d'un film pare-pluie type DELTA VENT N, compris lattage de 45 x 27 mm d'épaisseur | L27: 30 | M27: m² | N27: =PARAMETRE_DEVIS!L39 -> 10.005064 | O27: =L27*N27 -> 300.15191 | Q27: 0.2
A28: Fourniture et pose de grilles anti-rongeurs fixées en pied de paroi afin d'éviter l'intrusion des nuisibles | L28: 10.98 | M28: ml | N28: =PARAMETRE_DEVIS!L46 -> 8.054255 | O28: =L28*N28 -> 88.43572 | Q28: 0.2
A29: Fourniture et pose d'un clin bois de type SILVERWOOD coloris approchant de l'existant - Pose sur lattage de 45 x 27 mm d'épaisseur et cloué par clous inox - Compris traitement des retours de tableaux en pourtour de la porte sectionnelle | L29: 30 | M29: m² | N29: =PARAMETRE_DEVIS!L54 -> 76.122325 | O29: =L29*N29 -> 2283.6698 | Q29: 0.2
A30: Fourniture et pose du support de couverture en pannes de sapin traité classe 2 de section 8 x 23 cm | L30: 1 | M30: EN | N30: =+PARAMETRE_DEVIS!L63 -> 586.63312 | O30: =L30*N30 -> 586.63312 | Q30: 0.2
A31: Chevronnage en sapin de pays traité 50 x 75 | L31: 1 | M31: EN | N31: =PARAMETRE_DEVIS!L73 -> 488.00779 | O31: =L31*N31 -> 488.00779 | Q31: 0.2
A33: 3 COUVERTURE
A34: Fourniture et pose de tôles bac acier (non isolant) fixées par vis autoforeuse à tête teintés | L34: 21.5 | M34: m² | N34: =+PARAMETRE_DEVIS!L87 -> 41.500849 | O34: =L34*N34 -> 892.26826 | Q34: 0.2
A35: Fourniture et poses des tôles de faitage, égout et de rives assorties au bac acier - Est également compris la fourniture et pose des évacuation d'eaux pluviales | L35: 1 | M35: EN | N35: =PARAMETRE_DEVIS!L93 -> 481.40963 | O35: =N35*L35 -> 481.40963 | Q35: 0.2
A37: 4 PORTE SECTIONNELLE
A39: Fourniture et pose d'une porte sectionnelle manuelle de 2,50 x 2,10 m de hauteur, tablier aluminium RAL 7016 gris anthracite | L39: 1 | M39: u | N39: =PARAMETRE_DEVIS!L80 -> 1707.658 | O39: =L39*N39 -> 1707.658 | Q39: 0.2
L43: SOUS-TOTAL | O43: =SUM(O18:P40) -> 9679.323
L45: TVA 20% | O45: =O43*20% -> 1935.8646
L47: TOTAL TTC | O47: =O43+O45 -> 11615.188
