Workbook

Sheet BASE DE DONNEES A MAJ
A1: je voudrais quand il y a une correspondance client, mettre en colonne H et I les deux prix du modèle A qui sont dans le 2ème onglet par client (sur la ligne qui correspond au modèle A du client)
A2: les deux prix du modèle B du 2ème onglet sur la ligne qui correspond au modèle B par client , etc
A3: j'ai déjà mis les correspondances en colonne F et G
B4: Client
A5: MODELE A | B5: C00004 | D5: 0 | E5: 1653 | F5: =VLOOKUP(B5,CLIENTS!$A$5:$A$30,1,FALSE) -> #N/A | G5: =VLOOKUP(($B5),CLIENTS!A$4:G$30,COLUMN(B7),FALSE) -> #N/A
A6: MODELE C | B6: C00004 | D6: 0 | E6: 792 | F6: =VLOOKUP(B6,CLIENTS!$A$5:$A$30,1,FALSE) -> #N/A | G6: =VLOOKUP(($B6),CLIENTS!A$4:G$30,COLUMN(B8),FALSE) -> #N/A
A7: MODELE A | B7: C00027 | D7: 0 | E7: 1612 | F7: =VLOOKUP(B7,CLIENTS!$A$5:$A$30,1,FALSE) -> #N/A | G7: =VLOOKUP(($B7),CLIENTS!A$4:G$30,COLUMN(B9),FALSE) -> #N/A
A8: MODELE B | B8: C00027 | D8: 0 | E8: 1056 | F8: =VLOOKUP(B8,CLIENTS!$A$5:$A$30,1,FALSE) -> #N/A | G8: =VLOOKUP(($B8),CLIENTS!A$4:G$30,COLUMN(B10),FALSE) -> #N/A
A9: MODELE C | B9: C00027 | D9: 0 | E9: 767 | F9: =VLOOKUP(B9,CLIENTS!$A$5:$A$30,1,FALSE) -> #N/A | G9: =VLOOKUP(($B9),CLIENTS!A$4:G$30,COLUMN(B11),FALSE) -> #N/A
A10: MODELE A | B10: C00056 | D10: 0 | E10: 1653 | F10: =VLOOKUP(B10,CLIENTS!$A$5:$A$30,1,FALSE) -> #N/A | G10: =VLOOKUP(($B10),CLIENTS!A$4:G$30,COLUMN(B12),FALSE) -> #N/A
A11: MODELE B | B11: C00056 | D11: 0 | E11: 1056 | F11: =VLOOKUP(B11,CLIENTS!$A$5:$A$30,1,FALSE) -> #N/A | G11: =VLOOKUP(($B11),CLIENTS!A$4:G$30,COLUMN(B13),FALSE) -> #N/A
A12: MODELE C | B12: C00056 | D12: 0 | E12: 767 | F12: =VLOOKUP(B12,CLIENTS!$A$5:$A$30,1,FALSE) -> #N/A | G12: =VLOOKUP(($B12),CLIENTS!A$4:G$30,COLUMN(B14),FALSE) -> #N/A
A13: MODELE A | B13: C00061 | D13: 0 | E13: 1564 | F13: =VLOOKUP(B13,CLIENTS!$A$5:$A$30,1,FALSE) -> #N/A | G13: =VLOOKUP(($B13),CLIENTS!A$4:G$30,COLUMN(B15),FALSE) -> #N/A
A14: MODELE B | B14: C00061 | D14: 0 | E14: 1024 | F14: =VLOOKUP(B14,CLIENTS!$A$5:$A$30,1,FALSE) -> #N/A | G14: =VLOOKUP(($B14),CLIENTS!A$4:G$30,COLUMN(B16),FALSE) -> #N/A
A15: MODELE C | B15: C00061 | D15: 0 | E15: 749 | F15: =VLOOKUP(B15,CLIENTS!$A$5:$A$30,1,FALSE) -> #N/A | G15: =VLOOKUP(($B15),CLIENTS!A$4:G$30,COLUMN(B17),FALSE) -> #N/A
A16: MODELE A | B16: C00062 | D16: 0 | E16: 1678 | F16: =VLOOKUP(B16,CLIENTS!$A$5:$A$30,1,FALSE) -> #N/A | G16: =VLOOKUP(($B16),CLIENTS!A$4:G$30,COLUMN(B18),FALSE) -> #N/A
... A34: MODELE A | B34: C00181 | D34: 0 | E34: 1686 | F34: =VLOOKUP(B34,CLIENTS!$A$5:$A$30,1,FALSE) -> #N/A | G34: =VLOOKUP(($B34),CLIENTS!A$4:G$30,COLUMN(B36),FALSE) -> #N/A
A35: MODELE B | B35: C00181 | C35: 1130 | D35: 0 | E35: 1130 | F35: =VLOOKUP(B35,CLIENTS!$A$5:$A$30,1,FALSE) -> #N/A | G35: =VLOOKUP(($B35),CLIENTS!A$4:G$30,COLUMN(B37),FALSE) -> #N/A
A36: MODELE C | B36: C00181 | D36: 0 | E36: 814 | F36: =VLOOKUP(B36,CLIENTS!$A$5:$A$30,1,FALSE) -> #N/A | G36: =VLOOKUP(($B36),CLIENTS!A$4:G$30,COLUMN(B38),FALSE) -> #N/A
A37: MODELE A | B37: C00185 | D37: 0 | E37: 1686 | F37: =VLOOKUP(B37,CLIENTS!$A$5:$A$30,1,FALSE) -> #N/A | G37: =VLOOKUP(($B37),CLIENTS!A$4:G$30,COLUMN(B39),FALSE) -> #N/A
A38: MODELE B | B38: C00185 | D38: 0 | E38: 1130 | F38: =VLOOKUP(B38,CLIENTS!$A$5:$A$30,1,FALSE) -> #N/A | G38: =VLOOKUP(($B38),CLIENTS!A$4:G$30,COLUMN(B40),FALSE) -> #N/A
A39: MODELE C | B39: C00185 | D39: 0 | E39: 814 | F39: =VLOOKUP(B39,CLIENTS!$A$5:$A$30,1,FALSE) -> #N/A | G39: =VLOOKUP(($B39),CLIENTS!A$4:G$30,COLUMN(B41),FALSE) -> #N/A
A40: MODELE A | B40: C00200 | D40: 0 | E40: 1710 | F40: =VLOOKUP(B40,CLIENTS!$A$5:$A$30,1,FALSE) -> #N/A | G40: =VLOOKUP(($B40),CLIENTS!A$4:G$30,COLUMN(B42),FALSE) -> #N/A
A41: MODELE B | B41: C00200 | D41: 0 | E41: 1150 | F41: =VLOOKUP(B41,CLIENTS!$A$5:$A$30,1,FALSE) -> #N/A | G41: =VLOOKUP(($B41),CLIENTS!A$4:G$30,COLUMN(B43),FALSE) -> #N/A
A42: MODELE C | B42: C00200 | D42: 0 | E42: 840 | F42: =VLOOKUP(B42,CLIENTS!$A$5:$A$30,1,FALSE) -> #N/A | G42: =VLOOKUP(($B42),CLIENTS!A$4:G$30,COLUMN(B44),FALSE) -> #N/A
A43: MODELE A | B43: C00210 | D43: 0 | E43: 1585 | F43: =VLOOKUP(B43,CLIENTS!$A$5:$A$30,1,FALSE) -> #N/A | G43: =VLOOKUP(($B43),CLIENTS!A$4:G$30,COLUMN(B45),FALSE) -> #N/A
A44: MODELE B | B44: C00210 | D44: 0 | E44: 1130 | F44: =VLOOKUP(B44,CLIENTS!$A$5:$A$30,1,FALSE) -> #N/A | G44: =VLOOKUP(($B44),CLIENTS!A$4:G$30,COLUMN(B46),FALSE) -> #N/A
A45: MODELE C | B45: C00210 | D45: 0 | E45: 814 | F45: =VLOOKUP(B45,CLIENTS!$A$5:$A$30,1,FALSE) -> #N/A | G45: =VLOOKUP(($B45),CLIENTS!A$4:G$30,COLUMN(B47),FALSE) -> #N/A
A46: MODELE A | B46: C00223 | D46: 0 | E46: 1608 | F46: =VLOOKUP(B46,CLIENTS!$A$5:$A$30,1,FALSE) -> #N/A | G46: =VLOOKUP(($B46),CLIENTS!A$4:G$30,COLUMN(B48),FALSE) -> #N/A
A47: MODELE B | B47: C00223 | D47: 0 | E47: 1053 | F47: =VLOOKUP(B47,CLIENTS!$A$5:$A$30,1,FALSE) -> #N/A | G47: =VLOOKUP(($B47),CLIENTS!A$4:G$30,COLUMN(B49),FALSE) -> #N/A
... A309: MODELE C | B309: C03172 | D309: 0 | E309: 814 | F309: =VLOOKUP(B309,CLIENTS!$A$5:$A$30,1,FALSE) -> #N/A | G309: =VLOOKUP(($B309),CLIENTS!A$4:G$30,COLUMN(B311),FALSE) -> #N/A
A310: MODELE A | B310: C03173 | D310: 0 | E310: 1755 | F310: =VLOOKUP(B310,CLIENTS!$A$5:$A$30,1,FALSE) -> #N/A | G310: =VLOOKUP(($B310),CLIENTS!A$4:G$30,COLUMN(MODELE A),FALSE) -> #NAME?
A311: MODELE B | B311: C03173 | D311: 0 | E311: 1150 | F311: =VLOOKUP(B311,CLIENTS!$A$5:$A$30,1,FALSE) -> #N/A | G311: =VLOOKUP(($B311),CLIENTS!A$4:G$30,COLUMN(B313),FALSE) -> #N/A
A312: MODELE C | B312: C03173 | D312: 0 | E312: 840 | F312: =VLOOKUP(B312,CLIENTS!$A$5:$A$30,1,FALSE) -> #N/A | G312: =VLOOKUP(($B312),CLIENTS!A$4:G$30,COLUMN(B314),FALSE) -> #N/A
A313: MODELE A | B313: C03200 | D313: 0 | E313: 1653 | F313: =VLOOKUP(B313,CLIENTS!$A$5:$A$30,1,FALSE) -> #N/A | G313: =VLOOKUP(($B313),CLIENTS!A$4:G$30,COLUMN(B315),FALSE) -> #N/A
A314: MODELE B | B314: C03200 | D314: 0 | E314: 1056 | F314: =VLOOKUP(B314,CLIENTS!$A$5:$A$30,1,FALSE) -> #N/A | G314: =VLOOKUP(($B314),CLIENTS!A$4:G$30,COLUMN(B316),FALSE) -> #N/A
A315: MODELE C | B315: C03200 | D315: 0 | E315: 767 | F315: =VLOOKUP(B315,CLIENTS!$A$5:$A$30,1,FALSE) -> #N/A | G315: =VLOOKUP(($B315),CLIENTS!A$4:G$30,COLUMN(B317),FALSE) -> #N/A
A316: MODELE A | B316: C03258 | D316: 0 | E316: 1710 | F316: =VLOOKUP(MODELE A,CLIENTS!$A$5:$A$30,1,FALSE) -> #NAME? | G316: =VLOOKUP(($B316),CLIENTS!A$4:G$30,COLUMN(B318),FALSE) -> #N/A
A317: MODELE B | B317: C03258 | D317: 0 | E317: 1130 | F317: =VLOOKUP(B317,CLIENTS!$A$5:$A$30,1,FALSE) -> #N/A | G317: =VLOOKUP(($B317),CLIENTS!A$4:G$30,COLUMN(B319),FALSE) -> #N/A
A318: MODELE C | B318: C03258 | D318: 0 | E318: 814 | F318: =VLOOKUP(B318,CLIENTS!$A$5:$A$30,1,FALSE) -> #N/A | G318: =VLOOKUP(($B318),CLIENTS!A$4:G$30,COLUMN(B320),FALSE) -> #N/A
A319: MODELE A | B319: C03259 | D319: 0 | E319: 1588 | F319: =VLOOKUP(B319,CLIENTS!$A$5:$A$30,1,FALSE) -> #N/A | G319: =VLOOKUP(($B319),CLIENTS!A$4:G$30,COLUMN(B321),FALSE) -> #N/A
A320: MODELE B | B320: C03259 | D320: 0 | E320: 1083 | F320: =VLOOKUP(B320,CLIENTS!$A$5:$A$30,1,FALSE) -> #N/A | G320: =VLOOKUP(($B320),CLIENTS!A$4:G$30,COLUMN(B322),FALSE) -> #N/A
A321: MODELE C | B321: C03259 | D321: 0 | E321: 792 | F321: =VLOOKUP(B321,CLIENTS!$A$5:$A$30,1,FALSE) -> #N/A | G321: =VLOOKUP(($B321),CLIENTS!A$4:G$30,COLUMN(B323),FALSE) -> #N/A
A322: MODELE A | B322: C03288 | D322: 0 | E322: 1499 | F322: =VLOOKUP(B322,CLIENTS!$A$5:$A$30,1,FALSE) -> C03288 | G322: =VLOOKUP(($B322),CLIENTS!A$4:G$30,COLUMN(B324),FALSE) -> O
A323: MODELE B | B323: C03288 | D323: 0 | E323: 1130 | F323: =VLOOKUP(B323,CLIENTS!$A$5:$A$30,1,FALSE) -> C03288 | G323: =VLOOKUP(($B323),CLIENTS!A$4:G$30,COLUMN(B325),FALSE) -> O
A324: MODELE C | B324: C03288 | D324: 0 | E324: 814 | F324: =VLOOKUP(B324,CLIENTS!$A$5:$A$30,1,FALSE) -> C03288 | G324: =VLOOKUP(($B324),CLIENTS!A$4:G$30,COLUMN(B326),FALSE) -> O
A325: MODELE A | B325: C03321 | D325: 0 | E325: 1612 | F325: =VLOOKUP(B325,CLIENTS!$A$5:$A$30,1,FALSE) -> #N/A | G325: =VLOOKUP(($B325),CLIENTS!A$4:G$30,COLUMN(B327),FALSE) -> #N/A
A326: MODELE B | B326: C03321 | D326: 0 | E326: 1056 | F326: =VLOOKUP(B326,CLIENTS!$A$5:$A$30,1,FALSE) -> #N/A | G326: =VLOOKUP(($B326),CLIENTS!A$4:G$30,COLUMN(B328),FALSE) -> #N/A
A327: MODELE C | B327: C03321 | D327: 0 | E327: 767 | F327: =VLOOKUP(B327,CLIENTS!$A$5:$A$30,1,FALSE) -> #N/A | G327: =VLOOKUP(($B327),CLIENTS!A$4:G$30,COLUMN(B329),FALSE) -> #N/A
A328: MODELE A | B328: C03350 | D328: 0 | E328: 1653 | F328: =VLOOKUP(B328,CLIENTS!$A$5:$A$30,1,FALSE) -> #N/A | G328: =VLOOKUP(($B328),CLIENTS!A$4:G$30,COLUMN(B330),FALSE) -> #N/A
... A463: MODELE C | B463: C04490 | D463: 0 | E463: 792 | F463: =VLOOKUP(B463,CLIENTS!$A$5:$A$30,1,FALSE) -> #N/A | G463: =VLOOKUP(($B463),CLIENTS!A$4:G$30,COLUMN(B465),FALSE) -> #N/A
A464: MODELE A | B464: C04497 | D464: 0 | E464: 1653 | F464: =VLOOKUP(B464,CLIENTS!$A$5:$A$30,1,FALSE) -> #N/A | G464: =VLOOKUP(($B464),CLIENTS!A$4:G$30,COLUMN(MODELE B),FALSE) -> #NAME?
A465: MODELE B | B465: C04497 | D465: 0 | E465: 1083 | F465: =VLOOKUP(B465,CLIENTS!$A$5:$A$30,1,FALSE) -> #N/A | G465: =VLOOKUP(($B465),CLIENTS!A$4:G$30,COLUMN(B467),FALSE) -> #N/A
A466: MODELE C | B466: C04497 | D466: 0 | E466: 792 | F466: =VLOOKUP(B466,CLIENTS!$A$5:$A$30,1,FALSE) -> #N/A | G466: =VLOOKUP(($B466),CLIENTS!A$4:G$30,COLUMN(B468),FALSE) -> #N/A
A467: MODELE A | B467: C04501 | D467: 0 | E467: 1608 | F467: =VLOOKUP(B467,CLIENTS!$A$5:$A$30,1,FALSE) -> #N/A | G467: =VLOOKUP(($B467),CLIENTS!A$4:G$30,COLUMN(B469),FALSE) -> #N/A
A468: MODELE B | B468: C04501 | D468: 0 | E468: 1027 | F468: =VLOOKUP(B468,CLIENTS!$A$5:$A$30,1,FALSE) -> #N/A | G468: =VLOOKUP(($B468),CLIENTS!A$4:G$30,COLUMN(B470),FALSE) -> #N/A
A469: MODELE C | B469: C04501 | D469: 0 | E469: 746 | F469: =VLOOKUP(B469,CLIENTS!$A$5:$A$30,1,FALSE) -> #N/A | G469: =VLOOKUP(($B469),CLIENTS!A$4:G$30,COLUMN(B471),FALSE) -> #N/A
A470: MODELE A | B470: C04528 | D470: 0 | E470: 1678 | F470: =VLOOKUP(B470,CLIENTS!$A$5:$A$30,1,FALSE) -> #N/A | G470: =VLOOKUP(($B470),CLIENTS!A$4:G$30,COLUMN(B472),FALSE) -> #N/A
A471: MODELE B | B471: C04528 | D471: 0 | E471: 1053 | F471: =VLOOKUP(B471,CLIENTS!$A$5:$A$30,1,FALSE) -> #N/A | G471: =VLOOKUP(($B471),CLIENTS!A$4:G$30,COLUMN(B473),FALSE) -> #N/A
A472: MODELE C | B472: C04528 | D472: 0 | E472: 770 | F472: =VLOOKUP(B472,CLIENTS!$A$5:$A$30,1,FALSE) -> #N/A | G472: =VLOOKUP(($B472),CLIENTS!A$4:G$30,COLUMN(B474),FALSE) -> #N/A
A473: MODELE A | B473: C04570 | D473: 0 | E473: 1678 | F473: =VLOOKUP(B473,CLIENTS!$A$5:$A$30,1,FALSE) -> #N/A | G473: =VLOOKUP(($B473),CLIENTS!A$4:G$30,COLUMN(B475),FALSE) -> #N/A
A474: MODELE B | B474: C04570 | D474: 0 | E474: 1053 | F474: =VLOOKUP(B474,CLIENTS!$A$5:$A$30,1,FALSE) -> #N/A | G474: =VLOOKUP(($B474),CLIENTS!A$4:G$30,COLUMN(B476),FALSE) -> #N/A
A475: MODELE C | B475: C04570 | D475: 0 | E475: 770 | F475: =VLOOKUP(B475,CLIENTS!$A$5:$A$30,1,FALSE) -> #N/A | G475: =VLOOKUP(($B475),CLIENTS!A$4:G$30,COLUMN(B477),FALSE) -> #N/A
A476: MODELE A | B476: C04607 | D476: 0 | E476: 1678 | F476: =VLOOKUP(B476,CLIENTS!$A$5:$A$30,1,FALSE) -> #N/A | G476: =VLOOKUP(($B476),CLIENTS!A$4:G$30,COLUMN(B478),FALSE) -> #N/A
... A492: MODELE B | B492: C04771 | D492: 0 | E492: 1053 | F492: =VLOOKUP(B492,CLIENTS!$A$5:$A$30,1,FALSE) -> #N/A | G492: =VLOOKUP(($B492),CLIENTS!A$4:G$30,COLUMN(B494),FALSE) -> #N/A
A493: MODELE A | B493: C04842 | D493: 0 | E493: 1755 | F493: =VLOOKUP(MODELE B,CLIENTS!$A$5:$A$30,1,FALSE) -> #NAME? | G493: =VLOOKUP(($B493),CLIENTS!A$4:G$30,COLUMN(B495),FALSE) -> #N/A
A494: MODELE B | B494: C04842 | D494: 0 | E494: 1150 | F494: =VLOOKUP(B494,CLIENTS!$A$5:$A$30,1,FALSE) -> #N/A | G494: =VLOOKUP(($B494),CLIENTS!A$4:G$30,COLUMN(B496),FALSE) -> #N/A
A495: MODELE C | B495: C04842 | D495: 0 | E495: 840 | F495: =VLOOKUP(B495,CLIENTS!$A$5:$A$30,1,FALSE) -> #N/A | G495: =VLOOKUP(($B495),CLIENTS!A$4:G$30,COLUMN(B497),FALSE) -> #N/A
A496: MODELE A | B496: C04876 | D496: 0 | E496: 1725 | F496: =VLOOKUP(B496,CLIENTS!$A$5:$A$30,1,FALSE) -> #N/A | G496: =VLOOKUP(($B496),CLIENTS!A$4:G$30,COLUMN(B498),FALSE) -> #N/A
A497: MODELE B | B497: C04876 | D497: 0 | E497: 1083 | F497: =VLOOKUP(B497,CLIENTS!$A$5:$A$30,1,FALSE) -> #N/A | G497: =VLOOKUP(($B497),CLIENTS!A$4:G$30,COLUMN(B499),FALSE) -> #N/A
A498: MODELE C | B498: C04876 | D498: 0 | E498: 792 | F498: =VLOOKUP(B498,CLIENTS!$A$5:$A$30,1,FALSE) -> #N/A | G498: =VLOOKUP(($B498),CLIENTS!A$4:G$30,COLUMN(B500),FALSE) -> #N/A
A499: MODELE A | B499: C04909 | D499: 0 | E499: 1544 | F499: =VLOOKUP(B499,CLIENTS!$A$5:$A$30,1,FALSE) -> #N/A | G499: =VLOOKUP(($B499),CLIENTS!A$4:G$30,COLUMN(B501),FALSE) -> #N/A
A500: MODELE B | B500: C04909 | D500: 0 | E500: 1027 | F500: =VLOOKUP(B500,CLIENTS!$A$5:$A$30,1,FALSE) -> #N/A | G500: =VLOOKUP(($B500),CLIENTS!A$4:G$30,COLUMN(B502),FALSE) -> #N/A
A501: MODELE C | B501: C04909 | D501: 0 | E501: 746 | F501: =VLOOKUP(B501,CLIENTS!$A$5:$A$30,1,FALSE) -> #N/A | G501: =VLOOKUP(($B501),CLIENTS!A$4:G$30,COLUMN(B503),FALSE) -> #N/A
A502: MODELE A | B502: C04917 | D502: 0 | E502: 1568 | F502: =VLOOKUP(B502,CLIENTS!$A$5:$A$30,1,FALSE) -> #N/A | G502: =VLOOKUP(($B502),CLIENTS!A$4:G$30,COLUMN(B504),FALSE) -> #N/A
A503: MODELE B | B503: C04917 | D503: 0 | E503: 1053 | F503: =VLOOKUP(B503,CLIENTS!$A$5:$A$30,1,FALSE) -> #N/A | G503: =VLOOKUP(($B503),CLIENTS!A$4:G$30,COLUMN(B505),FALSE) -> #N/A
A504: MODELE C | B504: C04917 | D504: 0 | E504: 770 | F504: =VLOOKUP(B504,CLIENTS!$A$5:$A$30,1,FALSE) -> #N/A | G504: =VLOOKUP(($B504),CLIENTS!A$4:G$30,COLUMN(B506),FALSE) -> #N/A
A505: MODELE A | B505: C04946 | D505: 0 | E505: 1725 | F505: =VLOOKUP(B505,CLIENTS!$A$5:$A$30,1,FALSE) -> #N/A | G505: =VLOOKUP(($B505),CLIENTS!A$4:G$30,COLUMN(B507),FALSE) -> #N/A
... A600: MODELE C | B600: C06718 | D600: 0 | E600: 770 | F600: =VLOOKUP(B600,CLIENTS!$A$5:$A$30,1,FALSE) -> #N/A | G600: =VLOOKUP(($B600),CLIENTS!A$4:G$30,COLUMN(B602),FALSE) -> #N/A
A601: MODELE A | B601: C06719 | C601: MODELE A | D601: 0 | E601: 1660 | F601: =VLOOKUP(B601,CLIENTS!$A$5:$A$30,1,FALSE) -> #N/A | G601: =VLOOKUP(($B601),CLIENTS!A$4:G$30,COLUMN(B603),FALSE) -> #N/A
A602: MODELE B | B602: C06719 | D602: 0 | E602: 1122 | F602: =VLOOKUP(B602,CLIENTS!$A$5:$A$30,1,FALSE) -> #N/A | G602: =VLOOKUP(($B602),CLIENTS!A$4:G$30,COLUMN(B604),FALSE) -> #N/A
A603: MODELE A | B603: C06726 | D603: 0 | E603: 1755 | F603: =VLOOKUP(B603,CLIENTS!$A$5:$A$30,1,FALSE) -> #N/A | G603: =VLOOKUP(($B603),CLIENTS!A$4:G$30,COLUMN(B605),FALSE) -> #N/A
A604: MODELE B | B604: C06726 | D604: 0 | E604: 1150 | F604: =VLOOKUP(B604,CLIENTS!$A$5:$A$30,1,FALSE) -> #N/A | G604: =VLOOKUP(($B604),CLIENTS!A$4:G$30,COLUMN(B606),FALSE) -> #N/A
A605: MODELE C | B605: C06726 | D605: 0 | E605: 840 | F605: =VLOOKUP(B605,CLIENTS!$A$5:$A$30,1,FALSE) -> #N/A | G605: =VLOOKUP(($B605),CLIENTS!A$4:G$30,COLUMN(B607),FALSE) -> #N/A
A606: MODELE A | B606: C06886 | D606: 0 | E606: 1653 | F606: =VLOOKUP(B606,CLIENTS!$A$5:$A$30,1,FALSE) -> #N/A | G606: =VLOOKUP(($B606),CLIENTS!A$4:G$30,COLUMN(B608),FALSE) -> #N/A
A607: MODELE B | B607: C06886 | D607: 0 | E607: 1083 | F607: =VLOOKUP(B607,CLIENTS!$A$5:$A$30,1,FALSE) -> #N/A | G607: =VLOOKUP(($B607),CLIENTS!A$4:G$30,COLUMN(B609),FALSE) -> #N/A
A608: MODELE C | B608: C06886 | D608: 0 | E608: 792 | F608: =VLOOKUP(B608,CLIENTS!$A$5:$A$30,1,FALSE) -> #N/A | G608: =VLOOKUP(($B608),CLIENTS!A$4:G$30,COLUMN(B610),FALSE) -> #N/A
A609: MODELE A | B609: C06986 | D609: 0 | E609: 1725 | F609: =VLOOKUP(B609,CLIENTS!$A$5:$A$30,1,FALSE) -> #N/A | G609: =VLOOKUP(($B609),CLIENTS!A$4:G$30,COLUMN(B611),FALSE) -> #N/A
A610: MODELE B | B610: C06986 | D610: 0 | E610: 1083 | F610: =VLOOKUP(B610,CLIENTS!$A$5:$A$30,1,FALSE) -> #N/A | G610: =VLOOKUP(($B610),CLIENTS!A$4:G$30,COLUMN(B612),FALSE) -> #N/A
A611: MODELE C | B611: C06986 | D611: 0 | E611: 792 | F611: =VLOOKUP(B611,CLIENTS!$A$5:$A$30,1,FALSE) -> #N/A | G611: =VLOOKUP(($B611),CLIENTS!A$4:G$30,COLUMN(B613),FALSE) -> #N/A
A612: MODELE A | B612: C07041 | D612: 0 | E612: 1588 | F612: =VLOOKUP(B612,CLIENTS!$A$5:$A$30,1,FALSE) -> #N/A | G612: =VLOOKUP(($B612),CLIENTS!A$4:G$30,COLUMN(B614),FALSE) -> #N/A
A613: MODELE B | B613: C07041 | D613: 0 | E613: 1056 | F613: =VLOOKUP(B613,CLIENTS!$A$5:$A$30,1,FALSE) -> #N/A | G613: =VLOOKUP(($B613),CLIENTS!A$4:G$30,COLUMN(B615),FALSE) -> #N/A
... A615: MODELE A | B615: C07157 | D615: 0 | E615: 1585 | F615: =VLOOKUP(B615,CLIENTS!$A$5:$A$30,1,FALSE) -> C07157 | G615: =VLOOKUP(($B615),CLIENTS!A$4:G$30,COLUMN(B617),FALSE) -> I
A616: MODELE B | B616: C07157 | D616: 0 | E616: 1130 | F616: =VLOOKUP(B616,CLIENTS!$A$5:$A$30,1,FALSE) -> C07157 | G616: =VLOOKUP(($B616),CLIENTS!A$4:G$30,COLUMN(#REF!),FALSE) -> #REF!
A617: MODELE C | B617: C07157 | D617: 0 | E617: 814 | F617: =VLOOKUP(B617,CLIENTS!$A$5:$A$30,1,FALSE) -> C07157 | G617: =VLOOKUP(($B617),CLIENTS!A$4:G$30,COLUMN(B619),FALSE) -> I
A618: MODELE A | B618: C07349 | D618: 0 | E618: 1755 | F618: =VLOOKUP(B618,CLIENTS!$A$5:$A$30,1,FALSE) -> #N/A | G618: =VLOOKUP(($B618),CLIENTS!A$4:G$30,COLUMN(B620),FALSE) -> #N/A
A619: MODELE B | B619: C07349 | D619: 0 | E619: 1150 | F619: =VLOOKUP(B619,CLIENTS!$A$5:$A$30,1,FALSE) -> #N/A | G619: =VLOOKUP(($B619),CLIENTS!A$4:G$30,COLUMN(#REF!),FALSE) -> #REF!
A620: MODELE C | B620: C07349 | D620: 0 | E620: 840 | F620: =VLOOKUP(B620,CLIENTS!$A$5:$A$30,1,FALSE) -> #N/A | G620: =VLOOKUP(($B620),CLIENTS!A$4:G$30,COLUMN(B622),FALSE) -> #N/A
A621: MODELE A | B621: C07382 | D621: 0 | E621: 1686 | F621: =VLOOKUP(B621,CLIENTS!$A$5:$A$30,1,FALSE) -> #N/A | G621: =VLOOKUP(($B621),CLIENTS!A$4:G$30,COLUMN(B623),FALSE) -> #N/A
A622: MODELE C | B622: C07382 | D622: 0 | E622: 840 | F622: =VLOOKUP(B622,CLIENTS!$A$5:$A$30,1,FALSE) -> #N/A | G622: =VLOOKUP(($B622),CLIENTS!A$4:G$30,COLUMN(B624),FALSE) -> #N/A
...

Sheet CLIENTS
A1: LISTE DES REVENDEURS
A4: client | B4: NOMS | C4: tarifs | D4: MODELE A | E4: MODELE A 2020 | F4: MODELE B | G4: MODELE B 2020 | H4: MODELE C | I4: MODELE C 2020
A5: C01125 | B5: A | C5: 1 | D5: 1499 | E5: 1537 | F5: 1130 | G5: 1159 | H5: 1130 | I5: 1159
A6: C17911 | B6: B | C6: 1 | D6: 1499 | E6: 1537 | F6: 1130 | G6: 1159 | H6: 1130 | I6: 1159
A7: C04198 | B7: C | C7: 1 | D7: 1499 | E7: 1537 | F7: 1130 | G7: 1159 | H7: 1130 | I7: 1159
A8: C08098 | B8: D | C8: 2 | D8: 1647 | E8: 1688.175 | F8: 1150 | G8: 1179 | H8: 1150 | I8: 1179
A9: C25070 | B9: E | C9: 2 | D9: 1550 | E9: 1589 | F9: 1130 | G9: 1159 | H9: 1130 | I9: 1159
A10: C11489 | B10: F | C10: 2 | D10: 1627 | E10: 1668 | F10: 1130 | G10: 1159 | H10: 1130 | I10: 1159
A11: C09334 | B11: G | C11: 2 | D11: 1647 | E11: 1688.175 | F11: 1130 | G11: 1159 | H11: 1130 | I11: 1159
A12: C06499 | B12: H | C12: 2 | D12: 1686 | E12: 1728.15 | F12: 1130 | G12: 1159 | H12: 1130 | I12: 1159
A13: C07157 | B13: I | C13: 2 | D13: 1585 | E13: 1625 | F13: 1130 | G13: 1159 | H13: 1130 | I13: 1159
A14: C00127 | B14: J | C14: 2 | D14: 1627 | E14: 1668 | F14: 1130 | G14: 1159 | H14: 1130 | I14: 1159
A15: C02994 | B15: K | C15: 2 | D15: 1585 | E15: 1625 | F15: 1130 | G15: 1159 | H15: 1130 | I15: 1159
A16: C04484 | B16: L | C16: 2 | D16: 1499 | E16: 1537 | F16: 1130 | G16: 1159 | H16: 1130 | I16: 1159
... A30: C06124 | B30: Z | C30: 2 | D30: 1550 | E30: 1589 | F30: 1130 | G30: 1159 | H30: 1130 | I30: 1159
