Workbook

Sheet BASE DE DONNEES A MAJ
A1: je voudrais quand il y a une correspondance client, mettre en colonne H et I les deux prix du modèle A qui sont dans le 2ème onglet par client (sur la ligne qui correspond au modèle A du client)
A2: les deux prix du modèle B du 2ème onglet sur la ligne qui correspond au modèle B par client , etc
A3: j'ai déjà mis les correspondances en colonne F et G
B4: Client
A5: MODELE A | B5: C00004 | D5: 0 | E5: 1653 | F5: =VLOOKUP(B5,CLIENTS!$A$5:$A$30,1,FALSE) -> #N/A | G5: =VLOOKUP(($B5),CLIENTS!A$4:G$30,COLUMN(B7),FALSE) -> #N/A
A6: MODELE C | B6: C00004 | D6: 0 | E6: 792 | F6: =VLOOKUP(B6,CLIENTS!$A$5:$A$30,1,FALSE) -> #N/A | G6: =VLOOKUP(($B6),CLIENTS!A$4:G$30,COLUMN(B8),FALSE) -> #N/A
A7: MODELE A | B7: C00027 | D7: 0 | E7: 1612 | F7: =VLOOKUP(B7,CLIENTS!$A$5:$A$30,1,FALSE) -> #N/A | G7: =VLOOKUP(($B7),CLIENTS!A$4:G$30,COLUMN(B9),FALSE) -> #N/A
A8: MODELE B | B8: C00027 | D8: 0 | E8: 1056 | F8: =VLOOKUP(B8,CLIENTS!$A$5:$A$30,1,FALSE) -> #N/A | G8: =VLOOKUP(($B8),CLIENTS!A$4:G$30,COLUMN(B10),FALSE) -> #N/A
A9: MODELE C | B9: C00027 | D9: 0 | E9: 767 | F9: =VLOOKUP(B9,CLIENTS!$A$5:$A$30,1,FALSE) -> #N/A | G9: =VLOOKUP(($B9),CLIENTS!A$4:G$30,COLUMN(B11),FALSE) -> #N/A
A10: MODELE A | B10: C00056 | D10: 0 | E10: 1653 | F10: =VLOOKUP(B10,CLIENTS!$A$5:$A$30,1,FALSE) -> #N/A | G10: =VLOOKUP(($B10),CLIENTS!A$4:G$30,COLUMN(B12),FALSE) -> #N/A
A11: MODELE B | B11: C00056 | D11: 0 | E11: 1056 | F11: =VLOOKUP(B11,CLIENTS!$A$5:$A$30,1,FALSE) -> #N/A | G11: =VLOOKUP(($B11),CLIENTS!A$4:G$30,COLUMN(B13),FALSE) -> #N/A
A12: MODELE C | B12: C00056 | D12: 0 | E12: 767 | F12: =VLOOKUP(B12,CLIENTS!$A$5:$A$30,1,FALSE) -> #N/A | G12: =VLOOKUP(($B12),CLIENTS!A$4:G$30,COLUMN(B14),FALSE) -> #N/A
A13: MODELE A | B13: C00061 | D13: 0 | E13: 1564 | F13: =VLOOKUP(B13,CLIENTS!$A$5:$A$30,1,FALSE) -> #N/A | G13: =VLOOKUP(($B13),CLIENTS!A$4:G$30,COLUMN(B15),FALSE) -> #N/A
A14: MODELE B | B14: C00061 | D14: 0 | E14: 1024 | F14: =VLOOKUP(B14,CLIENTS!$A$5:$A$30,1,FALSE) -> #N/A | G14: =VLOOKUP(($B14),CLIENTS!A$4:G$30,COLUMN(B16),FALSE) -> #N/A
A15: MODELE C | B15: C00061 | D15: 0 | E15: 749 | F15: =VLOOKUP(B15,CLIENTS!$A$5:$A$30,1,FALSE) -> #N/A | G15: =VLOOKUP(($B15),CLIENTS!A$4:G$30,COLUMN(B17),FALSE) -> #N/A
A16: MODELE A | B16: C00062 | D16: 0 | E16: 1678 | F16: =VLOOKUP(B16,CLIENTS!$A$5:$A$30,1,FALSE) -> #N/A | G16: =VLOOKUP(($B16),CLIENTS!A$4:G$30,COLUMN(B18),FALSE) -> #N/A
... A34: MODELE A | B34: C00181 | D34: 0 | E34: 1686 | F34: =VLOOKUP(B34,CLIENTS!$A$5:$A$30,1,FALSE) -> #N/A | G34: =VLOOKUP(($B34),CLIENTS!A$4:G$30,COLUMN(B36),FALSE) -> #N/A
A35: MODELE B | B35: C00181 | C35: 1130 | D35: 0 | E35: 1130 | F35: =VLOOKUP(B35,CLIENTS!$A$5:$A$30,1,FALSE) -> #N/A | G35: =VLOOKUP(($B35),CLIENTS!A$4:G$30,COLUMN(B37),FALSE) -> #N/A
A36: MODELE C | B36: C00181 | D36: 0 | E36: 814 | F36: =VLOOKUP(B36,CLIENTS!$A$5:$A$30,1,FALSE) -> #N/A | G36: =VLOOKUP(($B36),CLIENTS!A$4:G$30,COLUMN(B38),FALSE) -> #N/A
A37: MODELE A | B37: C00185 | D37: 0 | E37: 1686 | F37: =VLOOKUP(B37,CLIENTS!$A$5:$A$30,1,FALSE) -> #N/A | G37: =VLOOKUP(($B37),CLIENTS!A$4:G$30,COLUMN(B39),FALSE) -> #N/A
A38: MODELE B | B38: C00185 | D38: 0 | E38: 1130 | F38: =VLOOKUP(B38,CLIENTS!$A$5:$A$30,1,FALSE) -> #N/A | G38: =VLOOKUP(($B38),CLIENTS!A$4:G$30,COLUMN(B40),FALSE) -> #N/A
A39: MODELE C | B39: C00185 | D39: 0 | E39: 814 | F39: =VLOOKUP(B39,CLIENTS!$A$5:$A$30,1,FALSE) -> #N/A | G39: =VLOOKUP(($B39),CLIENTS!A$4:G$30,COLUMN(B41),FALSE) -> #N/A
A40: MODELE A | B40: C00200 | D40: 0 | E40: 1710 | F40: =VLOOKUP(B40,CLIENTS!$A$5:$A$30,1,FALSE) -> #N/A | G40: =VLOOKUP(($B40),CLIENTS!A$4:G$30,COLUMN(B42),FALSE) -> #N/A
A41: MODELE B | B41: C00200 | D41: 0 | E41: 1150 | F41: =VLOOKUP(B41,CLIENTS!$A$5:$A$30,1,FALSE) -> #N/A | G41: =VLOOKUP(($B41),CLIENTS!A$4:G$30,COLUMN(B43),FALSE) -> #N/A
A42: MODELE C | B42: C00200 | D42: 0 | E42: 840 | F42: =VLOOKUP(B42,CLIENTS!$A$5:$A$30,1,FALSE) -> #N/A | G42: =VLOOKUP(($B42),CLIENTS!A$4:G$30,COLUMN(B44),FALSE) -> #N/A
A43: MODELE A | B43: C00210 | D43: 0 | E43: 1585 | F43: =VLOOKUP(B43,CLIENTS!$A$5:$A$30,1,FALSE) -> #N/A | G43: =VLOOKUP(($B43),CLIENTS!A$4:G$30,COLUMN(B45),FALSE) -> #N/A
A44: MODELE B | B44: C00210 | D44: 0 | E44: 1130 | F44: =VLOOKUP(B44,CLIENTS!$A$5:$A$30,1,FALSE) -> #N/A | G44: =VLOOKUP(($B44),CLIENTS!A$4:G$30,COLUMN(B46),FALSE) -> #N/A
A45: MODELE C | B45: C00210 | D45: 0 | E45: 814 | F45: =VLOOKUP(B45,CLIENTS!$A$5:$A$30,1,FALSE) -> #N/A | G45: =VLOOKUP(($B45),CLIENTS!A$4:G$30,COLUMN(B47),FALSE) -> #N/A
A46: MODELE A | B46: C00223 | D46: 0 | E46: 1608 | F46: =VLOOKUP(B46,CLIENTS!$A$5:$A$30,1,FALSE) -> #N/A | G46: =VLOOKUP(($B46),CLIENTS!A$4:G$30,COLUMN(B48),FALSE) -> #N/A
A47: MODELE B | B47: C00223 | D47: 0 | E47: 1053 | F47: =VLOOKUP(B47,CLIENTS!$A$5:$A$30,1,FALSE) -> #N/A | G47: =VLOOKUP(($B47),CLIENTS!A$4:G$30,COLUMN(B49),FALSE) -> #N/A
... A309: MODELE C | B309: C03172 | D309: 0 | E309: 814 | F309: =VLOOKUP(B309,CLIENTS!$A$5:$A$30,1,FALSE) -> #N/A | G309: =VLOOKUP(($B309),CLIENTS!A$4:G$30,COLUMN(B311),FALSE) -> #N/A
A310: MODELE A | B310: C03173 | D310: 0 | E310: 1755 | F310: =VLOOKUP(B310,CLIENTS!$A$5:$A$30,1,FALSE) -> #N/A | G310: =VLOOKUP(($B310),CLIENTS!A$4:G$30,COLUMN(MODELE A),FALSE) -> #NAME?
A311: MODELE B | B311: C03173 | D311: 0 | E311: 1150 | F311: =VLOOKUP(B311,CLIENTS!$A$5:$A$30,1,FALSE) -> #N/A | G311: =VLOOKUP(($B311),CLIENTS!A$4:G$30,COLUMN(B313),FALSE) -> #N/A
A312: MODELE C | B312: C03173 | D312: 0 | E312: 840 | F312: =VLOOKUP(B312,CLIENTS!$A$5:$A$30,1,FALSE) -> #N/A | G312: =VLOOKUP(($B312),CLIENTS!A$4:G$30,COLUMN(B314),FALSE) -> #N/A
A313: MODELE A | B313: C03200 | D313: 0 | E313: 1653 | F313: =VLOOKUP(B313,CLIENTS!$A$5:$A$30,1,FALSE) -> #N/A | G313: =VLOOKUP(($B313),CLIENTS!A$4:G$30,COLUMN(B315),FALSE) -> #N/A
A314: MODELE B | B314: C03200 | D314: 0 | E314: 1056 | F314: =VLOOKUP(B314,CLIENTS!$A$5:$A$30,1,FALSE) -> #N/A | G314: =VLOOKUP(($B314),CLIENTS!A$4:G$30,COLUMN(B316),FALSE) -> #N/A
A315: MODELE C | B315: C03200 | D315: 0 | E315: 767 | F315: =VLOOKUP(B315,CLIENTS!$A$5:$A$30,1,FALSE) -> #N/A | G315: =VLOOKUP(($B315),CLIENTS!A$4:G$30,COLUMN(B317),FALSE) -> #N/A
A316: MODELE A | B316: C03258 | D316: 0 | E316: 1710 | F316: =VLOOKUP(MODELE A,CLIENTS!$A$5:$A$30,1,FALSE) -> #NAME? | G316: =VLOOKUP(($B316),CLIENTS!A$4:G$30,COLUMN(B318),FALSE) -> #N/A
A317: MODELE B | B317: C03258 | D317: 0 | E317: 1130 | F317: =VLOOKUP(B317,CLIENTS!$A$5:$A$30,1,FALSE) -> #N/A | G317: =VLOOKUP(($B317),CLIENTS!A$4:G$30,COLUMN(B319),FALSE) -> #N/A
A318: MODELE C | B318: C03258 | D318: 0 | E318: 814 | F318: =VLOOKUP(B318,CLIENTS!$A$5:$A$30,1,FALSE) -> #N/A | G318: =VLOOKUP(($B318),CLIENTS!A$4:G$30,COLUMN(B320),FALSE) -> #N/A
...

Sheet CLIENTS
A1: LISTE DES REVENDEURS
A4: client | B4: NOMS | C4: tarifs | D4: MODELE A | E4: MODELE A 2020 | F4: MODELE B | G4: MODELE B 2020 | H4: MODELE C | I4: MODELE C 2020
A5: C01125 | B5: A | C5: 1 | D5: 1499 | E5: 1537 | F5: 1130 | G5: 1159 | H5: 1130 | I5: 1159
A6: C17911 | B6: B | C6: 1 | D6: 1499 | E6: 1537 | F6: 1130 | G6: 1159 | H6: 1130 | I6: 1159
A7: C04198 | B7: C | C7: 1 | D7: 1499 | E7: 1537 | F7: 1130 | G7: 1159 | H7: 1130 | I7: 1159
A8: C08098 | B8: D | C8: 2 | D8: 1647 | E8: 1688.175 | F8: 1150 | G8: 1179 | H8: 1150 | I8: 1179
A9: C25070 | B9: E | C9: 2 | D9: 1550 | E9: 1589 | F9: 1130 | G9: 1159 | H9: 1130 | I9: 1159
A10: C11489 | B10: F | C10: 2 | D10: 1627 | E10: 1668 | F10: 1130 | G10: 1159 | H10: 1130 | I10: 1159
A11: C09334 | B11: G | C11: 2 | D11: 1647 | E11: 1688.175 | F11: 1130 | G11: 1159 | H11: 1130 | I11: 1159
A12: C06499 | B12: H | C12: 2 | D12: 1686 | E12: 1728.15 | F12: 1130 | G12: 1159 | H12: 1130 | I12: 1159
A13: C07157 | B13: I | C13: 2 | D13: 1585 | E13: 1625 | F13: 1130 | G13: 1159 | H13: 1130 | I13: 1159
A14: C00127 | B14: J | C14: 2 | D14: 1627 | E14: 1668 | F14: 1130 | G14: 1159 | H14: 1130 | I14: 1159
A15: C02994 | B15: K | C15: 2 | D15: 1585 | E15: 1625 | F15: 1130 | G15: 1159 | H15: 1130 | I15: 1159
A16: C04484 | B16: L | C16: 2 | D16: 1499 | E16: 1537 | F16: 1130 | G16: 1159 | H16: 1130 | I16: 1159
... A30: C06124 | B30: Z | C30: 2 | D30: 1550 | E30: 1589 | F30: 1130 | G30: 1159 | H30: 1130 | I30: 1159
