Workbook

Sheet 1
A1: SEMAINE | B1: USINE | C1: COMMANDE | D1: COOP | E1: SILO | F1: PA | G1: PT | H1: ECART PA vs Réception | I1: VARIETE | J1: LEGENDE :
A2: 3 | B2: VITRY | C2: ='1999'!E1 -> 4500018965 | D2: ='1999'!B1 -> GGG | E2: ='1999'!C1 -> ss | F2: ='1999'!A1 -> P00008545 | H2: =G3 | I2: ='1999'!D1 -> 44 | K2: PA à compléter par René (penser à renseigner également le n° de commande en titre d'onglet Excel)
C3: Moyenne des réceptions --> | G3: =IF(ISBLANK(G5),"",AVERAGE(G5:G54)) | H3: =IF(ISBLANK(H5),"",AVERAGE(H5:H54)) -> #DIV/0! | K3: ne rien saisir dans ces cases
E4: BON | F4: CAMION | G4: PT | K4: à remplir par le silo : analyse PT infratec à faire AVANT DECHARGEMENT
F5: Camion 1 | H5: =IF(ISBLANK(G5),"",$G$2-G5)
F6: Camion 2 | H6: =IF(ISBLANK(G6),"",$G$2-G6) | J6: 11
F7: Camion 3 | H7: =IF(ISBLANK(G7),"",$G$2-G7) | J7: 6
F8: Camion 4 | H8: =IF(ISBLANK(G8),"",$G$2-G8) | J8: 1 | K8: RAS
F9: Camion 5 | H9: =IF(ISBLANK(G9),"",$G$2-G9)
F10: Camion 6 | H10: =IF(ISBLANK(G10),"",$G$2-G10)
F11: Camion 7 | H11: =IF(ISBLANK(G11),"",$G$2-G11) | J11: Explication des feux :
F12: Camion 8 | H12: =IF(ISBLANK(G12),"",$G$2-G12) | J12: 11 | K12: >=10,8
F13: Camion 9 | H13: =IF(ISBLANK(G13),"",$G$2-G13) | J13: 6 | K13: entre 10,6 et 10,7
F14: Camion 10 | H14: =IF(ISBLANK(G14),"",$G$2-G14) | J14: 1 | K14: <=10,5
F15: Camion 11 | H15: =IF(ISBLANK(G15),"",$G$2-G15)
F16: Camion 12 | H16: =IF(ISBLANK(G16),"",$G$2-G16)
F17: Camion 13 | H17: =IF(ISBLANK(G17),"",$G$2-G17)
F18: Camion 14 | H18: =IF(ISBLANK(G18),"",$G$2-G18)
F19: Camion 15 | H19: =IF(ISBLANK(G19),"",$G$2-G19)
F20: Camion 16 | H20: =IF(ISBLANK(G20),"",$G$2-G20)
F21: Camion 17 | H21: =IF(ISBLANK(G21),"",$G$2-G21)
F22: Camion 18 | H22: =IF(ISBLANK(G22),"",$G$2-G22)
F23: Camion 19 | H23: =IF(ISBLANK(G23),"",$G$2-G23)
F24: Camion 20 | H24: =IF(ISBLANK(G24),"",$G$2-G24)
F25: Camion 21 | H25: =IF(ISBLANK(G25),"",$G$2-G25)
F26: Camion 22 | H26: =IF(ISBLANK(G26),"",$G$2-G26)
... F54: Camion 50 | H54: =IF(ISBLANK(G54),"",$G$2-G54)

Sheet 2
A1: SEMAINE | B1: USINE | C1: COMMANDE | D1: COOP | E1: SILO | F1: PA | G1: PT | H1: ECART PA vs Réception | I1: VARIETE | J1: LEGENDE :
A2: ='1'!A2 -> 3 | B2: ='1'!B2 -> VITRY | C2: ='1999'!E2 -> 4500018966 | D2: ='1999'!B2 -> BBB | E2: ='1999'!C2 -> dd | F2: ='1999'!A2 -> P00008546 | H2: =G3 | I2: ='1999'!D2 -> 77 | K2: à compléter par René (penser à renseigner également le n° de commande en titre d'onglet Excel)
C3: Moyenne des réceptions --> | G3: =IF(ISBLANK(G5),"",AVERAGE(G5:G54)) | H3: =IF(ISBLANK(G5),"",AVERAGE(H5:H54)) | K3: ne rien saisir dans ces cases
E4: BON | F4: CAMION | G4: PT | K4: à remplir par le silo : analyse PT infratec à faire AVANT DECHARGEMENT
F5: Camion 1 | H5: =IF(ISBLANK(G5),"",$G$2-G5)
F6: Camion 2 | H6: =IF(ISBLANK(G6),"",$G$2-G6) | J6: 11 | K6: Avertir René Gouet | N6: si René absent, appeler Hugues Gloton
F7: Camion 3 | H7: =IF(ISBLANK(G7),"",$G$2-G7) | J7: 6 | K7: si + de 3 camions, avertir René Gouet | N7: si René absent, appeler Hugues Gloton
F8: Camion 4 | H8: =IF(ISBLANK(G8),"",$G$2-G8) | J8: 1 | K8: RAS
F9: Camion 5 | H9: =IF(ISBLANK(G9),"",$G$2-G9)
F10: Camion 6 | H10: =IF(ISBLANK(G10),"",$G$2-G10)
F11: Camion 7 | H11: =IF(ISBLANK(G11),"",$G$2-G11) | J11: Explication des feux :
F12: Camion 8 | H12: =IF(ISBLANK(G12),"",$G$2-G12) | J12: 11 | K12: >=10,8
F13: Camion 9 | H13: =IF(ISBLANK(G13),"",$G$2-G13) | J13: 6 | K13: entre 10,6 et 10,7
F14: Camion 10 | H14: =IF(ISBLANK(G14),"",$G$2-G14) | J14: 1 | K14: <=10,5
F15: Camion 11 | H15: =IF(ISBLANK(G15),"",$G$2-G15)
F16: Camion 12 | H16: =IF(ISBLANK(G16),"",$G$2-G16)
F17: Camion 13 | H17: =IF(ISBLANK(G17),"",$G$2-G17)
F18: Camion 14 | H18: =IF(ISBLANK(G18),"",$G$2-G18)
F19: Camion 15 | H19: =IF(ISBLANK(G19),"",$G$2-G19)
F20: Camion 16 | H20: =IF(ISBLANK(G20),"",$G$2-G20)
F21: Camion 17 | H21: =IF(ISBLANK(G21),"",$G$2-G21)
F22: Camion 18 | H22: =IF(ISBLANK(G22),"",$G$2-G22)
F23: Camion 19 | H23: =IF(ISBLANK(G23),"",$G$2-G23)
F24: Camion 20 | H24: =IF(ISBLANK(G24),"",$G$2-G24)
F25: Camion 21 | H25: =IF(ISBLANK(G25),"",$G$2-G25)
F26: Camion 22 | H26: =IF(ISBLANK(G26),"",$G$2-G26)
... F54: Camion 50 | H54: =IF(ISBLANK(G54),"",$G$2-G54)

Sheet 3
A1: SEMAINE | B1: USINE | C1: COMMANDE | D1: COOP | E1: SILO | F1: PA | G1: PT | H1: ECART PA vs Réception | I1: VARIETE | J1: LEGENDE :
A2: ='1'!A2 -> 3 | B2: ='1'!B2 -> VITRY | C2: ='1999'!E3 -> 4500018967 | D2: ='1999'!B3 -> NNN | E2: ='1999'!C3 -> ff | F2: ='1999'!A3 -> P00008547 | H2: =G3 | I2: ='1999'!D3 -> 88 | K2: à compléter par René (penser à renseigner également le n° de commande en titre d'onglet Excel)
C3: Moyenne des réceptions --> | G3: =IF(ISBLANK(G5),"",AVERAGE(G5:G54)) | H3: =IF(ISBLANK(G5),"",AVERAGE(H5:H54)) | K3: ne rien saisir dans ces cases
E4: BON | F4: CAMION | G4: PT | K4: à remplir par le silo : analyse PT infratec à faire AVANT DECHARGEMENT
F5: Camion 1 | H5: =IF(ISBLANK(G5),"",$G$2-G5)
F6: Camion 2 | H6: =IF(ISBLANK(G6),"",$G$2-G6) | J6: 11 | K6: Avertir René Gouet | N6: si René absent, appeler Hugues Gloton
F7: Camion 3 | H7: =IF(ISBLANK(G7),"",$G$2-G7) | J7: 6 | K7: si + de 3 camions, avertir René Gouet | N7: si René absent, appeler Hugues Gloton
F8: Camion 4 | H8: =IF(ISBLANK(G8),"",$G$2-G8) | J8: 1 | K8: RAS
F9: Camion 5 | H9: =IF(ISBLANK(G9),"",$G$2-G9)
F10: Camion 6 | H10: =IF(ISBLANK(G10),"",$G$2-G10)
F11: Camion 7 | H11: =IF(ISBLANK(G11),"",$G$2-G11) | J11: Explication des feux :
F12: Camion 8 | H12: =IF(ISBLANK(G12),"",$G$2-G12) | J12: 11 | K12: >=10,8
F13: Camion 9 | H13: =IF(ISBLANK(G13),"",$G$2-G13) | J13: 6 | K13: entre 10,6 et 10,7
F14: Camion 10 | H14: =IF(ISBLANK(G14),"",$G$2-G14) | J14: 1 | K14: <=10,5
F15: Camion 11 | H15: =IF(ISBLANK(G15),"",$G$2-G15)
F16: Camion 12 | H16: =IF(ISBLANK(G16),"",$G$2-G16)
F17: Camion 13 | H17: =IF(ISBLANK(G17),"",$G$2-G17)
F18: Camion 14 | H18: =IF(ISBLANK(G18),"",$G$2-G18)
F19: Camion 15 | H19: =IF(ISBLANK(G19),"",$G$2-G19)
F20: Camion 16 | H20: =IF(ISBLANK(G20),"",$G$2-G20)
F21: Camion 17 | H21: =IF(ISBLANK(G21),"",$G$2-G21)
F22: Camion 18 | H22: =IF(ISBLANK(G22),"",$G$2-G22)
F23: Camion 19 | H23: =IF(ISBLANK(G23),"",$G$2-G23)
F24: Camion 20 | H24: =IF(ISBLANK(G24),"",$G$2-G24)
F25: Camion 21 | H25: =IF(ISBLANK(G25),"",$G$2-G25)
F26: Camion 22 | H26: =IF(ISBLANK(G26),"",$G$2-G26)
... F54: Camion 50 | H54: =IF(ISBLANK(G54),"",$G$2-G54)

Sheet 4
A1: SEMAINE | B1: USINE | C1: COMMANDE | D1: COOP | E1: SILO | F1: PA | G1: PT | H1: ECART PA vs Réception | I1: VARIETE | J1: LEGENDE :
A2: ='1'!A2 -> 3 | B2: ='1'!B2 -> VITRY | C2: ='1999'!E4 -> 4500018968 | D2: ='1999'!B4 -> KKK | E2: ='1999'!C4 -> gg | F2: ='1999'!A4 -> P00008548 | H2: =G3 | I2: ='1999'!D4 -> 99 | K2: à compléter par René (penser à renseigner également le n° de commande en titre d'onglet Excel)
C3: Moyenne des réceptions --> | G3: =IF(ISBLANK(G5),"",AVERAGE(G5:G54)) | H3: =IF(ISBLANK(G5),"",AVERAGE(H5:H54)) | K3: ne rien saisir dans ces cases
E4: BON | F4: CAMION | G4: PT | K4: à remplir par le silo : analyse PT infratec à faire AVANT DECHARGEMENT
F5: Camion 1 | H5: =IF(ISBLANK(G5),"",$G$2-G5)
F6: Camion 2 | H6: =IF(ISBLANK(G6),"",$G$2-G6) | J6: 11 | K6: Avertir René Gouet | N6: si René absent, appeler Hugues Gloton
F7: Camion 3 | H7: =IF(ISBLANK(G7),"",$G$2-G7) | J7: 6 | K7: si + de 3 camions, avertir René Gouet | N7: si René absent, appeler Hugues Gloton
F8: Camion 4 | H8: =IF(ISBLANK(G8),"",$G$2-G8) | J8: 1 | K8: RAS
F9: Camion 5 | H9: =IF(ISBLANK(G9),"",$G$2-G9)
F10: Camion 6 | H10: =IF(ISBLANK(G10),"",$G$2-G10)
F11: Camion 7 | H11: =IF(ISBLANK(G11),"",$G$2-G11) | J11: Explication des feux :
F12: Camion 8 | H12: =IF(ISBLANK(G12),"",$G$2-G12) | J12: 11 | K12: >=10,8
F13: Camion 9 | H13: =IF(ISBLANK(G13),"",$G$2-G13) | J13: 6 | K13: entre 10,6 et 10,7
F14: Camion 10 | H14: =IF(ISBLANK(G14),"",$G$2-G14) | J14: 1 | K14: <=10,5
F15: Camion 11 | H15: =IF(ISBLANK(G15),"",$G$2-G15)
F16: Camion 12 | H16: =IF(ISBLANK(G16),"",$G$2-G16)
F17: Camion 13 | H17: =IF(ISBLANK(G17),"",$G$2-G17)
F18: Camion 14 | H18: =IF(ISBLANK(G18),"",$G$2-G18)
F19: Camion 15 | H19: =IF(ISBLANK(G19),"",$G$2-G19)
F20: Camion 16 | H20: =IF(ISBLANK(G20),"",$G$2-G20)
F21: Camion 17 | H21: =IF(ISBLANK(G21),"",$G$2-G21)
F22: Camion 18 | H22: =IF(ISBLANK(G22),"",$G$2-G22)
F23: Camion 19 | H23: =IF(ISBLANK(G23),"",$G$2-G23)
F24: Camion 20 | H24: =IF(ISBLANK(G24),"",$G$2-G24)
F25: Camion 21 | H25: =IF(ISBLANK(G25),"",$G$2-G25)
F26: Camion 22 | H26: =IF(ISBLANK(G26),"",$G$2-G26)
... F54: Camion 50 | H54: =IF(ISBLANK(G54),"",$G$2-G54)

Sheet 5
A1: SEMAINE | B1: USINE | C1: COMMANDE | D1: COOP | E1: SILO | F1: PA | G1: PT | H1: ECART PA vs Réception | I1: VARIETE | J1: LEGENDE :
A2: ='1'!A2 -> 3 | B2: ='1'!B2 -> VITRY | C2: ='1999'!E5 -> 4500018969 | D2: ='1999'!B5 -> MMM | E2: ='1999'!C5 -> hh | F2: ='1999'!A5 -> P00008549 | H2: =G3 | I2: ='1999'!D5 -> 66 | K2: à compléter par René (penser à renseigner également le n° de commande en titre d'onglet Excel)
C3: Moyenne des réceptions --> | G3: =IF(ISBLANK(G5),"",AVERAGE(G5:G54)) | H3: =IF(ISBLANK(G5),"",AVERAGE(H5:H54)) | K3: ne rien saisir dans ces cases
E4: BON | F4: CAMION | G4: PT | K4: à remplir par le silo : analyse PT infratec à faire AVANT DECHARGEMENT
F5: Camion 1 | H5: =IF(ISBLANK(G5),"",$G$2-G5)
F6: Camion 2 | H6: =IF(ISBLANK(G6),"",$G$2-G6) | J6: 11 | K6: Avertir René Gouet | N6: si René absent, appeler Hugues Gloton
F7: Camion 3 | H7: =IF(ISBLANK(G7),"",$G$2-G7) | J7: 6 | K7: si + de 3 camions, avertir René Gouet | N7: si René absent, appeler Hugues Gloton
F8: Camion 4 | H8: =IF(ISBLANK(G8),"",$G$2-G8) | J8: 1 | K8: RAS
F9: Camion 5 | H9: =IF(ISBLANK(G9),"",$G$2-G9)
F10: Camion 6 | H10: =IF(ISBLANK(G10),"",$G$2-G10)
F11: Camion 7 | H11: =IF(ISBLANK(G11),"",$G$2-G11) | J11: Explication des feux :
F12: Camion 8 | H12: =IF(ISBLANK(G12),"",$G$2-G12) | J12: 11 | K12: >=10,8
F13: Camion 9 | H13: =IF(ISBLANK(G13),"",$G$2-G13) | J13: 6 | K13: entre 10,6 et 10,7
F14: Camion 10 | H14: =IF(ISBLANK(G14),"",$G$2-G14) | J14: 1 | K14: <=10,5
F15: Camion 11 | H15: =IF(ISBLANK(G15),"",$G$2-G15)
F16: Camion 12 | H16: =IF(ISBLANK(G16),"",$G$2-G16)
F17: Camion 13 | H17: =IF(ISBLANK(G17),"",$G$2-G17)
F18: Camion 14 | H18: =IF(ISBLANK(G18),"",$G$2-G18)
F19: Camion 15 | H19: =IF(ISBLANK(G19),"",$G$2-G19)
F20: Camion 16 | H20: =IF(ISBLANK(G20),"",$G$2-G20)
F21: Camion 17 | H21: =IF(ISBLANK(G21),"",$G$2-G21)
F22: Camion 18 | H22: =IF(ISBLANK(G22),"",$G$2-G22)
F23: Camion 19 | H23: =IF(ISBLANK(G23),"",$G$2-G23)
F24: Camion 20 | H24: =IF(ISBLANK(G24),"",$G$2-G24)
F25: Camion 21 | H25: =IF(ISBLANK(G25),"",$G$2-G25)
F26: Camion 22 | H26: =IF(ISBLANK(G26),"",$G$2-G26)
... F54: Camion 50 | H54: =IF(ISBLANK(G54),"",$G$2-G54)

Sheet 6
A1: SEMAINE | B1: USINE | C1: COMMANDE | D1: COOP | E1: SILO | F1: PA | G1: PT | H1: ECART PA vs Réception | I1: VARIETE | J1: LEGENDE :
A2: ='1'!A2 -> 3 | B2: ='1'!B2 -> VITRY | C2: ='1999'!E6 -> 4500018970 | D2: ='1999'!B6 -> TTT | E2: ='1999'!C6 -> jj | F2: ='1999'!A6 -> P00008550 | H2: =G3 | I2: ='1999'!D6 -> 33 | K2: à compléter par René (penser à renseigner également le n° de commande en titre d'onglet Excel)
C3: Moyenne des réceptions --> | G3: =IF(ISBLANK(G5),"",AVERAGE(G5:G54)) | H3: =IF(ISBLANK(G5),"",AVERAGE(H5:H54)) | K3: ne rien saisir dans ces cases
E4: BON | F4: CAMION | G4: PT | K4: à remplir par le silo : analyse PT infratec à faire AVANT DECHARGEMENT
F5: Camion 1 | H5: =IF(ISBLANK(G5),"",$G$2-G5)
F6: Camion 2 | H6: =IF(ISBLANK(G6),"",$G$2-G6) | J6: 11 | K6: Avertir René Gouet | N6: si René absent, appeler Hugues Gloton
F7: Camion 3 | H7: =IF(ISBLANK(G7),"",$G$2-G7) | J7: 6 | K7: si + de 3 camions, avertir René Gouet | N7: si René absent, appeler Hugues Gloton
F8: Camion 4 | H8: =IF(ISBLANK(G8),"",$G$2-G8) | J8: 1 | K8: RAS
F9: Camion 5 | H9: =IF(ISBLANK(G9),"",$G$2-G9)
F10: Camion 6 | H10: =IF(ISBLANK(G10),"",$G$2-G10)
F11: Camion 7 | H11: =IF(ISBLANK(G11),"",$G$2-G11) | J11: Explication des feux :
F12: Camion 8 | H12: =IF(ISBLANK(G12),"",$G$2-G12) | J12: 11 | K12: >=10,8
F13: Camion 9 | H13: =IF(ISBLANK(G13),"",$G$2-G13) | J13: 6 | K13: entre 10,6 et 10,7
F14: Camion 10 | H14: =IF(ISBLANK(G14),"",$G$2-G14) | J14: 1 | K14: <=10,5
F15: Camion 11 | H15: =IF(ISBLANK(G15),"",$G$2-G15)
F16: Camion 12 | H16: =IF(ISBLANK(G16),"",$G$2-G16)
F17: Camion 13 | H17: =IF(ISBLANK(G17),"",$G$2-G17)
F18: Camion 14 | H18: =IF(ISBLANK(G18),"",$G$2-G18)
F19: Camion 15 | H19: =IF(ISBLANK(G19),"",$G$2-G19)
F20: Camion 16 | H20: =IF(ISBLANK(G20),"",$G$2-G20)
F21: Camion 17 | H21: =IF(ISBLANK(G21),"",$G$2-G21)
F22: Camion 18 | H22: =IF(ISBLANK(G22),"",$G$2-G22)
F23: Camion 19 | H23: =IF(ISBLANK(G23),"",$G$2-G23)
F24: Camion 20 | H24: =IF(ISBLANK(G24),"",$G$2-G24)
F25: Camion 21 | H25: =IF(ISBLANK(G25),"",$G$2-G25)
F26: Camion 22 | H26: =IF(ISBLANK(G26),"",$G$2-G26)
... F54: Camion 50 | H54: =IF(ISBLANK(G54),"",$G$2-G54)

Sheet 7
A1: SEMAINE | B1: USINE | C1: COMMANDE | D1: COOP | E1: SILO | F1: PA | G1: PT | H1: ECART PA vs Réception | I1: VARIETE | J1: LEGENDE :
A2: ='1'!A2 -> 3 | B2: ='1'!B2 -> VITRY | C2: ='1999'!E7 -> 4500018971 | D2: ='1999'!B7 -> EEE | E2: ='1999'!C7 -> kk | F2: ='1999'!A7 -> P00008551 | H2: =G3 | I2: ='1999'!D7 -> 22 | K2: à compléter par René (penser à renseigner également le n° de commande en titre d'onglet Excel)
C3: Moyenne des réceptions --> | G3: =IF(ISBLANK(G5),"",AVERAGE(G5:G54)) | H3: =IF(ISBLANK(G5),"",AVERAGE(H5:H54)) | K3: ne rien saisir dans ces cases
E4: BON | F4: CAMION | G4: PT | K4: à remplir par le silo : analyse PT infratec à faire AVANT DECHARGEMENT
F5: Camion 1 | H5: =IF(ISBLANK(G5),"",$G$2-G5)
F6: Camion 2 | H6: =IF(ISBLANK(G6),"",$G$2-G6) | J6: 11 | K6: Avertir René Gouet | N6: si René absent, appeler Hugues Gloton
F7: Camion 3 | H7: =IF(ISBLANK(G7),"",$G$2-G7) | J7: 6 | K7: si + de 3 camions, avertir René Gouet | N7: si René absent, appeler Hugues Gloton
F8: Camion 4 | H8: =IF(ISBLANK(G8),"",$G$2-G8) | J8: 1 | K8: RAS
F9: Camion 5 | H9: =IF(ISBLANK(G9),"",$G$2-G9)
F10: Camion 6 | H10: =IF(ISBLANK(G10),"",$G$2-G10)
F11: Camion 7 | H11: =IF(ISBLANK(G11),"",$G$2-G11) | J11: Explication des feux :
F12: Camion 8 | H12: =IF(ISBLANK(G12),"",$G$2-G12) | J12: 11 | K12: >=10,8
F13: Camion 9 | H13: =IF(ISBLANK(G13),"",$G$2-G13) | J13: 6 | K13: entre 10,6 et 10,7
F14: Camion 10 | H14: =IF(ISBLANK(G14),"",$G$2-G14) | J14: 1 | K14: <=10,5
F15: Camion 11 | H15: =IF(ISBLANK(G15),"",$G$2-G15)
F16: Camion 12 | H16: =IF(ISBLANK(G16),"",$G$2-G16)
F17: Camion 13 | H17: =IF(ISBLANK(G17),"",$G$2-G17)
F18: Camion 14 | H18: =IF(ISBLANK(G18),"",$G$2-G18)
F19: Camion 15 | H19: =IF(ISBLANK(G19),"",$G$2-G19)
F20: Camion 16 | H20: =IF(ISBLANK(G20),"",$G$2-G20)
F21: Camion 17 | H21: =IF(ISBLANK(G21),"",$G$2-G21)
F22: Camion 18 | H22: =IF(ISBLANK(G22),"",$G$2-G22)
F23: Camion 19 | H23: =IF(ISBLANK(G23),"",$G$2-G23)
F24: Camion 20 | H24: =IF(ISBLANK(G24),"",$G$2-G24)
F25: Camion 21 | H25: =IF(ISBLANK(G25),"",$G$2-G25)
F26: Camion 22 | H26: =IF(ISBLANK(G26),"",$G$2-G26)
... F54: Camion 50 | H54: =IF(ISBLANK(G54),"",$G$2-G54)

Sheet 8
A1: SEMAINE | B1: USINE | C1: COMMANDE | D1: COOP | E1: SILO | F1: PA | G1: PT | H1: ECART PA vs Réception | I1: VARIETE | J1: LEGENDE :
A2: ='1'!A2 -> 3 | B2: ='1'!B2 -> VITRY | C2: ='1999'!E8 -> 4500018972 | D2: ='1999'!B8 -> PPP | E2: ='1999'!C8 -> ll | F2: ='1999'!A8 -> P00008552 | H2: =G3 | I2: ='1999'!D8 -> 55 | K2: à compléter par René (penser à renseigner également le n° de commande en titre d'onglet Excel)
C3: Moyenne des réceptions --> | G3: =IF(ISBLANK(G5),"",AVERAGE(G5:G54)) | H3: =IF(ISBLANK(G5),"",AVERAGE(H5:H54)) | K3: ne rien saisir dans ces cases
E4: BON | F4: CAMION | G4: PT | K4: à remplir par le silo : analyse PT infratec à faire AVANT DECHARGEMENT
F5: Camion 1 | H5: =IF(ISBLANK(G5),"",$G$2-G5)
F6: Camion 2 | H6: =IF(ISBLANK(G6),"",$G$2-G6) | J6: 11 | K6: Avertir René Gouet | N6: si René absent, appeler Hugues Gloton
F7: Camion 3 | H7: =IF(ISBLANK(G7),"",$G$2-G7) | J7: 6 | K7: si + de 3 camions, avertir René Gouet | N7: si René absent, appeler Hugues Gloton
F8: Camion 4 | H8: =IF(ISBLANK(G8),"",$G$2-G8) | J8: 1 | K8: RAS
F9: Camion 5 | H9: =IF(ISBLANK(G9),"",$G$2-G9)
F10: Camion 6 | H10: =IF(ISBLANK(G10),"",$G$2-G10)
F11: Camion 7 | H11: =IF(ISBLANK(G11),"",$G$2-G11) | J11: Explication des feux :
F12: Camion 8 | H12: =IF(ISBLANK(G12),"",$G$2-G12) | J12: 11 | K12: >=10,8
F13: Camion 9 | H13: =IF(ISBLANK(G13),"",$G$2-G13) | J13: 6 | K13: entre 10,6 et 10,7
F14: Camion 10 | H14: =IF(ISBLANK(G14),"",$G$2-G14) | J14: 1 | K14: <=10,5
F15: Camion 11 | H15: =IF(ISBLANK(G15),"",$G$2-G15)
F16: Camion 12 | H16: =IF(ISBLANK(G16),"",$G$2-G16)
F17: Camion 13 | H17: =IF(ISBLANK(G17),"",$G$2-G17)
F18: Camion 14 | H18: =IF(ISBLANK(G18),"",$G$2-G18)
F19: Camion 15 | H19: =IF(ISBLANK(G19),"",$G$2-G19)
F20: Camion 16 | H20: =IF(ISBLANK(G20),"",$G$2-G20)
F21: Camion 17 | H21: =IF(ISBLANK(G21),"",$G$2-G21)
F22: Camion 18 | H22: =IF(ISBLANK(G22),"",$G$2-G22)
F23: Camion 19 | H23: =IF(ISBLANK(G23),"",$G$2-G23)
F24: Camion 20 | H24: =IF(ISBLANK(G24),"",$G$2-G24)
F25: Camion 21 | H25: =IF(ISBLANK(G25),"",$G$2-G25)
F26: Camion 22 | H26: =IF(ISBLANK(G26),"",$G$2-G26)
... F54: Camion 50 | H54: =IF(ISBLANK(G54),"",$G$2-G54)

Sheet 9
A1: SEMAINE | B1: USINE | C1: COMMANDE | D1: COOP | E1: SILO | F1: PA | G1: PT | H1: ECART PA vs Réception | I1: VARIETE | J1: LEGENDE :
A2: ='1'!A2 -> 3 | B2: ='1'!B2 -> VITRY | C2: ='1999'!E9 -> 4500018973 | D2: ='1999'!B9 -> JJJ | E2: ='1999'!C9 -> mm | F2: ='1999'!A9 -> P00008553 | H2: =G3 | I2: ='1999'!D9 -> 88 | K2: à compléter par René (penser à renseigner également le n° de commande en titre d'onglet Excel)
C3: Moyenne des réceptions --> | G3: =IF(ISBLANK(G5),"",AVERAGE(G5:G54)) | H3: =IF(ISBLANK(G5),"",AVERAGE(H5:H54)) | K3: ne rien saisir dans ces cases
E4: BON | F4: CAMION | G4: PT | K4: à remplir par le silo : analyse PT infratec à faire AVANT DECHARGEMENT
F5: Camion 1 | H5: =IF(ISBLANK(G5),"",$G$2-G5)
F6: Camion 2 | H6: =IF(ISBLANK(G6),"",$G$2-G6) | J6: 11 | K6: Avertir René Gouet | N6: si René absent, appeler Hugues Gloton
F7: Camion 3 | H7: =IF(ISBLANK(G7),"",$G$2-G7) | J7: 6 | K7: si + de 3 camions, avertir René Gouet | N7: si René absent, appeler Hugues Gloton
F8: Camion 4 | H8: =IF(ISBLANK(G8),"",$G$2-G8) | J8: 1 | K8: RAS
F9: Camion 5 | H9: =IF(ISBLANK(G9),"",$G$2-G9)
F10: Camion 6 | H10: =IF(ISBLANK(G10),"",$G$2-G10)
F11: Camion 7 | H11: =IF(ISBLANK(G11),"",$G$2-G11) | J11: Explication des feux :
F12: Camion 8 | H12: =IF(ISBLANK(G12),"",$G$2-G12) | J12: 11 | K12: >=10,8
F13: Camion 9 | H13: =IF(ISBLANK(G13),"",$G$2-G13) | J13: 6 | K13: entre 10,6 et 10,7
F14: Camion 10 | H14: =IF(ISBLANK(G14),"",$G$2-G14) | J14: 1 | K14: <=10,5
F15: Camion 11 | H15: =IF(ISBLANK(G15),"",$G$2-G15)
F16: Camion 12 | H16: =IF(ISBLANK(G16),"",$G$2-G16)
F17: Camion 13 | H17: =IF(ISBLANK(G17),"",$G$2-G17)
F18: Camion 14 | H18: =IF(ISBLANK(G18),"",$G$2-G18)
F19: Camion 15 | H19: =IF(ISBLANK(G19),"",$G$2-G19)
F20: Camion 16 | H20: =IF(ISBLANK(G20),"",$G$2-G20)
F21: Camion 17 | H21: =IF(ISBLANK(G21),"",$G$2-G21)
F22: Camion 18 | H22: =IF(ISBLANK(G22),"",$G$2-G22)
F23: Camion 19 | H23: =IF(ISBLANK(G23),"",$G$2-G23)
F24: Camion 20 | H24: =IF(ISBLANK(G24),"",$G$2-G24)
F25: Camion 21 | H25: =IF(ISBLANK(G25),"",$G$2-G25)
F26: Camion 22 | H26: =IF(ISBLANK(G26),"",$G$2-G26)
... F54: Camion 50 | H54: =IF(ISBLANK(G54),"",$G$2-G54)

Sheet 10
A1: SEMAINE | B1: USINE | C1: COMMANDE | D1: COOP | E1: SILO | F1: PA | G1: PT | H1: ECART PA vs Réception | I1: VARIETE | J1: LEGENDE :
A2: ='1'!A2 -> 3 | B2: ='1'!B2 -> VITRY | C2: ='1999'!E10 -> 4500018974 | D2: ='1999'!B10 -> DDD | E2: ='1999'!C10 -> zz | F2: ='1999'!A10 -> P00008554 | H2: =G3 | I2: ='1999'!D10 -> 44 | K2: à compléter par René (penser à renseigner également le n° de commande en titre d'onglet Excel)
C3: Moyenne des réceptions --> | G3: =IF(ISBLANK(G5),"",AVERAGE(G5:G54)) | H3: =IF(ISBLANK(G5),"",AVERAGE(H5:H54)) | K3: ne rien saisir dans ces cases
E4: BON | F4: CAMION | G4: PT | K4: à remplir par le silo : analyse PT infratec à faire AVANT DECHARGEMENT
F5: Camion 1 | H5: =IF(ISBLANK(G5),"",$G$2-G5)
F6: Camion 2 | H6: =IF(ISBLANK(G6),"",$G$2-G6) | J6: 11 | K6: Avertir René Gouet | N6: si René absent, appeler Hugues Gloton
F7: Camion 3 | H7: =IF(ISBLANK(G7),"",$G$2-G7) | J7: 6 | K7: si + de 3 camions, avertir René Gouet | N7: si René absent, appeler Hugues Gloton
F8: Camion 4 | H8: =IF(ISBLANK(G8),"",$G$2-G8) | J8: 1 | K8: RAS
F9: Camion 5 | H9: =IF(ISBLANK(G9),"",$G$2-G9)
F10: Camion 6 | H10: =IF(ISBLANK(G10),"",$G$2-G10)
F11: Camion 7 | H11: =IF(ISBLANK(G11),"",$G$2-G11) | J11: Explication des feux :
F12: Camion 8 | H12: =IF(ISBLANK(G12),"",$G$2-G12) | J12: 11 | K12: >=10,8
F13: Camion 9 | H13: =IF(ISBLANK(G13),"",$G$2-G13) | J13: 6 | K13: entre 10,6 et 10,7
F14: Camion 10 | H14: =IF(ISBLANK(G14),"",$G$2-G14) | J14: 1 | K14: <=10,5
F15: Camion 11 | H15: =IF(ISBLANK(G15),"",$G$2-G15)
F16: Camion 12 | H16: =IF(ISBLANK(G16),"",$G$2-G16)
F17: Camion 13 | H17: =IF(ISBLANK(G17),"",$G$2-G17)
F18: Camion 14 | H18: =IF(ISBLANK(G18),"",$G$2-G18)
F19: Camion 15 | H19: =IF(ISBLANK(G19),"",$G$2-G19)
F20: Camion 16 | H20: =IF(ISBLANK(G20),"",$G$2-G20)
F21: Camion 17 | H21: =IF(ISBLANK(G21),"",$G$2-G21)
F22: Camion 18 | H22: =IF(ISBLANK(G22),"",$G$2-G22)
F23: Camion 19 | H23: =IF(ISBLANK(G23),"",$G$2-G23)
F24: Camion 20 | H24: =IF(ISBLANK(G24),"",$G$2-G24)
F25: Camion 21 | H25: =IF(ISBLANK(G25),"",$G$2-G25)
F26: Camion 22 | H26: =IF(ISBLANK(G26),"",$G$2-G26)
... F54: Camion 50 | H54: =IF(ISBLANK(G54),"",$G$2-G54)

Sheet 11
A1: SEMAINE | B1: USINE | C1: COMMANDE | D1: COOP | E1: SILO | F1: PA | G1: PT | H1: ECART PA vs Réception | I1: VARIETE | J1: LEGENDE :
A2: ='1'!A2 -> 3 | B2: ='1'!B2 -> VITRY | C2: ='1999'!E11 -> 4500018975 | D2: ='1999'!B11 -> ZZZ | E2: ='1999'!C11 -> rr | F2: ='1999'!A11 -> P00008555 | H2: =G3 | I2: ='1999'!D11 -> 11 | K2: à compléter par René (penser à renseigner également le n° de commande en titre d'onglet Excel)
C3: Moyenne des réceptions --> | G3: =IF(ISBLANK(G5),"",AVERAGE(G5:G54)) | H3: =IF(ISBLANK(G5),"",AVERAGE(H5:H54)) | K3: ne rien saisir dans ces cases
E4: BON | F4: CAMION | G4: PT | K4: à remplir par le silo : analyse PT infratec à faire AVANT DECHARGEMENT
F5: Camion 1 | H5: =IF(ISBLANK(G5),"",$G$2-G5)
F6: Camion 2 | H6: =IF(ISBLANK(G6),"",$G$2-G6) | J6: 11 | K6: Avertir René Gouet | N6: si René absent, appeler Hugues Gloton
F7: Camion 3 | H7: =IF(ISBLANK(G7),"",$G$2-G7) | J7: 6 | K7: si + de 3 camions, avertir René Gouet | N7: si René absent, appeler Hugues Gloton
F8: Camion 4 | H8: =IF(ISBLANK(G8),"",$G$2-G8) | J8: 1 | K8: RAS
F9: Camion 5 | H9: =IF(ISBLANK(G9),"",$G$2-G9)
F10: Camion 6 | H10: =IF(ISBLANK(G10),"",$G$2-G10)
F11: Camion 7 | H11: =IF(ISBLANK(G11),"",$G$2-G11) | J11: Explication des feux :
F12: Camion 8 | H12: =IF(ISBLANK(G12),"",$G$2-G12) | J12: 11 | K12: >=10,8
F13: Camion 9 | H13: =IF(ISBLANK(G13),"",$G$2-G13) | J13: 6 | K13: entre 10,6 et 10,7
F14: Camion 10 | H14: =IF(ISBLANK(G14),"",$G$2-G14) | J14: 1 | K14: <=10,5
F15: Camion 11 | H15: =IF(ISBLANK(G15),"",$G$2-G15)
F16: Camion 12 | H16: =IF(ISBLANK(G16),"",$G$2-G16)
F17: Camion 13 | H17: =IF(ISBLANK(G17),"",$G$2-G17)
F18: Camion 14 | H18: =IF(ISBLANK(G18),"",$G$2-G18)
F19: Camion 15 | H19: =IF(ISBLANK(G19),"",$G$2-G19)
F20: Camion 16 | H20: =IF(ISBLANK(G20),"",$G$2-G20)
F21: Camion 17 | H21: =IF(ISBLANK(G21),"",$G$2-G21)
F22: Camion 18 | H22: =IF(ISBLANK(G22),"",$G$2-G22)
F23: Camion 19 | H23: =IF(ISBLANK(G23),"",$G$2-G23)
F24: Camion 20 | H24: =IF(ISBLANK(G24),"",$G$2-G24)
F25: Camion 21 | H25: =IF(ISBLANK(G25),"",$G$2-G25)
F26: Camion 22 | H26: =IF(ISBLANK(G26),"",$G$2-G26)
... F54: Camion 50 | H54: =IF(ISBLANK(G54),"",$G$2-G54)

Sheet 12
A1: SEMAINE | B1: USINE | C1: COMMANDE | D1: COOP | E1: SILO | F1: PA | G1: PT | H1: ECART PA vs Réception | I1: VARIETE | J1: LEGENDE :
A2: ='1'!A2 -> 3 | B2: ='1'!B2 -> VITRY | C2: ='1999'!E12 -> 0 | D2: ='1999'!B12 -> 0 | E2: ='1999'!C12 -> 0 | F2: ='1999'!A12 -> 0 | H2: =G3 | I2: ='1999'!D12 -> 0 | K2: à compléter par René (penser à renseigner également le n° de commande en titre d'onglet Excel)
C3: Moyenne des réceptions --> | G3: =IF(ISBLANK(G5),"",AVERAGE(G5:G54)) | H3: =IF(ISBLANK(G5),"",AVERAGE(H5:H54)) | K3: ne rien saisir dans ces cases
E4: BON | F4: CAMION | G4: PT | K4: à remplir par le silo : analyse PT infratec à faire AVANT DECHARGEMENT
F5: Camion 1 | H5: =IF(ISBLANK(G5),"",$G$2-G5)
F6: Camion 2 | H6: =IF(ISBLANK(G6),"",$G$2-G6) | J6: 11 | K6: Avertir René Gouet | N6: si René absent, appeler Hugues Gloton
F7: Camion 3 | H7: =IF(ISBLANK(G7),"",$G$2-G7) | J7: 6 | K7: si + de 3 camions, avertir René Gouet | N7: si René absent, appeler Hugues Gloton
F8: Camion 4 | H8: =IF(ISBLANK(G8),"",$G$2-G8) | J8: 1 | K8: RAS
F9: Camion 5 | H9: =IF(ISBLANK(G9),"",$G$2-G9)
F10: Camion 6 | H10: =IF(ISBLANK(G10),"",$G$2-G10)
F11: Camion 7 | H11: =IF(ISBLANK(G11),"",$G$2-G11) | J11: Explication des feux :
F12: Camion 8 | H12: =IF(ISBLANK(G12),"",$G$2-G12) | J12: 11 | K12: >=10,8
F13: Camion 9 | H13: =IF(ISBLANK(G13),"",$G$2-G13) | J13: 6 | K13: entre 10,6 et 10,7
F14: Camion 10 | H14: =IF(ISBLANK(G14),"",$G$2-G14) | J14: 1 | K14: <=10,5
F15: Camion 11 | H15: =IF(ISBLANK(G15),"",$G$2-G15)
F16: Camion 12 | H16: =IF(ISBLANK(G16),"",$G$2-G16)
F17: Camion 13 | H17: =IF(ISBLANK(G17),"",$G$2-G17)
F18: Camion 14 | H18: =IF(ISBLANK(G18),"",$G$2-G18)
F19: Camion 15 | H19: =IF(ISBLANK(G19),"",$G$2-G19)
F20: Camion 16 | H20: =IF(ISBLANK(G20),"",$G$2-G20)
F21: Camion 17 | H21: =IF(ISBLANK(G21),"",$G$2-G21)
F22: Camion 18 | H22: =IF(ISBLANK(G22),"",$G$2-G22)
F23: Camion 19 | H23: =IF(ISBLANK(G23),"",$G$2-G23)
F24: Camion 20 | H24: =IF(ISBLANK(G24),"",$G$2-G24)
F25: Camion 21 | H25: =IF(ISBLANK(G25),"",$G$2-G25)
F26: Camion 22 | H26: =IF(ISBLANK(G26),"",$G$2-G26)
... F54: Camion 50 | H54: =IF(ISBLANK(G54),"",$G$2-G54)

Sheet 13
A1: SEMAINE | B1: USINE | C1: COMMANDE | D1: COOP | E1: SILO | F1: PA | G1: PT | H1: ECART PA vs Réception | I1: VARIETE | J1: LEGENDE :
A2: ='1'!A2 -> 3 | B2: ='1'!B2 -> VITRY | C2: ='1999'!E13 -> 0 | D2: ='1999'!B13 -> 0 | E2: ='1999'!C13 -> 0 | F2: ='1999'!A13 -> 0 | H2: =G3 | I2: ='1999'!D13 -> 0 | K2: à compléter par René (penser à renseigner également le n° de commande en titre d'onglet Excel)
C3: Moyenne des réceptions --> | G3: =IF(ISBLANK(G5),"",AVERAGE(G5:G54)) | H3: =IF(ISBLANK(G5),"",AVERAGE(H5:H54)) | K3: ne rien saisir dans ces cases
E4: BON | F4: CAMION | G4: PT | K4: à remplir par le silo : analyse PT infratec à faire AVANT DECHARGEMENT
F5: Camion 1 | H5: =IF(ISBLANK(G5),"",$G$2-G5)
F6: Camion 2 | H6: =IF(ISBLANK(G6),"",$G$2-G6) | J6: 11 | K6: Avertir René Gouet | N6: si René absent, appeler Hugues Gloton
F7: Camion 3 | H7: =IF(ISBLANK(G7),"",$G$2-G7) | J7: 6 | K7: si + de 3 camions, avertir René Gouet | N7: si René absent, appeler Hugues Gloton
F8: Camion 4 | H8: =IF(ISBLANK(G8),"",$G$2-G8) | J8: 1 | K8: RAS
F9: Camion 5 | H9: =IF(ISBLANK(G9),"",$G$2-G9)
F10: Camion 6 | H10: =IF(ISBLANK(G10),"",$G$2-G10)
F11: Camion 7 | H11: =IF(ISBLANK(G11),"",$G$2-G11) | J11: Explication des feux :
F12: Camion 8 | H12: =IF(ISBLANK(G12),"",$G$2-G12) | J12: 11 | K12: >=10,8
F13: Camion 9 | H13: =IF(ISBLANK(G13),"",$G$2-G13) | J13: 6 | K13: entre 10,6 et 10,7
F14: Camion 10 | H14: =IF(ISBLANK(G14),"",$G$2-G14) | J14: 1 | K14: <=10,5
F15: Camion 11 | H15: =IF(ISBLANK(G15),"",$G$2-G15)
F16: Camion 12 | H16: =IF(ISBLANK(G16),"",$G$2-G16)
F17: Camion 13 | H17: =IF(ISBLANK(G17),"",$G$2-G17)
F18: Camion 14 | H18: =IF(ISBLANK(G18),"",$G$2-G18)
F19: Camion 15 | H19: =IF(ISBLANK(G19),"",$G$2-G19)
F20: Camion 16 | H20: =IF(ISBLANK(G20),"",$G$2-G20)
F21: Camion 17 | H21: =IF(ISBLANK(G21),"",$G$2-G21)
F22: Camion 18 | H22: =IF(ISBLANK(G22),"",$G$2-G22)
F23: Camion 19 | H23: =IF(ISBLANK(G23),"",$G$2-G23)
F24: Camion 20 | H24: =IF(ISBLANK(G24),"",$G$2-G24)
F25: Camion 21 | H25: =IF(ISBLANK(G25),"",$G$2-G25)
F26: Camion 22 | H26: =IF(ISBLANK(G26),"",$G$2-G26)
... F54: Camion 50 | H54: =IF(ISBLANK(G54),"",$G$2-G54)

Sheet 14
A1: SEMAINE | B1: USINE | C1: COMMANDE | D1: COOP | E1: SILO | F1: PA | G1: PT | H1: ECART PA vs Réception | I1: VARIETE | J1: LEGENDE :
A2: ='1'!A2 -> 3 | B2: ='1'!B2 -> VITRY | C2: ='1999'!E14 -> 0 | D2: ='1999'!B14 -> 0 | E2: ='1999'!C14 -> 0 | F2: ='1999'!A14 -> 0 | H2: =G3 | I2: ='1999'!D14 -> 0 | K2: à compléter par René (penser à renseigner également le n° de commande en titre d'onglet Excel)
C3: Moyenne des réceptions --> | G3: =IF(ISBLANK(G5),"",AVERAGE(G5:G54)) | H3: =IF(ISBLANK(G5),"",AVERAGE(H5:H54)) | K3: ne rien saisir dans ces cases
E4: BON | F4: CAMION | G4: PT | K4: à remplir par le silo : analyse PT infratec à faire AVANT DECHARGEMENT
F5: Camion 1 | H5: =IF(ISBLANK(G5),"",$G$2-G5)
F6: Camion 2 | H6: =IF(ISBLANK(G6),"",$G$2-G6) | J6: 11 | K6: Avertir René Gouet | N6: si René absent, appeler Hugues Gloton
F7: Camion 3 | H7: =IF(ISBLANK(G7),"",$G$2-G7) | J7: 6 | K7: si + de 3 camions, avertir René Gouet | N7: si René absent, appeler Hugues Gloton
F8: Camion 4 | H8: =IF(ISBLANK(G8),"",$G$2-G8) | J8: 1 | K8: RAS
F9: Camion 5 | H9: =IF(ISBLANK(G9),"",$G$2-G9)
F10: Camion 6 | H10: =IF(ISBLANK(G10),"",$G$2-G10)
F11: Camion 7 | H11: =IF(ISBLANK(G11),"",$G$2-G11) | J11: Explication des feux :
F12: Camion 8 | H12: =IF(ISBLANK(G12),"",$G$2-G12) | J12: 11 | K12: >=10,8
F13: Camion 9 | H13: =IF(ISBLANK(G13),"",$G$2-G13) | J13: 6 | K13: entre 10,6 et 10,7
F14: Camion 10 | H14: =IF(ISBLANK(G14),"",$G$2-G14) | J14: 1 | K14: <=10,5
F15: Camion 11 | H15: =IF(ISBLANK(G15),"",$G$2-G15)
F16: Camion 12 | H16: =IF(ISBLANK(G16),"",$G$2-G16)
F17: Camion 13 | H17: =IF(ISBLANK(G17),"",$G$2-G17)
F18: Camion 14 | H18: =IF(ISBLANK(G18),"",$G$2-G18)
F19: Camion 15 | H19: =IF(ISBLANK(G19),"",$G$2-G19)
F20: Camion 16 | H20: =IF(ISBLANK(G20),"",$G$2-G20)
F21: Camion 17 | H21: =IF(ISBLANK(G21),"",$G$2-G21)
F22: Camion 18 | H22: =IF(ISBLANK(G22),"",$G$2-G22)
F23: Camion 19 | H23: =IF(ISBLANK(G23),"",$G$2-G23)
F24: Camion 20 | H24: =IF(ISBLANK(G24),"",$G$2-G24)
F25: Camion 21 | H25: =IF(ISBLANK(G25),"",$G$2-G25)
F26: Camion 22 | H26: =IF(ISBLANK(G26),"",$G$2-G26)
... F54: Camion 50 | H54: =IF(ISBLANK(G54),"",$G$2-G54)

Sheet 15
A1: SEMAINE | B1: USINE | C1: COMMANDE | D1: COOP | E1: SILO | F1: PA | G1: PT | H1: ECART PA vs Réception | I1: VARIETE | J1: LEGENDE :
A2: ='1'!A2 -> 3 | B2: ='1'!B2 -> VITRY | C2: ='1999'!E15 -> 0 | D2: ='1999'!B15 -> 0 | E2: ='1999'!C15 -> 0 | F2: ='1999'!A15 -> 0 | H2: =G3 | I2: ='1999'!D15 -> 0 | K2: à compléter par René (penser à renseigner également le n° de commande en titre d'onglet Excel)
C3: Moyenne des réceptions --> | G3: =IF(ISBLANK(G5),"",AVERAGE(G5:G54)) | H3: =IF(ISBLANK(G5),"",AVERAGE(H5:H54)) | K3: ne rien saisir dans ces cases
E4: BON | F4: CAMION | G4: PT | K4: à remplir par le silo : analyse PT infratec à faire AVANT DECHARGEMENT
F5: Camion 1 | H5: =IF(ISBLANK(G5),"",$G$2-G5)
F6: Camion 2 | H6: =IF(ISBLANK(G6),"",$G$2-G6) | J6: 11 | K6: Avertir René Gouet | N6: si René absent, appeler Hugues Gloton
F7: Camion 3 | H7: =IF(ISBLANK(G7),"",$G$2-G7) | J7: 6 | K7: si + de 3 camions, avertir René Gouet | N7: si René absent, appeler Hugues Gloton
F8: Camion 4 | H8: =IF(ISBLANK(G8),"",$G$2-G8) | J8: 1 | K8: RAS
F9: Camion 5 | H9: =IF(ISBLANK(G9),"",$G$2-G9)
F10: Camion 6 | H10: =IF(ISBLANK(G10),"",$G$2-G10)
F11: Camion 7 | H11: =IF(ISBLANK(G11),"",$G$2-G11) | J11: Explication des feux :
F12: Camion 8 | H12: =IF(ISBLANK(G12),"",$G$2-G12) | J12: 11 | K12: >=10,8
F13: Camion 9 | H13: =IF(ISBLANK(G13),"",$G$2-G13) | J13: 6 | K13: entre 10,6 et 10,7
F14: Camion 10 | H14: =IF(ISBLANK(G14),"",$G$2-G14) | J14: 1 | K14: <=10,5
F15: Camion 11 | H15: =IF(ISBLANK(G15),"",$G$2-G15)
F16: Camion 12 | H16: =IF(ISBLANK(G16),"",$G$2-G16)
F17: Camion 13 | H17: =IF(ISBLANK(G17),"",$G$2-G17)
F18: Camion 14 | H18: =IF(ISBLANK(G18),"",$G$2-G18)
F19: Camion 15 | H19: =IF(ISBLANK(G19),"",$G$2-G19)
F20: Camion 16 | H20: =IF(ISBLANK(G20),"",$G$2-G20)
F21: Camion 17 | H21: =IF(ISBLANK(G21),"",$G$2-G21)
F22: Camion 18 | H22: =IF(ISBLANK(G22),"",$G$2-G22)
F23: Camion 19 | H23: =IF(ISBLANK(G23),"",$G$2-G23)
F24: Camion 20 | H24: =IF(ISBLANK(G24),"",$G$2-G24)
F25: Camion 21 | H25: =IF(ISBLANK(G25),"",$G$2-G25)
F26: Camion 22 | H26: =IF(ISBLANK(G26),"",$G$2-G26)
... F54: Camion 50 | H54: =IF(ISBLANK(G54),"",$G$2-G54)

Sheet 16
A1: SEMAINE | B1: USINE | C1: COMMANDE | D1: COOP | E1: SILO | F1: PA | G1: PT | H1: ECART PA vs Réception | I1: VARIETE | J1: LEGENDE :
A2: ='1'!A2 -> 3 | B2: ='1'!B2 -> VITRY | C2: ='1999'!E16 -> 0 | D2: ='1999'!B16 -> 0 | E2: ='1999'!C16 -> 0 | F2: ='1999'!A16 -> 0 | H2: =G3 | I2: ='1999'!D16 -> 0 | K2: à compléter par René (penser à renseigner également le n° de commande en titre d'onglet Excel)
C3: Moyenne des réceptions --> | G3: =IF(ISBLANK(G5),"",AVERAGE(G5:G54)) | H3: =IF(ISBLANK(G5),"",AVERAGE(H5:H54)) | K3: ne rien saisir dans ces cases
E4: BON | F4: CAMION | G4: PT | K4: à remplir par le silo : analyse PT infratec à faire AVANT DECHARGEMENT
F5: Camion 1 | H5: =IF(ISBLANK(G5),"",$G$2-G5)
F6: Camion 2 | H6: =IF(ISBLANK(G6),"",$G$2-G6) | J6: 11 | K6: Avertir René Gouet | N6: si René absent, appeler Hugues Gloton
F7: Camion 3 | H7: =IF(ISBLANK(G7),"",$G$2-G7) | J7: 6 | K7: si + de 3 camions, avertir René Gouet | N7: si René absent, appeler Hugues Gloton
F8: Camion 4 | H8: =IF(ISBLANK(G8),"",$G$2-G8) | J8: 1 | K8: RAS
F9: Camion 5 | H9: =IF(ISBLANK(G9),"",$G$2-G9)
F10: Camion 6 | H10: =IF(ISBLANK(G10),"",$G$2-G10)
F11: Camion 7 | H11: =IF(ISBLANK(G11),"",$G$2-G11) | J11: Explication des feux :
F12: Camion 8 | H12: =IF(ISBLANK(G12),"",$G$2-G12) | J12: 11 | K12: >=10,8
F13: Camion 9 | H13: =IF(ISBLANK(G13),"",$G$2-G13) | J13: 6 | K13: entre 10,6 et 10,7
F14: Camion 10 | H14: =IF(ISBLANK(G14),"",$G$2-G14) | J14: 1 | K14: <=10,5
F15: Camion 11 | H15: =IF(ISBLANK(G15),"",$G$2-G15)
F16: Camion 12 | H16: =IF(ISBLANK(G16),"",$G$2-G16)
F17: Camion 13 | H17: =IF(ISBLANK(G17),"",$G$2-G17)
F18: Camion 14 | H18: =IF(ISBLANK(G18),"",$G$2-G18)
F19: Camion 15 | H19: =IF(ISBLANK(G19),"",$G$2-G19)
F20: Camion 16 | H20: =IF(ISBLANK(G20),"",$G$2-G20)
F21: Camion 17 | H21: =IF(ISBLANK(G21),"",$G$2-G21)
F22: Camion 18 | H22: =IF(ISBLANK(G22),"",$G$2-G22)
F23: Camion 19 | H23: =IF(ISBLANK(G23),"",$G$2-G23)
F24: Camion 20 | H24: =IF(ISBLANK(G24),"",$G$2-G24)
F25: Camion 21 | H25: =IF(ISBLANK(G25),"",$G$2-G25)
F26: Camion 22 | H26: =IF(ISBLANK(G26),"",$G$2-G26)
... F54: Camion 50 | H54: =IF(ISBLANK(G54),"",$G$2-G54)

Sheet 17
A1: SEMAINE | B1: USINE | C1: COMMANDE | D1: COOP | E1: SILO | F1: PA | G1: PT | H1: ECART PA vs Réception | I1: VARIETE | J1: LEGENDE :
A2: ='1'!A2 -> 3 | B2: ='1'!B2 -> VITRY | C2: ='1999'!E17 -> 0 | D2: ='1999'!B17 -> 0 | E2: ='1999'!C17 -> 0 | F2: ='1999'!A17 -> 0 | H2: =G3 | I2: ='1999'!D17 -> 0 | K2: à compléter par René (penser à renseigner également le n° de commande en titre d'onglet Excel)
C3: Moyenne des réceptions --> | G3: =IF(ISBLANK(G5),"",AVERAGE(G5:G54)) | H3: =IF(ISBLANK(G5),"",AVERAGE(H5:H54)) | K3: ne rien saisir dans ces cases
E4: BON | F4: CAMION | G4: PT | K4: à remplir par le silo : analyse PT infratec à faire AVANT DECHARGEMENT
F5: Camion 1 | H5: =IF(ISBLANK(G5),"",$G$2-G5)
F6: Camion 2 | H6: =IF(ISBLANK(G6),"",$G$2-G6) | J6: 11 | K6: Avertir René Gouet | N6: si René absent, appeler Hugues Gloton
F7: Camion 3 | H7: =IF(ISBLANK(G7),"",$G$2-G7) | J7: 6 | K7: si + de 3 camions, avertir René Gouet | N7: si René absent, appeler Hugues Gloton
F8: Camion 4 | H8: =IF(ISBLANK(G8),"",$G$2-G8) | J8: 1 | K8: RAS
F9: Camion 5 | H9: =IF(ISBLANK(G9),"",$G$2-G9)
F10: Camion 6 | H10: =IF(ISBLANK(G10),"",$G$2-G10)
F11: Camion 7 | H11: =IF(ISBLANK(G11),"",$G$2-G11) | J11: Explication des feux :
F12: Camion 8 | H12: =IF(ISBLANK(G12),"",$G$2-G12) | J12: 11 | K12: >=10,8
F13: Camion 9 | H13: =IF(ISBLANK(G13),"",$G$2-G13) | J13: 6 | K13: entre 10,6 et 10,7
F14: Camion 10 | H14: =IF(ISBLANK(G14),"",$G$2-G14) | J14: 1 | K14: <=10,5
F15: Camion 11 | H15: =IF(ISBLANK(G15),"",$G$2-G15)
F16: Camion 12 | H16: =IF(ISBLANK(G16),"",$G$2-G16)
F17: Camion 13 | H17: =IF(ISBLANK(G17),"",$G$2-G17)
F18: Camion 14 | H18: =IF(ISBLANK(G18),"",$G$2-G18)
F19: Camion 15 | H19: =IF(ISBLANK(G19),"",$G$2-G19)
F20: Camion 16 | H20: =IF(ISBLANK(G20),"",$G$2-G20)
F21: Camion 17 | H21: =IF(ISBLANK(G21),"",$G$2-G21)
F22: Camion 18 | H22: =IF(ISBLANK(G22),"",$G$2-G22)
F23: Camion 19 | H23: =IF(ISBLANK(G23),"",$G$2-G23)
F24: Camion 20 | H24: =IF(ISBLANK(G24),"",$G$2-G24)
F25: Camion 21 | H25: =IF(ISBLANK(G25),"",$G$2-G25)
F26: Camion 22 | H26: =IF(ISBLANK(G26),"",$G$2-G26)
... F54: Camion 50 | H54: =IF(ISBLANK(G54),"",$G$2-G54)

Sheet 18
A1: SEMAINE | B1: USINE | C1: COMMANDE | D1: COOP | E1: SILO | F1: PA | G1: PT | H1: ECART PA vs Réception | I1: VARIETE | J1: LEGENDE :
A2: ='1'!A2 -> 3 | B2: ='1'!B2 -> VITRY | C2: ='1999'!E18 -> 0 | D2: ='1999'!B18 -> 0 | E2: ='1999'!C18 -> 0 | F2: ='1999'!A18 -> 0 | H2: =G3 | I2: ='1999'!D18 -> 0 | K2: à compléter par René (penser à renseigner également le n° de commande en titre d'onglet Excel)
C3: Moyenne des réceptions --> | G3: =IF(ISBLANK(G5),"",AVERAGE(G5:G54)) | H3: =IF(ISBLANK(G5),"",AVERAGE(H5:H54)) | K3: ne rien saisir dans ces cases
E4: BON | F4: CAMION | G4: PT | K4: à remplir par le silo : analyse PT infratec à faire AVANT DECHARGEMENT
F5: Camion 1 | H5: =IF(ISBLANK(G5),"",$G$2-G5)
F6: Camion 2 | H6: =IF(ISBLANK(G6),"",$G$2-G6) | J6: 11 | K6: Avertir René Gouet | N6: si René absent, appeler Hugues Gloton
F7: Camion 3 | H7: =IF(ISBLANK(G7),"",$G$2-G7) | J7: 6 | K7: si + de 3 camions, avertir René Gouet | N7: si René absent, appeler Hugues Gloton
F8: Camion 4 | H8: =IF(ISBLANK(G8),"",$G$2-G8) | J8: 1 | K8: RAS
F9: Camion 5 | H9: =IF(ISBLANK(G9),"",$G$2-G9)
F10: Camion 6 | H10: =IF(ISBLANK(G10),"",$G$2-G10)
F11: Camion 7 | H11: =IF(ISBLANK(G11),"",$G$2-G11) | J11: Explication des feux :
F12: Camion 8 | H12: =IF(ISBLANK(G12),"",$G$2-G12) | J12: 11 | K12: >=10,8
F13: Camion 9 | H13: =IF(ISBLANK(G13),"",$G$2-G13) | J13: 6 | K13: entre 10,6 et 10,7
F14: Camion 10 | H14: =IF(ISBLANK(G14),"",$G$2-G14) | J14: 1 | K14: <=10,5
F15: Camion 11 | H15: =IF(ISBLANK(G15),"",$G$2-G15)
F16: Camion 12 | H16: =IF(ISBLANK(G16),"",$G$2-G16)
F17: Camion 13 | H17: =IF(ISBLANK(G17),"",$G$2-G17)
F18: Camion 14 | H18: =IF(ISBLANK(G18),"",$G$2-G18)
F19: Camion 15 | H19: =IF(ISBLANK(G19),"",$G$2-G19)
F20: Camion 16 | H20: =IF(ISBLANK(G20),"",$G$2-G20)
F21: Camion 17 | H21: =IF(ISBLANK(G21),"",$G$2-G21)
F22: Camion 18 | H22: =IF(ISBLANK(G22),"",$G$2-G22)
F23: Camion 19 | H23: =IF(ISBLANK(G23),"",$G$2-G23)
F24: Camion 20 | H24: =IF(ISBLANK(G24),"",$G$2-G24)
F25: Camion 21 | H25: =IF(ISBLANK(G25),"",$G$2-G25)
F26: Camion 22 | H26: =IF(ISBLANK(G26),"",$G$2-G26)
... F54: Camion 50 | H54: =IF(ISBLANK(G54),"",$G$2-G54)

Sheet 19
A1: SEMAINE | B1: USINE | C1: COMMANDE | D1: COOP | E1: SILO | F1: PA | G1: PT | H1: ECART PA vs Réception | I1: VARIETE | J1: LEGENDE :
A2: ='1'!A2 -> 3 | B2: ='1'!B2 -> VITRY | C2: ='1999'!E19 -> 0 | D2: ='1999'!B19 -> 0 | E2: ='1999'!C19 -> 0 | F2: ='1999'!A19 -> 0 | H2: =G3 | I2: ='1999'!D19 -> 0 | K2: à compléter par René (penser à renseigner également le n° de commande en titre d'onglet Excel)
C3: Moyenne des réceptions --> | G3: =IF(ISBLANK(G5),"",AVERAGE(G5:G54)) | H3: =IF(ISBLANK(G5),"",AVERAGE(H5:H54)) | K3: ne rien saisir dans ces cases
E4: BON | F4: CAMION | G4: PT | K4: à remplir par le silo : analyse PT infratec à faire AVANT DECHARGEMENT
F5: Camion 1 | H5: =IF(ISBLANK(G5),"",$G$2-G5)
F6: Camion 2 | H6: =IF(ISBLANK(G6),"",$G$2-G6) | J6: 11 | K6: Avertir René Gouet | N6: si René absent, appeler Hugues Gloton
F7: Camion 3 | H7: =IF(ISBLANK(G7),"",$G$2-G7) | J7: 6 | K7: si + de 3 camions, avertir René Gouet | N7: si René absent, appeler Hugues Gloton
F8: Camion 4 | H8: =IF(ISBLANK(G8),"",$G$2-G8) | J8: 1 | K8: RAS
F9: Camion 5 | H9: =IF(ISBLANK(G9),"",$G$2-G9)
F10: Camion 6 | H10: =IF(ISBLANK(G10),"",$G$2-G10)
F11: Camion 7 | H11: =IF(ISBLANK(G11),"",$G$2-G11) | J11: Explication des feux :
F12: Camion 8 | H12: =IF(ISBLANK(G12),"",$G$2-G12) | J12: 11 | K12: >=10,8
F13: Camion 9 | H13: =IF(ISBLANK(G13),"",$G$2-G13) | J13: 6 | K13: entre 10,6 et 10,7
F14: Camion 10 | H14: =IF(ISBLANK(G14),"",$G$2-G14) | J14: 1 | K14: <=10,5
F15: Camion 11 | H15: =IF(ISBLANK(G15),"",$G$2-G15)
F16: Camion 12 | H16: =IF(ISBLANK(G16),"",$G$2-G16)
F17: Camion 13 | H17: =IF(ISBLANK(G17),"",$G$2-G17)
F18: Camion 14 | H18: =IF(ISBLANK(G18),"",$G$2-G18)
F19: Camion 15 | H19: =IF(ISBLANK(G19),"",$G$2-G19)
F20: Camion 16 | H20: =IF(ISBLANK(G20),"",$G$2-G20)
F21: Camion 17 | H21: =IF(ISBLANK(G21),"",$G$2-G21)
F22: Camion 18 | H22: =IF(ISBLANK(G22),"",$G$2-G22)
F23: Camion 19 | H23: =IF(ISBLANK(G23),"",$G$2-G23)
F24: Camion 20 | H24: =IF(ISBLANK(G24),"",$G$2-G24)
F25: Camion 21 | H25: =IF(ISBLANK(G25),"",$G$2-G25)
F26: Camion 22 | H26: =IF(ISBLANK(G26),"",$G$2-G26)
... F54: Camion 50 | H54: =IF(ISBLANK(G54),"",$G$2-G54)

Sheet Copie ZACH27
A1: P00008545 | B1: GGG | C1: ss | D1: 44 | E1: 4500018965 | F1: Feuil1
A2: P00008546 | B2: BBB | C2: dd | D2: 77 | E2: 4500018966 | F2: Feuil2
A3: P00008547 | B3: NNN | C3: ff | D3: 88 | E3: 4500018967 | F3: Feuil3
A4: P00008548 | B4: KKK | C4: gg | D4: 99 | E4: 4500018968 | F4: Feuil4
A5: P00008549 | B5: MMM | C5: hh | D5: 66 | E5: 4500018969 | F5: Feuil5
A6: P00008550 | B6: TTT | C6: jj | D6: 33 | E6: 4500018970 | F6: Feuil6
A7: P00008551 | B7: EEE | C7: kk | D7: 22 | E7: 4500018971 | F7: Feuil7
A8: P00008552 | B8: PPP | C8: ll | D8: 55 | E8: 4500018972 | F8: Feuil8
A9: P00008553 | B9: JJJ | C9: mm | D9: 88 | E9: 4500018973 | F9: Feuil9
A10: P00008554 | B10: DDD | C10: zz | D10: 44 | E10: 4500018974 | F10: Feuil10
A11: P00008555 | B11: ZZZ | C11: rr | D11: 11 | E11: 4500018975 | F11: Feuil11
F12: Feuil12
F13: Feuil13
F14: Feuil14
F15: Feuil15
F16: Feuil16
F17: Feuil17
F18: Feuil18
F19: Feuil19

Sheet 1999
A1: ='Copie ZACH27'!A1 -> P00008545 | B1: ='Copie ZACH27'!B1 -> GGG | C1: ='Copie ZACH27'!C1 -> ss | D1: ='Copie ZACH27'!D1 -> 44 | E1: ='Copie ZACH27'!E1 -> 4500018965 | F1: Feuil1
A2: ='Copie ZACH27'!A2 -> P00008546 | B2: ='Copie ZACH27'!B2 -> BBB | C2: ='Copie ZACH27'!C2 -> dd | D2: ='Copie ZACH27'!D2 -> 77 | E2: ='Copie ZACH27'!E2 -> 4500018966 | F2: Feuil2
A3: ='Copie ZACH27'!A3 -> P00008547 | B3: ='Copie ZACH27'!B3 -> NNN | C3: ='Copie ZACH27'!C3 -> ff | D3: ='Copie ZACH27'!D3 -> 88 | E3: ='Copie ZACH27'!E3 -> 4500018967 | F3: Feuil3
A4: ='Copie ZACH27'!A4 -> P00008548 | B4: ='Copie ZACH27'!B4 -> KKK | C4: ='Copie ZACH27'!C4 -> gg | D4: ='Copie ZACH27'!D4 -> 99 | E4: ='Copie ZACH27'!E4 -> 4500018968 | F4: Feuil4
A5: ='Copie ZACH27'!A5 -> P00008549 | B5: ='Copie ZACH27'!B5 -> MMM | C5: ='Copie ZACH27'!C5 -> hh | D5: ='Copie ZACH27'!D5 -> 66 | E5: ='Copie ZACH27'!E5 -> 4500018969 | F5: Feuil5
A6: ='Copie ZACH27'!A6 -> P00008550 | B6: ='Copie ZACH27'!B6 -> TTT | C6: ='Copie ZACH27'!C6 -> jj | D6: ='Copie ZACH27'!D6 -> 33 | E6: ='Copie ZACH27'!E6 -> 4500018970 | F6: Feuil6
A7: ='Copie ZACH27'!A7 -> P00008551 | B7: ='Copie ZACH27'!B7 -> EEE | C7: ='Copie ZACH27'!C7 -> kk | D7: ='Copie ZACH27'!D7 -> 22 | E7: ='Copie ZACH27'!E7 -> 4500018971 | F7: Feuil7
A8: ='Copie ZACH27'!A8 -> P00008552 | B8: ='Copie ZACH27'!B8 -> PPP | C8: ='Copie ZACH27'!C8 -> ll | D8: ='Copie ZACH27'!D8 -> 55 | E8: ='Copie ZACH27'!E8 -> 4500018972 | F8: Feuil8
A9: ='Copie ZACH27'!A9 -> P00008553 | B9: ='Copie ZACH27'!B9 -> JJJ | C9: ='Copie ZACH27'!C9 -> mm | D9: ='Copie ZACH27'!D9 -> 88 | E9: ='Copie ZACH27'!E9 -> 4500018973 | F9: Feuil9
A10: ='Copie ZACH27'!A10 -> P00008554 | B10: ='Copie ZACH27'!B10 -> DDD | C10: ='Copie ZACH27'!C10 -> zz | D10: ='Copie ZACH27'!D10 -> 44 | E10: ='Copie ZACH27'!E10 -> 4500018974 | F10: Feuil10
A11: ='Copie ZACH27'!A11 -> P00008555 | B11: ='Copie ZACH27'!B11 -> ZZZ | C11: ='Copie ZACH27'!C11 -> rr | D11: ='Copie ZACH27'!D11 -> 11 | E11: ='Copie ZACH27'!E11 -> 4500018975 | F11: Feuil11
A12: ='Copie ZACH27'!A12 -> 0 | B12: ='Copie ZACH27'!B12 -> 0 | C12: ='Copie ZACH27'!C12 -> 0 | D12: ='Copie ZACH27'!D12 -> 0 | E12: ='Copie ZACH27'!E12 -> 0 | F12: Feuil12
... A19: ='Copie ZACH27'!A19 -> 0 | B19: ='Copie ZACH27'!B19 -> 0 | C19: ='Copie ZACH27'!C19 -> 0 | D19: ='Copie ZACH27'!D19 -> 0 | E19: ='Copie ZACH27'!E19 -> 0 | F19: Feuil19

Sheet Recap Fin de Semaine
A1: SEMAINE | B1: USINE | C1: COMMANDE | D1: COOP | E1: SILO | F1: PA | G1: PT | H1: Moy PT | I1: VARIETE
A2: ='1'!A2 -> 3 | B2: ='1'!B2 -> VITRY | C2: ='1'!C2 -> 4500018965 | D2: ='1'!D2 -> GGG | E2: ='1'!E2 -> ss | F2: ='1'!F2 -> P00008545 | G2: ='1'!G2 -> 0 | H2: ='1'!H2 | I2: ='1'!I2 -> 44 | M2: 1
A3: ='2'!A2 -> 3 | B3: ='2'!B2 -> VITRY | C3: ='2'!C2 -> 4500018966 | D3: ='2'!D2 -> BBB | E3: ='2'!E2 -> dd | F3: ='2'!F2 -> P00008546 | G3: ='2'!G2 -> 0 | H3: ='2'!H2 | I3: ='2'!I2 -> 77 | M3: 2
A4: ='3'!A2 -> 3 | B4: ='3'!B2 -> VITRY | C4: ='3'!C2 -> 4500018967 | D4: ='3'!D2 -> NNN | E4: ='3'!E2 -> ff | F4: ='3'!F2 -> P00008547 | G4: ='3'!G2 -> 0 | H4: ='3'!H2 | I4: ='3'!I2 -> 88 | M4: 3
A5: ='4'!A2 -> 3 | B5: ='4'!B2 -> VITRY | C5: ='4'!C2 -> 4500018968 | D5: ='4'!D2 -> KKK | E5: ='4'!E2 -> gg | F5: ='4'!F2 -> P00008548 | G5: ='4'!G2 -> 0 | H5: ='4'!H2 | I5: ='4'!I2 -> 99 | M5: 4
A6: ='5'!A2 -> 3 | B6: ='5'!B2 -> VITRY | C6: ='5'!C2 -> 4500018969 | D6: ='5'!D2 -> MMM | E6: ='5'!E2 -> hh | F6: ='5'!F2 -> P00008549 | G6: ='5'!G2 -> 0 | H6: ='5'!H2 | I6: ='5'!I2 -> 66 | M6: 5
A7: ='6'!A2 -> 3 | B7: ='6'!B2 -> VITRY | C7: ='6'!C2 -> 4500018970 | D7: ='6'!D2 -> TTT | E7: ='6'!E2 -> jj | F7: ='6'!F2 -> P00008550 | G7: ='6'!G2 -> 0 | H7: ='6'!H2 | I7: ='6'!I2 -> 33 | M7: 6
A8: ='7'!A2 -> 3 | B8: ='7'!B2 -> VITRY | C8: ='7'!C2 -> 4500018971 | D8: ='7'!D2 -> EEE | E8: ='7'!E2 -> kk | F8: ='7'!F2 -> P00008551 | G8: ='7'!G2 -> 0 | H8: ='7'!H2 | I8: ='7'!I2 -> 22 | M8: 7
A9: ='8'!A2 -> 3 | B9: ='8'!B2 -> VITRY | C9: ='8'!C2 -> 4500018972 | D9: ='8'!D2 -> PPP | E9: ='8'!E2 -> ll | F9: ='8'!F2 -> P00008552 | G9: ='8'!G2 -> 0 | H9: ='8'!H2 | I9: ='8'!I2 -> 55 | M9: 8
A10: ='9'!A2 -> 3 | B10: ='9'!B2 -> VITRY | C10: ='9'!C2 -> 4500018973 | D10: ='9'!D2 -> JJJ | E10: ='9'!E2 -> mm | F10: ='9'!F2 -> P00008553 | G10: ='9'!G2 -> 0 | H10: ='9'!H2 | I10: ='9'!I2 -> 88 | M10: 9
A11: ='10'!A2 -> 3 | B11: ='10'!B2 -> VITRY | C11: ='10'!C2 -> 4500018974 | D11: ='10'!D2 -> DDD | E11: ='10'!E2 -> zz | F11: ='10'!F2 -> P00008554 | G11: ='10'!G2 -> 0 | H11: ='10'!H2 | I11: ='10'!I2 -> 44 | M11: 10
A12: ='11'!A2 -> 3 | B12: ='11'!B2 -> VITRY | C12: ='11'!C2 -> 4500018975 | D12: ='11'!D2 -> ZZZ | E12: ='11'!E2 -> rr | F12: ='11'!F2 -> P00008555 | G12: ='11'!G2 -> 0 | H12: ='11'!H2 | I12: ='11'!I2 -> 11 | M12: 11
A13: ='12'!A2 -> 3 | B13: ='12'!B2 -> VITRY | C13: ='12'!C2 -> 0 | D13: ='12'!D2 -> 0 | E13: ='12'!E2 -> 0 | F13: ='12'!F2 -> 0 | G13: ='12'!G2 -> 0 | H13: ='12'!H2 | I13: ='12'!I2 -> 0 | M13: 12
A14: ='13'!A2 -> 3 | B14: ='13'!B2 -> VITRY | C14: ='13'!C2 -> 0 | D14: ='13'!D2 -> 0 | E14: ='13'!E2 -> 0 | F14: ='13'!F2 -> 0 | G14: ='13'!G2 -> 0 | H14: ='13'!H2 | I14: ='13'!I2 -> 0 | M14: 13
A15: ='14'!A2 -> 3 | B15: ='14'!B2 -> VITRY | C15: ='14'!C2 -> 0 | D15: ='14'!D2 -> 0 | E15: ='14'!E2 -> 0 | F15: ='14'!F2 -> 0 | G15: ='14'!G2 -> 0 | H15: ='14'!H2 | I15: ='14'!I2 -> 0 | M15: 14
A16: ='15'!A2 -> 3 | B16: ='15'!B2 -> VITRY | C16: ='15'!C2 -> 0 | D16: ='15'!D2 -> 0 | E16: ='15'!E2 -> 0 | F16: ='15'!F2 -> 0 | G16: ='15'!G2 -> 0 | H16: ='15'!H2 | I16: ='15'!I2 -> 0 | M16: 15
A17: ='16'!A2 -> 3 | B17: ='16'!B2 -> VITRY | C17: ='16'!C2 -> 0 | D17: ='16'!D2 -> 0 | E17: ='16'!E2 -> 0 | F17: ='16'!F2 -> 0 | G17: ='16'!G2 -> 0 | H17: ='16'!H2 | I17: ='16'!I2 -> 0 | M17: 16
A18: ='17'!A2 -> 3 | B18: ='17'!B2 -> VITRY | C18: ='17'!C2 -> 0 | D18: ='17'!D2 -> 0 | E18: ='17'!E2 -> 0 | F18: ='17'!F2 -> 0 | G18: ='17'!G2 -> 0 | H18: ='17'!H2 | I18: ='17'!I2 -> 0 | M18: 17
A19: ='18'!A2 -> 3 | B19: ='18'!B2 -> VITRY | C19: ='18'!C2 -> 0 | D19: ='18'!D2 -> 0 | E19: ='18'!E2 -> 0 | F19: ='18'!F2 -> 0 | G19: ='18'!G2 -> 0 | H19: ='18'!H2 | I19: ='18'!I2 -> 0 | M19: 18
A20: ='19'!A2 -> 3 | B20: ='19'!B2 -> VITRY | C20: ='19'!C2 -> 0 | D20: ='19'!D2 -> 0 | E20: ='19'!E2 -> 0 | F20: ='19'!F2 -> 0 | G20: ='19'!G2 -> 0 | H20: ='19'!H2 | I20: ='19'!I2 -> 0 | M20: 19

Sheet Mode emploi
B4: Extraire de la zach 27, la semaine avec 5 colonnes , faire un tri par pa et copier dans feuille "Copie ZACH27"
B5: Dans feuille "Copie ZACH27" enlever les doublons
B6: Les infos remontent par feuille
B7: Sur la 1er feuille mettre le numéro de semaine et l'usine
B8: En fin de semaine faire un copié coller de "Recap fin de semaine" vers le fichier archive Pt
