Workbook

Sheet Données
A1: DATE | B1: CA HT | C1: TVA | D1: CA TTC | E1: ESPECES | F1: CHEQU | G1: CB | H1: Fss espèces | I1: HT | J1: TVA 5,5% | K1: HT | L1: TVA10% | M1: HT | N1: TVA20%
E2: 531000 | F2: 511200 | G2: 511300 | H2: 580400 | I2: 701055 | J2: 445715 | K2: 701100 | L2: 445711 | M2: 701200 | N2: 445710
A3: 01/10/2024 | B3: 2156.71 | C3: 167.76 | D3: 2324.47 | E3: 706.57 | F3: 0 | G3: 1561.81 | H3: 56.09 | I3: 1065.9 | J3: 58.67 | K3: 1090.7 | L3: 109.09 | M3: 0 | N3: 0
A4: 02/10/2024 | B4: 1330.75 | C4: 99.27 | D4: 1430.02 | E4: 465.73 | F4: 0 | G4: 922.89 | H4: 41.4 | I4: 756.54 | J4: 41.76 | K4: 574.21 | L4: 57.51 | M4: 0 | N4: 0
A5: 03/10/2024 | B5: 1387.81 | C5: 106.09 | D5: 1493.9 | E5: 510.79 | F5: 0 | G5: 930.36 | H5: 52.75 | I5: 728.42 | J5: 40.09 | K5: 659.39 | L5: 66 | M5: 0 | N5: 0
A6: 04/10/2024 | B6: 1450.54 | C6: 109.21 | D6: 1559.75 | E6: 609.11 | F6: 0 | G6: 942.94 | H6: 7.7 | I6: 795.94 | J6: 43.78 | K6: 654.6 | L6: 65.43 | M6: 0 | N6: 0
A7: 05/10/2024 | B7: 1191.14 | C7: 82.09 | D7: 1273.23 | E7: 441.78 | F7: 0 | G7: 831.45 | H7: 0 | I7: 823.93 | J7: 45.39 | K7: 367.21 | L7: 36.7 | M7: 0 | N7: 0
A8: 07/10/2024 | B8: 1437.47 | C8: 109.26 | D8: 1546.73 | E8: 530.81 | F8: 0 | G8: 994.02 | H8: 21.9 | I8: 769.35 | J8: 42.38 | K8: 668.12 | L8: 66.88 | M8: 0 | N8: 0
A9: 08/10/2024 | B9: 2070.84 | C9: 158.42 | D9: 2229.26 | E9: 662.25 | F9: 0 | G9: 1539.86 | H9: 27.15 | I9: 1088.2 | J9: 60.04 | K9: 982.58 | L9: 98.38 | M9: 0 | N9: 0
A10: 09/10/2024 | B10: 1168.78 | C10: 89.38 | D10: 1258.16 | E10: 462.05 | F10: 0 | G10: 796.11 | H10: 0 | I10: 614.43 | J10: 33.9 | K10: 554.35 | L10: 55.48 | M10: 0 | N10: 0
A11: 10/10/2024 | B11: 1424.89 | C11: 112.91 | D11: 1537.8 | E11: 475.21 | F11: 0 | G11: 1045.84 | H11: 16.75 | I11: 659.22 | J11: 36.36 | K11: 765.67 | L11: 76.55 | M11: 0 | N11: 0
A12: 11/10/2024 | B12: 1474.14 | C12: 108.47 | D12: 1582.61 | E12: 472.72 | F12: 0 | G12: 1108.69 | H12: 1.2 | I12: 868.97 | J12: 47.94 | K12: 605.17 | L12: 60.53 | M12: 0 | N12: 0
A13: 12/10/2024 | B13: 1327.36 | C13: 92.8 | D13: 1420.16 | E13: 605.41 | F13: 0 | G13: 814.75 | H13: 0 | I13: 890.29 | J13: 49.08 | K13: 437.07 | L13: 43.72 | M13: 0 | N13: 0
A14: 14/10/2024 | B14: 1228.04 | C14: 91.95 | D14: 1319.99 | E14: 501.81 | F14: 0 | G14: 802.78 | H14: 15.4 | I14: 689.11 | J14: 37.98 | K14: 538.93 | L14: 53.97 | M14: 0 | N14: 0
... A77: 31/12/2024 | B77: 1393.83 | C77: 91.86 | D77: 1485.69 | E77: 587.23 | F77: 0 | G77: 898.46 | H77: 0 | I77: 1060.9 | J77: 58.49 | K77: 332.88 | L77: 33.37 | M77: 0 | N77: 0

Sheet Ecritures
A1: DATE | B1: COMPTE | C1: PIECE (caisse+mmaa) | D1: Libellé (caisse +date) | E1: Débit | F1: Crédit | G1: Devise
A2: =+Données!A3 -> 01/10/2024 | B2: =+Données!E2 -> 531000 | C2: caisse1024 | D2: =+Données!A3 -> 01/10/2024 | E2: =+Données!E3 -> 706.57 | G2: E
A3: =+Données!A3 -> 01/10/2024 | B3: =+Données!F2 -> 511200 | C3: caisse1024 | D3: =+Données!A3 -> 01/10/2024 | E3: =+Données!F3 -> 0 | G3: E
A4: =+Données!A3 -> 01/10/2024 | B4: =+Données!G2 -> 511300 | C4: caisse1024 | D4: =+Données!A3 -> 01/10/2024 | E4: =+Données!G3 -> 1561.81 | G4: E | I4: cellule en jaune non utilisée feuille données
A5: =+Données!A3 -> 01/10/2024 | B5: =+Données!H2 -> 580400 | C5: caisse1024 | D5: =+Données!A3 -> 01/10/2024 | E5: =+Données!H3 -> 56.09 | G5: E
A6: =+Données!A3 -> 01/10/2024 | B6: =+Données!I2 -> 701055 | C6: caisse1024 | D6: =+Données!A3 -> 01/10/2024 | F6: =+Données!I3 -> 1065.9 | G6: E
A7: =+Données!A3 -> 01/10/2024 | B7: =+Données!J2 -> 445715 | C7: caisse1024 | D7: =+Données!A3 -> 01/10/2024 | F7: =+Données!J3 -> 58.67 | G7: E
A8: =+Données!A3 -> 01/10/2024 | B8: =+Données!K2 -> 701100 | C8: caisse1024 | D8: =+Données!A3 -> 01/10/2024 | F8: =+Données!K3 -> 1090.7 | G8: E | I8: cette écriture correspond à la ligne 3 en rouge feuille données
A9: =+Données!A3 -> 01/10/2024 | B9: =+Données!L2 -> 445711 | C9: caisse1024 | D9: =+Données!A3 -> 01/10/2024 | F9: =+Données!L3 -> 109.09 | G9: E
A10: =+Données!A3 -> 01/10/2024 | B10: =+Données!M2 -> 701200 | C10: caisse1024 | D10: =+Données!A3 -> 01/10/2024 | F10: =+Données!M3 -> 0 | G10: E | I10: les numéro de compte sont en entête de chaque colonne feuille données
A11: =+Données!A3 -> 01/10/2024 | B11: =+Données!N2 -> 445710 | C11: caisse1024 | D11: =+Données!A3 -> 01/10/2024 | F11: =+Données!N3 -> 0 | G11: E
