Workbook

Sheet modele 5S
M4: PLANNING NETTOYAGE
C8: Matricule | D8: STATUT | E8: PAUSE
F9: L | G9: M | H9: M | I9: J | J9: V | K9: S | L9: D | M9: L | N9: M | O9: M | P9: J | Q9: V | R9: S | S9: D | T9: L | U9: M | V9: M | W9: J | X9: V | Y9: S | Z9: D | AA9: L | AB9: M | AC9: M | AD9: J | AE9: V | AF9: S | AG9: D | AH9: L | AI9: M | AJ9: M | AK9: J | AL9: V | AM9: S | AN9: D
A10: CHARLE 01 | B10: =IFERROR(IF(VLOOKUP(A10,'Listing CDI '!A:E,2,FALSE)="","",VLOOKUP(A10,'Listing CDI '!A:E,2,FALSE)),"") -> NETTOYAGE 01 | C10: =IFERROR(IF(VLOOKUP(A10,'Listing CDI '!A:E,3,FALSE)="","",VLOOKUP(A10,'Listing CDI '!A:E,3,FALSE)),"") -> 9011974 | E10: 16H30-17H00
B11: =IFERROR(IF(VLOOKUP(A11,'Listing CDI '!A:E,2,FALSE)="","",VLOOKUP(A11,'Listing CDI '!A:E,2,FALSE)),"") | C11: =IFERROR(IF(VLOOKUP(A11,'Listing CDI '!A:E,3,FALSE)="","",VLOOKUP(A11,'Listing CDI '!A:E,3,FALSE)),"") | E11: 8H30-9H00
B12: =IFERROR(IF(VLOOKUP(A12,'Listing CDI '!A:E,2,FALSE)="","",VLOOKUP(A12,'Listing CDI '!A:E,2,FALSE)),"") | C12: =IFERROR(IF(VLOOKUP(A12,'Listing CDI '!A:E,3,FALSE)="","",VLOOKUP(A12,'Listing CDI '!A:E,3,FALSE)),"") | D12: =IFERROR(IF(VLOOKUP(A12,'Listing CDI '!A:E,4,FALSE)="","",VLOOKUP(A12,'Listing CDI '!A:E,4,FALSE)),"") | E12: MANUT
A13: EFFECTIF JOURNALIER NETTOYAGE | F13: =COUNT(F10:F12) -> 0 | G13: =COUNT(G10:G12) -> 0 | H13: =COUNT(H10:H12) -> 0 | I13: =COUNT(I10:I12) -> 0 | J13: =COUNT(J10:J12) -> 0 | K13: =COUNT(K10:K12) -> 0 | M13: =COUNT(M10:M12) -> 0 | N13: =COUNT(N10:N12) -> 0 | O13: =COUNT(O10:O12) -> 0 | P13: =COUNT(P10:P12) -> 0 | Q13: =COUNT(Q10:Q12) -> 0 | R13: =COUNT(R10:R12) -> 0 | T13: =COUNT(T10:T12) -> 0 | U13: =COUNT(U10:U12) -> 0 | V13: =COUNT(V10:V12) -> 0 | W13: =COUNT(W10:W12) -> 0 | X13: =COUNT(X10:X12) -> 0 | Y13: =COUNT(Y10:Y12) -> 0 | AA13: =COUNT(AA10:AA12) -> 0 | AB13: =COUNT(AB10:AB12) -> 0 | AC13: =COUNT(AC10:AC12) -> 0 | AD13: =COUNT(AD10:AD12) -> 0 | AE13: =COUNT(AE10:AE12) -> 0 | AF13: =COUNT(AF10:AF12) -> 0 | AH13: =COUNT(AH10:AH12) -> 0 | AI13: =COUNT(AI10:AI12) -> 0 | AJ13: =COUNT(AJ10:AJ12) -> 0 | AK13: =COUNT(AK10:AK12) -> 0 | AL13: =COUNT(AL10:AL12) -> 0 | AM13: =COUNT(AM10:AM12) -> 0
A14: Heures par jours | F14: =IF(F13=0,0,F13*7.3-7.3) -> 0 | G14: =IF(G13=0,0,G13*7.3-7.3) -> 0 | H14: =IF(H13=0,0,H13*7.3-7.3) -> 0 | I14: =IF(I13=0,0,I13*7.3-7.3) -> 0 | J14: =IF(J13=0,0,J13*7.3-7.3) -> 0 | K14: =IF(K13=0,0,K13*7.3-7.3) -> 0 | M14: =IF(M13=0,0,M13*7.3-7.3) -> 0 | N14: =IF(N13=0,0,N13*7.3-7.3) -> 0 | O14: =IF(O13=0,0,O13*7.3-7.3) -> 0 | P14: =IF(P13=0,0,P13*7.3-7.3) -> 0 | Q14: =IF(Q13=0,0,Q13*7.3-7.3) -> 0 | R14: =IF(R13=0,0,R13*7.3-7.3) -> 0 | T14: =IF(T13=0,0,T13*7.3-7.3) -> 0 | U14: =IF(U13=0,0,U13*7.3-7.3) -> 0 | V14: =IF(V13=0,0,V13*7.3-7.3) -> 0 | W14: =IF(W13=0,0,W13*7.3-7.3) -> 0 | X14: =IF(X13=0,0,X13*7.3-7.3) -> 0 | Y14: =IF(Y13=0,0,Y13*7.3-7.3) -> 0 | AA14: =IF(AA13=0,0,AA13*7.3-7.3) -> 0 | AB14: =IF(AB13=0,0,AB13*7.3-7.3) -> 0 | AC14: =IF(AC13=0,0,AC13*7.3-7.3) -> 0 | AD14: =IF(AD13=0,0,AD13*7.3-7.3) -> 0 | AE14: =IF(AE13=0,0,AE13*7.3-7.3) -> 0 | AF14: =IF(AF13=0,0,AF13*7.3-7.3) -> 0 | AH14: =IF(AH13=0,0,AH13*7.3-7.3) -> 0 | AI14: =IF(AI13=0,0,AI13*7.3-7.3) -> 0 | AJ14: =IF(AJ13=0,0,AJ13*7.3-7.3) -> 0 | AK14: =IF(AK13=0,0,AK13*7.3-7.3) -> 0 | AL14: =IF(AL13=0,0,AL13*7.3-7.3) -> 0 | AM14: =IF(AM13=0,0,AM13*7.3-7.3) -> 0
A15: Heures par semaine | F15: =SUM(E14:J14) -> 0 | M15: =SUM(L14:Q14) -> 0 | T15: =SUM(S14:X14) -> 0 | AA15: =SUM(Z14:AE14) -> 0 | AH15: =SUM(AG14:AL14) -> 0
M17: PLANNING CHARGEMENT
C20: Matricule | D20: STATUT | E20: PAUSE
F21: L | G21: M | H21: M | I21: J | J21: V | K21: S | L21: D | M21: L | N21: M | O21: M | P21: J | Q21: V | R21: S | S21: D | T21: L | U21: M | V21: M | W21: J | X21: V | Y21: S | Z21: D | AA21: L | AB21: M | AC21: M | AD21: J | AE21: V | AF21: S | AG21: D | AH21: L | AI21: M | AJ21: M | AK21: J | AL21: V | AM21: S | AN21: D | AQ21: Chargeur | AS21: Achemineur | AU21: Admin | AW21: Nettoyage | AY21: Encadrement | BA21: ETT
A22: JEAN 02 | B22: =IFERROR(IF(VLOOKUP(A22,'Listing CDI '!A:E,2,FALSE)="","",VLOOKUP(A22,'Listing CDI '!A:E,2,FALSE)),"") -> CHARGEUR 02 | C22: =IFERROR(IF(VLOOKUP(A22,'Listing CDI '!A:E,3,FALSE)="","",VLOOKUP(A22,'Listing CDI '!A:E,3,FALSE)),"") -> 9093064 | D22: =IFERROR(IF(VLOOKUP(A22,'Listing CDI '!A:E,4,FALSE)="","",VLOOKUP(A22,'Listing CDI '!A:E,4,FALSE)),"") -> CDI | E22: 17H30-18H00 | AQ22: JEAN 01 | AS22: FRANCK 01 | AU22: BEN 01 | AW22: CHARLE 01 | AY22: CHRIS 01 | BA22: STEVE 01
B23: =IFERROR(IF(VLOOKUP(A23,'Listing CDI '!A:E,2,FALSE)="","",VLOOKUP(A23,'Listing CDI '!A:E,2,FALSE)),"") | C23: =IFERROR(IF(VLOOKUP(A23,'Listing CDI '!A:E,3,FALSE)="","",VLOOKUP(A23,'Listing CDI '!A:E,3,FALSE)),"") | D23: =IFERROR(IF(VLOOKUP(A23,'Listing CDI '!A:E,4,FALSE)="","",VLOOKUP(A23,'Listing CDI '!A:E,4,FALSE)),"") | E23: 17H30-18H00 | AQ23: JEAN 02 | AS23: FRANCK 02 | AU23: BEN 02 | AW23: CHARLE 02 | AY23: CHRIS 02 | BA23: STEVE 02
B24: =IFERROR(IF(VLOOKUP(A24,'Listing CDI '!A:E,2,FALSE)="","",VLOOKUP(A24,'Listing CDI '!A:E,2,FALSE)),"") | C24: =IFERROR(IF(VLOOKUP(A24,'Listing CDI '!A:E,3,FALSE)="","",VLOOKUP(A24,'Listing CDI '!A:E,3,FALSE)),"") | D24: =IFERROR(IF(VLOOKUP(A24,'Listing CDI '!A:E,4,FALSE)="","",VLOOKUP(A24,'Listing CDI '!A:E,4,FALSE)),"") | E24: 17H30-18H00 | AQ24: JEAN 03 | AS24: FRANCK 03 | AY24: CHRIS 03 | BA24: STEVE 03
B25: =IFERROR(IF(VLOOKUP(A25,'Listing CDI '!A:E,2,FALSE)="","",VLOOKUP(A25,'Listing CDI '!A:E,2,FALSE)),"") | C25: =IFERROR(IF(VLOOKUP(A25,'Listing CDI '!A:E,3,FALSE)="","",VLOOKUP(A25,'Listing CDI '!A:E,3,FALSE)),"") | D25: =IFERROR(IF(VLOOKUP(A25,'Listing CDI '!A:E,4,FALSE)="","",VLOOKUP(A25,'Listing CDI '!A:E,4,FALSE)),"") | E25: 17H30-18H00 | AQ25: JEAN 04 | AS25: FRANCK 04 | AY25: CHRIS 04 | BA25: STEVE 04
B26: =IFERROR(IF(VLOOKUP(A26,'Listing CDI '!A:E,2,FALSE)="","",VLOOKUP(A26,'Listing CDI '!A:E,2,FALSE)),"") | C26: =IFERROR(IF(VLOOKUP(A26,'Listing CDI '!A:E,3,FALSE)="","",VLOOKUP(A26,'Listing CDI '!A:E,3,FALSE)),"") | D26: =IFERROR(IF(VLOOKUP(A26,'Listing CDI '!A:E,4,FALSE)="","",VLOOKUP(A26,'Listing CDI '!A:E,4,FALSE)),"") | E26: 17H30-18H00 | AQ26: JEAN 05 | AS26: FRANCK 05 | BA26: STEVE 05
B27: =IFERROR(IF(VLOOKUP(A27,'Listing CDI '!A:E,2,FALSE)="","",VLOOKUP(A27,'Listing CDI '!A:E,2,FALSE)),"") | C27: =IFERROR(IF(VLOOKUP(A27,'Listing CDI '!A:E,3,FALSE)="","",VLOOKUP(A27,'Listing CDI '!A:E,3,FALSE)),"") | D27: =IFERROR(IF(VLOOKUP(A27,'Listing CDI '!A:E,4,FALSE)="","",VLOOKUP(A27,'Listing CDI '!A:E,4,FALSE)),"") | E27: 17H30-18H00 | AQ27: JEAN 06 | AS27: FRANCK 06 | BA27: STEVE 06
B28: =IFERROR(IF(VLOOKUP(A28,'Listing CDI '!A:E,2,FALSE)="","",VLOOKUP(A28,'Listing CDI '!A:E,2,FALSE)),"") | C28: =IFERROR(IF(VLOOKUP(A28,'Listing CDI '!A:E,3,FALSE)="","",VLOOKUP(A28,'Listing CDI '!A:E,3,FALSE)),"") | D28: =IFERROR(IF(VLOOKUP(A28,'Listing CDI '!A:E,4,FALSE)="","",VLOOKUP(A28,'Listing CDI '!A:E,4,FALSE)),"") | E28: 16H30-17H00 | AQ28: JEAN 07 | AS28: FRANCK 07 | BA28: STEVE 07
B29: =IFERROR(IF(VLOOKUP(A29,'Listing CDI '!A:E,2,FALSE)="","",VLOOKUP(A29,'Listing CDI '!A:E,2,FALSE)),"") | C29: =IFERROR(IF(VLOOKUP(A29,'Listing CDI '!A:E,3,FALSE)="","",VLOOKUP(A29,'Listing CDI '!A:E,3,FALSE)),"") | D29: =IFERROR(IF(VLOOKUP(A29,'Listing CDI '!A:E,4,FALSE)="","",VLOOKUP(A29,'Listing CDI '!A:E,4,FALSE)),"") | E29: 17H30-18H00 | AQ29: JEAN 08 | AS29: FRANCK 08 | BA29: STEVE 08
B30: =IFERROR(IF(VLOOKUP(A30,'Listing CDI '!A:E,2,FALSE)="","",VLOOKUP(A30,'Listing CDI '!A:E,2,FALSE)),"") | C30: =IFERROR(IF(VLOOKUP(A30,'Listing CDI '!A:E,3,FALSE)="","",VLOOKUP(A30,'Listing CDI '!A:E,3,FALSE)),"") | D30: =IFERROR(IF(VLOOKUP(A30,'Listing CDI '!A:E,4,FALSE)="","",VLOOKUP(A30,'Listing CDI '!A:E,4,FALSE)),"") | E30: 17H30-18H00 | AQ30: JEAN 09 | AS30: FRANCK 09 | BA30: STEVE 09
B31: =IFERROR(IF(VLOOKUP(A31,'Listing CDI '!A:E,2,FALSE)="","",VLOOKUP(A31,'Listing CDI '!A:E,2,FALSE)),"") | C31: =IFERROR(IF(VLOOKUP(A31,'Listing CDI '!A:E,3,FALSE)="","",VLOOKUP(A31,'Listing CDI '!A:E,3,FALSE)),"") | D31: =IFERROR(IF(VLOOKUP(A31,'Listing CDI '!A:E,4,FALSE)="","",VLOOKUP(A31,'Listing CDI '!A:E,4,FALSE)),"") | E31: POINTEUR CERTIFIEUR | BA31: STEVE 10
B32: =IFERROR(IF(VLOOKUP(A32,'Listing CDI '!A:E,2,FALSE)="","",VLOOKUP(A32,'Listing CDI '!A:E,2,FALSE)),"") | C32: =IFERROR(IF(VLOOKUP(A32,'Listing CDI '!A:E,3,FALSE)="","",VLOOKUP(A32,'Listing CDI '!A:E,3,FALSE)),"") | D32: =IFERROR(IF(VLOOKUP(A32,'Listing CDI '!A:E,4,FALSE)="","",VLOOKUP(A32,'Listing CDI '!A:E,4,FALSE)),"") | E32: POINTEUR CERTIFIEUR | BA32: STEVE 11
B33: =IFERROR(IF(VLOOKUP(A33,'Listing CDI '!A:E,2,FALSE)="","",VLOOKUP(A33,'Listing CDI '!A:E,2,FALSE)),"") | C33: =IFERROR(IF(VLOOKUP(A33,'Listing CDI '!A:E,3,FALSE)="","",VLOOKUP(A33,'Listing CDI '!A:E,3,FALSE)),"") | D33: =IFERROR(IF(VLOOKUP(A33,'Listing CDI '!A:E,4,FALSE)="","",VLOOKUP(A33,'Listing CDI '!A:E,4,FALSE)),"") | E33: POINTEUR CERTIFIEUR | BA33: STEVE 12
B34: =IFERROR(IF(VLOOKUP(A34,'Listing CDI '!A:E,2,FALSE)="","",VLOOKUP(A34,'Listing CDI '!A:E,2,FALSE)),"") | C34: =IFERROR(IF(VLOOKUP(A34,'Listing CDI '!A:E,3,FALSE)="","",VLOOKUP(A34,'Listing CDI '!A:E,3,FALSE)),"") | D34: =IFERROR(IF(VLOOKUP(A34,'Listing CDI '!A:E,4,FALSE)="","",VLOOKUP(A34,'Listing CDI '!A:E,4,FALSE)),"") | E34: POINTEUR CERTIFIEUR | BA34: STEVE 13
B35: =IFERROR(IF(VLOOKUP(A35,'Listing CDI '!A:E,2,FALSE)="","",VLOOKUP(A35,'Listing CDI '!A:E,2,FALSE)),"") | C35: =IFERROR(IF(VLOOKUP(A35,'Listing CDI '!A:E,3,FALSE)="","",VLOOKUP(A35,'Listing CDI '!A:E,3,FALSE)),"") | D35: =IFERROR(IF(VLOOKUP(A35,'Listing CDI '!A:E,4,FALSE)="","",VLOOKUP(A35,'Listing CDI '!A:E,4,FALSE)),"")
B36: =IFERROR(IF(VLOOKUP(A36,'Listing CDI '!A:E,2,FALSE)="","",VLOOKUP(A36,'Listing CDI '!A:E,2,FALSE)),"") | C36: =IFERROR(IF(VLOOKUP(A36,'Listing CDI '!A:E,3,FALSE)="","",VLOOKUP(A36,'Listing CDI '!A:E,3,FALSE)),"") | D36: =IFERROR(IF(VLOOKUP(A36,'Listing CDI '!A:E,4,FALSE)="","",VLOOKUP(A36,'Listing CDI '!A:E,4,FALSE)),"")
B37: =IFERROR(IF(VLOOKUP(A37,'Listing CDI '!A:E,2,FALSE)="","",VLOOKUP(A37,'Listing CDI '!A:E,2,FALSE)),"") | C37: =IFERROR(IF(VLOOKUP(A37,'Listing CDI '!A:E,3,FALSE)="","",VLOOKUP(A37,'Listing CDI '!A:E,3,FALSE)),"") | D37: =IFERROR(IF(VLOOKUP(A37,'Listing CDI '!A:E,4,FALSE)="","",VLOOKUP(A37,'Listing CDI '!A:E,4,FALSE)),"")
A38: EFFECTIF JOURNALIER CHARGEMENT | F38: =COUNT(F22:F37) -> 0 | G38: =COUNT(G22:G37) -> 0 | H38: =COUNT(H22:H37) -> 0 | I38: =COUNT(I22:I37) -> 0 | J38: =COUNT(J22:J37) -> 0 | K38: =COUNT(K22:K37) -> 0 | M38: =COUNT(M22:M37) -> 0 | N38: =COUNT(N22:N37) -> 0 | O38: =COUNT(O22:O37) -> 0 | P38: =COUNT(P22:P37) -> 0 | Q38: =COUNT(Q22:Q37) -> 0 | R38: =COUNT(R22:R37) -> 0 | T38: =COUNT(T22:T37) -> 0 | U38: =COUNT(U22:U37) -> 0 | V38: =COUNT(V22:V37) -> 0 | W38: =COUNT(W22:W37) -> 0 | X38: =COUNT(X22:X37) -> 0 | Y38: =COUNT(Y22:Y37) -> 0 | AA38: =COUNT(AA22:AA37) -> 0 | AB38: =COUNT(AB22:AB37) -> 0 | AC38: =COUNT(AC22:AC37) -> 0 | AD38: =COUNT(AD22:AD37) -> 0 | AE38: =COUNT(AE22:AE37) -> 0 | AF38: =COUNT(AF22:AF37) -> 0 | AH38: =COUNT(AH22:AH37) -> 0 | AI38: =COUNT(AI22:AI37) -> 0 | AJ38: =COUNT(AJ22:AJ37) -> 0 | AK38: =COUNT(AK22:AK37) -> 0 | AL38: =COUNT(AL22:AL37) -> 0 | AM38: =COUNT(AM22:AM37) -> 0
A39: Heures par jours | F39: =IF(F38=0,0,F38*7.3-7.3) -> 0 | G39: =IF(G38=0,0,G38*7.3-7.3) -> 0 | H39: =IF(H38=0,0,H38*7.3-7.3) -> 0 | I39: =IF(I38=0,0,I38*7.3-7.3) -> 0 | J39: =IF(J38=0,0,J38*7.3-7.3) -> 0 | K39: =IF(K38=0,0,K38*7.3-7.3) -> 0 | M39: =IF(M38=0,0,M38*7.3-7.3) -> 0 | N39: =IF(N38=0,0,N38*7.3-7.3) -> 0 | O39: =IF(O38=0,0,O38*7.3-7.3) -> 0 | P39: =IF(P38=0,0,P38*7.3-7.3) -> 0 | Q39: =IF(Q38=0,0,Q38*7.3-7.3) -> 0 | R39: =IF(R38=0,0,R38*7.3-7.3) -> 0 | T39: =IF(T38=0,0,T38*7.3-7.3) -> 0 | U39: =IF(U38=0,0,U38*7.3-7.3) -> 0 | V39: =IF(V38=0,0,V38*7.3-7.3) -> 0 | W39: =IF(W38=0,0,W38*7.3-7.3) -> 0 | X39: =IF(X38=0,0,X38*7.3-7.3) -> 0 | Y39: =IF(Y38=0,0,Y38*7.3-7.3) -> 0 | AA39: =IF(AA38=0,0,AA38*7.3-7.3) -> 0 | AB39: =IF(AB38=0,0,AB38*7.3-7.3) -> 0 | AC39: =IF(AC38=0,0,AC38*7.3-7.3) -> 0 | AD39: =IF(AD38=0,0,AD38*7.3-7.3) -> 0 | AE39: =IF(AE38=0,0,AE38*7.3-7.3) -> 0 | AF39: =IF(AF38=0,0,AF38*7.3-7.3) -> 0 | AH39: =IF(AH38=0,0,AH38*7.3-7.3) -> 0 | AI39: =IF(AI38=0,0,AI38*7.3-7.3) -> 0 | AJ39: =IF(AJ38=0,0,AJ38*7.3-7.3) -> 0 | AK39: =IF(AK38=0,0,AK38*7.3-7.3) -> 0 | AL39: =IF(AL38=0,0,AL38*7.3-7.3) -> 0 | AM39: =IF(AM38=0,0,AM38*7.3-7.3) -> 0
A40: Heures par semaine | F40: =SUM(E39:J39) -> 0 | M40: =SUM(L39:Q39) -> 0 | T40: =SUM(S39:X39) -> 0 | AA40: =SUM(Z39:AE39) -> 0 | AH40: =SUM(AG39:AL39) -> 0
M42: PLANNING PPI+Crèmerie +Charcuterie
A45: MAI | C45: Matricule | D45: STATUT | E45: PAUSE
F46: L | G46: M | H46: M | I46: J | J46: V | K46: S | L46: D | M46: L | N46: M | O46: M | P46: J | Q46: V | R46: S | S46: D | T46: L | U46: M | V46: M | W46: J | X46: V | Y46: S | Z46: D | AA46: L | AB46: M | AC46: M | AD46: J | AE46: V | AF46: S | AG46: D | AH46: L | AI46: M | AJ46: M | AK46: J | AL46: V | AM46: S | AN46: D
A47: FRANCK 03 | B47: =IFERROR(IF(VLOOKUP(A47,'Listing CDI '!A:E,2,FALSE)="","",VLOOKUP(A47,'Listing CDI '!A:E,2,FALSE)),"") -> ACHEMINEUR 03 | C47: =IFERROR(IF(VLOOKUP(A47,'Listing CDI '!A:E,3,FALSE)="","",VLOOKUP(A47,'Listing CDI '!A:E,3,FALSE)),"") -> 9093159 | D47: =IFERROR(IF(VLOOKUP(A47,'Listing CDI '!A:E,4,FALSE)="","",VLOOKUP(A47,'Listing CDI '!A:E,4,FALSE)),"") -> CDI | E47: 13H00-13H30
B48: =IFERROR(IF(VLOOKUP(A48,'Listing CDI '!A:E,2,FALSE)="","",VLOOKUP(A48,'Listing CDI '!A:E,2,FALSE)),"") | C48: =IFERROR(IF(VLOOKUP(A48,'Listing CDI '!A:E,3,FALSE)="","",VLOOKUP(A48,'Listing CDI '!A:E,3,FALSE)),"") | D48: =IFERROR(IF(VLOOKUP(A48,'Listing CDI '!A:E,4,FALSE)="","",VLOOKUP(A48,'Listing CDI '!A:E,4,FALSE)),"") | E48: 13H00-13H30
B49: =IFERROR(IF(VLOOKUP(A49,'Listing CDI '!A:E,2,FALSE)="","",VLOOKUP(A49,'Listing CDI '!A:E,2,FALSE)),"") | C49: =IFERROR(IF(VLOOKUP(A49,'Listing CDI '!A:E,3,FALSE)="","",VLOOKUP(A49,'Listing CDI '!A:E,3,FALSE)),"") | D49: =IFERROR(IF(VLOOKUP(A49,'Listing CDI '!A:E,4,FALSE)="","",VLOOKUP(A49,'Listing CDI '!A:E,4,FALSE)),"") | E49: 16H30-17H00
B50: =IFERROR(IF(VLOOKUP(A50,'Listing CDI '!A:E,2,FALSE)="","",VLOOKUP(A50,'Listing CDI '!A:E,2,FALSE)),"") | C50: =IFERROR(IF(VLOOKUP(A50,'Listing CDI '!A:E,3,FALSE)="","",VLOOKUP(A50,'Listing CDI '!A:E,3,FALSE)),"") | D50: =IFERROR(IF(VLOOKUP(A50,'Listing CDI '!A:E,4,FALSE)="","",VLOOKUP(A50,'Listing CDI '!A:E,4,FALSE)),"") | E50: 16H30-17H00
B51: =IFERROR(IF(VLOOKUP(A51,'Listing CDI '!A:E,2,FALSE)="","",VLOOKUP(A51,'Listing CDI '!A:E,2,FALSE)),"") | C51: =IFERROR(IF(VLOOKUP(A51,'Listing CDI '!A:E,3,FALSE)="","",VLOOKUP(A51,'Listing CDI '!A:E,3,FALSE)),"") | D51: =IFERROR(IF(VLOOKUP(A51,'Listing CDI '!A:E,4,FALSE)="","",VLOOKUP(A51,'Listing CDI '!A:E,4,FALSE)),"") | E51: 15H30-16H00
B52: =IFERROR(IF(VLOOKUP(A52,'Listing CDI '!A:E,2,FALSE)="","",VLOOKUP(A52,'Listing CDI '!A:E,2,FALSE)),"") | C52: =IFERROR(IF(VLOOKUP(A52,'Listing CDI '!A:E,3,FALSE)="","",VLOOKUP(A52,'Listing CDI '!A:E,3,FALSE)),"") | D52: =IFERROR(IF(VLOOKUP(A52,'Listing CDI '!A:E,4,FALSE)="","",VLOOKUP(A52,'Listing CDI '!A:E,4,FALSE)),"") | E52: 15H30-16H00
B53: =IFERROR(IF(VLOOKUP(A53,'Listing CDI '!A:E,2,FALSE)="","",VLOOKUP(A53,'Listing CDI '!A:E,2,FALSE)),"") | C53: =IFERROR(IF(VLOOKUP(A53,'Listing CDI '!A:E,3,FALSE)="","",VLOOKUP(A53,'Listing CDI '!A:E,3,FALSE)),"") | D53: =IFERROR(IF(VLOOKUP(A53,'Listing CDI '!A:E,4,FALSE)="","",VLOOKUP(A53,'Listing CDI '!A:E,4,FALSE)),"") | E53: 16H30-17H00
B54: =IFERROR(IF(VLOOKUP(A54,'Listing CDI '!A:E,2,FALSE)="","",VLOOKUP(A54,'Listing CDI '!A:E,2,FALSE)),"") | C54: =IFERROR(IF(VLOOKUP(A54,'Listing CDI '!A:E,3,FALSE)="","",VLOOKUP(A54,'Listing CDI '!A:E,3,FALSE)),"") | D54: =IFERROR(IF(VLOOKUP(A54,'Listing CDI '!A:E,4,FALSE)="","",VLOOKUP(A54,'Listing CDI '!A:E,4,FALSE)),"") | E54: 16H30-17H00
B55: =IFERROR(IF(VLOOKUP(A55,'Listing CDI '!A:E,2,FALSE)="","",VLOOKUP(A55,'Listing CDI '!A:E,2,FALSE)),"") | C55: =IFERROR(IF(VLOOKUP(A55,'Listing CDI '!A:E,3,FALSE)="","",VLOOKUP(A55,'Listing CDI '!A:E,3,FALSE)),"") | D55: =IFERROR(IF(VLOOKUP(A55,'Listing CDI '!A:E,4,FALSE)="","",VLOOKUP(A55,'Listing CDI '!A:E,4,FALSE)),"") | E55: 16H30-17H00
B56: =IFERROR(IF(VLOOKUP(A56,'Listing CDI '!A:E,2,FALSE)="","",VLOOKUP(A56,'Listing CDI '!A:E,2,FALSE)),"") | C56: =IFERROR(IF(VLOOKUP(A56,'Listing CDI '!A:E,3,FALSE)="","",VLOOKUP(A56,'Listing CDI '!A:E,3,FALSE)),"") | D56: =IFERROR(IF(VLOOKUP(A56,'Listing CDI '!A:E,4,FALSE)="","",VLOOKUP(A56,'Listing CDI '!A:E,4,FALSE)),"") | E56: MANUT
B57: =IFERROR(IF(VLOOKUP(A57,'Listing CDI '!A:E,2,FALSE)="","",VLOOKUP(A57,'Listing CDI '!A:E,2,FALSE)),"") | C57: =IFERROR(IF(VLOOKUP(A57,'Listing CDI '!A:E,3,FALSE)="","",VLOOKUP(A57,'Listing CDI '!A:E,3,FALSE)),"") | D57: =IFERROR(IF(VLOOKUP(A57,'Listing CDI '!A:E,4,FALSE)="","",VLOOKUP(A57,'Listing CDI '!A:E,4,FALSE)),"") | E57: MANUT
B58: =IFERROR(IF(VLOOKUP(A58,'Listing CDI '!A:E,2,FALSE)="","",VLOOKUP(A58,'Listing CDI '!A:E,2,FALSE)),"") | C58: =IFERROR(IF(VLOOKUP(A58,'Listing CDI '!A:E,3,FALSE)="","",VLOOKUP(A58,'Listing CDI '!A:E,3,FALSE)),"") | D58: =IFERROR(IF(VLOOKUP(A58,'Listing CDI '!A:E,4,FALSE)="","",VLOOKUP(A58,'Listing CDI '!A:E,4,FALSE)),"") | E58: MANUT
B59: =IFERROR(IF(VLOOKUP(A59,'Listing CDI '!A:E,2,FALSE)="","",VLOOKUP(A59,'Listing CDI '!A:E,2,FALSE)),"") | C59: =IFERROR(IF(VLOOKUP(A59,'Listing CDI '!A:E,3,FALSE)="","",VLOOKUP(A59,'Listing CDI '!A:E,3,FALSE)),"") | D59: =IFERROR(IF(VLOOKUP(A59,'Listing CDI '!A:E,4,FALSE)="","",VLOOKUP(A59,'Listing CDI '!A:E,4,FALSE)),"") | E59: MANUT
B60: =IFERROR(IF(VLOOKUP(A60,'Listing CDI '!A:E,2,FALSE)="","",VLOOKUP(A60,'Listing CDI '!A:E,2,FALSE)),"") | C60: =IFERROR(IF(VLOOKUP(A60,'Listing CDI '!A:E,3,FALSE)="","",VLOOKUP(A60,'Listing CDI '!A:E,3,FALSE)),"") | D60: =IFERROR(IF(VLOOKUP(A60,'Listing CDI '!A:E,4,FALSE)="","",VLOOKUP(A60,'Listing CDI '!A:E,4,FALSE)),"")
B61: =IFERROR(IF(VLOOKUP(A61,'Listing CDI '!A:E,2,FALSE)="","",VLOOKUP(A61,'Listing CDI '!A:E,2,FALSE)),"") | C61: =IFERROR(IF(VLOOKUP(A61,'Listing CDI '!A:E,3,FALSE)="","",VLOOKUP(A61,'Listing CDI '!A:E,3,FALSE)),"") | D61: =IFERROR(IF(VLOOKUP(A61,'Listing CDI '!A:E,4,FALSE)="","",VLOOKUP(A61,'Listing CDI '!A:E,4,FALSE)),"")
B62: =IFERROR(IF(VLOOKUP(A62,'Listing CDI '!A:E,2,FALSE)="","",VLOOKUP(A62,'Listing CDI '!A:E,2,FALSE)),"") | C62: =IFERROR(IF(VLOOKUP(A62,'Listing CDI '!A:E,3,FALSE)="","",VLOOKUP(A62,'Listing CDI '!A:E,3,FALSE)),"") | D62: =IFERROR(IF(VLOOKUP(A62,'Listing CDI '!A:E,4,FALSE)="","",VLOOKUP(A62,'Listing CDI '!A:E,4,FALSE)),"")
B63: =IFERROR(IF(VLOOKUP(A63,'Listing CDI '!A:E,2,FALSE)="","",VLOOKUP(A63,'Listing CDI '!A:E,2,FALSE)),"") | C63: =IFERROR(IF(VLOOKUP(A63,'Listing CDI '!A:E,3,FALSE)="","",VLOOKUP(A63,'Listing CDI '!A:E,3,FALSE)),"") | D63: =IFERROR(IF(VLOOKUP(A63,'Listing CDI '!A:E,4,FALSE)="","",VLOOKUP(A63,'Listing CDI '!A:E,4,FALSE)),"")
A64: EFFECTIF JOURNALIER ACHEMINAGE | F64: =COUNT(F47:F63) -> 0 | G64: =COUNT(G47:G63) -> 0 | H64: =COUNT(H47:H63) -> 0 | I64: =COUNT(I47:I63) -> 0 | J64: =COUNT(J47:J63) -> 0 | K64: =COUNT(K47:K63) -> 0 | M64: =COUNT(M47:M63) -> 0 | N64: =COUNT(N47:N63) -> 0 | O64: =COUNT(O47:O63) -> 0 | P64: =COUNT(P47:P63) -> 0 | Q64: =COUNT(Q47:Q63) -> 0 | R64: =COUNT(R47:R63) -> 0 | T64: =COUNT(T47:T63) -> 0 | U64: =COUNT(U47:U63) -> 0 | V64: =COUNT(V47:V63) -> 0 | W64: =COUNT(W47:W63) -> 0 | X64: =COUNT(X47:X63) -> 0 | Y64: =COUNT(Y47:Y63) -> 0 | AA64: =COUNT(AA47:AA63) -> 0 | AB64: =COUNT(AB47:AB63) -> 0 | AC64: =COUNT(AC47:AC63) -> 0 | AD64: =COUNT(AD47:AD63) -> 0 | AE64: =COUNT(AE47:AE63) -> 0 | AF64: =COUNT(AF47:AF63) -> 0 | AH64: =COUNT(AH47:AH63) -> 0 | AI64: =COUNT(AI47:AI63) -> 0 | AJ64: =COUNT(AJ47:AJ63) -> 0 | AK64: =COUNT(AK47:AK63) -> 0 | AL64: =COUNT(AL47:AL63) -> 0 | AM64: =COUNT(AM47:AM63) -> 0
A65: Heures par jours | F65: =F63*7.3 -> 0 | G65: =G63*7.3 -> 0 | H65: =H63*7.3 -> 0 | I65: =I63*7.3 -> 0 | J65: =J63*7.3 -> 0 | K65: =K63*7.3 -> 0 | M65: =M63*7.3 -> 0 | N65: =N63*7.3 -> 0 | O65: =O63*7.3 -> 0 | P65: =P63*7.3 -> 0 | Q65: =Q63*7.3 -> 0 | R65: =R63*7.3 -> 0 | T65: =T63*7.3 -> 0 | U65: =U63*7.3 -> 0 | V65: =V63*7.3 -> 0 | W65: =W63*7.3 -> 0 | X65: =X63*7.3 -> 0 | Y65: =Y63*7.3 -> 0 | AA65: =AA63*7.3 -> 0 | AB65: =AB63*7.3 -> 0 | AC65: =AC63*7.3 -> 0 | AD65: =AD63*7.3 -> 0 | AE65: =AE63*7.3 -> 0 | AF65: =AF63*7.3 -> 0 | AH65: =AH63*7.3 -> 0 | AI65: =AI63*7.3 -> 0 | AJ65: =AJ63*7.3 -> 0 | AK65: =AK63*7.3 -> 0 | AL65: =AL63*7.3 -> 0 | AM65: =AM63*7.3 -> 0
A66: Heures jours avec déduction effectifs (5 Achemineur + 2 Dalles) | F66: =IF(F65=0,0,F65-(7*7.3)) -> 0 | G66: =IF(G65=0,0,G65-(7*7.3)) -> 0 | H66: =IF(H65=0,0,H65-(7*7.3)) -> 0 | I66: =IF(I65=0,0,I65-(7*7.3)) -> 0 | J66: =IF(J65=0,0,J65-(7*7.3)) -> 0 | K66: =IF(K65=0,0,K65-(7*7.3)) -> 0 | M66: =IF(M65=0,0,M65-(7*7.3)) -> 0 | N66: =IF(N65=0,0,N65-(7*7.3)) -> 0 | O66: =IF(O65=0,0,O65-(7*7.3)) -> 0 | P66: =IF(P65=0,0,P65-(7*7.3)) -> 0 | Q66: =IF(Q65=0,0,Q65-(7*7.3)) -> 0 | R66: =IF(R65=0,0,R65-(7*7.3)) -> 0 | T66: =IF(T65=0,0,T65-(7*7.3)) -> 0 | U66: =IF(U65=0,0,U65-(7*7.3)) -> 0 | V66: =IF(V65=0,0,V65-(7*7.3)) -> 0 | W66: =IF(W65=0,0,W65-(7*7.3)) -> 0 | X66: =IF(X65=0,0,X65-(7*7.3)) -> 0 | Y66: =IF(Y65=0,0,Y65-(7*7.3)) -> 0 | AA66: =IF(AA65=0,0,AA65-(7*7.3)) -> 0 | AB66: =IF(AB65=0,0,AB65-(7*7.3)) -> 0 | AC66: =IF(AC65=0,0,AC65-(7*7.3)) -> 0 | AD66: =IF(AD65=0,0,AD65-(7*7.3)) -> 0 | AE66: =IF(AE65=0,0,AE65-(7*7.3)) -> 0 | AF66: =IF(AF65=0,0,AF65-(7*7.3)) -> 0 | AH66: =IF(AH65=0,0,AH65-(7*7.3)) -> 0 | AI66: =IF(AI65=0,0,AI65-(7*7.3)) -> 0 | AJ66: =IF(AJ65=0,0,AJ65-(7*7.3)) -> 0 | AK66: =IF(AK65=0,0,AK65-(7*7.3)) -> 0 | AL66: =IF(AL65=0,0,AL65-(7*7.3)) -> 0 | AM66: =IF(AM65=0,0,AM65-(7*7.3)) -> 0
A67: Heures par semaine | F67: =SUM(F65:K65) -> 0 | M67: =SUM(M65:R65) -> 0 | T67: =SUM(T65:Y65) -> 0 | AA67: =SUM(AA65:AF65) -> 0 | AH67: =SUM(AH65:AM65) -> 0
A68: Heures par semaine avec déduction | F68: =SUM(F66:K66) -> 0 | M68: =SUM(M66:R66) -> 0 | T68: =SUM(T66:Y66) -> 0 | AA68: =SUM(AA66:AF66) -> 0 | AH68: =SUM(AH66:AM66) -> 0
M70: PLANNING ADMINISTRATIF
A73: MAI | C73: Matricule | D73: STATUT | E73: PAUSE
F74: L | G74: M | H74: M | I74: J | J74: V | K74: S | L74: D | M74: L | N74: M | O74: M | P74: J | Q74: V | R74: S | S74: D | T74: L | U74: M | V74: M | W74: J | X74: V | Y74: S | Z74: D | AA74: L | AB74: M | AC74: M | AD74: J | AE74: V | AF74: S | AG74: D | AH74: L | AI74: M | AJ74: M | AK74: J | AL74: V | AM74: S | AN74: D
B75: =IFERROR(IF(VLOOKUP(A75,'Listing CDI '!A:E,2,FALSE)="","",VLOOKUP(A75,'Listing CDI '!A:E,2,FALSE)),"") | C75: =IFERROR(IF(VLOOKUP(A75,'Listing CDI '!A:E,3,FALSE)="","",VLOOKUP(A75,'Listing CDI '!A:E,3,FALSE)),"") | D75: =IFERROR(IF(VLOOKUP(A75,'Listing CDI '!A:E,4,FALSE)="","",VLOOKUP(A75,'Listing CDI '!A:E,4,FALSE)),"") | E75: 15H30-16H00
B76: =IFERROR(IF(VLOOKUP(A76,'Listing CDI '!A:E,2,FALSE)="","",VLOOKUP(A76,'Listing CDI '!A:E,2,FALSE)),"") | C76: =IFERROR(IF(VLOOKUP(A76,'Listing CDI '!A:E,3,FALSE)="","",VLOOKUP(A76,'Listing CDI '!A:E,3,FALSE)),"") | D76: =IFERROR(IF(VLOOKUP(A76,'Listing CDI '!A:E,4,FALSE)="","",VLOOKUP(A76,'Listing CDI '!A:E,4,FALSE)),"") | E76: 13H00-13H30
B77: =IFERROR(IF(VLOOKUP(A77,'Listing CDI '!A:E,2,FALSE)="","",VLOOKUP(A77,'Listing CDI '!A:E,2,FALSE)),"") | C77: =IFERROR(IF(VLOOKUP(A77,'Listing CDI '!A:E,3,FALSE)="","",VLOOKUP(A77,'Listing CDI '!A:E,3,FALSE)),"") | D77: =IFERROR(IF(VLOOKUP(A77,'Listing CDI '!A:E,4,FALSE)="","",VLOOKUP(A77,'Listing CDI '!A:E,4,FALSE)),"") | E77: 16H30-17H00
B78: =IFERROR(IF(VLOOKUP(A78,'Listing CDI '!A:E,2,FALSE)="","",VLOOKUP(A78,'Listing CDI '!A:E,2,FALSE)),"") | C78: =IFERROR(IF(VLOOKUP(A78,'Listing CDI '!A:E,3,FALSE)="","",VLOOKUP(A78,'Listing CDI '!A:E,3,FALSE)),"") | D78: =IFERROR(IF(VLOOKUP(A78,'Listing CDI '!A:E,4,FALSE)="","",VLOOKUP(A78,'Listing CDI '!A:E,4,FALSE)),"") | E78: 16H30-17H00
B79: =IFERROR(IF(VLOOKUP(A79,'Listing CDI '!A:E,2,FALSE)="","",VLOOKUP(A79,'Listing CDI '!A:E,2,FALSE)),"") | C79: =IFERROR(IF(VLOOKUP(A79,'Listing CDI '!A:E,3,FALSE)="","",VLOOKUP(A79,'Listing CDI '!A:E,3,FALSE)),"") | D79: =IFERROR(IF(VLOOKUP(A79,'Listing CDI '!A:E,4,FALSE)="","",VLOOKUP(A79,'Listing CDI '!A:E,4,FALSE)),"") | E79: POINTEUR CERTIFIEUR
B80: =IFERROR(IF(VLOOKUP(A80,'Listing CDI '!A:E,2,FALSE)="","",VLOOKUP(A80,'Listing CDI '!A:E,2,FALSE)),"") | C80: =IFERROR(IF(VLOOKUP(A80,'Listing CDI '!A:E,3,FALSE)="","",VLOOKUP(A80,'Listing CDI '!A:E,3,FALSE)),"") | D80: =IFERROR(IF(VLOOKUP(A80,'Listing CDI '!A:E,4,FALSE)="","",VLOOKUP(A80,'Listing CDI '!A:E,4,FALSE)),"") | E80: POINTEUR CERTIFIEUR
A81: EFFECTIF JOURNALIER ADMINISTRATIF | F81: =COUNT(F75:F80) -> 0 | G81: =COUNT(G75:G80) -> 0 | H81: =COUNT(H75:H80) -> 0 | I81: =COUNT(I75:I80) -> 0 | J81: =COUNT(J75:J80) -> 0 | K81: =COUNT(K75:K80) -> 0 | M81: =COUNT(M75:M80) -> 0 | N81: =COUNT(N75:N80) -> 0 | O81: =COUNT(O75:O80) -> 0 | P81: =COUNT(P75:P80) -> 0 | Q81: =COUNT(Q75:Q80) -> 0 | R81: =COUNT(R75:R80) -> 0 | T81: =COUNT(T75:T80) -> 0 | U81: =COUNT(U75:U80) -> 0 | V81: =COUNT(V75:V80) -> 0 | W81: =COUNT(W75:W80) -> 0 | X81: =COUNT(X75:X80) -> 0 | Y81: =COUNT(Y75:Y80) -> 0 | AA81: =COUNT(AA75:AA80) -> 0 | AB81: =COUNT(AB75:AB80) -> 0 | AC81: =COUNT(AC75:AC80) -> 0 | AD81: =COUNT(AD75:AD80) -> 0 | AE81: =COUNT(AE75:AE80) -> 0 | AF81: =COUNT(AF75:AF80) -> 0 | AH81: =COUNT(AH75:AH80) -> 0 | AI81: =COUNT(AI75:AI80) -> 0 | AJ81: =COUNT(AJ75:AJ80) -> 0 | AK81: =COUNT(AK75:AK80) -> 0 | AL81: =COUNT(AL75:AL80) -> 0 | AM81: =COUNT(AM75:AM80) -> 0
A82: Heures par jours | F82: =F81*7.3 -> 0 | G82: =G81*7.3 -> 0 | H82: =H81*7.3 -> 0 | I82: =I81*7.3 -> 0 | J82: =J81*7.3 -> 0 | K82: =K81*7.3 -> 0 | M82: =M81*7.3 -> 0 | N82: =N81*7.3 -> 0 | O82: =O81*7.3 -> 0 | P82: =P81*7.3 -> 0 | Q82: =Q81*7.3 -> 0 | R82: =R81*7.3 -> 0 | T82: =T81*7.3 -> 0 | U82: =U81*7.3 -> 0 | V82: =V81*7.3 -> 0 | W82: =W81*7.3 -> 0 | X82: =X81*7.3 -> 0 | Y82: =Y81*7.3 -> 0 | AA82: =AA81*7.3 -> 0 | AB82: =AB81*7.3 -> 0 | AC82: =AC81*7.3 -> 0 | AD82: =AD81*7.3 -> 0 | AE82: =AE81*7.3 -> 0 | AF82: =AF81*7.3 -> 0 | AH82: =AH81*7.3 -> 0 | AI82: =AI81*7.3 -> 0 | AJ82: =AJ81*7.3 -> 0 | AK82: =AK81*7.3 -> 0 | AL82: =AL81*7.3 -> 0 | AM82: =AM81*7.3 -> 0
A83: Heures par semaine | F83: =SUM(F82:K82) -> 0 | M83: =SUM(M82:R82) -> 0 | T83: =SUM(T82:Y82) -> 0 | AA83: =SUM(AA82:AF82) -> 0 | AH83: =SUM(AH82:AM82) -> 0
A85: MAI | C85: Matricule | D85: STATUT | E85: PAUSE
F86: L | G86: M | H86: M | I86: J | J86: V | K86: S | L86: D | M86: L | N86: M | O86: M | P86: J | Q86: V | R86: S | S86: D | T86: L | U86: M | V86: M | W86: J | X86: V | Y86: S | Z86: D | AA86: L | AB86: M | AC86: M | AD86: J | AE86: V | AF86: S | AG86: D | AH86: L | AI86: M | AJ86: M | AK86: J | AL86: V | AM86: S | AN86: D
B87: =IFERROR(IF(VLOOKUP(A87,'Listing CDI '!A:E,2,FALSE)="","",VLOOKUP(A87,'Listing CDI '!A:E,2,FALSE)),"") | C87: =IFERROR(IF(VLOOKUP(A87,'Listing CDI '!A:E,3,FALSE)="","",VLOOKUP(A87,'Listing CDI '!A:E,3,FALSE)),"") | D87: =IFERROR(IF(VLOOKUP(A87,'Listing CDI '!A:E,4,FALSE)="","",VLOOKUP(A87,'Listing CDI '!A:E,4,FALSE)),"")
B88: =IFERROR(IF(VLOOKUP(A88,'Listing CDI '!A:E,2,FALSE)="","",VLOOKUP(A88,'Listing CDI '!A:E,2,FALSE)),"") | C88: =IFERROR(IF(VLOOKUP(A88,'Listing CDI '!A:E,3,FALSE)="","",VLOOKUP(A88,'Listing CDI '!A:E,3,FALSE)),"") | D88: =IFERROR(IF(VLOOKUP(A88,'Listing CDI '!A:E,4,FALSE)="","",VLOOKUP(A88,'Listing CDI '!A:E,4,FALSE)),"")
B89: =IFERROR(IF(VLOOKUP(A89,'Listing CDI '!A:E,2,FALSE)="","",VLOOKUP(A89,'Listing CDI '!A:E,2,FALSE)),"") | C89: =IFERROR(IF(VLOOKUP(A89,'Listing CDI '!A:E,3,FALSE)="","",VLOOKUP(A89,'Listing CDI '!A:E,3,FALSE)),"") | D89: =IFERROR(IF(VLOOKUP(A89,'Listing CDI '!A:E,4,FALSE)="","",VLOOKUP(A89,'Listing CDI '!A:E,4,FALSE)),"")
B90: =IFERROR(IF(VLOOKUP(A90,'Listing CDI '!A:E,2,FALSE)="","",VLOOKUP(A90,'Listing CDI '!A:E,2,FALSE)),"") | C90: =IFERROR(IF(VLOOKUP(A90,'Listing CDI '!A:E,3,FALSE)="","",VLOOKUP(A90,'Listing CDI '!A:E,3,FALSE)),"") | D90: =IFERROR(IF(VLOOKUP(A90,'Listing CDI '!A:E,4,FALSE)="","",VLOOKUP(A90,'Listing CDI '!A:E,4,FALSE)),"")
A93: EFFECTIF JOURNALIER (NETTOYAGE + ACHEMINAGE + CHARGEUR + ADMIN) | F93: =F13+F38+F64+F81 -> 0 | G93: =G13+G38+G64+G81 -> 0 | H93: =H13+H38+H64+H81 -> 0 | I93: =I13+I38+I64+I81 -> 0 | J93: =J13+J38+J64+J81 -> 0 | K93: =K13+K38+K64+K81 -> 0 | M93: =M13+M38+M64+M81 -> 0 | N93: =N13+N38+N64+N81 -> 0 | O93: =O13+O38+O64+O81 -> 0 | P93: =P13+P38+P64+P81 -> 0 | Q93: =Q13+Q38+Q64+Q81 -> 0 | R93: =R13+R38+R64+R81 -> 0 | T93: =T13+T38+T64+T81 -> 0 | U93: =U13+U38+U64+U81 -> 0 | V93: =V13+V38+V64+V81 -> 0 | W93: =W13+W38+W64+W81 -> 0 | X93: =X13+X38+X64+X81 -> 0 | Y93: =Y13+Y38+Y64+Y81 -> 0 | AA93: =AA13+AA38+AA64+AA81 -> 0 | AB93: =AB13+AB38+AB64+AB81 -> 0 | AC93: =AC13+AC38+AC64+AC81 -> 0 | AD93: =AD13+AD38+AD64+AD81 -> 0 | AE93: =AE13+AE38+AE64+AE81 -> 0 | AF93: =AF13+AF38+AF64+AF81 -> 0 | AH93: =AH13+AH38+AH64+AH81 -> 0 | AI93: =AI13+AI38+AI64+AI81 -> 0 | AJ93: =AJ13+AJ38+AJ64+AJ81 -> 0 | AK93: =AK13+AK38+AK64+AK81 -> 0 | AL93: =AL13+AL38+AL64+AL81 -> 0 | AM93: =AM13+AM38+AM64+AM81 -> 0
A94: Total heures jours | F94: =F14+F39+F66+F82 -> 0 | G94: =G14+G39+G66+G82 -> 0 | H94: =H14+H39+H66+H82 -> 0 | I94: =I14+I39+I66+I82 -> 0 | J94: =J14+J39+J66+J82 -> 0 | K94: =K14+K39+K66+K82 -> 0 | M94: =M14+M39+M66+M82 -> 0 | N94: =N14+N39+N66+N82 -> 0 | O94: =O14+O39+O66+O82 -> 0 | P94: =P14+P39+P66+P82 -> 0 | Q94: =Q14+Q39+Q66+Q82 -> 0 | R94: =R14+R39+R66+R82 -> 0 | T94: =T14+T39+T66+T82 -> 0 | U94: =U14+U39+U66+U82 -> 0 | V94: =V14+V39+V66+V82 -> 0 | W94: =W14+W39+W66+W82 -> 0 | X94: =X14+X39+X66+X82 -> 0 | Y94: =Y14+Y39+Y66+Y82 -> 0 | AA94: =AA14+AA39+AA66+AA82 -> 0 | AB94: =AB14+AB39+AB66+AB82 -> 0 | AC94: =AC14+AC39+AC66+AC82 -> 0 | AD94: =AD14+AD39+AD66+AD82 -> 0 | AE94: =AE14+AE39+AE66+AE82 -> 0 | AF94: =AF14+AF39+AF66+AF82 -> 0 | AH94: =AH14+AH39+AH66+AH82 -> 0 | AI94: =AI14+AI39+AI66+AI82 -> 0 | AJ94: =AJ14+AJ39+AJ66+AJ82 -> 0 | AK94: =AK14+AK39+AK66+AK82 -> 0 | AL94: =AL14+AL39+AL66+AL82 -> 0 | AM94: =AM14+AM39+AM66+AM82 -> 0
A96: Total heures semaine | F96: =IFERROR((F15+F40+F68+F83),"") -> 0 | M96: =IFERROR((M15+M40+M68+M83),"") -> 0 | T96: =IFERROR((T15+T40+T68+T83),"") -> 0 | AA96: =IFERROR((AA15+AA40+AA68+AA83),"") -> 0 | AH96: =IFERROR((AH15+AH40+AH68+AH83),"") -> 0

Sheet Listing CDI 
A1: LISTING EFFECTIF CDI
A3: NOM | B3: PRENOM | C3: N° | D3: STATUT / Agence intérim | E3: Poste | F3: Ancienneté
A4: CHARLE 01 | B4: NETTOYAGE 01 | C4: 9011974 | D4: CDI | E4: Nettoyage
A5: CHARLE 02 | B5: NETTOYAGE 02 | C5: 9092073 | D5: CDI | E5: Nettoyage
A6: JEAN 01 | B6: CHARGEUR 01 | C6: 9092952 | D6: CDI | E6: Chargement
A7: JEAN 02 | B7: CHARGEUR 02 | C7: 9093064 | D7: CDI | E7: Chargement
A8: JEAN 03 | B8: CHARGEUR 03 | C8: 9092808 | D8: CDI | E8: Chargement
A9: JEAN 04 | B9: CHARGEUR 04 | C9: 9092870 | D9: CDI | E9: Chargement
A10: JEAN 05 | B10: CHARGEUR 05 | D10: CDI | E10: Chargement
A11: JEAN 06 | B11: CHARGEUR 06 | C11: 9092689 | D11: CDI | E11: Chargement
A12: JEAN 07 | B12: CHARGEUR 07 | D12: CDI | E12: Chargement
A13: JEAN 08 | B13: CHARGEUR 08 | C13: 9092945 | D13: CDI | E13: Chargement
A14: JEAN 09 | B14: CHARGEUR 09 | D14: CDI | E14: Chargement
A15: FRANCK 01 | B15: ACHEMINEUR 01 | C15: 9092820 | D15: CDI | E15: Acheminage
A16: FRANCK 02 | B16: ACHEMINEUR 02 | C16: 9093236 | D16: CDI | E16: Acheminage
A17: FRANCK 03 | B17: ACHEMINEUR 03 | C17: 9093159 | D17: CDI | E17: Acheminage
A18: FRANCK 04 | B18: ACHEMINEUR 04 | C18: 9093162 | D18: CDI | E18: Acheminage
A19: FRANCK 05 | B19: ACHEMINEUR 05 | C19: 79120124 | D19: CDI | E19: Acheminage
A20: FRANCK 06 | B20: ACHEMINEUR 06 | C20: 9092566 | D20: CDI | E20: Acheminage
A21: FRANCK 07 | B21: ACHEMINEUR 07 | C21: 9093038 | D21: CDI | E21: Acheminage
A22: FRANCK 08 | B22: ACHEMINEUR 08 | C22: 9093000 | D22: CDI | E22: Acheminage
A23: FRANCK 09 | B23: ACHEMINEUR 09 | C23: 9093037 | D23: CDI | E23: Acheminage
A24: BEN 01 | B24: ADMIN 01 | C24: 9092936 | D24: CDI | E24: Administratif
A25: BEN 02 | B25: ADMIN 02 | C25: 9093180 | D25: CDI | E25: Administratif
A26: CHRIS 01 | B26: RESPONSABLE 01 | C26: 9093179 | D26: CDI | E26: Encadrement
... A29: CHRIS 04 | B29: RESPONSABLE 04 | C29: 17886 | D29: CDI | E29: Encadrement

Sheet Listing&Suivi ETT
A1: LISTING EFFECTIF ETT
A3: NOM | B3: PRENOM | C3: N° | D3: STATUT / Agence intérim | E3: Poste
A4: STEVE 13 | B4: INTERIM 13 | C4: 12 | D4: RANDSTAD | E4: Nettoyage
A5: STEVE 01 | B5: INTERIM 01 | C5: 1 | D5: RANDSTAD | E5: Chargement
A6: STEVE 02 | B6: INTERIM 02 | C6: 2 | D6: RANDSTAD | E6: Chargement
A7: STEVE 03 | B7: INTERIM 03 | C7: 3 | D7: RANDSTAD | E7: Chargement
A8: STEVE 04 | B8: INTERIM 04 | C8: 4 | D8: RANDSTAD | E8: Chargement
A9: STEVE 05 | B9: INTERIM 05 | C9: 5 | D9: GODJOB | E9: Chargement
A10: STEVE 06 | B10: INTERIM 06 | C10: 6 | D10: RANDSTAD | E10: Acheminage
A11: STEVE 07 | B11: INTERIM 07 | C11: 7 | D11: RANDSTAD | E11: Acheminage
A12: STEVE 08 | B12: INTERIM 08 | C12: 8 | D12: RANDSTAD | E12: Acheminage
A13: STEVE 09 | B13: INTERIM 09 | C13: 9 | D13: RANDSTAD | E13: Acheminage
A14: STEVE 10 | B14: INTERIM 10 | C14: 10 | D14: RANDSTAD | E14: Administratif
A15: STEVE 11 | B15: INTERIM 11 | C15: 11 | D15: RANDSTAD | E15: Administratif
A16: STEVE 12 | B16: INTERIM 12 | C16: 13 | D16: GODJOB | E16: Administratif
