Workbook

Sheet Datas
A1: Nom | B1: Prénom | C1: Numéro NISS | D1: Organisme assureur | E1: Date naissance | F1: Ticket modérateur | G1: Prescription 1 | H1: Prescription 2 | I1: Médecin envoyeur | J1: Numéro INAMI | K1: Adresse Dr
A2: ADAM | B2: Grégory | C2: 65164 | D2: MC | E2: 41774 | F2: 4 | G2: 43882 | I2: turlututu | J2: 684652 | K2: dans ton curriculum
A3: Escartefigue | B3: sarah | C3: 11111 | D3: Solidaris | E3: 44185 | F3: 11.2 | G3: 43831 | H3: 43860 | I3: zutzut | J3: 99999 | K3: Liège
A5: Grégoire | B5: Charlotte | C5: 9999999 | D5: Soliaris | E5: 33444 | F5: 25 | G5: 43831 | H5: 31924 | I5: Blop | J5: 888888 | K5: Liège
A10: Longrée | B10: Quentin | C10: 111111 | D10: MC | E10: 31924 | F10: 50 | G10: 44013 | H10: 44044 | I10: Blap | J10: 2222222 | K10: st amur

Sheet Prestations
A1: Année …
A2: PRENOM | B2: NOM | C2: Date Prescription 1 | D2: 1er (CTRL + ";") | E2: 2ème | F2: 3ème | G2: 4ème | H2: Date Prescription 2 | I2: 5ème | J2: 6ème | K2: 7ème | L2: 8ème
B3: Grégoire | C3: =IF(ISNA(VLOOKUP(B3,Datas!$A$2:$K$100,7,FALSE))," ",VLOOKUP(B3,Datas!$A$2:$K$100,7,FALSE)) -> 43831 | H3: =IF(ISNA(VLOOKUP(B3,Datas!$A$2:$K$100,8,FALSE))," ",VLOOKUP(B3,Datas!$A$2:$K$100,8,FALSE)) -> 31924
C4: =IF(ISNA(VLOOKUP(B4,Datas!$A$2:$K$100,7,FALSE))," ",VLOOKUP(B4,Datas!$A$2:$K$100,7,FALSE)) | H4: =IF(ISNA(VLOOKUP(B4,Datas!$A$2:$K$100,8,FALSE))," ",VLOOKUP(B4,Datas!$A$2:$K$100,8,FALSE))
B5: adam | C5: =IF(ISNA(VLOOKUP(B5,Datas!$A$2:$K$100,7,FALSE))," ",VLOOKUP(B5,Datas!$A$2:$K$100,7,FALSE)) -> 43882 | H5: =IF(ISNA(VLOOKUP(B5,Datas!$A$2:$K$100,8,FALSE))," ",VLOOKUP(B5,Datas!$A$2:$K$100,8,FALSE)) -> 0
C6: =IF(ISNA(VLOOKUP(B6,Datas!$A$2:$K$100,7,FALSE))," ",VLOOKUP(B6,Datas!$A$2:$K$100,7,FALSE)) | H6: =IF(ISNA(VLOOKUP(B6,Datas!$A$2:$K$100,8,FALSE))," ",VLOOKUP(B6,Datas!$A$2:$K$100,8,FALSE))
C7: =IF(ISNA(VLOOKUP(B7,Datas!$A$2:$K$100,7,FALSE))," ",VLOOKUP(B7,Datas!$A$2:$K$100,7,FALSE)) | H7: =IF(ISNA(VLOOKUP(B7,Datas!$A$2:$K$100,8,FALSE))," ",VLOOKUP(B7,Datas!$A$2:$K$100,8,FALSE))
C8: =IF(ISNA(VLOOKUP(B8,Datas!$A$2:$K$100,7,FALSE))," ",VLOOKUP(B8,Datas!$A$2:$K$100,7,FALSE)) | H8: =IF(ISNA(VLOOKUP(B8,Datas!$A$2:$K$100,8,FALSE))," ",VLOOKUP(B8,Datas!$A$2:$K$100,8,FALSE))
C9: =IF(ISNA(VLOOKUP(B9,Datas!$A$2:$K$100,7,FALSE))," ",VLOOKUP(B9,Datas!$A$2:$K$100,7,FALSE)) | H9: =IF(ISNA(VLOOKUP(B9,Datas!$A$2:$K$100,8,FALSE))," ",VLOOKUP(B9,Datas!$A$2:$K$100,8,FALSE))
C10: =IF(ISNA(VLOOKUP(B10,Datas!$A$2:$K$100,7,FALSE))," ",VLOOKUP(B10,Datas!$A$2:$K$100,7,FALSE)) | H10: =IF(ISNA(VLOOKUP(B10,Datas!$A$2:$K$100,8,FALSE))," ",VLOOKUP(B10,Datas!$A$2:$K$100,8,FALSE))
C11: =IF(ISNA(VLOOKUP(B11,Datas!$A$2:$K$100,7,FALSE))," ",VLOOKUP(B11,Datas!$A$2:$K$100,7,FALSE)) | H11: =IF(ISNA(VLOOKUP(B11,Datas!$A$2:$K$100,8,FALSE))," ",VLOOKUP(B11,Datas!$A$2:$K$100,8,FALSE))
C12: =IF(ISNA(VLOOKUP(B12,Datas!$A$2:$K$100,7,FALSE))," ",VLOOKUP(B12,Datas!$A$2:$K$100,7,FALSE)) | H12: =IF(ISNA(VLOOKUP(B12,Datas!$A$2:$K$100,8,FALSE))," ",VLOOKUP(B12,Datas!$A$2:$K$100,8,FALSE))
C13: =IF(ISNA(VLOOKUP(B13,Datas!$A$2:$K$100,7,FALSE))," ",VLOOKUP(B13,Datas!$A$2:$K$100,7,FALSE)) | H13: =IF(ISNA(VLOOKUP(B13,Datas!$A$2:$K$100,8,FALSE))," ",VLOOKUP(B13,Datas!$A$2:$K$100,8,FALSE))
C14: =IF(ISNA(VLOOKUP(B14,Datas!$A$2:$K$100,7,FALSE))," ",VLOOKUP(B14,Datas!$A$2:$K$100,7,FALSE)) | H14: =IF(ISNA(VLOOKUP(B14,Datas!$A$2:$K$100,8,FALSE))," ",VLOOKUP(B14,Datas!$A$2:$K$100,8,FALSE))
C15: =IF(ISNA(VLOOKUP(B15,Datas!$A$2:$K$100,7,FALSE))," ",VLOOKUP(B15,Datas!$A$2:$K$100,7,FALSE)) | H15: =IF(ISNA(VLOOKUP(B15,Datas!$A$2:$K$100,8,FALSE))," ",VLOOKUP(B15,Datas!$A$2:$K$100,8,FALSE))
C16: =IF(ISNA(VLOOKUP(B16,Datas!$A$2:$K$100,7,FALSE))," ",VLOOKUP(B16,Datas!$A$2:$K$100,7,FALSE)) | H16: =IF(ISNA(VLOOKUP(B16,Datas!$A$2:$K$100,8,FALSE))," ",VLOOKUP(B16,Datas!$A$2:$K$100,8,FALSE))
C17: =IF(ISNA(VLOOKUP(B17,Datas!$A$2:$K$100,7,FALSE))," ",VLOOKUP(B17,Datas!$A$2:$K$100,7,FALSE)) | H17: =IF(ISNA(VLOOKUP(B17,Datas!$A$2:$K$100,8,FALSE))," ",VLOOKUP(B17,Datas!$A$2:$K$100,8,FALSE))
... C50: =IF(ISNA(VLOOKUP(B50,Datas!$A$2:$K$100,7,FALSE))," ",VLOOKUP(B50,Datas!$A$2:$K$100,7,FALSE)) | H50: =IF(ISNA(VLOOKUP(B50,Datas!$A$2:$K$100,8,FALSE))," ",VLOOKUP(B50,Datas!$A$2:$K$100,8,FALSE))
