Workbook

Sheet SAISIES
A4: CHPT | B4: CATEGORIE | C4: DATE | D4: ACHILLE | E4: CELESTIN | F4: DANIEL | G4: ESTEVE | H4: HUBERT | I4: JEAN | J4: JEAN LUC | K4: LUC | L4: MARC | M4: PASCAL | N4: PIERRE | O4: E | P4: F | Q4: G | R4: H
A5: MULTI | B5: WRC | C5: 43834 | F5: 16 | I5: 22 | J5: 19 | K5: 25 | L5: 13 | N5: 10
A6: CONST | B6: WRC | C6: 43834 | F6: 16 | I6: 22 | J6: 19 | K6: 25 | L6: 13 | N6: 10
A7: F1 | B7: 60 | C7: 43841 | F7: 13 | I7: 19 | J7: 25 | K7: 22 | L7: 16 | M7: 7 | N7: 10
A8: CONST | B8: F1 | C8: 43841 | F8: 13 | I8: 19 | J8: 25 | K8: 22 | L8: 16 | M8: 7 | N8: 10
A9: MULTI | B9: GR2 | C9: 43848 | F9: 13 | I9: A | J9: 25 | K9: 19 | L9: 22 | M9: A | N9: 16
A10: MULTI | B10: GT1 | C10: 43848 | F10: 13 | I10: A | J10: 25 | K10: 22 | L10: 19 | M10: A | N10: 16
A11: CONST | B11: GR2 | C11: 43848 | F11: 13 | I11: A | J11: 25 | K11: 19 | L11: 22 | M11: A | N11: 16
A12: CONST | B12: GT1 | C12: 43848 | F12: 5 | I12: A | J12: 25 | K12: 22 | L12: 19 | M12: A | N12: 16
A13: MULTI | B13: PROTOFLY | C13: 43855 | E13: 19 | F13: HC | I13: 16 | J13: 25 | K13: 13 | L13: 22
A14: MULTI | B14: GT1 | C14: 43855 | E14: 25 | F14: 10 | I14: 16 | J14: 19 | K14: 22 | L14: 13
A15: CONST | B15: PROTOFLY | C15: 43855 | F15: HC | I15: 16 | J15: 25 | K15: 13 | L15: 22
A16: CONST | B16: GT1 | C16: 43855 | F16: 10 | I16: 16 | J16: 25 | K16: 22 | L16: 13
A17: MULTI | B17: PROTOFLY | C17: 43862 | F17: 7 | I17: 13 | J17: 22 | K17: 19 | L17: 25 | M17: 16 | N17: 10
A18: MULTI | B18: GR2 | C18: 43862 | F18: 7 | I18: 19 | J18: 25 | K18: 10 | L18: 22 | M18: 16 | N18: 13
A19: CONST | B19: GR2 | C19: 43862 | F19: 7 | I19: 13 | J19: 22 | K19: 19 | L19: 25 | M19: 16 | N19: 10
A20: CONST | B20: PROTOFLY | C20: 43862 | F20: 7 | I20: 19 | J20: 25 | K20: 10 | L20: 22 | M20: 16 | N20: 13
A21: MULTI | B21: GT1 | C21: 43869 | F21: 7 | I21: 19 | J21: 25 | K21: 13 | L21: 22 | M21: 16 | N21: 10
A22: MULTI | B22: PROTOFLY | C22: 43869 | F22: 10 | I22: 19 | J22: 22 | K22: HC | L22: 25 | M22: 16 | N22: 13
A23: CONST | B23: GT1 | C23: 43869 | F23: 7 | I23: 19 | J23: 25 | K23: 13 | L23: 22 | M23: 16 | N23: 10
A24: CONST | B24: PROTOFLY | C24: 43869 | F24: 10 | I24: 19 | J24: 22 | K24: HC | L24: 25 | M24: 16 | N24: 13
A25: MULTI | B25: GR2 | C25: 43876 | F25: 16 | J25: 22 | K25: 19 | L25: 25
A26: MULTI | B26: GT1 | C26: 43876 | F26: 13 | J26: 25 | K26: 19 | L26: 22 | N26: 16
A27: CONST | B27: GR2 | C27: 43876 | F27: M | I27: 22 | J27: 19 | K27: 25
A28: CONST | B28: GT1 | C28: 43876 | F28: M | J28: 25 | K28: 19 | L28: 22 | N28: 16
A29: F1 | B29: 60 | C29: 43890 | F29: 16 | I29: 19 | J29: 25 | K29: 22 | L29: 13 | N29: 10
A30: MULTI | B30: GT1 | C30: 43890 | F30: 13 | I30: A | J30: 25 | K30: 19 | L30: 22 | N30: 16
A31: CONST | B31: F1 | C31: 43890 | F31: 16 | I31: 19 | J31: 25 | K31: 22 | L31: 13 | N31: 10
A32: CONST | B32: GT1 | C32: 43890 | F32: 13 | I32: A | J32: 25 | K32: 19 | L32: 22 | N32: 16
A33: MULTI | B33: GT1 | C33: 43897 | F33: 13 | I33: 25 | K33: 22 | L33: 19 | M33: 16
A34: MULTI | B34: GR2 | C34: 43897 | F34: 13 | I34: 16 | K34: 22 | L34: 25 | M34: 19
A35: CONST | B35: GT1 | C35: 43897 | F35: 13 | I35: 25 | K35: 22 | L35: 19 | M35: 16
A36: CONST | B36: GR2 | C36: 43897 | F36: 13 | I36: 16 | K36: 22 | L36: 25 | M36: 19
A37: MULTI | B37: GT1 | C37: 43904 | F37: 10 | I37: 13 | J37: 25 | K37: 19 | L37: 16 | M37: 22
A38: MULTI | B38: PROTOFLY | C38: 43904 | F38: 10 | I38: 13 | J38: 25 | K38: 16 | L38: 22 | M38: 19
A39: CONST | B39: GT1 | C39: 43904 | F39: 13 | I39: 13 | J39: 25 | K39: 19 | L39: 16 | M39: 22
A40: CONST | C40: 43904 | F40: M | I40: 10 | J40: 25 | K40: 16 | L40: 22 | M40: 19
A41: CC | C41: 43971 | D41: 13 | E41: 25 | F41: 10 | I41: 16 | J41: 4 | K41: 22 | L41: 7 | M41: 2 | N41: 19 | O41: 1
A42: CC | C42: 43971 | D42: 16 | E42: 22 | F42: 13 | I42: 19 | J42: 7 | K42: 25 | L42: 10 | M42: 1 | N42: 4 | O42: 2
A43: CC | C43: 43971 | D43: 25 | E43: 22 | F43: 19 | G43: 16 | H43: 13 | I43: 10 | J43: 7 | K43: 4 | L43: 2 | M43: 1

Sheet TCD SAISIES
A1: POINTS
A3: CHPTS | B3: ACHILLE | C3: CELESTIN | D3: DANIEL | E3: ESTEVE | F3: HUBERT | G3: JEAN | H3: JEAN LUC | I3: LUC | J3: MARC | K3: PASCAL | L3: PIERRE | M3: E | N3: F | O3: H | P3: G
A4: CONST | D4: 156 | G4: 248 | H4: 382 | I4: 329 | J4: 338 | K4: 147 | L4: 140
A5: F1 | D5: 29 | G5: 38 | H5: 50 | I5: 44 | J5: 29 | K5: 7 | L5: 20
A6: MULTI | C6: 44 | D6: 171 | G6: 191 | H6: 329 | I6: 279 | J6: 334 | K6: 140 | L6: 120
A7: CC | B7: 54 | C7: 69 | D7: 42 | E7: 16 | F7: 13 | G7: 45 | H7: 18 | I7: 51 | J7: 19 | K7: 4 | L7: 23 | M7: 3
B8: =B3 -> ACHILLE | C8: =C3 -> CELESTIN | D8: =D3 -> DANIEL | E8: =E3 -> ESTEVE | F8: =F3 -> HUBERT | G8: =G3 -> JEAN | H8: =H3 -> JEAN LUC | I8: =I3 -> LUC | ... P8: =P3 -> G
A12: PARTICIPATIONS
A14: CHPTS | B14: ACHILLE | C14: CELESTIN | D14: DANIEL | E14: ESTEVE | F14: HUBERT | G14: JEAN | H14: JEAN LUC | I14: LUC | J14: MARC | K14: PASCAL | L14: PIERRE | M14: E | N14: F | O14: G | P14: H
A15: CC | B15: 3 | C15: 3 | D15: 3 | E15: 1 | F15: 1 | G15: 3 | H15: 3 | I15: 3 | J15: 3 | K15: 3 | L15: 2 | M15: 2
A16: F1 | D16: 2 | G16: 2 | H16: 2 | I16: 2 | J16: 2 | K16: 1 | L16: 2
A17: MULTI | C17: 2 | D17: 16 | G17: 14 | H17: 14 | I17: 16 | J17: 16 | K17: 10 | L17: 9
A18: Total général | B18: 3 | C18: 5 | D18: 21 | E18: 1 | F18: 1 | G18: 19 | H18: 19 | I18: 21 | J18: 21 | K18: 14 | L18: 13 | M18: 2
B19: =B14 -> ACHILLE | C19: =C14 -> CELESTIN | D19: =D14 -> DANIEL | E19: =E14 -> ESTEVE | F19: =F14 -> HUBERT | G19: =G14 -> JEAN | H19: =H14 -> JEAN LUC | I19: =I14 -> LUC | ... P19: =P14 -> H
M25: =IFERROR(HLOOKUP(N25,$A$6:$L$8,3,FALSE),"") | N25: =IFERROR(LARGE($B$6:$L$6,PODIUMS!B16),"")
M26: =IFERROR(HLOOKUP(N26,$A$6:$L$8,3,FALSE),"") | N26: =IFERROR(LARGE($B$6:$L$6,PODIUMS!B17),"")
M27: =IFERROR(HLOOKUP(N27,$A$6:$L$8,3,FALSE),"") | N27: =IFERROR(LARGE($B$6:$L$6,PODIUMS!B18),"")
M28: =IFERROR(HLOOKUP(N28,$A$6:$L$8,3,FALSE),"") | N28: =IFERROR(LARGE($B$6:$L$6,PODIUMS!B19),"")
M29: =IFERROR(HLOOKUP(N29,$A$6:$L$8,3,FALSE),"") | N29: =IFERROR(LARGE($B$6:$L$6,PODIUMS!B20),"")
M30: =IFERROR(HLOOKUP(N30,$A$6:$L$8,3,FALSE),"") | N30: =IFERROR(LARGE($B$6:$L$6,PODIUMS!B21),"")
M31: =IFERROR(HLOOKUP(N31,$A$6:$L$8,3,FALSE),"") | N31: =IFERROR(LARGE($B$6:$L$6,PODIUMS!B22),"")

Sheet SAISIE CC
A2: SAISIE CC
M3: COMMENTAIRES
A5: CATEGORIE | B5: PILOTE | C5: VOITURE | D5: 1M | E5: 2M | F5: 3M | G5: 4M | H5: TOTAL | I5: ECART | J5: DATE
A6: RGTT | B6: CELESTIN | D6: 0.00013045139 | E6: 0.0001231713 | H6: =IF(E6="","",(SMALL(D6:G6,1))+(SMALL(D6:G6,2))) -> 0.00025362269 | I6: =IFERROR(CLASCC[[#This Row],[TOTAL]]-H5,"") | J6: 43971
A7: RGTT | B7: LUC | C7: C | D7: 0.00029206019 | E7: 0.00010416667 | F7: 0.00015045139 | G7: 0.00053113426 | H7: =IF(E7="","",(SMALL(D7:G7,1))+(SMALL(D7:G7,2))) -> 0.00025461806 | I7: =IFERROR(CLASCC[[#This Row],[TOTAL]]-H6,"") -> 9.9537037e-07 | J7: 43971
A8: MONOPLACE | B8: PIERRE | C8: D | D8: 0.00023263889 | E8: 0.00040240741 | F8: 2.3159722e-05 | G8: 0.00053113426 | H8: =IF(E8="","",(SMALL(D8:G8,1))+(SMALL(D8:G8,2))) -> 0.00025579861 | I8: =IFERROR(CLASCC[[#This Row],[TOTAL]]-H7,"") -> 1.1805556e-06 | J8: 43971
A9: PROTO | B9: JEAN | C9: K | D9: 0.00035506944 | E9: 0.00027777778 | F9: 0.00015045139 | G9: 0.00011574074 | H9: =IF(E9="","",(SMALL(D9:G9,1))+(SMALL(D9:G9,2))) -> 0.00026619213 | I9: =IFERROR(CLASCC[[#This Row],[TOTAL]]-H8,"") -> 1.0393519e-05 | J9: 43971
A10: MONOPLACE | B10: ACHILLE | D10: 0.00016045139 | E10: 0.00011009259 | H10: =IF(E10="","",(SMALL(D10:G10,1))+(SMALL(D10:G10,2))) -> 0.00027054398 | I10: =IFERROR(CLASCC[[#This Row],[TOTAL]]-H9,"") -> 4.3518519e-06 | J10: 43971
A11: RGTT | B11: LUC | C11: H | D11: 0.00012434028 | E11: 0.00053113426 | F11: 0.00015045139 | G11: 0.00053113426 | H11: =IF(E11="","",(SMALL(D11:G11,1))+(SMALL(D11:G11,2))) -> 0.00027479167 | I11: =IFERROR(CLASCC[[#This Row],[TOTAL]]-H10,"") -> 4.2476852e-06 | J11: 43971
A12: RGTT | B12: DANIEL | C12: L | D12: 0.00013888889 | E12: 0.0034722222 | F12: 0.0001441088 | G12: 0.0034722222 | H12: =IF(E12="","",(SMALL(D12:G12,1))+(SMALL(D12:G12,2))) -> 0.00028299769 | I12: =IFERROR(CLASCC[[#This Row],[TOTAL]]-H11,"") -> 8.2060185e-06 | J12: 43971
A13: PROTO | B13: JEAN | C13: B | D13: 0.00014545139 | E13: 0.00013888889 | F13: 0.00015045139 | G13: 0.00053113426 | H13: =IF(E13="","",(SMALL(D13:G13,1))+(SMALL(D13:G13,2))) -> 0.00028434028 | I13: =IFERROR(CLASCC[[#This Row],[TOTAL]]-H12,"") -> 1.3425926e-06 | J13: 43971
A14: PROTO | B14: MARC | D14: 0.00015045139 | E14: 0.00014607639 | H14: =IF(E14="","",(SMALL(D14:G14,1))+(SMALL(D14:G14,2))) -> 0.00029652778 | I14: =IFERROR(CLASCC[[#This Row],[TOTAL]]-H13,"") -> 1.21875e-05 | J14: 43971
A15: RGTT | B15: DANIEL | C15: G | D15: 0.000545 | E15: 0.00015045139 | F15: 0.00015045139 | G15: 0.00053113426 | H15: =IF(E15="","",(SMALL(D15:G15,1))+(SMALL(D15:G15,2))) -> 0.00030090278 | I15: =IFERROR(CLASCC[[#This Row],[TOTAL]]-H14,"") -> 4.375e-06 | J15: 43971
A16: PROTO | B16: JEAN LUC | C16: E | D16: 0.0034722222 | E16: 0.00015045139 | F16: 0.00015045139 | G16: 0.00053113426 | H16: =IF(E16="","",(SMALL(D16:G16,1))+(SMALL(D16:G16,2))) -> 0.00030090278 | I16: =IFERROR(CLASCC[[#This Row],[TOTAL]]-H15,"") -> 0 | J16: 43971
A17: MONOPLACE | B17: DANIEL | C17: F | D17: 0.00045768519 | E17: 0.00015045139 | F17: 0.00015045139 | G17: 0.00053113426 | H17: =IF(E17="","",(SMALL(D17:G17,1))+(SMALL(D17:G17,2))) -> 0.00030090278 | I17: =IFERROR(CLASCC[[#This Row],[TOTAL]]-H16,"") -> 0 | J17: 43971
A18: DIVERS | B18: PASCAL | C18: M | D18: 0.00026956019 | E18: 0.00011402778 | F18: 0.041817118 | G18: 0.042197801 | H18: =IF(E18="","",(SMALL(D18:G18,1))+(SMALL(D18:G18,2))) -> 0.00038358796 | I18: =IFERROR(CLASCC[[#This Row],[TOTAL]]-H17,"") -> 8.2685185e-05 | J18: 43971
A19: PROTO | B19: E | C19: SS | D19: 0.00027268519 | E19: 0.00012587963 | H19: =IF(E19="","",(SMALL(D19:G19,1))+(SMALL(D19:G19,2))) -> 0.00039856481 | I19: =IFERROR(CLASCC[[#This Row],[TOTAL]]-H18,"") -> 1.4976852e-05 | J19: 43971
A20: PROTO | B20: H | D20: 0.00015045139 | E20: 0.00025983796 | H20: =IF(E20="","",(SMALL(D20:G20,1))+(SMALL(D20:G20,2))) -> 0.00041028935 | I20: =IFERROR(CLASCC[[#This Row],[TOTAL]]-H19,"") -> 1.1724537e-05 | J20: 43972
A21: MONOPLACE | B21: ESTEVE | D21: 0.00015045139 | E21: 0.00037665509 | H21: =IF(E21="","",(SMALL(D21:G21,1))+(SMALL(D21:G21,2))) -> 0.00052710648 | I21: =IFERROR(CLASCC[[#This Row],[TOTAL]]-H20,"") -> 0.00011681713 | J21: 43972
A22: PROTO | B22: PIERRE | C22: ZZZ | D22: 0.00014388889 | E22: 0.00038436343 | H22: =IF(E22="","",(SMALL(D22:G22,1))+(SMALL(D22:G22,2))) -> 0.00052825231 | I22: =IFERROR(CLASCC[[#This Row],[TOTAL]]-H21,"") -> 1.1458333e-06 | J22: 43972
A23: RGTT | B23: G | C23: DD | D23: 0.00039135417 | E23: 0.00014851852 | F23: 0.12515045 | G23: 0.12553113 | H23: =IF(E23="","",(SMALL(D23:G23,1))+(SMALL(D23:G23,2))) -> 0.00053987269 | I23: =IFERROR(CLASCC[[#This Row],[TOTAL]]-H22,"") -> 1.162037e-05 | J23: 43972
A24: DIVERS | B24: JEAN | C24: A | D24: 0.00028305556 | E24: 0.00027777778 | F24: 0.083483785 | G24: 0.083864468 | H24: =IF(E24="","",(SMALL(D24:G24,1))+(SMALL(D24:G24,2))) -> 0.00056083333 | I24: =IFERROR(CLASCC[[#This Row],[TOTAL]]-H23,"") -> 2.0960648e-05 | J24: 43972
A25: MONOPLACE | B25: MARC | C25: N | D25: 0.00012652778 | E25: 0.00050810185 | F25: 0.16681712 | G25: 0.1671978 | H25: =IF(E25="","",(SMALL(D25:G25,1))+(SMALL(D25:G25,2))) -> 0.00063462963 | I25: =IFERROR(CLASCC[[#This Row],[TOTAL]]-H24,"") -> 7.3796296e-05 | J25: 43972
A26: DIVERS | B26: PIERRE | C26: XX | D26: 0.00015045139 | E26: 0.0004956713 | F26: 0.0034722222 | H26: =IF(E26="","",(SMALL(D26:G26,1))+(SMALL(D26:G26,2))) -> 0.00064612269 | I26: =IFERROR(CLASCC[[#This Row],[TOTAL]]-H25,"") -> 1.1493056e-05 | J26: 43973
A27: PROTO | B27: E | C27: W | D27: 0.00015045139 | E27: 0.0004956713 | F27: 0.25015045 | G27: 0.25053113 | H27: =IF(E27="","",(SMALL(D27:G27,1))+(SMALL(D27:G27,2))) -> 0.00064612269 | I27: =IFERROR(CLASCC[[#This Row],[TOTAL]]-H26,"") -> 0 | J27: 43972
A28: PROTO | B28: F | D28: 0.00015045139 | E28: 0.0005112963 | H28: =IF(E28="","",(SMALL(D28:G28,1))+(SMALL(D28:G28,2))) -> 0.00066174769 | I28: =IFERROR(CLASCC[[#This Row],[TOTAL]]-H27,"") -> 1.5625e-05 | J28: 43972
A29: DIVERS | B29: HUBERT | D29: 0.00014388889 | E29: 0.00052452546 | H29: =IF(E29="","",(SMALL(D29:G29,1))+(SMALL(D29:G29,2))) -> 0.00066841435 | I29: =IFERROR(CLASCC[[#This Row],[TOTAL]]-H28,"") -> 6.6666667e-06 | J29: 43972
A30: RGTT | B30: LUC | C30: Z | D30: 0.00015045139 | E30: 0.00053113426 | F30: 0.29181712 | G30: 0.2921978 | H30: =IF(E30="","",(SMALL(D30:G30,1))+(SMALL(D30:G30,2))) -> 0.00068158565 | I30: =IFERROR(CLASCC[[#This Row],[TOTAL]]-H29,"") -> 1.3171296e-05 | J30: 43972
A31: MONOPLACE | B31: JEAN LUC | C31: Y | D31: 0.00016060185 | E31: 0.00053113426 | F31: 0.33348378 | G31: 0.33386447 | H31: =IF(E31="","",(SMALL(D31:G31,1))+(SMALL(D31:G31,2))) -> 0.00069173611 | I31: =IFERROR(CLASCC[[#This Row],[TOTAL]]-H30,"") -> 1.0150463e-05 | J31: 43972
A32: RGTT | B32: HUBERT | D32: 0.00015045139 | E32: 0.00065342593 | H32: =IF(E32="","",(SMALL(D32:G32,1))+(SMALL(D32:G32,2))) -> 0.00080387731 | I32: =IFERROR(CLASCC[[#This Row],[TOTAL]]-H31,"") -> 0.0001121412 | J32: 43972
A33: PROTO | B33: LUC | C33: O | D33: 0.00069586806 | E33: 0.00011572917 | F33: 0.37515045 | G33: 0.37553113 | H33: =IF(E33="","",(SMALL(D33:G33,1))+(SMALL(D33:G33,2))) -> 0.00081159722 | I33: =IFERROR(CLASCC[[#This Row],[TOTAL]]-H32,"") -> 7.7199074e-06 | J33: 43972
A34: MONOPLACE | B34: PASCAL | C34: FF | D34: 0.00070329861 | E34: 0.00011820602 | H34: =IF(E34="","",(SMALL(D34:G34,1))+(SMALL(D34:G34,2))) -> 0.00082150463 | I34: =IFERROR(CLASCC[[#This Row],[TOTAL]]-H33,"") -> 9.9074074e-06 | J34: 43972
A35: MONOPLACE | B35: CELESTIN | C35: I | D35: 0.00071962963 | E35: 0.00053113426 | F35: 0.0034722222 | G35: 0.00053113426 | H35: =IF(E35="","",(SMALL(D35:G35,1))+(SMALL(D35:G35,2))) -> 0.0010622685 | I35: =IFERROR(CLASCC[[#This Row],[TOTAL]]-H34,"") -> 0.00024076389 | J35: 43972
A36: PROTO | B36: ACHILLE | C36: J | D36: 0.00080694444 | E36: 0.00052194444 | F36: 0.20848378 | G36: 0.20886447 | H36: =IF(E36="","",(SMALL(D36:G36,1))+(SMALL(D36:G36,2))) -> 0.0013288889 | I36: =IFERROR(CLASCC[[#This Row],[TOTAL]]-H35,"") -> 0.00026662037 | J36: 43972
A37: MONOPLACE | B37: DANIEL | C37: ZZ | D37: 0.00080694444 | E37: 0.20848378 | H37: =IF(E37="","",(SMALL(D37:G37,1))+(SMALL(D37:G37,2))) -> 0.20929073 | I37: =IFERROR(CLASCC[[#This Row],[TOTAL]]-H36,"") -> 0.20796184 | J37: 43972
A38: RGTT | J38: 43976
A39: DIVERS | J39: 43977
A40: MONOPLACE | J40: 43978
A41: PROTO | J41: 43979
A42: RGTT | J42: 43980
...

Sheet TCD CC
A1: DATE | B1: 43972
A3: Min. de TOTAL
A4: CATEGORIE | B4: DANIEL | C4: JEAN | D4: JEAN LUC | E4: LUC | F4: PASCAL | G4: PIERRE | H4: E | I4: F | J4: HUBERT | K4: ESTEVE | L4: H | M4: G | N4: MARC | O4: CELESTIN | P4: ACHILLE | Q4: Total général
A5: DIVERS | C5: 0.00056083333 | J5: 0.00066841435 | Q5: 0.00056083333
A6: MONOPLACE | B6: 0.20929073 | D6: 0.00069173611 | F6: 0.00082150463 | K6: 0.00052710648 | N6: 0.00063462963 | O6: 0.0010622685 | Q6: 0.00052710648
A7: PROTO | E7: 0.00081159722 | G7: 0.00052825231 | H7: 0.00064612269 | I7: 0.00066174769 | L7: 0.00041028935 | P7: 0.0013288889 | Q7: 0.00041028935
A8: RGTT | E8: 0.00068158565 | J8: 0.00080387731 | M8: 0.00053987269 | Q8: 0.00053987269
A9: Total général | B9: 0.20929073 | C9: 0.00056083333 | D9: 0.00069173611 | E9: 0.00068158565 | F9: 0.00082150463 | G9: 0.00052825231 | H9: 0.00064612269 | I9: 0.00066174769 | J9: 0.00066841435 | K9: 0.00052710648 | L9: 0.00041028935 | M9: 0.00053987269 | N9: 0.00063462963 | O9: 0.0010622685 | P9: 0.0013288889 | Q9: 0.00041028935
B10: =B4 -> DANIEL | C10: =C4 -> JEAN | D10: =D4 -> JEAN LUC | E10: =E4 -> LUC | F10: =F4 -> PASCAL | G10: =G4 -> PIERRE | H10: =H4 -> E | I10: =I4 -> F | ... P10: =P4 -> ACHILLE
D14: SCRATCH | G14: DIVERS | J14: MONOPLACE | M14: PROTO | P14: RGTT
B16: 1 | D16: =IFERROR(HLOOKUP(E16,$B$9:$P$10,2,FALSE),"") -> H | E16: =IFERROR(SMALL($B$9:$P$9,B16),"") -> 0.00041028935 | G16: =IFERROR(HLOOKUP(H16,$B$5:$P$10,6,FALSE),"") -> JEAN | H16: =IFERROR(SMALL($B$5:$P$5,B16),"") -> 0.00056083333 | J16: =IFERROR(HLOOKUP(K16,$B$6:$P$10,5,FALSE),"") -> ESTEVE | K16: =IFERROR(SMALL($B$6:$P$6,B16),"") -> 0.00052710648 | M16: =IFERROR(HLOOKUP(N16,$B$7:$P$10,4,FALSE),"") -> H | N16: =IFERROR(SMALL($B$7:$P$7,B16),"") -> 0.00041028935 | P16: =IFERROR(HLOOKUP(Q16,$B$8:$P$10,3,FALSE),"") -> G | Q16: =IFERROR(SMALL($B$8:$P$8,B16),"") -> 0.00053987269
B17: 2 | D17: =IFERROR(HLOOKUP(E17,$B$9:$P$10,2,FALSE),"") -> ESTEVE | E17: =IFERROR(SMALL($B$9:$P$9,B17),"") -> 0.00052710648 | G17: =IFERROR(HLOOKUP(H17,$B$5:$P$10,6,FALSE),"") -> HUBERT | H17: =IFERROR(SMALL($B$5:$P$5,B17),"") -> 0.00066841435 | J17: =IFERROR(HLOOKUP(K17,$B$6:$P$10,5,FALSE),"") -> MARC | K17: =IFERROR(SMALL($B$6:$P$6,B17),"") -> 0.00063462963 | M17: =IFERROR(HLOOKUP(N17,$B$7:$P$10,4,FALSE),"") -> PIERRE | N17: =IFERROR(SMALL($B$7:$P$7,B17),"") -> 0.00052825231 | P17: =IFERROR(HLOOKUP(Q17,$B$8:$P$10,3,FALSE),"") -> LUC | Q17: =IFERROR(SMALL($B$8:$P$8,B17),"") -> 0.00068158565
B18: 3 | D18: =IFERROR(HLOOKUP(E18,$B$9:$P$10,2,FALSE),"") -> PIERRE | E18: =IFERROR(SMALL($B$9:$P$9,B18),"") -> 0.00052825231 | G18: =IFERROR(HLOOKUP(H18,$B$5:$P$10,6,FALSE),"") | H18: =IFERROR(SMALL($B$5:$P$5,B18),"") | J18: =IFERROR(HLOOKUP(K18,$B$6:$P$10,5,FALSE),"") -> JEAN LUC | K18: =IFERROR(SMALL($B$6:$P$6,B18),"") -> 0.00069173611 | M18: =IFERROR(HLOOKUP(N18,$B$7:$P$10,4,FALSE),"") -> E | N18: =IFERROR(SMALL($B$7:$P$7,B18),"") -> 0.00064612269 | P18: =IFERROR(HLOOKUP(Q18,$B$8:$P$10,3,FALSE),"") -> HUBERT | Q18: =IFERROR(SMALL($B$8:$P$8,B18),"") -> 0.00080387731
B19: 4 | D19: =IFERROR(HLOOKUP(E19,$B$9:$P$10,2,FALSE),"") -> G | E19: =IFERROR(SMALL($B$9:$P$9,B19),"") -> 0.00053987269 | G19: =IFERROR(HLOOKUP(H19,$B$5:$P$10,6,FALSE),"") | H19: =IFERROR(SMALL($B$5:$P$5,B19),"") | J19: =IFERROR(HLOOKUP(K19,$B$6:$P$10,5,FALSE),"") -> PASCAL | K19: =IFERROR(SMALL($B$6:$P$6,B19),"") -> 0.00082150463 | M19: =IFERROR(HLOOKUP(N19,$B$7:$P$10,4,FALSE),"") -> F | N19: =IFERROR(SMALL($B$7:$P$7,B19),"") -> 0.00066174769 | P19: =IFERROR(HLOOKUP(Q19,$B$8:$P$10,3,FALSE),"") | Q19: =IFERROR(SMALL($B$8:$P$8,B19),"")
B20: 5 | D20: =IFERROR(HLOOKUP(E20,$B$9:$P$10,2,FALSE),"") -> JEAN | E20: =IFERROR(SMALL($B$9:$P$9,B20),"") -> 0.00056083333 | G20: =IFERROR(HLOOKUP(H20,$B$5:$P$10,6,FALSE),"") | H20: =IFERROR(SMALL($B$5:$P$5,B20),"") | J20: =IFERROR(HLOOKUP(K20,$B$6:$P$10,5,FALSE),"") -> CELESTIN | K20: =IFERROR(SMALL($B$6:$P$6,B20),"") -> 0.0010622685 | M20: =IFERROR(HLOOKUP(N20,$B$7:$P$10,4,FALSE),"") -> LUC | N20: =IFERROR(SMALL($B$7:$P$7,B20),"") -> 0.00081159722 | P20: =IFERROR(HLOOKUP(Q20,$B$8:$P$10,3,FALSE),"") | Q20: =IFERROR(SMALL($B$8:$P$8,B20),"")
B21: 6 | D21: =IFERROR(HLOOKUP(E21,$B$9:$P$10,2,FALSE),"") -> MARC | E21: =IFERROR(SMALL($B$9:$P$9,B21),"") -> 0.00063462963 | G21: =IFERROR(HLOOKUP(H21,$B$5:$P$10,6,FALSE),"") | H21: =IFERROR(SMALL($B$5:$P$5,B21),"") | J21: =IFERROR(HLOOKUP(K21,$B$6:$P$10,5,FALSE),"") -> DANIEL | K21: =IFERROR(SMALL($B$6:$P$6,B21),"") -> 0.20929073 | M21: =IFERROR(HLOOKUP(N21,$B$7:$P$10,4,FALSE),"") -> ACHILLE | N21: =IFERROR(SMALL($B$7:$P$7,B21),"") -> 0.0013288889 | P21: =IFERROR(HLOOKUP(Q21,$B$8:$P$10,3,FALSE),"") | Q21: =IFERROR(SMALL($B$8:$P$8,B21),"")
B22: 7 | D22: =IFERROR(HLOOKUP(E22,$B$9:$P$10,2,FALSE),"") -> E | E22: =IFERROR(SMALL($B$9:$P$9,B22),"") -> 0.00064612269 | G22: =IFERROR(HLOOKUP(H22,$B$5:$P$10,6,FALSE),"") | H22: =IFERROR(SMALL($B$5:$P$5,B22),"") | J22: =IFERROR(HLOOKUP(K22,$B$6:$P$10,5,FALSE),"") | K22: =IFERROR(SMALL($B$6:$P$6,B22),"") | M22: =IFERROR(HLOOKUP(N22,$B$7:$P$10,4,FALSE),"") | N22: =IFERROR(SMALL($B$7:$P$7,B22),"") | P22: =IFERROR(HLOOKUP(Q22,$B$8:$P$10,3,FALSE),"") | Q22: =IFERROR(SMALL($B$8:$P$8,B22),"")
B23: 8 | D23: =IFERROR(HLOOKUP(E23,$B$9:$P$10,2,FALSE),"") -> F | E23: =IFERROR(SMALL($B$9:$P$9,B23),"") -> 0.00066174769 | G23: =IFERROR(HLOOKUP(H23,$B$5:$P$10,6,FALSE),"") | H23: =IFERROR(SMALL($B$5:$P$5,B23),"") | J23: =IFERROR(HLOOKUP(K23,$B$6:$P$10,5,FALSE),"") | K23: =IFERROR(SMALL($B$6:$P$6,B23),"") | M23: =IFERROR(HLOOKUP(N23,$B$7:$P$10,4,FALSE),"") | N23: =IFERROR(SMALL($B$7:$P$7,B23),"") | P23: =IFERROR(HLOOKUP(Q23,$B$8:$P$10,3,FALSE),"") | Q23: =IFERROR(SMALL($B$8:$P$8,B23),"")
B24: 9 | D24: =IFERROR(HLOOKUP(E24,$B$9:$P$10,2,FALSE),"") -> HUBERT | E24: =IFERROR(SMALL($B$9:$P$9,B24),"") -> 0.00066841435 | G24: =IFERROR(HLOOKUP(H24,$B$5:$P$10,6,FALSE),"") | H24: =IFERROR(SMALL($B$5:$P$5,B24),"") | J24: =IFERROR(HLOOKUP(K24,$B$6:$P$10,5,FALSE),"") | K24: =IFERROR(SMALL($B$6:$P$6,B24),"") | M24: =IFERROR(HLOOKUP(N24,$B$7:$P$10,4,FALSE),"") | N24: =IFERROR(SMALL($B$7:$P$7,B24),"") | P24: =IFERROR(HLOOKUP(Q24,$B$8:$P$10,3,FALSE),"") | Q24: =IFERROR(SMALL($B$8:$P$8,B24),"")
B25: 10 | D25: =IFERROR(HLOOKUP(E25,$B$9:$P$10,2,FALSE),"") -> LUC | E25: =IFERROR(SMALL($B$9:$P$9,B25),"") -> 0.00068158565 | G25: =IFERROR(HLOOKUP(H25,$B$5:$P$10,6,FALSE),"") | H25: =IFERROR(SMALL($B$5:$P$5,B25),"") | J25: =IFERROR(HLOOKUP(K25,$B$6:$P$10,5,FALSE),"") | K25: =IFERROR(SMALL($B$6:$P$6,B25),"") | M25: =IFERROR(HLOOKUP(N25,$B$7:$P$10,4,FALSE),"") | N25: =IFERROR(SMALL($B$7:$P$7,B25),"") | P25: =IFERROR(HLOOKUP(Q25,$B$8:$P$10,3,FALSE),"") | Q25: =IFERROR(SMALL($B$8:$P$8,B25),"")
B26: 11 | D26: =IFERROR(HLOOKUP(E26,$B$9:$P$10,2,FALSE),"") -> JEAN LUC | E26: =IFERROR(SMALL($B$9:$P$9,B26),"") -> 0.00069173611 | G26: =IFERROR(HLOOKUP(H26,$B$5:$P$10,6,FALSE),"") | H26: =IFERROR(SMALL($B$5:$P$5,B26),"") | J26: =IFERROR(HLOOKUP(K26,$B$6:$P$10,5,FALSE),"") | K26: =IFERROR(SMALL($B$6:$P$6,B26),"") | M26: =IFERROR(HLOOKUP(N26,$B$7:$P$10,4,FALSE),"") | N26: =IFERROR(SMALL($B$7:$P$7,B26),"") | P26: =IFERROR(HLOOKUP(Q26,$B$8:$P$10,3,FALSE),"") | Q26: =IFERROR(SMALL($B$8:$P$8,B26),"")
B27: 12 | D27: =IFERROR(HLOOKUP(E27,$B$9:$P$10,2,FALSE),"") -> PASCAL | E27: =IFERROR(SMALL($B$9:$P$9,B27),"") -> 0.00082150463 | G27: =IFERROR(HLOOKUP(H27,$B$5:$P$10,6,FALSE),"") | H27: =IFERROR(SMALL($B$5:$P$5,B27),"") | J27: =IFERROR(HLOOKUP(K27,$B$6:$P$10,5,FALSE),"") | K27: =IFERROR(SMALL($B$6:$P$6,B27),"") | M27: =IFERROR(HLOOKUP(N27,$B$7:$P$10,4,FALSE),"") | N27: =IFERROR(SMALL($B$7:$P$7,B27),"") | P27: =IFERROR(HLOOKUP(Q27,$B$8:$P$10,3,FALSE),"") | Q27: =IFERROR(SMALL($B$8:$P$8,B27),"")
... B30: 15 | D30: =IFERROR(HLOOKUP(E30,$B$9:$P$10,2,FALSE),"") -> DANIEL | E30: =IFERROR(SMALL($B$9:$P$9,B30),"") -> 0.20929073 | G30: =IFERROR(HLOOKUP(H30,$B$5:$P$10,6,FALSE),"") | H30: =IFERROR(SMALL($B$5:$P$5,B30),"") | J30: =IFERROR(HLOOKUP(K30,$B$6:$P$10,5,FALSE),"") | K30: =IFERROR(SMALL($B$6:$P$6,B30),"") | M30: =IFERROR(HLOOKUP(N30,$B$7:$P$10,4,FALSE),"") | N30: =IFERROR(SMALL($B$7:$P$7,B30),"") | P30: =IFERROR(HLOOKUP(Q30,$B$8:$P$10,3,FALSE),"") | Q30: =IFERROR(SMALL($B$8:$P$8,B30),"")

Sheet PODIUMS
A1: FEUILLE PROTEGEE
C6: CONSTRUCTEUR | F6: F1 | I6: MULTI | L6: CC | O6: PARTICIPATION
B8: 1 | C8: =IFERROR(HLOOKUP(D8,'TCD SAISIES'!$A$4:$P$8,5,FALSE),"") -> JEAN LUC | D8: =IFERROR(LARGE('TCD SAISIES'!$B$4:$P$4,B8),"") -> 382 | F8: =IFERROR(HLOOKUP(G8,'TCD SAISIES'!$A$5:$P$8,4,FALSE),"") -> JEAN LUC | G8: =IFERROR(LARGE('TCD SAISIES'!$B$5:$P$5,B8),"") -> 50 | I8: =IFERROR(HLOOKUP(J8,'TCD SAISIES'!$A$6:$P$8,3,FALSE),"") -> MARC | J8: =IFERROR(LARGE('TCD SAISIES'!$B$6:$P$6,B8),"") -> 334 | L8: =IFERROR(HLOOKUP(M8,'TCD SAISIES'!$A$7:$P$8,2,FALSE),"") -> CELESTIN | M8: =IFERROR(LARGE('TCD SAISIES'!$B$7:$P$7,B8),"") -> 69 | O8: =IFERROR(HLOOKUP(P8,'TCD SAISIES'!$A$18:$P$19,2,FALSE),"") -> DANIEL | P8: =IFERROR(LARGE('TCD SAISIES'!$C$18:$P$18,B8),"") -> 21
B9: 2 | C9: =IFERROR(HLOOKUP(D9,'TCD SAISIES'!$A$4:$P$8,5,FALSE),"") -> MARC | D9: =IFERROR(LARGE('TCD SAISIES'!$B$4:$P$4,B9),"") -> 338 | F9: =IFERROR(HLOOKUP(G9,'TCD SAISIES'!$A$5:$P$8,4,FALSE),"") -> LUC | G9: =IFERROR(LARGE('TCD SAISIES'!$B$5:$P$5,B9),"") -> 44 | I9: =IFERROR(HLOOKUP(J9,'TCD SAISIES'!$A$6:$P$8,3,FALSE),"") -> JEAN LUC | J9: =IFERROR(LARGE('TCD SAISIES'!$B$6:$P$6,B9),"") -> 329 | L9: =IFERROR(HLOOKUP(M9,'TCD SAISIES'!$A$7:$P$8,2,FALSE),"") -> ACHILLE | M9: =IFERROR(LARGE('TCD SAISIES'!$B$7:$P$7,B9),"") -> 54 | O9: =IFERROR(HLOOKUP(P9,'TCD SAISIES'!$A$18:$P$19,2,FALSE),"") -> DANIEL | P9: =IFERROR(LARGE('TCD SAISIES'!$C$18:$P$18,B9),"") -> 21
B10: 3 | C10: =IFERROR(HLOOKUP(D10,'TCD SAISIES'!$A$4:$P$8,5,FALSE),"") -> LUC | D10: =IFERROR(LARGE('TCD SAISIES'!$B$4:$P$4,B10),"") -> 329 | F10: =IFERROR(HLOOKUP(G10,'TCD SAISIES'!$A$5:$P$8,4,FALSE),"") -> JEAN | G10: =IFERROR(LARGE('TCD SAISIES'!$B$5:$P$5,B10),"") -> 38 | I10: =IFERROR(HLOOKUP(J10,'TCD SAISIES'!$A$6:$P$8,3,FALSE),"") -> LUC | J10: =IFERROR(LARGE('TCD SAISIES'!$B$6:$P$6,B10),"") -> 279 | L10: =IFERROR(HLOOKUP(M10,'TCD SAISIES'!$A$7:$P$8,2,FALSE),"") -> LUC | M10: =IFERROR(LARGE('TCD SAISIES'!$B$7:$P$7,B10),"") -> 51 | O10: =IFERROR(HLOOKUP(P10,'TCD SAISIES'!$A$18:$P$19,2,FALSE),"") -> DANIEL | P10: =IFERROR(LARGE('TCD SAISIES'!$C$18:$P$18,B10),"") -> 21
B11: 4 | C11: =IFERROR(HLOOKUP(D11,'TCD SAISIES'!$A$4:$P$8,5,FALSE),"") -> JEAN | D11: =IFERROR(LARGE('TCD SAISIES'!$B$4:$P$4,B11),"") -> 248 | F11: =IFERROR(HLOOKUP(G11,'TCD SAISIES'!$A$5:$P$8,4,FALSE),"") -> DANIEL | G11: =IFERROR(LARGE('TCD SAISIES'!$B$5:$P$5,B11),"") -> 29 | I11: =IFERROR(HLOOKUP(J11,'TCD SAISIES'!$A$6:$P$8,3,FALSE),"") -> JEAN | J11: =IFERROR(LARGE('TCD SAISIES'!$B$6:$P$6,B11),"") -> 191 | L11: =IFERROR(HLOOKUP(M11,'TCD SAISIES'!$A$7:$P$8,2,FALSE),"") -> JEAN | M11: =IFERROR(LARGE('TCD SAISIES'!$B$7:$P$7,B11),"") -> 45 | O11: =IFERROR(HLOOKUP(P11,'TCD SAISIES'!$A$18:$P$19,2,FALSE),"") -> JEAN | P11: =IFERROR(LARGE('TCD SAISIES'!$C$18:$P$18,B11),"") -> 19
B12: 5 | C12: =IFERROR(HLOOKUP(D12,'TCD SAISIES'!$A$4:$P$8,5,FALSE),"") -> DANIEL | D12: =IFERROR(LARGE('TCD SAISIES'!$B$4:$P$4,B12),"") -> 156 | F12: =IFERROR(HLOOKUP(G12,'TCD SAISIES'!$A$5:$P$8,4,FALSE),"") -> DANIEL | G12: =IFERROR(LARGE('TCD SAISIES'!$B$5:$P$5,B12),"") -> 29 | I12: =IFERROR(HLOOKUP(J12,'TCD SAISIES'!$A$6:$P$8,3,FALSE),"") -> DANIEL | J12: =IFERROR(LARGE('TCD SAISIES'!$B$6:$P$6,B12),"") -> 171 | L12: =IFERROR(HLOOKUP(M12,'TCD SAISIES'!$A$7:$P$8,2,FALSE),"") -> DANIEL | M12: =IFERROR(LARGE('TCD SAISIES'!$B$7:$P$7,B12),"") -> 42 | O12: =IFERROR(HLOOKUP(P12,'TCD SAISIES'!$A$18:$P$19,2,FALSE),"") -> JEAN | P12: =IFERROR(LARGE('TCD SAISIES'!$C$18:$P$18,B12),"") -> 19
B13: 6 | C13: =IFERROR(HLOOKUP(D13,'TCD SAISIES'!$A$4:$P$8,5,FALSE),"") -> PASCAL | D13: =IFERROR(LARGE('TCD SAISIES'!$B$4:$P$4,B13),"") -> 147 | F13: =IFERROR(HLOOKUP(G13,'TCD SAISIES'!$A$5:$P$8,4,FALSE),"") -> PIERRE | G13: =IFERROR(LARGE('TCD SAISIES'!$B$5:$P$5,B13),"") -> 20 | I13: =IFERROR(HLOOKUP(J13,'TCD SAISIES'!$A$6:$P$8,3,FALSE),"") -> PASCAL | J13: =IFERROR(LARGE('TCD SAISIES'!$B$6:$P$6,B13),"") -> 140 | L13: =IFERROR(HLOOKUP(M13,'TCD SAISIES'!$A$7:$P$8,2,FALSE),"") -> PIERRE | M13: =IFERROR(LARGE('TCD SAISIES'!$B$7:$P$7,B13),"") -> 23 | O13: =IFERROR(HLOOKUP(P13,'TCD SAISIES'!$A$18:$P$19,2,FALSE),"") -> PASCAL | P13: =IFERROR(LARGE('TCD SAISIES'!$C$18:$P$18,B13),"") -> 14
B14: 7 | C14: =IFERROR(HLOOKUP(D14,'TCD SAISIES'!$A$4:$P$8,5,FALSE),"") -> PIERRE | D14: =IFERROR(LARGE('TCD SAISIES'!$B$4:$P$4,B14),"") -> 140 | F14: =IFERROR(HLOOKUP(G14,'TCD SAISIES'!$A$5:$P$8,4,FALSE),"") -> PASCAL | G14: =IFERROR(LARGE('TCD SAISIES'!$B$5:$P$5,B14),"") -> 7 | I14: =IFERROR(HLOOKUP(J14,'TCD SAISIES'!$A$6:$P$8,3,FALSE),"") -> PIERRE | J14: =IFERROR(LARGE('TCD SAISIES'!$B$6:$P$6,B14),"") -> 120 | L14: =IFERROR(HLOOKUP(M14,'TCD SAISIES'!$A$7:$P$8,2,FALSE),"") -> MARC | M14: =IFERROR(LARGE('TCD SAISIES'!$B$7:$P$7,B14),"") -> 19 | O14: =IFERROR(HLOOKUP(P14,'TCD SAISIES'!$A$18:$P$19,2,FALSE),"") -> PIERRE | P14: =IFERROR(LARGE('TCD SAISIES'!$C$18:$P$18,B14),"") -> 13
B15: 8 | C15: =IFERROR(HLOOKUP(D15,'TCD SAISIES'!$A$4:$P$8,5,FALSE),"") | D15: =IFERROR(LARGE('TCD SAISIES'!$B$4:$P$4,B15),"") | F15: =IFERROR(HLOOKUP(G15,'TCD SAISIES'!$A$5:$P$8,4,FALSE),"") | G15: =IFERROR(LARGE('TCD SAISIES'!$B$5:$P$5,B15),"") | I15: =IFERROR(HLOOKUP(J15,'TCD SAISIES'!$A$6:$P$8,3,FALSE),"") -> CELESTIN | J15: =IFERROR(LARGE('TCD SAISIES'!$B$6:$P$6,B15),"") -> 44 | L15: =IFERROR(HLOOKUP(M15,'TCD SAISIES'!$A$7:$P$8,2,FALSE),"") -> JEAN LUC | M15: =IFERROR(LARGE('TCD SAISIES'!$B$7:$P$7,B15),"") -> 18 | O15: =IFERROR(HLOOKUP(P15,'TCD SAISIES'!$A$18:$P$19,2,FALSE),"") -> CELESTIN | P15: =IFERROR(LARGE('TCD SAISIES'!$C$18:$P$18,B15),"") -> 5
B16: 9 | C16: =IFERROR(HLOOKUP(D16,'TCD SAISIES'!$A$4:$P$8,5,FALSE),"") | F16: =IFERROR(HLOOKUP(G16,'TCD SAISIES'!$A$5:$P$8,4,FALSE),"") | G16: =IFERROR(LARGE('TCD SAISIES'!$B$5:$P$5,B16),"") | I16: =IFERROR(HLOOKUP(J16,'TCD SAISIES'!$A$6:$P$8,3,FALSE),"") | J16: =IFERROR(LARGE('TCD SAISIES'!$B$6:$P$6,B16),"") | L16: =IFERROR(HLOOKUP(M16,'TCD SAISIES'!$A$7:$P$8,2,FALSE),"") -> ESTEVE | M16: =IFERROR(LARGE('TCD SAISIES'!$B$7:$P$7,B16),"") -> 16 | O16: =IFERROR(HLOOKUP(P16,'TCD SAISIES'!$A$18:$P$19,2,FALSE),"") -> E | P16: =IFERROR(LARGE('TCD SAISIES'!$C$18:$P$18,B16),"") -> 2
B17: 10 | C17: =IFERROR(HLOOKUP(D17,'TCD SAISIES'!$A$4:$P$8,5,FALSE),"") | D17: =IFERROR(LARGE('TCD SAISIES'!$B$4:$P$4,B17),"") | F17: =IFERROR(HLOOKUP(G17,'TCD SAISIES'!$A$5:$P$8,4,FALSE),"") | G17: =IFERROR(LARGE('TCD SAISIES'!$B$5:$P$5,B17),"") | I17: =IFERROR(HLOOKUP(J17,'TCD SAISIES'!$A$6:$P$8,3,FALSE),"") | J17: =IFERROR(LARGE('TCD SAISIES'!$B$6:$P$6,B17),"") | L17: =IFERROR(HLOOKUP(M17,'TCD SAISIES'!$A$7:$P$8,2,FALSE),"") -> HUBERT | M17: =IFERROR(LARGE('TCD SAISIES'!$B$7:$P$7,B17),"") -> 13 | O17: =IFERROR(HLOOKUP(P17,'TCD SAISIES'!$A$18:$P$19,2,FALSE),"") -> ESTEVE | P17: =IFERROR(LARGE('TCD SAISIES'!$C$18:$P$18,B17),"") -> 1
B18: 11 | C18: =IFERROR(HLOOKUP(D18,'TCD SAISIES'!$A$4:$P$8,5,FALSE),"") | D18: =IFERROR(LARGE('TCD SAISIES'!$B$4:$P$4,B18),"") | F18: =IFERROR(HLOOKUP(G18,'TCD SAISIES'!$A$5:$P$8,4,FALSE),"") | G18: =IFERROR(LARGE('TCD SAISIES'!$B$5:$P$5,B18),"") | I18: =IFERROR(HLOOKUP(J18,'TCD SAISIES'!$A$6:$P$8,3,FALSE),"") | J18: =IFERROR(LARGE('TCD SAISIES'!$B$6:$P$6,B18),"") | L18: =IFERROR(HLOOKUP(M18,'TCD SAISIES'!$A$7:$P$8,2,FALSE),"") -> PASCAL | M18: =IFERROR(LARGE('TCD SAISIES'!$B$7:$P$7,B18),"") -> 4 | O18: =IFERROR(HLOOKUP(P18,'TCD SAISIES'!$A$18:$P$19,2,FALSE),"") -> ESTEVE | P18: =IFERROR(LARGE('TCD SAISIES'!$C$18:$P$18,B18),"") -> 1
B19: 12 | C19: =IFERROR(HLOOKUP(D19,'TCD SAISIES'!$A$4:$P$8,5,FALSE),"") | D19: =IFERROR(LARGE('TCD SAISIES'!$B$4:$P$4,B19),"") | F19: =IFERROR(HLOOKUP(G19,'TCD SAISIES'!$A$5:$P$8,4,FALSE),"") | G19: =IFERROR(LARGE('TCD SAISIES'!$B$5:$P$5,B19),"") | I19: =IFERROR(HLOOKUP(J19,'TCD SAISIES'!$A$6:$P$8,3,FALSE),"") | J19: =IFERROR(LARGE('TCD SAISIES'!$B$6:$P$6,B19),"") | L19: =IFERROR(HLOOKUP(M19,'TCD SAISIES'!$A$7:$P$8,2,FALSE),"") -> E | M19: =IFERROR(LARGE('TCD SAISIES'!$B$7:$P$7,B19),"") -> 3 | O19: =IFERROR(HLOOKUP(P19,'TCD SAISIES'!$A$18:$P$19,2,FALSE),"") | P19: =IFERROR(LARGE('TCD SAISIES'!$C$18:$P$18,B19),"")
B20: 13 | C20: =IFERROR(HLOOKUP(D20,'TCD SAISIES'!$A$4:$P$8,5,FALSE),"") | D20: =IFERROR(LARGE('TCD SAISIES'!$B$4:$P$4,B20),"") | F20: =IFERROR(HLOOKUP(G20,'TCD SAISIES'!$A$5:$P$8,4,FALSE),"") | G20: =IFERROR(LARGE('TCD SAISIES'!$B$5:$P$5,B20),"") | I20: =IFERROR(HLOOKUP(J20,'TCD SAISIES'!$A$6:$P$8,3,FALSE),"") | J20: =IFERROR(LARGE('TCD SAISIES'!$B$6:$P$6,B20),"") | L20: =IFERROR(HLOOKUP(M20,'TCD SAISIES'!$A$7:$P$8,2,FALSE),"") | M20: =IFERROR(LARGE('TCD SAISIES'!$B$7:$P$7,B20),"") | O20: =IFERROR(HLOOKUP(P20,'TCD SAISIES'!$A$18:$P$19,2,FALSE),"") | P20: =IFERROR(LARGE('TCD SAISIES'!$C$18:$P$18,B20),"")
B21: 14 | C21: =IFERROR(HLOOKUP(D21,'TCD SAISIES'!$A$4:$P$8,5,FALSE),"") | D21: =IFERROR(LARGE('TCD SAISIES'!$B$4:$P$4,B21),"") | F21: =IFERROR(HLOOKUP(G21,'TCD SAISIES'!$A$5:$P$8,4,FALSE),"") | G21: =IFERROR(LARGE('TCD SAISIES'!$B$5:$P$5,B21),"") | I21: =IFERROR(HLOOKUP(J21,'TCD SAISIES'!$A$6:$P$8,3,FALSE),"") | J21: =IFERROR(LARGE('TCD SAISIES'!$B$6:$P$6,B21),"") | L21: =IFERROR(HLOOKUP(M21,'TCD SAISIES'!$A$7:$P$8,2,FALSE),"") | M21: =IFERROR(LARGE('TCD SAISIES'!$B$7:$P$7,B21),"") | O21: =IFERROR(HLOOKUP(P21,'TCD SAISIES'!$A$18:$P$19,2,FALSE),"") | P21: =IFERROR(LARGE('TCD SAISIES'!$C$18:$P$18,B21),"")
B22: 15 | C22: =IFERROR(HLOOKUP(D22,'TCD SAISIES'!$A$4:$P$8,5,FALSE),"") | D22: =IFERROR(LARGE('TCD SAISIES'!$B$4:$P$4,B22),"") | F22: =IFERROR(HLOOKUP(G22,'TCD SAISIES'!$A$5:$P$8,4,FALSE),"") | G22: =IFERROR(LARGE('TCD SAISIES'!$B$5:$P$5,B22),"") | I22: =IFERROR(HLOOKUP(J22,'TCD SAISIES'!$A$6:$P$8,3,FALSE),"") | J22: =IFERROR(LARGE('TCD SAISIES'!$B$6:$P$6,B22),"") | L22: =IFERROR(HLOOKUP(M22,'TCD SAISIES'!$A$7:$P$8,2,FALSE),"") | M22: =IFERROR(LARGE('TCD SAISIES'!$B$7:$P$7,B22),"") | O22: =IFERROR(HLOOKUP(P22,'TCD SAISIES'!$A$18:$P$19,2,FALSE),"") | P22: =IFERROR(LARGE('TCD SAISIES'!$C$18:$P$18,B22),"")

Sheet TABLES
A1: CHPT | C1: CC | E1: MULTI
A2: CC | C2: DIVERS | E2: DTM
A3: CONST | C3: MONOPLACE | E3: GR2
A4: F1 | C4: PROTO | E4: GRC
A5: MULTI | C5: RGTT | E5: GT1
E6: GT50
E7: LMP
E8: PR50
E9: PRFLY
E10: WRC
