Workbook

Sheet Réponses
A1: Question 1-2-3-4-5-6-8 | B1: Question Je ne l'achèterai certainement pas | C1: Question 6 | D1: Question 7 | E1: Question 9 | F1: Question 10 | G1: Question 11 | H1: Question 12 | I1: Question 13 | J1: Question 14
A2: Excellent | B2: Excellent | C2: Excellent | D2: Un prix plus accessible | E2: Je l'achèterai certainement | F2: IGA supermarché | G2: 30 | H2: 10 | I2: Homme | J2: Vous-même
A3: Très bon | B3: Très bon | C3: Très bon | D3: Qu'il soit moins sucré | E3: Je l'achèterai propablement | F3: Métro | G3: 25 | H3: 8 | I3: Femme | J3: Votre conjoint (e)
A4: Bon | B4: Bon | C4: Bon | D4: Des produits sans huile de palme | E4: Je ne sais pas si je l'achèterai ou non | F4: Super C | G4: 20 | H4: 7 | J4: Un enfant de 0 à 6 ans
A5: Médiocre | B5: Médiocre | C5: Médiocre | D5: Des emballages plus écologique | E5: Je ne l'achèterai probablement pas | F5: Maxi | G5: 15 | H5: 5 | J5: Un enfant de 7 à 10 ans
A6: Mauvais | B6: Mauvais | C6: Mauvais | D6: Plus de produits en sachets individuels | E6: Je ne l'achèterai certainement pas | F6: Le supermarché de votre coin | G6: 10 | H6: 4 | J6: Un ados de 11 à 17 ans
J7: Un jeune adulte de 18 à 24 ans

Sheet Graphique texture
A3: La texture | B3: Résultat
A4: Bon | B4: 2
A5: Excellent | B5: 7
A6: Médiocre | B6: 1
A7: Réponse | B7: 1
A8: Très bon | B8: 4

Sheet Tableaux croisés dynamique
A3: Étiquettes de lignes | B3: La qualité de notre service | C3: L'emballage | D3: La texture | E3: Le service | F3: La conservation du produit | I3: Étiquettes de lignes | J3: Nombre de sondage | M3: Réponses au sondage | N3: Dépense moyenne par semaine
A4: Bon | B4: 8 | C4: 8 | D4: 8 | E4: 8 | F4: 8 | I4: Femme | J4: 7 | M4: Sondage 1 | N4: 30
A5: Excellent | B5: 3 | C5: 3 | D5: 3 | E5: 3 | F5: 3 | I5: Homme | J5: 8 | M5: Sondage 10 | N5: 25
A6: Mauvais | B6: 1 | C6: 1 | D6: 1 | E6: 1 | F6: 1 | I6: Total général | J6: 15 | M6: Sondage 11 | N6: 30
A7: Très bon | B7: 3 | C7: 3 | D7: 3 | E7: 3 | F7: 3 | M7: Sondage 12 | N7: 10
A8: Total général | B8: 15 | C8: 15 | D8: 15 | E8: 15 | F8: 15 | M8: Sondage 13 | N8: 30
M9: Sondage 14 | N9: 20
M10: Sondage 15 | N10: 15
M11: Sondage 2 | N11: 15
M12: Sondage 3 | N12: 25
M13: Sondage 4 | N13: 25
M14: Sondage 5 | N14: 25
A15: Tendance d'achat | B15: Nombre de sondage | E15: Supermarché | F15: Nombre de sondage | M15: Sondage 6 | N15: 25
A16: Je l'achèterai certainement | B16: 2 | E16: IGA supermarché | F16: 3 | M16: Sondage 7 | N16: 25
A17: Je l'achèterai propablement | B17: 5 | E17: Maxi | F17: 3 | M17: Sondage 8 | N17: 25
A18: Je ne l'achèterai probablement pas | B18: 6 | E18: Métro | F18: 8 | M18: Sondage 9 | N18: 25
A19: Je ne sais pas si je l'achèterai ou non | B19: 2 | E19: Super C | F19: 1 | M19: Total général | N19: 23.333333
A20: Total général | B20: 15 | E20: Total général | F20: 15
A21: sondage | B21: (Tous)
A23: Nombre de Achat possible… | B23: Étiquettes de colonnes | G23: Étiquettes de lignes | H23: Nombre de sondage
A24: Emballage | B24: Je l'achèterai certainement | C24: Je l'achèterai propablement | D24: Je ne l'achèterai probablement pas | E24: Je ne sais pas si je l'achèterai ou non | F24: Total général | G24: Des emballages plus écologique | H24: 7
A25: Des emballages plus écologique | B25: 1 | C25: 3 | D25: 3 | F25: 7 | G25: Des produits sans huile de palme | H25: 1
A26: Des produits sans huile de palme | C26: 1 | F26: 1 | G26: Plus de produits en sachets individuels | H26: 1
A27: Plus de produits en sachets individuels | C27: 1 | F27: 1 | G27: Qu'il soit moins sucré | H27: 3
A28: Qu'il soit moins sucré | B28: 1 | C28: 1 | E28: 1 | F28: 3 | G28: Un prix plus accessible | H28: 3
A29: Un prix plus accessible | D29: 2 | E29: 1 | F29: 3 | G29: Total général | H29: 15
A30: Total général | B30: 2 | C30: 6 | D30: 5 | E30: 2 | F30: 15

Sheet Compilation
A1: Colonne1 | B1: Colonne2 | C1: Colonne3 | D1: Colonne4 | E1: Colonne5 | F1: Colonne6 | G1: Colonne7 | H1: Colonne8 | I1: Colonne9 | J1: Colonne10 | K1: Colonne11 | L1: Colonne12 | M1: Colonne15 | N1: Colonne13 | O1: Colonne14
A2: sondage | B2: La texture | C2: Le goût | D2: Qualité du service | E2: La conservation | F2: Emballage | G2: Apport énergétique | H2: Évolution possible du produit | I2: Prix | J2: Achat possible… | K2: Endroit d'achat | L2: Dépense/semaine | M2: Prix d'achat | N2: Sexe | O2: Qui consomme
A3: Sondage 5 | B3: ='Sondage 5'!$B$10 -> Excellent | C3: ='Sondage 5'!$B$18 -> Très bon | D3: ='Sondage 5'!B26 -> Très bon | E3: ='Sondage 5'!B34 -> Très bon | F3: ='Sondage 5'!B42 -> Très bon | G3: ='Sondage 5'!B50 -> Excellent | H3: ='Sondage 5'!B58 -> Qu'il soit moins sucré | I3: ='Sondage 5'!B66 -> Très bon | J3: ='Sondage 5'!B74 -> Je l'achèterai certainement | K3: ='Sondage 5'!B82 -> Maxi | L3: ='Sondage 5'!B90 -> 25 | M3: ='Sondage 5'!B98 -> 4 | N3: ='Sondage 5'!B102 -> Homme | O3: ='Sondage 5'!B107 -> Vous-même
A4: Sondage 10 | B4: ='Sondage 10'!$B$10 -> Très bon | C4: ='Sondage 10'!$B$18 -> Bon | D4: ='Sondage 10'!B26 -> Très bon | E4: ='Sondage 10'!B34 -> Très bon | F4: ='Sondage 10'!B42 -> Bon | G4: ='Sondage 10'!B50 -> Bon | H4: ='Sondage 10'!B58 -> Des emballages plus écologique | I4: ='Sondage 10'!B66 -> Très bon | J4: ='Sondage 10'!B74 -> Je l'achèterai certainement | K4: ='Sondage 10'!B82 -> Métro | L4: ='Sondage 10'!B90 -> 25 | M4: ='Sondage 9'!B95 -> 8 | N4: ='Sondage 10'!B99 -> Femme | O4: ='Sondage 10'!B104 -> Un enfant de 7 à 10 ans
A5: Sondage 2 | B5: ='Sondage 2'!$B$10 -> Bon | C5: ='Sondage 2'!$B$18 -> Excellent | D5: ='Sondage 2'!B26 -> Très bon | E5: ='Sondage 2'!B34 -> Très bon | F5: ='Sondage 2'!B42 -> Bon | G5: ='Sondage 2'!B50 -> Bon | H5: ='Sondage 2'!B59 -> Qu'il soit moins sucré | I5: ='Sondage 2'!B67 -> Très bon | J5: ='Sondage 2'!B75 -> Je l'achèterai propablement | K5: ='Sondage 2'!B83 -> Métro | L5: ='Sondage 2'!B91 -> 15 | M5: ='Sondage 2'!B94 -> 7 | N5: ='Sondage 2'!B98 -> Femme | O5: ='Sondage 2'!B103 -> Votre conjoint (e)
A6: Sondage 4 | B6: ='Sondage 4'!$B$10 -> Bon | C6: ='Sondage 4'!$B$18 -> Bon | D6: ='Sondage 4'!B26 -> Bon | E6: ='Sondage 4'!B34 -> Bon | F6: ='Sondage 4'!B42 -> Bon | G6: ='Sondage 4'!B50 -> Bon | H6: ='Sondage 4'!B58 -> Des emballages plus écologique | I6: ='Sondage 4'!B65 -> Bon | J6: ='Sondage 4'!B72 -> Je l'achèterai propablement | K6: ='Sondage 4'!B78 -> Maxi | L6: ='Sondage 4'!B86 -> 25 | M6: ='Sondage 4'!B90 -> 5 | N6: ='Sondage 4'!B99 -> Homme | O6: ='Sondage 4'!B104 -> Un enfant de 0 à 6 ans
A7: Sondage 7 | B7: ='Sondage 7'!$B$10 -> Bon | C7: ='Sondage 7'!$B$18 -> Bon | D7: ='Sondage 7'!B26 -> Bon | E7: ='Sondage 7'!B34 -> Bon | F7: ='Sondage 7'!B42 -> Bon | G7: ='Sondage 7'!B50 -> Bon | H7: ='Sondage 7'!B58 -> Des emballages plus écologique | I7: ='Sondage 7'!B66 -> Bon | J7: ='Sondage 7'!B74 -> Je l'achèterai propablement | K7: ='Sondage 7'!B82 -> Métro | L7: ='Sondage 7'!B90 -> 25 | M7: ='Sondage 7'!B94 -> 5 | N7: ='Sondage 7'!B107 -> Homme | O7: ='Sondage 7'!B112 -> Votre conjoint (e)
A8: Sondage 8 | B8: ='Sondage 8'!$B$10 -> Excellent | C8: ='Sondage 8'!$B$18 -> Très bon | D8: ='Sondage 8'!B26 -> Très bon | E8: ='Sondage 8'!B34 -> Très bon | F8: ='Sondage 8'!B42 -> Très bon | G8: ='Sondage 8'!B50 -> Très bon | H8: ='Sondage 8'!B58 -> Des produits sans huile de palme | I8: ='Sondage 9'!B66 -> Bon | J8: ='Sondage 8'!B74 -> Je l'achèterai propablement | K8: ='Sondage 8'!B82 -> IGA supermarché | L8: ='Sondage 8'!B90 -> 25 | M8: ='Sondage 8'!B94 -> 5 | N8: ='Sondage 8'!B98 -> Homme | O8: ='Sondage 8'!B103 -> Un enfant de 0 à 6 ans
A9: Sondage 11 | B9: ='Sondage 11'!$B$11 -> Très bon | C9: ='Sondage 11'!$B$18 -> Bon | D9: ='Sondage 11'!B26 -> Bon | E9: ='Sondage 11'!B34 -> Excellent | F9: ='Sondage 11'!B42 -> Bon | G9: ='Sondage 11'!B50 -> Excellent | H9: ='Sondage 11'!B58 -> Plus de produits en sachets individuels | I9: ='Sondage 11'!B66 -> Excellent | J9: ='Sondage 11'!B74 -> Je l'achèterai propablement | K9: ='Sondage 11'!B82 -> Métro | L9: ='Sondage 11'!B90 -> 30 | M9: ='Sondage 10'!B95 -> 4 | N9: ='Sondage 11'!B107 -> Homme | O9: ='Sondage 11'!B112 -> Un enfant de 7 à 10 ans
A10: Sondage 3 | B10: ='Sondage 3'!$B$10 -> Mauvais | C10: ='Sondage 3'!$B$18 -> Mauvais | D10: ='Sondage 3'!B26 -> Médiocre | E10: ='Sondage 3'!B34 -> Bon | F10: ='Sondage 3'!B42 -> Bon | G10: ='Sondage 3'!B50 -> Bon | H10: ='Sondage 3'!B58 -> Des emballages plus écologique | I10: ='Sondage 3'!B66 -> Mauvais | J10: ='Sondage 3'!B74 -> Je ne l'achèterai certainement pas | K10: ='Sondage 3'!B82 -> IGA supermarché | L10: ='Sondage 3'!B90 -> 25 | M10: ='Sondage 3'!B93 -> 8 | N10: ='Sondage 3'!B97 -> Femme | O10: ='Sondage 3'!B102 -> Un ados de 11 à 17 ans
A11: Sondage 6 | B11: ='Sondage 6'!$B$10 -> Excellent | C11: ='Sondage 6'!$B$18 -> Très bon | D11: ='Sondage 6'!B26 -> Bon | E11: ='Sondage 6'!B34 -> Bon | F11: ='Sondage 6'!B42 -> Bon | G11: ='Sondage 6'!B50 -> Très bon | H11: ='Sondage 6'!B58 -> Un prix plus accessible | I11: ='Sondage 6'!B66 -> Médiocre | J11: ='Sondage 6'!B74 -> Je ne l'achèterai probablement pas | K11: ='Sondage 6'!B82 -> Maxi | L11: ='Sondage 6'!B90 -> 25 | M11: ='Sondage 6'!B94 -> 4 | N11: ='Sondage 6'!B107 -> Femme | O11: ='Sondage 6'!B112 -> Un enfant de 0 à 6 ans
A12: Sondage 12 | B12: ='Sondage 12'!$B$11 -> Médiocre | C12: ='Sondage 12'!$B$18 -> Mauvais | D12: ='Sondage 12'!B26 -> Mauvais | E12: ='Sondage 12'!B34 -> Médiocre | F12: ='Sondage 12'!B42 -> Médiocre | G12: ='Sondage 12'!B50 -> Bon | H12: ='Sondage 12'!B58 -> Des emballages plus écologique | I12: ='Sondage 12'!B66 -> Bon | J12: ='Sondage 12'!B74 -> Je ne l'achèterai probablement pas | K12: ='Sondage 12'!B82 -> Métro | L12: ='Sondage 12'!B90 -> 10 | M12: =Sondage14!B96 -> 5 | N12: ='Sondage 12'!B99 -> Femme | O12: ='Sondage 12'!B104 -> Un enfant de 0 à 6 ans
A13: Sondage 13 | B13: ='Sondage 13'!$B$11 -> Très bon | C13: ='Sondage 13'!$B$18 -> Bon | D13: ='Sondage 13'!B26 -> Médiocre | E13: ='Sondage 13'!B34 -> Médiocre | F13: ='Sondage 13'!B42 -> Très bon | G13: ='Sondage 13'!B50 -> Très bon | H13: ='Sondage 13'!B59 -> Un prix plus accessible | I13: ='Sondage 13'!B67 -> Bon | J13: ='Sondage 12'!B74 -> Je ne l'achèterai probablement pas | K13: ='Sondage 13'!B83 -> Super C | L13: ='Sondage 13'!B91 -> 30 | M13: ='Sondage 13'!B96 -> 7 | N13: ='Sondage 13'!B100 -> Homme | O13: ='Sondage 13'!B105 -> Un jeune adulte de 18 à 24 ans
A14: Sondage 14 | B14: ='Sondage 15'!$B$11 -> Excellent | C14: =Sondage14!$B$20 -> Bon | D14: =Sondage14!B27 -> Très bon | E14: =Sondage14!B35 -> Bon | F14: =Sondage14!B43 -> Très bon | G14: =Sondage14!B51 -> Bon | H14: =Sondage14!B60 -> Des emballages plus écologique | I14: =Sondage14!B68 -> Bon | J14: =Sondage14!B76 -> Je ne l'achèterai probablement pas | K14: =Sondage14!B84 -> IGA supermarché | L14: =Sondage14!B92 -> 20 | M14: =Sondage14!B96 -> 5 | N14: =Sondage14!B100 -> Homme | O14: =Sondage14!B105 -> Un enfant de 7 à 10 ans
A15: Sondage 15 | B15: ='Sondage 15'!$B$11 -> Excellent | C15: ='Sondage 15'!$B$19 -> Bon | D15: ='Sondage 15'!B27 -> Médiocre | E15: ='Sondage 15'!B35 -> Bon | F15: ='Sondage 15'!B43 -> Médiocre | G15: ='Sondage 15'!B51 -> Mauvais | H15: ='Sondage 15'!B60 -> Des emballages plus écologique | I15: ='Sondage 15'!B68 -> Bon | J15: ='Sondage 15'!B76 -> Je ne l'achèterai probablement pas | K15: ='Sondage 15'!B84 -> Métro | L15: ='Sondage 15'!B92 -> 15 | M15: ='Sondage 15'!B96 -> 5 | N15: ='Sondage 15'!B100 -> Femme | O15: ='Sondage 15'!B105 -> Un jeune adulte de 18 à 24 ans
A16: Sondage 1 | B16: ='Sondage 1'!$B$15 -> Bon | C16: ='Sondage 1'!$B$23 -> Très bon | D16: ='Sondage 1'!B31 -> Médiocre | E16: ='Sondage 1'!B39 -> Très bon | F16: ='Sondage 1'!B47 -> Excellent | G16: ='Sondage 1'!B55 -> Bon | H16: ='Sondage 1'!B63 -> Qu'il soit moins sucré | I16: ='Sondage 1'!B71 -> Excellent | J16: ='Sondage 1'!B79 -> Je ne sais pas si je l'achèterai ou non | K16: ='Sondage 1'!B87 -> Métro | L16: ='Sondage 1'!B95 -> 30 | M16: ='Sondage 1'!B98 -> 8 | N16: ='Sondage 1'!B102 -> Homme | O16: ='Sondage 1'!B107 -> Un enfant de 0 à 6 ans
A17: Sondage 9 | B17: ='Sondage 9'!$B$11 -> Excellent | C17: ='Sondage 9'!$B$18 -> Excellent | D17: ='Sondage 9'!B26 -> Bon | E17: ='Sondage 9'!B34 -> Excellent | F17: ='Sondage 9'!B42 -> Très bon | G17: ='Sondage 9'!B50 -> Excellent | H17: ='Sondage 9'!B58 -> Un prix plus accessible | I17: ='Sondage 9'!B66 -> Bon | J17: ='Sondage 9'!B74 -> Je ne sais pas si je l'achèterai ou non | K17: ='Sondage 9'!B82 -> Métro | L17: ='Sondage 9'!B90 -> 25 | M17: ='Sondage 9'!B95 -> 8 | N17: ='Sondage 9'!B99 -> Femme | O17: ='Sondage 9'!B104 -> Votre conjoint (e)
A18: Total | I18: =COUNTA(I3:I17) -> 15 | L18: =SUBTOTAL(101,Tableau17[Colonne12]) -> 23.333333 | M18: =SUBTOTAL(107,Tableau17[Colonne15]) -> 1.5976173 | O18: =SUBTOTAL(103,Tableau17[Colonne14]) -> 16

Sheet Sondage 1
A1: Afin de poursuivre notre dynamique d'amélioration, nous vous remercions de prendre quelques instants pour compléter ce questionnaire.
A3: Les informations transmises seront traitées à des fins statistiques et resteront confidentielles.
A11: La tortue au chocolat noir, au caramel d'érable et à la confiture de bleuets
A13: 1. Comment qualiferez-vous la texture de notre produit? | B13: Colonne1
B14: Réponse de 1 à 5
A15: 1-Excellent | B15: Bon
A16: 2-Très bon
A17: 3-Bon
A18: 4-Médiocre
A19: 5-Mauvais
A21: 2. Que pensez-vous du goût de notre produit?
B22: Réponse
A23: 1-Excellent | B23: Très bon
A24: 2-Très bon
A25: 3-Bon
A26: 4-Médiocre
A27: 5-Mauvais
A29: 3. Que pensez-vous de la qualité de notre service?
B30: Réponse
A31: 1-Excellent | B31: Médiocre
A32: 2-Très bon
A33: 3-Bon
A34: 4-Médiocre
A35: 5-Mauvais
A37: 4. Que pensez-vous de l'efficacité de notre produit en terme de conservation?
B38: Réponse
A39: 1-Excellent | B39: Très bon
A40: 2-Très bon
A41: 3-Bon
A42: 4-Médiocre
A43: 5-Mauvais
A45: 5. Que pensez-vous de l'emballage de notre produit?
B46: Réponse
A47: 1-Excellent | B47: Excellent
A48: 2-Très bon
A49: 3-Bon
A50: 4-Médiocre
A51: 5-Mauvais
A53: 6. Coment trouvez-vous l'approt énergétique de ce produit?
B54: Réponse
...

Sheet Sondage 2
A2: Afin de poursuivre notre dynamique d'amélioration, nous vous remercions de prendre quelques instants pour compléter ce questionnaire.
A4: Les informations transmises seront traitées à des fins statistiques et resteront confidentielles.
A6: La tortue au chocolat noir, au caramel d'érable et à la confiture de bleuets
A8: 1. Comment qualiferez-vous la texture de notre produit? | B8: Colonne1
B9: Réponse
A10: 1-Excellent | B10: Bon
A11: 2-Très bon
A12: 3-Bon
A13: 4-Médiocre
A14: 5-Mauvais
A16: 2. Que pensez-vous du goût de notre produit?
B17: Réponse
A18: 1-Excellent | B18: Excellent
A19: 2-Très bon
A20: 3-Bon
A21: 4-Médiocre
A22: 5-Mauvais
A24: 3. Que pensez-vous de la qualité de notre service?
B25: Réponse
A26: 1-Excellent | B26: Très bon
A27: 2-Très bon
A28: 3-Bon
A29: 4-Médiocre
A30: 5-Mauvais
A32: 4. Que pensez-vous de l'efficacité de notre produit en terme de conservation?
B33: Réponse
A34: 1-Excellent | B34: Très bon
A35: 2-Très bon
A36: 3-Bon
A37: 4-Médiocre
A38: 5-Mauvais
A40: 5. Que pensez-vous de l'emballage de notre produit?
B41: Réponse
A42: 1-Excellent | B42: Bon
A43: 2-Très bon
A44: 3-Bon
A45: 4-Médiocre
A46: 5-Mauvais
A48: 6. Coment trouvez-vous l'approt énergétique de ce produit?
B49: Réponse
...

Sheet Sondage 3
A2: Afin de poursuivre notre dynamique d'amélioration, nous vous remercions de prendre quelques instants pour compléter ce questionnaire.
A4: Les informations transmises seront traitées à des fins statistiques et resteront confidentielles.
A6: La tortue au chocolat noir, au caramel d'érable et à la confiture de bleuets
A8: 1. Comment qualiferez-vous la texture de notre produit? | B8: Colonne1
B9: Réponse
A10: 1-Excellent | B10: Mauvais
A11: 2-Très bon
A12: 3-Bon
A13: 4-Médiocre
A14: 5-Mauvais
A16: 2. Que pensez-vous du goût de notre produit?
B17: Réponse
A18: 1-Excellent | B18: Mauvais
A19: 2-Très bon
A20: 3-Bon
A21: 4-Médiocre
A22: 5-Mauvais
A24: 3. Que pensez-vous de la qualité de notre service?
B25: Réponse
A26: 1-Excellent | B26: Médiocre
A27: 2-Très bon
A28: 3-Bon
A29: 4-Médiocre
A30: 5-Mauvais
A32: 4. Que pensez-vous de l'efficacité de notre produit en terme de conservation?
B33: Réponse
A34: 1-Excellent | B34: Bon
A35: 2-Très bon
A36: 3-Bon
A37: 4-Médiocre
A38: 5-Mauvais
A40: 5. Que pensez-vous de l'emballage de notre produit?
B41: Réponse
A42: 1-Excellent | B42: Bon
A43: 2-Très bon
A44: 3-Bon
A45: 4-Médiocre
A46: 5-Mauvais
A48: 6. Coment trouvez-vous l'approt énergétique de ce produit?
B49: Réponse
...

Sheet Sondage 4
A2: Afin de poursuivre notre dynamique d'amélioration, nous vous remercions de prendre quelques instants pour compléter ce questionnaire.
A4: Les informations transmises seront traitées à des fins statistiques et resteront confidentielles.
A6: La tortue au chocolat noir, au caramel d'érable et à la confiture de bleuets
A8: 1. Comment qualiferez-vous la texture de notre produit? | B8: Colonne1
B9: Réponse
A10: 1-Excellent | B10: Bon
A11: 2-Très bon
A12: 3-Bon
A13: 4-Médiocre
A14: 5-Mauvais
A16: 2. Que pensez-vous du goût de notre produit?
B17: Réponse
A18: 1-Excellent | B18: Bon
A19: 2-Très bon
A20: 3-Bon
A21: 4-Médiocre
A22: 5-Mauvais
A24: 3. Que pensez-vous de la qualité de notre service?
B25: Réponse
A26: 1-Excellent | B26: Bon
A27: 2-Très bon
A28: 3-Bon
A29: 4-Médiocre
A30: 5-Mauvais
A32: 4. Que pensez-vous de l'efficacité de notre produit en terme de conservation?
B33: Réponse
A34: 1-Excellent | B34: Bon
A35: 2-Très bon
A36: 3-Bon
A37: 4-Médiocre
A38: 5-Mauvais
A40: 5. Que pensez-vous de l'emballage de notre produit?
B41: Réponse
A42: 1-Excellent | B42: Bon
A43: 2-Très bon
A44: 3-Bon
A45: 4-Médiocre
A46: 5-Mauvais
A48: 6. Coment trouvez-vous l'approt énergétique de ce produit?
B49: Réponse
...

Sheet Feuil2
A1: Page1 | B1: (Tous)
A3: Nombre de Valeur | B3: Étiquettes de colonnes
A4: Étiquettes de lignes | B4: Bon | C4: (vide) | D4: Total général
A5: (plusieurs réponses possible)
A6: 10. Parmis les magasins suivants, lesquels fréquentez-vous, ne serait-ce que de temps en temps?
A7: 11- Combien dépensez-vous par semaine en déssert?
A8: 12. Combien êtes vous prêt à payer pour notre dessert?
A9: 13. Qui consomme les gâteaux que vous achetez chez vous?
A10: 1-Excellent | B10: 6 | C10: 6 | D10: 12
A11: 1-Homme | B11: 1 | C11: 1 | D11: 2
A12: 1-IGA supermarché | B12: 1 | C12: 1 | D12: 2
A13: 1-Je l'achèterai certainement | B13: 1 | C13: 1 | D13: 2
A14: 1-Un prix plus accessible | B14: 1 | C14: 1 | D14: 2
A15: 1-Vous-même | B15: 1 | C15: 1 | D15: 2
A16: 2. Que pensez-vous du goût de notre produit?
A17: 2-Femmme
A18: 2-Je l'achèterai propablement
A19: 2-Métro
A20: 2-Qu'il soit moins sucré
A21: 2-Très bon
A22: 2-Votre conjoint (e)
A23: 3. Que pensez-vous de la qualité de notre service?
A24: 3-Bon
A25: 3-Des produits sans huile de palme
A26: 3-Je ne sais pas si je l'achèterai ou non
A27: 3-Super C
... A46: Quel est votre sexe?
A47: (vide) | B47: 15 | C47: 15 | D47: 30
A48: Total général | B48: 26 | C48: 26 | D48: 52

Sheet Sondage 5
A2: Afin de poursuivre notre dynamique d'amélioration, nous vous remercions de prendre quelques instants pour compléter ce questionnaire.
A4: Les informations transmises seront traitées à des fins statistiques et resteront confidentielles.
A6: La tortue au chocolat noir, au caramel d'érable et à la confiture de bleuets | B6: Colonne1
A8: 1. Comment qualiferez-vous la texture de notre produit?
B9: Réponse
A10: 1-Excellent | B10: Excellent
A11: 2-Très bon
A12: 3-Bon
A13: 4-Médiocre
A14: 5-Mauvais
A16: 2. Que pensez-vous du goût de notre produit?
B17: Réponse
A18: 1-Excellent | B18: Très bon
A19: 2-Très bon
A20: 3-Bon
A21: 4-Médiocre
A22: 5-Mauvais
A24: 3. Que pensez-vous de la qualité de notre service?
B25: Réponse
A26: 1-Excellent | B26: Très bon
A27: 2-Très bon
A28: 3-Bon
A29: 4-Médiocre
A30: 5-Mauvais
A32: 4. Que pensez-vous de l'efficacité de notre produit en terme de conservation?
B33: Réponse
A34: 1-Excellent | B34: Très bon
A35: 2-Très bon
A36: 3-Bon
A37: 4-Médiocre
A38: 5-Mauvais
A40: 5. Que pensez-vous de l'emballage de notre produit?
B41: Réponse
A42: 1-Excellent | B42: Très bon
A43: 2-Très bon
A44: 3-Bon
A45: 4-Médiocre
A46: 5-Mauvais
A48: 6. Coment trouvez-vous l'approt énergétique de ce produit?
B49: Réponse
...

Sheet Sondage 6
A2: Afin de poursuivre notre dynamique d'amélioration, nous vous remercions de prendre quelques instants pour compléter ce questionnaire.
A4: Les informations transmises seront traitées à des fins statistiques et resteront confidentielles.
A6: La tortue au chocolat noir, au caramel d'érable et à la confiture de bleuets
A8: 1. Comment qualiferez-vous la texture de notre produit? | B8: Colonne1
B9: Réponse
A10: 1-Excellent | B10: Excellent
A11: 2-Très bon
A12: 3-Bon
A13: 4-Médiocre
A14: 5-Mauvais
A16: 2. Que pensez-vous du goût de notre produit?
B17: Réponse
A18: 1-Excellent | B18: Très bon
A19: 2-Très bon
A20: 3-Bon
A21: 4-Médiocre
A22: 5-Mauvais
A24: 3. Que pensez-vous de la qualité de notre service?
B25: Réponse
A26: 1-Excellent | B26: Bon
A27: 2-Très bon
A28: 3-Bon
A29: 4-Médiocre
A30: 5-Mauvais
A32: 4. Que pensez-vous de l'efficacité de notre produit en terme de conservation?
B33: Réponse
A34: 1-Excellent | B34: Bon
A35: 2-Très bon
A36: 3-Bon
A37: 4-Médiocre
A38: 5-Mauvais
A40: 5. Que pensez-vous de l'emballage de notre produit?
B41: Réponse
A42: 1-Excellent | B42: Bon
A43: 2-Très bon
A44: 3-Bon
A45: 4-Médiocre
A46: 5-Mauvais
A48: 6. Coment trouvez-vous l'approt énergétique de ce produit?
B49: Réponse
...

Sheet Sondage 7
A2: Afin de poursuivre notre dynamique d'amélioration, nous vous remercions de prendre quelques instants pour compléter ce questionnaire.
A4: Les informations transmises seront traitées à des fins statistiques et resteront confidentielles.
A6: La tortue au chocolat noir, au caramel d'érable et à la confiture de bleuets
A8: 1. Comment qualiferez-vous la texture de notre produit? | B8: Colonne1
B9: Réponse
A10: 1-Excellent | B10: Bon
A11: 2-Très bon
A12: 3-Bon
A13: 4-Médiocre
A14: 5-Mauvais
A16: 2. Que pensez-vous du goût de notre produit?
B17: Réponse
A18: 1-Excellent | B18: Bon
A19: 2-Très bon
A20: 3-Bon
A21: 4-Médiocre
A22: 5-Mauvais
A24: 3. Que pensez-vous de la qualité de notre service?
B25: Réponse
A26: 1-Excellent | B26: Bon
A27: 2-Très bon
A28: 3-Bon
A29: 4-Médiocre
A30: 5-Mauvais
A32: 4. Que pensez-vous de l'efficacité de notre produit en terme de conservation?
B33: Réponse
A34: 1-Excellent | B34: Bon
A35: 2-Très bon
A36: 3-Bon
A37: 4-Médiocre
A38: 5-Mauvais
A40: 5. Que pensez-vous de l'emballage de notre produit?
B41: Réponse
A42: 1-Excellent | B42: Bon
A43: 2-Très bon
A44: 3-Bon
A45: 4-Médiocre
A46: 5-Mauvais
A48: 6. Coment trouvez-vous l'approt énergétique de ce produit?
B49: Réponse
...

Sheet Sondage 8
A2: Afin de poursuivre notre dynamique d'amélioration, nous vous remercions de prendre quelques instants pour compléter ce questionnaire.
A4: Les informations transmises seront traitées à des fins statistiques et resteront confidentielles.
A6: La tortue au chocolat noir, au caramel d'érable et à la confiture de bleuets
A8: 1. Comment qualiferez-vous la texture de notre produit? | B8: Colonne1
B9: Réponse
A10: 1-Excellent | B10: Excellent
A11: 2-Très bon
A12: 3-Bon
A13: 4-Médiocre
A14: 5-Mauvais
A16: 2. Que pensez-vous du goût de notre produit?
B17: Réponse
A18: 1-Excellent | B18: Très bon
A19: 2-Très bon
A20: 3-Bon
A21: 4-Médiocre
A22: 5-Mauvais
A24: 3. Que pensez-vous de la qualité de notre service?
B25: Réponse
A26: 1-Excellent | B26: Très bon
A27: 2-Très bon
A28: 3-Bon
A29: 4-Médiocre
A30: 5-Mauvais
A32: 4. Que pensez-vous de l'efficacité de notre produit en terme de conservation?
B33: Réponse
A34: 1-Excellent | B34: Très bon
A35: 2-Très bon
A36: 3-Bon
A37: 4-Médiocre
A38: 5-Mauvais
A40: 5. Que pensez-vous de l'emballage de notre produit?
B41: Réponse
A42: 1-Excellent | B42: Très bon
A43: 2-Très bon
A44: 3-Bon
A45: 4-Médiocre
A46: 5-Mauvais
A48: 6. Coment trouvez-vous l'approt énergétique de ce produit?
B49: Réponse
...

Sheet Sondage 9
A2: Afin de poursuivre notre dynamique d'amélioration, nous vous remercions de prendre quelques instants pour compléter ce questionnaire.
A4: Les informations transmises seront traitées à des fins statistiques et resteront confidentielles.
A6: Colonne1 | B6: Colonne2
A7: La tortue au chocolat noir, au caramel d'érable et à la confiture de bleuets
A9: 1. Comment qualiferez-vous la texture de notre produit?
B10: Réponse
A11: 1-Excellent | B11: Excellent
A12: 2-Très bon
A13: 3-Bon
A14: 4-Médiocre
A15: 5-Mauvais
A16: 2. Que pensez-vous du goût de notre produit?
B17: Réponse
A18: 1-Excellent | B18: Excellent
A19: 2-Très bon
A20: 3-Bon
A21: 4-Médiocre
A22: 5-Mauvais
A24: 3. Que pensez-vous de la qualité de notre service?
B25: Réponse
A26: 1-Excellent | B26: Bon
A27: 2-Très bon
A28: 3-Bon
A29: 4-Médiocre
A30: 5-Mauvais
A32: 4. Que pensez-vous de l'efficacité de notre produit en terme de conservation?
B33: Réponse
A34: 1-Excellent | B34: Excellent
A35: 2-Très bon
A36: 3-Bon
A37: 4-Médiocre
A38: 5-Mauvais
A40: 5. Que pensez-vous de l'emballage de notre produit?
B41: Réponse
A42: 1-Excellent | B42: Très bon
A43: 2-Très bon
A44: 3-Bon
A45: 4-Médiocre
A46: 5-Mauvais
A48: 6. Coment trouvez-vous l'approt énergétique de ce produit?
...

Sheet Sondage 10
A2: Afin de poursuivre notre dynamique d'amélioration, nous vous remercions de prendre quelques instants pour compléter ce questionnaire.
A4: Les informations transmises seront traitées à des fins statistiques et resteront confidentielles.
A6: La tortue au chocolat noir, au caramel d'érable et à la confiture de bleuets
A8: 1. Comment qualiferez-vous la texture de notre produit? | B8: Colonne1
B9: Réponse
A10: 1-Excellent | B10: Très bon
A11: 2-Très bon
A12: 3-Bon
A13: 4-Médiocre
A14: 5-Mauvais
A16: 2. Que pensez-vous du goût de notre produit?
B17: Réponse
A18: 1-Excellent | B18: Bon
A19: 2-Très bon
A20: 3-Bon
A21: 4-Médiocre
A22: 5-Mauvais
A24: 3. Que pensez-vous de la qualité de notre service?
B25: Réponse
A26: 1-Excellent | B26: Très bon
A27: 2-Très bon
A28: 3-Bon
A29: 4-Médiocre
A30: 5-Mauvais
A32: 4. Que pensez-vous de l'efficacité de notre produit en terme de conservation?
B33: Réponse
A34: 1-Excellent | B34: Très bon
A35: 2-Très bon
A36: 3-Bon
A37: 4-Médiocre
A38: 5-Mauvais
A40: 5. Que pensez-vous de l'emballage de notre produit?
B41: Réponse
A42: 1-Excellent | B42: Bon
A43: 2-Très bon
A44: 3-Bon
A45: 4-Médiocre
A46: 5-Mauvais
A48: 6. Coment trouvez-vous l'approt énergétique de ce produit?
B49: Réponse
...

Sheet Sondage 11
A2: Afin de poursuivre notre dynamique d'amélioration, nous vous remercions de prendre quelques instants pour compléter ce questionnaire.
A4: Les informations transmises seront traitées à des fins statistiques et resteront confidentielles.
A6: Colonne1 | B6: Colonne2
A7: La tortue au chocolat noir, au caramel d'érable et à la confiture de bleuets
A9: 1. Comment qualiferez-vous la texture de notre produit?
B10: Réponse
A11: 1-Excellent | B11: Très bon
A12: 2-Très bon
A13: 3-Bon
A14: 4-Médiocre
A15: 5-Mauvais
A16: 2. Que pensez-vous du goût de notre produit?
B17: Réponse
A18: 1-Excellent | B18: Bon
A19: 2-Très bon
A20: 3-Bon
A21: 4-Médiocre
A22: 5-Mauvais
A24: 3. Que pensez-vous de la qualité de notre service?
B25: Réponse
A26: 1-Excellent | B26: Bon
A27: 2-Très bon
A28: 3-Bon
A29: 4-Médiocre
A30: 5-Mauvais
A32: 4. Que pensez-vous de l'efficacité de notre produit en terme de conservation?
B33: Réponse
A34: 1-Excellent | B34: Excellent
A35: 2-Très bon
A36: 3-Bon
A37: 4-Médiocre
A38: 5-Mauvais
A40: 5. Que pensez-vous de l'emballage de notre produit?
B41: Réponse
A42: 1-Excellent | B42: Bon
A43: 2-Très bon
A44: 3-Bon
A45: 4-Médiocre
A46: 5-Mauvais
A48: 6. Coment trouvez-vous l'approt énergétique de ce produit?
...

Sheet Sondage 12
A2: Afin de poursuivre notre dynamique d'amélioration, nous vous remercions de prendre quelques instants pour compléter ce questionnaire.
A4: Les informations transmises seront traitées à des fins statistiques et resteront confidentielles.
A6: Colonne1 | B6: Colonne2
A7: La tortue au chocolat noir, au caramel d'érable et à la confiture de bleuets
A9: 1. Comment qualiferez-vous la texture de notre produit?
B10: Réponse
A11: 1-Excellent | B11: Médiocre
A12: 2-Très bon
A13: 3-Bon
A14: 4-Médiocre
A15: 5-Mauvais
A16: 2. Que pensez-vous du goût de notre produit?
B17: Réponse
A18: 1-Excellent | B18: Mauvais
A19: 2-Très bon
A20: 3-Bon
A21: 4-Médiocre
A22: 5-Mauvais
A24: 3. Que pensez-vous de la qualité de notre service?
B25: Réponse
A26: 1-Excellent | B26: Mauvais
A27: 2-Très bon
A28: 3-Bon
A29: 4-Médiocre
A30: 5-Mauvais
A32: 4. Que pensez-vous de l'efficacité de notre produit en terme de conservation?
B33: Réponse
A34: 1-Excellent | B34: Médiocre
A35: 2-Très bon
A36: 3-Bon
A37: 4-Médiocre
A38: 5-Mauvais
A40: 5. Que pensez-vous de l'emballage de notre produit?
B41: Réponse
A42: 1-Excellent | B42: Médiocre
A43: 2-Très bon
A44: 3-Bon
A45: 4-Médiocre
A46: 5-Mauvais
A48: 6. Coment trouvez-vous l'approt énergétique de ce produit?
...

Sheet Sondage 13
A2: Afin de poursuivre notre dynamique d'amélioration, nous vous remercions de prendre quelques instants pour compléter ce questionnaire.
A4: Les informations transmises seront traitées à des fins statistiques et resteront confidentielles.
A6: Colonne1 | B6: Colonne2
A7: La tortue au chocolat noir, au caramel d'érable et à la confiture de bleuets
A9: 1. Comment qualiferez-vous la texture de notre produit?
B10: Réponse
A11: 1-Excellent | B11: Très bon
A12: 2-Très bon
A13: 3-Bon
A14: 4-Médiocre
A15: 5-Mauvais
A16: 2. Que pensez-vous du goût de notre produit?
B17: Réponse
A18: 1-Excellent | B18: Bon
A19: 2-Très bon
A20: 3-Bon
A21: 4-Médiocre
A22: 5-Mauvais
A24: 3. Que pensez-vous de la qualité de notre service?
B25: Réponse
A26: 1-Excellent | B26: Médiocre
A27: 2-Très bon
A28: 3-Bon
A29: 4-Médiocre
A30: 5-Mauvais
A32: 4. Que pensez-vous de l'efficacité de notre produit en terme de conservation?
B33: Réponse
A34: 1-Excellent | B34: Médiocre
A35: 2-Très bon
A36: 3-Bon
A37: 4-Médiocre
A38: 5-Mauvais
A40: 5. Que pensez-vous de l'emballage de notre produit?
B41: Réponse
A42: 1-Excellent | B42: Très bon
A43: 2-Très bon
A44: 3-Bon
A45: 4-Médiocre
A46: 5-Mauvais
A48: 6. Coment trouvez-vous l'approt énergétique de ce produit?
...

Sheet Sondage14
A2: Afin de poursuivre notre dynamique d'amélioration, nous vous remercions de prendre quelques instants pour compléter ce questionnaire.
A4: Les informations transmises seront traitées à des fins statistiques et resteront confidentielles.
A7: Colonne1 | B7: Colonne2
A8: La tortue au chocolat noir, au caramel d'érable et à la confiture de bleuets
A10: 1. Comment qualiferez-vous la texture de notre produit?
B11: Réponse
A12: Comment qualifierez-vous la texture de notre produit? | B12: Bon
A13: 1-Excellent
A14: 2-Très bon
A15: 3-Bon
A16: 4-Médiocre
A17: 5-Mauvais
A18: 2. Que pensez-vous du goût de notre produit?
B19: Réponse
A20: 1-Excellent | B20: Bon
A21: 2-Très bon
A22: 3-Bon
A23: 4-Médiocre
A24: 5-Mauvais
A25: 3. Que pensez-vous de la qualité de notre service?
B26: Réponse
A27: 1-Excellent | B27: Très bon
A28: 2-Très bon
A29: 3-Bon
A30: 4-Médiocre
A31: 5-Mauvais
A33: 4. Que pensez-vous de l'efficacité de notre produit en terme de conservation?
B34: Réponse
A35: 1-Excellent | B35: Bon
A36: 2-Très bon
A37: 3-Bon
A38: 4-Médiocre
A39: 5-Mauvais
A41: 5. Que pensez-vous de l'emballage de notre produit?
B42: Réponse
A43: 1-Excellent | B43: Très bon
A44: 2-Très bon
A45: 3-Bon
A46: 4-Médiocre
A47: 5-Mauvais
...

Sheet Sondage 15
A2: Afin de poursuivre notre dynamique d'amélioration, nous vous remercions de prendre quelques instants pour compléter ce questionnaire.
A4: Les informations transmises seront traitées à des fins statistiques et resteront confidentielles.
A6: Colonne1 | B6: Colonne2
A7: La tortue au chocolat noir, au caramel d'érable et à la confiture de bleuets
A9: 1. Comment qualiferez-vous la texture de notre produit?
B10: Réponse
A11: 1-Excellent | B11: Excellent
A12: 2-Très bon
A13: 3-Bon
A14: 4-Médiocre
A15: 5-Mauvais
A17: 2. Que pensez-vous du goût de notre produit?
B18: Réponse
A19: 1-Excellent | B19: Bon
A20: 2-Très bon
A21: 3-Bon
A22: 4-Médiocre
A23: 5-Mauvais
A25: 3. Que pensez-vous de la qualité de notre service?
B26: Réponse
A27: 1-Excellent | B27: Médiocre
A28: 2-Très bon
A29: 3-Bon
A30: 4-Médiocre
A31: 5-Mauvais
A33: 4. Que pensez-vous de l'efficacité de notre produit en terme de conservation?
B34: Réponse
A35: 1-Excellent | B35: Bon
A36: 2-Très bon
A37: 3-Bon
A38: 4-Médiocre
A39: 5-Mauvais
A41: 5. Que pensez-vous de l'emballage de notre produit?
B42: Réponse
A43: 1-Excellent | B43: Médiocre
A44: 2-Très bon
A45: 3-Bon
A46: 4-Médiocre
A47: 5-Mauvais
A49: 6. Coment trouvez-vous l'approt énergétique de ce produit?
...
