Workbook

Sheet Compilation
A1: Les Fins Palais inc.
A3: Sondage | B3: Question 1 | C3: Question 2 | D3: Question 3 | E3: Question 4 | F3: Question 5 | G3: Question 6 | H3: Question 7 | I3: Question 8 | J3: Question 9 | K3: Question 10 | L3: Question 11 | M3: Question 12 | N3: Question 13 | O3: Question 14
A4: Clients 1 | B4: ='Sondage 1'!B15 -> 3 | C4: ='Sondage 1'!B23 -> 4 | D4: ='Sondage 1'!B31 -> 4 | E4: ='Sondage 1'!B39 -> 2 | F4: ='Sondage 1'!B47 -> 1 | G4: ='Sondage 1'!B55 -> 3 | H4: ='Sondage 1'!B63 -> 1 | I4: ='Sondage 1'!B71 -> 1 | J4: ='Sondage 1'!B79 -> 1 | K4: ='Sondage 1'!B87 -> 2 | L4: 30 | M4: ='Sondage 1'!B103 -> 8 | N4: 2 | O4: ='Sondage 1'!B112 -> 2
A5: Clients 2 | B5: ='Sondage 2'!B10 -> 4 | C5: ='Sondage 2'!B18 -> 1 | D5: ='Sondage 2'!B26 -> 2 | E5: ='Sondage 2'!B34 -> 2 | F5: ='Sondage 2'!B42 -> 3 | G5: ='Sondage 2'!B50 -> 3 | H5: ='Sondage 2'!B66 -> 2 | I5: ='Sondage 2'!B66 -> 2 | J5: ='Sondage 2'!B74 -> 2 | K5: ='Sondage 2'!B82 -> 2 | L5: ='Sondage 2'!B95 -> 15 | M5: ='Sondage 2'!B98 -> 7 | N5: ='Sondage 2'!B102 -> 2 | O5: ='Sondage 2'!B107 -> 2
A6: Clients 3 | B6: ='Sondage 3'!B10 -> 2 | C6: ='Sondage 3'!B18 -> 4 | D6: ='Sondage 3'!B26 -> 5 | E6: ='Sondage 3'!B34 -> 2 | F6: ='Sondage 3'!B42 -> 2 | G6: ='Sondage 3'!B50 -> 2 | H6: ='Sondage 3'!B58 -> 4 | I6: ='Sondage 3'!B66 -> 4 | J6: ='Sondage 3'!B74 -> 5 | K6: ='Sondage 3'!B82 -> 1 | L6: ='Sondage 3'!B90 -> 25 | M6: ='Sondage 3'!B93 -> 8 | N6: ='Sondage 3'!B97 -> 2 | O6: ='Sondage 3'!B102 -> 5
A7: Clients 4 | B7: ='Sondage 4'!B10 -> 3 | C7: ='Sondage 4'!B18 -> 3 | D7: ='Sondage 4'!B26 -> 3 | E7: ='Sondage 4'!B34 -> 3 | F7: ='Sondage 4'!B42 -> 3 | G7: ='Sondage 4'!B50 -> 3 | H7: ='Sondage 4'!B58 -> 4 | I7: 3 | J7: ='Sondage 4'!B73 -> 2 | K7: ='Sondage 4'!B79 -> 4 | L7: ='Sondage 4'!B87 -> 25 | M7: ='Sondage 4'!B91 -> 5 | N7: 2 | O7: ='Sondage 4'!B105 -> 3
A8: Clients 5 | B8: ='Sondage 5'!B10 -> 1 | C8: ='Sondage 5'!B18 -> 2 | D8: ='Sondage 5'!B26 -> 2 | E8: ='Sondage 5'!B34 -> 2 | F8: ='Sondage 5'!B42 -> 2 | G8: ='Sondage 5'!B50 -> 1 | H8: ='Sondage 5'!B58 -> 2 | I8: ='Sondage 5'!B66 -> 2 | J8: ='Sondage 5'!B74 -> 1 | K8: ='Sondage 5'!B82 -> 4 | L8: ='Sondage 5'!B90 -> 25 | M8: ='Sondage 5'!B98 -> 4 | N8: 2 | O8: ='Sondage 5'!B107 -> 1
A9: Clients 6 | B9: ='Sondage 6'!B10 -> 1 | C9: ='Sondage 6'!B18 -> 2 | D9: ='Sondage 6'!B26 -> 3 | E9: ='Sondage 6'!B34 -> 3 | F9: ='Sondage 6'!B42 -> 3 | G9: ='Sondage 6'!B50 -> 1 | H9: ='Sondage 6'!B58 -> 1 | I9: ='Sondage 6'!B66 -> 4 | J9: ='Sondage 6'!B74 -> 4 | K9: ='Sondage 6'!B82 -> 4 | L9: ='Sondage 6'!B90 -> 25 | M9: ='Sondage 6'!B94 -> 4 | N9: ='Sondage 6'!B98 -> 2 | O9: ='Sondage 6'!B103 -> 3
A10: Clients 7 | B10: =Tableau6[[#This Row],[Colonne1]] -> 3 | C10: ='Sondage 7'!B18 -> 3 | D10: ='Sondage 7'!B26 -> 3 | E10: ='Sondage 7'!B34 -> 3 | F10: ='Sondage 7'!B42 -> 3 | G10: ='Sondage 7'!B50 -> 3 | H10: ='Sondage 7'!B58 -> 5 | I10: ='Sondage 7'!B66 -> 3 | J10: ='Sondage 7'!B82 -> 4 | K10: ='Sondage 7'!B82 -> 4 | L10: ='Sondage 7'!B90 -> 20 | M10: ='Sondage 7'!B94 -> 5 | N10: 2 | O10: ='Sondage 7'!B104 -> 2
A11: Clients 8 | B11: ='Sondage 8'!B10 -> 1 | C11: ='Sondage 8'!B18 -> 2 | D11: ='Sondage 8'!B26 -> 2 | E11: ='Sondage 8'!B34 -> 2 | F11: ='Sondage 8'!B42 -> 2 | G11: ='Sondage 8'!B50 -> 3 | H11: ='Sondage 8'!B58 -> 3 | I11: ='Sondage 8'!B66 -> 4 | J11: ='Sondage 8'!B74 -> 2 | K11: ='Sondage 9'!B74 -> 3 | L11: ='Sondage 8'!B90 -> 25 | M11: ='Sondage 8'!B94 -> 5 | N11: ='Sondage 8'!B98 -> 1 | O11: ='Sondage 8'!B103 -> 3
A12: Clients 9 | B12: ='Sondage 9'!B11 -> 1 | C12: ='Sondage 9'!B18 -> 1 | D12: ='Sondage 9'!B26 -> 2 | E12: ='Sondage 9'!B34 -> 2 | F12: ='Sondage 9'!B42 -> 3 | G12: ='Sondage 9'!B50 -> 4 | H12: ='Sondage 9'!B58 -> 1 | I12: ='Sondage 9'!B66 -> 3 | J12: ='Sondage 9'!B74 -> 3 | K12: ='Sondage 9'!B82 -> 2 | L12: ='Sondage 9'!B90 -> 25 | M12: ='Sondage 9'!B95 -> 8 | N12: ='Sondage 9'!B99 -> 2 | O12: ='Sondage 9'!B104 -> 2
A13: Clients 10 | B13: ='Sondage 10'!B10 -> 2 | C13: ='Sondage 10'!B18 -> 3 | D13: ='Sondage 10'!B26 -> 2 | E13: ='Sondage 10'!B34 -> 2 | F13: ='Sondage 10'!B42 -> 3 | G13: ='Sondage 10'!B50 -> 4 | H13: ='Sondage 10'!B58 -> 4 | I13: ='Sondage 10'!B66 -> 2 | J13: ='Sondage 10'!B74 -> 1 | K13: ='Sondage 10'!B82 -> 2 | L13: ='Sondage 10'!B90 -> 25 | M13: ='Sondage 10'!B95 -> 4 | N13: ='Sondage 10'!B99 -> 2 | O13: ='Sondage 10'!B104 -> 4
A14: Clients 11 | B14: ='Sondage 11'!B11 -> 1 | C14: ='Sondage 11'!B18 -> 3 | D14: ='Sondage 11'!B26 -> 3 | E14: ='Sondage 11'!B34 -> 1 | F14: ='Sondage 11'!B42 -> 3 | G14: ='Sondage 11'!B50 -> 1 | H14: ='Sondage 11'!B58 -> 5 | I14: ='Sondage 11'!B66 -> 1 | J14: ='Sondage 11'!B74 -> 2 | K14: ='Sondage 11'!B82 -> 2 | L14: ='Sondage 11'!B90 -> 30 | M14: ='Sondage 11'!B94 -> 5 | N14: ='Sondage 11'!B98 -> 1 | O14: ='Sondage 11'!B103 -> 4
A15: Clients 12 | B15: ='Sondage 12'!B11 -> 5 | C15: ='Sondage 12'!B18 -> 4 | D15: ='Sondage 12'!B26 -> 4 | E15: ='Sondage 12'!B34 -> 4 | F15: ='Sondage 12'!B42 -> 5 | G15: ='Sondage 12'!B50 -> 3 | H15: ='Sondage 12'!B58 -> 4 | I15: ='Sondage 12'!B66 -> 3 | J15: ='Sondage 12'!B74 -> 4 | K15: ='Sondage 12'!B82 -> 2 | L15: ='Sondage 12'!B90 -> 10 | M15: ='Sondage 12'!B95 -> 5 | N15: ='Sondage 12'!B99 -> 2 | O15: ='Sondage 12'!B104 -> 3
A16: Clients 13 | B16: ='Sondage 13'!B11 -> 1 | C16: ='Sondage 13'!B18 -> 2 | D16: ='Sondage 13'!B26 -> 5 | E16: ='Sondage 13'!B34 -> 5 | F16: ='Sondage 13'!B42 -> 2 | G16: ='Sondage 13'!B50 -> 2 | H16: ='Sondage 13'!B58 -> 1 | I16: ='Sondage 13'!B66 -> 3 | J16: ='Sondage 13'!B74 -> 3 | K16: ='Sondage 13'!B82 -> 3 | L16: ='Sondage 13'!B90 -> 30 | M16: ='Sondage 13'!B95 -> 7 | N16: ='Sondage 13'!B99 -> 1 | O16: ='Sondage 13'!B104 -> 6
A17: Clients 14 | B17: =Sondage14!B12 -> 3 | C17: =Sondage14!B20 -> 3 | D17: =Sondage14!B27 -> 2 | E17: =Sondage14!B35 -> 4 | F17: =Sondage14!B43 -> 2 | G17: =Sondage14!B51 -> 3 | H17: =Sondage14!B59 -> 4 | I17: =Sondage14!B67 -> 3 | J17: =Sondage14!B75 -> 4 | K17: =Sondage14!B83 -> 1 | L17: =Sondage14!B91 -> 20 | M17: =Sondage14!B95 -> 5 | N17: =Sondage14!B99 -> 1 | O17: =Sondage14!B104 -> 4
A18: Clients 15 | B18: ='Sondage 15'!B11 -> 1 | C18: ='Sondage 15'!B19 -> 3 | D18: ='Sondage 15'!B27 -> 5 | E18: ='Sondage 15'!B35 -> 3 | F18: ='Sondage 15'!B43 -> 4 | G18: ='Sondage 15'!B51 -> 4 | H18: ='Sondage 15'!B59 -> 4 | I18: ='Sondage 15'!B67 -> 3 | J18: ='Sondage 15'!B75 -> 4 | K18: ='Sondage 15'!B83 -> 2 | L18: ='Sondage 15'!B91 -> 15 | M18: ='Sondage 15'!B95 -> 5 | N18: ='Sondage 15'!B99 -> 2 | O18: ='Sondage 15'!B104 -> 6
A20: Moyenne | B20: =AVERAGE(Compilation!$B$4:$B$18) -> 2.1333333 | C20: =AVERAGE(Compilation!$C$4:$C$18) -> 2.6666667 | D20: =AVERAGE(Compilation!$D$4:$D$18) -> 3.1333333 | E20: =AVERAGE(Compilation!$E$4:$E$18) -> 2.6666667 | F20: =AVERAGE(Compilation!$F$4:$F$18) -> 2.7333333 | G20: =AVERAGE(Compilation!$G$4:$G$18) -> 2.6666667 | H20: =AVERAGE(Compilation!$H$4:$H$18) -> 3 | I20: =AVERAGE(Compilation!$I$4:$I$18) -> 2.7333333 | J20: =AVERAGE(Compilation!$J$4:$J$18) -> 2.8 | K20: =AVERAGE(Compilation!$K$4:$K$18) -> 2.5333333 | L20: =AVERAGE(L4:L18) -> 23 | M20: =AVERAGE(Compilation!$M$4:$M$18) -> 5.6666667 | N20: =AVERAGE(Compilation!$N$4:$N$18) -> 1.7333333 | O20: =AVERAGE(Compilation!$O$4:$O$18) -> 3.3333333
A21: Médiane | B21: =MEDIAN(B4:B18) -> 2 | C21: =MEDIAN(C4:C18) -> 3 | D21: =MEDIAN(D4:D18) -> 3 | E21: =MEDIAN(E4:E18) -> 2 | F21: =MEDIAN(F4:F18) -> 3 | G21: =MEDIAN(G4:G18) -> 3 | H21: =MEDIAN(H4:H18) -> 4 | I21: =MEDIAN(I4:I18) -> 3 | ... O21: =MEDIAN(O4:O18) -> 3
A22: Écart type | B22: =STDEV(Compilation!$B$4:$B$18) -> 1.3020131 | C22: =STDEV(Compilation!$C$4:$C$18) -> 0.97590007 | D22: =STDEV(Compilation!$D$4:$D$18) -> 1.1872337 | E22: =STDEV(Compilation!$E$4:$E$18) -> 1.0465362 | F22: =STDEV(Compilation!$F$4:$F$18) -> 0.9611501 | G22: =STDEV(Compilation!$G$4:$G$18) -> 1.0465362 | H22: =STDEV(Compilation!$H$4:$H$18) -> 1.5118579 | I22: =STDEV(Compilation!$I$4:$I$18) -> 0.9611501 | J22: =STDEV(Compilation!$J$4:$J$18) -> 1.3201731 | K22: =STDEV(Compilation!$K$4:$K$18) -> 1.0600988 | L22: =STDEV(L4:L18) -> 5.9160798 | M22: =STDEV(Compilation!$M$4:$M$18) -> 1.4960265 | N22: =STDEV(Compilation!$N$4:$N$18) -> 0.45773771 | O22: =STDEV(Compilation!$O$4:$O$18) -> 1.4960265
A24: 1 | B24: =COUNTIF($B$4:$B$18,A24)/COUNTA($B$4:$B$18) -> 0.46666667 | C24: =COUNTIF($C$4:$C$18,A24)/COUNTA($C$4:$C$18) -> 0.13333333 | D24: =COUNTIF(D4:D18,A24)/COUNTA(D4:D18) -> 0 | E24: =COUNTIF($E$4:$E$18,A24)/COUNTA($E$4:$E$18) -> 0.066666667 | F24: =COUNTIF($F$4:$F$18,A24)/COUNTA($F$4:$F$18) -> 0.066666667 | G24: =COUNTIF($G$4:$G$18,A24)/COUNTA($G$4:$G$18) -> 0.2 | H24: =COUNTIF($H$4:$H$18,A24)/COUNTA(G4:G18) -> 0.26666667 | I24: =COUNTIF(I4:I18,A24)/COUNTA($I$4:$I$18) -> 0.13333333 | J24: =COUNTIF($J$4:$J$18,A24)/COUNTA($J$4:$J$18) -> 0.2 | K24: =COUNTIF(K4:$K$18,A24)/COUNTA($K$4:$K$18) -> 0.13333333 | L24: =COUNTIF($L$4:$L$18,A31)/COUNTA($L$4:$L$18) -> 0.2 | M24: =COUNTIF($M$4:$M$18,B31)/COUNTA(M4:M18) -> 0 | N24: =COUNTIF(N4:N18,C31)/COUNTA(N4:N18) -> 0.26666667 | O24: =COUNTIF($O$4:$O$18,A24)/COUNTA($O$4:$O$18) -> 0.066666667
A25: 2 | B25: =COUNTIF($B$4:$B$18,A25)/COUNTA($B$4:$B$18) -> 0.13333333 | C25: =COUNTIF($C$4:$C$18,A25)/COUNTA($C$4:$C$18) -> 0.26666667 | D25: =COUNTIF(D5:D19,A25)/COUNTA(D5:D19) -> 0.42857143 | E25: =COUNTIF($E$4:$E$18,A25)/COUNTA($E$4:$E$18) -> 0.46666667 | F25: =COUNTIF($F$4:$F$18,A25)/COUNTA($F$4:$F$18) -> 0.33333333 | G25: =COUNTIF($G$4:$G$18,A25)/COUNTA($G$4:$G$18) -> 0.13333333 | H25: =COUNTIF($H$4:$H$18,A25)/COUNTA(G5:G19) -> 0.14285714 | I25: =COUNTIF(I5:I19,A25)/COUNTA($I$4:$I$18) -> 0.2 | J25: =COUNTIF($J$4:$J$18,A25)/COUNTA($J$4:$J$18) -> 0.26666667 | K25: =COUNTIF(K5:$K$18,A25)/COUNTA($K$4:$K$18) -> 0.4 | L25: =COUNTIF($L$4:$L$18,A32)/COUNTA($L$4:$L$18) -> 0.46666667 | M25: =COUNTIF($M$4:$M$18,B32)/COUNTA(M5:M19) -> 0.21428571 | N25: =COUNTIF(N5:N19,C32)/COUNTA(N5:N19) -> 0.71428571 | O25: =COUNTIF($O$4:$O$18,A25)/COUNTA($O$4:$O$18) -> 0.26666667
A26: 3 | B26: =COUNTIF($B$4:$B$18,A26)/COUNTA($B$4:$B$18) -> 0.26666667 | C26: =COUNTIF($C$4:$C$18,A26)/COUNTA($C$4:$C$18) -> 0.4 | D26: =COUNTIF(D6:D20,A26)/COUNTA(D6:D20) -> 0.28571429 | E26: =COUNTIF($E$4:$E$18,A26)/COUNTA($E$4:$E$18) -> 0.26666667 | F26: =COUNTIF($F$4:$F$18,A26)/COUNTA($F$4:$F$18) -> 0.46666667 | G26: =COUNTIF($G$4:$G$18,A26)/COUNTA($G$4:$G$18) -> 0.46666667 | H26: =COUNTIF($H$4:$H$18,A26)/COUNTA(G6:G20) -> 0.071428571 | I26: =COUNTIF(I6:I20,A26)/COUNTA($I$4:$I$18) -> 0.46666667 | J26: =COUNTIF($J$4:$J$18,A26)/COUNTA($J$4:$J$18) -> 0.13333333 | K26: =COUNTIF(K6:$K$18,A26)/COUNTA($K$4:$K$18) -> 0.13333333 | L26: =COUNTIF($L$4:$L$18,A33)/COUNTA($L$4:$L$18) -> 0.13333333 | M26: =COUNTIF($M$4:$M$18,B33)/COUNTA(M6:M20) -> 0.14285714 | O26: =COUNTIF($O$4:$O$18,A26)/COUNTA($O$4:$O$18) -> 0.26666667
A27: 4 | B27: =COUNTIF($B$4:$B$18,A27)/COUNTA($B$4:$B$18) -> 0.066666667 | C27: =COUNTIF($C$4:$C$18,A27)/COUNTA($C$4:$C$18) -> 0.2 | D27: =COUNTIF(D7:D21,A27)/COUNTA(D7:D21) -> 0.071428571 | E27: =COUNTIF($E$4:$E$18,A27)/COUNTA($E$4:$E$18) -> 0.13333333 | F27: =COUNTIF($F$4:$F$18,A27)/COUNTA($F$4:$F$18) -> 0.066666667 | G27: =COUNTIF($G$4:$G$18,A27)/COUNTA($G$4:$G$18) -> 0.2 | H27: =COUNTIF($H$4:$H$18,A27)/COUNTA(G7:G21) -> 0.42857143 | I27: =COUNTIF(I7:I21,A27)/COUNTA($I$4:$I$18) -> 0.13333333 | J27: =COUNTIF($J$4:$J$18,A27)/COUNTA($J$4:$J$18) -> 0.33333333 | K27: =COUNTIF(K7:$K$18,A27)/COUNTA($K$4:$K$18) -> 0.26666667 | L27: =COUNTIF($L$4:$L$18,A34)/COUNTA($L$4:$L$18) -> 0.13333333 | M27: =COUNTIF($M$4:$M$18,B34)/COUNTA(M7:M21) -> 0.5 | O27: =COUNTIF($O$4:$O$18,A27)/COUNTA($O$4:$O$18) -> 0.2
A28: 5 | B28: =COUNTIF($B$4:$B$18,A28)/COUNTA($B$4:$B$18) -> 0.066666667 | C28: =COUNTIF($C$4:$C$18,A28)/COUNTA($C$4:$C$18) -> 0 | D28: =COUNTIF(D8:D22,A28)/COUNTA(D8:D22) -> 0.14285714 | E28: =COUNTIF($E$4:$E$18,A28)/COUNTA($E$4:$E$18) -> 0.066666667 | F28: =COUNTIF($F$4:$F$18,A28)/COUNTA($F$4:$F$18) -> 0.066666667 | G28: =COUNTIF($G$4:$G$18,A28)/COUNTA($G$4:$G$18) -> 0 | H28: =COUNTIF($H$4:$H$18,A28)/COUNTA(G8:G22) -> 0.14285714 | I28: =COUNTIF(I8:I22,A28)/COUNTA($I$4:$I$18) -> 0 | J28: =COUNTIF($J$4:$J$18,A28)/COUNTA($J$4:$J$18) -> 0.066666667 | K28: =COUNTIF(K8:$K$18,A28)/COUNTA($K$4:$K$18) -> 0 | L28: =COUNTIF($L$4:$L$18,A35)/COUNTA($L$4:$L$18) -> 0.066666667 | M28: =COUNTIF($M$4:$M$18,B35)/COUNTA(M8:M22) -> 0.21428571 | O28: =COUNTIF($O$4:$O$18,A28)/COUNTA($O$4:$O$18) -> 0.066666667
A29: 6 | O29: =COUNTIF($O$4:$O$18,A29)/COUNTA($O$4:$O$18) -> 0.13333333
A31: 30 | B31: 10 | C31: 1 | E31: Excellent | F31: Homme | G31: Un prix plus accessible | J31: 1-Je l'achèterai certainement | M31: Vous-même | O31: IGA supermarché
A32: 25 | B32: 8 | C32: 2 | E32: Très bon | F32: Femme | G32: Qu'il soit moins sucré | J32: 2-Je l'achèterai probablement | M32: Votre conjoint (e) | O32: Métro
A33: 20 | B33: 7 | E33: Bon | G33: Des produits sans huile de palme | J33: 3-Je ne sais pas si je l'achèterai ou non | M33: Un enfant de 0 à 6 ans | O33: Super C
A34: 15 | B34: 5 | E34: Médiocre | G34: Des emballages plus écologiques | J34: 4-Je ne l'achèterai probablement pas | M34: Un enfant de 7 à 10 ans | O34: Maxi
A35: 10 | B35: 4 | E35: Mauvais | G35: Plus de produits en sachets individuels | J35: 5-Je ne l'achèterai certainement pas | M35: Un ado de 11 à 17 ans | O35: Le supermarché de votre coin
M36: Un jeune adulte de 18 à 24 ans

Sheet Réponses
A1: Question 1-2-3-4-5-6-8 | B1: Question Je ne l'achèterai certainement pas | C1: Question 6 | D1: Question 7 | E1: Question 9 | F1: Question 10 | G1: Question 11 | H1: Question 12 | I1: Question 13 | J1: Question 14
A2: 1 | B2: Excellent | C2: Excellent | D2: 1 | E2: 1 | F2: 1 | G2: 30 | H2: 10 | I2: 1 | J2: 1
A3: 2 | B3: Très bon | C3: Très bon | D3: 2 | E3: 2 | F3: 2 | G3: 25 | H3: 8 | I3: 2 | J3: 2
A4: 3 | B4: Bon | C4: Bon | D4: 3 | E4: 3 | F4: 3 | G4: 20 | H4: 7 | J4: 3
A5: 4 | B5: Médiocre | C5: Médiocre | D5: 4 | E5: 4 | F5: 4 | G5: 15 | H5: 5 | J5: 4
A6: 5 | B6: Mauvais | C6: Mauvais | D6: 5 | E6: 5 | F6: 5 | G6: 10 | H6: 4 | J6: 5
J7: 6

Sheet Sondage 1
A1: Afin de poursuivre notre dynamique d'amélioration, nous vous remercions de prendre quelques instants pour compléter ce questionnaire.
A3: Les informations transmises seront traitées à des fins statistiques et resteront confidentielles.
A11: La tortue au chocolat noir, au caramel d'érable et à la confiture de bleuets
A13: 1. Comment qualifierez-vous la texture de notre produit? | B13: Colonne1
B14: Réponse de 1 à 5
A15: 1-Excellent | B15: 3
A16: 2-Très bon
A17: 3-Bon
A18: 4-Médiocre
A19: 5-Mauvais
A21: 2. Que pensez-vous du goût de notre produit?
B22: Réponse
A23: 1-Excellent | B23: 4
A24: 2-Très bon
A25: 3-Bon
A26: 4-Médiocre
A27: 5-Mauvais
A29: 3. Que pensez-vous de la qualité de notre service?
B30: Réponse
A31: 1-Excellent | B31: 4
A32: 2-Très bon
A33: 3-Bon
A34: 4-Médiocre
A35: 5-Mauvais
A37: 4. Que pensez-vous de l'efficacité de notre produit en termes de conservation?
B38: Réponse
A39: 1-Excellent | B39: 2
A40: 2-Très bon
A41: 3-Bon
A42: 4-Médiocre
A43: 5-Mauvais
A45: 5. Que pensez-vous de l'emballage de notre produit?
B46: Réponse
A47: 1-Excellent | B47: 1
A48: 2-Très bon
A49: 3-Bon
A50: 4-Médiocre
A51: 5-Mauvais
A53: 6. Comment trouvez-vous l'apport énergétique de ce produit?
B54: Réponse
A55: 1-Excellent | B55: 3
A56: 2-Très bon
A57: 3-Bon
A58: 4-Médiocre
A59: 5-Mauvais
A61: 7. Quelles sont les évolutions que vous attendez de ce dessert?
B62: Réponse
A63: 1-Un prix plus accessible | B63: 1
A64: 2-Qu'il soit moins sucré
A65: 3-Des produits sans huile de palme
A66: 4-Des emballages plus écologiques
A67: 5-Plus de produits en sachets individuels
A69: 8. Comment trouver vous le prix de notre produit?
B70: Réponse
A71: 1-Excellent | B71: 1
A72: 2-Très bon
A73: 3-Bon
A74: 4-Médiocre
A75: 5-Mauvais
A77: 9. Parmi les phrases suivantes, quelle est celle qui correspond le mieux à ce que vous pensez de notre produit?
B78: Réponse
A79: 1-Je l'achèterai certainement | B79: 1
A80: 2-Je l'achèterai probablement
A81: 3-Je ne sais pas si je l'achèterai ou non
A82: 4-Je ne l'achèterai probablement pas
A83: 5-Je ne l'achèterai certainement pas
A85: 10. Parmi les magasins suivants, lesquels fréquentez-vous, ne serait-ce que de temps en temps?
B86: Réponse
A87: 1-IGA supermarché | B87: 2
A88: 2-Métro
A89: 3-Super C
A90: 4-Maxi
A91: 5-Le supermarché de votre coin
A93: 11- Combien dépensez-vous par semaine en dessert?
A95: 1- 30$ | B95: 1
A96: 2- 25$
A97: 3 - 20$
A98: 4 - 15$
A99: 5 -10$
A101: 12. Combien êtes-vous prêt à payer pour notre dessert?
B102: Réponse
B103: 8
A105: 13. Quel est votre sexe?
B106: Réponse
A107: 1-Homme | B107: 2
A108: 2-Femmme
A110: 14. Qui consomme les gâteaux que vous achetez ?
B111: Réponse
A112: 1-Vous-même | B112: 2
A113: 2-Votre conjoint (e)
A114: 3-Un enfant de 0 à 6 ans
A115: 4-Un enfant de 7 à 10 ans
A116: 5-Un ado de 11 à 17 ans
A117: 6-Un jeune adulte de 18 à 24 ans

Sheet Sondage 2
A2: Afin de poursuivre notre dynamique d'amélioration, nous vous remercions de prendre quelques instants pour compléter ce questionnaire.
A4: Les informations transmises seront traitées à des fins statistiques et resteront confidentielles.
A6: La tortue au chocolat noir, au caramel d'érable et à la confiture de bleuets
A8: 1. Comment qualifierez-vous la texture de notre produit? | B8: Colonne1
B9: Réponse
A10: 1-Excellent | B10: 4
A11: 2-Très bon
A12: 3-Bon
A13: 4-Médiocre
A14: 5-Mauvais
A16: 2. Que pensez-vous du goût de notre produit?
B17: Réponse
A18: 1-Excellent | B18: 1
A19: 2-Très bon
A20: 3-Bon
A21: 4-Médiocre
A22: 5-Mauvais
A24: 3. Que pensez-vous de la qualité de notre service?
B25: Réponse
A26: 1-Excellent | B26: 2
A27: 2-Très bon
A28: 3-Bon
A29: 4-Médiocre
A30: 5-Mauvais
A32: 4. Que pensez-vous de l'efficacité de notre produit en termes de conservation?
B33: Réponse
A34: 1-Excellent | B34: 2
A35: 2-Très bon
A36: 3-Bon
A37: 4-Médiocre
A38: 5-Mauvais
A40: 5. Que pensez-vous de l'emballage de notre produit?
B41: Réponse
A42: 1-Excellent | B42: 3
A43: 2-Très bon
A44: 3-Bon
A45: 4-Médiocre
A46: 5-Mauvais
A48: 6. Comment trouvez-vous l'apport énergétique de ce produit?
B49: Réponse
A50: 1-Excellent | B50: 3
A51: 2-Très bon
A52: 3-Bon
A53: 4-Médiocre
A54: 5-Mauvais
A56: 7. Quelles sont les évolutions que vous attendez de ce dessert?
B57: Réponse
A58: 1-Un prix plus accessible | B58: 2
A59: 2-Qu'il soit moins sucré
A60: 3-Des produits sans huile de palme
A61: 4-Des emballages plus écologiques
A62: 5-Plus de produits en sachets individuels
A64: 8. Comment trouver vous le prix de notre produit?
B65: Réponse
A66: 1-Excellent | B66: 2
A67: 2-Très bon
A68: 3-Bon
A69: 4-Médiocre
A70: 5-Mauvais
A72: 9. Parmi les phrases suivantes, quelle est celle qui correspond le mieux à ce que vous pensez de notre produit?
B73: Réponse
A74: 1-Je l'achèterai certainement | B74: 2
A75: 2-Je l'achèterai probablement
A76: 3-Je ne sais pas si je l'achèterai ou non
A77: 4-Je ne l'achèterai probablement pas
A78: 5-Je ne l'achèterai certainement pas
A80: 10. Parmi les magasins suivants, lesquels fréquentez-vous, ne serait-ce que de temps en temps?
B81: Réponse
A82: 1-IGA supermarché | B82: 2
A83: 2-Métro
A84: 3-Super C
A85: 4-Maxi
A86: 5-Le supermarché de votre coin
A88: 11- Combien dépensez-vous par semaine en dessert?
B89: Réponse
B95: 15
A96: 12. Combien êtes-vous prêt à payer pour notre dessert?
B97: Réponse
B98: 7
A100: 13. Quel est votre sexe?
B101: Réponse
A102: 1-Homme | B102: 2
A103: 2-Femmme
A105: 14. Qui consomme les gâteaux que vous achetez ?
B106: Réponse
A107: 1-Vous-même | B107: 2
A108: 2-Votre conjoint (e)
A109: 3-Un enfant de 0 à 6 ans
A110: 4-Un enfant de 7 à 10 ans
A111: 5-Un ado de 11 à 17 ans
A112: 6-Un jeune adulte de 18 à 24 ans

Sheet Sondage 3
A2: Afin de poursuivre notre dynamique d'amélioration, nous vous remercions de prendre quelques instants pour compléter ce questionnaire.
A4: Les informations transmises seront traitées à des fins statistiques et resteront confidentielles.
A6: La tortue au chocolat noir, au caramel d'érable et à la confiture de bleuets
A8: 1. Comment qualifierez-vous la texture de notre produit? | B8: Colonne1
B9: Réponse
A10: 1-Excellent | B10: 2
A11: 2-Très bon
A12: 3-Bon
A13: 4-Médiocre
A14: 5-Mauvais
A16: 2. Que pensez-vous du goût de notre produit?
B17: Réponse
A18: 1-Excellent | B18: 4
A19: 2-Très bon
A20: 3-Bon
A21: 4-Médiocre
A22: 5-Mauvais
A24: 3. Que pensez-vous de la qualité de notre service?
B25: Réponse
A26: 1-Excellent | B26: 5
A27: 2-Très bon
A28: 3-Bon
A29: 4-Médiocre
A30: 5-Mauvais
A32: 4. Que pensez-vous de l'efficacité de notre produit en termes de conservation?
B33: Réponse
A34: 1-Excellent | B34: 2
A35: 2-Très bon
A36: 3-Bon
A37: 4-Médiocre
A38: 5-Mauvais
A40: 5. Que pensez-vous de l'emballage de notre produit?
B41: Réponse
A42: 1-Excellent | B42: 2
A43: 2-Très bon
A44: 3-Bon
A45: 4-Médiocre
A46: 5-Mauvais
A48: 6. Comment trouvez-vous l'apport énergétique de ce produit?
B49: Réponse
A50: 1-Excellent | B50: 2
A51: 2-Très bon
A52: 3-Bon
A53: 4-Médiocre
A54: 5-Mauvais
A56: 7. Quelles sont les évolutions que vous attendez de ce dessert?
B57: Réponse
A58: 1-Un prix plus accessible | B58: 4
A59: 2-Qu'il soit moins sucré
A60: 3-Des produits sans huile de palme
A61: 4-Des emballages plus écologiques
A62: 5-Plus de produits en sachets individuels
A64: 8. Comment trouver vous le prix de notre produit?
B65: Réponse
A66: 1-Excellent | B66: 4
A67: 2-Très bon
A68: 3-Bon
A69: 4-Médiocre
A70: 5-Mauvais
A72: 9. Parmis les phrases suivantes, quelle est celle qui correspond le mieux à ce que vous pensez de notre produit?
B73: Réponse
A74: 1-Je l'achèterai certainement | B74: 5
A75: 2-Je l'achèterai probablement
A76: 3-Je ne sais pas si je l'achèterai ou non
A77: 4-Je ne l'achèterai probablement pas
A78: 5-Je ne l'achèterai certainement pas
A80: 10. Parmis les magasins suivants, lesquels fréquentez-vous, ne serait-ce que de temps en temps?
B81: Réponse
A82: 1-IGA supermarché | B82: 1
A83: 2-Métro
A84: 3-Super C
A85: 4-Maxi
A86: 5-Le supermarché de votre coin
A88: 11- Combien dépensez-vous par semaine en dessert?
B89: Réponse
B90: 25
A91: 12. Combien êtes-vous prêt à payer pour notre dessert?
B92: Réponse
B93: 8
A95: 13. Quel est votre sexe?
B96: Réponse
A97: 1-Homme | B97: 2
A98: 2-Femmme
A100: 14. Qui consomme les gâteaux que vous achetez ?
B101: Réponse
A102: 1-Vous-même | B102: 5
A103: 2-Votre conjoint (e)
A104: 3-Un enfant de 0 à 6 ans
A105: 4-Un enfant de 7 à 10 ans
A106: 5-Un ado de 11 à 17 ans
A107: 6-Un jeune adulte de 18 à 24 ans

Sheet Sondage 4
A2: Afin de poursuivre notre dynamique d'amélioration, nous vous remercions de prendre quelques instants pour compléter ce questionnaire.
A4: Les informations transmises seront traitées à des fins statistiques et resteront confidentielles.
A6: La tortue au chocolat noir, au caramel d'érable et à la confiture de bleuets
A8: 1. Comment qualifierez-vous la texture de notre produit? | B8: Colonne1
B9: Réponse
A10: 1-Excellent | B10: 3
A11: 2-Très bon
A12: 3-Bon
A13: 4-Médiocre
A14: 5-Mauvais
A16: 2. Que pensez-vous du goût de notre produit?
B17: Réponse
A18: 1-Excellent | B18: 3
A19: 2-Très bon
A20: 3-Bon
A21: 4-Médiocre
A22: 5-Mauvais
A24: 3. Que pensez-vous de la qualité de notre service?
B25: Réponse
A26: 1-Excellent | B26: 3
A27: 2-Très bon
A28: 3-Bon
A29: 4-Médiocre
A30: 5-Mauvais
A32: 4. Que pensez-vous de l'efficacité de notre produit en termes de conservation?
B33: Réponse
A34: 1-Excellent | B34: 3
A35: 2-Très bon
A36: 3-Bon
A37: 4-Médiocre
A38: 5-Mauvais
A40: 5. Que pensez-vous de l'emballage de notre produit?
B41: Réponse
A42: 1-Excellent | B42: 3
A43: 2-Très bon
A44: 3-Bon
A45: 4-Médiocre
A46: 5-Mauvais
A48: 6. Comment trouvez-vous l'apport énergétique de ce produit?
B49: Réponse
A50: 1-Excellent | B50: 3
A51: 2-Très bon
A52: 3-Bon
A53: 4-Médiocre
A54: 5-Mauvais
A56: 7. Quelles sont les évolutions que vous attendez de ce dessert?
B57: Réponse
A58: 1-Un prix plus accessible | B58: 4
A59: 2-Qu'il soit moins sucré
A60: 3-Des produits sans huile de palme
A61: 4-Des emballages plus écologiques
A62: 5-Plus de produits en sachets individuels
A64: 8. Comment trouver vous le prix de notre produit?
B65: Réponse
A66: 1-Excellent | B66: 3
A67: 2-Très bon
A68: 3-Bon
A69: 4-Médiocre
A70: 5-Mauvais
A71: 9. Parmis les phrases suivantes, quelle est celle qui correspond le mieux à ce que vous pensez de notre produit?
B72: Réponse
A73: 1-Je l'achèterai certainement | B73: 2
A74: 2-Je l'achèterai probablement
A75: 3-Je ne sais pas si je l'achèterai ou non
A76: 4-Je ne l'achèterai probablement pas
A77: 5-Je ne l'achèterai certainement pas
B78: Réponse
A79: 1-IGA supermarché | B79: 4
A80: 2-Métro
A81: 3-Super C
A82: 4-Maxi
A83: 5-Le supermarché de votre coin
A85: 11- Combien dépensez-vous par semaine en dessert?
B86: Réponse
B87: 25
A89: 12. Combien êtes-vous prêt à payer pour notre dessert?
B90: Réponse
B91: 5
A92: 2-Le prix
A93: 3-L'emballage
A94: 4-La conservation
A95: 5-La qualité des ingrédients
A96: 6-Le format, la quantité, le nombre de gâteaux
A98: 13. Quel est votre sexe?
B99: Réponse
A100: 1-Homme | B100: 2
A101: 2-Femmme
A103: 14. Qui consomme les gâteaux que vous achetez ?
B104: Réponse
A105: 1-Vous-même | B105: 3
A106: 2-Votre conjoint (e)
A107: 3-Un enfant de 0 à 6 ans
A108: 4-Un enfant de 7 à 10 ans
A109: 5-Un ado de 11 à 17 ans
A110: 6-Un jeune adulte de 18 à 24 ans

Sheet Sondage 5
A2: Afin de poursuivre notre dynamique d'amélioration, nous vous remercions de prendre quelques instants pour compléter ce questionnaire.
A4: Les informations transmises seront traitées à des fins statistiques et resteront confidentielles.
A6: La tortue au chocolat noir, au caramel d'érable et à la confiture de bleuets | B6: Colonne1
A8: 1. Comment qualifierez-vous la texture de notre produit?
B9: Réponse
A10: 1-Excellent | B10: 1
A11: 2-Très bon
A12: 3-Bon
A13: 4-Médiocre
A14: 5-Mauvais
A16: 2. Que pensez-vous du goût de notre produit?
B17: Réponse
A18: 1-Excellent | B18: 2
A19: 2-Très bon
A20: 3-Bon
A21: 4-Médiocre
A22: 5-Mauvais
A24: 3. Que pensez-vous de la qualité de notre service?
B25: Réponse
A26: 1-Excellent | B26: 2
A27: 2-Très bon
A28: 3-Bon
A29: 4-Médiocre
A30: 5-Mauvais
A32: 4. Que pensez-vous de l'efficacité de notre produit en termes de conservation?
B33: Réponse
A34: 1-Excellent | B34: 2
A35: 2-Très bon
A36: 3-Bon
A37: 4-Médiocre
A38: 5-Mauvais
A40: 5. Que pensez-vous de l'emballage de notre produit?
B41: Réponse
A42: 1-Excellent | B42: 2
A43: 2-Très bon
A44: 3-Bon
A45: 4-Médiocre
A46: 5-Mauvais
A48: 6. Comment trouvez-vous l'apport énergétique de ce produit?
B49: Réponse
A50: 1-Excellent | B50: 1
A51: 2-Très bon
A52: 3-Bon
A53: 4-Médiocre
A54: 5-Mauvais
A56: 7. Quelles sont les évolutions que vous attendez de ce dessert?
B57: Réponse
A58: 1-Un prix plus accessible | B58: 2
A59: 2-Qu'il soit moins sucré
A60: 3-Des produits sans huile de palme
A61: 4-Des emballages plus écologiques
A62: 5-Plus de produits en sachets individuels
A64: 8. Comment trouver vous le prix de notre produit?
B65: Réponse
A66: 1-Excellent | B66: 2
A67: 2-Très bon
A68: 3-Bon
A69: 4-Médiocre
A70: 5-Mauvais
A72: 9. Parmis les phrases suivantes, quelle est celle qui correspond le mieux à ce que vous pensez de notre produit?
B73: Réponse
A74: 1-Je l'achèterai certainement | B74: 1
A75: 2-Je l'achèterai probablement
A76: 3-Je ne sais pas si je l'achèterai ou non
A77: 4-Je ne l'achèterai probablement pas
A78: 5-Je ne l'achèterai certainement pas
A80: 10. Parmis les magasins suivants, lesquels fréquentez-vous, ne serait-ce que de temps en temps?
B81: Réponse
A82: 1-IGA supermarché | B82: 4
A83: 2-Métro
A84: 3-Super C
A85: 4-Maxi
A86: 5-Le supermarché de votre coin
A88: 11- Combien dépensez-vous par semaine en dessert?
B89: Réponse
B90: 25
A92: 3-Une fois par semaine
A93: 4-À l'occasion
A94: 5-Jamais
A96: 12. Combien êtes-vous prêt à payer pour notre dessert?
B97: Réponse
B98: 4
A100: 13. Quel est votre sexe?
B101: Réponse
A102: 1-Homme | B102: 2
A103: 2-Femmme
A105: 14. Qui consomme les gâteaux que vous achetez chez vous?
B106: Réponse
A107: 1-Vous-même | B107: 1
A108: 2-Votre conjoint (e)
A109: 3-Un enfant de 0 à 6 ans
A110: 4-Un enfant de 7 à 10 ans
A111: 5-Un ado de 11 à 17 ans
A112: 6-Un jeune adulte de 18 à 24 ans

Sheet Sondage 6
A2: Afin de poursuivre notre dynamique d'amélioration, nous vous remercions de prendre quelques instants pour compléter ce questionnaire.
A4: Les informations transmises seront traitées à des fins statistiques et resteront confidentielles.
A6: La tortue au chocolat noir, au caramel d'érable et à la confiture de bleuets
A8: 1. Comment qualifierez-vous la texture de notre produit? | B8: Colonne1
B9: Réponse
A10: 1-Excellent | B10: 1
A11: 2-Très bon
A12: 3-Bon
A13: 4-Médiocre
A14: 5-Mauvais
A16: 2. Que pensez-vous du goût de notre produit?
B17: Réponse
A18: 1-Excellent | B18: 2
A19: 2-Très bon
A20: 3-Bon
A21: 4-Médiocre
A22: 5-Mauvais
A24: 3. Que pensez-vous de la qualité de notre produit?
B25: Réponse
A26: 1-Excellent | B26: 3
A27: 2-Très bon
A28: 3-Bon
A29: 4-Médiocre
A30: 5-Mauvais
A32: 4. Que pensez-vous de l'efficacité de notre produit en termes de conservation?
B33: Réponse
A34: 1-Excellent | B34: 3
A35: 2-Très bon
A36: 3-Bon
A37: 4-Médiocre
A38: 5-Mauvais
A40: 5. Que pensez-vous de l'emballage de notre produit?
B41: Réponse
A42: 1-Excellent | B42: 3
A43: 2-Très bon
A44: 3-Bon
A45: 4-Médiocre
A46: 5-Mauvais
A48: 6. Comment trouvez-vous l'apport énergétique de ce produit?
B49: Réponse
A50: 1-Excellent | B50: 1
A51: 2-Très bon
A52: 3-Bon
A53: 4-Médiocre
A54: 5-Mauvais
A56: 7. Quelles sont les évolutions que vous attendez de ce dessert?
B57: Réponse
A58: 1-Un prix plus accessible | B58: 1
A59: 2-Qu'il soit moins sucré
A60: 3-Des produits sans huile de palme
A61: 4-Des emballages plus écologiques
A62: 5-Plus de produits en sachets individuels
A64: 8. Comment trouver vous le prix de notre produit?
B65: Réponse
A66: 1-Excellent | B66: 4
A67: 2-Très bon
A68: 3-Bon
A69: 4-Médiocre
A70: 5-Mauvais
A72: 9. Parmi les phrases suivantes, quelle est celle qui correspond le mieux à ce que vous pensez de notre produit?
B73: Réponse
A74: 1-Je l'achèterai certainement | B74: 4
A75: 2-Je l'achèterai probablement
A76: 3-Je ne sais pas si je l'achèterai ou non
A77: 4-Je ne l'achèterai probablement pas
A78: 5-Je ne l'achèterai certainement pas
A80: 10. Parmis les magasins suivants, lesquels fréquentez-vous, ne serait-ce que de temps en temps?
B81: Réponse
A82: 1-IGA supermarché | B82: 4
A83: 2-Métro
A84: 3-Super C
A85: 4-Maxi
A86: 5-Le supermarché de votre coin
A88: 11- Combien dépensez-vous par semaine en dessert?
B89: Réponse
B90: 25
A92: 12. Combien êtes-vous prêt à payer pour notre dessert?
B93: Réponse
B94: 4
A96: 13. Quel est votre sexe?
B97: Réponse
A98: 1-Homme | B98: 2
A99: 2-Femmme
A101: 14. Qui consomme les gâteaux que vous achetez chez vous?
B102: Réponse
A103: 1-Vous-même | B103: 3
A104: 2-Votre conjoint (e)
A105: 3-Un enfant de 0 à 6 ans
A106: 4-Un enfant de 7 à 10 ans
A107: 5-Un ado de 11 à 17 ans
A108: 6-Un jeune adulte de 18 à 24 ans

Sheet Sondage 7
A2: Afin de poursuivre notre dynamique d'amélioration, nous vous remercions de prendre quelques instants pour compléter ce questionnaire.
A4: Les informations transmises seront traitées à des fins statistiques et resteront confidentielles.
A6: La tortue au chocolat noir, au caramel d'érable et à la confiture de bleuets
A8: 1. Comment qualifierez-vous la texture de notre produit? | B8: Colonne1
B9: Réponse
A10: 1-Excellent | B10: 3
A11: 2-Très bon
A12: 3-Bon
A13: 4-Médiocre
A14: 5-Mauvais
A16: 2. Que pensez-vous du goût de notre produit?
B17: Réponse
A18: 1-Excellent | B18: 3
A19: 2-Très bon
A20: 3-Bon
A21: 4-Médiocre
A22: 5-Mauvais
A24: 3. Que pensez-vous de la qualité de notre service?
B25: Réponse
A26: 1-Excellent | B26: 3
A27: 2-Très bon
A28: 3-Bon
A29: 4-Médiocre
A30: 5-Mauvais
A32: 4. Que pensez-vous de l'efficacité de notre produit en termes de conservation?
B33: Réponse
A34: 1-Excellent | B34: 3
A35: 2-Très bon
A36: 3-Bon
A37: 4-Médiocre
A38: 5-Mauvais
A40: 5. Que pensez-vous de l'emballage de notre produit?
B41: Réponse
A42: 1-Excellent | B42: 3
A43: 2-Très bon
A44: 3-Bon
A45: 4-Médiocre
A46: 5-Mauvais
A48: 6. Comment trouvez-vous l'apport énergétique de ce produit?
B49: Réponse
A50: 1-Excellent | B50: 3
A51: 2-Très bon
A52: 3-Bon
A53: 4-Médiocre
A54: 5-Mauvais
A56: 7. Quelles sont les évolutions que vous attendez de ce dessert?
B57: Réponse
A58: 1-Un prix plus accessible | B58: 5
A59: 2-Qu'il soit moins sucré
A60: 3-Des produits sans huile de palme
A61: 4-Des emballages plus écologiques
A62: 5-Plus de produits en sachets individuels
A64: 8. Comment trouver vous le prix de notre produit?
B65: Réponse
A66: 1-Excellent | B66: 3
A67: 2-Très bon
A68: 3-Bon
A69: 4-Médiocre
A70: 5-Mauvais
A72: 9. Parmis les phrases suivantes, quelle est celle qui correspond le mieux à ce que vous pensez de notre produit?
B73: Réponse
A74: 1-Je l'achèterai certainement | B74: 2
A75: 2-Je l'achèterai probablement
A76: 3-Je ne sais pas si je l'achèterai ou non
A77: 4-Je ne l'achèterai probablement pas
A78: 5-Je ne l'achèterai certainement pas
A80: 10. Parmis les magasins suivants, lesquels fréquentez-vous, ne serait-ce que de temps en temps?
B81: Réponse
A82: 1-IGA supermarché | B82: 4
A83: 2-Métro
A84: 3-Super C
A85: 4-Maxi
A86: 5-Le supermarché de votre coin
A88: 11- Combien dépensez-vous par semaine en dessert?
B89: Réponse
B90: 20
A92: 12. Combien êtes-vous prêt à payer pour notre dessert?
B93: Réponse
B94: 5
A97: 13. Quel est votre sexe?
B98: Réponse
A99: 1-Homme | B99: 2
A100: 2-Femmme
A102: 14. Qui consomme les gâteaux que vous achetez chez vous?
B103: Réponse
A104: 1-Vous-même | B104: 2
A105: 2-Votre conjoint (e)
A106: 3-Un enfant de 0 à 6 ans
A107: 4-Un enfant de 7 à 10 ans
A108: 5-Un ado de 11 à 17 ans
A109: 6-Un jeune adulte de 18 à 24 ans

Sheet Sondage 8
A2: Afin de poursuivre notre dynamique d'amélioration, nous vous remercions de prendre quelques instants pour compléter ce questionnaire.
A4: Les informations transmises seront traitées à des fins statistiques et resteront confidentielles.
A6: La tortue au chocolat noir, au caramel d'érable et à la confiture de bleuets
A8: 1. Comment qualifierez-vous la texture de notre produit? | B8: Colonne1
B9: Réponse
A10: 1-Excellent | B10: 1
A11: 2-Très bon
A12: 3-Bon
A13: 4-Médiocre
A14: 5-Mauvais
A16: 2. Que pensez-vous du goût de notre produit?
B17: Réponse
A18: 1-Excellent | B18: 2
A19: 2-Très bon
A20: 3-Bon
A21: 4-Médiocre
A22: 5-Mauvais
A24: 3. Que pensez-vous de la qualité de notre service?
B25: Réponse
A26: 1-Excellent | B26: 2
A27: 2-Très bon
A28: 3-Bon
A29: 4-Médiocre
A30: 5-Mauvais
A32: 4. Que pensez-vous de l'efficacité de notre produit en termes de conservation?
B33: Réponse
A34: 1-Excellent | B34: 2
A35: 2-Très bon
A36: 3-Bon
A37: 4-Médiocre
A38: 5-Mauvais
A40: 5. Que pensez-vous de l'emballage de notre produit?
B41: Réponse
A42: 1-Excellent | B42: 2
A43: 2-Très bon
A44: 3-Bon
A45: 4-Médiocre
A46: 5-Mauvais
A48: 6. Comment trouvez-vous l'apport énergétique de ce produit?
B49: Réponse
A50: 1-Excellent | B50: 3
A51: 2-Très bon
A52: 3-Bon
A53: 4-Médiocre
A54: 5-Mauvais
A56: 7. Quelles sont les évolutions que vous attendez de ce dessert?
B57: Réponse
A58: 1-Un prix plus accessible | B58: 3
A59: 2-Qu'il soit moins sucré
A60: 3-Des produits sans huile de palme
A61: 4-Des emballages plus écologiques
A62: 5-Plus de produits en sachets individuels
A64: 8. Comment trouver vous le prix de notre produit?
B65: Réponse
A66: 1-Excellent | B66: 4
A67: 2-Très bon
A68: 3-Bon
A69: 4-Médiocre
A70: 5-Mauvais
A72: 9. Parmis les phrases suivantes, quelle est celle qui correspond le mieux à ce que vous pensez de notre produit?
B73: Réponse
A74: 1-Je l'achèterai certainement | B74: 2
A75: 2-Je l'achèterai probablement
A76: 3-Je ne sais pas si je l'achèterai ou non
A77: 4-Je ne l'achèterai probablement pas
A78: 5-Je ne l'achèterai certainement pas
A80: 10. Parmis les magasins suivants, lesquels fréquentez-vous, ne serait-ce que de temps en temps?
B81: Réponse
A82: 1-IGA supermarché | B82: 1
A83: 2-Métro
A84: 3-Super C
A85: 4-Maxi
A86: 5-Le supermarché de votre coin
A88: 11- Combien dépensez-vous par semaine en dessert?
B89: Réponse
B90: 25
A92: 12. Combien êtes-vous prêt à payer pour notre dessert?
B93: Réponse
B94: 5
A96: 13. Quel est votre sexe?
B97: Réponse
A98: 1-Homme | B98: 1
A99: 2-Femmme
A101: 14. Qui consomme les gâteaux que vous achetez chez vous?
B102: Réponse
A103: 1-Vous-même | B103: 3
A104: 2-Votre conjoint (e)
A105: 3-Un enfant de 0 à 6 ans
A106: 4-Un enfant de 7 à 10 ans
A107: 5-Un ado de 11 à 17 ans
A108: 6-Un jeune adulte de 18 à 24 ans

Sheet Sondage 9
A2: Afin de poursuivre notre dynamique d'amélioration, nous vous remercions de prendre quelques instants pour compléter ce questionnaire.
A4: Les informations transmises seront traitées à des fins statistiques et resteront confidentielles.
A6: Colonne1 | B6: Colonne2
A7: La tortue au chocolat noir, au caramel d'érable et à la confiture de bleuets
A9: 1. Comment qualifierez-vous la texture de notre produit?
B10: Réponse
A11: 1-Excellent | B11: 1
A12: 2-Très bon
A13: 3-Bon
A14: 4-Médiocre
A15: 5-Mauvais
A16: 2. Que pensez-vous du goût de notre produit?
B17: Réponse
A18: 1-Excellent | B18: 1
A19: 2-Très bon
A20: 3-Bon
A21: 4-Médiocre
A22: 5-Mauvais
A24: 3. Que pensez-vous de la qualité de notre service?
B25: Réponse
A26: 1-Excellent | B26: 2
A27: 2-Très bon
A28: 3-Bon
A29: 4-Médiocre
A30: 5-Mauvais
A32: 4. Que pensez-vous de l'efficacité de notre produit en termes de conservation?
B33: Réponse
A34: 1-Excellent | B34: 2
A35: 2-Très bon
A36: 3-Bon
A37: 4-Médiocre
A38: 5-Mauvais
A40: 5. Que pensez-vous de l'emballage de notre produit?
B41: Réponse
A42: 1-Excellent | B42: 3
A43: 2-Très bon
A44: 3-Bon
A45: 4-Médiocre
A46: 5-Mauvais
A48: 6. Comment trouvez-vous l'apport énergétique de ce produit?
B49: Réponse
A50: 1-Excellent | B50: 4
A51: 2-Très bon
A52: 3-Bon
A53: 4-Médiocre
A54: 5-Mauvais
A56: 7. Quelles sont les évolutions que vous attendez de ce dessert?
B57: Réponse
A58: 1-Un prix plus accessible | B58: 1
A59: 2-Qu'il soit moins sucré
A60: 3-Des produits sans huile de palme
A61: 4-Des emballages plus écologiques
A62: 5-Plus de produits en sachets individuels
A64: 8. Comment trouver vous le prix de notre produit?
B65: Réponse
A66: 1-Excellent | B66: 3
A67: 2-Très bon
A68: 3-Bon
A69: 4-Médiocre
A70: 5-Mauvais
A72: 9. Parmis les phrases suivantes, quelle est celle qui correspond le mieux à ce que vous pensez de notre produit?
B73: Réponse
A74: 1-Je l'achèterai certainement | B74: 3
A75: 2-Je l'achèterai probablement
A76: 3-Je ne sais pas si je l'achèterai ou non
A77: 4-Je ne l'achèterai probablement pas
A78: 5-Je ne l'achèterai certainement pas
A80: 10. Parmis les magasins suivants, lesquels fréquentez-vous, ne serait-ce que de temps en temps?
B81: Réponse
A82: 1-IGA supermarché | B82: 2
A83: 2-Métro
A84: 3-Super C
A85: 4-Maxi
A86: 5-Le supermarché de votre coin
A88: 11- Combien dépensez-vous par semaine en dessert?
B89: Réponse
B90: 25
A93: 12. Combien êtes-vous prêt à payer pour notre dessert?
B94: Réponse
B95: 8
A97: 13. Quel est votre sexe?
B98: Réponse
A99: 1-Homme | B99: 2
A100: 2-Femmme
A102: 14. Qui consomme les gâteaux que vous achetez chez vous?
B103: Réponse
A104: 1-Vous-même | B104: 2
A105: 2-Votre conjoint (e)
A106: 3-Un enfant de 0 à 6 ans
A107: 4-Un enfant de 7 à 10 ans
A108: 5-Un ado de 11 à 17 ans
A109: 6-Un jeune adulte de 18 à 24 ans

Sheet Sondage 10
A2: Afin de poursuivre notre dynamique d'amélioration, nous vous remercions de prendre quelques instants pour compléter ce questionnaire.
A4: Les informations transmises seront traitées à des fins statistiques et resteront confidentielles.
A6: La tortue au chocolat noir, au caramel d'érable et à la confiture de bleuets
A8: 1. Comment qualifierez-vous la texture de notre produit? | B8: Colonne1
B9: Réponse
A10: 1-Excellent | B10: 2
A11: 2-Très bon
A12: 3-Bon
A13: 4-Médiocre
A14: 5-Mauvais
A16: 2. Que pensez-vous du goût de notre produit?
B17: Réponse
A18: 1-Excellent | B18: 3
A19: 2-Très bon
A20: 3-Bon
A21: 4-Médiocre
A22: 5-Mauvais
A24: 3. Que pensez-vous de la qualité de notre service?
B25: Réponse
A26: 1-Excellent | B26: 2
A27: 2-Très bon
A28: 3-Bon
A29: 4-Médiocre
A30: 5-Mauvais
A32: 4. Que pensez-vous de l'efficacité de notre produit en termes de conservation?
B33: Réponse
A34: 1-Excellent | B34: 2
A35: 2-Très bon
A36: 3-Bon
A37: 4-Médiocre
A38: 5-Mauvais
A40: 5. Que pensez-vous de l'emballage de notre produit?
B41: Réponse
A42: 1-Excellent | B42: 3
A43: 2-Très bon
A44: 3-Bon
A45: 4-Médiocre
A46: 5-Mauvais
A48: 6. Comment trouvez-vous l'apport énergétique de ce produit?
B49: Réponse
A50: 1-Excellent | B50: 4
A51: 2-Très bon
A52: 3-Bon
A53: 4-Médiocre
A54: 5-Mauvais
A56: 7. Quelles sont les évolutions que vous attendez de ce dessert?
B57: Réponse
A58: 1-Un prix plus accessible | B58: 4
A59: 2-Qu'il soit moins sucré
A60: 3-Des produits sans huile de palme
A61: 4-Des emballages plus écologiques
A62: 5-Plus de produits en sachets individuels
A64: 8. Comment trouver vous le prix de notre produit?
B65: Réponse
A66: 1-Excellent | B66: 2
A67: 2-Très bon
A68: 3-Bon
A69: 4-Médiocre
A70: 5-Mauvais
A72: 9. Parmis les phrases suivantes, quelle est celle qui correspond le mieux à ce que vous pensez de notre produit?
B73: Réponse
A74: 1-Je l'achèterai certainement | B74: 1
A75: 2-Je l'achèterai probablement
A76: 3-Je ne sais pas si je l'achèterai ou non
A77: 4-Je ne l'achèterai probablement pas
A78: 5-Je ne l'achèterai certainement pas
A80: 10. Parmis les magasins suivants, lesquels fréquentez-vous, ne serait-ce que de temps en temps?
B81: Réponse
A82: 1-IGA supermarché | B82: 2
A83: 2-Métro
A84: 3-Super C
A85: 4-Maxi
A86: 5-Le supermarché de votre coin
A88: 11- Combien dépensez-vous par semaine en dessert?
B89: Réponse
B90: 25
A93: 12. Combien êtes-vous prêt à payer pour notre dessert?
B94: Réponse
B95: 4
A97: 13. Quel est votre sexe?
B98: Réponse
A99: 1-Homme | B99: 2
A100: 2-Femmme
A102: 14. Qui consomme les gâteaux que vous achetez chez vous?
B103: Réponse
A104: 1-Vous-même | B104: 4
A105: 2-Votre conjoint (e)
A106: 3-Un enfant de 0 à 6 ans
A107: 4-Un enfant de 7 à 10 ans
A108: 5-Un ado de 11 à 17 ans
A109: 6-Un jeune adulte de 18 à 24 ans

Sheet Sondage 11
A2: Afin de poursuivre notre dynamique d'amélioration, nous vous remercions de prendre quelques instants pour compléter ce questionnaire.
A4: Les informations transmises seront traitées à des fins statistiques et resteront confidentielles.
A6: Colonne1 | B6: Colonne2
A7: La tortue au chocolat noir, au caramel d'érable et à la confiture de bleuets
A9: 1. Comment qualifierez-vous la texture de notre produit?
B10: Réponse
A11: 1-Excellent | B11: 1
A12: 2-Très bon
A13: 3-Bon
A14: 4-Médiocre
A15: 5-Mauvais
A16: 2. Que pensez-vous du goût de notre produit?
B17: Réponse
A18: 1-Excellent | B18: 3
A19: 2-Très bon
A20: 3-Bon
A21: 4-Médiocre
A22: 5-Mauvais
A24: 3. Que pensez-vous de la qualité de notre service?
B25: Réponse
A26: 1-Excellent | B26: 3
A27: 2-Très bon
A28: 3-Bon
A29: 4-Médiocre
A30: 5-Mauvais
A32: 4. Que pensez-vous de l'efficacité de notre produit en termes de conservation?
B33: Réponse
A34: 1-Excellent | B34: 1
A35: 2-Très bon
A36: 3-Bon
A37: 4-Médiocre
A38: 5-Mauvais
A40: 5. Que pensez-vous de l'emballage de notre produit?
B41: Réponse
A42: 1-Excellent | B42: 3
A43: 2-Très bon
A44: 3-Bon
A45: 4-Médiocre
A46: 5-Mauvais
A48: 6. Comment trouvez-vous l'apport énergétique de ce produit?
B49: Réponse
A50: 1-Excellent | B50: 1
A51: 2-Très bon
A52: 3-Bon
A53: 4-Médiocre
A54: 5-Mauvais
A56: 7. Quelles sont les évolutions que vous attendez de ce dessert?
B57: Réponse
A58: 1-Un prix plus accessible | B58: 5
A59: 2-Qu'il soit moins sucré
A60: 3-Des produits sans huile de palme
A61: 4-Des emballages plus écologiques
A62: 5-Plus de produits en sachets individuels
A64: 8. Comment trouver vous le prix de notre produit?
B65: Réponse
A66: 1-Excellent | B66: 1
A67: 2-Très bon
A68: 3-Bon
A69: 4-Médiocre
A70: 5-Mauvais
A72: 9. Parmis les phrases suivantes, quelle est celle qui correspond le mieux à ce que vous pensez de notre produit?
B73: Réponse
A74: 1-Je l'achèterai certainement | B74: 2
A75: 2-Je l'achèterai probablement
A76: 3-Je ne sais pas si je l'achèterai ou non
A77: 4-Je ne l'achèterai probablement pas
A78: 5-Je ne l'achèterai certainement pas
A80: 10. Parmis les magasins suivants, lesquels fréquentez-vous, ne serait-ce que de temps en temps?
B81: Réponse
A82: 1-IGA supermarché | B82: 2
A83: 2-Métro
A84: 3-Super C
A85: 4-Maxi
A86: 5-Le supermarché de votre coin
A88: 11- Combien dépensez-vous par semaine en dessert?
B89: Réponse
B90: 30
A92: 12. Combien êtes-vous prêt à payer pour notre dessert?
B93: Réponse
B94: 5
A96: 13. Quel est votre sexe?
B97: Réponse
A98: 1-Homme | B98: 1
A99: 2-Femmme
A101: 14. Qui consomme les gâteaux que vous achetez chez vous?
B102: Réponse
A103: 1-Vous-même | B103: 4
A104: 2-Votre conjoint (e)
A105: 3-Un enfant de 0 à 6 ans
A106: 4-Un enfant de 7 à 10 ans
A107: 5-Un ado de 11 à 17 ans
A108: 6-Un jeune adulte de 18 à 24 ans

Sheet Sondage 12
A2: Afin de poursuivre notre dynamique d'amélioration, nous vous remercions de prendre quelques instants pour compléter ce questionnaire.
A4: Les informations transmises seront traitées à des fins statistiques et resteront confidentielles.
A6: Colonne1 | B6: Colonne2
A7: La tortue au chocolat noir, au caramel d'érable et à la confiture de bleuets
A9: 1. Comment qualifierez-vous la texture de notre produit?
B10: Réponse
A11: 1-Excellent | B11: 5
A12: 2-Très bon
A13: 3-Bon
A14: 4-Médiocre
A15: 5-Mauvais
A16: 2. Que pensez-vous du goût de notre produit?
B17: Réponse
A18: 1-Excellent | B18: 4
A19: 2-Très bon
A20: 3-Bon
A21: 4-Médiocre
A22: 5-Mauvais
A24: 3. Que pensez-vous de la qualité de notre service?
B25: Réponse
A26: 1-Excellent | B26: 4
A27: 2-Très bon
A28: 3-Bon
A29: 4-Médiocre
A30: 5-Mauvais
A32: 4. Que pensez-vous de l'efficacité de notre produit en termes de conservation?
B33: Réponse
A34: 1-Excellent | B34: 4
A35: 2-Très bon
A36: 3-Bon
A37: 4-Médiocre
A38: 5-Mauvais
A40: 5. Que pensez-vous de l'emballage de notre produit?
B41: Réponse
A42: 1-Excellent | B42: 5
A43: 2-Très bon
A44: 3-Bon
A45: 4-Médiocre
A46: 5-Mauvais
A48: 6. Comment trouvez-vous l'apport énergétique de ce produit?
B49: Réponse
A50: 1-Excellent | B50: 3
A51: 2-Très bon
A52: 3-Bon
A53: 4-Médiocre
A54: 5-Mauvais
A56: 7. Quelles sont les évolutions que vous attendez de ce dessert?
B57: Réponse
A58: 1-Un prix plus accessible | B58: 4
A59: 2-Qu'il soit moins sucré
A60: 3-Des produits sans huile de palme
A61: 4-Des emballages plus écologiques
A62: 5-Plus de produits en sachets individuels
A64: 8. Comment trouver vous le prix de notre produit?
B65: Réponse
A66: 1-Excellent | B66: 3
A67: 2-Très bon
A68: 3-Bon
A69: 4-Médiocre
A70: 5-Mauvais
A72: 9. Parmis les phrases suivantes, quelle est celle qui correspond le mieux à ce que vous pensez de notre produit?
B73: Réponse
A74: 1-Je l'achèterai certainement | B74: 4
A75: 2-Je l'achèterai probablement
A76: 3-Je ne sais pas si je l'achèterai ou non
A77: 4-Je ne l'achèterai probablement pas
A78: 5-Je ne l'achèterai certainement pas
A80: 10. Parmis les magasins suivants, lesquels fréquentez-vous, ne serait-ce que de temps en temps?
B81: Réponse
A82: 1-IGA supermarché | B82: 2
A83: 2-Métro
A84: 3-Super C
A85: 4-Maxi
A86: 5-Le supermarché de votre coin
A88: 11- Combien dépensez-vous par semaine en dessert?
B89: Réponse
B90: 10
A93: 12. Combien êtes-vous prêt à payer pour notre dessert?
B94: Réponse
B95: 5
A97: 13. Quel est votre sexe?
B98: Réponse
A99: 1-Homme | B99: 2
A100: 2-Femmme
A102: 14. Qui consomme les gâteaux que vous achetez chez vous?
B103: Réponse
A104: 1-Vous-même | B104: 3
A105: 2-Votre conjoint (e)
A106: 3-Un enfant de 0 à 6 ans
A107: 4-Un enfant de 7 à 10 ans
A108: 5-Un ado de 11 à 17 ans
A109: 6-Un jeune adulte de 18 à 24 ans

Sheet Sondage 13
A2: Afin de poursuivre notre dynamique d'amélioration, nous vous remercions de prendre quelques instants pour compléter ce questionnaire.
A4: Les informations transmises seront traitées à des fins statistiques et resteront confidentielles.
A6: Colonne1 | B6: Colonne2
A7: La tortue au chocolat noir, au caramel d'érable et à la confiture de bleuets
A9: 1. Comment qualifierez-vous la texture de notre produit?
B10: Réponse
A11: 1-Excellent | B11: 1
A12: 2-Très bon
A13: 3-Bon
A14: 4-Médiocre
A15: 5-Mauvais
A16: 2. Que pensez-vous du goût de notre produit?
B17: Réponse
A18: 1-Excellent | B18: 2
A19: 2-Très bon
A20: 3-Bon
A21: 4-Médiocre
A22: 5-Mauvais
A24: 3. Que pensez-vous de la qualité de notre service?
B25: Réponse
A26: 1-Excellent | B26: 5
A27: 2-Très bon
A28: 3-Bon
A29: 4-Médiocre
A30: 5-Mauvais
A32: 4. Que pensez-vous de l'efficacité de notre produit en termes de conservation?
B33: Réponse
A34: 1-Excellent | B34: 5
A35: 2-Très bon
A36: 3-Bon
A37: 4-Médiocre
A38: 5-Mauvais
A40: 5. Que pensez-vous de l'emballage de notre produit?
B41: Réponse
A42: 1-Excellent | B42: 2
A43: 2-Très bon
A44: 3-Bon
A45: 4-Médiocre
A46: 5-Mauvais
A48: 6. Comment trouvez-vous l'apport énergétique de ce produit?
B49: Réponse
A50: 1-Excellent | B50: 2
A51: 2-Très bon
A52: 3-Bon
A53: 4-Médiocre
A54: 5-Mauvais
A56: 7. Quelles sont les évolutions que vous attendez de ce dessert?
B57: Réponse
A58: 1-Un prix plus accessible | B58: 1
A59: 2-Qu'il soit moins sucré
A60: 3-Des produits sans huile de palme
A61: 4-Des emballages plus écologiques
A62: 5-Plus de produits en sachets individuels
A64: 8. Comment trouver vous le prix de notre produit?
B65: Réponse
A66: 1-Excellent | B66: 3
A67: 2-Très bon
A68: 3-Bon
A69: 4-Médiocre
A70: 5-Mauvais
A72: 9. Parmis les phrases suivantes, quelle est celle qui correspond le mieux à ce que vous pensez de notre produit?
B73: Réponse
A74: 1-Je l'achèterai certainement | B74: 3
A75: 2-Je l'achèterai probablement
A76: 3-Je ne sais pas si je l'achèterai ou non
A77: 4-Je ne l'achèterai probablement pas
A78: 5-Je ne l'achèterai certainement pas
A80: 10. Parmis les magasins suivants, lesquels fréquentez-vous, ne serait-ce que de temps en temps?
B81: Réponse
A82: 1-IGA supermarché | B82: 3
A83: 2-Métro
A84: 3-Super C
A85: 4-Maxi
A86: 5-Le supermarché de votre coin
A88: 11- Combien dépensez-vous par semaine en dessert?
B89: Réponse
B90: 30
A93: 12. Combien êtes-vous prêt à payer pour notre dessert?
B94: Réponse
B95: 7
A97: 13. Quel est votre sexe?
B98: Réponse
A99: 1-Homme | B99: 1
A100: 2-Femmme
A102: 14. Qui consomme les gâteaux que vous achetez chez vous?
B103: Réponse
A104: 1-Vous-même | B104: 6
A105: 2-Votre conjoint (e)
A106: 3-Un enfant de 0 à 6 ans
A107: 4-Un enfant de 7 à 10 ans
A108: 5-Un ado de 11 à 17 ans
A109: 6-Un jeune adulte de 18 à 24 ans

Sheet Sondage14
A2: Afin de poursuivre notre dynamique d'amélioration, nous vous remercions de prendre quelques instants pour compléter ce questionnaire.
A4: Les informations transmises seront traitées à des fins statistiques et resteront confidentielles.
A7: Colonne1 | B7: Colonne2
A8: La tortue au chocolat noir, au caramel d'érable et à la confiture de bleuets
A10: 1. Comment qualifierez-vous la texture de notre produit?
B11: Réponse
A12: Comment qualifierez-vous la texture de notre produit? | B12: 3
A13: 1-Excellent
A14: 2-Très bon
A15: 3-Bon
A16: 4-Médiocre
A17: 5-Mauvais
A18: 2. Que pensez-vous du goût de notre produit?
B19: Réponse
A20: 1-Excellent | B20: 3
A21: 2-Très bon
A22: 3-Bon
A23: 4-Médiocre
A24: 5-Mauvais
A25: 3. Que pensez-vous de la qualité de notre service?
B26: Réponse
A27: 1-Excellent | B27: 2
A28: 2-Très bon
A29: 3-Bon
A30: 4-Médiocre
A31: 5-Mauvais
A33: 4. Que pensez-vous de l'efficacité de notre produit en termes de conservation?
B34: Réponse
A35: 1-Excellent | B35: 4
A36: 2-Très bon
A37: 3-Bon
A38: 4-Médiocre
A39: 5-Mauvais
A41: 5. Que pensez-vous de l'emballage de notre produit?
B42: Réponse
A43: 1-Excellent | B43: 2
A44: 2-Très bon
A45: 3-Bon
A46: 4-Médiocre
A47: 5-Mauvais
A49: 6. Comment trouvez-vous l'apport énergétique de ce produit?
B50: Réponse
A51: 1-Excellent | B51: 3
A52: 2-Très bon
A53: 3-Bon
A54: 4-Médiocre
A55: 5-Mauvais
A57: 7. Quelles sont les évolutions que vous attendez de ce dessert?
B58: Réponse
A59: 1-Un prix plus accessible | B59: 4
A60: 2-Qu'il soit moins sucré
A61: 3-Des produits sans huile de palme
A62: 4-Des emballages plus écologiques
A63: 5-Plus de produits en sachets individuels
A65: 8. Comment trouver vous le prix de notre produit?
B66: Réponse
A67: 1-Excellent | B67: 3
A68: 2-Très bon
A69: 3-Bon
A70: 4-Médiocre
A71: 5-Mauvais
A73: 9. Parmis les phrases suivantes, quelle est celle qui correspond le mieux à ce que vous pensez de notre produit?
B74: Réponse
A75: 1-Je l'achèterai certainement | B75: 4
A76: 2-Je l'achèterai probablement
A77: 3-Je ne sais pas si je l'achèterai ou non
A78: 4-Je ne l'achèterai probablement pas
A79: 5-Je ne l'achèterai certainement pas
A81: 10. Parmis les magasins suivants, lesquels fréquentez-vous, ne serait-ce que de temps en temps?
B82: Réponse
A83: 1-IGA supermarché | B83: 1
A84: 2-Métro
A85: 3-Super C
A86: 4-Maxi
A87: 5-Le supermarché de votre coin
A89: 11- Combien dépensez-vous par semaine en dessert?
B90: Réponse
B91: 20
A93: 12. Combien êtes-vous prêt à payer pour notre dessert?
B94: Réponse
B95: 5
A97: 13. Quel est votre sexe?
B98: Réponse
A99: 1-Homme | B99: 1
A100: 2-Femmme
A102: 14. Qui consomme les gâteaux que vous achetez chez vous?
B103: Réponse
A104: 1-Vous-même | B104: 4
A105: 2-Votre conjoint (e)
A106: 3-Un enfant de 0 à 6 ans
A107: 4-Un enfant de 7 à 10 ans
A108: 5-Un ado de 11 à 17 ans
A109: 6-Un jeune adulte de 18 à 24 ans

Sheet Sondage 15
A2: Afin de poursuivre notre dynamique d'amélioration, nous vous remercions de prendre quelques instants pour compléter ce questionnaire.
A4: Les informations transmises seront traitées à des fins statistiques et resteront confidentielles.
A6: Colonne1 | B6: Colonne2
A7: La tortue au chocolat noir, au caramel d'érable et à la confiture de bleuets
A9: 1. Comment qualifierez-vous la texture de notre produit?
B10: Réponse
A11: 1-Excellent | B11: 1
A12: 2-Très bon
A13: 3-Bon
A14: 4-Médiocre
A15: 5-Mauvais
A17: 2. Que pensez-vous du goût de notre produit?
B18: Réponse
A19: 1-Excellent | B19: 3
A20: 2-Très bon
A21: 3-Bon
A22: 4-Médiocre
A23: 5-Mauvais
A25: 3. Que pensez-vous de la qualité de notre service?
B26: Réponse
A27: 1-Excellent | B27: 5
A28: 2-Très bon
A29: 3-Bon
A30: 4-Médiocre
A31: 5-Mauvais
A33: 4. Que pensez-vous de l'efficacité de notre produit en termes de conservation?
B34: Réponse
A35: 1-Excellent | B35: 3
A36: 2-Très bon
A37: 3-Bon
A38: 4-Médiocre
A39: 5-Mauvais
A41: 5. Que pensez-vous de l'emballage de notre produit?
B42: Réponse
A43: 1-Excellent | B43: 4
A44: 2-Très bon
A45: 3-Bon
A46: 4-Médiocre
A47: 5-Mauvais
A49: 6. Comment trouvez-vous l'apport énergétique de ce produit?
B50: Réponse
A51: 1-Excellent | B51: 4
A52: 2-Très bon
A53: 3-Bon
A54: 4-Médiocre
A55: 5-Mauvais
A57: 7. Quelles sont les évolutions que vous attendez de ce dessert?
B58: Réponse
A59: 1-Un prix plus accessible | B59: 4
A60: 2-Qu'il soit moins sucré
A61: 3-Des produits sans huile de palme
A62: 4-Des emballages plus écologiques
A63: 5-Plus de produits en sachets individuels
A65: 8. Comment trouvez-vous le prix de notre produit?
B66: Réponse
A67: 1-Excellent | B67: 3
A68: 2-Très bon
A69: 3-Bon
A70: 4-Médiocre
A71: 5-Mauvais
A73: 9. Parmis les phrases suivantes, quelle est celle qui correspond le mieux à ce que vous pensez de notre produit?
B74: Réponse
A75: 1-Je l'achèterai certainement | B75: 4
A76: 2-Je l'achèterai probablement
A77: 3-Je ne sais pas si je l'achèterai ou non
A78: 4-Je ne l'achèterai probablement pas
A79: 5-Je ne l'achèterai certainement pas
A81: 10. Parmis les magasins suivants, lesquels fréquentez-vous, ne serait-ce que de temps en temps?
B82: Réponse
A83: 1-IGA supermarché | B83: 2
A84: 2-Métro
A85: 3-Super C
A86: 4-Maxi
A87: 5-Le supermarché de votre coin
A89: 11- Combien dépensez-vous par semaine en dessert?
B90: Réponse
B91: 15
A93: 12. Combien êtes-vous prêt à payer pour notre dessert?
B94: Réponse
B95: 5
A97: 13. Quel est votre sexe?
B98: Réponse
A99: 1-Homme | B99: 2
A100: 2-Femmme
A102: 14. Qui consomme les gâteaux que vous achetez chez vous?
B103: Réponse
A104: 1-Vous-même | B104: 6
A105: 2-Votre conjoint (e)
A106: 3-Un enfant de 0 à 6 ans
A107: 4-Un enfant de 7 à 10 ans
A108: 5-Un ado de 11 à 17 ans
A109: 6-Un jeune adulte de 18 à 24 ans
