Workbook

Sheet Ne pas toucher
B2: Mois | C2: Numéro | F2: Libellé | G2: Unité de mesure
B3: Janvier | C3: 1 | F3: Poids | G3: kg
B4: Février | C4: 2 | F4: Volume | G4: l
B5: Mars | C5: 3
B6: Avril | C6: 4
B7: Mai | C7: 5
B8: Juin | C8: 6
B9: Juillet | C9: 7
B10: Août | C10: 8
B11: Septembre | C11: 9
B12: Octobre | C12: 10
B13: Novembre | C13: 11
B14: Décembre | C14: 12

Sheet Ventes
A1: Jour | B1: Mois | C1: Année | D1: Type | E1: Numéro | F1: Compte | G1: Date | H1: Mois chiffre | I1: Jour facture | J1: Mois facture | K1: Année fact | L1: Num fact | M1: Num Facture | N1: Client | O1: Nbre produits | P1: Quantité (l/g) | Q1: Qté totale | R1: Nature | S1: Montant | T1: Payé comptant | U1: Soldé le
A2: 2 | B2: Février | C2: 2022 | D2: Sirop | E2: 1 | F2: =IF(D2="Sirop",70210000,IF(D2="Alcool",70220000,IF(D2="Confiture",70230000,""))) -> 70210000 | G2: =DATE(C2,H2,A2) -> 44594 | H2: =OFFSET(INDEX('Ne pas toucher'!$B$3:$B$14,MATCH(B2,'Ne pas toucher'!$B$3:$B$14,0)),0,1) -> 2 | I2: =IF(A2<10,CONCATENATE(0&A2),A2) -> 02 | J2: =IF(H2<10,CONCATENATE(0&H2),H2) -> 02 | K2: =RIGHT(C2,2) -> 22 | L2: =IF(E2<10,CONCATENATE(0&E2),E2) -> 01 | M2: =CONCATENATE("VT"&I2&J2&K2&L2) -> VT02022201 | N2: Thierry Royer | O2: 1 | P2: =IF(D2="Sirop",1,IF(D2="Alcool",0.75,0.39)) -> 1 | Q2: =O2*P2 -> 1 | R2: Bita cola | S2: 9500 | T2: =+S2+500 -> 10000
A3: 2 | B3: Février | C3: 2022 | D3: Sirop | E3: 1 | F3: =IF(D3="Sirop",70210000,IF(D3="Alcool",70220000,IF(D3="Confiture",70230000,""))) -> 70210000 | G3: =DATE(C3,H3,A3) -> 44594 | H3: =OFFSET(INDEX('Ne pas toucher'!$B$3:$B$14,MATCH(B3,'Ne pas toucher'!$B$3:$B$14,0)),0,1) -> 2 | I3: =IF(A3<10,CONCATENATE(0&A3),A3) -> 02 | J3: =IF(H3<10,CONCATENATE(0&H3),H3) -> 02 | K3: =RIGHT(C3,2) -> 22 | L3: =IF(E3<10,CONCATENATE(0&E3),E3) -> 01 | M3: =CONCATENATE("VT"&I3&J3&K3&L3) -> VT02022201 | N3: Thierry Royer | O3: 1 | P3: =IF(D3="Sirop",1,IF(D3="Alcool",0.75,0.39)) -> 1 | Q3: =O3*P3 -> 1 | R3: Ananas | S3: 5000 | T3: =+S3+500 -> 5500
A4: 2 | B4: Février | C4: 2022 | D4: Sirop | E4: 1 | F4: =IF(D4="Sirop",70210000,IF(D4="Alcool",70220000,IF(D4="Confiture",70230000,""))) -> 70210000 | G4: =DATE(C4,H4,A4) -> 44594 | H4: =OFFSET(INDEX('Ne pas toucher'!$B$3:$B$14,MATCH(B4,'Ne pas toucher'!$B$3:$B$14,0)),0,1) -> 2 | I4: =IF(A4<10,CONCATENATE(0&A4),A4) -> 02 | J4: =IF(H4<10,CONCATENATE(0&H4),H4) -> 02 | K4: =RIGHT(C4,2) -> 22 | L4: =IF(E4<10,CONCATENATE(0&E4),E4) -> 01 | M4: =CONCATENATE("VT"&I4&J4&K4&L4) -> VT02022201 | N4: Thierry Royer | O4: 1 | P4: =IF(D4="Sirop",1,IF(D4="Alcool",0.75,0.39)) -> 1 | Q4: =O4*P4 -> 1 | R4: Gingembre | S4: 5000 | T4: =+S4+500+1000 -> 6500
A5: 2 | B5: Février | C5: 2022 | D5: Alcool | E5: 2 | F5: =IF(D5="Sirop",70210000,IF(D5="Alcool",70220000,IF(D5="Confiture",70230000,""))) -> 70220000 | G5: =DATE(C5,H5,A5) -> 44594 | H5: =OFFSET(INDEX('Ne pas toucher'!$B$3:$B$14,MATCH(B5,'Ne pas toucher'!$B$3:$B$14,0)),0,1) -> 2 | I5: =IF(A5<10,CONCATENATE(0&A5),A5) -> 02 | J5: =IF(H5<10,CONCATENATE(0&H5),H5) -> 02 | K5: =RIGHT(C5,2) -> 22 | L5: =IF(E5<10,CONCATENATE(0&E5),E5) -> 02 | M5: =CONCATENATE("VT"&I5&J5&K5&L5) -> VT02022202 | N5: Baye | O5: 1 | P5: =IF(D5="Sirop",1,IF(D5="Alcool",0.75,0.39)) -> 0.75 | Q5: =O5*P5 -> 0.75 | R5: Kaï | S5: 10000 | T5: 9000
A6: 2 | B6: Février | C6: 2022 | D6: Sirop | E6: 3 | F6: =IF(D6="Sirop",70210000,IF(D6="Alcool",70220000,IF(D6="Confiture",70230000,""))) -> 70210000 | G6: =DATE(C6,H6,A6) -> 44594 | H6: =OFFSET(INDEX('Ne pas toucher'!$B$3:$B$14,MATCH(B6,'Ne pas toucher'!$B$3:$B$14,0)),0,1) -> 2 | I6: =IF(A6<10,CONCATENATE(0&A6),A6) -> 02 | J6: =IF(H6<10,CONCATENATE(0&H6),H6) -> 02 | K6: =RIGHT(C6,2) -> 22 | L6: =IF(E6<10,CONCATENATE(0&E6),E6) -> 03 | M6: =CONCATENATE("VT"&I6&J6&K6&L6) -> VT02022203 | N6: O'CONNOR | O6: 1 | P6: =IF(D6="Sirop",1,IF(D6="Alcool",0.75,0.39)) -> 1 | Q6: =O6*P6 -> 1 | R6: Mangue | S6: 4500 | T6: =+S6+100 -> 4600
A7: 2 | B7: Février | C7: 2022 | D7: Alcool | E7: 3 | F7: =IF(D7="Sirop",70210000,IF(D7="Alcool",70220000,IF(D7="Confiture",70230000,""))) -> 70220000 | G7: =DATE(C7,H7,A7) -> 44594 | H7: =OFFSET(INDEX('Ne pas toucher'!$B$3:$B$14,MATCH(B7,'Ne pas toucher'!$B$3:$B$14,0)),0,1) -> 2 | I7: =IF(A7<10,CONCATENATE(0&A7),A7) -> 02 | J7: =IF(H7<10,CONCATENATE(0&H7),H7) -> 02 | K7: =RIGHT(C7,2) -> 22 | L7: =IF(E7<10,CONCATENATE(0&E7),E7) -> 03 | M7: =CONCATENATE("VT"&I7&J7&K7&L7) -> VT02022203 | N7: O'CONNOR | O7: 1 | P7: =IF(D7="Sirop",1,IF(D7="Alcool",0.75,0.39)) -> 0.75 | Q7: =O7*P7 -> 0.75 | R7: Kaï | S7: 9500 | T7: =+S7+100 -> 9600
A8: 8 | B8: Février | C8: 2022 | D8: Alcool | E8: 1 | F8: =IF(D8="Sirop",70210000,IF(D8="Alcool",70220000,IF(D8="Confiture",70230000,""))) -> 70220000 | G8: =DATE(C8,H8,A8) -> 44600 | H8: =OFFSET(INDEX('Ne pas toucher'!$B$3:$B$14,MATCH(B8,'Ne pas toucher'!$B$3:$B$14,0)),0,1) -> 2 | I8: =IF(A8<10,CONCATENATE(0&A8),A8) -> 08 | J8: =IF(H8<10,CONCATENATE(0&H8),H8) -> 02 | K8: =RIGHT(C8,2) -> 22 | L8: =IF(E8<10,CONCATENATE(0&E8),E8) -> 01 | M8: =CONCATENATE("VT"&I8&J8&K8&L8) -> VT08022201 | N8: Chantal Boucher | O8: 1 | P8: =IF(D8="Sirop",1,IF(D8="Alcool",0.75,0.39)) -> 0.75 | Q8: =O8*P8 -> 0.75 | R8: Rhum arrangé | S8: 12000 | T8: 12000
A9: 8 | B9: Février | C9: 2022 | D9: Sirop | E9: 1 | F9: =IF(D9="Sirop",70210000,IF(D9="Alcool",70220000,IF(D9="Confiture",70230000,""))) -> 70210000 | G9: =DATE(C9,H9,A9) -> 44600 | H9: =OFFSET(INDEX('Ne pas toucher'!$B$3:$B$14,MATCH(B9,'Ne pas toucher'!$B$3:$B$14,0)),0,1) -> 2 | I9: =IF(A9<10,CONCATENATE(0&A9),A9) -> 08 | J9: =IF(H9<10,CONCATENATE(0&H9),H9) -> 02 | K9: =RIGHT(C9,2) -> 22 | L9: =IF(E9<10,CONCATENATE(0&E9),E9) -> 01 | M9: =CONCATENATE("VT"&I9&J9&K9&L9) -> VT08022201 | N9: Chantal Boucher | O9: 1 | P9: 0.3 | Q9: =O9*P9 -> 0.3 | R9: Bita cola | S9: 3500 | T9: 3500
A10: 8 | B10: Février | C10: 2022 | D10: Sirop | E10: 1 | F10: =IF(D10="Sirop",70210000,IF(D10="Alcool",70220000,IF(D10="Confiture",70230000,""))) -> 70210000 | G10: =DATE(C10,H10,A10) -> 44600 | H10: =OFFSET(INDEX('Ne pas toucher'!$B$3:$B$14,MATCH(B10,'Ne pas toucher'!$B$3:$B$14,0)),0,1) -> 2 | I10: =IF(A10<10,CONCATENATE(0&A10),A10) -> 08 | J10: =IF(H10<10,CONCATENATE(0&H10),H10) -> 02 | K10: =RIGHT(C10,2) -> 22 | L10: =IF(E10<10,CONCATENATE(0&E10),E10) -> 01 | M10: =CONCATENATE("VT"&I10&J10&K10&L10) -> VT08022201 | N10: Chantal Boucher | O10: 1 | P10: 0.3 | Q10: =O10*P10 -> 0.3 | R10: Passion | S10: 2500 | T10: 2500
A11: 8 | B11: Février | C11: 2022 | D11: Sirop | E11: =IF(ISBLANK(A11),"",E10+1) -> 2 | F11: =IF(D11="Sirop",70210000,IF(D11="Alcool",70220000,IF(D11="Confiture",70230000,""))) -> 70210000 | G11: =DATE(C11,H11,A11) -> 44600 | H11: =OFFSET(INDEX('Ne pas toucher'!$B$3:$B$14,MATCH(B11,'Ne pas toucher'!$B$3:$B$14,0)),0,1) -> 2 | I11: =IF(A11<10,CONCATENATE(0&A11),A11) -> 08 | J11: =IF(H11<10,CONCATENATE(0&H11),H11) -> 02 | K11: =RIGHT(C11,2) -> 22 | L11: =IF(E11<10,CONCATENATE(0&E11),E11) -> 02 | M11: =CONCATENATE("VT"&I11&J11&K11&L11) -> VT08022202 | N11: Hermine | O11: 1 | P11: 0.3 | Q11: =O11*P11 -> 0.3 | R11: Bita cola | S11: 3500 | T11: 3600
A12: 9 | B12: Février | C12: 2022 | D12: Alcool | E12: =IF(ISBLANK(A12),"",E11+1) -> 3 | F12: =IF(D12="Sirop",70210000,IF(D12="Alcool",70220000,IF(D12="Confiture",70230000,""))) -> 70220000 | G12: =DATE(C12,H12,A12) -> 44601 | H12: =OFFSET(INDEX('Ne pas toucher'!$B$3:$B$14,MATCH(B12,'Ne pas toucher'!$B$3:$B$14,0)),0,1) -> 2 | I12: =IF(A12<10,CONCATENATE(0&A12),A12) -> 09 | J12: =IF(H12<10,CONCATENATE(0&H12),H12) -> 02 | K12: =RIGHT(C12,2) -> 22 | L12: =IF(E12<10,CONCATENATE(0&E12),E12) -> 03 | M12: =CONCATENATE("VT"&I12&J12&K12&L12) -> VT09022203 | N12: Francine Reno | O12: 1 | P12: =IF(D12="Sirop",1,IF(D12="Alcool",0.75,0.39)) -> 0.75 | Q12: =O12*P12 -> 0.75 | R12: Lemonchello | S12: 10000 | T12: 10000
A13: 9 | B13: Février | C13: 2022 | D13: Sirop | E13: 3 | F13: =IF(D13="Sirop",70210000,IF(D13="Alcool",70220000,IF(D13="Confiture",70230000,""))) -> 70210000 | G13: =DATE(C13,H13,A13) -> 44601 | H13: =OFFSET(INDEX('Ne pas toucher'!$B$3:$B$14,MATCH(B13,'Ne pas toucher'!$B$3:$B$14,0)),0,1) -> 2 | I13: =IF(A13<10,CONCATENATE(0&A13),A13) -> 09 | J13: =IF(H13<10,CONCATENATE(0&H13),H13) -> 02 | K13: =RIGHT(C13,2) -> 22 | L13: =IF(E13<10,CONCATENATE(0&E13),E13) -> 03 | M13: =CONCATENATE("VT"&I13&J13&K13&L13) -> VT09022203 | N13: Francine Reno | O13: 1 | P13: =IF(D13="Sirop",1,IF(D13="Alcool",0.75,0.39)) -> 1 | Q13: =O13*P13 -> 1 | R13: Citron | S13: 6500 | T13: 6500
A14: 10 | B14: Février | C14: 2022 | D14: Sirop | E14: 1 | F14: =IF(D14="Sirop",70210000,IF(D14="Alcool",70220000,IF(D14="Confiture",70230000,""))) -> 70210000 | G14: =DATE(C14,H14,A14) -> 44602 | H14: =OFFSET(INDEX('Ne pas toucher'!$B$3:$B$14,MATCH(B14,'Ne pas toucher'!$B$3:$B$14,0)),0,1) -> 2 | I14: =IF(A14<10,CONCATENATE(0&A14),A14) -> 10 | J14: =IF(H14<10,CONCATENATE(0&H14),H14) -> 02 | K14: =RIGHT(C14,2) -> 22 | L14: =IF(E14<10,CONCATENATE(0&E14),E14) -> 01 | M14: =CONCATENATE("VT"&I14&J14&K14&L14) -> VT10022201 | N14: Benard Nkoué | O14: 1 | P14: 0.7 | Q14: =O14*P14 -> 0.7 | R14: Café | S14: 10000 | T14: 10000
A15: 10 | B15: Février | C15: 2022 | D15: Sirop | E15: 2 | F15: =IF(D15="Sirop",70210000,IF(D15="Alcool",70220000,IF(D15="Confiture",70230000,""))) -> 70210000 | G15: =DATE(C15,H15,A15) -> 44602 | H15: =OFFSET(INDEX('Ne pas toucher'!$B$3:$B$14,MATCH(B15,'Ne pas toucher'!$B$3:$B$14,0)),0,1) -> 2 | I15: =IF(A15<10,CONCATENATE(0&A15),A15) -> 10 | J15: =IF(H15<10,CONCATENATE(0&H15),H15) -> 02 | K15: =RIGHT(C15,2) -> 22 | L15: =IF(E15<10,CONCATENATE(0&E15),E15) -> 02 | M15: =CONCATENATE("VT"&I15&J15&K15&L15) -> VT10022202 | N15: Annie Morisco | O15: 2 | P15: =IF(D15="Sirop",1,IF(D15="Alcool",0.75,0.39)) -> 1 | Q15: =O15*P15 -> 2 | R15: Bissap | S15: 9000 | T15: 9000
A16: 10 | B16: Février | C16: 2022 | D16: Sirop | E16: 2 | F16: =IF(D16="Sirop",70210000,IF(D16="Alcool",70220000,IF(D16="Confiture",70230000,""))) -> 70210000 | G16: =DATE(C16,H16,A16) -> 44602 | H16: =OFFSET(INDEX('Ne pas toucher'!$B$3:$B$14,MATCH(B16,'Ne pas toucher'!$B$3:$B$14,0)),0,1) -> 2 | I16: =IF(A16<10,CONCATENATE(0&A16),A16) -> 10 | J16: =IF(H16<10,CONCATENATE(0&H16),H16) -> 02 | K16: =RIGHT(C16,2) -> 22 | L16: =IF(E16<10,CONCATENATE(0&E16),E16) -> 02 | M16: =CONCATENATE("VT"&I16&J16&K16&L16) -> VT10022202 | N16: Annie Morisco | O16: 1 | P16: =IF(D16="Sirop",1,IF(D16="Alcool",0.75,0.39)) -> 1 | Q16: =O16*P16 -> 1 | R16: Passion | S16: 6500 | T16: 6500
A17: 10 | B17: Février | C17: 2022 | D17: Sirop | E17: 2 | F17: =IF(D17="Sirop",70210000,IF(D17="Alcool",70220000,IF(D17="Confiture",70230000,""))) -> 70210000 | G17: =DATE(C17,H17,A17) -> 44602 | H17: =OFFSET(INDEX('Ne pas toucher'!$B$3:$B$14,MATCH(B17,'Ne pas toucher'!$B$3:$B$14,0)),0,1) -> 2 | I17: =IF(A17<10,CONCATENATE(0&A17),A17) -> 10 | J17: =IF(H17<10,CONCATENATE(0&H17),H17) -> 02 | K17: =RIGHT(C17,2) -> 22 | L17: =IF(E17<10,CONCATENATE(0&E17),E17) -> 02 | M17: =CONCATENATE("VT"&I17&J17&K17&L17) -> VT10022202 | N17: Annie Morisco | O17: 1 | P17: =IF(D17="Sirop",1,IF(D17="Alcool",0.75,0.39)) -> 1 | Q17: =O17*P17 -> 1 | R17: Pomme cythère | S17: 5000 | T17: 5000
A18: 10 | B18: Février | C18: 2022 | D18: Sirop | E18: 2 | F18: =IF(D18="Sirop",70210000,IF(D18="Alcool",70220000,IF(D18="Confiture",70230000,""))) -> 70210000 | G18: =DATE(C18,H18,A18) -> 44602 | H18: =OFFSET(INDEX('Ne pas toucher'!$B$3:$B$14,MATCH(B18,'Ne pas toucher'!$B$3:$B$14,0)),0,1) -> 2 | I18: =IF(A18<10,CONCATENATE(0&A18),A18) -> 10 | J18: =IF(H18<10,CONCATENATE(0&H18),H18) -> 02 | K18: =RIGHT(C18,2) -> 22 | L18: =IF(E18<10,CONCATENATE(0&E18),E18) -> 02 | M18: =CONCATENATE("VT"&I18&J18&K18&L18) -> VT10022202 | N18: Annie Morisco | O18: 1 | P18: =IF(D18="Sirop",1,IF(D18="Alcool",0.75,0.39)) -> 1 | Q18: =O18*P18 -> 1 | R18: Ananas | S18: 5000 | T18: 5000
A19: 10 | B19: Février | C19: 2022 | D19: Sirop | E19: 2 | F19: =IF(D19="Sirop",70210000,IF(D19="Alcool",70220000,IF(D19="Confiture",70230000,""))) -> 70210000 | G19: =DATE(C19,H19,A19) -> 44602 | H19: =OFFSET(INDEX('Ne pas toucher'!$B$3:$B$14,MATCH(B19,'Ne pas toucher'!$B$3:$B$14,0)),0,1) -> 2 | I19: =IF(A19<10,CONCATENATE(0&A19),A19) -> 10 | J19: =IF(H19<10,CONCATENATE(0&H19),H19) -> 02 | K19: =RIGHT(C19,2) -> 22 | L19: =IF(E19<10,CONCATENATE(0&E19),E19) -> 02 | M19: =CONCATENATE("VT"&I19&J19&K19&L19) -> VT10022202 | N19: Annie Morisco | O19: 1 | P19: =IF(D19="Sirop",1,IF(D19="Alcool",0.75,0.39)) -> 1 | Q19: =O19*P19 -> 1 | R19: Mangue | S19: 5000 | T19: 5000
A20: 11 | B20: Février | C20: 2022 | D20: Sirop | E20: 1 | F20: =IF(D20="Sirop",70210000,IF(D20="Alcool",70220000,IF(D20="Confiture",70230000,""))) -> 70210000 | G20: =DATE(C20,H20,A20) -> 44603 | H20: =OFFSET(INDEX('Ne pas toucher'!$B$3:$B$14,MATCH(B20,'Ne pas toucher'!$B$3:$B$14,0)),0,1) -> 2 | I20: =IF(A20<10,CONCATENATE(0&A20),A20) -> 11 | J20: =IF(H20<10,CONCATENATE(0&H20),H20) -> 02 | K20: =RIGHT(C20,2) -> 22 | L20: =IF(E20<10,CONCATENATE(0&E20),E20) -> 01 | M20: =CONCATENATE("VT"&I20&J20&K20&L20) -> VT11022201 | N20: Felix de Joyce | O20: 1 | P20: =IF(D20="Sirop",1,IF(D20="Alcool",0.75,0.39)) -> 1 | Q20: =O20*P20 -> 1 | R20: Bita cola | S20: 9500 | T20: 9500
A21: 11 | B21: Février | C21: 2022 | D21: Alcool | E21: 1 | F21: =IF(D21="Sirop",70210000,IF(D21="Alcool",70220000,IF(D21="Confiture",70230000,""))) -> 70220000 | G21: =DATE(C21,H21,A21) -> 44603 | H21: =OFFSET(INDEX('Ne pas toucher'!$B$3:$B$14,MATCH(B21,'Ne pas toucher'!$B$3:$B$14,0)),0,1) -> 2 | I21: =IF(A21<10,CONCATENATE(0&A21),A21) -> 11 | J21: =IF(H21<10,CONCATENATE(0&H21),H21) -> 02 | K21: =RIGHT(C21,2) -> 22 | L21: =IF(E21<10,CONCATENATE(0&E21),E21) -> 01 | M21: =CONCATENATE("VT"&I21&J21&K21&L21) -> VT11022201 | N21: Felix de Joyce | O21: 2 | P21: =IF(D21="Sirop",1,IF(D21="Alcool",0.75,0.39)) -> 0.75 | Q21: =O21*P21 -> 1.5 | R21: Kaï | S21: 18000 | T21: 18000
A22: 12 | B22: Février | C22: 2022 | D22: Sirop | E22: 1 | F22: =IF(D22="Sirop",70210000,IF(D22="Alcool",70220000,IF(D22="Confiture",70230000,""))) -> 70210000 | G22: =DATE(C22,H22,A22) -> 44604 | H22: =OFFSET(INDEX('Ne pas toucher'!$B$3:$B$14,MATCH(B22,'Ne pas toucher'!$B$3:$B$14,0)),0,1) -> 2 | I22: =IF(A22<10,CONCATENATE(0&A22),A22) -> 12 | J22: =IF(H22<10,CONCATENATE(0&H22),H22) -> 02 | K22: =RIGHT(C22,2) -> 22 | L22: =IF(E22<10,CONCATENATE(0&E22),E22) -> 01 | M22: =CONCATENATE("VT"&I22&J22&K22&L22) -> VT12022201 | N22: Leopold Boukeu | O22: 1 | P22: =IF(D22="Sirop",1,IF(D22="Alcool",0.75,0.39)) -> 1 | Q22: =O22*P22 -> 1 | R22: Bita cola | S22: 9500 | T22: 9500
A23: 12 | B23: Février | C23: 2022 | D23: Sirop | E23: 1 | F23: =IF(D23="Sirop",70210000,IF(D23="Alcool",70220000,IF(D23="Confiture",70230000,""))) -> 70210000 | G23: =DATE(C23,H23,A23) -> 44604 | H23: =OFFSET(INDEX('Ne pas toucher'!$B$3:$B$14,MATCH(B23,'Ne pas toucher'!$B$3:$B$14,0)),0,1) -> 2 | I23: =IF(A23<10,CONCATENATE(0&A23),A23) -> 12 | J23: =IF(H23<10,CONCATENATE(0&H23),H23) -> 02 | K23: =RIGHT(C23,2) -> 22 | L23: =IF(E23<10,CONCATENATE(0&E23),E23) -> 01 | M23: =CONCATENATE("VT"&I23&J23&K23&L23) -> VT12022201 | N23: Leopold Boukeu | O23: 1 | P23: =IF(D23="Sirop",1,IF(D23="Alcool",0.75,0.39)) -> 1 | Q23: =O23*P23 -> 1 | R23: Gingembre | S23: 5000 | T23: 5000
A24: 12 | B24: Février | C24: 2022 | D24: Sirop | E24: 1 | F24: =IF(D24="Sirop",70210000,IF(D24="Alcool",70220000,IF(D24="Confiture",70230000,""))) -> 70210000 | G24: =DATE(C24,H24,A24) -> 44604 | H24: =OFFSET(INDEX('Ne pas toucher'!$B$3:$B$14,MATCH(B24,'Ne pas toucher'!$B$3:$B$14,0)),0,1) -> 2 | I24: =IF(A24<10,CONCATENATE(0&A24),A24) -> 12 | J24: =IF(H24<10,CONCATENATE(0&H24),H24) -> 02 | K24: =RIGHT(C24,2) -> 22 | L24: =IF(E24<10,CONCATENATE(0&E24),E24) -> 01 | M24: =CONCATENATE("VT"&I24&J24&K24&L24) -> VT12022201 | N24: Leopold Boukeu | O24: 1 | P24: =IF(D24="Sirop",1,IF(D24="Alcool",0.75,0.39)) -> 1 | Q24: =O24*P24 -> 1 | R24: Bissap | S24: 4500 | T24: 4500
A25: 14 | B25: Février | C25: 2022 | D25: Sirop | E25: 1 | F25: =IF(D25="Sirop",70210000,IF(D25="Alcool",70220000,IF(D25="Confiture",70230000,""))) -> 70210000 | G25: =DATE(C25,H25,A25) -> 44606 | H25: =OFFSET(INDEX('Ne pas toucher'!$B$3:$B$14,MATCH(B25,'Ne pas toucher'!$B$3:$B$14,0)),0,1) -> 2 | I25: =IF(A25<10,CONCATENATE(0&A25),A25) -> 14 | J25: =IF(H25<10,CONCATENATE(0&H25),H25) -> 02 | K25: =RIGHT(C25,2) -> 22 | L25: =IF(E25<10,CONCATENATE(0&E25),E25) -> 01 | M25: =CONCATENATE("VT"&I25&J25&K25&L25) -> VT14022201 | N25: Hermine | O25: 1 | P25: =IF(D25="Sirop",1,IF(D25="Alcool",0.75,0.39)) -> 1 | Q25: =O25*P25 -> 1 | R25: Citron | S25: 5200 | T25: 5200
A26: 14 | B26: Février | C26: 2022 | D26: Sirop | E26: 1 | F26: =IF(D26="Sirop",70210000,IF(D26="Alcool",70220000,IF(D26="Confiture",70230000,""))) -> 70210000 | G26: =DATE(C26,H26,A26) -> 44606 | H26: =OFFSET(INDEX('Ne pas toucher'!$B$3:$B$14,MATCH(B26,'Ne pas toucher'!$B$3:$B$14,0)),0,1) -> 2 | I26: =IF(A26<10,CONCATENATE(0&A26),A26) -> 14 | J26: =IF(H26<10,CONCATENATE(0&H26),H26) -> 02 | K26: =RIGHT(C26,2) -> 22 | L26: =IF(E26<10,CONCATENATE(0&E26),E26) -> 01 | M26: =CONCATENATE("VT"&I26&J26&K26&L26) -> VT14022201 | N26: Hermine | O26: 1 | P26: =IF(D26="Sirop",1,IF(D26="Alcool",0.75,0.39)) -> 1 | Q26: =O26*P26 -> 1 | R26: Gingembre | S26: 5200 | T26: 5200
... A39: 16 | B39: Février | C39: 2022 | D39: Sirop | E39: 1 | F39: =IF(D39="Sirop",70210000,IF(D39="Alcool",70220000,IF(D39="Confiture",70230000,""))) -> 70210000 | G39: =DATE(C39,H39,A39) -> 44608 | H39: =OFFSET(INDEX('Ne pas toucher'!$B$3:$B$14,MATCH(B39,'Ne pas toucher'!$B$3:$B$14,0)),0,1) -> 2 | I39: =IF(A39<10,CONCATENATE(0&A39),A39) -> 16 | J39: =IF(H39<10,CONCATENATE(0&H39),H39) -> 02 | K39: =RIGHT(C39,2) -> 22 | L39: =IF(E39<10,CONCATENATE(0&E39),E39) -> 01 | M39: =CONCATENATE("VT"&I39&J39&K39&L39) -> VT16022201 | N39: WDC hotel Bobigny | O39: 1 | P39: =IF(D39="Sirop",1,IF(D39="Alcool",0.75,0.39)) -> 1 | Q39: =O39*P39 -> 1 | R39: Fraise | S39: 5000 | T39: 5000
A40: 16 | B40: Février | C40: 2022 | D40: Sirop | E40: 2 | F40: =IF(D40="Sirop",70210000,IF(D40="Alcool",70220000,IF(D40="Confiture",70230000,""))) -> 70210000 | G40: =DATE(C40,H40,A40) -> 44608 | H40: =OFFSET(INDEX('Ne pas toucher'!$B$3:$B$14,MATCH(B40,'Ne pas toucher'!$B$3:$B$14,0)),0,1) -> 2 | I40: =IF(A40<10,CONCATENATE(0&A40),A40) -> 16 | J40: =IF(H40<10,CONCATENATE(0&H40),H40) -> 02 | K40: =RIGHT(C40,2) -> 22 | L40: =IF(E40<10,CONCATENATE(0&E40),E40) -> 02 | M40: =CONCATENATE("VT"&I40&J40&K40&L40) -> VT16022202 | N40: Amazing coffee | O40: 3 | P40: 0.7 | Q40: =O40*P40 -> 2.1 | R40: Bissap | S40: 8310
A41: 16 | B41: Février | C41: 2022 | D41: Sirop | E41: 2 | F41: =IF(D41="Sirop",70210000,IF(D41="Alcool",70220000,IF(D41="Confiture",70230000,""))) -> 70210000 | G41: =DATE(C41,H41,A41) -> 44608 | H41: =OFFSET(INDEX('Ne pas toucher'!$B$3:$B$14,MATCH(B41,'Ne pas toucher'!$B$3:$B$14,0)),0,1) -> 2 | I41: =IF(A41<10,CONCATENATE(0&A41),A41) -> 16 | J41: =IF(H41<10,CONCATENATE(0&H41),H41) -> 02 | K41: =RIGHT(C41,2) -> 22 | L41: =IF(E41<10,CONCATENATE(0&E41),E41) -> 02 | M41: =CONCATENATE("VT"&I41&J41&K41&L41) -> VT16022202 | N41: Amazing coffee | O41: 4 | P41: =IF(D41="Sirop",1,IF(D41="Alcool",0.75,0.39)) -> 1 | Q41: =O41*P41 -> 4 | R41: Gingembre | S41: 13400
A42: 16 | B42: Février | C42: 2022 | D42: Sirop | E42: 2 | F42: =IF(D42="Sirop",70210000,IF(D42="Alcool",70220000,IF(D42="Confiture",70230000,""))) -> 70210000 | G42: =DATE(C42,H42,A42) -> 44608 | H42: =OFFSET(INDEX('Ne pas toucher'!$B$3:$B$14,MATCH(B42,'Ne pas toucher'!$B$3:$B$14,0)),0,1) -> 2 | I42: =IF(A42<10,CONCATENATE(0&A42),A42) -> 16 | J42: =IF(H42<10,CONCATENATE(0&H42),H42) -> 02 | K42: =RIGHT(C42,2) -> 22 | L42: =IF(E42<10,CONCATENATE(0&E42),E42) -> 02 | M42: =CONCATENATE("VT"&I42&J42&K42&L42) -> VT16022202 | N42: Amazing coffee | O42: 2 | P42: =IF(D42="Sirop",1,IF(D42="Alcool",0.75,0.39)) -> 1 | Q42: =O42*P42 -> 2 | R42: Passion | S42: 7900
A43: 16 | B43: Février | C43: 2022 | D43: Sirop | E43: 2 | F43: =IF(D43="Sirop",70210000,IF(D43="Alcool",70220000,IF(D43="Confiture",70230000,""))) -> 70210000 | G43: =DATE(C43,H43,A43) -> 44608 | H43: =OFFSET(INDEX('Ne pas toucher'!$B$3:$B$14,MATCH(B43,'Ne pas toucher'!$B$3:$B$14,0)),0,1) -> 2 | I43: =IF(A43<10,CONCATENATE(0&A43),A43) -> 16 | J43: =IF(H43<10,CONCATENATE(0&H43),H43) -> 02 | K43: =RIGHT(C43,2) -> 22 | L43: =IF(E43<10,CONCATENATE(0&E43),E43) -> 02 | M43: =CONCATENATE("VT"&I43&J43&K43&L43) -> VT16022202 | N43: Amazing coffee | O43: 2 | P43: =IF(D43="Sirop",1,IF(D43="Alcool",0.75,0.39)) -> 1 | Q43: =O43*P43 -> 2 | R43: Corossol | S43: 7900
A44: 17 | B44: Février | C44: 2022 | D44: Sirop | E44: 1 | F44: =IF(D44="Sirop",70210000,IF(D44="Alcool",70220000,IF(D44="Confiture",70230000,""))) -> 70210000 | G44: =DATE(C44,H44,A44) -> 44609 | H44: =OFFSET(INDEX('Ne pas toucher'!$B$3:$B$14,MATCH(B44,'Ne pas toucher'!$B$3:$B$14,0)),0,1) -> 2 | I44: =IF(A44<10,CONCATENATE(0&A44),A44) -> 17 | J44: =IF(H44<10,CONCATENATE(0&H44),H44) -> 02 | K44: =RIGHT(C44,2) -> 22 | L44: =IF(E44<10,CONCATENATE(0&E44),E44) -> 01 | M44: =CONCATENATE("VT"&I44&J44&K44&L44) -> VT17022201 | N44: WDC hotel Bobigny | O44: 1 | P44: =IF(D44="Sirop",1,IF(D44="Alcool",0.75,0.39)) -> 1 | Q44: =O44*P44 -> 1 | R44: Pamplemousse | S44: 9500
A45: 21 | B45: Février | C45: 2022 | D45: Sirop | E45: 1 | F45: =IF(D45="Sirop",70210000,IF(D45="Alcool",70220000,IF(D45="Confiture",70230000,""))) -> 70210000 | G45: =DATE(C45,H45,A45) -> 44613 | H45: =OFFSET(INDEX('Ne pas toucher'!$B$3:$B$14,MATCH(B45,'Ne pas toucher'!$B$3:$B$14,0)),0,1) -> 2 | I45: =IF(A45<10,CONCATENATE(0&A45),A45) -> 21 | J45: =IF(H45<10,CONCATENATE(0&H45),H45) -> 02 | K45: =RIGHT(C45,2) -> 22 | L45: =IF(E45<10,CONCATENATE(0&E45),E45) -> 01 | M45: =CONCATENATE("VT"&I45&J45&K45&L45) -> VT21022201 | N45: Nelly Baku | O45: 3 | P45: =IF(D45="Sirop",1,IF(D45="Alcool",0.75,0.39)) -> 1 | Q45: =O45*P45 -> 3 | R45: Bissap | S45: 13500
A46: 22 | B46: Février | C46: 2022 | D46: Sirop | E46: 1 | F46: =IF(D46="Sirop",70210000,IF(D46="Alcool",70220000,IF(D46="Confiture",70230000,""))) -> 70210000 | G46: =DATE(C46,H46,A46) -> 44614 | H46: =OFFSET(INDEX('Ne pas toucher'!$B$3:$B$14,MATCH(B46,'Ne pas toucher'!$B$3:$B$14,0)),0,1) -> 2 | I46: =IF(A46<10,CONCATENATE(0&A46),A46) -> 22 | J46: =IF(H46<10,CONCATENATE(0&H46),H46) -> 02 | K46: =RIGHT(C46,2) -> 22 | L46: =IF(E46<10,CONCATENATE(0&E46),E46) -> 01 | M46: =CONCATENATE("VT"&I46&J46&K46&L46) -> VT22022201 | N46: Souleyman | O46: 1 | P46: =IF(D46="Sirop",1,IF(D46="Alcool",0.75,0.39)) -> 1 | Q46: =O46*P46 -> 1 | R46: Gingembre | S46: 5000
A47: 22 | B47: Février | C47: 2022 | D47: Sirop | E47: 1 | F47: =IF(D47="Sirop",70210000,IF(D47="Alcool",70220000,IF(D47="Confiture",70230000,""))) -> 70210000 | G47: =DATE(C47,H47,A47) -> 44614 | H47: =OFFSET(INDEX('Ne pas toucher'!$B$3:$B$14,MATCH(B47,'Ne pas toucher'!$B$3:$B$14,0)),0,1) -> 2 | I47: =IF(A47<10,CONCATENATE(0&A47),A47) -> 22 | J47: =IF(H47<10,CONCATENATE(0&H47),H47) -> 02 | K47: =RIGHT(C47,2) -> 22 | L47: =IF(E47<10,CONCATENATE(0&E47),E47) -> 01 | M47: =CONCATENATE("VT"&I47&J47&K47&L47) -> VT22022201 | N47: Souleyman | O47: 1 | P47: =IF(D47="Sirop",1,IF(D47="Alcool",0.75,0.39)) -> 1 | Q47: =O47*P47 -> 1 | R47: Ananas | S47: 5000
A48: 23 | B48: Février | C48: 2022 | D48: Alcool | E48: 1 | F48: =IF(D48="Sirop",70210000,IF(D48="Alcool",70220000,IF(D48="Confiture",70230000,""))) -> 70220000 | G48: =DATE(C48,H48,A48) -> 44615 | H48: =OFFSET(INDEX('Ne pas toucher'!$B$3:$B$14,MATCH(B48,'Ne pas toucher'!$B$3:$B$14,0)),0,1) -> 2 | I48: =IF(A48<10,CONCATENATE(0&A48),A48) -> 23 | J48: =IF(H48<10,CONCATENATE(0&H48),H48) -> 02 | K48: =RIGHT(C48,2) -> 22 | L48: =IF(E48<10,CONCATENATE(0&E48),E48) -> 01 | M48: =CONCATENATE("VT"&I48&J48&K48&L48) -> VT23022201 | N48: O'CONNOR | O48: 2 | P48: =IF(D48="Sirop",1,IF(D48="Alcool",0.75,0.39)) -> 0.75 | Q48: =O48*P48 -> 1.5 | R48: Macho | S48: 18000
A49: 25 | B49: Février | C49: 2022 | D49: Alcool | E49: 1 | F49: =IF(D49="Sirop",70210000,IF(D49="Alcool",70220000,IF(D49="Confiture",70230000,""))) -> 70220000 | G49: =DATE(C49,H49,A49) -> 44617 | H49: =OFFSET(INDEX('Ne pas toucher'!$B$3:$B$14,MATCH(B49,'Ne pas toucher'!$B$3:$B$14,0)),0,1) -> 2 | I49: =IF(A49<10,CONCATENATE(0&A49),A49) -> 25 | J49: =IF(H49<10,CONCATENATE(0&H49),H49) -> 02 | K49: =RIGHT(C49,2) -> 22 | L49: =IF(E49<10,CONCATENATE(0&E49),E49) -> 01 | M49: =CONCATENATE("VT"&I49&J49&K49&L49) -> VT25022201 | N49: Barney | O49: 2 | P49: =IF(D49="Sirop",1,IF(D49="Alcool",0.75,0.39)) -> 0.75 | Q49: =O49*P49 -> 1.5 | R49: Kaï | S49: 20000
A50: 25 | B50: Février | C50: 2022 | D50: Sirop | E50: 1 | F50: =IF(D50="Sirop",70210000,IF(D50="Alcool",70220000,IF(D50="Confiture",70230000,""))) -> 70210000 | G50: =DATE(C50,H50,A50) -> 44617 | H50: =OFFSET(INDEX('Ne pas toucher'!$B$3:$B$14,MATCH(B50,'Ne pas toucher'!$B$3:$B$14,0)),0,1) -> 2 | I50: =IF(A50<10,CONCATENATE(0&A50),A50) -> 25 | J50: =IF(H50<10,CONCATENATE(0&H50),H50) -> 02 | K50: =RIGHT(C50,2) -> 22 | L50: =IF(E50<10,CONCATENATE(0&E50),E50) -> 01 | M50: =CONCATENATE("VT"&I50&J50&K50&L50) -> VT25022201 | N50: Barney | O50: 1 | P50: =IF(D50="Sirop",1,IF(D50="Alcool",0.75,0.39)) -> 1 | Q50: =O50*P50 -> 1 | R50: Bita cola | S50: 9500
A51: 25 | B51: Février | C51: 2022 | D51: Sirop | E51: 2 | F51: =IF(D51="Sirop",70210000,IF(D51="Alcool",70220000,IF(D51="Confiture",70230000,""))) -> 70210000 | G51: =DATE(C51,H51,A51) -> 44617 | H51: =OFFSET(INDEX('Ne pas toucher'!$B$3:$B$14,MATCH(B51,'Ne pas toucher'!$B$3:$B$14,0)),0,1) -> 2 | I51: =IF(A51<10,CONCATENATE(0&A51),A51) -> 25 | J51: =IF(H51<10,CONCATENATE(0&H51),H51) -> 02 | K51: =RIGHT(C51,2) -> 22 | L51: =IF(E51<10,CONCATENATE(0&E51),E51) -> 02 | M51: =CONCATENATE("VT"&I51&J51&K51&L51) -> VT25022202 | N51: Alida Nantes | O51: 10 | P51: =IF(D51="Sirop",1,IF(D51="Alcool",0.75,0.39)) -> 1 | Q51: =O51*P51 -> 10 | R51: Gingembbre | S51: 45000
A52: 25 | B52: Février | C52: 2022 | D52: Sirop | E52: 2 | F52: =IF(D52="Sirop",70210000,IF(D52="Alcool",70220000,IF(D52="Confiture",70230000,""))) -> 70210000 | G52: =DATE(C52,H52,A52) -> 44617 | H52: =OFFSET(INDEX('Ne pas toucher'!$B$3:$B$14,MATCH(B52,'Ne pas toucher'!$B$3:$B$14,0)),0,1) -> 2 | I52: =IF(A52<10,CONCATENATE(0&A52),A52) -> 25 | J52: =IF(H52<10,CONCATENATE(0&H52),H52) -> 02 | K52: =RIGHT(C52,2) -> 22 | L52: =IF(E52<10,CONCATENATE(0&E52),E52) -> 02 | M52: =CONCATENATE("VT"&I52&J52&K52&L52) -> VT25022202 | N52: Alida Nantes | O52: 7 | P52: =IF(D52="Sirop",1,IF(D52="Alcool",0.75,0.39)) -> 1 | Q52: =O52*P52 -> 7 | R52: Bissap | S52: 30875
... A101: 10 | B101: Mars | C101: 2022 | D101: Sirop | E101: 1 | F101: =IF(D101="Sirop",70210000,IF(D101="Alcool",70220000,IF(D101="Confiture",70230000,""))) -> 70210000 | G101: =DATE(C101,H101,A101) -> 44630 | H101: =OFFSET(INDEX('Ne pas toucher'!$B$3:$B$14,MATCH(B101,'Ne pas toucher'!$B$3:$B$14,0)),0,1) -> 3 | I101: =IF(A101<10,CONCATENATE(0&A101),A101) -> 10 | J101: =IF(H101<10,CONCATENATE(0&H101),H101) -> 03 | K101: =RIGHT(C101,2) -> 22 | L101: =IF(E101<10,CONCATENATE(0&E101),E101) -> 01 | M101: =CONCATENATE("VT"&I101&J101&K101&L101) -> VT10032201 | N101: Dame Jackson | O101: 3 | P101: =IF(D101="Sirop",1,IF(D101="Alcool",0.75,0.39)) -> 1 | Q101: =O101*P101 -> 3 | R101: Bita cola | S101: 28500
A102: 10 | B102: Mars | C102: 2022 | D102: Sirop | E102: 2 | F102: =IF(D102="Sirop",70210000,IF(D102="Alcool",70220000,IF(D102="Confiture",70230000,""))) -> 70210000 | G102: =DATE(C102,H102,A102) -> 44630 | H102: =OFFSET(INDEX('Ne pas toucher'!$B$3:$B$14,MATCH(B102,'Ne pas toucher'!$B$3:$B$14,0)),0,1) -> 3 | I102: =IF(A102<10,CONCATENATE(0&A102),A102) -> 10 | J102: =IF(H102<10,CONCATENATE(0&H102),H102) -> 03 | K102: =RIGHT(C102,2) -> 22 | L102: =IF(E102<10,CONCATENATE(0&E102),E102) -> 02 | M102: =CONCATENATE("VT"&I102&J102&K102&L102) -> VT10032202 | N102: Clarisse TT | O102: 1 | P102: 0.5 | Q102: =O102*P102 -> 0.5 | R102: Menthe | S102: 3000
A103: 10 | B103: Mars | C103: 2022 | D103: Sirop | E103: 2 | F103: =IF(D103="Sirop",70210000,IF(D103="Alcool",70220000,IF(D103="Confiture",70230000,""))) -> 70210000 | G103: =DATE(C103,H103,A103) -> 44630 | H103: =OFFSET(INDEX('Ne pas toucher'!$B$3:$B$14,MATCH(B103,'Ne pas toucher'!$B$3:$B$14,0)),0,1) -> 3 | I103: =IF(A103<10,CONCATENATE(0&A103),A103) -> 10 | J103: =IF(H103<10,CONCATENATE(0&H103),H103) -> 03 | K103: =RIGHT(C103,2) -> 22 | L103: =IF(E103<10,CONCATENATE(0&E103),E103) -> 02 | M103: =CONCATENATE("VT"&I103&J103&K103&L103) -> VT10032202 | N103: Clarisse TT | O103: 1 | P103: 0.5 | Q103: =O103*P103 -> 0.5 | R103: Gingembre | S103: 2500
A104: 10 | B104: Mars | C104: 2022 | D104: Sirop | E104: 2 | F104: =IF(D104="Sirop",70210000,IF(D104="Alcool",70220000,IF(D104="Confiture",70230000,""))) -> 70210000 | G104: =DATE(C104,H104,A104) -> 44630 | H104: =OFFSET(INDEX('Ne pas toucher'!$B$3:$B$14,MATCH(B104,'Ne pas toucher'!$B$3:$B$14,0)),0,1) -> 3 | I104: =IF(A104<10,CONCATENATE(0&A104),A104) -> 10 | J104: =IF(H104<10,CONCATENATE(0&H104),H104) -> 03 | K104: =RIGHT(C104,2) -> 22 | L104: =IF(E104<10,CONCATENATE(0&E104),E104) -> 02 | M104: =CONCATENATE("VT"&I104&J104&K104&L104) -> VT10032202 | N104: Clarisse TT | O104: 1 | P104: 0.5 | Q104: =O104*P104 -> 0.5 | R104: Passion | S104: 3750
A105: 10 | B105: Mars | C105: 2022 | D105: Sirop | E105: 2 | F105: =IF(D105="Sirop",70210000,IF(D105="Alcool",70220000,IF(D105="Confiture",70230000,""))) -> 70210000 | G105: =DATE(C105,H105,A105) -> 44630 | H105: =OFFSET(INDEX('Ne pas toucher'!$B$3:$B$14,MATCH(B105,'Ne pas toucher'!$B$3:$B$14,0)),0,1) -> 3 | I105: =IF(A105<10,CONCATENATE(0&A105),A105) -> 10 | J105: =IF(H105<10,CONCATENATE(0&H105),H105) -> 03 | K105: =RIGHT(C105,2) -> 22 | L105: =IF(E105<10,CONCATENATE(0&E105),E105) -> 02 | M105: =CONCATENATE("VT"&I105&J105&K105&L105) -> VT10032202 | N105: Clarisse TT | O105: 1 | P105: 0.5 | Q105: =O105*P105 -> 0.5 | R105: Citron | S105: 3750
A106: 10 | B106: Mars | C106: 2022 | D106: Alcool | E106: 2 | F106: =IF(D106="Sirop",70210000,IF(D106="Alcool",70220000,IF(D106="Confiture",70230000,""))) -> 70220000 | G106: =DATE(C106,H106,A106) -> 44630 | H106: =OFFSET(INDEX('Ne pas toucher'!$B$3:$B$14,MATCH(B106,'Ne pas toucher'!$B$3:$B$14,0)),0,1) -> 3 | I106: =IF(A106<10,CONCATENATE(0&A106),A106) -> 10 | J106: =IF(H106<10,CONCATENATE(0&H106),H106) -> 03 | K106: =RIGHT(C106,2) -> 22 | L106: =IF(E106<10,CONCATENATE(0&E106),E106) -> 02 | M106: =CONCATENATE("VT"&I106&J106&K106&L106) -> VT10032202 | N106: Clarisse TT | O106: 1 | P106: =IF(D106="Sirop",1,IF(D106="Alcool",0.75,0.39)) -> 0.75 | Q106: =O106*P106 -> 0.75 | R106: Lemonchello | S106: 10000
A107: 10 | B107: Mars | C107: 2022 | D107: Alcool | E107: 2 | F107: =IF(D107="Sirop",70210000,IF(D107="Alcool",70220000,IF(D107="Confiture",70230000,""))) -> 70220000 | G107: =DATE(C107,H107,A107) -> 44630 | H107: =OFFSET(INDEX('Ne pas toucher'!$B$3:$B$14,MATCH(B107,'Ne pas toucher'!$B$3:$B$14,0)),0,1) -> 3 | I107: =IF(A107<10,CONCATENATE(0&A107),A107) -> 10 | J107: =IF(H107<10,CONCATENATE(0&H107),H107) -> 03 | K107: =RIGHT(C107,2) -> 22 | L107: =IF(E107<10,CONCATENATE(0&E107),E107) -> 02 | M107: =CONCATENATE("VT"&I107&J107&K107&L107) -> VT10032202 | N107: Clarisse TT | O107: 6 | P107: =IF(D107="Sirop",1,IF(D107="Alcool",0.75,0.39)) -> 0.75 | Q107: =O107*P107 -> 4.5 | R107: Sangria | S107: 24000
A108: 11 | B108: Mars | C108: 2022 | D108: Sirop | E108: 1 | F108: =IF(D108="Sirop",70210000,IF(D108="Alcool",70220000,IF(D108="Confiture",70230000,""))) -> 70210000 | G108: =DATE(C108,H108,A108) -> 44631 | H108: =OFFSET(INDEX('Ne pas toucher'!$B$3:$B$14,MATCH(B108,'Ne pas toucher'!$B$3:$B$14,0)),0,1) -> 3 | I108: =IF(A108<10,CONCATENATE(0&A108),A108) -> 11 | J108: =IF(H108<10,CONCATENATE(0&H108),H108) -> 03 | K108: =RIGHT(C108,2) -> 22 | L108: =IF(E108<10,CONCATENATE(0&E108),E108) -> 01 | M108: =CONCATENATE("VT"&I108&J108&K108&L108) -> VT11032201 | N108: Armand Niantcho | O108: 1 | P108: =IF(D108="Sirop",1,IF(D108="Alcool",0.75,0.39)) -> 1 | Q108: =O108*P108 -> 1 | R108: Bita cola | S108: 9500
A109: 11 | B109: Mars | C109: 2022 | D109: Sirop | E109: 2 | F109: =IF(D109="Sirop",70210000,IF(D109="Alcool",70220000,IF(D109="Confiture",70230000,""))) -> 70210000 | G109: =DATE(C109,H109,A109) -> 44631 | H109: =OFFSET(INDEX('Ne pas toucher'!$B$3:$B$14,MATCH(B109,'Ne pas toucher'!$B$3:$B$14,0)),0,1) -> 3 | I109: =IF(A109<10,CONCATENATE(0&A109),A109) -> 11 | J109: =IF(H109<10,CONCATENATE(0&H109),H109) -> 03 | K109: =RIGHT(C109,2) -> 22 | L109: =IF(E109<10,CONCATENATE(0&E109),E109) -> 02 | M109: =CONCATENATE("VT"&I109&J109&K109&L109) -> VT11032202 | N109: Koffi | O109: 1 | P109: =IF(D109="Sirop",1,IF(D109="Alcool",0.75,0.39)) -> 1 | Q109: =O109*P109 -> 1 | R109: Bita cola | S109: 9500
A110: 11 | B110: Mars | C110: 2022 | D110: Sirop | E110: 3 | F110: =IF(D110="Sirop",70210000,IF(D110="Alcool",70220000,IF(D110="Confiture",70230000,""))) -> 70210000 | G110: =DATE(C110,H110,A110) -> 44631 | H110: =OFFSET(INDEX('Ne pas toucher'!$B$3:$B$14,MATCH(B110,'Ne pas toucher'!$B$3:$B$14,0)),0,1) -> 3 | I110: =IF(A110<10,CONCATENATE(0&A110),A110) -> 11 | J110: =IF(H110<10,CONCATENATE(0&H110),H110) -> 03 | K110: =RIGHT(C110,2) -> 22 | L110: =IF(E110<10,CONCATENATE(0&E110),E110) -> 03 | M110: =CONCATENATE("VT"&I110&J110&K110&L110) -> VT11032203 | N110: Winnie Koller | O110: 1 | P110: =IF(D110="Sirop",1,IF(D110="Alcool",0.75,0.39)) -> 1 | Q110: =O110*P110 -> 1 | R110: Passion | S110: 6500
A111: 11 | B111: Mars | C111: 2022 | D111: Sirop | E111: 4 | F111: =IF(D111="Sirop",70210000,IF(D111="Alcool",70220000,IF(D111="Confiture",70230000,""))) -> 70210000 | G111: =DATE(C111,H111,A111) -> 44631 | H111: =OFFSET(INDEX('Ne pas toucher'!$B$3:$B$14,MATCH(B111,'Ne pas toucher'!$B$3:$B$14,0)),0,1) -> 3 | I111: =IF(A111<10,CONCATENATE(0&A111),A111) -> 11 | J111: =IF(H111<10,CONCATENATE(0&H111),H111) -> 03 | K111: =RIGHT(C111,2) -> 22 | L111: =IF(E111<10,CONCATENATE(0&E111),E111) -> 04 | M111: =CONCATENATE("VT"&I111&J111&K111&L111) -> VT11032204 | N111: Tchat | O111: 2 | P111: =IF(D111="Sirop",1,IF(D111="Alcool",0.75,0.39)) -> 1 | Q111: =O111*P111 -> 2 | R111: Sangria | S111: 7000
A112: 11 | B112: Mars | C112: 2022 | D112: Sirop | E112: 5 | F112: =IF(D112="Sirop",70210000,IF(D112="Alcool",70220000,IF(D112="Confiture",70230000,""))) -> 70210000 | G112: =DATE(C112,H112,A112) -> 44631 | H112: =OFFSET(INDEX('Ne pas toucher'!$B$3:$B$14,MATCH(B112,'Ne pas toucher'!$B$3:$B$14,0)),0,1) -> 3 | I112: =IF(A112<10,CONCATENATE(0&A112),A112) -> 11 | J112: =IF(H112<10,CONCATENATE(0&H112),H112) -> 03 | K112: =RIGHT(C112,2) -> 22 | L112: =IF(E112<10,CONCATENATE(0&E112),E112) -> 05 | M112: =CONCATENATE("VT"&I112&J112&K112&L112) -> VT11032205 | N112: Didie | O112: 1 | P112: 0.3 | Q112: =O112*P112 -> 0.3 | R112: Bita cola | S112: 2500
A113: 11 | B113: Mars | C113: 2022 | D113: Sirop | E113: 6 | F113: =IF(D113="Sirop",70210000,IF(D113="Alcool",70220000,IF(D113="Confiture",70230000,""))) -> 70210000 | G113: =DATE(C113,H113,A113) -> 44631 | H113: =OFFSET(INDEX('Ne pas toucher'!$B$3:$B$14,MATCH(B113,'Ne pas toucher'!$B$3:$B$14,0)),0,1) -> 3 | I113: =IF(A113<10,CONCATENATE(0&A113),A113) -> 11 | J113: =IF(H113<10,CONCATENATE(0&H113),H113) -> 03 | K113: =RIGHT(C113,2) -> 22 | L113: =IF(E113<10,CONCATENATE(0&E113),E113) -> 06 | M113: =CONCATENATE("VT"&I113&J113&K113&L113) -> VT11032206 | N113: Hermine Boucher | O113: 1 | P113: =IF(D113="Sirop",1,IF(D113="Alcool",0.75,0.39)) -> 1 | Q113: =O113*P113 -> 1 | R113: Pomme cythère | S113: 5000
A114: 12 | B114: Mars | C114: 2022 | D114: Sirop | E114: 1 | F114: =IF(D114="Sirop",70210000,IF(D114="Alcool",70220000,IF(D114="Confiture",70230000,""))) -> 70210000 | G114: =DATE(C114,H114,A114) -> 44632 | H114: =OFFSET(INDEX('Ne pas toucher'!$B$3:$B$14,MATCH(B114,'Ne pas toucher'!$B$3:$B$14,0)),0,1) -> 3 | I114: =IF(A114<10,CONCATENATE(0&A114),A114) -> 12 | J114: =IF(H114<10,CONCATENATE(0&H114),H114) -> 03 | K114: =RIGHT(C114,2) -> 22 | L114: =IF(E114<10,CONCATENATE(0&E114),E114) -> 01 | M114: =CONCATENATE("VT"&I114&J114&K114&L114) -> VT12032201 | N114: Quiet Storm | O114: 1 | P114: =IF(D114="Sirop",1,IF(D114="Alcool",0.75,0.39)) -> 1 | Q114: =O114*P114 -> 1 | R114: Corossol | S114: 5850
A115: 12 | B115: Mars | C115: 2022 | D115: Sirop | E115: 1 | F115: =IF(D115="Sirop",70210000,IF(D115="Alcool",70220000,IF(D115="Confiture",70230000,""))) -> 70210000 | G115: =DATE(C115,H115,A115) -> 44632 | H115: =OFFSET(INDEX('Ne pas toucher'!$B$3:$B$14,MATCH(B115,'Ne pas toucher'!$B$3:$B$14,0)),0,1) -> 3 | I115: =IF(A115<10,CONCATENATE(0&A115),A115) -> 12 | J115: =IF(H115<10,CONCATENATE(0&H115),H115) -> 03 | K115: =RIGHT(C115,2) -> 22 | L115: =IF(E115<10,CONCATENATE(0&E115),E115) -> 01 | M115: =CONCATENATE("VT"&I115&J115&K115&L115) -> VT12032201 | N115: Quiet Storm | O115: 1 | P115: =IF(D115="Sirop",1,IF(D115="Alcool",0.75,0.39)) -> 1 | Q115: =O115*P115 -> 1 | R115: Passion | S115: 5850
A116: 14 | B116: Mars | C116: 2022 | D116: Sirop | E116: 1 | F116: =IF(D116="Sirop",70210000,IF(D116="Alcool",70220000,IF(D116="Confiture",70230000,""))) -> 70210000 | G116: =DATE(C116,H116,A116) -> 44634 | H116: =OFFSET(INDEX('Ne pas toucher'!$B$3:$B$14,MATCH(B116,'Ne pas toucher'!$B$3:$B$14,0)),0,1) -> 3 | I116: =IF(A116<10,CONCATENATE(0&A116),A116) -> 14 | J116: =IF(H116<10,CONCATENATE(0&H116),H116) -> 03 | K116: =RIGHT(C116,2) -> 22 | L116: =IF(E116<10,CONCATENATE(0&E116),E116) -> 01 | M116: =CONCATENATE("VT"&I116&J116&K116&L116) -> VT14032201 | N116: Mamie Hortense | O116: 1 | P116: =IF(D116="Sirop",1,IF(D116="Alcool",0.75,0.39)) -> 1 | Q116: =O116*P116 -> 1 | R116: Cannelle | S116: 9500
A117: 14 | B117: Mars | C117: 2022 | D117: Sirop | E117: 2 | F117: =IF(D117="Sirop",70210000,IF(D117="Alcool",70220000,IF(D117="Confiture",70230000,""))) -> 70210000 | G117: =DATE(C117,H117,A117) -> 44634 | H117: =OFFSET(INDEX('Ne pas toucher'!$B$3:$B$14,MATCH(B117,'Ne pas toucher'!$B$3:$B$14,0)),0,1) -> 3 | I117: =IF(A117<10,CONCATENATE(0&A117),A117) -> 14 | J117: =IF(H117<10,CONCATENATE(0&H117),H117) -> 03 | K117: =RIGHT(C117,2) -> 22 | L117: =IF(E117<10,CONCATENATE(0&E117),E117) -> 02 | M117: =CONCATENATE("VT"&I117&J117&K117&L117) -> VT14032202 | N117: Crystal Palace | O117: 20 | P117: =IF(D117="Sirop",1,IF(D117="Alcool",0.75,0.39)) -> 1 | Q117: =O117*P117 -> 20 | R117: Corossol | S117: 123500
A118: 14 | B118: Mars | C118: 2022 | D118: Sirop | E118: 2 | F118: =IF(D118="Sirop",70210000,IF(D118="Alcool",70220000,IF(D118="Confiture",70230000,""))) -> 70210000 | G118: =DATE(C118,H118,A118) -> 44634 | H118: =OFFSET(INDEX('Ne pas toucher'!$B$3:$B$14,MATCH(B118,'Ne pas toucher'!$B$3:$B$14,0)),0,1) -> 3 | I118: =IF(A118<10,CONCATENATE(0&A118),A118) -> 14 | J118: =IF(H118<10,CONCATENATE(0&H118),H118) -> 03 | K118: =RIGHT(C118,2) -> 22 | L118: =IF(E118<10,CONCATENATE(0&E118),E118) -> 02 | M118: =CONCATENATE("VT"&I118&J118&K118&L118) -> VT14032202 | N118: Crystal Palace | O118: 20 | P118: =IF(D118="Sirop",1,IF(D118="Alcool",0.75,0.39)) -> 1 | Q118: =O118*P118 -> 20 | R118: Gingemnbre | S118: 79800
A119: 15 | B119: Mars | C119: 2022 | D119: Alcool | E119: 1 | F119: =IF(D119="Sirop",70210000,IF(D119="Alcool",70220000,IF(D119="Confiture",70230000,""))) -> 70220000 | G119: =DATE(C119,H119,A119) -> 44635 | H119: =OFFSET(INDEX('Ne pas toucher'!$B$3:$B$14,MATCH(B119,'Ne pas toucher'!$B$3:$B$14,0)),0,1) -> 3 | I119: =IF(A119<10,CONCATENATE(0&A119),A119) -> 15 | J119: =IF(H119<10,CONCATENATE(0&H119),H119) -> 03 | K119: =RIGHT(C119,2) -> 22 | L119: =IF(E119<10,CONCATENATE(0&E119),E119) -> 01 | M119: =CONCATENATE("VT"&I119&J119&K119&L119) -> VT15032201 | N119: O'CONNOR | O119: 4 | P119: =IF(D119="Sirop",1,IF(D119="Alcool",0.75,0.39)) -> 0.75 | Q119: =O119*P119 -> 3 | R119: Sangria | S119: 12600
A120: 15 | B120: Mars | C120: 2022 | D120: Sirop | E120: 2 | F120: =IF(D120="Sirop",70210000,IF(D120="Alcool",70220000,IF(D120="Confiture",70230000,""))) -> 70210000 | G120: =DATE(C120,H120,A120) -> 44635 | H120: =OFFSET(INDEX('Ne pas toucher'!$B$3:$B$14,MATCH(B120,'Ne pas toucher'!$B$3:$B$14,0)),0,1) -> 3 | I120: =IF(A120<10,CONCATENATE(0&A120),A120) -> 15 | J120: =IF(H120<10,CONCATENATE(0&H120),H120) -> 03 | K120: =RIGHT(C120,2) -> 22 | L120: =IF(E120<10,CONCATENATE(0&E120),E120) -> 02 | M120: =CONCATENATE("VT"&I120&J120&K120&L120) -> VT15032202 | N120: Coffret bio | O120: 2 | P120: =IF(D120="Sirop",1,IF(D120="Alcool",0.75,0.39)) -> 1 | Q120: =O120*P120 -> 2 | R120: Gingembre | S120: 8500
A121: 15 | B121: Mars | C121: 2022 | D121: Sirop | E121: 2 | F121: =IF(D121="Sirop",70210000,IF(D121="Alcool",70220000,IF(D121="Confiture",70230000,""))) -> 70210000 | G121: =DATE(C121,H121,A121) -> 44635 | H121: =OFFSET(INDEX('Ne pas toucher'!$B$3:$B$14,MATCH(B121,'Ne pas toucher'!$B$3:$B$14,0)),0,1) -> 3 | I121: =IF(A121<10,CONCATENATE(0&A121),A121) -> 15 | J121: =IF(H121<10,CONCATENATE(0&H121),H121) -> 03 | K121: =RIGHT(C121,2) -> 22 | L121: =IF(E121<10,CONCATENATE(0&E121),E121) -> 02 | M121: =CONCATENATE("VT"&I121&J121&K121&L121) -> VT15032202 | N121: Coffret bio | O121: 3 | P121: =IF(D121="Sirop",1,IF(D121="Alcool",0.75,0.39)) -> 1 | Q121: =O121*P121 -> 3 | R121: Corossol | S121: 16575
A122: 15 | B122: Mars | C122: 2022 | D122: Sirop | E122: 2 | F122: =IF(D122="Sirop",70210000,IF(D122="Alcool",70220000,IF(D122="Confiture",70230000,""))) -> 70210000 | G122: =DATE(C122,H122,A122) -> 44635 | H122: =OFFSET(INDEX('Ne pas toucher'!$B$3:$B$14,MATCH(B122,'Ne pas toucher'!$B$3:$B$14,0)),0,1) -> 3 | I122: =IF(A122<10,CONCATENATE(0&A122),A122) -> 15 | J122: =IF(H122<10,CONCATENATE(0&H122),H122) -> 03 | K122: =RIGHT(C122,2) -> 22 | L122: =IF(E122<10,CONCATENATE(0&E122),E122) -> 02 | M122: =CONCATENATE("VT"&I122&J122&K122&L122) -> VT15032202 | N122: Coffret bio | O122: 1 | P122: =IF(D122="Sirop",1,IF(D122="Alcool",0.75,0.39)) -> 1 | Q122: =O122*P122 -> 1 | R122: Passion | S122: 5525
A123: 15 | B123: Mars | C123: 2022 | D123: Sirop | E123: 2 | F123: =IF(D123="Sirop",70210000,IF(D123="Alcool",70220000,IF(D123="Confiture",70230000,""))) -> 70210000 | G123: =DATE(C123,H123,A123) -> 44635 | H123: =OFFSET(INDEX('Ne pas toucher'!$B$3:$B$14,MATCH(B123,'Ne pas toucher'!$B$3:$B$14,0)),0,1) -> 3 | I123: =IF(A123<10,CONCATENATE(0&A123),A123) -> 15 | J123: =IF(H123<10,CONCATENATE(0&H123),H123) -> 03 | K123: =RIGHT(C123,2) -> 22 | L123: =IF(E123<10,CONCATENATE(0&E123),E123) -> 02 | M123: =CONCATENATE("VT"&I123&J123&K123&L123) -> VT15032202 | N123: Coffret bio | O123: 1 | P123: =IF(D123="Sirop",1,IF(D123="Alcool",0.75,0.39)) -> 1 | Q123: =O123*P123 -> 1 | R123: Citron | S123: 5525
A124: 19 | B124: Mars | C124: 2022 | D124: Sirop | E124: 1 | F124: =IF(D124="Sirop",70210000,IF(D124="Alcool",70220000,IF(D124="Confiture",70230000,""))) -> 70210000 | G124: =DATE(C124,H124,A124) -> 44639 | H124: =OFFSET(INDEX('Ne pas toucher'!$B$3:$B$14,MATCH(B124,'Ne pas toucher'!$B$3:$B$14,0)),0,1) -> 3 | I124: =IF(A124<10,CONCATENATE(0&A124),A124) -> 19 | J124: =IF(H124<10,CONCATENATE(0&H124),H124) -> 03 | K124: =RIGHT(C124,2) -> 22 | L124: =IF(E124<10,CONCATENATE(0&E124),E124) -> 01 | M124: =CONCATENATE("VT"&I124&J124&K124&L124) -> VT19032201 | N124: Annette Gilot | O124: 2 | P124: =IF(D124="Sirop",1,IF(D124="Alcool",0.75,0.39)) -> 1 | Q124: =O124*P124 -> 2 | R124: Passion | S124: 13000
... A167: 7 | B167: Avril | C167: 2022 | D167: Sirop | E167: 1 | F167: =IF(D167="Sirop",70210000,IF(D167="Alcool",70220000,IF(D167="Confiture",70230000,""))) -> 70210000 | G167: =DATE(C167,H167,A167) -> 44658 | H167: =OFFSET(INDEX('Ne pas toucher'!$B$3:$B$14,MATCH(B167,'Ne pas toucher'!$B$3:$B$14,0)),0,1) -> 4 | I167: =IF(A167<10,CONCATENATE(0&A167),A167) -> 07 | J167: =IF(H167<10,CONCATENATE(0&H167),H167) -> 04 | K167: =RIGHT(C167,2) -> 22 | L167: =IF(E167<10,CONCATENATE(0&E167),E167) -> 01 | M167: =CONCATENATE("VT"&I167&J167&K167&L167) -> VT07042201 | N167: Ebenezer DHL | O167: 1 | P167: =IF(D167="Sirop",1,IF(D167="Alcool",0.75,0.39)) -> 1 | Q167: =O167*P167 -> 1 | R167: Gingembre | S167: 5000
A168: 7 | B168: Avril | C168: 2022 | D168: Sirop | E168: 2 | F168: =IF(D168="Sirop",70210000,IF(D168="Alcool",70220000,IF(D168="Confiture",70230000,""))) -> 70210000 | G168: =DATE(C168,H168,A168) -> 44658 | H168: =OFFSET(INDEX('Ne pas toucher'!$B$3:$B$14,MATCH(B168,'Ne pas toucher'!$B$3:$B$14,0)),0,1) -> 4 | I168: =IF(A168<10,CONCATENATE(0&A168),A168) -> 07 | J168: =IF(H168<10,CONCATENATE(0&H168),H168) -> 04 | K168: =RIGHT(C168,2) -> 22 | L168: =IF(E168<10,CONCATENATE(0&E168),E168) -> 02 | M168: =CONCATENATE("VT"&I168&J168&K168&L168) -> VT07042202 | N168: Natura | O168: 3 | P168: 0.7 | Q168: =O168*P168 -> 2.1 | R168: Passion | S168: 12000
A169: 7 | B169: Avril | C169: 2022 | D169: Sirop | E169: 2 | F169: =IF(D169="Sirop",70210000,IF(D169="Alcool",70220000,IF(D169="Confiture",70230000,""))) -> 70210000 | G169: =DATE(C169,H169,A169) -> 44658 | H169: =OFFSET(INDEX('Ne pas toucher'!$B$3:$B$14,MATCH(B169,'Ne pas toucher'!$B$3:$B$14,0)),0,1) -> 4 | I169: =IF(A169<10,CONCATENATE(0&A169),A169) -> 07 | J169: =IF(H169<10,CONCATENATE(0&H169),H169) -> 04 | K169: =RIGHT(C169,2) -> 22 | L169: =IF(E169<10,CONCATENATE(0&E169),E169) -> 02 | M169: =CONCATENATE("VT"&I169&J169&K169&L169) -> VT07042202 | N169: Natura | O169: 3 | P169: =IF(D169="Sirop",1,IF(D169="Alcool",0.75,0.39)) -> 1 | Q169: =O169*P169 -> 3 | R169: Mangue | S169: 9600
A170: 7 | B170: Avril | C170: 2022 | D170: Sirop | E170: 2 | F170: =IF(D170="Sirop",70210000,IF(D170="Alcool",70220000,IF(D170="Confiture",70230000,""))) -> 70210000 | G170: =DATE(C170,H170,A170) -> 44658 | H170: =OFFSET(INDEX('Ne pas toucher'!$B$3:$B$14,MATCH(B170,'Ne pas toucher'!$B$3:$B$14,0)),0,1) -> 4 | I170: =IF(A170<10,CONCATENATE(0&A170),A170) -> 07 | J170: =IF(H170<10,CONCATENATE(0&H170),H170) -> 04 | K170: =RIGHT(C170,2) -> 22 | L170: =IF(E170<10,CONCATENATE(0&E170),E170) -> 02 | M170: =CONCATENATE("VT"&I170&J170&K170&L170) -> VT07042202 | N170: Natura | O170: 3 | P170: =IF(D170="Sirop",1,IF(D170="Alcool",0.75,0.39)) -> 1 | Q170: =O170*P170 -> 3 | R170: Menthe | S170: 10800
A171: 7 | B171: Avril | C171: 2022 | D171: Sirop | E171: 3 | F171: =IF(D171="Sirop",70210000,IF(D171="Alcool",70220000,IF(D171="Confiture",70230000,""))) -> 70210000 | G171: =DATE(C171,H171,A171) -> 44658 | H171: =OFFSET(INDEX('Ne pas toucher'!$B$3:$B$14,MATCH(B171,'Ne pas toucher'!$B$3:$B$14,0)),0,1) -> 4 | I171: =IF(A171<10,CONCATENATE(0&A171),A171) -> 07 | J171: =IF(H171<10,CONCATENATE(0&H171),H171) -> 04 | K171: =RIGHT(C171,2) -> 22 | L171: =IF(E171<10,CONCATENATE(0&E171),E171) -> 03 | M171: =CONCATENATE("VT"&I171&J171&K171&L171) -> VT07042203 | N171: Jinx Hotel | O171: 3 | P171: =IF(D171="Sirop",1,IF(D171="Alcool",0.75,0.39)) -> 1 | Q171: =O171*P171 -> 3 | R171: Passion | S171: 19500
A172: 7 | B172: Avril | C172: 2022 | D172: Sirop | E172: 3 | F172: =IF(D172="Sirop",70210000,IF(D172="Alcool",70220000,IF(D172="Confiture",70230000,""))) -> 70210000 | G172: =DATE(C172,H172,A172) -> 44658 | H172: =OFFSET(INDEX('Ne pas toucher'!$B$3:$B$14,MATCH(B172,'Ne pas toucher'!$B$3:$B$14,0)),0,1) -> 4 | I172: =IF(A172<10,CONCATENATE(0&A172),A172) -> 07 | J172: =IF(H172<10,CONCATENATE(0&H172),H172) -> 04 | K172: =RIGHT(C172,2) -> 22 | L172: =IF(E172<10,CONCATENATE(0&E172),E172) -> 03 | M172: =CONCATENATE("VT"&I172&J172&K172&L172) -> VT07042203 | N172: Jinx Hotel | O172: 1 | P172: =IF(D172="Sirop",1,IF(D172="Alcool",0.75,0.39)) -> 1 | Q172: =O172*P172 -> 1 | R172: Menthe | S172: 6000
A173: 7 | B173: Avril | C173: 2022 | D173: Sirop | E173: 3 | F173: =IF(D173="Sirop",70210000,IF(D173="Alcool",70220000,IF(D173="Confiture",70230000,""))) -> 70210000 | G173: =DATE(C173,H173,A173) -> 44658 | H173: =OFFSET(INDEX('Ne pas toucher'!$B$3:$B$14,MATCH(B173,'Ne pas toucher'!$B$3:$B$14,0)),0,1) -> 4 | I173: =IF(A173<10,CONCATENATE(0&A173),A173) -> 07 | J173: =IF(H173<10,CONCATENATE(0&H173),H173) -> 04 | K173: =RIGHT(C173,2) -> 22 | L173: =IF(E173<10,CONCATENATE(0&E173),E173) -> 03 | M173: =CONCATENATE("VT"&I173&J173&K173&L173) -> VT07042203 | N173: Jinx Hotel | O173: 2 | P173: =IF(D173="Sirop",1,IF(D173="Alcool",0.75,0.39)) -> 1 | Q173: =O173*P173 -> 2 | R173: Coco | S173: 19000
A174: 7 | B174: Avril | C174: 2022 | D174: Sirop | E174: 3 | F174: =IF(D174="Sirop",70210000,IF(D174="Alcool",70220000,IF(D174="Confiture",70230000,""))) -> 70210000 | G174: =DATE(C174,H174,A174) -> 44658 | H174: =OFFSET(INDEX('Ne pas toucher'!$B$3:$B$14,MATCH(B174,'Ne pas toucher'!$B$3:$B$14,0)),0,1) -> 4 | I174: =IF(A174<10,CONCATENATE(0&A174),A174) -> 07 | J174: =IF(H174<10,CONCATENATE(0&H174),H174) -> 04 | K174: =RIGHT(C174,2) -> 22 | L174: =IF(E174<10,CONCATENATE(0&E174),E174) -> 03 | M174: =CONCATENATE("VT"&I174&J174&K174&L174) -> VT07042203 | N174: Jinx Hotel | O174: 2 | P174: =IF(D174="Sirop",1,IF(D174="Alcool",0.75,0.39)) -> 1 | Q174: =O174*P174 -> 2 | R174: Pomme cythère | S174: 10000
A175: 7 | B175: Avril | C175: 2022 | D175: Sirop | E175: 3 | F175: =IF(D175="Sirop",70210000,IF(D175="Alcool",70220000,IF(D175="Confiture",70230000,""))) -> 70210000 | G175: =DATE(C175,H175,A175) -> 44658 | H175: =OFFSET(INDEX('Ne pas toucher'!$B$3:$B$14,MATCH(B175,'Ne pas toucher'!$B$3:$B$14,0)),0,1) -> 4 | I175: =IF(A175<10,CONCATENATE(0&A175),A175) -> 07 | J175: =IF(H175<10,CONCATENATE(0&H175),H175) -> 04 | K175: =RIGHT(C175,2) -> 22 | L175: =IF(E175<10,CONCATENATE(0&E175),E175) -> 03 | M175: =CONCATENATE("VT"&I175&J175&K175&L175) -> VT07042203 | N175: Jinx Hotel | O175: 1 | P175: =IF(D175="Sirop",1,IF(D175="Alcool",0.75,0.39)) -> 1 | Q175: =O175*P175 -> 1 | R175: Caramel | S175: 5000
A176: 8 | B176: Avril | C176: 2022 | D176: Sirop | E176: 1 | F176: =IF(D176="Sirop",70210000,IF(D176="Alcool",70220000,IF(D176="Confiture",70230000,""))) -> 70210000 | G176: =DATE(C176,H176,A176) -> 44659 | H176: =OFFSET(INDEX('Ne pas toucher'!$B$3:$B$14,MATCH(B176,'Ne pas toucher'!$B$3:$B$14,0)),0,1) -> 4 | I176: =IF(A176<10,CONCATENATE(0&A176),A176) -> 08 | J176: =IF(H176<10,CONCATENATE(0&H176),H176) -> 04 | K176: =RIGHT(C176,2) -> 22 | L176: =IF(E176<10,CONCATENATE(0&E176),E176) -> 01 | M176: =CONCATENATE("VT"&I176&J176&K176&L176) -> VT08042201 | N176: Ocon | O176: 3 | P176: =IF(D176="Sirop",1,IF(D176="Alcool",0.75,0.39)) -> 1 | Q176: =O176*P176 -> 3 | R176: Bita cola | S176: 25500
A177: 8 | B177: Avril | C177: 2022 | D177: Sirop | E177: 2 | F177: =IF(D177="Sirop",70210000,IF(D177="Alcool",70220000,IF(D177="Confiture",70230000,""))) -> 70210000 | G177: =DATE(C177,H177,A177) -> 44659 | H177: =OFFSET(INDEX('Ne pas toucher'!$B$3:$B$14,MATCH(B177,'Ne pas toucher'!$B$3:$B$14,0)),0,1) -> 4 | I177: =IF(A177<10,CONCATENATE(0&A177),A177) -> 08 | J177: =IF(H177<10,CONCATENATE(0&H177),H177) -> 04 | K177: =RIGHT(C177,2) -> 22 | L177: =IF(E177<10,CONCATENATE(0&E177),E177) -> 02 | M177: =CONCATENATE("VT"&I177&J177&K177&L177) -> VT08042202 | N177: Vanessa Extraits | O177: 1 | P177: =IF(D177="Sirop",1,IF(D177="Alcool",0.75,0.39)) -> 1 | Q177: =O177*P177 -> 1 | R177: Bita cola | S177: 9500
A178: 8 | B178: Avril | C178: 2022 | D178: Sirop | E178: 2 | F178: =IF(D178="Sirop",70210000,IF(D178="Alcool",70220000,IF(D178="Confiture",70230000,""))) -> 70210000 | G178: =DATE(C178,H178,A178) -> 44659 | H178: =OFFSET(INDEX('Ne pas toucher'!$B$3:$B$14,MATCH(B178,'Ne pas toucher'!$B$3:$B$14,0)),0,1) -> 4 | I178: =IF(A178<10,CONCATENATE(0&A178),A178) -> 08 | J178: =IF(H178<10,CONCATENATE(0&H178),H178) -> 04 | K178: =RIGHT(C178,2) -> 22 | L178: =IF(E178<10,CONCATENATE(0&E178),E178) -> 02 | M178: =CONCATENATE("VT"&I178&J178&K178&L178) -> VT08042202 | N178: Vanessa Extraits | O178: 6 | P178: 0.3 | Q178: =O178*P178 -> 1.8 | R178: Bita cola | S178: 19500
A179: 8 | B179: Avril | C179: 2022 | D179: Sirop | E179: 3 | F179: =IF(D179="Sirop",70210000,IF(D179="Alcool",70220000,IF(D179="Confiture",70230000,""))) -> 70210000 | G179: =DATE(C179,H179,A179) -> 44659 | H179: =OFFSET(INDEX('Ne pas toucher'!$B$3:$B$14,MATCH(B179,'Ne pas toucher'!$B$3:$B$14,0)),0,1) -> 4 | I179: =IF(A179<10,CONCATENATE(0&A179),A179) -> 08 | J179: =IF(H179<10,CONCATENATE(0&H179),H179) -> 04 | K179: =RIGHT(C179,2) -> 22 | L179: =IF(E179<10,CONCATENATE(0&E179),E179) -> 03 | M179: =CONCATENATE("VT"&I179&J179&K179&L179) -> VT08042203 | N179: Laure | O179: 1 | P179: =IF(D179="Sirop",1,IF(D179="Alcool",0.75,0.39)) -> 1 | Q179: =O179*P179 -> 1 | R179: Coco | S179: 9500
A180: 8 | B180: Avril | C180: 2022 | D180: Sirop | E180: 3 | F180: =IF(D180="Sirop",70210000,IF(D180="Alcool",70220000,IF(D180="Confiture",70230000,""))) -> 70210000 | G180: =DATE(C180,H180,A180) -> 44659 | H180: =OFFSET(INDEX('Ne pas toucher'!$B$3:$B$14,MATCH(B180,'Ne pas toucher'!$B$3:$B$14,0)),0,1) -> 4 | I180: =IF(A180<10,CONCATENATE(0&A180),A180) -> 08 | J180: =IF(H180<10,CONCATENATE(0&H180),H180) -> 04 | K180: =RIGHT(C180,2) -> 22 | L180: =IF(E180<10,CONCATENATE(0&E180),E180) -> 03 | M180: =CONCATENATE("VT"&I180&J180&K180&L180) -> VT08042203 | N180: Laure | O180: 1 | P180: =IF(D180="Sirop",1,IF(D180="Alcool",0.75,0.39)) -> 1 | Q180: =O180*P180 -> 1 | R180: Bita cola | S180: 9500
A181: 9 | B181: Avril | C181: 2022 | D181: Alcool | E181: 1 | F181: =IF(D181="Sirop",70210000,IF(D181="Alcool",70220000,IF(D181="Confiture",70230000,""))) -> 70220000 | G181: =DATE(C181,H181,A181) -> 44660 | H181: =OFFSET(INDEX('Ne pas toucher'!$B$3:$B$14,MATCH(B181,'Ne pas toucher'!$B$3:$B$14,0)),0,1) -> 4 | I181: =IF(A181<10,CONCATENATE(0&A181),A181) -> 09 | J181: =IF(H181<10,CONCATENATE(0&H181),H181) -> 04 | K181: =RIGHT(C181,2) -> 22 | L181: =IF(E181<10,CONCATENATE(0&E181),E181) -> 01 | M181: =CONCATENATE("VT"&I181&J181&K181&L181) -> VT09042201 | N181: Linda Knowles | O181: 1 | P181: 0.25 | Q181: =O181*P181 -> 0.25 | R181: Lemonchello | S181: 4200
A182: 9 | B182: Avril | C182: 2022 | D182: Alcool | E182: 1 | F182: =IF(D182="Sirop",70210000,IF(D182="Alcool",70220000,IF(D182="Confiture",70230000,""))) -> 70220000 | G182: =DATE(C182,H182,A182) -> 44660 | H182: =OFFSET(INDEX('Ne pas toucher'!$B$3:$B$14,MATCH(B182,'Ne pas toucher'!$B$3:$B$14,0)),0,1) -> 4 | I182: =IF(A182<10,CONCATENATE(0&A182),A182) -> 09 | J182: =IF(H182<10,CONCATENATE(0&H182),H182) -> 04 | K182: =RIGHT(C182,2) -> 22 | L182: =IF(E182<10,CONCATENATE(0&E182),E182) -> 01 | M182: =CONCATENATE("VT"&I182&J182&K182&L182) -> VT09042201 | N182: Linda Knowles | O182: 1 | P182: 1 | Q182: =O182*P182 -> 1 | R182: Rhum arrangé | S182: 4200
A183: 9 | B183: Avril | C183: 2022 | D183: Confiture | E183: 1 | F183: =IF(D183="Sirop",70210000,IF(D183="Alcool",70220000,IF(D183="Confiture",70230000,""))) -> 70230000 | G183: =DATE(C183,H183,A183) -> 44660 | H183: =OFFSET(INDEX('Ne pas toucher'!$B$3:$B$14,MATCH(B183,'Ne pas toucher'!$B$3:$B$14,0)),0,1) -> 4 | I183: =IF(A183<10,CONCATENATE(0&A183),A183) -> 09 | J183: =IF(H183<10,CONCATENATE(0&H183),H183) -> 04 | K183: =RIGHT(C183,2) -> 22 | L183: =IF(E183<10,CONCATENATE(0&E183),E183) -> 01 | M183: =CONCATENATE("VT"&I183&J183&K183&L183) -> VT09042201 | N183: Linda Knowles | O183: 1 | P183: =IF(D183="Sirop",1,IF(D183="Alcool",0.75,0.39)) -> 0.39 | Q183: =O183*P183 -> 0.39 | R183: Bissap | S183: 3200
A184: 9 | B184: Avril | C184: 2022 | D184: Sirop | E184: 1 | F184: =IF(D184="Sirop",70210000,IF(D184="Alcool",70220000,IF(D184="Confiture",70230000,""))) -> 70210000 | G184: =DATE(C184,H184,A184) -> 44660 | H184: =OFFSET(INDEX('Ne pas toucher'!$B$3:$B$14,MATCH(B184,'Ne pas toucher'!$B$3:$B$14,0)),0,1) -> 4 | I184: =IF(A184<10,CONCATENATE(0&A184),A184) -> 09 | J184: =IF(H184<10,CONCATENATE(0&H184),H184) -> 04 | K184: =RIGHT(C184,2) -> 22 | L184: =IF(E184<10,CONCATENATE(0&E184),E184) -> 01 | M184: =CONCATENATE("VT"&I184&J184&K184&L184) -> VT09042201 | N184: Linda Knowles | O184: 1 | P184: =IF(D184="Sirop",1,IF(D184="Alcool",0.75,0.39)) -> 1 | Q184: =O184*P184 -> 1 | R184: Menthe | S184: 1900
A185: 9 | B185: Avril | C185: 2022 | D185: Sirop | E185: 1 | F185: =IF(D185="Sirop",70210000,IF(D185="Alcool",70220000,IF(D185="Confiture",70230000,""))) -> 70210000 | G185: =DATE(C185,H185,A185) -> 44660 | H185: =OFFSET(INDEX('Ne pas toucher'!$B$3:$B$14,MATCH(B185,'Ne pas toucher'!$B$3:$B$14,0)),0,1) -> 4 | I185: =IF(A185<10,CONCATENATE(0&A185),A185) -> 09 | J185: =IF(H185<10,CONCATENATE(0&H185),H185) -> 04 | K185: =RIGHT(C185,2) -> 22 | L185: =IF(E185<10,CONCATENATE(0&E185),E185) -> 01 | M185: =CONCATENATE("VT"&I185&J185&K185&L185) -> VT09042201 | N185: Linda Knowles | O185: 1 | P185: =IF(D185="Sirop",1,IF(D185="Alcool",0.75,0.39)) -> 1 | Q185: =O185*P185 -> 1 | R185: Kai | S185: 4200
A186: 9 | B186: Avril | C186: 2022 | D186: Alcool | E186: 1 | F186: =IF(D186="Sirop",70210000,IF(D186="Alcool",70220000,IF(D186="Confiture",70230000,""))) -> 70220000 | G186: =DATE(C186,H186,A186) -> 44660 | H186: =OFFSET(INDEX('Ne pas toucher'!$B$3:$B$14,MATCH(B186,'Ne pas toucher'!$B$3:$B$14,0)),0,1) -> 4 | I186: =IF(A186<10,CONCATENATE(0&A186),A186) -> 09 | J186: =IF(H186<10,CONCATENATE(0&H186),H186) -> 04 | K186: =RIGHT(C186,2) -> 22 | L186: =IF(E186<10,CONCATENATE(0&E186),E186) -> 01 | M186: =CONCATENATE("VT"&I186&J186&K186&L186) -> VT09042201 | N186: Linda Knowles | O186: 1 | P186: =IF(D186="Sirop",1,IF(D186="Alcool",0.75,0.39)) -> 0.75 | Q186: =O186*P186 -> 0.75 | R186: Maracuja | S186: 3000
A187: 9 | B187: Avril | C187: 2022 | D187: Alcool | E187: 1 | F187: =IF(D187="Sirop",70210000,IF(D187="Alcool",70220000,IF(D187="Confiture",70230000,""))) -> 70220000 | G187: =DATE(C187,H187,A187) -> 44660 | H187: =OFFSET(INDEX('Ne pas toucher'!$B$3:$B$14,MATCH(B187,'Ne pas toucher'!$B$3:$B$14,0)),0,1) -> 4 | I187: =IF(A187<10,CONCATENATE(0&A187),A187) -> 09 | J187: =IF(H187<10,CONCATENATE(0&H187),H187) -> 04 | K187: =RIGHT(C187,2) -> 22 | L187: =IF(E187<10,CONCATENATE(0&E187),E187) -> 01 | M187: =CONCATENATE("VT"&I187&J187&K187&L187) -> VT09042201 | N187: Linda Knowles | O187: 1 | P187: =IF(D187="Sirop",1,IF(D187="Alcool",0.75,0.39)) -> 0.75 | Q187: =O187*P187 -> 0.75 | R187: Passion | S187: 2100
A188: 9 | B188: Avril | C188: 2022 | D188: Sirop | E188: 1 | F188: =IF(D188="Sirop",70210000,IF(D188="Alcool",70220000,IF(D188="Confiture",70230000,""))) -> 70210000 | G188: =DATE(C188,H188,A188) -> 44660 | H188: =OFFSET(INDEX('Ne pas toucher'!$B$3:$B$14,MATCH(B188,'Ne pas toucher'!$B$3:$B$14,0)),0,1) -> 4 | I188: =IF(A188<10,CONCATENATE(0&A188),A188) -> 09 | J188: =IF(H188<10,CONCATENATE(0&H188),H188) -> 04 | K188: =RIGHT(C188,2) -> 22 | L188: =IF(E188<10,CONCATENATE(0&E188),E188) -> 01 | M188: =CONCATENATE("VT"&I188&J188&K188&L188) -> VT09042201 | N188: Linda Knowles | O188: 1 | P188: 0.3 | Q188: =O188*P188 -> 0.3 | R188: Bita cola | S188: 4200
A189: 12 | B189: Avril | C189: 2022 | D189: Alcool | E189: 1 | F189: =IF(D189="Sirop",70210000,IF(D189="Alcool",70220000,IF(D189="Confiture",70230000,""))) -> 70220000 | G189: =DATE(C189,H189,A189) -> 44663 | H189: =OFFSET(INDEX('Ne pas toucher'!$B$3:$B$14,MATCH(B189,'Ne pas toucher'!$B$3:$B$14,0)),0,1) -> 4 | I189: =IF(A189<10,CONCATENATE(0&A189),A189) -> 12 | J189: =IF(H189<10,CONCATENATE(0&H189),H189) -> 04 | K189: =RIGHT(C189,2) -> 22 | L189: =IF(E189<10,CONCATENATE(0&E189),E189) -> 01 | M189: =CONCATENATE("VT"&I189&J189&K189&L189) -> VT12042201 | N189: Kono | O189: 2 | P189: 1 | Q189: =O189*P189 -> 2 | R189: Rhum arrangé | S189: 25000
A190: 12 | B190: Avril | C190: 2022 | D190: Sirop | E190: 2 | F190: =IF(D190="Sirop",70210000,IF(D190="Alcool",70220000,IF(D190="Confiture",70230000,""))) -> 70210000 | G190: =DATE(C190,H190,A190) -> 44663 | H190: =OFFSET(INDEX('Ne pas toucher'!$B$3:$B$14,MATCH(B190,'Ne pas toucher'!$B$3:$B$14,0)),0,1) -> 4 | I190: =IF(A190<10,CONCATENATE(0&A190),A190) -> 12 | J190: =IF(H190<10,CONCATENATE(0&H190),H190) -> 04 | K190: =RIGHT(C190,2) -> 22 | L190: =IF(E190<10,CONCATENATE(0&E190),E190) -> 02 | M190: =CONCATENATE("VT"&I190&J190&K190&L190) -> VT12042202 | N190: Vanessa Extraits | O190: 1 | P190: =IF(D190="Sirop",1,IF(D190="Alcool",0.75,0.39)) -> 1 | Q190: =O190*P190 -> 1 | R190: Bita cola | S190: 9500
A191: 13 | B191: Avril | C191: 2022 | D191: Sirop | E191: 1 | F191: =IF(D191="Sirop",70210000,IF(D191="Alcool",70220000,IF(D191="Confiture",70230000,""))) -> 70210000 | G191: =DATE(C191,H191,A191) -> 44664 | H191: =OFFSET(INDEX('Ne pas toucher'!$B$3:$B$14,MATCH(B191,'Ne pas toucher'!$B$3:$B$14,0)),0,1) -> 4 | I191: =IF(A191<10,CONCATENATE(0&A191),A191) -> 13 | J191: =IF(H191<10,CONCATENATE(0&H191),H191) -> 04 | K191: =RIGHT(C191,2) -> 22 | L191: =IF(E191<10,CONCATENATE(0&E191),E191) -> 01 | M191: =CONCATENATE("VT"&I191&J191&K191&L191) -> VT13042201 | N191: Luther Darren | O191: 1 | P191: =IF(D191="Sirop",1,IF(D191="Alcool",0.75,0.39)) -> 1 | Q191: =O191*P191 -> 1 | R191: Bita cola | S191: 9500
A192: 13 | B192: Avril | C192: 2022 | D192: Sirop | E192: 1 | F192: =IF(D192="Sirop",70210000,IF(D192="Alcool",70220000,IF(D192="Confiture",70230000,""))) -> 70210000 | G192: =DATE(C192,H192,A192) -> 44664 | H192: =OFFSET(INDEX('Ne pas toucher'!$B$3:$B$14,MATCH(B192,'Ne pas toucher'!$B$3:$B$14,0)),0,1) -> 4 | I192: =IF(A192<10,CONCATENATE(0&A192),A192) -> 13 | J192: =IF(H192<10,CONCATENATE(0&H192),H192) -> 04 | K192: =RIGHT(C192,2) -> 22 | L192: =IF(E192<10,CONCATENATE(0&E192),E192) -> 01 | M192: =CONCATENATE("VT"&I192&J192&K192&L192) -> VT13042201 | N192: Luther Darren | O192: 1 | P192: =IF(D192="Sirop",1,IF(D192="Alcool",0.75,0.39)) -> 1 | Q192: =O192*P192 -> 1 | R192: Mangue | S192: 5000
A193: 13 | B193: Avril | C193: 2022 | D193: Sirop | E193: 1 | F193: =IF(D193="Sirop",70210000,IF(D193="Alcool",70220000,IF(D193="Confiture",70230000,""))) -> 70210000 | G193: =DATE(C193,H193,A193) -> 44664 | H193: =OFFSET(INDEX('Ne pas toucher'!$B$3:$B$14,MATCH(B193,'Ne pas toucher'!$B$3:$B$14,0)),0,1) -> 4 | I193: =IF(A193<10,CONCATENATE(0&A193),A193) -> 13 | J193: =IF(H193<10,CONCATENATE(0&H193),H193) -> 04 | K193: =RIGHT(C193,2) -> 22 | L193: =IF(E193<10,CONCATENATE(0&E193),E193) -> 01 | M193: =CONCATENATE("VT"&I193&J193&K193&L193) -> VT13042201 | N193: Luther Darren | O193: 1 | P193: =IF(D193="Sirop",1,IF(D193="Alcool",0.75,0.39)) -> 1 | Q193: =O193*P193 -> 1 | R193: Menthe | S193: 6000
A194: 13 | B194: Avril | C194: 2022 | D194: Sirop | E194: 2 | F194: =IF(D194="Sirop",70210000,IF(D194="Alcool",70220000,IF(D194="Confiture",70230000,""))) -> 70210000 | G194: =DATE(C194,H194,A194) -> 44664 | H194: =OFFSET(INDEX('Ne pas toucher'!$B$3:$B$14,MATCH(B194,'Ne pas toucher'!$B$3:$B$14,0)),0,1) -> 4 | I194: =IF(A194<10,CONCATENATE(0&A194),A194) -> 13 | J194: =IF(H194<10,CONCATENATE(0&H194),H194) -> 04 | K194: =RIGHT(C194,2) -> 22 | L194: =IF(E194<10,CONCATENATE(0&E194),E194) -> 02 | M194: =CONCATENATE("VT"&I194&J194&K194&L194) -> VT13042202 | N194: Vanessa Extraits | O194: 1 | P194: =IF(D194="Sirop",1,IF(D194="Alcool",0.75,0.39)) -> 1 | Q194: =O194*P194 -> 1 | R194: Bita cola | S194: 9500
A195: 13 | B195: Avril | C195: 2022 | D195: Sirop | E195: 3 | F195: =IF(D195="Sirop",70210000,IF(D195="Alcool",70220000,IF(D195="Confiture",70230000,""))) -> 70210000 | G195: =DATE(C195,H195,A195) -> 44664 | H195: =OFFSET(INDEX('Ne pas toucher'!$B$3:$B$14,MATCH(B195,'Ne pas toucher'!$B$3:$B$14,0)),0,1) -> 4 | I195: =IF(A195<10,CONCATENATE(0&A195),A195) -> 13 | J195: =IF(H195<10,CONCATENATE(0&H195),H195) -> 04 | K195: =RIGHT(C195,2) -> 22 | L195: =IF(E195<10,CONCATENATE(0&E195),E195) -> 03 | M195: =CONCATENATE("VT"&I195&J195&K195&L195) -> VT13042203 | N195: Mme Ebegne | O195: 2 | P195: =IF(D195="Sirop",1,IF(D195="Alcool",0.75,0.39)) -> 1 | Q195: =O195*P195 -> 2 | R195: Gingembre | S195: 10000
A196: 13 | B196: Avril | C196: 2022 | D196: Sirop | E196: 4 | F196: =IF(D196="Sirop",70210000,IF(D196="Alcool",70220000,IF(D196="Confiture",70230000,""))) -> 70210000 | G196: =DATE(C196,H196,A196) -> 44664 | H196: =OFFSET(INDEX('Ne pas toucher'!$B$3:$B$14,MATCH(B196,'Ne pas toucher'!$B$3:$B$14,0)),0,1) -> 4 | I196: =IF(A196<10,CONCATENATE(0&A196),A196) -> 13 | J196: =IF(H196<10,CONCATENATE(0&H196),H196) -> 04 | K196: =RIGHT(C196,2) -> 22 | L196: =IF(E196<10,CONCATENATE(0&E196),E196) -> 04 | M196: =CONCATENATE("VT"&I196&J196&K196&L196) -> VT13042204 | N196: Boss | O196: 1 | P196: =IF(D196="Sirop",1,IF(D196="Alcool",0.75,0.39)) -> 1 | Q196: =O196*P196 -> 1 | R196: Menthe | S196: 6000
A197: 13 | B197: Avril | C197: 2022 | D197: Sirop | E197: 4 | F197: =IF(D197="Sirop",70210000,IF(D197="Alcool",70220000,IF(D197="Confiture",70230000,""))) -> 70210000 | G197: =DATE(C197,H197,A197) -> 44664 | H197: =OFFSET(INDEX('Ne pas toucher'!$B$3:$B$14,MATCH(B197,'Ne pas toucher'!$B$3:$B$14,0)),0,1) -> 4 | I197: =IF(A197<10,CONCATENATE(0&A197),A197) -> 13 | J197: =IF(H197<10,CONCATENATE(0&H197),H197) -> 04 | K197: =RIGHT(C197,2) -> 22 | L197: =IF(E197<10,CONCATENATE(0&E197),E197) -> 04 | M197: =CONCATENATE("VT"&I197&J197&K197&L197) -> VT13042204 | N197: Boss | O197: 1 | P197: =IF(D197="Sirop",1,IF(D197="Alcool",0.75,0.39)) -> 1 | Q197: =O197*P197 -> 1 | R197: Passion | S197: 6500
A198: 14 | B198: Avril | C198: 2022 | D198: Alcool | E198: 1 | F198: =IF(D198="Sirop",70210000,IF(D198="Alcool",70220000,IF(D198="Confiture",70230000,""))) -> 70220000 | G198: =DATE(C198,H198,A198) -> 44665 | H198: =OFFSET(INDEX('Ne pas toucher'!$B$3:$B$14,MATCH(B198,'Ne pas toucher'!$B$3:$B$14,0)),0,1) -> 4 | I198: =IF(A198<10,CONCATENATE(0&A198),A198) -> 14 | J198: =IF(H198<10,CONCATENATE(0&H198),H198) -> 04 | K198: =RIGHT(C198,2) -> 22 | L198: =IF(E198<10,CONCATENATE(0&E198),E198) -> 01 | M198: =CONCATENATE("VT"&I198&J198&K198&L198) -> VT14042201 | N198: MC Distribution | O198: 25 | P198: =IF(D198="Sirop",1,IF(D198="Alcool",0.75,0.39)) -> 0.75 | Q198: =O198*P198 -> 18.75 | R198: Asortiment iqueurs | S198: 187500
A199: 14 | B199: Avril | C199: 2022 | D199: Sirop | E199: 2 | F199: =IF(D199="Sirop",70210000,IF(D199="Alcool",70220000,IF(D199="Confiture",70230000,""))) -> 70210000 | G199: =DATE(C199,H199,A199) -> 44665 | H199: =OFFSET(INDEX('Ne pas toucher'!$B$3:$B$14,MATCH(B199,'Ne pas toucher'!$B$3:$B$14,0)),0,1) -> 4 | I199: =IF(A199<10,CONCATENATE(0&A199),A199) -> 14 | J199: =IF(H199<10,CONCATENATE(0&H199),H199) -> 04 | K199: =RIGHT(C199,2) -> 22 | L199: =IF(E199<10,CONCATENATE(0&E199),E199) -> 02 | M199: =CONCATENATE("VT"&I199&J199&K199&L199) -> VT14042202 | N199: Vanessa Extraits | O199: 2 | P199: =IF(D199="Sirop",1,IF(D199="Alcool",0.75,0.39)) -> 1 | Q199: =O199*P199 -> 2 | R199: Bita cola | S199: 22000
A200: 20 | B200: Avril | C200: 2022 | D200: Alcool | E200: 1 | F200: =IF(D200="Sirop",70210000,IF(D200="Alcool",70220000,IF(D200="Confiture",70230000,""))) -> 70220000 | G200: =DATE(C200,H200,A200) -> 44671 | H200: =OFFSET(INDEX('Ne pas toucher'!$B$3:$B$14,MATCH(B200,'Ne pas toucher'!$B$3:$B$14,0)),0,1) -> 4 | I200: =IF(A200<10,CONCATENATE(0&A200),A200) -> 20 | J200: =IF(H200<10,CONCATENATE(0&H200),H200) -> 04 | K200: =RIGHT(C200,2) -> 22 | L200: =IF(E200<10,CONCATENATE(0&E200),E200) -> 01 | M200: =CONCATENATE("VT"&I200&J200&K200&L200) -> VT20042201 | N200: Aude Nokia | O200: 2 | P200: =IF(D200="Sirop",1,IF(D200="Alcool",0.75,0.39)) -> 0.75 | Q200: =O200*P200 -> 1.5 | R200: Maracuja | S200: 20000

Sheet Inventaire clients
B2: MONTANT DES VENTES PAR CLIENTS
B4: Jour | C4: Type | D4: Client | E4: Montant
E5: =IF($C5="Tous",SUMPRODUCT((Ventes!$G$2:$G$5000='Inventaire clients'!$B5)*(Ventes!$N$2:$N$5000='Inventaire clients'!$D5)*(Ventes!$S$2:$S$5000)),SUMPRODUCT((Ventes!$B$2:$B$5000='Inventaire clients'!$B5)*(Ventes!$D$2:$D$5000='Inventaire clients'!$C5)*(Ventes!$N$2:$N$5000='Inventaire clients'!D5)*(Ventes!$S$2:$S$5000))) -> 0
B7: Mois | C7: Type | D7: Client | E7: Montant
E8: =IF($C8="Tous",SUMPRODUCT((Ventes!$B$2:$B$5000='Inventaire clients'!$B8)*(Ventes!$N$2:$N$5000='Inventaire clients'!$D8)*(Ventes!$S$2:$S$5000)),SUMPRODUCT((Ventes!$B$2:$B$5000='Inventaire clients'!$B8)*(Ventes!$D$2:$D$5000='Inventaire clients'!$C8)*(Ventes!$N$2:$N$5000='Inventaire clients'!D8)*(Ventes!$S$2:$S$5000))) -> 0
B10: Année | C10: Type | D10: Client | E10: Montant
E11: =IF($C11="Tous",SUMPRODUCT((Ventes!$C$2:$C$5000='Inventaire clients'!$B11)*(Ventes!$N$2:$N$5000='Inventaire clients'!$D11)*(Ventes!$S$2:$S$5000)),SUMPRODUCT((Ventes!$C$2:$C$5000='Inventaire clients'!$B11)*(Ventes!$D$2:$D$5000='Inventaire clients'!$C11)*(Ventes!$N$2:$N$5000='Inventaire clients'!D11)*(Ventes!$S$2:$S$5000))) -> 0

Sheet Inventaire produits
B2: MONTANT DES VENTES ET QUANTITÉS PAR PRODUITS
B4: Jour | C4: Type | D4: Produit | E4: Quantité | F4: Montant
E5: =IF(ISBLANK($D5)=TRUE,SUMPRODUCT((Ventes!$G$2:$G$5000='Inventaire produits'!$B5*(Ventes!$D$2:$D$5000='Inventaire produits'!$C5)*(Ventes!$Q$2:$Q$5000))),(SUMPRODUCT((Ventes!$G$2:$G$5000='Inventaire produits'!$B5*(Ventes!$D$2:$D$5000='Inventaire produits'!$C5)*(Ventes!$R$2:$R$5000='Inventaire produits'!$D5)*(Ventes!$Q$2:$Q$5000))))) -> 0 | F5: =IF(ISBLANK($D5)=TRUE,SUMPRODUCT((Ventes!$G$2:$G$5000='Inventaire produits'!$B5)*(Ventes!$D$2:$D$5000='Inventaire produits'!$C5)*(Ventes!$S$2:$S$5000)),SUMPRODUCT((Ventes!$G$2:$G$5000='Inventaire produits'!$B5)*(Ventes!$D$2:$D$5000='Inventaire produits'!$C5)*(Ventes!$R$2:$R$5000='Inventaire produits'!$D5)*(Ventes!$S$2:$S$5000))) -> 0
B7: Mois | C7: Type | D7: Produit | E7: Quantité | F7: Montant
E8: =IF(ISBLANK($D8)=TRUE,SUMPRODUCT((Ventes!$B$2:$B$5000='Inventaire produits'!$B8)*(Ventes!$D$2:$D$5000='Inventaire produits'!$C8)*(Ventes!$Q$2:$Q$5000)),SUMPRODUCT((Ventes!$B$2:$B$5000='Inventaire produits'!$B8)*(Ventes!$D$2:$D$5000='Inventaire produits'!$C8)*(Ventes!$R$2:$R$5000='Inventaire produits'!$D8)*(Ventes!$Q$2:$Q$5000))) -> 0 | F8: =IF(ISBLANK($D8)=TRUE,SUMPRODUCT((Ventes!$B$2:$B$5000='Inventaire produits'!$B8)*(Ventes!$D$2:$D$5000='Inventaire produits'!$C8)*(Ventes!$S$2:$S$5000)),SUMPRODUCT((Ventes!$B$2:$B$5000='Inventaire produits'!$B8)*(Ventes!$D$2:$D$5000='Inventaire produits'!$C8)*(Ventes!$R$2:$R$5000='Inventaire produits'!$D8)*(Ventes!$S$2:$S$5000))) -> 0
B10: Année | C10: Type | D10: Produit | E10: Quantité | F10: Montant
E11: =IF(ISBLANK($D11)=TRUE,SUMPRODUCT((Ventes!$C$2:$C$5000='Inventaire produits'!$B11)*(Ventes!$D$2:$D$5000='Inventaire produits'!$C11)*(Ventes!$Q$2:$Q$5000)),SUMPRODUCT((Ventes!$C$2:$C$5000='Inventaire produits'!$B11)*(Ventes!$D$2:$D$5000='Inventaire produits'!$C11)*(Ventes!$R$2:$R$5000='Inventaire produits'!$D11)*(Ventes!$Q$2:$Q$5000))) -> 0 | F11: =IF(ISBLANK($D11)=TRUE,SUMPRODUCT((Ventes!$C$2:$C$5000='Inventaire produits'!$B11)*(Ventes!$D$2:$D$5000='Inventaire produits'!$C11)*(Ventes!$S$2:$S$5000)),SUMPRODUCT((Ventes!$C$2:$C$5000='Inventaire produits'!$B11)*(Ventes!$D$2:$D$5000='Inventaire produits'!$C11)*(Ventes!$R$2:$R$5000='Inventaire produits'!$D11)*(Ventes!$S$2:$S$5000))) -> 0

Sheet TCD
B2: =Ventes!G1 -> Date | C2: =Ventes!M1 -> Num Facture | D2: =Ventes!D1 -> Type | E2: =Ventes!N1 -> Client | F2: =Ventes!S1 -> Montant
B3: =Ventes!G2 -> 44594 | C3: =Ventes!M2 -> VT02022201 | D3: =Ventes!D2 -> Sirop | E3: =Ventes!N2 -> Thierry Royer | F3: =Ventes!S2 -> 9500
B4: =Ventes!G3 -> 44594 | C4: =Ventes!M3 -> VT02022201 | D4: =Ventes!D3 -> Sirop | E4: =Ventes!N3 -> Thierry Royer | F4: =Ventes!S3 -> 5000
B5: =Ventes!G4 -> 44594 | C5: =Ventes!M4 -> VT02022201 | D5: =Ventes!D4 -> Sirop | E5: =Ventes!N4 -> Thierry Royer | F5: =Ventes!S4 -> 5000
B6: =Ventes!G5 -> 44594 | C6: =Ventes!M5 -> VT02022202 | D6: =Ventes!D5 -> Alcool | E6: =Ventes!N5 -> Baye | F6: =Ventes!S5 -> 10000
B7: =Ventes!G6 -> 44594 | C7: =Ventes!M6 -> VT02022203 | D7: =Ventes!D6 -> Sirop | E7: =Ventes!N6 -> O'CONNOR | F7: =Ventes!S6 -> 4500
B8: =Ventes!G7 -> 44594 | C8: =Ventes!M7 -> VT02022203 | D8: =Ventes!D7 -> Alcool | E8: =Ventes!N7 -> O'CONNOR | F8: =Ventes!S7 -> 9500
B9: =Ventes!G8 -> 44600 | C9: =Ventes!M8 -> VT08022201 | D9: =Ventes!D8 -> Alcool | E9: =Ventes!N8 -> Chantal Boucher | F9: =Ventes!S8 -> 12000
B10: =Ventes!G9 -> 44600 | C10: =Ventes!M9 -> VT08022201 | D10: =Ventes!D9 -> Sirop | E10: =Ventes!N9 -> Chantal Boucher | F10: =Ventes!S9 -> 3500
B11: =Ventes!G10 -> 44600 | C11: =Ventes!M10 -> VT08022201 | D11: =Ventes!D10 -> Sirop | E11: =Ventes!N10 -> Chantal Boucher | F11: =Ventes!S10 -> 2500
B12: =Ventes!G11 -> 44600 | C12: =Ventes!M11 -> VT08022202 | D12: =Ventes!D11 -> Sirop | E12: =Ventes!N11 -> Hermine | F12: =Ventes!S11 -> 3500
B13: =Ventes!G12 -> 44601 | C13: =Ventes!M12 -> VT09022203 | D13: =Ventes!D12 -> Alcool | E13: =Ventes!N12 -> Francine Reno | F13: =Ventes!S12 -> 10000
... B1000: =Ventes!G999 -> 0 | C1000: =Ventes!M999 -> 0 | D1000: =Ventes!D999 -> 0 | E1000: =Ventes!N999 -> 0 | F1000: =Ventes!S999 -> 0
