Workbook

Sheet Ne pas toucher
B2: Mois | C2: Numéro | F2: Libellé | G2: Unité de mesure
B3: Janvier | C3: 1 | F3: Poids | G3: kg
B4: Février | C4: 2 | F4: Volume | G4: l
B5: Mars | C5: 3
B6: Avril | C6: 4
B7: Mai | C7: 5
B8: Juin | C8: 6
B9: Juillet | C9: 7
B10: Août | C10: 8
B11: Septembre | C11: 9
B12: Octobre | C12: 10
B13: Novembre | C13: 11
B14: Décembre | C14: 12

Sheet Ventes
A1: Jour | B1: Mois | C1: Année | D1: Type | E1: Numéro | F1: Compte | G1: Date | H1: Mois chiffre | I1: Jour facture | J1: Mois facture | K1: Année fact | L1: Num fact | M1: Num Facture | N1: Client | O1: Nbre produits | P1: Quantité (l/g) | Q1: Qté totale | R1: Nature | S1: Montant | T1: Payé comptant | U1: Soldé le
A2: 2 | B2: Février | C2: 2022 | D2: Sirop | E2: 1 | F2: =IF(D2="Sirop",70210000,IF(D2="Alcool",70220000,IF(D2="Confiture",70230000,""))) -> 70210000 | G2: =DATE(C2,H2,A2) -> 44594 | H2: =OFFSET(INDEX('Ne pas toucher'!$B$3:$B$14,MATCH(B2,'Ne pas toucher'!$B$3:$B$14,0)),0,1) -> 2 | I2: =IF(A2<10,CONCATENATE(0&A2),A2) -> 02 | J2: =IF(H2<10,CONCATENATE(0&H2),H2) -> 02 | K2: =RIGHT(C2,2) -> 22 | L2: =IF(E2<10,CONCATENATE(0&E2),E2) -> 01 | M2: =CONCATENATE("VT"&I2&J2&K2&L2) -> VT02022201 | N2: Thierry Royer | O2: 1 | P2: =IF(D2="Sirop",1,IF(D2="Alcool",0.75,0.39)) -> 1 | Q2: =O2*P2 -> 1 | R2: Bita cola | S2: 9500 | T2: =+S2+500 -> 10000
A3: 2 | B3: Février | C3: 2022 | D3: Sirop | E3: 1 | F3: =IF(D3="Sirop",70210000,IF(D3="Alcool",70220000,IF(D3="Confiture",70230000,""))) -> 70210000 | G3: =DATE(C3,H3,A3) -> 44594 | H3: =OFFSET(INDEX('Ne pas toucher'!$B$3:$B$14,MATCH(B3,'Ne pas toucher'!$B$3:$B$14,0)),0,1) -> 2 | I3: =IF(A3<10,CONCATENATE(0&A3),A3) -> 02 | J3: =IF(H3<10,CONCATENATE(0&H3),H3) -> 02 | K3: =RIGHT(C3,2) -> 22 | L3: =IF(E3<10,CONCATENATE(0&E3),E3) -> 01 | M3: =CONCATENATE("VT"&I3&J3&K3&L3) -> VT02022201 | N3: Thierry Royer | O3: 1 | P3: =IF(D3="Sirop",1,IF(D3="Alcool",0.75,0.39)) -> 1 | Q3: =O3*P3 -> 1 | R3: Ananas | S3: 5000 | T3: =+S3+500 -> 5500
A4: 2 | B4: Février | C4: 2022 | D4: Sirop | E4: 1 | F4: =IF(D4="Sirop",70210000,IF(D4="Alcool",70220000,IF(D4="Confiture",70230000,""))) -> 70210000 | G4: =DATE(C4,H4,A4) -> 44594 | H4: =OFFSET(INDEX('Ne pas toucher'!$B$3:$B$14,MATCH(B4,'Ne pas toucher'!$B$3:$B$14,0)),0,1) -> 2 | I4: =IF(A4<10,CONCATENATE(0&A4),A4) -> 02 | J4: =IF(H4<10,CONCATENATE(0&H4),H4) -> 02 | K4: =RIGHT(C4,2) -> 22 | L4: =IF(E4<10,CONCATENATE(0&E4),E4) -> 01 | M4: =CONCATENATE("VT"&I4&J4&K4&L4) -> VT02022201 | N4: Thierry Royer | O4: 1 | P4: =IF(D4="Sirop",1,IF(D4="Alcool",0.75,0.39)) -> 1 | Q4: =O4*P4 -> 1 | R4: Gingembre | S4: 5000 | T4: =+S4+500+1000 -> 6500
A5: 2 | B5: Février | C5: 2022 | D5: Alcool | E5: 2 | F5: =IF(D5="Sirop",70210000,IF(D5="Alcool",70220000,IF(D5="Confiture",70230000,""))) -> 70220000 | G5: =DATE(C5,H5,A5) -> 44594 | H5: =OFFSET(INDEX('Ne pas toucher'!$B$3:$B$14,MATCH(B5,'Ne pas toucher'!$B$3:$B$14,0)),0,1) -> 2 | I5: =IF(A5<10,CONCATENATE(0&A5),A5) -> 02 | J5: =IF(H5<10,CONCATENATE(0&H5),H5) -> 02 | K5: =RIGHT(C5,2) -> 22 | L5: =IF(E5<10,CONCATENATE(0&E5),E5) -> 02 | M5: =CONCATENATE("VT"&I5&J5&K5&L5) -> VT02022202 | N5: Baye | O5: 1 | P5: =IF(D5="Sirop",1,IF(D5="Alcool",0.75,0.39)) -> 0.75 | Q5: =O5*P5 -> 0.75 | R5: Kaï | S5: 10000 | T5: 9000
A6: 2 | B6: Février | C6: 2022 | D6: Sirop | E6: 3 | F6: =IF(D6="Sirop",70210000,IF(D6="Alcool",70220000,IF(D6="Confiture",70230000,""))) -> 70210000 | G6: =DATE(C6,H6,A6) -> 44594 | H6: =OFFSET(INDEX('Ne pas toucher'!$B$3:$B$14,MATCH(B6,'Ne pas toucher'!$B$3:$B$14,0)),0,1) -> 2 | I6: =IF(A6<10,CONCATENATE(0&A6),A6) -> 02 | J6: =IF(H6<10,CONCATENATE(0&H6),H6) -> 02 | K6: =RIGHT(C6,2) -> 22 | L6: =IF(E6<10,CONCATENATE(0&E6),E6) -> 03 | M6: =CONCATENATE("VT"&I6&J6&K6&L6) -> VT02022203 | N6: O'CONNOR | O6: 1 | P6: =IF(D6="Sirop",1,IF(D6="Alcool",0.75,0.39)) -> 1 | Q6: =O6*P6 -> 1 | R6: Mangue | S6: 4500 | T6: =+S6+100 -> 4600
A7: 2 | B7: Février | C7: 2022 | D7: Alcool | E7: 3 | F7: =IF(D7="Sirop",70210000,IF(D7="Alcool",70220000,IF(D7="Confiture",70230000,""))) -> 70220000 | G7: =DATE(C7,H7,A7) -> 44594 | H7: =OFFSET(INDEX('Ne pas toucher'!$B$3:$B$14,MATCH(B7,'Ne pas toucher'!$B$3:$B$14,0)),0,1) -> 2 | I7: =IF(A7<10,CONCATENATE(0&A7),A7) -> 02 | J7: =IF(H7<10,CONCATENATE(0&H7),H7) -> 02 | K7: =RIGHT(C7,2) -> 22 | L7: =IF(E7<10,CONCATENATE(0&E7),E7) -> 03 | M7: =CONCATENATE("VT"&I7&J7&K7&L7) -> VT02022203 | N7: O'CONNOR | O7: 1 | P7: =IF(D7="Sirop",1,IF(D7="Alcool",0.75,0.39)) -> 0.75 | Q7: =O7*P7 -> 0.75 | R7: Kaï | S7: 9500 | T7: =+S7+100 -> 9600
A8: 8 | B8: Février | C8: 2022 | D8: Alcool | E8: 1 | F8: =IF(D8="Sirop",70210000,IF(D8="Alcool",70220000,IF(D8="Confiture",70230000,""))) -> 70220000 | G8: =DATE(C8,H8,A8) -> 44600 | H8: =OFFSET(INDEX('Ne pas toucher'!$B$3:$B$14,MATCH(B8,'Ne pas toucher'!$B$3:$B$14,0)),0,1) -> 2 | I8: =IF(A8<10,CONCATENATE(0&A8),A8) -> 08 | J8: =IF(H8<10,CONCATENATE(0&H8),H8) -> 02 | K8: =RIGHT(C8,2) -> 22 | L8: =IF(E8<10,CONCATENATE(0&E8),E8) -> 01 | M8: =CONCATENATE("VT"&I8&J8&K8&L8) -> VT08022201 | N8: Chantal Boucher | O8: 1 | P8: =IF(D8="Sirop",1,IF(D8="Alcool",0.75,0.39)) -> 0.75 | Q8: =O8*P8 -> 0.75 | R8: Rhum arrangé | S8: 12000 | T8: 12000
A9: 8 | B9: Février | C9: 2022 | D9: Sirop | E9: 1 | F9: =IF(D9="Sirop",70210000,IF(D9="Alcool",70220000,IF(D9="Confiture",70230000,""))) -> 70210000 | G9: =DATE(C9,H9,A9) -> 44600 | H9: =OFFSET(INDEX('Ne pas toucher'!$B$3:$B$14,MATCH(B9,'Ne pas toucher'!$B$3:$B$14,0)),0,1) -> 2 | I9: =IF(A9<10,CONCATENATE(0&A9),A9) -> 08 | J9: =IF(H9<10,CONCATENATE(0&H9),H9) -> 02 | K9: =RIGHT(C9,2) -> 22 | L9: =IF(E9<10,CONCATENATE(0&E9),E9) -> 01 | M9: =CONCATENATE("VT"&I9&J9&K9&L9) -> VT08022201 | N9: Chantal Boucher | O9: 1 | P9: 0.3 | Q9: =O9*P9 -> 0.3 | R9: Bita cola | S9: 3500 | T9: 3500
A10: 8 | B10: Février | C10: 2022 | D10: Sirop | E10: 1 | F10: =IF(D10="Sirop",70210000,IF(D10="Alcool",70220000,IF(D10="Confiture",70230000,""))) -> 70210000 | G10: =DATE(C10,H10,A10) -> 44600 | H10: =OFFSET(INDEX('Ne pas toucher'!$B$3:$B$14,MATCH(B10,'Ne pas toucher'!$B$3:$B$14,0)),0,1) -> 2 | I10: =IF(A10<10,CONCATENATE(0&A10),A10) -> 08 | J10: =IF(H10<10,CONCATENATE(0&H10),H10) -> 02 | K10: =RIGHT(C10,2) -> 22 | L10: =IF(E10<10,CONCATENATE(0&E10),E10) -> 01 | M10: =CONCATENATE("VT"&I10&J10&K10&L10) -> VT08022201 | N10: Chantal Boucher | O10: 1 | P10: 0.3 | Q10: =O10*P10 -> 0.3 | R10: Passion | S10: 2500 | T10: 2500
A11: 8 | B11: Février | C11: 2022 | D11: Sirop | E11: =IF(ISBLANK(A11),"",E10+1) -> 2 | F11: =IF(D11="Sirop",70210000,IF(D11="Alcool",70220000,IF(D11="Confiture",70230000,""))) -> 70210000 | G11: =DATE(C11,H11,A11) -> 44600 | H11: =OFFSET(INDEX('Ne pas toucher'!$B$3:$B$14,MATCH(B11,'Ne pas toucher'!$B$3:$B$14,0)),0,1) -> 2 | I11: =IF(A11<10,CONCATENATE(0&A11),A11) -> 08 | J11: =IF(H11<10,CONCATENATE(0&H11),H11) -> 02 | K11: =RIGHT(C11,2) -> 22 | L11: =IF(E11<10,CONCATENATE(0&E11),E11) -> 02 | M11: =CONCATENATE("VT"&I11&J11&K11&L11) -> VT08022202 | N11: Hermine | O11: 1 | P11: 0.3 | Q11: =O11*P11 -> 0.3 | R11: Bita cola | S11: 3500 | T11: 3600
A12: 9 | B12: Février | C12: 2022 | D12: Alcool | E12: =IF(ISBLANK(A12),"",E11+1) -> 3 | F12: =IF(D12="Sirop",70210000,IF(D12="Alcool",70220000,IF(D12="Confiture",70230000,""))) -> 70220000 | G12: =DATE(C12,H12,A12) -> 44601 | H12: =OFFSET(INDEX('Ne pas toucher'!$B$3:$B$14,MATCH(B12,'Ne pas toucher'!$B$3:$B$14,0)),0,1) -> 2 | I12: =IF(A12<10,CONCATENATE(0&A12),A12) -> 09 | J12: =IF(H12<10,CONCATENATE(0&H12),H12) -> 02 | K12: =RIGHT(C12,2) -> 22 | L12: =IF(E12<10,CONCATENATE(0&E12),E12) -> 03 | M12: =CONCATENATE("VT"&I12&J12&K12&L12) -> VT09022203 | N12: Francine Reno | O12: 1 | P12: =IF(D12="Sirop",1,IF(D12="Alcool",0.75,0.39)) -> 0.75 | Q12: =O12*P12 -> 0.75 | R12: Lemonchello | S12: 10000 | T12: 10000
A13: 9 | B13: Février | C13: 2022 | D13: Sirop | E13: 3 | F13: =IF(D13="Sirop",70210000,IF(D13="Alcool",70220000,IF(D13="Confiture",70230000,""))) -> 70210000 | G13: =DATE(C13,H13,A13) -> 44601 | H13: =OFFSET(INDEX('Ne pas toucher'!$B$3:$B$14,MATCH(B13,'Ne pas toucher'!$B$3:$B$14,0)),0,1) -> 2 | I13: =IF(A13<10,CONCATENATE(0&A13),A13) -> 09 | J13: =IF(H13<10,CONCATENATE(0&H13),H13) -> 02 | K13: =RIGHT(C13,2) -> 22 | L13: =IF(E13<10,CONCATENATE(0&E13),E13) -> 03 | M13: =CONCATENATE("VT"&I13&J13&K13&L13) -> VT09022203 | N13: Francine Reno | O13: 1 | P13: =IF(D13="Sirop",1,IF(D13="Alcool",0.75,0.39)) -> 1 | Q13: =O13*P13 -> 1 | R13: Citron | S13: 6500 | T13: 6500
A14: 10 | B14: Février | C14: 2022 | D14: Sirop | E14: 1 | F14: =IF(D14="Sirop",70210000,IF(D14="Alcool",70220000,IF(D14="Confiture",70230000,""))) -> 70210000 | G14: =DATE(C14,H14,A14) -> 44602 | H14: =OFFSET(INDEX('Ne pas toucher'!$B$3:$B$14,MATCH(B14,'Ne pas toucher'!$B$3:$B$14,0)),0,1) -> 2 | I14: =IF(A14<10,CONCATENATE(0&A14),A14) -> 10 | J14: =IF(H14<10,CONCATENATE(0&H14),H14) -> 02 | K14: =RIGHT(C14,2) -> 22 | L14: =IF(E14<10,CONCATENATE(0&E14),E14) -> 01 | M14: =CONCATENATE("VT"&I14&J14&K14&L14) -> VT10022201 | N14: Benard Nkoué | O14: 1 | P14: 0.7 | Q14: =O14*P14 -> 0.7 | R14: Café | S14: 10000 | T14: 10000
A15: 10 | B15: Février | C15: 2022 | D15: Sirop | E15: 2 | F15: =IF(D15="Sirop",70210000,IF(D15="Alcool",70220000,IF(D15="Confiture",70230000,""))) -> 70210000 | G15: =DATE(C15,H15,A15) -> 44602 | H15: =OFFSET(INDEX('Ne pas toucher'!$B$3:$B$14,MATCH(B15,'Ne pas toucher'!$B$3:$B$14,0)),0,1) -> 2 | I15: =IF(A15<10,CONCATENATE(0&A15),A15) -> 10 | J15: =IF(H15<10,CONCATENATE(0&H15),H15) -> 02 | K15: =RIGHT(C15,2) -> 22 | L15: =IF(E15<10,CONCATENATE(0&E15),E15) -> 02 | M15: =CONCATENATE("VT"&I15&J15&K15&L15) -> VT10022202 | N15: Annie Morisco | O15: 2 | P15: =IF(D15="Sirop",1,IF(D15="Alcool",0.75,0.39)) -> 1 | Q15: =O15*P15 -> 2 | R15: Bissap | S15: 9000 | T15: 9000
A16: 10 | B16: Février | C16: 2022 | D16: Sirop | E16: 2 | F16: =IF(D16="Sirop",70210000,IF(D16="Alcool",70220000,IF(D16="Confiture",70230000,""))) -> 70210000 | G16: =DATE(C16,H16,A16) -> 44602 | H16: =OFFSET(INDEX('Ne pas toucher'!$B$3:$B$14,MATCH(B16,'Ne pas toucher'!$B$3:$B$14,0)),0,1) -> 2 | I16: =IF(A16<10,CONCATENATE(0&A16),A16) -> 10 | J16: =IF(H16<10,CONCATENATE(0&H16),H16) -> 02 | K16: =RIGHT(C16,2) -> 22 | L16: =IF(E16<10,CONCATENATE(0&E16),E16) -> 02 | M16: =CONCATENATE("VT"&I16&J16&K16&L16) -> VT10022202 | N16: Annie Morisco | O16: 1 | P16: =IF(D16="Sirop",1,IF(D16="Alcool",0.75,0.39)) -> 1 | Q16: =O16*P16 -> 1 | R16: Passion | S16: 6500 | T16: 6500
A17: 10 | B17: Février | C17: 2022 | D17: Sirop | E17: 2 | F17: =IF(D17="Sirop",70210000,IF(D17="Alcool",70220000,IF(D17="Confiture",70230000,""))) -> 70210000 | G17: =DATE(C17,H17,A17) -> 44602 | H17: =OFFSET(INDEX('Ne pas toucher'!$B$3:$B$14,MATCH(B17,'Ne pas toucher'!$B$3:$B$14,0)),0,1) -> 2 | I17: =IF(A17<10,CONCATENATE(0&A17),A17) -> 10 | J17: =IF(H17<10,CONCATENATE(0&H17),H17) -> 02 | K17: =RIGHT(C17,2) -> 22 | L17: =IF(E17<10,CONCATENATE(0&E17),E17) -> 02 | M17: =CONCATENATE("VT"&I17&J17&K17&L17) -> VT10022202 | N17: Annie Morisco | O17: 1 | P17: =IF(D17="Sirop",1,IF(D17="Alcool",0.75,0.39)) -> 1 | Q17: =O17*P17 -> 1 | R17: Pomme cythère | S17: 5000 | T17: 5000
A18: 10 | B18: Février | C18: 2022 | D18: Sirop | E18: 2 | F18: =IF(D18="Sirop",70210000,IF(D18="Alcool",70220000,IF(D18="Confiture",70230000,""))) -> 70210000 | G18: =DATE(C18,H18,A18) -> 44602 | H18: =OFFSET(INDEX('Ne pas toucher'!$B$3:$B$14,MATCH(B18,'Ne pas toucher'!$B$3:$B$14,0)),0,1) -> 2 | I18: =IF(A18<10,CONCATENATE(0&A18),A18) -> 10 | J18: =IF(H18<10,CONCATENATE(0&H18),H18) -> 02 | K18: =RIGHT(C18,2) -> 22 | L18: =IF(E18<10,CONCATENATE(0&E18),E18) -> 02 | M18: =CONCATENATE("VT"&I18&J18&K18&L18) -> VT10022202 | N18: Annie Morisco | O18: 1 | P18: =IF(D18="Sirop",1,IF(D18="Alcool",0.75,0.39)) -> 1 | Q18: =O18*P18 -> 1 | R18: Ananas | S18: 5000 | T18: 5000
A19: 10 | B19: Février | C19: 2022 | D19: Sirop | E19: 2 | F19: =IF(D19="Sirop",70210000,IF(D19="Alcool",70220000,IF(D19="Confiture",70230000,""))) -> 70210000 | G19: =DATE(C19,H19,A19) -> 44602 | H19: =OFFSET(INDEX('Ne pas toucher'!$B$3:$B$14,MATCH(B19,'Ne pas toucher'!$B$3:$B$14,0)),0,1) -> 2 | I19: =IF(A19<10,CONCATENATE(0&A19),A19) -> 10 | J19: =IF(H19<10,CONCATENATE(0&H19),H19) -> 02 | K19: =RIGHT(C19,2) -> 22 | L19: =IF(E19<10,CONCATENATE(0&E19),E19) -> 02 | M19: =CONCATENATE("VT"&I19&J19&K19&L19) -> VT10022202 | N19: Annie Morisco | O19: 1 | P19: =IF(D19="Sirop",1,IF(D19="Alcool",0.75,0.39)) -> 1 | Q19: =O19*P19 -> 1 | R19: Mangue | S19: 5000 | T19: 5000
A20: 11 | B20: Février | C20: 2022 | D20: Sirop | E20: 1 | F20: =IF(D20="Sirop",70210000,IF(D20="Alcool",70220000,IF(D20="Confiture",70230000,""))) -> 70210000 | G20: =DATE(C20,H20,A20) -> 44603 | H20: =OFFSET(INDEX('Ne pas toucher'!$B$3:$B$14,MATCH(B20,'Ne pas toucher'!$B$3:$B$14,0)),0,1) -> 2 | I20: =IF(A20<10,CONCATENATE(0&A20),A20) -> 11 | J20: =IF(H20<10,CONCATENATE(0&H20),H20) -> 02 | K20: =RIGHT(C20,2) -> 22 | L20: =IF(E20<10,CONCATENATE(0&E20),E20) -> 01 | M20: =CONCATENATE("VT"&I20&J20&K20&L20) -> VT11022201 | N20: Felix de Joyce | O20: 1 | P20: =IF(D20="Sirop",1,IF(D20="Alcool",0.75,0.39)) -> 1 | Q20: =O20*P20 -> 1 | R20: Bita cola | S20: 9500 | T20: 9500
A21: 11 | B21: Février | C21: 2022 | D21: Alcool | E21: 1 | F21: =IF(D21="Sirop",70210000,IF(D21="Alcool",70220000,IF(D21="Confiture",70230000,""))) -> 70220000 | G21: =DATE(C21,H21,A21) -> 44603 | H21: =OFFSET(INDEX('Ne pas toucher'!$B$3:$B$14,MATCH(B21,'Ne pas toucher'!$B$3:$B$14,0)),0,1) -> 2 | I21: =IF(A21<10,CONCATENATE(0&A21),A21) -> 11 | J21: =IF(H21<10,CONCATENATE(0&H21),H21) -> 02 | K21: =RIGHT(C21,2) -> 22 | L21: =IF(E21<10,CONCATENATE(0&E21),E21) -> 01 | M21: =CONCATENATE("VT"&I21&J21&K21&L21) -> VT11022201 | N21: Felix de Joyce | O21: 2 | P21: =IF(D21="Sirop",1,IF(D21="Alcool",0.75,0.39)) -> 0.75 | Q21: =O21*P21 -> 1.5 | R21: Kaï | S21: 18000 | T21: 18000
A22: 12 | B22: Février | C22: 2022 | D22: Sirop | E22: 1 | F22: =IF(D22="Sirop",70210000,IF(D22="Alcool",70220000,IF(D22="Confiture",70230000,""))) -> 70210000 | G22: =DATE(C22,H22,A22) -> 44604 | H22: =OFFSET(INDEX('Ne pas toucher'!$B$3:$B$14,MATCH(B22,'Ne pas toucher'!$B$3:$B$14,0)),0,1) -> 2 | I22: =IF(A22<10,CONCATENATE(0&A22),A22) -> 12 | J22: =IF(H22<10,CONCATENATE(0&H22),H22) -> 02 | K22: =RIGHT(C22,2) -> 22 | L22: =IF(E22<10,CONCATENATE(0&E22),E22) -> 01 | M22: =CONCATENATE("VT"&I22&J22&K22&L22) -> VT12022201 | N22: Leopold Boukeu | O22: 1 | P22: =IF(D22="Sirop",1,IF(D22="Alcool",0.75,0.39)) -> 1 | Q22: =O22*P22 -> 1 | R22: Bita cola | S22: 9500 | T22: 9500
A23: 12 | B23: Février | C23: 2022 | D23: Sirop | E23: 1 | F23: =IF(D23="Sirop",70210000,IF(D23="Alcool",70220000,IF(D23="Confiture",70230000,""))) -> 70210000 | G23: =DATE(C23,H23,A23) -> 44604 | H23: =OFFSET(INDEX('Ne pas toucher'!$B$3:$B$14,MATCH(B23,'Ne pas toucher'!$B$3:$B$14,0)),0,1) -> 2 | I23: =IF(A23<10,CONCATENATE(0&A23),A23) -> 12 | J23: =IF(H23<10,CONCATENATE(0&H23),H23) -> 02 | K23: =RIGHT(C23,2) -> 22 | L23: =IF(E23<10,CONCATENATE(0&E23),E23) -> 01 | M23: =CONCATENATE("VT"&I23&J23&K23&L23) -> VT12022201 | N23: Leopold Boukeu | O23: 1 | P23: =IF(D23="Sirop",1,IF(D23="Alcool",0.75,0.39)) -> 1 | Q23: =O23*P23 -> 1 | R23: Gingembre | S23: 5000 | T23: 5000
A24: 12 | B24: Février | C24: 2022 | D24: Sirop | E24: 1 | F24: =IF(D24="Sirop",70210000,IF(D24="Alcool",70220000,IF(D24="Confiture",70230000,""))) -> 70210000 | G24: =DATE(C24,H24,A24) -> 44604 | H24: =OFFSET(INDEX('Ne pas toucher'!$B$3:$B$14,MATCH(B24,'Ne pas toucher'!$B$3:$B$14,0)),0,1) -> 2 | I24: =IF(A24<10,CONCATENATE(0&A24),A24) -> 12 | J24: =IF(H24<10,CONCATENATE(0&H24),H24) -> 02 | K24: =RIGHT(C24,2) -> 22 | L24: =IF(E24<10,CONCATENATE(0&E24),E24) -> 01 | M24: =CONCATENATE("VT"&I24&J24&K24&L24) -> VT12022201 | N24: Leopold Boukeu | O24: 1 | P24: =IF(D24="Sirop",1,IF(D24="Alcool",0.75,0.39)) -> 1 | Q24: =O24*P24 -> 1 | R24: Bissap | S24: 4500 | T24: 4500
A25: 14 | B25: Février | C25: 2022 | D25: Sirop | E25: 1 | F25: =IF(D25="Sirop",70210000,IF(D25="Alcool",70220000,IF(D25="Confiture",70230000,""))) -> 70210000 | G25: =DATE(C25,H25,A25) -> 44606 | H25: =OFFSET(INDEX('Ne pas toucher'!$B$3:$B$14,MATCH(B25,'Ne pas toucher'!$B$3:$B$14,0)),0,1) -> 2 | I25: =IF(A25<10,CONCATENATE(0&A25),A25) -> 14 | J25: =IF(H25<10,CONCATENATE(0&H25),H25) -> 02 | K25: =RIGHT(C25,2) -> 22 | L25: =IF(E25<10,CONCATENATE(0&E25),E25) -> 01 | M25: =CONCATENATE("VT"&I25&J25&K25&L25) -> VT14022201 | N25: Hermine | O25: 1 | P25: =IF(D25="Sirop",1,IF(D25="Alcool",0.75,0.39)) -> 1 | Q25: =O25*P25 -> 1 | R25: Citron | S25: 5200 | T25: 5200
A26: 14 | B26: Février | C26: 2022 | D26: Sirop | E26: 1 | F26: =IF(D26="Sirop",70210000,IF(D26="Alcool",70220000,IF(D26="Confiture",70230000,""))) -> 70210000 | G26: =DATE(C26,H26,A26) -> 44606 | H26: =OFFSET(INDEX('Ne pas toucher'!$B$3:$B$14,MATCH(B26,'Ne pas toucher'!$B$3:$B$14,0)),0,1) -> 2 | I26: =IF(A26<10,CONCATENATE(0&A26),A26) -> 14 | J26: =IF(H26<10,CONCATENATE(0&H26),H26) -> 02 | K26: =RIGHT(C26,2) -> 22 | L26: =IF(E26<10,CONCATENATE(0&E26),E26) -> 01 | M26: =CONCATENATE("VT"&I26&J26&K26&L26) -> VT14022201 | N26: Hermine | O26: 1 | P26: =IF(D26="Sirop",1,IF(D26="Alcool",0.75,0.39)) -> 1 | Q26: =O26*P26 -> 1 | R26: Gingembre | S26: 5200 | T26: 5200
... A39: 16 | B39: Février | C39: 2022 | D39: Sirop | E39: 1 | F39: =IF(D39="Sirop",70210000,IF(D39="Alcool",70220000,IF(D39="Confiture",70230000,""))) -> 70210000 | G39: =DATE(C39,H39,A39) -> 44608 | H39: =OFFSET(INDEX('Ne pas toucher'!$B$3:$B$14,MATCH(B39,'Ne pas toucher'!$B$3:$B$14,0)),0,1) -> 2 | I39: =IF(A39<10,CONCATENATE(0&A39),A39) -> 16 | J39: =IF(H39<10,CONCATENATE(0&H39),H39) -> 02 | K39: =RIGHT(C39,2) -> 22 | L39: =IF(E39<10,CONCATENATE(0&E39),E39) -> 01 | M39: =CONCATENATE("VT"&I39&J39&K39&L39) -> VT16022201 | N39: WDC hotel Bobigny | O39: 1 | P39: =IF(D39="Sirop",1,IF(D39="Alcool",0.75,0.39)) -> 1 | Q39: =O39*P39 -> 1 | R39: Fraise | S39: 5000 | T39: 5000
A40: 16 | B40: Février | C40: 2022 | D40: Sirop | E40: 2 | F40: =IF(D40="Sirop",70210000,IF(D40="Alcool",70220000,IF(D40="Confiture",70230000,""))) -> 70210000 | G40: =DATE(C40,H40,A40) -> 44608 | H40: =OFFSET(INDEX('Ne pas toucher'!$B$3:$B$14,MATCH(B40,'Ne pas toucher'!$B$3:$B$14,0)),0,1) -> 2 | I40: =IF(A40<10,CONCATENATE(0&A40),A40) -> 16 | J40: =IF(H40<10,CONCATENATE(0&H40),H40) -> 02 | K40: =RIGHT(C40,2) -> 22 | L40: =IF(E40<10,CONCATENATE(0&E40),E40) -> 02 | M40: =CONCATENATE("VT"&I40&J40&K40&L40) -> VT16022202 | N40: Amazing coffee | O40: 3 | P40: 0.7 | Q40: =O40*P40 -> 2.1 | R40: Bissap | S40: 8310
A41: 16 | B41: Février | C41: 2022 | D41: Sirop | E41: 2 | F41: =IF(D41="Sirop",70210000,IF(D41="Alcool",70220000,IF(D41="Confiture",70230000,""))) -> 70210000 | G41: =DATE(C41,H41,A41) -> 44608 | H41: =OFFSET(INDEX('Ne pas toucher'!$B$3:$B$14,MATCH(B41,'Ne pas toucher'!$B$3:$B$14,0)),0,1) -> 2 | I41: =IF(A41<10,CONCATENATE(0&A41),A41) -> 16 | J41: =IF(H41<10,CONCATENATE(0&H41),H41) -> 02 | K41: =RIGHT(C41,2) -> 22 | L41: =IF(E41<10,CONCATENATE(0&E41),E41) -> 02 | M41: =CONCATENATE("VT"&I41&J41&K41&L41) -> VT16022202 | N41: Amazing coffee | O41: 4 | P41: =IF(D41="Sirop",1,IF(D41="Alcool",0.75,0.39)) -> 1 | Q41: =O41*P41 -> 4 | R41: Gingembre | S41: 13400
A42: 16 | B42: Février | C42: 2022 | D42: Sirop | E42: 2 | F42: =IF(D42="Sirop",70210000,IF(D42="Alcool",70220000,IF(D42="Confiture",70230000,""))) -> 70210000 | G42: =DATE(C42,H42,A42) -> 44608 | H42: =OFFSET(INDEX('Ne pas toucher'!$B$3:$B$14,MATCH(B42,'Ne pas toucher'!$B$3:$B$14,0)),0,1) -> 2 | I42: =IF(A42<10,CONCATENATE(0&A42),A42) -> 16 | J42: =IF(H42<10,CONCATENATE(0&H42),H42) -> 02 | K42: =RIGHT(C42,2) -> 22 | L42: =IF(E42<10,CONCATENATE(0&E42),E42) -> 02 | M42: =CONCATENATE("VT"&I42&J42&K42&L42) -> VT16022202 | N42: Amazing coffee | O42: 2 | P42: =IF(D42="Sirop",1,IF(D42="Alcool",0.75,0.39)) -> 1 | Q42: =O42*P42 -> 2 | R42: Passion | S42: 7900
A43: 16 | B43: Février | C43: 2022 | D43: Sirop | E43: 2 | F43: =IF(D43="Sirop",70210000,IF(D43="Alcool",70220000,IF(D43="Confiture",70230000,""))) -> 70210000 | G43: =DATE(C43,H43,A43) -> 44608 | H43: =OFFSET(INDEX('Ne pas toucher'!$B$3:$B$14,MATCH(B43,'Ne pas toucher'!$B$3:$B$14,0)),0,1) -> 2 | I43: =IF(A43<10,CONCATENATE(0&A43),A43) -> 16 | J43: =IF(H43<10,CONCATENATE(0&H43),H43) -> 02 | K43: =RIGHT(C43,2) -> 22 | L43: =IF(E43<10,CONCATENATE(0&E43),E43) -> 02 | M43: =CONCATENATE("VT"&I43&J43&K43&L43) -> VT16022202 | N43: Amazing coffee | O43: 2 | P43: =IF(D43="Sirop",1,IF(D43="Alcool",0.75,0.39)) -> 1 | Q43: =O43*P43 -> 2 | R43: Corossol | S43: 7900
A44: 17 | B44: Février | C44: 2022 | D44: Sirop | E44: 1 | F44: =IF(D44="Sirop",70210000,IF(D44="Alcool",70220000,IF(D44="Confiture",70230000,""))) -> 70210000 | G44: =DATE(C44,H44,A44) -> 44609 | H44: =OFFSET(INDEX('Ne pas toucher'!$B$3:$B$14,MATCH(B44,'Ne pas toucher'!$B$3:$B$14,0)),0,1) -> 2 | I44: =IF(A44<10,CONCATENATE(0&A44),A44) -> 17 | J44: =IF(H44<10,CONCATENATE(0&H44),H44) -> 02 | K44: =RIGHT(C44,2) -> 22 | L44: =IF(E44<10,CONCATENATE(0&E44),E44) -> 01 | M44: =CONCATENATE("VT"&I44&J44&K44&L44) -> VT17022201 | N44: WDC hotel Bobigny | O44: 1 | P44: =IF(D44="Sirop",1,IF(D44="Alcool",0.75,0.39)) -> 1 | Q44: =O44*P44 -> 1 | R44: Pamplemousse | S44: 9500
A45: 21 | B45: Février | C45: 2022 | D45: Sirop | E45: 1 | F45: =IF(D45="Sirop",70210000,IF(D45="Alcool",70220000,IF(D45="Confiture",70230000,""))) -> 70210000 | G45: =DATE(C45,H45,A45) -> 44613 | H45: =OFFSET(INDEX('Ne pas toucher'!$B$3:$B$14,MATCH(B45,'Ne pas toucher'!$B$3:$B$14,0)),0,1) -> 2 | I45: =IF(A45<10,CONCATENATE(0&A45),A45) -> 21 | J45: =IF(H45<10,CONCATENATE(0&H45),H45) -> 02 | K45: =RIGHT(C45,2) -> 22 | L45: =IF(E45<10,CONCATENATE(0&E45),E45) -> 01 | M45: =CONCATENATE("VT"&I45&J45&K45&L45) -> VT21022201 | N45: Nelly Baku | O45: 3 | P45: =IF(D45="Sirop",1,IF(D45="Alcool",0.75,0.39)) -> 1 | Q45: =O45*P45 -> 3 | R45: Bissap | S45: 13500
A46: 22 | B46: Février | C46: 2022 | D46: Sirop | E46: 1 | F46: =IF(D46="Sirop",70210000,IF(D46="Alcool",70220000,IF(D46="Confiture",70230000,""))) -> 70210000 | G46: =DATE(C46,H46,A46) -> 44614 | H46: =OFFSET(INDEX('Ne pas toucher'!$B$3:$B$14,MATCH(B46,'Ne pas toucher'!$B$3:$B$14,0)),0,1) -> 2 | I46: =IF(A46<10,CONCATENATE(0&A46),A46) -> 22 | J46: =IF(H46<10,CONCATENATE(0&H46),H46) -> 02 | K46: =RIGHT(C46,2) -> 22 | L46: =IF(E46<10,CONCATENATE(0&E46),E46) -> 01 | M46: =CONCATENATE("VT"&I46&J46&K46&L46) -> VT22022201 | N46: Souleyman | O46: 1 | P46: =IF(D46="Sirop",1,IF(D46="Alcool",0.75,0.39)) -> 1 | Q46: =O46*P46 -> 1 | R46: Gingembre | S46: 5000
A47: 22 | B47: Février | C47: 2022 | D47: Sirop | E47: 1 | F47: =IF(D47="Sirop",70210000,IF(D47="Alcool",70220000,IF(D47="Confiture",70230000,""))) -> 70210000 | G47: =DATE(C47,H47,A47) -> 44614 | H47: =OFFSET(INDEX('Ne pas toucher'!$B$3:$B$14,MATCH(B47,'Ne pas toucher'!$B$3:$B$14,0)),0,1) -> 2 | I47: =IF(A47<10,CONCATENATE(0&A47),A47) -> 22 | J47: =IF(H47<10,CONCATENATE(0&H47),H47) -> 02 | K47: =RIGHT(C47,2) -> 22 | L47: =IF(E47<10,CONCATENATE(0&E47),E47) -> 01 | M47: =CONCATENATE("VT"&I47&J47&K47&L47) -> VT22022201 | N47: Souleyman | O47: 1 | P47: =IF(D47="Sirop",1,IF(D47="Alcool",0.75,0.39)) -> 1 | Q47: =O47*P47 -> 1 | R47: Ananas | S47: 5000
A48: 23 | B48: Février | C48: 2022 | D48: Alcool | E48: 1 | F48: =IF(D48="Sirop",70210000,IF(D48="Alcool",70220000,IF(D48="Confiture",70230000,""))) -> 70220000 | G48: =DATE(C48,H48,A48) -> 44615 | H48: =OFFSET(INDEX('Ne pas toucher'!$B$3:$B$14,MATCH(B48,'Ne pas toucher'!$B$3:$B$14,0)),0,1) -> 2 | I48: =IF(A48<10,CONCATENATE(0&A48),A48) -> 23 | J48: =IF(H48<10,CONCATENATE(0&H48),H48) -> 02 | K48: =RIGHT(C48,2) -> 22 | L48: =IF(E48<10,CONCATENATE(0&E48),E48) -> 01 | M48: =CONCATENATE("VT"&I48&J48&K48&L48) -> VT23022201 | N48: O'CONNOR | O48: 2 | P48: =IF(D48="Sirop",1,IF(D48="Alcool",0.75,0.39)) -> 0.75 | Q48: =O48*P48 -> 1.5 | R48: Macho | S48: 18000
A49: 25 | B49: Février | C49: 2022 | D49: Alcool | E49: 1 | F49: =IF(D49="Sirop",70210000,IF(D49="Alcool",70220000,IF(D49="Confiture",70230000,""))) -> 70220000 | G49: =DATE(C49,H49,A49) -> 44617 | H49: =OFFSET(INDEX('Ne pas toucher'!$B$3:$B$14,MATCH(B49,'Ne pas toucher'!$B$3:$B$14,0)),0,1) -> 2 | I49: =IF(A49<10,CONCATENATE(0&A49),A49) -> 25 | J49: =IF(H49<10,CONCATENATE(0&H49),H49) -> 02 | K49: =RIGHT(C49,2) -> 22 | L49: =IF(E49<10,CONCATENATE(0&E49),E49) -> 01 | M49: =CONCATENATE("VT"&I49&J49&K49&L49) -> VT25022201 | N49: Barney | O49: 2 | P49: =IF(D49="Sirop",1,IF(D49="Alcool",0.75,0.39)) -> 0.75 | Q49: =O49*P49 -> 1.5 | R49: Kaï | S49: 20000
A50: 25 | B50: Février | C50: 2022 | D50: Sirop | E50: 1 | F50: =IF(D50="Sirop",70210000,IF(D50="Alcool",70220000,IF(D50="Confiture",70230000,""))) -> 70210000 | G50: =DATE(C50,H50,A50) -> 44617 | H50: =OFFSET(INDEX('Ne pas toucher'!$B$3:$B$14,MATCH(B50,'Ne pas toucher'!$B$3:$B$14,0)),0,1) -> 2 | I50: =IF(A50<10,CONCATENATE(0&A50),A50) -> 25 | J50: =IF(H50<10,CONCATENATE(0&H50),H50) -> 02 | K50: =RIGHT(C50,2) -> 22 | L50: =IF(E50<10,CONCATENATE(0&E50),E50) -> 01 | M50: =CONCATENATE("VT"&I50&J50&K50&L50) -> VT25022201 | N50: Barney | O50: 1 | P50: =IF(D50="Sirop",1,IF(D50="Alcool",0.75,0.39)) -> 1 | Q50: =O50*P50 -> 1 | R50: Bita cola | S50: 9500
A51: 25 | B51: Février | C51: 2022 | D51: Sirop | E51: 2 | F51: =IF(D51="Sirop",70210000,IF(D51="Alcool",70220000,IF(D51="Confiture",70230000,""))) -> 70210000 | G51: =DATE(C51,H51,A51) -> 44617 | H51: =OFFSET(INDEX('Ne pas toucher'!$B$3:$B$14,MATCH(B51,'Ne pas toucher'!$B$3:$B$14,0)),0,1) -> 2 | I51: =IF(A51<10,CONCATENATE(0&A51),A51) -> 25 | J51: =IF(H51<10,CONCATENATE(0&H51),H51) -> 02 | K51: =RIGHT(C51,2) -> 22 | L51: =IF(E51<10,CONCATENATE(0&E51),E51) -> 02 | M51: =CONCATENATE("VT"&I51&J51&K51&L51) -> VT25022202 | N51: Alida Nantes | O51: 10 | P51: =IF(D51="Sirop",1,IF(D51="Alcool",0.75,0.39)) -> 1 | Q51: =O51*P51 -> 10 | R51: Gingembbre | S51: 45000
A52: 25 | B52: Février | C52: 2022 | D52: Sirop | E52: 2 | F52: =IF(D52="Sirop",70210000,IF(D52="Alcool",70220000,IF(D52="Confiture",70230000,""))) -> 70210000 | G52: =DATE(C52,H52,A52) -> 44617 | H52: =OFFSET(INDEX('Ne pas toucher'!$B$3:$B$14,MATCH(B52,'Ne pas toucher'!$B$3:$B$14,0)),0,1) -> 2 | I52: =IF(A52<10,CONCATENATE(0&A52),A52) -> 25 | J52: =IF(H52<10,CONCATENATE(0&H52),H52) -> 02 | K52: =RIGHT(C52,2) -> 22 | L52: =IF(E52<10,CONCATENATE(0&E52),E52) -> 02 | M52: =CONCATENATE("VT"&I52&J52&K52&L52) -> VT25022202 | N52: Alida Nantes | O52: 7 | P52: =IF(D52="Sirop",1,IF(D52="Alcool",0.75,0.39)) -> 1 | Q52: =O52*P52 -> 7 | R52: Bissap | S52: 30875
...

Sheet Inventaire clients
B2: MONTANT DES VENTES PAR CLIENTS
B4: Jour | C4: Type | D4: Client | E4: Montant
E5: =IF($C5="Tous",SUMPRODUCT((Ventes!$G$2:$G$5000='Inventaire clients'!$B5)*(Ventes!$N$2:$N$5000='Inventaire clients'!$D5)*(Ventes!$S$2:$S$5000)),SUMPRODUCT((Ventes!$B$2:$B$5000='Inventaire clients'!$B5)*(Ventes!$D$2:$D$5000='Inventaire clients'!$C5)*(Ventes!$N$2:$N$5000='Inventaire clients'!D5)*(Ventes!$S$2:$S$5000))) -> 0
B7: Mois | C7: Type | D7: Client | E7: Montant
E8: =IF($C8="Tous",SUMPRODUCT((Ventes!$B$2:$B$5000='Inventaire clients'!$B8)*(Ventes!$N$2:$N$5000='Inventaire clients'!$D8)*(Ventes!$S$2:$S$5000)),SUMPRODUCT((Ventes!$B$2:$B$5000='Inventaire clients'!$B8)*(Ventes!$D$2:$D$5000='Inventaire clients'!$C8)*(Ventes!$N$2:$N$5000='Inventaire clients'!D8)*(Ventes!$S$2:$S$5000))) -> 0
B10: Année | C10: Type | D10: Client | E10: Montant
E11: =IF($C11="Tous",SUMPRODUCT((Ventes!$C$2:$C$5000='Inventaire clients'!$B11)*(Ventes!$N$2:$N$5000='Inventaire clients'!$D11)*(Ventes!$S$2:$S$5000)),SUMPRODUCT((Ventes!$C$2:$C$5000='Inventaire clients'!$B11)*(Ventes!$D$2:$D$5000='Inventaire clients'!$C11)*(Ventes!$N$2:$N$5000='Inventaire clients'!D11)*(Ventes!$S$2:$S$5000))) -> 0

Sheet Inventaire produits
B2: MONTANT DES VENTES ET QUANTITÉS PAR PRODUITS
B4: Jour | C4: Type | D4: Produit | E4: Quantité | F4: Montant
E5: =IF(ISBLANK($D5)=TRUE,SUMPRODUCT((Ventes!$G$2:$G$5000='Inventaire produits'!$B5*(Ventes!$D$2:$D$5000='Inventaire produits'!$C5)*(Ventes!$Q$2:$Q$5000))),(SUMPRODUCT((Ventes!$G$2:$G$5000='Inventaire produits'!$B5*(Ventes!$D$2:$D$5000='Inventaire produits'!$C5)*(Ventes!$R$2:$R$5000='Inventaire produits'!$D5)*(Ventes!$Q$2:$Q$5000))))) -> 0 | F5: =IF(ISBLANK($D5)=TRUE,SUMPRODUCT((Ventes!$G$2:$G$5000='Inventaire produits'!$B5)*(Ventes!$D$2:$D$5000='Inventaire produits'!$C5)*(Ventes!$S$2:$S$5000)),SUMPRODUCT((Ventes!$G$2:$G$5000='Inventaire produits'!$B5)*(Ventes!$D$2:$D$5000='Inventaire produits'!$C5)*(Ventes!$R$2:$R$5000='Inventaire produits'!$D5)*(Ventes!$S$2:$S$5000))) -> 0
B7: Mois | C7: Type | D7: Produit | E7: Quantité | F7: Montant
E8: =IF(ISBLANK($D8)=TRUE,SUMPRODUCT((Ventes!$B$2:$B$5000='Inventaire produits'!$B8)*(Ventes!$D$2:$D$5000='Inventaire produits'!$C8)*(Ventes!$Q$2:$Q$5000)),SUMPRODUCT((Ventes!$B$2:$B$5000='Inventaire produits'!$B8)*(Ventes!$D$2:$D$5000='Inventaire produits'!$C8)*(Ventes!$R$2:$R$5000='Inventaire produits'!$D8)*(Ventes!$Q$2:$Q$5000))) -> 0 | F8: =IF(ISBLANK($D8)=TRUE,SUMPRODUCT((Ventes!$B$2:$B$5000='Inventaire produits'!$B8)*(Ventes!$D$2:$D$5000='Inventaire produits'!$C8)*(Ventes!$S$2:$S$5000)),SUMPRODUCT((Ventes!$B$2:$B$5000='Inventaire produits'!$B8)*(Ventes!$D$2:$D$5000='Inventaire produits'!$C8)*(Ventes!$R$2:$R$5000='Inventaire produits'!$D8)*(Ventes!$S$2:$S$5000))) -> 0
B10: Année | C10: Type | D10: Produit | E10: Quantité | F10: Montant
E11: =IF(ISBLANK($D11)=TRUE,SUMPRODUCT((Ventes!$C$2:$C$5000='Inventaire produits'!$B11)*(Ventes!$D$2:$D$5000='Inventaire produits'!$C11)*(Ventes!$Q$2:$Q$5000)),SUMPRODUCT((Ventes!$C$2:$C$5000='Inventaire produits'!$B11)*(Ventes!$D$2:$D$5000='Inventaire produits'!$C11)*(Ventes!$R$2:$R$5000='Inventaire produits'!$D11)*(Ventes!$Q$2:$Q$5000))) -> 0 | F11: =IF(ISBLANK($D11)=TRUE,SUMPRODUCT((Ventes!$C$2:$C$5000='Inventaire produits'!$B11)*(Ventes!$D$2:$D$5000='Inventaire produits'!$C11)*(Ventes!$S$2:$S$5000)),SUMPRODUCT((Ventes!$C$2:$C$5000='Inventaire produits'!$B11)*(Ventes!$D$2:$D$5000='Inventaire produits'!$C11)*(Ventes!$R$2:$R$5000='Inventaire produits'!$D11)*(Ventes!$S$2:$S$5000))) -> 0

Sheet TCD
B2: =Ventes!G1 -> Date | C2: =Ventes!M1 -> Num Facture | D2: =Ventes!D1 -> Type | E2: =Ventes!N1 -> Client | F2: =Ventes!S1 -> Montant
B3: =Ventes!G2 -> 44594 | C3: =Ventes!M2 -> VT02022201 | D3: =Ventes!D2 -> Sirop | E3: =Ventes!N2 -> Thierry Royer | F3: =Ventes!S2 -> 9500
B4: =Ventes!G3 -> 44594 | C4: =Ventes!M3 -> VT02022201 | D4: =Ventes!D3 -> Sirop | E4: =Ventes!N3 -> Thierry Royer | F4: =Ventes!S3 -> 5000
B5: =Ventes!G4 -> 44594 | C5: =Ventes!M4 -> VT02022201 | D5: =Ventes!D4 -> Sirop | E5: =Ventes!N4 -> Thierry Royer | F5: =Ventes!S4 -> 5000
B6: =Ventes!G5 -> 44594 | C6: =Ventes!M5 -> VT02022202 | D6: =Ventes!D5 -> Alcool | E6: =Ventes!N5 -> Baye | F6: =Ventes!S5 -> 10000
B7: =Ventes!G6 -> 44594 | C7: =Ventes!M6 -> VT02022203 | D7: =Ventes!D6 -> Sirop | E7: =Ventes!N6 -> O'CONNOR | F7: =Ventes!S6 -> 4500
B8: =Ventes!G7 -> 44594 | C8: =Ventes!M7 -> VT02022203 | D8: =Ventes!D7 -> Alcool | E8: =Ventes!N7 -> O'CONNOR | F8: =Ventes!S7 -> 9500
B9: =Ventes!G8 -> 44600 | C9: =Ventes!M8 -> VT08022201 | D9: =Ventes!D8 -> Alcool | E9: =Ventes!N8 -> Chantal Boucher | F9: =Ventes!S8 -> 12000
B10: =Ventes!G9 -> 44600 | C10: =Ventes!M9 -> VT08022201 | D10: =Ventes!D9 -> Sirop | E10: =Ventes!N9 -> Chantal Boucher | F10: =Ventes!S9 -> 3500
B11: =Ventes!G10 -> 44600 | C11: =Ventes!M10 -> VT08022201 | D11: =Ventes!D10 -> Sirop | E11: =Ventes!N10 -> Chantal Boucher | F11: =Ventes!S10 -> 2500
B12: =Ventes!G11 -> 44600 | C12: =Ventes!M11 -> VT08022202 | D12: =Ventes!D11 -> Sirop | E12: =Ventes!N11 -> Hermine | F12: =Ventes!S11 -> 3500
B13: =Ventes!G12 -> 44601 | C13: =Ventes!M12 -> VT09022203 | D13: =Ventes!D12 -> Alcool | E13: =Ventes!N12 -> Francine Reno | F13: =Ventes!S12 -> 10000
... B1000: =Ventes!G999 -> 0 | C1000: =Ventes!M999 -> 0 | D1000: =Ventes!D999 -> 0 | E1000: =Ventes!N999 -> 0 | F1000: =Ventes!S999 -> 0
