Workbook

Sheet Liens articles-gammes
A1: N° Article | B1: Désignation | C1: N° gamme
A2: 10112000 | B2: A | C2: 10112000 | D2: =COUNTIF('Liens opérations-gammes'!A:A,'Liens articles-gammes'!C2) -> 1 | E2: =SUM(D$1:D1)+1 -> 1 | F2: =A2 -> 10112000
A3: 10112102 | B3: B | C3: 10112101 | D3: =COUNTIF('Liens opérations-gammes'!A:A,'Liens articles-gammes'!C3) -> 2 | E3: =SUM(D$1:D2)+1 -> 2 | F3: =A3 -> 10112102
A4: 10112500 | B4: C | C4: 10112500 | D4: =COUNTIF('Liens opérations-gammes'!A:A,'Liens articles-gammes'!C4) -> 1 | E4: =SUM(D$1:D3)+1 -> 4 | F4: =A4 -> 10112500
A5: 10120502 | B5: D | C5: 10120502 | D5: =COUNTIF('Liens opérations-gammes'!A:A,'Liens articles-gammes'!C5) -> 1 | E5: =SUM(D$1:D4)+1 -> 5 | F5: =A5 -> 10120502
A6: 10121300 | B6: E | C6: 10121300 | D6: =COUNTIF('Liens opérations-gammes'!A:A,'Liens articles-gammes'!C6) -> 3 | E6: =SUM(D$1:D5)+1 -> 6 | F6: =A6 -> 10121300
A7: 10121500 | B7: F | C7: 10121500 | D7: =COUNTIF('Liens opérations-gammes'!A:A,'Liens articles-gammes'!C7) -> 1 | E7: =SUM(D$1:D6)+1 -> 9 | F7: =A7 -> 10121500
A8: 10121600 | B8: G | C8: 10121600 | D8: =COUNTIF('Liens opérations-gammes'!A:A,'Liens articles-gammes'!C8) -> 1 | E8: =SUM(D$1:D7)+1 -> 10 | F8: =A8 -> 10121600
A9: 10121702 | B9: H | C9: 10121702 | D9: =COUNTIF('Liens opérations-gammes'!A:A,'Liens articles-gammes'!C9) -> 2 | E9: =SUM(D$1:D8)+1 -> 11 | F9: =A9 -> 10121702
A10: 10121900 | B10: I | C10: 10121900 | D10: =COUNTIF('Liens opérations-gammes'!A:A,'Liens articles-gammes'!C10) -> 1 | E10: =SUM(D$1:D9)+1 -> 13 | F10: =A10 -> 10121900
A11: 10131702 | B11: J | C11: 10131702 | D11: =COUNTIF('Liens opérations-gammes'!A:A,'Liens articles-gammes'!C11) -> 1 | E11: =SUM(D$1:D10)+1 -> 14 | F11: =A11 -> 10131702
A12: 10131800 | B12: K | C12: 10131800 | D12: =COUNTIF('Liens opérations-gammes'!A:A,'Liens articles-gammes'!C12) -> 4 | E12: =SUM(D$1:D11)+1 -> 15 | F12: =A12 -> 10131800
A13: 10156000 | B13: L | C13: 10156000 | D13: =COUNTIF('Liens opérations-gammes'!A:A,'Liens articles-gammes'!C13) -> 1 | E13: =SUM(D$1:D12)+1 -> 19 | F13: =A13 -> 10156000
... A50: 10249002 | B50: WA | C50: 10249002 | D50: =COUNTIF('Liens opérations-gammes'!A:A,'Liens articles-gammes'!C50) -> 1 | E50: =SUM(D$1:D49)+1 -> 68 | F50: =A50 -> 10249002

Sheet Liens opérations-gammes
A1: N° gamme | B1: N° opération | C1: Dés opération
A2: 10112000 | B2: 10 | C2: Fraisage
A3: 10112101 | B3: 10 | C3: Tournage
A4: 10112101 | B4: 20 | C4: Perçage
A5: 10112500 | B5: 10 | C5: Fraisage
A6: 10120502 | B6: 10 | C6: Fraisage
A7: 10121300 | B7: 10 | C7: Tournage
A8: 10121300 | B8: 20 | C8: Taraudage
A9: 10121300 | B9: 30 | C9: Soudage
A10: 10121500 | B10: 10 | C10: Tournage
A11: 10121600 | B11: 10 | C11: Tournage
A12: 10121702 | B12: 10 | C12: Tournage
A13: 10121702 | B13: 20 | C13: Perçage
... A69: 10249002 | B69: 10 | C69: Tournage

Sheet Groupement
A1: N° article | B1: N° gamme | C1: N° opération | D1: Des opération
A2: =IFERROR(VLOOKUP(ROW()-1,'Liens articles-gammes'!E:F,2,FALSE),Groupement!A1) -> 10112000 | B2: =VLOOKUP(A2,'Liens articles-gammes'!A:C,3,FALSE) -> 10112000 | C2: ? | D2: ?
A3: =IFERROR(VLOOKUP(ROW()-1,'Liens articles-gammes'!E:F,2,FALSE),Groupement!A2) -> 10112102 | B3: =VLOOKUP(A3,'Liens articles-gammes'!A:C,3,FALSE) -> 10112101 | C3: ? | D3: ?
A4: =IFERROR(VLOOKUP(ROW()-1,'Liens articles-gammes'!E:F,2,FALSE),Groupement!A3) -> 10112102 | B4: =VLOOKUP(A4,'Liens articles-gammes'!A:C,3,FALSE) -> 10112101 | C4: ? | D4: ?
A5: =IFERROR(VLOOKUP(ROW()-1,'Liens articles-gammes'!E:F,2,FALSE),Groupement!A4) -> 10112500 | B5: =VLOOKUP(A5,'Liens articles-gammes'!A:C,3,FALSE) -> 10112500 | C5: ? | D5: ?
A6: =IFERROR(VLOOKUP(ROW()-1,'Liens articles-gammes'!E:F,2,FALSE),Groupement!A5) -> 10120502 | B6: =VLOOKUP(A6,'Liens articles-gammes'!A:C,3,FALSE) -> 10120502
A7: =IFERROR(VLOOKUP(ROW()-1,'Liens articles-gammes'!E:F,2,FALSE),Groupement!A6) -> 10121300 | B7: =VLOOKUP(A7,'Liens articles-gammes'!A:C,3,FALSE) -> 10121300
A8: =IFERROR(VLOOKUP(ROW()-1,'Liens articles-gammes'!E:F,2,FALSE),Groupement!A7) -> 10121300 | B8: =VLOOKUP(A8,'Liens articles-gammes'!A:C,3,FALSE) -> 10121300
A9: =IFERROR(VLOOKUP(ROW()-1,'Liens articles-gammes'!E:F,2,FALSE),Groupement!A8) -> 10121300 | B9: =VLOOKUP(A9,'Liens articles-gammes'!A:C,3,FALSE) -> 10121300
A10: =IFERROR(VLOOKUP(ROW()-1,'Liens articles-gammes'!E:F,2,FALSE),Groupement!A9) -> 10121500 | B10: =VLOOKUP(A10,'Liens articles-gammes'!A:C,3,FALSE) -> 10121500
A11: =IFERROR(VLOOKUP(ROW()-1,'Liens articles-gammes'!E:F,2,FALSE),Groupement!A10) -> 10121600 | B11: =VLOOKUP(A11,'Liens articles-gammes'!A:C,3,FALSE) -> 10121600
A12: =IFERROR(VLOOKUP(ROW()-1,'Liens articles-gammes'!E:F,2,FALSE),Groupement!A11) -> 10121702 | B12: =VLOOKUP(A12,'Liens articles-gammes'!A:C,3,FALSE) -> 10121702
A13: =IFERROR(VLOOKUP(ROW()-1,'Liens articles-gammes'!E:F,2,FALSE),Groupement!A12) -> 10121702 | B13: =VLOOKUP(A13,'Liens articles-gammes'!A:C,3,FALSE) -> 10121702
A14: =IFERROR(VLOOKUP(ROW()-1,'Liens articles-gammes'!E:F,2,FALSE),Groupement!A13) -> 10121900 | B14: =VLOOKUP(A14,'Liens articles-gammes'!A:C,3,FALSE) -> 10121900
A15: =IFERROR(VLOOKUP(ROW()-1,'Liens articles-gammes'!E:F,2,FALSE),Groupement!A14) -> 10131702 | B15: =VLOOKUP(A15,'Liens articles-gammes'!A:C,3,FALSE) -> 10131702
A16: =IFERROR(VLOOKUP(ROW()-1,'Liens articles-gammes'!E:F,2,FALSE),Groupement!A15) -> 10131800 | B16: =VLOOKUP(A16,'Liens articles-gammes'!A:C,3,FALSE) -> 10131800
A17: =IFERROR(VLOOKUP(ROW()-1,'Liens articles-gammes'!E:F,2,FALSE),Groupement!A16) -> 10131800 | B17: =VLOOKUP(A17,'Liens articles-gammes'!A:C,3,FALSE) -> 10131800
... A69: =IFERROR(VLOOKUP(ROW()-1,'Liens articles-gammes'!E:F,2,FALSE),Groupement!A68) -> 10249002 | B69: =VLOOKUP(A69,'Liens articles-gammes'!A:C,3,FALSE) -> 10249002
