Workbook

Sheet Base
A1: Date | B1: FOUR | C1: Produit | D1: Designation | E1: Code Produit | F1: Code Produit 128 | G1: Code INTParc | H1: Code INT128 | I1: QTE
A2: 43966 | B2: B | C2: R00LIPE5692 | D2: Tulipe rouge | E2: TEST1 | F2: =E2 -> TEST1 | G2: 123456 | H2: =G2 -> 123456 | I2: 10
A3: 43966 | B3: B | C3: R00452DSFSDF44 | D3: Rose | E3: 87654321 | F3: =E3 -> 87654321 | G3: 654321 | H3: =G3 -> 654321 | I3: 88 | M3: je souihaiterai imprimer des etiquettes de support ,suivant la date de reception de ma base en automatique
A4: 43968 | B4: C | C4: R00QSD54 | D4: Cafe | E4: 162962 | F4: =E4 -> 162962 | G4: 1185186 | H4: =G4 -> 1185186 | I4: 100 | M4: Concernant l'etiquette celle-ci sera imprimer sur une S4M 10x15, si la mise en forme de celle-ci n'est pas optimiser ,vous pouvez la modifier
A5: 43966 | B5: C | C5: TR445522FG | D5: The | E5: 2381607 | F5: =E5 -> 2381607 | G5: 1716051 | H5: =G5 -> 1716051 | I5: 1800 | M5: merci
A6: 43968 | B6: F | C6: ZZ45554 | D6: Canelle | E6: 123548 | F6: =E6 -> 123548 | G6: 2246916 | H6: =G6 -> 2246916 | I6: 63423
A7: 43976 | B7: G | C7: TR445522 | D7: Poivre | E7: 1111111 | F7: =E7 -> 1111111 | G7: 2777781 | H7: =G7 -> 2777781 | I7: 757
A8: 43976 | B8: 10 | C8: 1465465 | D8: Sel | E8: 32222222 | F8: =E8 -> 32222222 | G8: 3308646 | H8: =G8 -> 3308646 | I8: 15

Sheet Etiquette
G2: Date | H2: FOUR | I2: Produit | J2: Designation | K2: Code Produit | L2: Code Produit 128 | M2: Code INTParc | N2: Code INT128 | O2: QTE
G3: 43966 | H3: B | I3: R00LIPE5692 | J3: Tulipe rouge | K3: TEST1 | L3: =K3 -> TEST1 | M3: 123456 | N3: =M3 -> 123456 | O3: 10
B5: Date | D5: =Base!B2 -> B
B6: =Base!A2 -> 43966
B8: =Base!C2 -> R00LIPE5692 | D8: QTE
B9: =B8 -> R00LIPE5692 | D9: =Base!I2 -> 10
B11: Designation
B12: Tulipe rouge
B14: Code Produit | D14: Code INTParc
B15: =Base!E2 -> TEST1 | D15: =Base!G2 -> 123456
B16: =B15 -> TEST1 | D16: =D15 -> 123456

Sheet Feuil3
