Workbook

Sheet Interventions en cours
A1: Interventions en cours
A2: Numéro de logement | B2: Adresse | C2: Ville | D2: Date | E2: Type d'intervention | L2: Auteur de l'intervention | M2: Auteur de la dégradation | N2: EFFECTUE (OK) | O2: DATE
A3: =IF('LOG 5'!$N3="",'LOG 5'!A3,"") | B3: =IF('LOG 5'!$N3="",'LOG 5'!B3,"") | C3: =IF('LOG 5'!$N3="",'LOG 5'!C3,"") | D3: =IF('LOG 5'!$N3="",'LOG 5'!D3,"") | E3: =IF('LOG 5'!$N3="",'LOG 5'!E3,"") | L3: =IF('LOG 5'!$N3="",'LOG 5'!L3,"") | M3: =IF('LOG 5'!$N3="",'LOG 5'!M3,"")
A4: =IF('LOG 5'!$N4="",'LOG 5'!A4,"") | B4: =IF('LOG 5'!$N4="",'LOG 5'!B4,"") | C4: =IF('LOG 5'!$N4="",'LOG 5'!C4,"") | D4: =IF('LOG 5'!$N4="",'LOG 5'!D4,"") | E4: =IF('LOG 5'!$N4="",'LOG 5'!E4,"") | L4: =IF('LOG 5'!$N4="",'LOG 5'!L4,"") | M4: =IF('LOG 5'!$N4="",'LOG 5'!M4,"")
A5: =IF('LOG 5'!$N5="",'LOG 5'!A5,"") | B5: =IF('LOG 5'!$N5="",'LOG 5'!B5,"") | C5: =IF('LOG 5'!$N5="",'LOG 5'!C5,"") | D5: =IF('LOG 5'!$N5="",'LOG 5'!D5,"") | E5: =IF('LOG 5'!$N5="",'LOG 5'!E5,"") | L5: =IF('LOG 5'!$N5="",'LOG 5'!L5,"") | M5: =IF('LOG 5'!$N5="",'LOG 5'!M5,"")
A6: =IF('LOG 5'!$N6="",'LOG 5'!A6,"") | B6: =IF('LOG 5'!$N6="",'LOG 5'!B6,"") | C6: =IF('LOG 5'!$N6="",'LOG 5'!C6,"") | D6: =IF('LOG 5'!$N6="",'LOG 5'!D6,"") | E6: =IF('LOG 5'!$N6="",'LOG 5'!E6,"") | L6: =IF('LOG 5'!$N6="",'LOG 5'!L6,"") | M6: =IF('LOG 5'!$N6="",'LOG 5'!M6,"")
A7: =IF('LOG 5'!$N7="",'LOG 5'!A7,"") | B7: =IF('LOG 5'!$N7="",'LOG 5'!B7,"") | C7: =IF('LOG 5'!$N7="",'LOG 5'!C7,"") | D7: =IF('LOG 5'!$N7="",'LOG 5'!D7,"") | E7: =IF('LOG 5'!$N7="",'LOG 5'!E7,"") | L7: =IF('LOG 5'!$N7="",'LOG 5'!L7,"") | M7: =IF('LOG 5'!$N7="",'LOG 5'!M7,"")
A8: =IF('LOG 5'!$N8="",'LOG 5'!A8,"") | B8: =IF('LOG 5'!$N8="",'LOG 5'!B8,"") | C8: =IF('LOG 5'!$N8="",'LOG 5'!C8,"") | D8: =IF('LOG 5'!$N8="",'LOG 5'!D8,"") | E8: =IF('LOG 5'!$N8="",'LOG 5'!E8,"") | L8: =IF('LOG 5'!$N8="",'LOG 5'!L8,"") | M8: =IF('LOG 5'!$N8="",'LOG 5'!M8,"")
A9: =IF('LOG 5'!$N9="",'LOG 5'!A9,"") | B9: =IF('LOG 5'!$N9="",'LOG 5'!B9,"") | C9: =IF('LOG 5'!$N9="",'LOG 5'!C9,"") | D9: =IF('LOG 5'!$N9="",'LOG 5'!D9,"") | E9: =IF('LOG 5'!$N9="",'LOG 5'!E9,"") | L9: =IF('LOG 5'!$N9="",'LOG 5'!L9,"") | M9: =IF('LOG 5'!$N9="",'LOG 5'!M9,"")
A10: =IF('LOG 5'!$N10="",'LOG 5'!A10,"") | B10: =IF('LOG 5'!$N10="",'LOG 5'!B10,"") | C10: =IF('LOG 5'!$N10="",'LOG 5'!C10,"") | D10: =IF('LOG 5'!$N10="",'LOG 5'!D10,"") | E10: =IF('LOG 5'!$N10="",'LOG 5'!E10,"") | L10: =IF('LOG 5'!$N10="",'LOG 5'!L10,"") | M10: =IF('LOG 5'!$N10="",'LOG 5'!M10,"")
A11: =IF('LOG 5'!$N11="",'LOG 5'!A11,"") | B11: =IF('LOG 5'!$N11="",'LOG 5'!B11,"") | C11: =IF('LOG 5'!$N11="",'LOG 5'!C11,"") | D11: =IF('LOG 5'!$N11="",'LOG 5'!D11,"") | E11: =IF('LOG 5'!$N11="",'LOG 5'!E11,"") | L11: =IF('LOG 5'!$N11="",'LOG 5'!L11,"") | M11: =IF('LOG 5'!$N11="",'LOG 5'!M11,"")
A12: =IF('LOG 8'!$N12="",'LOG 8'!A12,"") | B12: =IF('LOG 8'!$N12="",'LOG 8'!B12,"") | C12: =IF('LOG 8'!$N12="",'LOG 8'!C12,"") | D12: =IF('LOG 8'!$N12="",'LOG 8'!D12,"") | E12: =IF('LOG 8'!$N12="",'LOG 8'!E12,"") | L12: =IF('LOG 8'!$N12="",'LOG 8'!L12,"") | M12: =IF('LOG 8'!$N12="",'LOG 8'!M12,"")
A13: =IF('LOG 5'!$N13="",'LOG 5'!A13,"") | B13: =IF('LOG 5'!$N13="",'LOG 5'!B13,"") | C13: =IF('LOG 5'!$N13="",'LOG 5'!C13,"") | D13: =IF('LOG 5'!$N13="",'LOG 5'!D13,"") | E13: =IF('LOG 5'!$N13="",'LOG 5'!E13,"") | L13: =IF('LOG 5'!$N13="",'LOG 5'!L13,"") | M13: =IF('LOG 5'!$N13="",'LOG 5'!M13,"")
A14: =IF('LOG 5'!$N14="",'LOG 5'!A14,"") | B14: =IF('LOG 5'!$N14="",'LOG 5'!B14,"") | C14: =IF('LOG 5'!$N14="",'LOG 5'!C14,"") | D14: =IF('LOG 5'!$N14="",'LOG 5'!D14,"") | E14: =IF('LOG 5'!$N14="",'LOG 5'!E14,"") | L14: =IF('LOG 5'!$N14="",'LOG 5'!L14,"") | M14: =IF('LOG 5'!$N14="",'LOG 5'!M14,"")
A15: =IF('LOG 5'!$N15="",'LOG 5'!A15,"") | B15: =IF('LOG 5'!$N15="",'LOG 5'!B15,"") | C15: =IF('LOG 5'!$N15="",'LOG 5'!C15,"") | D15: =IF('LOG 5'!$N15="",'LOG 5'!D15,"") | E15: =IF('LOG 5'!$N15="",'LOG 5'!E15,"") | L15: =IF('LOG 5'!$N15="",'LOG 5'!L15,"") | M15: =IF('LOG 5'!$N15="",'LOG 5'!M15,"")
A16: =IF('LOG 5'!$N16="",'LOG 5'!A16,"") | B16: =IF('LOG 5'!$N16="",'LOG 5'!B16,"") | C16: =IF('LOG 5'!$N16="",'LOG 5'!C16,"") | D16: =IF('LOG 5'!$N16="",'LOG 5'!D16,"") | E16: =IF('LOG 5'!$N16="",'LOG 5'!E16,"") | L16: =IF('LOG 5'!$N16="",'LOG 5'!L16,"") | M16: =IF('LOG 5'!$N16="",'LOG 5'!M16,"")
A17: =IF('LOG 5'!$N17="",'LOG 5'!A17,"") | B17: =IF('LOG 5'!$N17="",'LOG 5'!B17,"") | C17: =IF('LOG 5'!$N17="",'LOG 5'!C17,"") | D17: =IF('LOG 5'!$N17="",'LOG 5'!D17,"") | E17: =IF('LOG 5'!$N17="",'LOG 5'!E17,"") | L17: =IF('LOG 5'!$N17="",'LOG 5'!L17,"") | M17: =IF('LOG 5'!$N17="",'LOG 5'!M17,"")
A18: =IF('LOG 5'!$N18="",'LOG 5'!A18,"") | B18: =IF('LOG 5'!$N18="",'LOG 5'!B18,"") | C18: =IF('LOG 5'!$N18="",'LOG 5'!C18,"") | D18: =IF('LOG 5'!$N18="",'LOG 5'!D18,"") | E18: =IF('LOG 5'!$N18="",'LOG 5'!E18,"") | L18: =IF('LOG 5'!$N18="",'LOG 5'!L18,"") | M18: =IF('LOG 5'!$N18="",'LOG 5'!M18,"")
A19: =IF('LOG 5'!$N19="",'LOG 5'!A19,"") | B19: =IF('LOG 5'!$N19="",'LOG 5'!B19,"") | C19: =IF('LOG 5'!$N19="",'LOG 5'!C19,"") | D19: =IF('LOG 5'!$N19="",'LOG 5'!D19,"") | E19: =IF('LOG 5'!$N19="",'LOG 5'!E19,"") | L19: =IF('LOG 5'!$N19="",'LOG 5'!L19,"") | M19: =IF('LOG 5'!$N19="",'LOG 5'!M19,"")
A20: =IF('LOG 5'!$N20="",'LOG 5'!A20,"") | B20: =IF('LOG 5'!$N20="",'LOG 5'!B20,"") | C20: =IF('LOG 5'!$N20="",'LOG 5'!C20,"") | D20: =IF('LOG 5'!$N20="",'LOG 5'!D20,"") | E20: =IF('LOG 5'!$N20="",'LOG 5'!E20,"") | L20: =IF('LOG 5'!$N20="",'LOG 5'!L20,"") | M20: =IF('LOG 5'!$N20="",'LOG 5'!M20,"")
A21: =IF('LOG 5'!$N21="",'LOG 5'!A21,"") | B21: =IF('LOG 5'!$N21="",'LOG 5'!B21,"") | C21: =IF('LOG 5'!$N21="",'LOG 5'!C21,"") | D21: =IF('LOG 5'!$N21="",'LOG 5'!D21,"") | E21: =IF('LOG 5'!$N21="",'LOG 5'!E21,"") | L21: =IF('LOG 5'!$N21="",'LOG 5'!L21,"") | M21: =IF('LOG 5'!$N21="",'LOG 5'!M21,"")
A22: =IF('LOG 5'!$N22="",'LOG 5'!A22,"") | B22: =IF('LOG 5'!$N22="",'LOG 5'!B22,"") | C22: =IF('LOG 5'!$N22="",'LOG 5'!C22,"") | D22: =IF('LOG 5'!$N22="",'LOG 5'!D22,"") | E22: =IF('LOG 5'!$N22="",'LOG 5'!E22,"") | L22: =IF('LOG 5'!$N22="",'LOG 5'!L22,"") | M22: =IF('LOG 5'!$N22="",'LOG 5'!M22,"")
A23: =IF('LOG 5'!$N23="",'LOG 5'!A23,"") | B23: =IF('LOG 5'!$N23="",'LOG 5'!B23,"") | C23: =IF('LOG 5'!$N23="",'LOG 5'!C23,"") | D23: =IF('LOG 5'!$N23="",'LOG 5'!D23,"") | E23: =IF('LOG 5'!$N23="",'LOG 5'!E23,"") | L23: =IF('LOG 5'!$N23="",'LOG 5'!L23,"") | M23: =IF('LOG 5'!$N23="",'LOG 5'!M23,"")
A24: =IF('LOG 5'!$N24="",'LOG 5'!A24,"") | B24: =IF('LOG 5'!$N24="",'LOG 5'!B24,"") | C24: =IF('LOG 5'!$N24="",'LOG 5'!C24,"") | D24: =IF('LOG 5'!$N24="",'LOG 5'!D24,"") | E24: =IF('LOG 5'!$N24="",'LOG 5'!E24,"") | L24: =IF('LOG 5'!$N24="",'LOG 5'!L24,"") | M24: =IF('LOG 5'!$N24="",'LOG 5'!M24,"")
... A52: =IF('LOG 5'!$N52="",'LOG 5'!A52,"") | B52: =IF('LOG 5'!$N52="",'LOG 5'!B52,"") | C52: =IF('LOG 5'!$N52="",'LOG 5'!C52,"") | D52: =IF('LOG 5'!$N52="",'LOG 5'!D52,"") | E52: =IF('LOG 5'!$N52="",'LOG 5'!E52,"") | L52: =IF('LOG 5'!$N52="",'LOG 5'!L52,"") | M52: =IF('LOG 5'!$N52="",'LOG 5'!M52,"")

Sheet Listing Logements
A1: Colonne1 | B1: Colonne2 | C1: Colonne23 | D1: Colonne22 | E1: Colonne3 | F1: Colonne4 | G1: Colonne5 | H1: Colonne52 | I1: Colonne6 | J1: Colonne64 | K1: Colonne63 | L1: Colonne62 | M1: Colonne7 | N1: Colonne8 | O1: Colonne9 | P1: Colonne10 | Q1: Colonne11
A2: Logement | B2: Adresse | C2: Code Postal | D2: Ville | E2: Tel appart | F2: m² | G2: Propriétaire | H2: Représentés par | I2: Joindre | M2: Loyer | N2: Bail | O2: Préavis | P2: Dépôt de garantie | Q2: Début
I3: Agence/M. | J3: Mail | K3: Tél | L3: Fax
A4: 5 | B4: 3, rue Pierre Taillant | C4: 30130 | D4: Pont St Esprit | E4: 06 33 76 64 70 | F4: 84 m² | G4: M. et Mme LANDRAUD Alain | H4: ORPI-AMC, Boulevard Gambetta, BP 71085, 30130 PSE | I4: ORPI | J4: immobiliergestion@orpi.com | K4: 04 66 39 48 80 | L4: 04 66 39 48 81 | M4: 630+20 de charges = 650€ | N4: 3 ans | O4: 3 mois | P4: 630 | Q4: 43202
A5: 6C | B5: 1,rue de la capitelle | C5: 30200 | D5: Bagnols sur Cèze | F5: 65m² T3 | M5: 490+10 de charges = 500€ | N5: 3 mois | O5: 0 | P5: 0 | Q5: 43644
A6: 7 | B6: 12 avenue Auguste Renoir | C6: 30700 | D6: Uzes | E6: 06 33 68 74 90 | F6: 93m² | G6: M. et Mme OLLEVIER Daniel | H6: ORPI - Agence n°1, SARL SAFIM IMMOBILIER, 1 square de la Bouquerie, Nimes | I6: Mme PORTAL | J6: cportal@orpi.com | K6: 06 24 76 34 26 | L6: 04 66 02 41 63 | M6: 759+14 de charges = 773€ | N6: 3 ans | O6: 3 mois | P6: 759 | Q6: 43203
A7: 8 | B7: 12 avenue Jean Perrin | C7: 30200 | D7: Bagnols sur Cèze | E7: 06 33 66 38 83 | F7: 73m² T4 | G7: M. BELFEGAS | H7: SCI PK, 305 rue des Rocs, 30290 LAUDUN L'ARDOISE | I7: M. BELFEGAS | K7: 06 89 20 53 70 | M7: 640 | N7: 6 ans | O7: 6 mois | P7: 640 | Q7: 43203
A8: 9B | B8: Résidence "Les Estouzilles", 18 rue du moulin de la tour | C8: 30200 | D8: Bagnols sur Cèze
A9: 11 | B9: 144 Chemin de Crussol | C9: 30130 | D9: Pont St Esprit | E9: 06 31 67 17 66 | F9: 96m² T4 | G9: M. DOMERGUE Didier | H9: SARL "Les Allées", 14 avenue Albert Peyron, 84500 BOLLENE | I9: Mme CASTRO | J9: bollene@immolesallees.com | L9: 04 90 40 14 88 | M9: 560+35 de charges = 595€ | N9: 3 ans | O9: 3 mois | P9: 560€ (frais agence:200€) | Q9: 43216
A10: 12 | B10: 1 rue des Micocouliers | C10: 30200 | D10: Bagnols sur Cèze | E10: 06 33 71 84 25 | F10: 63m² T4 | G10: Mme TAUSSAC Carole | H10: Agence CENTURY 21 La Big, 2 rue Louis Thomas, 30200 Bagnols S/ Cèze | I10: CENTURY 21 | L10: 04 66 89 07 55 | M10: 520+60 de charges = 580€ | N10: 3 ans | O10: 3 mois | P10: 520 | Q10: 43221
A11: 13B | B11: 2 rue Montmorency | C11: 30200 | D11: Bagnols sur Cèze
A12: 14 | B12: 8 rue des Aubépines; entrée G | C12: 30200 | D12: Bagnols sur Cèze | E12: 06 33 72 10 37 | F12: 81m² | H12: ERILIA, 72 bis rue Perrin-Solliers, 13006 Marseille | I12: Avignon | J12: www.erilia.fr | K12: 04 91 18 45 45 | L12: 04 91 18 45 55 | M12: 362,78+213,79 de charges = 576,57€ | N12: 1 an | O12: 3 mois | P12: 358 | Q12: 43229
A13: 19 | B13: 166 Résidence les Arbousiers, 14 rue Alexandre Cellier | C13: 30700 | D13: Uzes | E13: 07 87 81 81 60 | F13: 61,40m² T3 | H13: SEMIGA, Immeuble Carré 20.50 Bat B, 240 chemin de la tour des Eveques CS, Nimes | I13: Mme GIGARD | L13: 04 66 04 72 30 | M13: 470.13+82 de charges = 552,13€ | N13: 3 ans | O13: 3 mois | P13: 470.13 | Q13: 43395
A14: 20 | B14: Entrée I N°86, 6 rue des Aubépines | C14: 30200 | D14: Bagnols sur Cèze | E14: 06 43 20 91 48 | F14: 68m² T4 | H14: ERILIA, 72 bis rue Perrin-Solliers, 13006 Marseille | I14: Avignon | J14: www.erilia.fr | K14: 04 91 18 45 45 | L14: 04 91 18 45 55 | M14: 319.53+179.29 de charges = 498,82€ | N14: 1 an | O14: 3 mois | P14: 315 | Q14: 43398
A15: 21 | B15: Les Aubépines n°86, 6 rue des Aubépines | C15: 30200 | D15: Bagnols sur Cèze | E15: 06 37 33 75 69 | F15: 68m² T4 | H15: ERILIA, 72 bis rue Perrin-Solliers, 13006 Marseille | I15: Avignon | J15: www.erilia.fr | K15: 04 91 18 45 45 | L15: 04 91 18 45 55 | M15: 354.71+188.39 de charges = 543.10 € | N15: 1 an | O15: 3 mois | P15: 354 | Q15: 43403
A16: 23 | B16: Bat C log 002, ZAC de Mayac II - 2 rue Van Gigh | C16: 30700 | D16: Uzes | E16: 06 37 32 35 01 | F16: 95m² T4 | H16: SEMIGA, Immeuble Carré 20.50 Bat B, 240 chemin de la tour des Eveques CS, Nimes | I16: Mme GIGARD | L16: 04 66 04 70 92 | M16: 706+84 de charges = 790 € | N16: 3 ans | O16: 3 mois | P16: 706 | Q16: 43411
A17: 24 | B17: Bat C log 014 ZAC de Mayac PI Claude Monet | C17: 30700 | D17: Uzes | E17: 07 86 36 99 16 | F17: 62m² T3 | H17: SEMIGA, Immeuble Carré 20.50 Bat B, 240 chemin de la tour des Eveques CS, Nimes | I17: Mme GIGARD | L17: 04 66 04 70 92 | M17: 398.85 + 36 de charges = 434,85€ | N17: 3 ans | O17: 3 mois | P17: 376.74 € | Q17: 43433
A18: 58 | B18: 6bis rue Henri Matisse | C18: 30700 | D18: Uzes | F18: 75m² T4 | J18: lpouzet@icloud.com | M18: 750 | N18: 3 ans | O18: 3 mois | P18: 750 | Q18: 43546
A19: 59 | B19: Les Mimosas BatP, appart 302, 6 rue Jacqueline Bret André | C19: 30200 | D19: Bagnols sur Cèze | F19: 67m² T4 | G19: Grand Delta Habitat | H19: Grand Delta Habitat, SCIC d'HLM, 3 rue Martin Luther King, 84054 Avignon | I19: Grand Delta Habitat | J19: agence.nimes@granddelta.fr | K19: gardien: 07 87 42 32 95 | L19: 04 66 79 80 05 | M19: 495+89.23 de charges = 584.23€ | N19: 1 an | O19: 3 mois | Q19: 43566
A20: 60 | B20: Les Mimosas BatS, appart 354, 6 rue Jacqueline Bret André | C20: 30200 | D20: Bagnols sur Cèze | F20: 67m² T4 | G20: Grand Delta Habitat | H20: Grand Delta Habitat, SCIC d'HLM, 3 rue Martin Luther King, 84054 Avignon | I20: Grand Delta Habitat | J20: agence.nimes@granddelta.fr | K20: gardien: 07 87 42 32 95 | L20: 04 66 79 80 05 | M20: 495+89.23 de charges = 584.23€ | N20: 1 an | O20: 3 mois | Q20: 43566
A21: 61 | B21: 20 rue Alphonse Daudet | C21: 30700 | D21: Uzes | F21: 120m² T5 | G21: Eglise Protestante Unie de France de l'Uzège | H21: Eglise Protestante Unie de France de l'Uzège, 6 avenue de la libération, 30700 Uzes | I21: M. LOMBARDO | J21: lombardo.jeanpaul@neuf.fr | K21: 06 24 90 38 82 | L21: 04 66 22 11 18 | M21: 600 | N21: 1 an | O21: 6 mois | P21: 600 | Q21: 43586
A22: 61 bis | B22: 20 rue Alphonse Daudet | C22: 30700 | D22: Uzes | F22: 40m² T1 | M22: 300 | P22: 300
A24: 10 | B24: Hemingway Entrée B2 n°23, 2 ter rue Diderot | C24: 30190 | D24: St Genies de Malgoires | F24: 40m² T2 | H24: SEMIGA, Immeuble Carré 20.50 Bat B, 250 chemin de la tour de l'évêque, Nimes | I24: Mme GIGARD | L24: 04 66 04 70 92 | M24: 325.82+38 de charges = 363.82€ | N24: 3 ans | O24: 3 mois | P24: 325.82 | Q24: 43367
A25: 54 | B25: 52 place du Prado | C25: 26200 | D25: Montelimar | F25: 25m² T1 | G25: M. ROUBINET | I25: M. ROUBINET | J25: dr.vroubinet@gmail.com | M25: 270+25 de charges = 295€ | N25: 3 ans | O25: 3 mois | P25: 270 | Q25: 43497
A26: 62 | B26: 7 place des Annels | C26: 30430 | D26: St Jean de Maruejols | F26: 40m² | G26: M. COUTURIER-PETRASSON Eric | H26: M. COUTURIER-PETRASSON, 454 chemin de la Blaquière, 30430 St Privat de Champclos | I26: M. COUTURIER-PETRASSON | J26: eric.spheric@yahoo.fr | K26: 06 15 13 87 51 | M26: 300 | N26: 1 mois | O26: 1 mois | P26: 300 | Q26: 43586
A27: 68 | B27: 30, rue traversière | C27: 7700 | D27: Saint Just d'Ardèche
A28: 69 | B28: 2, rue du pont | C28: 30200 | D28: Codolet

Sheet LOG 5
A1: LISTING | B1: INTERVENTIONS EN COURS | C1: Interventions LOGEMENT | N1: =RIGHT(C53,LEN(C53)-FIND("]",C53,1)) -> LOG 5
A2: Numéro de logement | B2: Adresse | C2: Ville | D2: Date | E2: Type d'intervention | L2: Auteur de l'intervention | M2: Auteur de la dégradation | N2: EFFECTUE (OK)
A3: =N1 -> LOG 5 | B3: ='Listing Logements'!B4:D4 -> 3, rue Pierre Taillant | C3: ='Listing Logements'!D4 -> Pont St Esprit | N3: OK
A4: =N1 -> LOG 5 | B4: ='Listing Logements'!B4:D4 -> 3, rue Pierre Taillant | C4: ='Listing Logements'!D4 -> Pont St Esprit | N4: OK
A5: =N1 -> LOG 5 | B5: ='Listing Logements'!B4:D4 -> 3, rue Pierre Taillant | C5: ='Listing Logements'!D4 -> Pont St Esprit | N5: OK
A6: =N1 -> LOG 5 | B6: ='Listing Logements'!B4:D4 -> 3, rue Pierre Taillant | C6: ='Listing Logements'!D4 -> Pont St Esprit | N6: OK
A7: =N1 -> LOG 5 | B7: ='Listing Logements'!B4:D4 -> 3, rue Pierre Taillant | C7: ='Listing Logements'!D4 -> Pont St Esprit | N7: OK
A8: =N1 -> LOG 5 | B8: ='Listing Logements'!B4:D4 -> 3, rue Pierre Taillant | C8: ='Listing Logements'!D4 -> Pont St Esprit | N8: OK
A9: =N1 -> LOG 5 | B9: ='Listing Logements'!B4:D4 -> 3, rue Pierre Taillant | C9: ='Listing Logements'!D4 -> Pont St Esprit | N9: OK
A10: =N1 -> LOG 5 | B10: ='Listing Logements'!B4:D4 -> 3, rue Pierre Taillant | C10: ='Listing Logements'!D4 -> Pont St Esprit | N10: OK
A11: =N1 -> LOG 5 | B11: ='Listing Logements'!B4:D4 -> 3, rue Pierre Taillant | C11: ='Listing Logements'!D4 -> Pont St Esprit | N11: OK
A12: =N1 -> LOG 5 | B12: ='Listing Logements'!B4:D4 -> 3, rue Pierre Taillant | C12: ='Listing Logements'!D4 -> Pont St Esprit | N12: OK
A13: =N1 -> LOG 5 | B13: ='Listing Logements'!B4:D4 -> 3, rue Pierre Taillant | C13: ='Listing Logements'!D4 -> Pont St Esprit | N13: OK
A14: =N1 -> LOG 5 | B14: ='Listing Logements'!B4:D4 -> 3, rue Pierre Taillant | C14: ='Listing Logements'!D4 -> Pont St Esprit | N14: OK
A15: =N1 -> LOG 5 | B15: ='Listing Logements'!B4:D4 -> 3, rue Pierre Taillant | C15: ='Listing Logements'!D4 -> Pont St Esprit | N15: OK
A16: =N1 -> LOG 5 | B16: ='Listing Logements'!B4:D4 -> 3, rue Pierre Taillant | C16: ='Listing Logements'!D4 -> Pont St Esprit | N16: OK
A17: =N1 -> LOG 5 | B17: ='Listing Logements'!B4:D4 -> 3, rue Pierre Taillant | C17: ='Listing Logements'!D4 -> Pont St Esprit | N17: OK
A18: =N1 -> LOG 5 | B18: ='Listing Logements'!B4:D4 -> 3, rue Pierre Taillant | C18: ='Listing Logements'!D4 -> Pont St Esprit | N18: OK
A19: =N1 -> LOG 5 | B19: ='Listing Logements'!B4:D4 -> 3, rue Pierre Taillant | C19: ='Listing Logements'!D4 -> Pont St Esprit | N19: OK
A20: =N1 -> LOG 5 | B20: ='Listing Logements'!B4:D4 -> 3, rue Pierre Taillant | C20: ='Listing Logements'!D4 -> Pont St Esprit | N20: OK
A21: =N1 -> LOG 5 | B21: ='Listing Logements'!B4:D4 -> 3, rue Pierre Taillant | C21: ='Listing Logements'!D4 -> Pont St Esprit | N21: OK
A22: =N1 -> LOG 5 | B22: ='Listing Logements'!B4:D4 -> 3, rue Pierre Taillant | C22: ='Listing Logements'!D4 -> Pont St Esprit | N22: OK
A23: =N1 -> LOG 5 | B23: ='Listing Logements'!B4:D4 -> 3, rue Pierre Taillant | C23: ='Listing Logements'!D4 -> Pont St Esprit | N23: OK
A24: =N1 -> LOG 5 | B24: ='Listing Logements'!B4:D4 -> 3, rue Pierre Taillant | C24: ='Listing Logements'!D4 -> Pont St Esprit | N24: OK
A25: =N1 -> LOG 5 | B25: ='Listing Logements'!B4:D4 -> 3, rue Pierre Taillant | C25: ='Listing Logements'!D4 -> Pont St Esprit | N25: OK
A26: =N1 -> LOG 5 | B26: ='Listing Logements'!B4:D4 -> 3, rue Pierre Taillant | C26: ='Listing Logements'!D4 -> Pont St Esprit | N26: OK
A27: =N1 -> LOG 5 | B27: ='Listing Logements'!B4:D4 -> 3, rue Pierre Taillant | C27: ='Listing Logements'!D4 -> Pont St Esprit | N27: OK
A28: =N1 -> LOG 5 | B28: ='Listing Logements'!B4:D4 -> 3, rue Pierre Taillant | C28: ='Listing Logements'!D4 -> Pont St Esprit | N28: OK
A29: =N1 -> LOG 5 | B29: ='Listing Logements'!B4:D4 -> 3, rue Pierre Taillant | C29: ='Listing Logements'!D4 -> Pont St Esprit | N29: OK
A30: =N1 -> LOG 5 | B30: ='Listing Logements'!B4:D4 -> 3, rue Pierre Taillant | C30: ='Listing Logements'!D4 -> Pont St Esprit | N30: OK
A31: =N1 -> LOG 5 | B31: ='Listing Logements'!B4:D4 -> 3, rue Pierre Taillant | C31: ='Listing Logements'!D4 -> Pont St Esprit | N31: OK
A32: =N1 -> LOG 5 | B32: ='Listing Logements'!B4:D4 -> 3, rue Pierre Taillant | C32: ='Listing Logements'!D4 -> Pont St Esprit | N32: OK
A33: =N1 -> LOG 5 | B33: ='Listing Logements'!B4:D4 -> 3, rue Pierre Taillant | C33: ='Listing Logements'!D4 -> Pont St Esprit | N33: OK
A34: =N1 -> LOG 5 | B34: ='Listing Logements'!B4:D4 -> 3, rue Pierre Taillant | C34: ='Listing Logements'!D4 -> Pont St Esprit | N34: OK
A35: =N1 -> LOG 5 | B35: ='Listing Logements'!B4:D4 -> 3, rue Pierre Taillant | C35: ='Listing Logements'!D4 -> Pont St Esprit | N35: OK
A36: =N1 -> LOG 5 | B36: ='Listing Logements'!B4:D4 -> 3, rue Pierre Taillant | C36: ='Listing Logements'!D4 -> Pont St Esprit | N36: OK
A37: =N1 -> LOG 5 | B37: ='Listing Logements'!B4:D4 -> 3, rue Pierre Taillant | C37: ='Listing Logements'!D4 -> Pont St Esprit | N37: OK
A38: =N1 -> LOG 5 | B38: ='Listing Logements'!B4:D4 -> 3, rue Pierre Taillant | C38: ='Listing Logements'!D4 -> Pont St Esprit | N38: OK
A39: =N1 -> LOG 5 | B39: ='Listing Logements'!B4:D4 -> 3, rue Pierre Taillant | C39: ='Listing Logements'!D4 -> Pont St Esprit | N39: OK
A40: =N1 -> LOG 5 | B40: ='Listing Logements'!B4:D4 -> 3, rue Pierre Taillant | C40: ='Listing Logements'!D4 -> Pont St Esprit | N40: OK
...

Sheet LOG 6C
A1: LISTING | B1: INTERVENTIONS EN COURS | C1: Interventions LOGEMENT | N1: =RIGHT(C53,LEN(C53)-FIND("]",C53,1)) -> LOG 6C
A2: Numéro de logement | B2: Adresse | C2: Ville | D2: Date | E2: Type d'intervention | L2: Auteur de l'intervention | M2: Auteur de la dégradation | N2: EFFECTUE (OK)
A3: =N1 -> LOG 6C | B3: ='Listing Logements'!B4:D4 -> 3, rue Pierre Taillant | C3: ='Listing Logements'!D4 -> Pont St Esprit | N3: OK
A4: =N1 -> LOG 6C | B4: ='Listing Logements'!B4:D4 -> 3, rue Pierre Taillant | C4: ='Listing Logements'!D4 -> Pont St Esprit | N4: OK
A5: =N1 -> LOG 6C | B5: ='Listing Logements'!B4:D4 -> 3, rue Pierre Taillant | C5: ='Listing Logements'!D4 -> Pont St Esprit | N5: OK
A6: =N1 -> LOG 6C | B6: ='Listing Logements'!B4:D4 -> 3, rue Pierre Taillant | C6: ='Listing Logements'!D4 -> Pont St Esprit | N6: OK
A7: =N1 -> LOG 6C | B7: ='Listing Logements'!B4:D4 -> 3, rue Pierre Taillant | C7: ='Listing Logements'!D4 -> Pont St Esprit | N7: OK
A8: =N1 -> LOG 6C | B8: ='Listing Logements'!B4:D4 -> 3, rue Pierre Taillant | C8: ='Listing Logements'!D4 -> Pont St Esprit | N8: OK
A9: =N1 -> LOG 6C | B9: ='Listing Logements'!B4:D4 -> 3, rue Pierre Taillant | C9: ='Listing Logements'!D4 -> Pont St Esprit | N9: OK
A10: =N1 -> LOG 6C | B10: ='Listing Logements'!B4:D4 -> 3, rue Pierre Taillant | C10: ='Listing Logements'!D4 -> Pont St Esprit | N10: OK
A11: =N1 -> LOG 6C | B11: ='Listing Logements'!B4:D4 -> 3, rue Pierre Taillant | C11: ='Listing Logements'!D4 -> Pont St Esprit | N11: OK
A12: =N1 -> LOG 6C | B12: ='Listing Logements'!B4:D4 -> 3, rue Pierre Taillant | C12: ='Listing Logements'!D4 -> Pont St Esprit | N12: OK
A13: =N1 -> LOG 6C | B13: ='Listing Logements'!B4:D4 -> 3, rue Pierre Taillant | C13: ='Listing Logements'!D4 -> Pont St Esprit | N13: OK
A14: =N1 -> LOG 6C | B14: ='Listing Logements'!B4:D4 -> 3, rue Pierre Taillant | C14: ='Listing Logements'!D4 -> Pont St Esprit | N14: OK
A15: =N1 -> LOG 6C | B15: ='Listing Logements'!B4:D4 -> 3, rue Pierre Taillant | C15: ='Listing Logements'!D4 -> Pont St Esprit | N15: OK
A16: =N1 -> LOG 6C | B16: ='Listing Logements'!B4:D4 -> 3, rue Pierre Taillant | C16: ='Listing Logements'!D4 -> Pont St Esprit | N16: OK
A17: =N1 -> LOG 6C | B17: ='Listing Logements'!B4:D4 -> 3, rue Pierre Taillant | C17: ='Listing Logements'!D4 -> Pont St Esprit | N17: OK
A18: =N1 -> LOG 6C | B18: ='Listing Logements'!B4:D4 -> 3, rue Pierre Taillant | C18: ='Listing Logements'!D4 -> Pont St Esprit | N18: OK
A19: =N1 -> LOG 6C | B19: ='Listing Logements'!B4:D4 -> 3, rue Pierre Taillant | C19: ='Listing Logements'!D4 -> Pont St Esprit | N19: OK
A20: =N1 -> LOG 6C | B20: ='Listing Logements'!B4:D4 -> 3, rue Pierre Taillant | C20: ='Listing Logements'!D4 -> Pont St Esprit | N20: OK
A21: =N1 -> LOG 6C | B21: ='Listing Logements'!B4:D4 -> 3, rue Pierre Taillant | C21: ='Listing Logements'!D4 -> Pont St Esprit | N21: OK
A22: =N1 -> LOG 6C | B22: ='Listing Logements'!B4:D4 -> 3, rue Pierre Taillant | C22: ='Listing Logements'!D4 -> Pont St Esprit | N22: OK
A23: =N1 -> LOG 6C | B23: ='Listing Logements'!B4:D4 -> 3, rue Pierre Taillant | C23: ='Listing Logements'!D4 -> Pont St Esprit | N23: OK
A24: =N1 -> LOG 6C | B24: ='Listing Logements'!B4:D4 -> 3, rue Pierre Taillant | C24: ='Listing Logements'!D4 -> Pont St Esprit | N24: OK
A25: =N1 -> LOG 6C | B25: ='Listing Logements'!B4:D4 -> 3, rue Pierre Taillant | C25: ='Listing Logements'!D4 -> Pont St Esprit | N25: OK
A26: =N1 -> LOG 6C | B26: ='Listing Logements'!B4:D4 -> 3, rue Pierre Taillant | C26: ='Listing Logements'!D4 -> Pont St Esprit | N26: OK
A27: =N1 -> LOG 6C | B27: ='Listing Logements'!B4:D4 -> 3, rue Pierre Taillant | C27: ='Listing Logements'!D4 -> Pont St Esprit | N27: OK
A28: =N1 -> LOG 6C | B28: ='Listing Logements'!B4:D4 -> 3, rue Pierre Taillant | C28: ='Listing Logements'!D4 -> Pont St Esprit | N28: OK
A29: =N1 -> LOG 6C | B29: ='Listing Logements'!B4:D4 -> 3, rue Pierre Taillant | C29: ='Listing Logements'!D4 -> Pont St Esprit | N29: OK
A30: =N1 -> LOG 6C | B30: ='Listing Logements'!B4:D4 -> 3, rue Pierre Taillant | C30: ='Listing Logements'!D4 -> Pont St Esprit | N30: OK
A31: =N1 -> LOG 6C | B31: ='Listing Logements'!B4:D4 -> 3, rue Pierre Taillant | C31: ='Listing Logements'!D4 -> Pont St Esprit | N31: OK
A32: =N1 -> LOG 6C | B32: ='Listing Logements'!B4:D4 -> 3, rue Pierre Taillant | C32: ='Listing Logements'!D4 -> Pont St Esprit | N32: OK
A33: =N1 -> LOG 6C | B33: ='Listing Logements'!B4:D4 -> 3, rue Pierre Taillant | C33: ='Listing Logements'!D4 -> Pont St Esprit | N33: OK
A34: =N1 -> LOG 6C | B34: ='Listing Logements'!B4:D4 -> 3, rue Pierre Taillant | C34: ='Listing Logements'!D4 -> Pont St Esprit | N34: OK
A35: =N1 -> LOG 6C | B35: ='Listing Logements'!B4:D4 -> 3, rue Pierre Taillant | C35: ='Listing Logements'!D4 -> Pont St Esprit | N35: OK
A36: =N1 -> LOG 6C | B36: ='Listing Logements'!B4:D4 -> 3, rue Pierre Taillant | C36: ='Listing Logements'!D4 -> Pont St Esprit | N36: OK
A37: =N1 -> LOG 6C | B37: ='Listing Logements'!B4:D4 -> 3, rue Pierre Taillant | C37: ='Listing Logements'!D4 -> Pont St Esprit | N37: OK
A38: =N1 -> LOG 6C | B38: ='Listing Logements'!B4:D4 -> 3, rue Pierre Taillant | C38: ='Listing Logements'!D4 -> Pont St Esprit | N38: OK
A39: =N1 -> LOG 6C | B39: ='Listing Logements'!B4:D4 -> 3, rue Pierre Taillant | C39: ='Listing Logements'!D4 -> Pont St Esprit | N39: OK
A40: =N1 -> LOG 6C | B40: ='Listing Logements'!B4:D4 -> 3, rue Pierre Taillant | C40: ='Listing Logements'!D4 -> Pont St Esprit | N40: OK
...

Sheet LOG 7
A1: LISTING | B1: INTERVENTIONS EN COURS | C1: Interventions LOGEMENT | N1: =RIGHT(C53,LEN(C53)-FIND("]",C53,1)) -> LOG 7
A2: Numéro de logement | B2: Adresse | C2: Ville | D2: Date | E2: Type d'intervention | L2: Auteur de l'intervention | M2: Auteur de la dégradation | N2: EFFECTUE (OK)
A3: =N1 -> LOG 7 | B3: ='Listing Logements'!B4:D4 -> 3, rue Pierre Taillant | C3: ='Listing Logements'!D4 -> Pont St Esprit | N3: OK
A4: =N1 -> LOG 7 | B4: ='Listing Logements'!B4:D4 -> 3, rue Pierre Taillant | C4: ='Listing Logements'!D4 -> Pont St Esprit | N4: OK
A5: =N1 -> LOG 7 | B5: ='Listing Logements'!B4:D4 -> 3, rue Pierre Taillant | C5: ='Listing Logements'!D4 -> Pont St Esprit | N5: OK
A6: =N1 -> LOG 7 | B6: ='Listing Logements'!B4:D4 -> 3, rue Pierre Taillant | C6: ='Listing Logements'!D4 -> Pont St Esprit | N6: OK
A7: =N1 -> LOG 7 | B7: ='Listing Logements'!B4:D4 -> 3, rue Pierre Taillant | C7: ='Listing Logements'!D4 -> Pont St Esprit | N7: OK
A8: =N1 -> LOG 7 | B8: ='Listing Logements'!B4:D4 -> 3, rue Pierre Taillant | C8: ='Listing Logements'!D4 -> Pont St Esprit | N8: OK
A9: =N1 -> LOG 7 | B9: ='Listing Logements'!B4:D4 -> 3, rue Pierre Taillant | C9: ='Listing Logements'!D4 -> Pont St Esprit | N9: OK
A10: =N1 -> LOG 7 | B10: ='Listing Logements'!B4:D4 -> 3, rue Pierre Taillant | C10: ='Listing Logements'!D4 -> Pont St Esprit | N10: OK
A11: =N1 -> LOG 7 | B11: ='Listing Logements'!B4:D4 -> 3, rue Pierre Taillant | C11: ='Listing Logements'!D4 -> Pont St Esprit | N11: OK
A12: =N1 -> LOG 7 | B12: ='Listing Logements'!B4:D4 -> 3, rue Pierre Taillant | C12: ='Listing Logements'!D4 -> Pont St Esprit | N12: OK
A13: =N1 -> LOG 7 | B13: ='Listing Logements'!B4:D4 -> 3, rue Pierre Taillant | C13: ='Listing Logements'!D4 -> Pont St Esprit | N13: OK
A14: =N1 -> LOG 7 | B14: ='Listing Logements'!B4:D4 -> 3, rue Pierre Taillant | C14: ='Listing Logements'!D4 -> Pont St Esprit | N14: OK
A15: =N1 -> LOG 7 | B15: ='Listing Logements'!B4:D4 -> 3, rue Pierre Taillant | C15: ='Listing Logements'!D4 -> Pont St Esprit | N15: OK
A16: =N1 -> LOG 7 | B16: ='Listing Logements'!B4:D4 -> 3, rue Pierre Taillant | C16: ='Listing Logements'!D4 -> Pont St Esprit | N16: OK
A17: =N1 -> LOG 7 | B17: ='Listing Logements'!B4:D4 -> 3, rue Pierre Taillant | C17: ='Listing Logements'!D4 -> Pont St Esprit | N17: OK
A18: =N1 -> LOG 7 | B18: ='Listing Logements'!B4:D4 -> 3, rue Pierre Taillant | C18: ='Listing Logements'!D4 -> Pont St Esprit | N18: OK
A19: =N1 -> LOG 7 | B19: ='Listing Logements'!B4:D4 -> 3, rue Pierre Taillant | C19: ='Listing Logements'!D4 -> Pont St Esprit | N19: OK
A20: =N1 -> LOG 7 | B20: ='Listing Logements'!B4:D4 -> 3, rue Pierre Taillant | C20: ='Listing Logements'!D4 -> Pont St Esprit | N20: OK
A21: =N1 -> LOG 7 | B21: ='Listing Logements'!B4:D4 -> 3, rue Pierre Taillant | C21: ='Listing Logements'!D4 -> Pont St Esprit | N21: OK
A22: =N1 -> LOG 7 | B22: ='Listing Logements'!B4:D4 -> 3, rue Pierre Taillant | C22: ='Listing Logements'!D4 -> Pont St Esprit | N22: OK
A23: =N1 -> LOG 7 | B23: ='Listing Logements'!B4:D4 -> 3, rue Pierre Taillant | C23: ='Listing Logements'!D4 -> Pont St Esprit | N23: OK
A24: =N1 -> LOG 7 | B24: ='Listing Logements'!B4:D4 -> 3, rue Pierre Taillant | C24: ='Listing Logements'!D4 -> Pont St Esprit | N24: OK
A25: =N1 -> LOG 7 | B25: ='Listing Logements'!B4:D4 -> 3, rue Pierre Taillant | C25: ='Listing Logements'!D4 -> Pont St Esprit | N25: OK
A26: =N1 -> LOG 7 | B26: ='Listing Logements'!B4:D4 -> 3, rue Pierre Taillant | C26: ='Listing Logements'!D4 -> Pont St Esprit | N26: OK
A27: =N1 -> LOG 7 | B27: ='Listing Logements'!B4:D4 -> 3, rue Pierre Taillant | C27: ='Listing Logements'!D4 -> Pont St Esprit | N27: OK
A28: =N1 -> LOG 7 | B28: ='Listing Logements'!B4:D4 -> 3, rue Pierre Taillant | C28: ='Listing Logements'!D4 -> Pont St Esprit | N28: OK
A29: =N1 -> LOG 7 | B29: ='Listing Logements'!B4:D4 -> 3, rue Pierre Taillant | C29: ='Listing Logements'!D4 -> Pont St Esprit | N29: OK
A30: =N1 -> LOG 7 | B30: ='Listing Logements'!B4:D4 -> 3, rue Pierre Taillant | C30: ='Listing Logements'!D4 -> Pont St Esprit | N30: OK
A31: =N1 -> LOG 7 | B31: ='Listing Logements'!B4:D4 -> 3, rue Pierre Taillant | C31: ='Listing Logements'!D4 -> Pont St Esprit | N31: OK
A32: =N1 -> LOG 7 | B32: ='Listing Logements'!B4:D4 -> 3, rue Pierre Taillant | C32: ='Listing Logements'!D4 -> Pont St Esprit | N32: OK
A33: =N1 -> LOG 7 | B33: ='Listing Logements'!B4:D4 -> 3, rue Pierre Taillant | C33: ='Listing Logements'!D4 -> Pont St Esprit | N33: OK
A34: =N1 -> LOG 7 | B34: ='Listing Logements'!B4:D4 -> 3, rue Pierre Taillant | C34: ='Listing Logements'!D4 -> Pont St Esprit | N34: OK
A35: =N1 -> LOG 7 | B35: ='Listing Logements'!B4:D4 -> 3, rue Pierre Taillant | C35: ='Listing Logements'!D4 -> Pont St Esprit | N35: OK
A36: =N1 -> LOG 7 | B36: ='Listing Logements'!B4:D4 -> 3, rue Pierre Taillant | C36: ='Listing Logements'!D4 -> Pont St Esprit | N36: OK
A37: =N1 -> LOG 7 | B37: ='Listing Logements'!B4:D4 -> 3, rue Pierre Taillant | C37: ='Listing Logements'!D4 -> Pont St Esprit | N37: OK
A38: =N1 -> LOG 7 | B38: ='Listing Logements'!B4:D4 -> 3, rue Pierre Taillant | C38: ='Listing Logements'!D4 -> Pont St Esprit | N38: OK
A39: =N1 -> LOG 7 | B39: ='Listing Logements'!B4:D4 -> 3, rue Pierre Taillant | C39: ='Listing Logements'!D4 -> Pont St Esprit | N39: OK
A40: =N1 -> LOG 7 | B40: ='Listing Logements'!B4:D4 -> 3, rue Pierre Taillant | C40: ='Listing Logements'!D4 -> Pont St Esprit | N40: OK
...

Sheet LOG 8
A1: LISTING | B1: INTERVENTIONS EN COURS | C1: Interventions LOGEMENT | N1: =RIGHT(C53,LEN(C53)-FIND("]",C53,1)) -> LOG 8
A2: Numéro de logement | B2: Adresse | C2: Ville | D2: Date | E2: Type d'intervention | L2: Auteur de l'intervention | M2: Auteur de la dégradation | N2: EFFECTUE (OK)
A3: =N1 -> LOG 8 | B3: ='Listing Logements'!B4:D4 -> 3, rue Pierre Taillant | C3: ='Listing Logements'!D4 -> Pont St Esprit | N3: OK
A4: =N1 -> LOG 8 | B4: ='Listing Logements'!B4:D4 -> 3, rue Pierre Taillant | C4: ='Listing Logements'!D4 -> Pont St Esprit | N4: OK
A5: =N1 -> LOG 8 | B5: ='Listing Logements'!B4:D4 -> 3, rue Pierre Taillant | C5: ='Listing Logements'!D4 -> Pont St Esprit | N5: OK
A6: =N1 -> LOG 8 | B6: ='Listing Logements'!B4:D4 -> 3, rue Pierre Taillant | C6: ='Listing Logements'!D4 -> Pont St Esprit | N6: OK
A7: =N1 -> LOG 8 | B7: ='Listing Logements'!B4:D4 -> 3, rue Pierre Taillant | C7: ='Listing Logements'!D4 -> Pont St Esprit | N7: OK
A8: =N1 -> LOG 8 | B8: ='Listing Logements'!B4:D4 -> 3, rue Pierre Taillant | C8: ='Listing Logements'!D4 -> Pont St Esprit | N8: OK
A9: =N1 -> LOG 8 | B9: ='Listing Logements'!B4:D4 -> 3, rue Pierre Taillant | C9: ='Listing Logements'!D4 -> Pont St Esprit | N9: OK
A10: =N1 -> LOG 8 | B10: ='Listing Logements'!B4:D4 -> 3, rue Pierre Taillant | C10: ='Listing Logements'!D4 -> Pont St Esprit | N10: OK
A11: =N1 -> LOG 8 | B11: ='Listing Logements'!B4:D4 -> 3, rue Pierre Taillant | C11: ='Listing Logements'!D4 -> Pont St Esprit | N11: OK
A12: =N1 -> LOG 8 | B12: ='Listing Logements'!B4:D4 -> 3, rue Pierre Taillant | C12: ='Listing Logements'!D4 -> Pont St Esprit | N12: OK
A13: =N1 -> LOG 8 | B13: ='Listing Logements'!B4:D4 -> 3, rue Pierre Taillant | C13: ='Listing Logements'!D4 -> Pont St Esprit | N13: OK
A14: =N1 -> LOG 8 | B14: ='Listing Logements'!B4:D4 -> 3, rue Pierre Taillant | C14: ='Listing Logements'!D4 -> Pont St Esprit | N14: OK
A15: =N1 -> LOG 8 | B15: ='Listing Logements'!B4:D4 -> 3, rue Pierre Taillant | C15: ='Listing Logements'!D4 -> Pont St Esprit | N15: OK
A16: =N1 -> LOG 8 | B16: ='Listing Logements'!B4:D4 -> 3, rue Pierre Taillant | C16: ='Listing Logements'!D4 -> Pont St Esprit | N16: OK
A17: =N1 -> LOG 8 | B17: ='Listing Logements'!B4:D4 -> 3, rue Pierre Taillant | C17: ='Listing Logements'!D4 -> Pont St Esprit | N17: OK
A18: =N1 -> LOG 8 | B18: ='Listing Logements'!B4:D4 -> 3, rue Pierre Taillant | C18: ='Listing Logements'!D4 -> Pont St Esprit | N18: OK
A19: =N1 -> LOG 8 | B19: ='Listing Logements'!B4:D4 -> 3, rue Pierre Taillant | C19: ='Listing Logements'!D4 -> Pont St Esprit | N19: OK
A20: =N1 -> LOG 8 | B20: ='Listing Logements'!B4:D4 -> 3, rue Pierre Taillant | C20: ='Listing Logements'!D4 -> Pont St Esprit | N20: OK
A21: =N1 -> LOG 8 | B21: ='Listing Logements'!B4:D4 -> 3, rue Pierre Taillant | C21: ='Listing Logements'!D4 -> Pont St Esprit | N21: OK
A22: =N1 -> LOG 8 | B22: ='Listing Logements'!B4:D4 -> 3, rue Pierre Taillant | C22: ='Listing Logements'!D4 -> Pont St Esprit | N22: OK
A23: =N1 -> LOG 8 | B23: ='Listing Logements'!B4:D4 -> 3, rue Pierre Taillant | C23: ='Listing Logements'!D4 -> Pont St Esprit | N23: OK
A24: =N1 -> LOG 8 | B24: ='Listing Logements'!B4:D4 -> 3, rue Pierre Taillant | C24: ='Listing Logements'!D4 -> Pont St Esprit | N24: OK
A25: =N1 -> LOG 8 | B25: ='Listing Logements'!B4:D4 -> 3, rue Pierre Taillant | C25: ='Listing Logements'!D4 -> Pont St Esprit | N25: OK
A26: =N1 -> LOG 8 | B26: ='Listing Logements'!B4:D4 -> 3, rue Pierre Taillant | C26: ='Listing Logements'!D4 -> Pont St Esprit | N26: OK
A27: =N1 -> LOG 8 | B27: ='Listing Logements'!B4:D4 -> 3, rue Pierre Taillant | C27: ='Listing Logements'!D4 -> Pont St Esprit | N27: OK
A28: =N1 -> LOG 8 | B28: ='Listing Logements'!B4:D4 -> 3, rue Pierre Taillant | C28: ='Listing Logements'!D4 -> Pont St Esprit | N28: OK
A29: =N1 -> LOG 8 | B29: ='Listing Logements'!B4:D4 -> 3, rue Pierre Taillant | C29: ='Listing Logements'!D4 -> Pont St Esprit | N29: OK
A30: =N1 -> LOG 8 | B30: ='Listing Logements'!B4:D4 -> 3, rue Pierre Taillant | C30: ='Listing Logements'!D4 -> Pont St Esprit | N30: OK
A31: =N1 -> LOG 8 | B31: ='Listing Logements'!B4:D4 -> 3, rue Pierre Taillant | C31: ='Listing Logements'!D4 -> Pont St Esprit | N31: OK
A32: =N1 -> LOG 8 | B32: ='Listing Logements'!B4:D4 -> 3, rue Pierre Taillant | C32: ='Listing Logements'!D4 -> Pont St Esprit | N32: OK
A33: =N1 -> LOG 8 | B33: ='Listing Logements'!B4:D4 -> 3, rue Pierre Taillant | C33: ='Listing Logements'!D4 -> Pont St Esprit | N33: OK
A34: =N1 -> LOG 8 | B34: ='Listing Logements'!B4:D4 -> 3, rue Pierre Taillant | C34: ='Listing Logements'!D4 -> Pont St Esprit | N34: OK
A35: =N1 -> LOG 8 | B35: ='Listing Logements'!B4:D4 -> 3, rue Pierre Taillant | C35: ='Listing Logements'!D4 -> Pont St Esprit | N35: OK
A36: =N1 -> LOG 8 | B36: ='Listing Logements'!B4:D4 -> 3, rue Pierre Taillant | C36: ='Listing Logements'!D4 -> Pont St Esprit | N36: OK
A37: =N1 -> LOG 8 | B37: ='Listing Logements'!B4:D4 -> 3, rue Pierre Taillant | C37: ='Listing Logements'!D4 -> Pont St Esprit | N37: OK
A38: =N1 -> LOG 8 | B38: ='Listing Logements'!B4:D4 -> 3, rue Pierre Taillant | C38: ='Listing Logements'!D4 -> Pont St Esprit | N38: OK
A39: =N1 -> LOG 8 | B39: ='Listing Logements'!B4:D4 -> 3, rue Pierre Taillant | C39: ='Listing Logements'!D4 -> Pont St Esprit | N39: OK
A40: =N1 -> LOG 8 | B40: ='Listing Logements'!B4:D4 -> 3, rue Pierre Taillant | C40: ='Listing Logements'!D4 -> Pont St Esprit | N40: OK
...

Sheet LOG 9B
A1: LISTING | B1: INTERVENTIONS EN COURS | C1: Interventions LOGEMENT | N1: =RIGHT(C53,LEN(C53)-FIND("]",C53,1)) -> LOG 9B
A2: Numéro de logement | B2: Adresse | C2: Ville | D2: Date | E2: Type d'intervention | L2: Auteur de l'intervention | M2: Auteur de la dégradation | N2: EFFECTUE (OK)
A3: =N1 -> LOG 9B | B3: ='Listing Logements'!B4:D4 -> 3, rue Pierre Taillant | C3: ='Listing Logements'!D4 -> Pont St Esprit | N3: OK
A4: =N1 -> LOG 9B | B4: ='Listing Logements'!B4:D4 -> 3, rue Pierre Taillant | C4: ='Listing Logements'!D4 -> Pont St Esprit | N4: OK
A5: =N1 -> LOG 9B | B5: ='Listing Logements'!B4:D4 -> 3, rue Pierre Taillant | C5: ='Listing Logements'!D4 -> Pont St Esprit | N5: OK
A6: =N1 -> LOG 9B | B6: ='Listing Logements'!B4:D4 -> 3, rue Pierre Taillant | C6: ='Listing Logements'!D4 -> Pont St Esprit | N6: OK
A7: =N1 -> LOG 9B | B7: ='Listing Logements'!B4:D4 -> 3, rue Pierre Taillant | C7: ='Listing Logements'!D4 -> Pont St Esprit | N7: OK
A8: =N1 -> LOG 9B | B8: ='Listing Logements'!B4:D4 -> 3, rue Pierre Taillant | C8: ='Listing Logements'!D4 -> Pont St Esprit | N8: OK
A9: =N1 -> LOG 9B | B9: ='Listing Logements'!B4:D4 -> 3, rue Pierre Taillant | C9: ='Listing Logements'!D4 -> Pont St Esprit | N9: OK
A10: =N1 -> LOG 9B | B10: ='Listing Logements'!B4:D4 -> 3, rue Pierre Taillant | C10: ='Listing Logements'!D4 -> Pont St Esprit | N10: OK
A11: =N1 -> LOG 9B | B11: ='Listing Logements'!B4:D4 -> 3, rue Pierre Taillant | C11: ='Listing Logements'!D4 -> Pont St Esprit | N11: OK
A12: =N1 -> LOG 9B | B12: ='Listing Logements'!B4:D4 -> 3, rue Pierre Taillant | C12: ='Listing Logements'!D4 -> Pont St Esprit | N12: OK
A13: =N1 -> LOG 9B | B13: ='Listing Logements'!B4:D4 -> 3, rue Pierre Taillant | C13: ='Listing Logements'!D4 -> Pont St Esprit | N13: OK
A14: =N1 -> LOG 9B | B14: ='Listing Logements'!B4:D4 -> 3, rue Pierre Taillant | C14: ='Listing Logements'!D4 -> Pont St Esprit | N14: OK
A15: =N1 -> LOG 9B | B15: ='Listing Logements'!B4:D4 -> 3, rue Pierre Taillant | C15: ='Listing Logements'!D4 -> Pont St Esprit | N15: OK
A16: =N1 -> LOG 9B | B16: ='Listing Logements'!B4:D4 -> 3, rue Pierre Taillant | C16: ='Listing Logements'!D4 -> Pont St Esprit | N16: OK
A17: =N1 -> LOG 9B | B17: ='Listing Logements'!B4:D4 -> 3, rue Pierre Taillant | C17: ='Listing Logements'!D4 -> Pont St Esprit | N17: OK
A18: =N1 -> LOG 9B | B18: ='Listing Logements'!B4:D4 -> 3, rue Pierre Taillant | C18: ='Listing Logements'!D4 -> Pont St Esprit | N18: OK
A19: =N1 -> LOG 9B | B19: ='Listing Logements'!B4:D4 -> 3, rue Pierre Taillant | C19: ='Listing Logements'!D4 -> Pont St Esprit | N19: OK
A20: =N1 -> LOG 9B | B20: ='Listing Logements'!B4:D4 -> 3, rue Pierre Taillant | C20: ='Listing Logements'!D4 -> Pont St Esprit | N20: OK
A21: =N1 -> LOG 9B | B21: ='Listing Logements'!B4:D4 -> 3, rue Pierre Taillant | C21: ='Listing Logements'!D4 -> Pont St Esprit | N21: OK
A22: =N1 -> LOG 9B | B22: ='Listing Logements'!B4:D4 -> 3, rue Pierre Taillant | C22: ='Listing Logements'!D4 -> Pont St Esprit | N22: OK
A23: =N1 -> LOG 9B | B23: ='Listing Logements'!B4:D4 -> 3, rue Pierre Taillant | C23: ='Listing Logements'!D4 -> Pont St Esprit | N23: OK
A24: =N1 -> LOG 9B | B24: ='Listing Logements'!B4:D4 -> 3, rue Pierre Taillant | C24: ='Listing Logements'!D4 -> Pont St Esprit | N24: OK
A25: =N1 -> LOG 9B | B25: ='Listing Logements'!B4:D4 -> 3, rue Pierre Taillant | C25: ='Listing Logements'!D4 -> Pont St Esprit | N25: OK
A26: =N1 -> LOG 9B | B26: ='Listing Logements'!B4:D4 -> 3, rue Pierre Taillant | C26: ='Listing Logements'!D4 -> Pont St Esprit | N26: OK
A27: =N1 -> LOG 9B | B27: ='Listing Logements'!B4:D4 -> 3, rue Pierre Taillant | C27: ='Listing Logements'!D4 -> Pont St Esprit | N27: OK
A28: =N1 -> LOG 9B | B28: ='Listing Logements'!B4:D4 -> 3, rue Pierre Taillant | C28: ='Listing Logements'!D4 -> Pont St Esprit | N28: OK
A29: =N1 -> LOG 9B | B29: ='Listing Logements'!B4:D4 -> 3, rue Pierre Taillant | C29: ='Listing Logements'!D4 -> Pont St Esprit | N29: OK
A30: =N1 -> LOG 9B | B30: ='Listing Logements'!B4:D4 -> 3, rue Pierre Taillant | C30: ='Listing Logements'!D4 -> Pont St Esprit | N30: OK
A31: =N1 -> LOG 9B | B31: ='Listing Logements'!B4:D4 -> 3, rue Pierre Taillant | C31: ='Listing Logements'!D4 -> Pont St Esprit | N31: OK
A32: =N1 -> LOG 9B | B32: ='Listing Logements'!B4:D4 -> 3, rue Pierre Taillant | C32: ='Listing Logements'!D4 -> Pont St Esprit | N32: OK
A33: =N1 -> LOG 9B | B33: ='Listing Logements'!B4:D4 -> 3, rue Pierre Taillant | C33: ='Listing Logements'!D4 -> Pont St Esprit | N33: OK
A34: =N1 -> LOG 9B | B34: ='Listing Logements'!B4:D4 -> 3, rue Pierre Taillant | C34: ='Listing Logements'!D4 -> Pont St Esprit | N34: OK
A35: =N1 -> LOG 9B | B35: ='Listing Logements'!B4:D4 -> 3, rue Pierre Taillant | C35: ='Listing Logements'!D4 -> Pont St Esprit | N35: OK
A36: =N1 -> LOG 9B | B36: ='Listing Logements'!B4:D4 -> 3, rue Pierre Taillant | C36: ='Listing Logements'!D4 -> Pont St Esprit | N36: OK
A37: =N1 -> LOG 9B | B37: ='Listing Logements'!B4:D4 -> 3, rue Pierre Taillant | C37: ='Listing Logements'!D4 -> Pont St Esprit | N37: OK
A38: =N1 -> LOG 9B | B38: ='Listing Logements'!B4:D4 -> 3, rue Pierre Taillant | C38: ='Listing Logements'!D4 -> Pont St Esprit | N38: OK
A39: =N1 -> LOG 9B | B39: ='Listing Logements'!B4:D4 -> 3, rue Pierre Taillant | C39: ='Listing Logements'!D4 -> Pont St Esprit | N39: OK
A40: =N1 -> LOG 9B | B40: ='Listing Logements'!B4:D4 -> 3, rue Pierre Taillant | C40: ='Listing Logements'!D4 -> Pont St Esprit | N40: OK
...

Sheet LOG 10
A1: LISTING | B1: INTERVENTIONS EN COURS | C1: Interventions LOGEMENT | N1: =RIGHT(C53,LEN(C53)-FIND("]",C53,1)) -> LOG 10
A2: Numéro de logement | B2: Adresse | C2: Ville | D2: Date | E2: Type d'intervention | L2: Auteur de l'intervention | M2: Auteur de la dégradation | N2: EFFECTUE (OK)
A3: =N1 -> LOG 10 | B3: ='Listing Logements'!B4:D4 -> 3, rue Pierre Taillant | C3: ='Listing Logements'!D4 -> Pont St Esprit | N3: OK
A4: =N1 -> LOG 10 | B4: ='Listing Logements'!B4:D4 -> 3, rue Pierre Taillant | C4: ='Listing Logements'!D4 -> Pont St Esprit | N4: OK
A5: =N1 -> LOG 10 | B5: ='Listing Logements'!B4:D4 -> 3, rue Pierre Taillant | C5: ='Listing Logements'!D4 -> Pont St Esprit | N5: OK
A6: =N1 -> LOG 10 | B6: ='Listing Logements'!B4:D4 -> 3, rue Pierre Taillant | C6: ='Listing Logements'!D4 -> Pont St Esprit | N6: OK
A7: =N1 -> LOG 10 | B7: ='Listing Logements'!B4:D4 -> 3, rue Pierre Taillant | C7: ='Listing Logements'!D4 -> Pont St Esprit | N7: OK
A8: =N1 -> LOG 10 | B8: ='Listing Logements'!B4:D4 -> 3, rue Pierre Taillant | C8: ='Listing Logements'!D4 -> Pont St Esprit | N8: OK
A9: =N1 -> LOG 10 | B9: ='Listing Logements'!B4:D4 -> 3, rue Pierre Taillant | C9: ='Listing Logements'!D4 -> Pont St Esprit | N9: OK
A10: =N1 -> LOG 10 | B10: ='Listing Logements'!B4:D4 -> 3, rue Pierre Taillant | C10: ='Listing Logements'!D4 -> Pont St Esprit | N10: OK
A11: =N1 -> LOG 10 | B11: ='Listing Logements'!B4:D4 -> 3, rue Pierre Taillant | C11: ='Listing Logements'!D4 -> Pont St Esprit | N11: OK
A12: =N1 -> LOG 10 | B12: ='Listing Logements'!B4:D4 -> 3, rue Pierre Taillant | C12: ='Listing Logements'!D4 -> Pont St Esprit | N12: OK
A13: =N1 -> LOG 10 | B13: ='Listing Logements'!B4:D4 -> 3, rue Pierre Taillant | C13: ='Listing Logements'!D4 -> Pont St Esprit | N13: OK
A14: =N1 -> LOG 10 | B14: ='Listing Logements'!B4:D4 -> 3, rue Pierre Taillant | C14: ='Listing Logements'!D4 -> Pont St Esprit | N14: OK
A15: =N1 -> LOG 10 | B15: ='Listing Logements'!B4:D4 -> 3, rue Pierre Taillant | C15: ='Listing Logements'!D4 -> Pont St Esprit | N15: OK
A16: =N1 -> LOG 10 | B16: ='Listing Logements'!B4:D4 -> 3, rue Pierre Taillant | C16: ='Listing Logements'!D4 -> Pont St Esprit | N16: OK
A17: =N1 -> LOG 10 | B17: ='Listing Logements'!B4:D4 -> 3, rue Pierre Taillant | C17: ='Listing Logements'!D4 -> Pont St Esprit | N17: OK
A18: =N1 -> LOG 10 | B18: ='Listing Logements'!B4:D4 -> 3, rue Pierre Taillant | C18: ='Listing Logements'!D4 -> Pont St Esprit | N18: OK
A19: =N1 -> LOG 10 | B19: ='Listing Logements'!B4:D4 -> 3, rue Pierre Taillant | C19: ='Listing Logements'!D4 -> Pont St Esprit | N19: OK
A20: =N1 -> LOG 10 | B20: ='Listing Logements'!B4:D4 -> 3, rue Pierre Taillant | C20: ='Listing Logements'!D4 -> Pont St Esprit | N20: OK
A21: =N1 -> LOG 10 | B21: ='Listing Logements'!B4:D4 -> 3, rue Pierre Taillant | C21: ='Listing Logements'!D4 -> Pont St Esprit | N21: OK
A22: =N1 -> LOG 10 | B22: ='Listing Logements'!B4:D4 -> 3, rue Pierre Taillant | C22: ='Listing Logements'!D4 -> Pont St Esprit | N22: OK
A23: =N1 -> LOG 10 | B23: ='Listing Logements'!B4:D4 -> 3, rue Pierre Taillant | C23: ='Listing Logements'!D4 -> Pont St Esprit | N23: OK
A24: =N1 -> LOG 10 | B24: ='Listing Logements'!B4:D4 -> 3, rue Pierre Taillant | C24: ='Listing Logements'!D4 -> Pont St Esprit | N24: OK
A25: =N1 -> LOG 10 | B25: ='Listing Logements'!B4:D4 -> 3, rue Pierre Taillant | C25: ='Listing Logements'!D4 -> Pont St Esprit | N25: OK
A26: =N1 -> LOG 10 | B26: ='Listing Logements'!B4:D4 -> 3, rue Pierre Taillant | C26: ='Listing Logements'!D4 -> Pont St Esprit | N26: OK
A27: =N1 -> LOG 10 | B27: ='Listing Logements'!B4:D4 -> 3, rue Pierre Taillant | C27: ='Listing Logements'!D4 -> Pont St Esprit | N27: OK
A28: =N1 -> LOG 10 | B28: ='Listing Logements'!B4:D4 -> 3, rue Pierre Taillant | C28: ='Listing Logements'!D4 -> Pont St Esprit | N28: OK
A29: =N1 -> LOG 10 | B29: ='Listing Logements'!B4:D4 -> 3, rue Pierre Taillant | C29: ='Listing Logements'!D4 -> Pont St Esprit | N29: OK
A30: =N1 -> LOG 10 | B30: ='Listing Logements'!B4:D4 -> 3, rue Pierre Taillant | C30: ='Listing Logements'!D4 -> Pont St Esprit | N30: OK
A31: =N1 -> LOG 10 | B31: ='Listing Logements'!B4:D4 -> 3, rue Pierre Taillant | C31: ='Listing Logements'!D4 -> Pont St Esprit | N31: OK
A32: =N1 -> LOG 10 | B32: ='Listing Logements'!B4:D4 -> 3, rue Pierre Taillant | C32: ='Listing Logements'!D4 -> Pont St Esprit | N32: OK
A33: =N1 -> LOG 10 | B33: ='Listing Logements'!B4:D4 -> 3, rue Pierre Taillant | C33: ='Listing Logements'!D4 -> Pont St Esprit | N33: OK
A34: =N1 -> LOG 10 | B34: ='Listing Logements'!B4:D4 -> 3, rue Pierre Taillant | C34: ='Listing Logements'!D4 -> Pont St Esprit | N34: OK
A35: =N1 -> LOG 10 | B35: ='Listing Logements'!B4:D4 -> 3, rue Pierre Taillant | C35: ='Listing Logements'!D4 -> Pont St Esprit | N35: OK
A36: =N1 -> LOG 10 | B36: ='Listing Logements'!B4:D4 -> 3, rue Pierre Taillant | C36: ='Listing Logements'!D4 -> Pont St Esprit | N36: OK
A37: =N1 -> LOG 10 | B37: ='Listing Logements'!B4:D4 -> 3, rue Pierre Taillant | C37: ='Listing Logements'!D4 -> Pont St Esprit | N37: OK
A38: =N1 -> LOG 10 | B38: ='Listing Logements'!B4:D4 -> 3, rue Pierre Taillant | C38: ='Listing Logements'!D4 -> Pont St Esprit | N38: OK
A39: =N1 -> LOG 10 | B39: ='Listing Logements'!B4:D4 -> 3, rue Pierre Taillant | C39: ='Listing Logements'!D4 -> Pont St Esprit | N39: OK
A40: =N1 -> LOG 10 | B40: ='Listing Logements'!B4:D4 -> 3, rue Pierre Taillant | C40: ='Listing Logements'!D4 -> Pont St Esprit | N40: OK
...

Sheet LOG 11
A1: LISTING | B1: INTERVENTIONS EN COURS | C1: Interventions LOGEMENT | N1: =RIGHT(C53,LEN(C53)-FIND("]",C53,1)) -> LOG 11
A2: Numéro de logement | B2: Adresse | C2: Ville | D2: Date | E2: Type d'intervention | L2: Auteur de l'intervention | M2: Auteur de la dégradation | N2: EFFECTUE (OK)
A3: =N1 -> LOG 11 | B3: ='Listing Logements'!B4:D4 -> 3, rue Pierre Taillant | C3: ='Listing Logements'!D4 -> Pont St Esprit | N3: OK
A4: =N1 -> LOG 11 | B4: ='Listing Logements'!B4:D4 -> 3, rue Pierre Taillant | C4: ='Listing Logements'!D4 -> Pont St Esprit | N4: OK
A5: =N1 -> LOG 11 | B5: ='Listing Logements'!B4:D4 -> 3, rue Pierre Taillant | C5: ='Listing Logements'!D4 -> Pont St Esprit | N5: OK
A6: =N1 -> LOG 11 | B6: ='Listing Logements'!B4:D4 -> 3, rue Pierre Taillant | C6: ='Listing Logements'!D4 -> Pont St Esprit | N6: OK
A7: =N1 -> LOG 11 | B7: ='Listing Logements'!B4:D4 -> 3, rue Pierre Taillant | C7: ='Listing Logements'!D4 -> Pont St Esprit | N7: OK
A8: =N1 -> LOG 11 | B8: ='Listing Logements'!B4:D4 -> 3, rue Pierre Taillant | C8: ='Listing Logements'!D4 -> Pont St Esprit | N8: OK
A9: =N1 -> LOG 11 | B9: ='Listing Logements'!B4:D4 -> 3, rue Pierre Taillant | C9: ='Listing Logements'!D4 -> Pont St Esprit | N9: OK
A10: =N1 -> LOG 11 | B10: ='Listing Logements'!B4:D4 -> 3, rue Pierre Taillant | C10: ='Listing Logements'!D4 -> Pont St Esprit | N10: OK
A11: =N1 -> LOG 11 | B11: ='Listing Logements'!B4:D4 -> 3, rue Pierre Taillant | C11: ='Listing Logements'!D4 -> Pont St Esprit | N11: OK
A12: =N1 -> LOG 11 | B12: ='Listing Logements'!B4:D4 -> 3, rue Pierre Taillant | C12: ='Listing Logements'!D4 -> Pont St Esprit | N12: OK
A13: =N1 -> LOG 11 | B13: ='Listing Logements'!B4:D4 -> 3, rue Pierre Taillant | C13: ='Listing Logements'!D4 -> Pont St Esprit | N13: OK
A14: =N1 -> LOG 11 | B14: ='Listing Logements'!B4:D4 -> 3, rue Pierre Taillant | C14: ='Listing Logements'!D4 -> Pont St Esprit | N14: OK
A15: =N1 -> LOG 11 | B15: ='Listing Logements'!B4:D4 -> 3, rue Pierre Taillant | C15: ='Listing Logements'!D4 -> Pont St Esprit | N15: OK
A16: =N1 -> LOG 11 | B16: ='Listing Logements'!B4:D4 -> 3, rue Pierre Taillant | C16: ='Listing Logements'!D4 -> Pont St Esprit | N16: OK
A17: =N1 -> LOG 11 | B17: ='Listing Logements'!B4:D4 -> 3, rue Pierre Taillant | C17: ='Listing Logements'!D4 -> Pont St Esprit | N17: OK
A18: =N1 -> LOG 11 | B18: ='Listing Logements'!B4:D4 -> 3, rue Pierre Taillant | C18: ='Listing Logements'!D4 -> Pont St Esprit | N18: OK
A19: =N1 -> LOG 11 | B19: ='Listing Logements'!B4:D4 -> 3, rue Pierre Taillant | C19: ='Listing Logements'!D4 -> Pont St Esprit | N19: OK
A20: =N1 -> LOG 11 | B20: ='Listing Logements'!B4:D4 -> 3, rue Pierre Taillant | C20: ='Listing Logements'!D4 -> Pont St Esprit | N20: OK
A21: =N1 -> LOG 11 | B21: ='Listing Logements'!B4:D4 -> 3, rue Pierre Taillant | C21: ='Listing Logements'!D4 -> Pont St Esprit | N21: OK
A22: =N1 -> LOG 11 | B22: ='Listing Logements'!B4:D4 -> 3, rue Pierre Taillant | C22: ='Listing Logements'!D4 -> Pont St Esprit | N22: OK
A23: =N1 -> LOG 11 | B23: ='Listing Logements'!B4:D4 -> 3, rue Pierre Taillant | C23: ='Listing Logements'!D4 -> Pont St Esprit | N23: OK
A24: =N1 -> LOG 11 | B24: ='Listing Logements'!B4:D4 -> 3, rue Pierre Taillant | C24: ='Listing Logements'!D4 -> Pont St Esprit | N24: OK
A25: =N1 -> LOG 11 | B25: ='Listing Logements'!B4:D4 -> 3, rue Pierre Taillant | C25: ='Listing Logements'!D4 -> Pont St Esprit | N25: OK
A26: =N1 -> LOG 11 | B26: ='Listing Logements'!B4:D4 -> 3, rue Pierre Taillant | C26: ='Listing Logements'!D4 -> Pont St Esprit | N26: OK
A27: =N1 -> LOG 11 | B27: ='Listing Logements'!B4:D4 -> 3, rue Pierre Taillant | C27: ='Listing Logements'!D4 -> Pont St Esprit | N27: OK
A28: =N1 -> LOG 11 | B28: ='Listing Logements'!B4:D4 -> 3, rue Pierre Taillant | C28: ='Listing Logements'!D4 -> Pont St Esprit | N28: OK
A29: =N1 -> LOG 11 | B29: ='Listing Logements'!B4:D4 -> 3, rue Pierre Taillant | C29: ='Listing Logements'!D4 -> Pont St Esprit | N29: OK
A30: =N1 -> LOG 11 | B30: ='Listing Logements'!B4:D4 -> 3, rue Pierre Taillant | C30: ='Listing Logements'!D4 -> Pont St Esprit | N30: OK
A31: =N1 -> LOG 11 | B31: ='Listing Logements'!B4:D4 -> 3, rue Pierre Taillant | C31: ='Listing Logements'!D4 -> Pont St Esprit | N31: OK
A32: =N1 -> LOG 11 | B32: ='Listing Logements'!B4:D4 -> 3, rue Pierre Taillant | C32: ='Listing Logements'!D4 -> Pont St Esprit | N32: OK
A33: =N1 -> LOG 11 | B33: ='Listing Logements'!B4:D4 -> 3, rue Pierre Taillant | C33: ='Listing Logements'!D4 -> Pont St Esprit | N33: OK
A34: =N1 -> LOG 11 | B34: ='Listing Logements'!B4:D4 -> 3, rue Pierre Taillant | C34: ='Listing Logements'!D4 -> Pont St Esprit | N34: OK
A35: =N1 -> LOG 11 | B35: ='Listing Logements'!B4:D4 -> 3, rue Pierre Taillant | C35: ='Listing Logements'!D4 -> Pont St Esprit | N35: OK
A36: =N1 -> LOG 11 | B36: ='Listing Logements'!B4:D4 -> 3, rue Pierre Taillant | C36: ='Listing Logements'!D4 -> Pont St Esprit | N36: OK
A37: =N1 -> LOG 11 | B37: ='Listing Logements'!B4:D4 -> 3, rue Pierre Taillant | C37: ='Listing Logements'!D4 -> Pont St Esprit | N37: OK
A38: =N1 -> LOG 11 | B38: ='Listing Logements'!B4:D4 -> 3, rue Pierre Taillant | C38: ='Listing Logements'!D4 -> Pont St Esprit | N38: OK
A39: =N1 -> LOG 11 | B39: ='Listing Logements'!B4:D4 -> 3, rue Pierre Taillant | C39: ='Listing Logements'!D4 -> Pont St Esprit | N39: OK
A40: =N1 -> LOG 11 | B40: ='Listing Logements'!B4:D4 -> 3, rue Pierre Taillant | C40: ='Listing Logements'!D4 -> Pont St Esprit | N40: OK
...

Sheet LOG 12
A1: LISTING | B1: INTERVENTIONS EN COURS | C1: Interventions LOGEMENT | N1: =RIGHT(C53,LEN(C53)-FIND("]",C53,1)) -> LOG 12
A2: Numéro de logement | B2: Adresse | C2: Ville | D2: Date | E2: Type d'intervention | L2: Auteur de l'intervention | M2: Auteur de la dégradation | N2: EFFECTUE (OK)
A3: =N1 -> LOG 12 | B3: ='Listing Logements'!B4:D4 -> 3, rue Pierre Taillant | C3: ='Listing Logements'!D4 -> Pont St Esprit | N3: OK
A4: =N1 -> LOG 12 | B4: ='Listing Logements'!B4:D4 -> 3, rue Pierre Taillant | C4: ='Listing Logements'!D4 -> Pont St Esprit | N4: OK
A5: =N1 -> LOG 12 | B5: ='Listing Logements'!B4:D4 -> 3, rue Pierre Taillant | C5: ='Listing Logements'!D4 -> Pont St Esprit | N5: OK
A6: =N1 -> LOG 12 | B6: ='Listing Logements'!B4:D4 -> 3, rue Pierre Taillant | C6: ='Listing Logements'!D4 -> Pont St Esprit | N6: OK
A7: =N1 -> LOG 12 | B7: ='Listing Logements'!B4:D4 -> 3, rue Pierre Taillant | C7: ='Listing Logements'!D4 -> Pont St Esprit | N7: OK
A8: =N1 -> LOG 12 | B8: ='Listing Logements'!B4:D4 -> 3, rue Pierre Taillant | C8: ='Listing Logements'!D4 -> Pont St Esprit | N8: OK
A9: =N1 -> LOG 12 | B9: ='Listing Logements'!B4:D4 -> 3, rue Pierre Taillant | C9: ='Listing Logements'!D4 -> Pont St Esprit | N9: OK
A10: =N1 -> LOG 12 | B10: ='Listing Logements'!B4:D4 -> 3, rue Pierre Taillant | C10: ='Listing Logements'!D4 -> Pont St Esprit | N10: OK
A11: =N1 -> LOG 12 | B11: ='Listing Logements'!B4:D4 -> 3, rue Pierre Taillant | C11: ='Listing Logements'!D4 -> Pont St Esprit | N11: OK
A12: =N1 -> LOG 12 | B12: ='Listing Logements'!B4:D4 -> 3, rue Pierre Taillant | C12: ='Listing Logements'!D4 -> Pont St Esprit | N12: OK
A13: =N1 -> LOG 12 | B13: ='Listing Logements'!B4:D4 -> 3, rue Pierre Taillant | C13: ='Listing Logements'!D4 -> Pont St Esprit | N13: OK
A14: =N1 -> LOG 12 | B14: ='Listing Logements'!B4:D4 -> 3, rue Pierre Taillant | C14: ='Listing Logements'!D4 -> Pont St Esprit | N14: OK
A15: =N1 -> LOG 12 | B15: ='Listing Logements'!B4:D4 -> 3, rue Pierre Taillant | C15: ='Listing Logements'!D4 -> Pont St Esprit | N15: OK
A16: =N1 -> LOG 12 | B16: ='Listing Logements'!B4:D4 -> 3, rue Pierre Taillant | C16: ='Listing Logements'!D4 -> Pont St Esprit | N16: OK
A17: =N1 -> LOG 12 | B17: ='Listing Logements'!B4:D4 -> 3, rue Pierre Taillant | C17: ='Listing Logements'!D4 -> Pont St Esprit | N17: OK
A18: =N1 -> LOG 12 | B18: ='Listing Logements'!B4:D4 -> 3, rue Pierre Taillant | C18: ='Listing Logements'!D4 -> Pont St Esprit | N18: OK
A19: =N1 -> LOG 12 | B19: ='Listing Logements'!B4:D4 -> 3, rue Pierre Taillant | C19: ='Listing Logements'!D4 -> Pont St Esprit | N19: OK
A20: =N1 -> LOG 12 | B20: ='Listing Logements'!B4:D4 -> 3, rue Pierre Taillant | C20: ='Listing Logements'!D4 -> Pont St Esprit | N20: OK
A21: =N1 -> LOG 12 | B21: ='Listing Logements'!B4:D4 -> 3, rue Pierre Taillant | C21: ='Listing Logements'!D4 -> Pont St Esprit | N21: OK
A22: =N1 -> LOG 12 | B22: ='Listing Logements'!B4:D4 -> 3, rue Pierre Taillant | C22: ='Listing Logements'!D4 -> Pont St Esprit | N22: OK
A23: =N1 -> LOG 12 | B23: ='Listing Logements'!B4:D4 -> 3, rue Pierre Taillant | C23: ='Listing Logements'!D4 -> Pont St Esprit | N23: OK
A24: =N1 -> LOG 12 | B24: ='Listing Logements'!B4:D4 -> 3, rue Pierre Taillant | C24: ='Listing Logements'!D4 -> Pont St Esprit | N24: OK
A25: =N1 -> LOG 12 | B25: ='Listing Logements'!B4:D4 -> 3, rue Pierre Taillant | C25: ='Listing Logements'!D4 -> Pont St Esprit | N25: OK
A26: =N1 -> LOG 12 | B26: ='Listing Logements'!B4:D4 -> 3, rue Pierre Taillant | C26: ='Listing Logements'!D4 -> Pont St Esprit | N26: OK
A27: =N1 -> LOG 12 | B27: ='Listing Logements'!B4:D4 -> 3, rue Pierre Taillant | C27: ='Listing Logements'!D4 -> Pont St Esprit | N27: OK
A28: =N1 -> LOG 12 | B28: ='Listing Logements'!B4:D4 -> 3, rue Pierre Taillant | C28: ='Listing Logements'!D4 -> Pont St Esprit | N28: OK
A29: =N1 -> LOG 12 | B29: ='Listing Logements'!B4:D4 -> 3, rue Pierre Taillant | C29: ='Listing Logements'!D4 -> Pont St Esprit | N29: OK
A30: =N1 -> LOG 12 | B30: ='Listing Logements'!B4:D4 -> 3, rue Pierre Taillant | C30: ='Listing Logements'!D4 -> Pont St Esprit | N30: OK
A31: =N1 -> LOG 12 | B31: ='Listing Logements'!B4:D4 -> 3, rue Pierre Taillant | C31: ='Listing Logements'!D4 -> Pont St Esprit | N31: OK
A32: =N1 -> LOG 12 | B32: ='Listing Logements'!B4:D4 -> 3, rue Pierre Taillant | C32: ='Listing Logements'!D4 -> Pont St Esprit | N32: OK
A33: =N1 -> LOG 12 | B33: ='Listing Logements'!B4:D4 -> 3, rue Pierre Taillant | C33: ='Listing Logements'!D4 -> Pont St Esprit | N33: OK
A34: =N1 -> LOG 12 | B34: ='Listing Logements'!B4:D4 -> 3, rue Pierre Taillant | C34: ='Listing Logements'!D4 -> Pont St Esprit | N34: OK
A35: =N1 -> LOG 12 | B35: ='Listing Logements'!B4:D4 -> 3, rue Pierre Taillant | C35: ='Listing Logements'!D4 -> Pont St Esprit | N35: OK
A36: =N1 -> LOG 12 | B36: ='Listing Logements'!B4:D4 -> 3, rue Pierre Taillant | C36: ='Listing Logements'!D4 -> Pont St Esprit | N36: OK
A37: =N1 -> LOG 12 | B37: ='Listing Logements'!B4:D4 -> 3, rue Pierre Taillant | C37: ='Listing Logements'!D4 -> Pont St Esprit | N37: OK
A38: =N1 -> LOG 12 | B38: ='Listing Logements'!B4:D4 -> 3, rue Pierre Taillant | C38: ='Listing Logements'!D4 -> Pont St Esprit | N38: OK
A39: =N1 -> LOG 12 | B39: ='Listing Logements'!B4:D4 -> 3, rue Pierre Taillant | C39: ='Listing Logements'!D4 -> Pont St Esprit | N39: OK
A40: =N1 -> LOG 12 | B40: ='Listing Logements'!B4:D4 -> 3, rue Pierre Taillant | C40: ='Listing Logements'!D4 -> Pont St Esprit | N40: OK
...

Sheet LOG 13B
A1: LISTING | B1: INTERVENTIONS EN COURS | C1: Interventions LOGEMENT | N1: =RIGHT(C53,LEN(C53)-FIND("]",C53,1)) -> LOG 13B
A2: Numéro de logement | B2: Adresse | C2: Ville | D2: Date | E2: Type d'intervention | L2: Auteur de l'intervention | M2: Auteur de la dégradation | N2: EFFECTUE (OK)
A3: =N1 -> LOG 13B | B3: ='Listing Logements'!B4:D4 -> 3, rue Pierre Taillant | C3: ='Listing Logements'!D4 -> Pont St Esprit | N3: OK
A4: =N1 -> LOG 13B | B4: ='Listing Logements'!B4:D4 -> 3, rue Pierre Taillant | C4: ='Listing Logements'!D4 -> Pont St Esprit | N4: OK
A5: =N1 -> LOG 13B | B5: ='Listing Logements'!B4:D4 -> 3, rue Pierre Taillant | C5: ='Listing Logements'!D4 -> Pont St Esprit | N5: OK
A6: =N1 -> LOG 13B | B6: ='Listing Logements'!B4:D4 -> 3, rue Pierre Taillant | C6: ='Listing Logements'!D4 -> Pont St Esprit | N6: OK
A7: =N1 -> LOG 13B | B7: ='Listing Logements'!B4:D4 -> 3, rue Pierre Taillant | C7: ='Listing Logements'!D4 -> Pont St Esprit | N7: OK
A8: =N1 -> LOG 13B | B8: ='Listing Logements'!B4:D4 -> 3, rue Pierre Taillant | C8: ='Listing Logements'!D4 -> Pont St Esprit | N8: OK
A9: =N1 -> LOG 13B | B9: ='Listing Logements'!B4:D4 -> 3, rue Pierre Taillant | C9: ='Listing Logements'!D4 -> Pont St Esprit | N9: OK
A10: =N1 -> LOG 13B | B10: ='Listing Logements'!B4:D4 -> 3, rue Pierre Taillant | C10: ='Listing Logements'!D4 -> Pont St Esprit | N10: OK
A11: =N1 -> LOG 13B | B11: ='Listing Logements'!B4:D4 -> 3, rue Pierre Taillant | C11: ='Listing Logements'!D4 -> Pont St Esprit | N11: OK
A12: =N1 -> LOG 13B | B12: ='Listing Logements'!B4:D4 -> 3, rue Pierre Taillant | C12: ='Listing Logements'!D4 -> Pont St Esprit | N12: OK
