Workbook
Name Adversaire: '[1]BDD Match'!$A:$A
Name etatterrain: [1]Paramètres!$L$1:$L$5
Name Faitdejeu: [1]Paramètres!$P:$P
Name hauteur: [1]Paramètres!$I$1:$I$5
Name Joueurs: [1]Paramètres!$F$1:$F$22
Name LieuMatch: [1]Paramètres!$N$1:$N$3
Name Météo: [1]Paramètres!$K$1:$K$9
Name Nom: [1]BDD!#REF!
Name Noms1: [1]BDD!$A:$A
Name Notes: [1]Paramètres!$B$1:$B$11
Name Pieds1: [1]Paramètres!$C$1:$C$3
Name Poids1: [1]Paramètres!$E$1:$E$91
Name Poste: [1]Paramètres!$A:$A
Name Postes: [1]Paramètres!$S$1:$S$4
Name Secondposte: [1]Paramètres!#REF!
Name Taille: [1]Paramètres!$D$1:$D$109
Name Tempsdejeu: [1]Paramètres!$H$1:$H$110
Name Terrains: [1]Paramètres!$J$1:$J$4
Name TypeMatch: [1]Paramètres!$M$1:$M$6

Sheet BDD indiv1
A1: Joueur | B1: Ballon Touchés | C1: Passe | D1: Passe réussi | E1: Passe loupé | F1: Dégagement | G1: Ballon Perdu | H1: Duel Gagné | I1: Duel Perdu | J1: Interception | K1: Récupération | L1: Trajectoire Coupé | M1: Tir Cadré | N1: Tir HC | O1: Passe Déc | P1: But | Q1: Carton Jaune | R1: Carton Rouge | S1: Faute Com | T1: Faute Sub | U1: Total TDJ | V1: Hors Jeu | W1: Adversaire | X1: Lieu | Y1: Compo | Z1: Hauteur Bloc | AA1: Match | AB1: Date | AC1: Heure | AD1: Terrain | AE1: État | AF1: Météo | AG1: Postes
A2: Kevin | B2: 2 | C2: 3 | D2: 1 | E2: 2 | F2: 1 | G2: 2 | H2: 3 | I2: 3 | J2: 1 | K2: 0 | L2: 0 | M2: 1 | N2: 0 | O2: 0 | P2: 0 | Q2: 0 | R2: 0 | S2: 0 | T2: 0 | U2: 95 | V2: 0 | W2: Montpellier | X2: Domicile | Y2: 352 | Z2: Bas | AA2: Championnat | AB2: 43941 | AC2: 19h00 | AD2: Herbe | AE2: Très bon | AF2: Pluvieux | AG2: GB
A3: Anthony | B3: 1 | C3: 6 | D3: 3 | E3: 3 | F3: 2 | G3: 3 | H3: 4 | I3: 4 | J3: 2 | K3: 6 | L3: 2 | M3: 0 | N3: 0 | O3: 0 | P3: 0 | Q3: 1 | R3: 0 | S3: 2 | T3: 0 | U3: 95 | V3: 1 | W3: Montpellier | X3: Domicile | Y3: 352 | Z3: Bas | AA3: Championnat | AB3: 43941 | AC3: 19h00 | AD3: Herbe | AE3: Très bon | AF3: Pluvieux | AG3: DD
A4: Nicolas | B4: 0 | C4: 8 | D4: 4 | E4: 4 | F4: 0 | G4: 0 | H4: 5 | I4: 5 | J4: 1 | K4: 5 | L4: 1 | M4: 1 | N4: 0 | O4: 0 | P4: 0 | Q4: 0 | R4: 0 | S4: 1 | T4: 1 | U4: 95 | V4: 0 | W4: Montpellier | X4: Domicile | Y4: 352 | Z4: Bas | AA4: Championnat | AB4: 43941 | AC4: 19h00 | AD4: Herbe | AE4: Très bon | AF4: Pluvieux | AG4: DG
A5: Romain | B5: 1 | C5: 6 | D5: 3 | E5: 3 | F5: 3 | G5: 0 | H5: 6 | I5: 2 | J5: 0 | K5: 2 | L5: 3 | M5: 6 | N5: 2 | O5: 0 | P5: 0 | Q5: 0 | R5: 0 | S5: 3 | T5: 2 | U5: 95 | V5: 0 | W5: Montpellier | X5: Domicile | Y5: 352 | Z5: Bas | AA5: Championnat | AB5: 43941 | AC5: 19h00 | AD5: Herbe | AE5: Très bon | AF5: Pluvieux | AG5: DCG
A6: Simon | B6: 0 | C6: 8 | D6: 4 | E6: 4 | F6: 0 | G6: 2 | H6: 5 | I6: 1 | J6: 1 | K6: 0 | L6: 6 | M6: 2 | N6: 0 | O6: 1 | P6: 0 | Q6: 1 | R6: 0 | S6: 0 | T6: 0 | U6: 95 | V6: 0 | W6: Montpellier | X6: Domicile | Y6: 352 | Z6: Bas | AA6: Championnat | AB6: 43941 | AC6: 19h00 | AD6: Herbe | AE6: Très bon | AF6: Pluvieux | AG6: DCD
A7: Omar | B7: 1 | C7: 9 | D7: 5 | E7: 4 | F7: 4 | G7: 1 | H7: 2 | I7: 3 | J7: 2 | K7: 0 | L7: 5 | M7: 1 | N7: 1 | O7: 0 | P7: 0 | Q7: 0 | R7: 0 | S7: 0 | T7: 0 | U7: 95 | V7: 0 | W7: Montpellier | X7: Domicile | Y7: 352 | Z7: Bas | AA7: Championnat | AB7: 43941 | AC7: 19h00 | AD7: Herbe | AE7: Très bon | AF7: Pluvieux | AG7: MCD
A8: Hakim | B8: 0 | C8: 7 | D8: 2 | E8: 5 | F8: 0 | G8: 3 | H8: 4 | I8: 2 | J8: 6 | K8: 2 | L8: 0 | M8: 3 | N8: 2 | O8: 0 | P8: 0 | Q8: 0 | R8: 0 | S8: 1 | T8: 1 | U8: 66 | V8: 0 | W8: Montpellier | X8: Domicile | Y8: 352 | Z8: Bas | AA8: Championnat | AB8: 43941 | AC8: 19h00 | AD8: Herbe | AE8: Très bon | AF8: Pluvieux | AG8: MD
A9: Alfa | B9: 2 | C9: 4 | D9: 2 | E9: 2 | F9: 5 | G9: 2 | H9: 5 | I9: 4 | J9: 5 | K9: 1 | L9: 1 | M9: 0 | N9: 0 | O9: 0 | P9: 0 | Q9: 0 | R9: 0 | S9: 2 | T9: 2 | U9: 95 | V9: 0 | W9: Montpellier | X9: Domicile | Y9: 352 | Z9: Bas | AA9: Championnat | AB9: 43941 | AC9: 19h00 | AD9: Herbe | AE9: Très bon | AF9: Pluvieux | AG9: MCG
A10: Tango | B10: 2 | C10: 8 | D10: 5 | E10: 3 | F10: 2 | G10: 3 | H10: 2 | I10: 2 | J10: 2 | K10: 3 | L10: 2 | M10: 1 | N10: 0 | O10: 0 | P10: 0 | Q10: 1 | R10: 0 | S10: 0 | T10: 0 | U10: 95 | V10: 0 | W10: Montpellier | X10: Domicile | Y10: 352 | Z10: Bas | AA10: Championnat | AB10: 43941 | AC10: 19h00 | AD10: Herbe | AE10: Très bon | AF10: Pluvieux | AG10: ATG
A11: Lucas | B11: 2 | C11: 38 | D11: 34 | E11: 4 | F11: 1 | G11: 2 | H11: 1 | I11: 4 | J11: 0 | K11: 6 | L11: 2 | M11: 0 | N11: 6 | O11: 2 | P11: 0 | Q11: 0 | R11: 0 | S11: 0 | T11: 0 | U11: 95 | V11: 0 | W11: Montpellier | X11: Domicile | Y11: 352 | Z11: Bas | AA11: Championnat | AB11: 43941 | AC11: 19h00 | AD11: Herbe | AE11: Très bon | AF11: Pluvieux | AG11: ATD
A12: Jessy | B12: 2 | C12: 10 | D12: 4 | E12: 6 | F12: 1 | G12: 1 | H12: 3 | I12: 4 | J12: 0 | K12: 5 | L12: 1 | M12: 1 | N12: 5 | O12: 1 | P12: 1 | Q12: 0 | R12: 0 | S12: 2 | T12: 0 | U12: 95 | V12: 0 | W12: Montpellier | X12: Domicile | Y12: 352 | Z12: Bas | AA12: Championnat | AB12: 43941 | AC12: 19h00 | AD12: Herbe | AE12: Très bon | AF12: Pluvieux | AG12: MG
A13: Bryan | B13: 0 | C13: 6 | D13: 2 | E13: 4 | F13: 1 | G13: 5 | H13: 4 | I13: 4 | J13: 0 | K13: 2 | L13: 3 | M13: 2 | N13: 2 | O13: 0 | P13: 2 | Q13: 0 | R13: 0 | S13: 1 | T13: 1 | U13: 0 | V13: 0 | W13: Montpellier | X13: Domicile | Y13: 352 | Z13: Bas | AA13: Championnat | AB13: 43941 | AC13: 19h00 | AD13: Herbe | AE13: Très bon | AF13: Pluvieux | AG13: RE1
... A30: Jessy | B30: 2 | C30: 1 | D30: 0 | E30: 1 | F30: 0 | G30: 0 | H30: 0 | I30: 0 | J30: 0 | K30: 0 | L30: 0 | M30: 0 | N30: 4 | O30: 0 | P30: 0 | Q30: 0 | R30: 0 | S30: 0 | T30: 0 | U30: 29 | V30: 0 | W30: Bordeaux | X30: Extérieur | Y30: 442 | Z30: Moyen | AA30: Championnat | AB30: 43941 | AC30: 17h00 | AD30: Hybride | AE30: Mauvais | AF30: Orageux | AG30: RE3

Sheet Stat saison
B2: STATISTIQUES SAISON
K4: Joueur | L4: Anthony | N4: Total
C5: =VLOOKUP($C$6,[1]Paramètres!F:G,2,0) -> FLORINDO | E5: Nombre de match | G5: Championnat | K5: Passe vers | L5: =SUMIFS([1]!Tableau1[Vers],[1]!Tableau1[[Joueur ]],$C$6,[1]!Tableau1[Joueur],$L$4) -> 9 | N5: =SUMIFS([1]!Tableau1[Vers],[1]!Tableau1[[Joueur ]],$C$6) -> 68 | O5: =IFERROR((L5/N5),0) -> 0.13235294
C6: Romain | E6: =COUNTIF(Tableau2[[Joueur ]],'Stat saison'!C$6) -> 2 | G6: =COUNTIFS(Tableau2[[Joueur ]],$C$6,Tableau2[Match],$G$5) -> 2 | K6: Reçu | L6: =SUMIFS([1]!Tableau1[Reçu],[1]!Tableau1[[Joueur ]],$C$6,[1]!Tableau1[Joueur],$L$4) -> 3 | N6: =SUMIFS([1]!Tableau1[Reçu],[1]!Tableau1[[Joueur ]],$C$6) -> 78 | O6: =IFERROR(((L6/N6)),0) -> 0.038461538
C7: Temps de jeu | E7: =SUMIFS(Tableau2[Total TDJ],Tableau2[[Joueur ]],$C$6) -> 165 | G7: =SUMIFS(Tableau2[Total TDJ],Tableau2[[Joueur ]],$C$6,Tableau2[Match],$G$5) -> 165
K9: Joueurs | L9: Vali | N9: Simon
K10: Passe vers | L10: =SUMIFS([1]!Tableau1[Vers],[1]!Tableau1[[Joueur ]],$C$6,[1]!Tableau1[Joueur],$L$9) -> 4 | N10: =SUMIFS([1]!Tableau1[Vers],[1]!Tableau1[[Joueur ]],$C$6,[1]!Tableau1[Joueur],$N$9) -> 4 | O10: =L10-N10 -> 0 | S10: =MATCH(B34,'BDD indiv1'!1:1,0) -> 2 | T10: EQUIV(B34;'BDD indiv1'!1:1;0)
K11: Reçu | L11: =SUMIFS([1]!Tableau1[Reçu],[1]!Tableau1[[Joueur ]],$C$6,[1]!Tableau1[Joueur],$L$9) -> 3 | N11: =SUMIFS([1]!Tableau1[Reçu],[1]!Tableau1[[Joueur ]],$C$6,[1]!Tableau1[Joueur],$N$9) -> 2 | O11: =L11-N11 -> 1
S12: =L14 -> Montpellier
B13: =Tableau2[[#Headers],[Ballon Touchés]] -> Ballon Touchés | C13: /match | F13: =Tableau2[[#Headers],[Trajectoire Coupé]] -> Trajectoire Coupé | H13: /match | L13: Adversaires | N13: Temps de jeu | S13: =SUMIFS(INDEX('BDD indiv1'!1:1048576,,MATCH(B34,'BDD indiv1'!1:1,0)),'BDD indiv1'!W:W,'Stat saison'!S12,'BDD indiv1'!A:A,'Stat saison'!C6:D6) -> 0 | T13: SOMME.SI.ENS(INDEX('BDD indiv1'!1:1048576;;EQUIV(B34;'BDD indiv1'!1:1;0));'BDD indiv1'!W:W;'Stat saison'!S12;'BDD indiv1'!A:A;'Stat saison'!C6:D6)
B14: =SUMIFS(Tableau2[Ballon Touchés],Tableau2[[Joueur ]],$C$6) -> 4 | C14: =IFERROR(B14/$E$6,0) -> 2 | F14: =SUMIFS(Tableau2[Trajectoire Coupé],Tableau2[[Joueur ]],$C$6) -> 7 | H14: =IFERROR(F14/$E$6,0) -> 3.5 | L14: =IFERROR(INDEX('BDD indiv1'!W:W,M14),"") -> Montpellier | M14: =IFERROR(MATCH($C$6,OFFSET(Tableau2[[#Headers],[Joueur ]],M13,0,COUNTA('BDD indiv1'!A:A)-M13,1),0)+M13,"") -> 5 | N14: =IF(L14=0,"",SUMIFS(Tableau2[Total TDJ],Tableau2[[Joueur ]],$C$6,Tableau2[Adversaire],$L14)) -> 95
B15: =Tableau2[[#Headers],[Passe]] -> Passe | C15: /match | F15: =Tableau2[[#Headers],[Tir Cadré]] -> Tir Cadré | H15: /match | L15: =IFERROR(INDEX('BDD indiv1'!W:W,M15),"") -> Bordeaux | M15: =IFERROR(MATCH($C$6,OFFSET(Tableau2[[#Headers],[Joueur ]],M14,0,COUNTA('BDD indiv1'!A:A)-M14,1),0)+M14,"") -> 21 | N15: =IF(L15=0,"",SUMIFS(Tableau2[Total TDJ],Tableau2[[Joueur ]],$C$6,Tableau2[Adversaire],$L15)) -> 70
B16: =SUMIFS(Tableau2[Passe],Tableau2[[Joueur ]],$C$6) -> 53 | C16: =IFERROR(B16/$E$6,0) -> 26.5 | F16: =SUMIFS(Tableau2[Tir Cadré],Tableau2[[Joueur ]],$C$6) -> 8 | H16: =IFERROR(F16/$E$6,0) -> 4 | L16: =IFERROR(INDEX('BDD indiv1'!W:W,M16),"") | M16: =IFERROR(MATCH($C$6,OFFSET(Tableau2[[#Headers],[Joueur ]],M15,0,COUNTA('BDD indiv1'!A:A)-M15,1),0)+M15,"") | N16: =IF(L16=0,"",SUMIFS(Tableau2[Total TDJ],Tableau2[[Joueur ]],$C$6,Tableau2[Adversaire],$L16)) -> 0
B17: =Tableau2[[#Headers],[Passe réussi ]] -> Passe réussi | C17: /match | F17: =Tableau2[[#Headers],[Tir HC]] -> Tir HC | H17: /match | L17: =IFERROR(INDEX('BDD indiv1'!W:W,M17),"") | M17: =IFERROR(MATCH($C$6,OFFSET(Tableau2[[#Headers],[Joueur ]],M16,0,COUNTA('BDD indiv1'!A:A)-M16,1),0)+M16,"") | N17: =IF(L17=0,"",SUMIFS(Tableau2[Total TDJ],Tableau2[[Joueur ]],$C$6,Tableau2[Adversaire],$L17)) -> 0 | S17: Stat séléctionnée dans la liste déroulante (B34)
B18: =SUMIFS(Tableau2[[Passe réussi ]],Tableau2[[Joueur ]],$C$6) -> 48 | C18: =IFERROR(B18/$E$6,0) -> 24 | F18: =SUMIFS(Tableau2[Tir HC],Tableau2[[Joueur ]],$C$6) -> 6 | H18: =IFERROR(F18/$E$6,0) -> 3 | L18: =IFERROR(INDEX('BDD indiv1'!W:W,M18),"") | M18: =IFERROR(MATCH($C$6,OFFSET(Tableau2[[#Headers],[Joueur ]],M17,0,COUNTA('BDD indiv1'!A:A)-M17,1),0)+M17,"") | N18: =IF(L18=0,"",SUMIFS(Tableau2[Total TDJ],Tableau2[[Joueur ]],$C$6,Tableau2[Adversaire],$L18)) -> 0 | S18: En fonction du match (Montpellier S12) et du joueur (Romain C6)
B19: =Tableau2[[#Headers],[Passe loupé ]] -> Passe loupé | C19: /match | F19: =Tableau2[[#Headers],[Passe Déc]] -> Passe Déc | H19: /match | L19: =IFERROR(INDEX('BDD indiv1'!W:W,M19),"") | M19: =IFERROR(MATCH($C$6,OFFSET(Tableau2[[#Headers],[Joueur ]],M18,0,COUNTA('BDD indiv1'!A:A)-M18,1),0)+M18,"") | N19: =IF(L19=0,"",SUMIFS(Tableau2[Total TDJ],Tableau2[[Joueur ]],$C$6,Tableau2[Adversaire],$L19)) -> 0
B20: =SUMIFS(Tableau2[[Passe loupé ]],Tableau2[[Joueur ]],$C$6) -> 5 | C20: =IFERROR(B20/$E$6,0) -> 2.5 | F20: =SUMIFS(Tableau2[Passe Déc],Tableau2[[Joueur ]],$C$6) -> 4 | H20: =IFERROR(F20/$E$6,0) -> 2 | L20: =IFERROR(INDEX('BDD indiv1'!W:W,M20),"") | M20: =IFERROR(MATCH($C$6,OFFSET(Tableau2[[#Headers],[Joueur ]],M19,0,COUNTA('BDD indiv1'!A:A)-M19,1),0)+M19,"") | N20: =IF(L20=0,"",SUMIFS(Tableau2[Total TDJ],Tableau2[[Joueur ]],$C$6,Tableau2[Adversaire],$L20)) -> 0
B21: =Tableau2[[#Headers],[Dégagement ]] -> Dégagement | C21: /match | F21: =Tableau2[[#Headers],[But]] -> But | H21: /match | L21: =IFERROR(INDEX('BDD indiv1'!W:W,M21),"") | M21: =IFERROR(MATCH($C$6,OFFSET(Tableau2[[#Headers],[Joueur ]],M20,0,COUNTA('BDD indiv1'!A:A)-M20,1),0)+M20,"") | N21: =IF(L21=0,"",SUMIFS(Tableau2[Total TDJ],Tableau2[[Joueur ]],$C$6,Tableau2[Adversaire],$L21)) -> 0
B22: =SUMIFS(Tableau2[[Dégagement ]],Tableau2[[Joueur ]],$C$6) -> 7 | C22: =IFERROR(B22/$E$6,0) -> 3.5 | F22: =SUMIFS(Tableau2[But],Tableau2[[Joueur ]],$C$6) -> 0 | H22: =IFERROR(F22/$E$6,0) -> 0 | L22: =IFERROR(INDEX('BDD indiv1'!W:W,M22),"") | M22: =IFERROR(MATCH($C$6,OFFSET(Tableau2[[#Headers],[Joueur ]],M21,0,COUNTA('BDD indiv1'!A:A)-M21,1),0)+M21,"") | N22: =IF(L22=0,"",SUMIFS(Tableau2[Total TDJ],Tableau2[[Joueur ]],$C$6,Tableau2[Adversaire],$L22)) -> 0
B23: =Tableau2[[#Headers],[Ballon Perdu]] -> Ballon Perdu | C23: /match | F23: =Tableau2[[#Headers],[Carton Jaune]] -> Carton Jaune | H23: /match | L23: =IFERROR(INDEX('BDD indiv1'!W:W,M23),"") | M23: =IFERROR(MATCH($C$6,OFFSET(Tableau2[[#Headers],[Joueur ]],M22,0,COUNTA('BDD indiv1'!A:A)-M22,1),0)+M22,"") | N23: =IF(L23=0,"",SUMIFS(Tableau2[Total TDJ],Tableau2[[Joueur ]],$C$6,Tableau2[Adversaire],$L23)) -> 0
B24: =SUMIFS(Tableau2[Ballon Perdu],Tableau2[[Joueur ]],$C$6) -> 1 | C24: =IFERROR(B24/$E$6,0) -> 0.5 | F24: =SUMIFS(Tableau2[Carton Jaune],Tableau2[[Joueur ]],$C$6) -> 0 | H24: =IFERROR(F24/$E$6,0) -> 0 | L24: =IFERROR(INDEX('BDD indiv1'!W:W,M24),"") | M24: =IFERROR(MATCH($C$6,OFFSET(Tableau2[[#Headers],[Joueur ]],M23,0,COUNTA('BDD indiv1'!A:A)-M23,1),0)+M23,"") | N24: =IF(L24=0,"",SUMIFS(Tableau2[Total TDJ],Tableau2[[Joueur ]],$C$6,Tableau2[Adversaire],$L24)) -> 0
B25: =Tableau2[[#Headers],[Duel Gagné]] -> Duel Gagné | C25: /match | F25: =Tableau2[[#Headers],[Carton Rouge]] -> Carton Rouge | H25: /match | L25: =IFERROR(INDEX('BDD indiv1'!W:W,M25),"") | M25: =IFERROR(MATCH($C$6,OFFSET(Tableau2[[#Headers],[Joueur ]],M24,0,COUNTA('BDD indiv1'!A:A)-M24,1),0)+M24,"") | N25: =IF(L25=0,"",SUMIFS(Tableau2[Total TDJ],Tableau2[[Joueur ]],$C$6,Tableau2[Adversaire],$L25)) -> 0
B26: =SUMIFS(Tableau2[Duel Gagné],Tableau2[[Joueur ]],$C$6) -> 10 | C26: =IFERROR(B26/$E$6,0) -> 5 | F26: =SUMIFS(Tableau2[Carton Rouge],Tableau2[[Joueur ]],$C$6) -> 0 | H26: =IFERROR(F26/$E$6,0) -> 0 | L26: =IFERROR(INDEX('BDD indiv1'!W:W,M26),"") | M26: =IFERROR(MATCH($C$6,OFFSET(Tableau2[[#Headers],[Joueur ]],M25,0,COUNTA('BDD indiv1'!A:A)-M25,1),0)+M25,"") | N26: =IF(L26=0,"",SUMIFS(Tableau2[Total TDJ],Tableau2[[Joueur ]],$C$6,Tableau2[Adversaire],$L26)) -> 0
B27: =Tableau2[[#Headers],[Duel Perdu]] -> Duel Perdu | C27: /match | F27: =Tableau2[[#Headers],[Faute Com]] -> Faute Com | H27: /match | L27: =IFERROR(INDEX('BDD indiv1'!W:W,M27),"") | M27: =IFERROR(MATCH($C$6,OFFSET(Tableau2[[#Headers],[Joueur ]],M26,0,COUNTA('BDD indiv1'!A:A)-M26,1),0)+M26,"") | N27: =IF(L27=0,"",SUMIFS(Tableau2[Total TDJ],Tableau2[[Joueur ]],$C$6,Tableau2[Adversaire],$L27)) -> 0
B28: =SUMIFS(Tableau2[Duel Perdu],Tableau2[[Joueur ]],$C$6) -> 4 | C28: =IFERROR(B28/$E$6,0) -> 2 | F28: =SUMIFS(Tableau2[Faute Com],Tableau2[[Joueur ]],$C$6) -> 7 | H28: =IFERROR(F28/$E$6,0) -> 3.5 | L28: =IFERROR(INDEX('BDD indiv1'!W:W,M28),"") | M28: =IFERROR(MATCH($C$6,OFFSET(Tableau2[[#Headers],[Joueur ]],M27,0,COUNTA('BDD indiv1'!A:A)-M27,1),0)+M27,"") | N28: =IF(L28=0,"",SUMIFS(Tableau2[Total TDJ],Tableau2[[Joueur ]],$C$6,Tableau2[Adversaire],$L28)) -> 0
B29: =Tableau2[[#Headers],[Interception]] -> Interception | C29: /match | F29: =Tableau2[[#Headers],[Faute Sub]] -> Faute Sub | H29: /match
B30: =SUMIFS(Tableau2[Interception],Tableau2[[Joueur ]],$C$6) -> 4 | C30: =IFERROR(B30/$E$6,0) -> 2 | F30: =SUMIFS(Tableau2[Faute Sub],Tableau2[[Joueur ]],$C$6) -> 2 | H30: =IFERROR(F30/$E$6,0) -> 1 | N30: =IFERROR(MATCH($C$6,OFFSET(Tableau2[[#Headers],[Joueur ]],M28,0,COUNTA('BDD indiv1'!A:A)-M28,1),0)+M28,"")
B31: =Tableau2[[#Headers],[Récupération]] -> Récupération | C31: /match | F31: =Tableau2[[#Headers],[Hors Jeu]] -> Hors Jeu | H31: /match | M31: =IFERROR(INDEX('BDD indiv1'!W:W,N31),"") | N31: =IFERROR(MATCH($C$6,OFFSET(Tableau2[[#Headers],[Joueur ]],N30,0,COUNTA('BDD indiv1'!A:A)-N30,1),0)+N30,"")
B32: =SUMIFS(Tableau2[Récupération],Tableau2[[Joueur ]],$C$6) -> 4 | C32: =IFERROR(B32/$E$6,0) -> 2 | F32: =SUMIFS(Tableau2[Hors Jeu],Tableau2[[Joueur ]],$C$6) -> 0 | H32: =IFERROR(F32/$E$6,0) -> 0 | L32: =IFERROR(INDEX('BDD indiv1'!W:W,M32),"") | M32: =IFERROR(MATCH($C$6,OFFSET(Tableau2[[#Headers],[Joueur ]],N31,0,COUNTA('BDD indiv1'!A:A)-N31,1),0)+N31,"")
L33: =IFERROR(INDEX('BDD indiv1'!W:W,M33),"") | M33: =IFERROR(MATCH($C$6,OFFSET(Tableau2[[#Headers],[Joueur ]],M32,0,COUNTA('BDD indiv1'!A:A)-M32,1),0)+M32,"")
B34: Ballon touchés | D34: <--- En fonction de cette liste déroulante | W34: Ballon touchés
W35: Passe
W36: Passe réussie
W37: Passe loupé
W38: Dégagement
