Workbook

Sheet BDD COF DC BASE
A1: Désignation | B1: Référence | C1: Nb branches | D1: 2*x branches | E1: Calibre inter (A) | F1: Ligne | G1: résultats nb br | H1: résultats triés nb br | I1: résultats calibre | J1: résultats triés calibre
A2: COF1 | B2: XXXXXXXXX1 | C2: 1 | E2: 20 | F2: =ROWS($C$2:C2) -> 1 | G2: =IF(C2='CALCUL COF DC BASE'!$F$5,'BDD COF DC BASE'!F2,"") | H2: =IFERROR(SMALL($G$2:$G$8,F2),"") -> 5 | I2: =IF(E2='CALCUL COF DC BASE'!$F$7,'BDD COF DC BASE'!F2,"") | J2: =IFERROR(SMALL($I$2:$I$8,F2),"") -> 7
A3: COF2 | B3: XXXXXXXXX2 | C3: 2 | E3: 30 | F3: =ROWS($C$2:C3) -> 2 | G3: =IF(C3='CALCUL COF DC BASE'!$F$5,'BDD COF DC BASE'!F3,"") | H3: =IFERROR(SMALL($G$2:$G$8,F3),"") | I3: =IF(E3='CALCUL COF DC BASE'!$F$7,'BDD COF DC BASE'!F3,"") | J3: =IFERROR(SMALL($I$2:$I$8,F3),"")
A4: COF3 | B4: XXXXXXXXX3 | C4: 2 | D4: 2*1 | E4: 20 | F4: =ROWS($C$2:C4) -> 3 | G4: =IF(C4='CALCUL COF DC BASE'!$F$5,'BDD COF DC BASE'!F4,"") | H4: =IFERROR(SMALL($G$2:$G$8,F4),"") | I4: =IF(E4='CALCUL COF DC BASE'!$F$7,'BDD COF DC BASE'!F4,"") | J4: =IFERROR(SMALL($I$2:$I$8,F4),"")
A5: COF4 | B5: XXXXXXXXX4 | C5: 4 | D5: 2*2 | E5: 30 | F5: =ROWS($C$2:C5) -> 4 | G5: =IF(C5='CALCUL COF DC BASE'!$F$5,'BDD COF DC BASE'!F5,"") | H5: =IFERROR(SMALL($G$2:$G$8,F5),"") | I5: =IF(E5='CALCUL COF DC BASE'!$F$7,'BDD COF DC BASE'!F5,"") | J5: =IFERROR(SMALL($I$2:$I$8,F5),"")
A6: COF5 | B6: XXXXXXXXX5 | C6: 3 | E6: 40 | F6: =ROWS($C$2:C6) -> 5 | G6: =IF(C6='CALCUL COF DC BASE'!$F$5,'BDD COF DC BASE'!F6,"") -> 5 | H6: =IFERROR(SMALL($G$2:$G$8,F6),"") | I6: =IF(E6='CALCUL COF DC BASE'!$F$7,'BDD COF DC BASE'!F6,"") | J6: =IFERROR(SMALL($I$2:$I$8,F6),"")
A7: COF6 | B7: XXXXXXXXX6 | C7: 4 | E7: 50 | F7: =ROWS($C$2:C7) -> 6 | G7: =IF(C7='CALCUL COF DC BASE'!$F$5,'BDD COF DC BASE'!F7,"") | H7: =IFERROR(SMALL($G$2:$G$8,F7),"") | I7: =IF(E7='CALCUL COF DC BASE'!$F$7,'BDD COF DC BASE'!F7,"") | J7: =IFERROR(SMALL($I$2:$I$8,F7),"")
A8: COF7 | B8: XXXXXXXXX7 | C8: 4 | E8: 100 | F8: =ROWS($C$2:C8) -> 7 | G8: =IF(C8='CALCUL COF DC BASE'!$F$5,'BDD COF DC BASE'!F8,"") | H8: =IFERROR(SMALL($G$2:$G$8,F8),"") | I8: =IF(E8='CALCUL COF DC BASE'!$F$7,'BDD COF DC BASE'!F8,"") -> 7 | J8: =IFERROR(SMALL($I$2:$I$8,F8),"")

Sheet CALCUL COF DC BASE
I4: Nb branches | J4: calibre
E5: Nombre de branches : | F5: 3 | I5: =IFERROR(INDEX('BDD COF DC BASE'!$A$2:$A$8,'BDD COF DC BASE'!H2),"") -> COF5 | J5: =IFERROR(INDEX('BDD COF DC BASE'!$A$2:$A$8,'BDD COF DC BASE'!J2),"") -> COF7
I6: =IFERROR(INDEX('BDD COF DC BASE'!$A$2:$A$8,'BDD COF DC BASE'!H3),"") | J6: =IFERROR(INDEX('BDD COF DC BASE'!$A$2:$A$8,'BDD COF DC BASE'!J3),"")
E7: Calibre inter (A) | F7: 100 | I7: =IFERROR(INDEX('BDD COF DC BASE'!$A$2:$A$8,'BDD COF DC BASE'!H4),"") | J7: =IFERROR(INDEX('BDD COF DC BASE'!$A$2:$A$8,'BDD COF DC BASE'!J4),"")
I8: =IFERROR(INDEX('BDD COF DC BASE'!$A$2:$A$8,'BDD COF DC BASE'!H5),"") | J8: =IFERROR(INDEX('BDD COF DC BASE'!$A$2:$A$8,'BDD COF DC BASE'!J5),"")
I9: =IFERROR(INDEX('BDD COF DC BASE'!$A$2:$A$8,'BDD COF DC BASE'!H6),"") | J9: =IFERROR(INDEX('BDD COF DC BASE'!$A$2:$A$8,'BDD COF DC BASE'!J6),"")
I10: =IFERROR(INDEX('BDD COF DC BASE'!$A$2:$A$8,'BDD COF DC BASE'!H7),"") | J10: =IFERROR(INDEX('BDD COF DC BASE'!$A$2:$A$8,'BDD COF DC BASE'!J7),"")
I11: =IFERROR(INDEX('BDD COF DC BASE'!$A$2:$A$8,'BDD COF DC BASE'!H8),"") | J11: =IFERROR(INDEX('BDD COF DC BASE'!$A$2:$A$8,'BDD COF DC BASE'!J8),"")
I12: =IFERROR(INDEX('BDD COF DC BASE'!$A$2:$A$8,'BDD COF DC BASE'!H9),"") | J12: =IFERROR(INDEX('BDD COF DC BASE'!$A$2:$A$8,'BDD COF DC BASE'!J9),"")
I13: =IFERROR(INDEX('BDD COF DC BASE'!$A$2:$A$8,'BDD COF DC BASE'!H10),"") | J13: =IFERROR(INDEX('BDD COF DC BASE'!$A$2:$A$8,'BDD COF DC BASE'!J10),"")
I14: =IFERROR(INDEX('BDD COF DC BASE'!$A$2:$A$8,'BDD COF DC BASE'!H11),"") | J14: =IFERROR(INDEX('BDD COF DC BASE'!$A$2:$A$8,'BDD COF DC BASE'!J11),"")
