Workbook

Sheet Feuil1
A1: 11375 | B1: PEINTBOIROSTOPBLANC4L+1LGRATUIT**** | C1: 400 | D1: 3426990023442 | E1: Z
A2: 18539 | B2: PEINTACRYLMATPROBLANC10L*********** | C2: AIMP | D2: 3426990016475 | E2: Z
A3: 18540 | B3: PEINTBOIROSOLEILBLANC2.5L*********** | C3: BOIROSOLIEL | D3: 3426990009774 | E3: Z
A4: 18541 | B4: PEINTGLYCEROMATBLANC10L************* | C4: GLMP | D4: 3426990014822 | E4: Z
A5: 18543 | B5: PEINTUREBOIROFER0.5LB.INDIG********** | C5: 717 | D5: 3426990021196 | E5: Z
A6: 18544 | B6: PEINTUREBOIROFER0.5LB.OCEAN********** | C6: 719 | D6: 3426990021707 | E6: Z
A7: 18545 | B7: PEINTUREBOIROFER0.5LBLANC************ | C7: 700 | D7: 3426990006896 | E7: Z
A8: 18546 | B8: PEINTUREBOIROFER0.5LG.MOYEN********** | C8: 701 | D8: 3426990006933 | E8: Z
A9: 18547 | B9: PEINTUREBOIROFER0.5LGRISPE********** | C9: 710 | D9: 3426990007138 | E9: Z
A10: 18548 | B10: PEINTUREBOIROFER0.5LHAVANE*********** | C10: 704 | D10: 3426990007008 | E10: Z
A11: 18549 | B11: PEINTUREBOIROFER0.5LJAUNE************ | C11: 718 | D11: 3426990021684 | E11: Z
A12: 18550 | B12: PEINTUREBOIROFER0.5LMARRON*********** | C12: 706 | D12: 3426990007053 | E12: Z
A13: 18551 | B13: PEINTUREBOIROFER0.5LNOIRBR********** | C13: 708 | D13: 3426990007091 | E13: Z
A14: 18552 | B14: PEINTUREBOIROFER0.5LNOIRSA********** | C14: 709 | D14: 3426990007114 | E14: Z
A15: 18553 | B15: PEINTUREBOIROFER0.5LPIERRE*********** | C15: 714 | D15: 3426990021134 | E15: Z
A16: 18554 | B16: PEINTUREBOIROFER0.5LRGECHI********** | C16: 715 | D16: 3426990021158 | E16: Z
... A59: 18597 | B59: PEINTUREBSTOPSAT.2.5LVERTC********** | C59: 423 | D59: 3426990021776 | E59: Z
A60: 29119 | B60: PEINTURESOLEXTERIEUR0.5LGRIS******** | C60: SOEXA501603 | D60: 3426990023633 | E60: Z
A61: 29120 | B61: PEINTURESOLEXTERIEUR2.5LGRIS******** | C61: SOEXC251603 | D61: 3426990023640 | E61: Z
A62: 42730 | B62: PEINTURESOLEXTERIEUR0.5LBLANC******* | C62: SOL0.5LBL | D62: 3426990023572 | E62: Z
A63: 42731 | B63: PEINTURESOLEXTERIEUR0.5LSABLE******* | C63: SOL0.5LSABLE | D63: 3426990024432 | E63: Z
A64: 42732 | B64: PEINTURESOLEXTERIEUR0.5LBRIQUECLAIR | C64: SOL0.5LBRIQUEC | D64: 3426990024425 | E64: Z
A65: 42733 | B65: PEINTURESOLEXTERIEUR2.5LBLANC******* | C65: SOL2.5LBLANC | D65: 3426990023589 | E65: Z
A66: 42734 | B66: DILUANTD560POURPEINTURESOL1L******* | C66: D5601L | D66: 3426990010862 | E66: Z
A67: 452893 | B67: PLAFONDBLCLUMIREBLCMAT2.5L+20%GRA | C67: 5110881 | D67: 3031520098083 | E67: T
A68: 452894 | B68: DELAQUEUR0,5L | C68: 5094490 | D68: 3031520031790 | E68: R
A69: 453022 | B69: AEROHAUTETEMPERATURES400MLNOIRMAT | C69: 6037940 | D69: 3256615090029 | E69: T
A70: 453023 | B70: JUMINIUM-PRIMANTIROUILLE0.25LORANGEMAT | C70: 5107981 | D70: 3256611071022 | E70: T
A71: 453024 | B71: JUMINIUM-PRIMANTIROUILLE0.5LORANGEMAT | C71: 5107982 | D71: 3256611071039 | E71: T
A72: 453025 | B72: JUOTROUILLE-DESTRUCTEURDEROUILLE0.25LGRIS | C72: 5107978 | D72: 3256611060019 | E72: T
A73: 453026 | B73: JUOTROUILLE-DESTRUCTEURDEROUILLE0.5LGRIS | C73: 5107980 | D73: 3256611060040 | E73: T
A74: 453027 | B74: JUFERIPRIM-PRIMANTIROUILLE0.25LBLANCSAT | C74: 5108165 | D74: 3256611600024 | E74: T
A75: 453028 | B75: JUFERIPRIM-PRIMANTIROUILLE0.5LBLANCSATIN | C75: 5108166 | D75: 3256611600031 | E75: T
A76: 453029 | B76: JUFERI-PRIMANTIROUILLE2.5LBLANCSAT | C76: 5108167 | D76: 3256611600055 | E76: T
A77: 453030 | B77: JUMINIUM-PRIMANTIROUILLE0.125LGRISBLEUTMAT | C77: 5107956 | D77: 3256611010014 | E77: T
A78: 453031 | B78: JUMINIUM-PRIMANTIROUILLE0.25LGRISBLEUTMAT | C78: 5107957 | D78: 3256611010021 | E78: T
... A128: 454575 | B128: U/RESIS.SAT.0,5LPECHEMELBA | C128: 5107760 | D128: 3031520032322 | E128: R
A129: 454576 | B129: U/RESIS.SAT.0,5LTERRACOTTA | C129: 0421G8D | D129: 3031520032421 | E129: R
A130: 454577 | B130: PEINTURESUPERSATINBLANC10L | C130: 5107573 | D130: 3031520008440 | E130: R
A131: 460880 | B131: JUMULTIFOND2-MULTI-USAGES0.5LBLANCMATVELOUT | C131: 5108230 | D131: 3256611720012 | E131: T
A132: 460881 | B132: PEINTBLANCHEMULTI-USAGES2.5LBLANCMATVELOUT | C132: 5108231 | D132: 3256611720029 | E132: T
A133: 460882 | B133: J9-AVANTREVTEMENTSDECOLOURDSBLCMAT0.5L | C133: 5108247 | D133: 3256611770017 | E133: T
A134: 460883 | B134: J9-AVANTREVTEMENTSDECOLOURDSBLCMAT2.5L | C134: 5108248 | D134: 3256611770024 | E134: T
A135: 460884 | B135: PEINTMAGNETIQUEAIMANTFIX0L5 | C135: 5108304 | D135: 3256611900025 | E135: R
A136: 460885 | B136: ULTRACOUVRANTEBLCMAT2.5L | C136: 5162623 | D136: 3031520136778 | E136: T
A137: 460886 | B137: JUCUISINE&SALLEDEBAINS2.5LBLANCMAT | C137: 5162624 | D137: 3031520136785 | E137: T
A138: 460887 | B138: UNIVERSELLEBLCMAT10L+20%GRA | C138: 5267103 | D138: 3031520195652 | E138: T
A139: 461256 | B139: EXPRESS.SAT.0,5LCAPUCIN | C139: 5085518 | D139: 3133428968427 | E139: R
A140: 461257 | B140: ELEGAN.BRIL.0,5LPASSIONATA | C140: 5085390 | D140: 3133428967437 | E140: R
A141: 461258 | B141: ELEGAN.BRIL.0,5LNACARAT | C141: 5085391 | D141: 3133428967444 | E141: R
... A224: 463319 | B224: LIASSEMATRGR3 | C224: 6037653 | D224: 3031520089456 | E224: R
A225: 463320 | B225: U/RESIS.SAT.0,5LEAUDEROSE | C225: 0421U7D | D225: 3031520086608 | E225: R
A226: 463321 | B226: U/RESIS.SAT.0,5LROSEBOUDOIR | C226: 04214GD | D226: 3031520087377 | E226: R
A227: 463322 | B227: U/RESIS.BRIL.0,5LVERTDISCO | C227: 5107621 | D227: 3031520087001 | E227: R
A228: 463323 | B228: U/RESIS.SAT.0,5LAQUARELLE | C228: 04213WD | D228: 3031520087346 | E228: R
A229: 463324 | B229: U/RESIS.SAT.0,5LCEDRELIBAN | C229: 5107706 | D229: 3031520087261 | E229: R
A230: 463325 | B230: U/RESIS.SAT.0,5LCYCLADES | C230: 04214CD | D230: 3031520087360 | E230: R
A231: 463326 | B231: U/RESIS.SAT.0,5LFENOUIL | C231: 04214ED | D231: 3031520087384 | E231: R
A232: 463327 | B232: U/RESIS.SAT.0,5LLOTUSVERT | C232: 5107788 | D232: 3031520086592 | E232: R
A233: 463328 | B233: U/RESIS.BRIL.0,5LFLORIDA | C233: 04123ED | D233: 3031520086943 | E233: R
A234: 463329 | B234: U/RESIS.BRIL.0,5LINCANDESC. | C234: 5107612 | D234: 3031520086950 | E234: R
A235: 463330 | B235: U/RESIS.BRIL.0,5LLIMONCELLO | C235: 5107622 | D235: 3031520086967 | E235: R
A236: 463331 | B236: U/RESIS.SAT.0,5LBRAISE | C236: 04213RD | D236: 3031520087278 | E236: R
A237: 463332 | B237: U/RESIS.SAT.0,5LCHAPEAUPAIL. | C237: 5107715 | D237: 3031520087353 | E237: R
A238: 463333 | B238: U/RESIS.SAT.0,5LCOLOMBO | C238: 5107716 | D238: 3031520087339 | E238: R
A239: 463334 | B239: U/RESIS.SAT.0,5LLAITABRICOT | C239: 5107725 | D239: 3031520087285 | E239: R
A240: 463335 | B240: U/RESIS.BRIL.0,5LCHOCOLAT | C240: 0412N9D | D240: 3031520086523 | E240: R
A241: 463336 | B241: U/RESIS.SAT.0,5LARGILE | C241: 5107781 | D241: 3031520086622 | E241: R
A242: 463337 | B242: U/RESIS.SAT.0,5LCACAO | C242: 0421V9D | D242: 3031520086639 | E242: R
A243: 463338 | B243: U/RESIS.SAT.2,5LROSEBOUDOIR | C243: 5107726 | D243: 3031520087469 | E243: R
A244: 463339 | B244: U/RESIS.SAT.2,5LAQUARELLE | C244: 5107701 | D244: 3031520087438 | E244: R
A245: 463340 | B245: U/RESIS.SAT.2,5LCEDRELIBAN | C245: 04213ZB | D245: 3031520087407 | E245: R
A246: 463341 | B246: U/RESIS.SAT.2,5LCYCLADES | C246: 5107718 | D246: 3031520087452 | E246: R
A247: 463342 | B247: U/RESIS.SAT.2,5LEAUVIVE | C247: 5107721 | D247: 3031520087391 | E247: R
A248: 463343 | B248: U/RESIS.SAT.2,5LFENOUIL | C248: 04214EB | D248: 3031520087476 | E248: R
A249: 463344 | B249: U/RESIS.SAT.2,5LBRAISE | C249: 5107699 | D249: 3031520087414 | E249: R
A250: 463345 | B250: U/RESIS.SAT.2,5LCHAPEAUPAIL. | C250: 5107714 | D250: 3031520087445 | E250: R
A251: 463346 | B251: U/RESIS.SAT.2,5LARGILE | C251: 0421N4B | D251: 3031520086660 | E251: R
A252: 463347 | B252: VALBALITH12LMAX.FORM.BLC | C252: 5110935 | D252: 3133428973391 | E252: R
A253: 463348 | B253: VALBALITH12LMAX.FORM.T.PIER | C253: 5110937 | D253: 3133428973407 | E253: R
A254: 463349 | B254: U/RESISTSOLSAT.0,5LBLANC | C254: 5096989 | D254: 3133428976958 | E254: R
A255: 463350 | B255: U/RESISTSOLSAT.0,5LGRAVIER | C255: 5096991 | D255: 3133428977009 | E255: R
A256: 463351 | B256: U/RESISTSOLSAT.0,5LGR.CLAIR | C256: 5096993 | D256: 3133428976965 | E256: R
A257: 463352 | B257: U/RESISTSOLSAT.0,5LCIELORA | C257: 5096990 | D257: 3133428977023 | E257: R
A258: 463353 | B258: U/RESISTSOLSAT.0,5LRGECARR | C258: 5096996 | D258: 3133428976996 | E258: R
A259: 463354 | B259: U/RESISTSOLSAT.0,5LSABLE | C259: 5096997 | D259: 3133428976989 | E259: R
A260: 463355 | B260: U/RESISTSOLSAT.0,5LGREGE | C260: 5096992 | D260: 3133428977030 | E260: R
A261: 463356 | B261: U/RESISTSOLSAT.0,5LGR.ORLY | C261: 5096994 | D261: 3133428976972 | E261: R
A262: 463357 | B262: U/RESISTSOLSAT.0,5LMAQUIS | C262: 5096995 | D262: 3133428977016 | E262: R
A263: 463358 | B263: U/RESISTSOLSAT.2,5LBLANC | C263: 5096980 | D263: 3133428976866 | E263: R
... A1641: 932316 | B1641: FORFAITCOLORANTMAT12L/18KG | C1641: 2070000609969 | D1641: 2070000609969 | E1641: R

Sheet Feuil2
A1: 3031520094689 | B1: 6 | C1: =VLOOKUP(A1,Feuil1!A:D,Feuil1!A:A,0) -> #N/A
A2: 3031520094696 | B2: 3 | C2: =VLOOKUP(A2,Feuil1!A:D,Feuil1!A:A,0) -> #N/A
A3: 3031520094702 | B3: 2 | C3: =VLOOKUP(A3,Feuil1!A:D,Feuil1!A:A,0) -> #N/A
A4: 3031520094726 | B4: 3 | C4: =VLOOKUP(A4,Feuil1!A:D,Feuil1!A:A,0) -> #N/A
A5: 3031520129015 | B5: 2 | C5: =VLOOKUP(A5,Feuil1!A:D,Feuil1!A:A,0) -> #N/A
A6: 3031520129114 | B6: 2 | C6: =VLOOKUP(A6,Feuil1!A:D,Feuil1!A:A,0) -> #N/A
A7: 3031520129190 | B7: 2 | C7: =VLOOKUP(A7,Feuil1!A:D,Feuil1!A:A,0) -> #N/A
A8: 3031520129244 | B8: 2 | C8: =VLOOKUP(A8,Feuil1!A:D,Feuil1!A:A,0) -> #N/A
A9: 3031520129305 | B9: 2 | C9: =VLOOKUP(A9,Feuil1!A:D,Feuil1!A:A,0) -> #N/A
A10: 3031520136785 | B10: 1 | C10: =VLOOKUP(A10,Feuil1!A:D,Feuil1!A:A,0) -> #N/A
A11: 3031520147910 | B11: 3 | C11: =VLOOKUP(A11,Feuil1!A:D,Feuil1!A:A,0) -> #N/A
A12: 3031520147927 | B12: 2 | C12: =VLOOKUP(A12,Feuil1!A:D,Feuil1!A:A,0) -> #N/A
... A334: 3256611750026 | B334: 2 | C334: =VLOOKUP(A334,Feuil1!A:D,Feuil1!A:A,0) -> #N/A

Sheet Feuil3
