Workbook

Sheet Feuil1
A1: 11375 | B1: PEINTBOIROSTOPBLANC4L+1LGRATUIT**** | C1: 400 | D1: 3426990023442 | E1: Z
A2: 18539 | B2: PEINTACRYLMATPROBLANC10L*********** | C2: AIMP | D2: 3426990016475 | E2: Z
A3: 18540 | B3: PEINTBOIROSOLEILBLANC2.5L*********** | C3: BOIROSOLIEL | D3: 3426990009774 | E3: Z
A4: 18541 | B4: PEINTGLYCEROMATBLANC10L************* | C4: GLMP | D4: 3426990014822 | E4: Z
A5: 18543 | B5: PEINTUREBOIROFER0.5LB.INDIG********** | C5: 717 | D5: 3426990021196 | E5: Z
A6: 18544 | B6: PEINTUREBOIROFER0.5LB.OCEAN********** | C6: 719 | D6: 3426990021707 | E6: Z
A7: 18545 | B7: PEINTUREBOIROFER0.5LBLANC************ | C7: 700 | D7: 3426990006896 | E7: Z
A8: 18546 | B8: PEINTUREBOIROFER0.5LG.MOYEN********** | C8: 701 | D8: 3426990006933 | E8: Z
A9: 18547 | B9: PEINTUREBOIROFER0.5LGRISPE********** | C9: 710 | D9: 3426990007138 | E9: Z
A10: 18548 | B10: PEINTUREBOIROFER0.5LHAVANE*********** | C10: 704 | D10: 3426990007008 | E10: Z
A11: 18549 | B11: PEINTUREBOIROFER0.5LJAUNE************ | C11: 718 | D11: 3426990021684 | E11: Z
A12: 18550 | B12: PEINTUREBOIROFER0.5LMARRON*********** | C12: 706 | D12: 3426990007053 | E12: Z
A13: 18551 | B13: PEINTUREBOIROFER0.5LNOIRBR********** | C13: 708 | D13: 3426990007091 | E13: Z
A14: 18552 | B14: PEINTUREBOIROFER0.5LNOIRSA********** | C14: 709 | D14: 3426990007114 | E14: Z
A15: 18553 | B15: PEINTUREBOIROFER0.5LPIERRE*********** | C15: 714 | D15: 3426990021134 | E15: Z
A16: 18554 | B16: PEINTUREBOIROFER0.5LRGECHI********** | C16: 715 | D16: 3426990021158 | E16: Z
... A59: 18597 | B59: PEINTUREBSTOPSAT.2.5LVERTC********** | C59: 423 | D59: 3426990021776 | E59: Z
A60: 29119 | B60: PEINTURESOLEXTERIEUR0.5LGRIS******** | C60: SOEXA501603 | D60: 3426990023633 | E60: Z
A61: 29120 | B61: PEINTURESOLEXTERIEUR2.5LGRIS******** | C61: SOEXC251603 | D61: 3426990023640 | E61: Z
A62: 42730 | B62: PEINTURESOLEXTERIEUR0.5LBLANC******* | C62: SOL0.5LBL | D62: 3426990023572 | E62: Z
A63: 42731 | B63: PEINTURESOLEXTERIEUR0.5LSABLE******* | C63: SOL0.5LSABLE | D63: 3426990024432 | E63: Z
A64: 42732 | B64: PEINTURESOLEXTERIEUR0.5LBRIQUECLAIR | C64: SOL0.5LBRIQUEC | D64: 3426990024425 | E64: Z
A65: 42733 | B65: PEINTURESOLEXTERIEUR2.5LBLANC******* | C65: SOL2.5LBLANC | D65: 3426990023589 | E65: Z
A66: 42734 | B66: DILUANTD560POURPEINTURESOL1L******* | C66: D5601L | D66: 3426990010862 | E66: Z
A67: 452893 | B67: PLAFONDBLCLUMIREBLCMAT2.5L+20%GRA | C67: 5110881 | D67: 3031520098083 | E67: T
A68: 452894 | B68: DELAQUEUR0,5L | C68: 5094490 | D68: 3031520031790 | E68: R
A69: 453022 | B69: AEROHAUTETEMPERATURES400MLNOIRMAT | C69: 6037940 | D69: 3256615090029 | E69: T
A70: 453023 | B70: JUMINIUM-PRIMANTIROUILLE0.25LORANGEMAT | C70: 5107981 | D70: 3256611071022 | E70: T
A71: 453024 | B71: JUMINIUM-PRIMANTIROUILLE0.5LORANGEMAT | C71: 5107982 | D71: 3256611071039 | E71: T
A72: 453025 | B72: JUOTROUILLE-DESTRUCTEURDEROUILLE0.25LGRIS | C72: 5107978 | D72: 3256611060019 | E72: T
A73: 453026 | B73: JUOTROUILLE-DESTRUCTEURDEROUILLE0.5LGRIS | C73: 5107980 | D73: 3256611060040 | E73: T
A74: 453027 | B74: JUFERIPRIM-PRIMANTIROUILLE0.25LBLANCSAT | C74: 5108165 | D74: 3256611600024 | E74: T
A75: 453028 | B75: JUFERIPRIM-PRIMANTIROUILLE0.5LBLANCSATIN | C75: 5108166 | D75: 3256611600031 | E75: T
A76: 453029 | B76: JUFERI-PRIMANTIROUILLE2.5LBLANCSAT | C76: 5108167 | D76: 3256611600055 | E76: T
A77: 453030 | B77: JUMINIUM-PRIMANTIROUILLE0.125LGRISBLEUTMAT | C77: 5107956 | D77: 3256611010014 | E77: T
A78: 453031 | B78: JUMINIUM-PRIMANTIROUILLE0.25LGRISBLEUTMAT | C78: 5107957 | D78: 3256611010021 | E78: T
... A128: 454575 | B128: U/RESIS.SAT.0,5LPECHEMELBA | C128: 5107760 | D128: 3031520032322 | E128: R
A129: 454576 | B129: U/RESIS.SAT.0,5LTERRACOTTA | C129: 0421G8D | D129: 3031520032421 | E129: R
A130: 454577 | B130: PEINTURESUPERSATINBLANC10L | C130: 5107573 | D130: 3031520008440 | E130: R
A131: 460880 | B131: JUMULTIFOND2-MULTI-USAGES0.5LBLANCMATVELOUT | C131: 5108230 | D131: 3256611720012 | E131: T
...

Sheet Feuil2
A1: 3031520094689 | B1: 6 | C1: =VLOOKUP(A1,Feuil1!A:D,Feuil1!A:A,0) -> #N/A
A2: 3031520094696 | B2: 3 | C2: =VLOOKUP(A2,Feuil1!A:D,Feuil1!A:A,0) -> #N/A
A3: 3031520094702 | B3: 2 | C3: =VLOOKUP(A3,Feuil1!A:D,Feuil1!A:A,0) -> #N/A
A4: 3031520094726 | B4: 3 | C4: =VLOOKUP(A4,Feuil1!A:D,Feuil1!A:A,0) -> #N/A
A5: 3031520129015 | B5: 2 | C5: =VLOOKUP(A5,Feuil1!A:D,Feuil1!A:A,0) -> #N/A
A6: 3031520129114 | B6: 2 | C6: =VLOOKUP(A6,Feuil1!A:D,Feuil1!A:A,0) -> #N/A
A7: 3031520129190 | B7: 2 | C7: =VLOOKUP(A7,Feuil1!A:D,Feuil1!A:A,0) -> #N/A
A8: 3031520129244 | B8: 2 | C8: =VLOOKUP(A8,Feuil1!A:D,Feuil1!A:A,0) -> #N/A
A9: 3031520129305 | B9: 2 | C9: =VLOOKUP(A9,Feuil1!A:D,Feuil1!A:A,0) -> #N/A
A10: 3031520136785 | B10: 1 | C10: =VLOOKUP(A10,Feuil1!A:D,Feuil1!A:A,0) -> #N/A
A11: 3031520147910 | B11: 3 | C11: =VLOOKUP(A11,Feuil1!A:D,Feuil1!A:A,0) -> #N/A
A12: 3031520147927 | B12: 2 | C12: =VLOOKUP(A12,Feuil1!A:D,Feuil1!A:A,0) -> #N/A
... A334: 3256611750026 | B334: 2 | C334: =VLOOKUP(A334,Feuil1!A:D,Feuil1!A:A,0) -> #N/A

Sheet Feuil3
