Workbook

Sheet Ingrédients
A2: Huiles | C2: 10 ml | D2: 30 ml | E2: 100 ml | F2: 250/500 ml | G2: 1 litre | I2: Indice saponificateur | J2: Quantité pour 1g
A4: Abricot | E4: 3.9 | F4: 6.9 | G4: 19.9 | I4: 195 | J4: 0.139
A5: Chanvre Bio | C5: 1.25 | E5: 5.9 | F5: 13 | I5: 193 | J5: 0.138
A6: Concombre | D6: 4.5 | I6: 178 | J6: 0.127
A7: Coprah Bio | G7: 10.9 | I7: 257 | J7: 0.183
A8: Fruit de la passion | C8: 1.25 | E8: 6.5 | F8: 15.9 | I8: 183 | J8: 0.13
A9: Inca Inchi | D9: 2.9 | E9: 7.9 | I9: 191 | J9: 0.136
A10: Jojoba Bio | C10: 1.25 | E10: 7.5 | F10: 15 | G10: 49 | I10: 92 | J10: 0.066
A11: Macadamia | E11: 4.5 | F11: 7.5 | I11: 190 | J11: 0.135
A12: Macadamia Bio | C12: 1.25 | I12: 195 | J12: 0.139
A13: Son de riz | C13: 1 | E13: 4.9 | F13: 9.9 | I13: 179 | J13: 0.128

Sheet CalculQuantité
A1: Calcul de prix de fabrication
A3: Huile ou beurre | B3: Quantité en ml | C3: Pourcentage | D3: Quantité pour 1 g | E3: Prix
A4: Abricot | B4: 15 | D4: =IF(ISBLANK(A4),"",VLOOKUP(A4,Ingrédients!$A$4:$J$13,10,FALSE)) -> 0.139 | E4: =IF(B4<=10,VLOOKUP(A4,Ingrédients!$A$4:$G$13,3,FALSE),IF(AND(B4>10,B4<31),VLOOKUP(A4,Ingrédients!$A$4:$G$13,4,FALSE),IF(AND(B4>10,B4<=100),VLOOKUP(A4,Ingrédients!$A$4:$G$13,5,FALSE),IF(AND(B4>100,B4<=500),VLOOKUP(A4,Ingrédients!$A$4:$G$13,6,FALSE),IF(B4>500,VLOOKUP(A4,Ingrédients!$A$4:$G$13,7,FALSE),""))))) -> 0
A5: Concombre | B5: 30 | D5: =IF(ISBLANK(A5),"",VLOOKUP(A5,Ingrédients!$A$4:$J$13,10,FALSE)) -> 0.127 | E5: =IF(B5<=10,VLOOKUP(A5,Ingrédients!$A$4:$G$13,3,FALSE),IF(AND(B5>10,B5<31),VLOOKUP(A5,Ingrédients!$A$4:$G$13,4,FALSE),IF(AND(B5>10,B5<=100),VLOOKUP(A5,Ingrédients!$A$4:$G$13,5,FALSE),IF(AND(B5>100,B5<=500),VLOOKUP(A5,Ingrédients!$A$4:$G$13,6,FALSE),IF(B5>500,VLOOKUP(A5,Ingrédients!$A$4:$G$13,7,FALSE),""))))) -> 4.5
A6: Coprah Bio | B6: 100 | D6: =IF(ISBLANK(A6),"",VLOOKUP(A6,Ingrédients!$A$4:$J$13,10,FALSE)) -> 0.183 | E6: =IF(B6<=10,VLOOKUP(A6,Ingrédients!$A$4:$G$13,3,FALSE),IF(AND(B6>10,B6<31),VLOOKUP(A6,Ingrédients!$A$4:$G$13,4,FALSE),IF(AND(B6>10,B6<=100),VLOOKUP(A6,Ingrédients!$A$4:$G$13,5,FALSE),IF(AND(B6>100,B6<=500),VLOOKUP(A6,Ingrédients!$A$4:$G$13,6,FALSE),IF(B6>500,VLOOKUP(A6,Ingrédients!$A$4:$G$13,7,FALSE),""))))) -> 0
D7: =IF(ISBLANK(A7),"",VLOOKUP(A7,Ingrédients!$A$4:$J$13,25))
D8: =IF(ISBLANK(A8),"",VLOOKUP(A8,Ingrédients!$A$4:$J$13,25))
D9: =IF(ISBLANK(A9),"",VLOOKUP(A9,Ingrédients!$A$4:$J$13,25))
D10: =IF(ISBLANK(A10),"",VLOOKUP(A10,Ingrédients!$A$4:$J$13,25))
D11: =IF(ISBLANK(A11),"",VLOOKUP(A11,Ingrédients!$A$4:$J$13,25))
D12: =IF(ISBLANK(A12),"",VLOOKUP(A12,Ingrédients!$A$4:$J$13,25))
D13: =IF(ISBLANK(A13),"",VLOOKUP(A13,Ingrédients!$A$4:$J$13,25))
D14: =IF(ISBLANK(A14),"",VLOOKUP(A14,Ingrédients!$A$4:$J$13,25))
D15: =IF(ISBLANK(A15),"",VLOOKUP(A15,Ingrédients!$A$4:$J$13,25))
D16: =IF(ISBLANK(A16),"",VLOOKUP(A16,Ingrédients!$A$4:$J$13,25))
D17: =IF(ISBLANK(A17),"",VLOOKUP(A17,Ingrédients!$A$4:$J$13,25))
D18: =IF(ISBLANK(A18),"",VLOOKUP(A18,Ingrédients!$A$4:$J$13,25))
... D22: =IF(ISBLANK(A22),"",VLOOKUP(A22,Ingrédients!$A$4:$J$13,25))
A24: Total | B24: =SUM(B4:B22) -> 145
