Workbook
Name hembrasmacho: Formulas!$A$2:$A$3
Name hoja2: OFFSET('Hoja 2'!$M$8,0,0,COUNTA('Hoja 2'!$M:$M)-1)
Name hoja3: OFFSET('Hoja 3'!$M$8,0,0,COUNTA('Hoja 3'!$M:$M)-1)
Name nombrepedgala: OFFSET(Gala!$M$8,0,0,COUNTA(Gala!$M:$M)-1)

Sheet Hoja 3
A1: CAMADA | J1: INGRESSO | K1: =SUM(K8:K21) -> 0
J2: GASTOS | K2: =SUM(S8:T26) -> 0
J3: RESULTADO | K3: =K1-K2 -> 0
C4: Vendido | D4: =COUNTIFS($F$8:$F$21,"hembra") -> 0 | M4: Referencias:
D5: =COUNTIFS($F$8:$F$21,"macho") -> 0 | M5: "Stay at home" Playlist
A7: Clientes | F7: Sexo | G7: Precio | H7: Sinal | I7: Microchip | J7: Nbre Pedigree | K7: Debe | M7: Lista Pedigree | P7: Gastos
K8: =G8-H8 -> 0 | N8: =COUNTIF($J$8:J21,$M$8:M21) -> 0 | P8: Cesarea | R8: 0 | S8: =Q8*R8 -> 0
K9: =G9-H9 -> 0 | N9: =COUNTIF($J$8:J22,$M$8:M22) -> 0 | P9: 1° Vacuna | R9: 3 | S9: =Q9*R9 -> 0
K10: =G10-H10 -> 0 | N10: =COUNTIF($J$8:J23,$M$8:M23) -> 0 | P10: 2° Vacuna | R10: 15 | S10: =Q10*R10 -> 0
K11: =G11-H11 -> 0 | N11: =COUNTIF($J$8:J24,$M$8:M24) -> 0 | P11: Atlas Chip | R11: 0 | S11: =Q11*R11 -> 0
K12: =G12-H12 -> 0 | N12: =COUNTIF($J$8:J25,$M$8:M25) -> 0 | P12: Chip | R12: 16.8 | S12: =Q12*R12 -> 0
K13: =G13-H13 -> 0 | N13: =COUNTIF($J$8:J26,$M$8:M26) -> 0 | P13: Dontal | R13: 15.5 | S13: =Q13*R13 -> 0
K14: =G14-H14 -> 0 | N14: =COUNTIF($J$8:J27,$M$8:M27) -> 0 | P14: Gala Stop | R14: 0 | S14: =Q14*R14 -> 0
K15: =G15-H15 -> 0 | N15: =COUNTIF($J$8:J28,$M$8:M28) -> 0 | P15: Pañales | R15: 0 | S15: =Q15*R15 -> 0
K16: =G16-H16 -> 0 | N16: =COUNTIF($J$8:J29,$M$8:M29) -> 0 | P16: Passeporte | R16: 5 | S16: =Q16*R16 -> 0
K17: =G17-H17 -> 0 | N17: =COUNTIF($J$8:J30,$M$8:M30) -> 0 | P17: Procox | R17: 0 | S17: =Q17*R17 -> 0
K18: =G18-H18 -> 0 | N18: =COUNTIF($J$8:J31,$M$8:M31) -> 0 | P18: Rabia | R18: 0 | S18: =Q18*R18 -> 0
K19: =G19-H19 -> 0 | N19: =COUNTIF($J$8:J32,$M$8:M32) -> 0 | P19: Satisfy Puppy | R19: 0 | S19: =Q19*R19 -> 0
... K21: =G21-H21 -> 0 | N21: =COUNTIF($J$8:J34,$M$8:M34) -> 0 | P21: Test | R21: 0 | S21: =Q21*R21 -> 0
P22: X-Ray | R22: 0 | S22: =Q22*R22 -> 0
R23: 0 | S23: =Q23*R23 -> 0
R24: 0 | S24: =Q24*R24 -> 0
R25: 0 | S25: =Q25*R25 -> 0
R26: 0 | S26: =Q26*R26 -> 0

Sheet Hoja 2
A1: CAMADA | J1: INGRESSO | K1: =SUM(K8:K21) -> 0
J2: GASTOS | K2: =SUM(S8:T26) -> 0
J3: RESULTADO | K3: =K1-K2 -> 0
A4: Hembras | C4: Vendido | D4: =COUNTIFS($F$8:$F$21,"hembra") -> 0 | M4: Referencias:
A5: Machos | D5: =COUNTIFS($F$8:$F$21,"macho") -> 0 | M5: "Stay at home" Playlist
A7: Clientes | F7: Sexo | G7: Precio | H7: Sinal | I7: Microchip | J7: Nbre Pedigree | K7: Debe | M7: Lista Pedigree | P7: Gastos
K8: =G8-H8 -> 0 | N8: =COUNTIF($J$8:J21,$M$8:M21) -> 0 | P8: Cesarea | R8: 0 | S8: =Q8*R8 -> 0
K9: =G9-H9 -> 0 | N9: =COUNTIF($J$8:J22,$M$8:M22) -> 0 | P9: 1° Vacuna | R9: 3 | S9: =Q9*R9 -> 0
K10: =G10-H10 -> 0 | N10: =COUNTIF($J$8:J23,$M$8:M23) -> 0 | P10: 2° Vacuna | R10: 15 | S10: =Q10*R10 -> 0
K11: =G11-H11 -> 0 | N11: =COUNTIF($J$8:J24,$M$8:M24) -> 0 | P11: Atlas Chip | R11: 0 | S11: =Q11*R11 -> 0
K12: =G12-H12 -> 0 | N12: =COUNTIF($J$8:J25,$M$8:M25) -> 0 | P12: Chip | R12: 16.8 | S12: =Q12*R12 -> 0
K13: =G13-H13 -> 0 | N13: =COUNTIF($J$8:J26,$M$8:M26) -> 0 | P13: Dontal | R13: 15.5 | S13: =Q13*R13 -> 0
K14: =G14-H14 -> 0 | N14: =COUNTIF($J$8:J27,$M$8:M27) -> 0 | P14: Gala Stop | R14: 0 | S14: =Q14*R14 -> 0
K15: =G15-H15 -> 0 | N15: =COUNTIF($J$8:J28,$M$8:M28) -> 0 | P15: Pañales | R15: 0 | S15: =Q15*R15 -> 0
K16: =G16-H16 -> 0 | N16: =COUNTIF($J$8:J29,$M$8:M29) -> 0 | P16: Passeporte | R16: 5 | S16: =Q16*R16 -> 0
K17: =G17-H17 -> 0 | N17: =COUNTIF($J$8:J30,$M$8:M30) -> 0 | P17: Procox | R17: 0 | S17: =Q17*R17 -> 0
K18: =G18-H18 -> 0 | N18: =COUNTIF($J$8:J31,$M$8:M31) -> 0 | P18: Rabia | R18: 0 | S18: =Q18*R18 -> 0
K19: =G19-H19 -> 0 | N19: =COUNTIF($J$8:J32,$M$8:M32) -> 0 | P19: Satisfy Puppy | R19: 0 | S19: =Q19*R19 -> 0
... K21: =G21-H21 -> 0 | N21: =COUNTIF($J$8:J34,$M$8:M34) -> 0 | P21: Test | R21: 0 | S21: =Q21*R21 -> 0
P22: X-Ray | R22: 0 | S22: =Q22*R22 -> 0
R23: 0 | S23: =Q23*R23 -> 0
R24: 0 | S24: =Q24*R24 -> 0
R25: 0 | S25: =Q25*R25 -> 0
R26: 0 | S26: =Q26*R26 -> 0

Sheet Gala
A1: CAMADA | D1: 43881 | J1: INGRESSO | K1: =SUM(K8:K21) -> 3600
A2: GALA | J2: GASTOS | K2: =SUM(S8:T26) -> 333.9
D3: BAKIO | J3: RESULTADO | K3: =K1-K2 -> 3266.1
A4: Hembras | B4: 3 | C4: Vendido | D4: =COUNTIFS($F$8:$F$21,"hembra") -> 2 | M4: Referencias:
A5: Machos | B5: 4 | D5: =COUNTIFS($F$8:$F$21,"macho") -> 0 | M5: "Stay at home" Playlist
A7: Clientes | F7: Sexo | G7: Precio | H7: Sinal | I7: Microchip | J7: Nbre Pedigree | K7: Debe | M7: Lista Pedigree | P7: Gastos
A8: Paco Javier Mendoza | F8: Hembra | G8: 2000 | H8: 200 | I8: 941000024949048 | J8: Belong to You | K8: =G8-H8 -> 1800 | M8: All Night Long | N8: =COUNTIF($J$8:J21,$M$8:M21) -> 0 | P8: Cesarea | R8: 0 | S8: =Q8*R8 -> 0
A9: Jm mauberna | F9: Hembra | G9: 1800 | I9: 941000247069250 | J9: Sunset Skies | K9: =G9-H9 -> 1800 | M9: Belong to You | N9: =COUNTIF($J$8:J22,$M$8:M22) -> 1 | P9: 1° Vacuna | Q9: 8 | R9: 3 | S9: =Q9*R9 -> 24
K10: =G10-H10 -> 0 | M10: Blue Moon Rising | N10: =COUNTIF($J$8:J23,$M$8:M23) -> 0 | P10: 2° Vacuna | Q10: 8 | R10: 15 | S10: =Q10*R10 -> 120
K11: =G11-H11 -> 0 | M11: Colour in your Heart | N11: =COUNTIF($J$8:J24,$M$8:M24) -> 0 | P11: Atlas Chip | R11: 0 | S11: =Q11*R11 -> 0
K12: =G12-H12 -> 0 | M12: Colours of the Night | N12: =COUNTIF($J$8:J25,$M$8:M25) -> 0 | P12: Chip | Q12: 8 | R12: 16.8 | S12: =Q12*R12 -> 134.4
K13: =G13-H13 -> 0 | M13: Goodnight Moon | N13: =COUNTIF($J$8:J26,$M$8:M26) -> 0 | P13: Dontal | Q13: 1 | R13: 15.5 | S13: =Q13*R13 -> 15.5
K14: =G14-H14 -> 0 | M14: Miss Summer | N14: =COUNTIF($J$8:J27,$M$8:M27) -> 0 | P14: Gala Stop | R14: 0 | S14: =Q14*R14 -> 0
K15: =G15-H15 -> 0 | M15: Run to the Sun | N15: =COUNTIF($J$8:J28,$M$8:M28) -> 0 | P15: Pañales | R15: 0 | S15: =Q15*R15 -> 0
I16: 941000247006000 | J16: Turn me On | K16: =G16-H16 -> 0 | M16: Something About You | N16: =COUNTIF($J$8:J29,$M$8:M29) -> 0 | P16: Passeporte | Q16: 8 | R16: 5 | S16: =Q16*R16 -> 40
K17: =G17-H17 -> 0 | M17: Soul Groove | N17: =COUNTIF($J$8:J30,$M$8:M30) -> 0 | P17: Procox | R17: 0 | S17: =Q17*R17 -> 0
K18: =G18-H18 -> 0 | M18: Sunset Skies | N18: =COUNTIF($J$8:J31,$M$8:M31) -> 1 | P18: Rabia | R18: 0 | S18: =Q18*R18 -> 0
K19: =G19-H19 -> 0 | M19: Take my Soul | N19: =COUNTIF($J$8:J32,$M$8:M32) -> 0 | P19: Satisfy Puppy | R19: 0 | S19: =Q19*R19 -> 0
K20: =G20-H20 -> 0 | M20: Turn me On | N20: =COUNTIF($J$8:J33,$M$8:M33) -> 1 | P20: Stud 120 | Q20: 8 | R20: 0 | S20: =Q20*R20 -> 0
K21: =G21-H21 -> 0 | M21: When the Times Comes | N21: =COUNTIF($J$8:J34,$M$8:M34) -> 0 | P21: Test | R21: 0 | S21: =Q21*R21 -> 0
P22: X-Ray | R22: 0 | S22: =Q22*R22 -> 0
R23: 0 | S23: =Q23*R23 -> 0
R24: 0 | S24: =Q24*R24 -> 0
R25: 0 | S25: =Q25*R25 -> 0
R26: 0 | S26: =Q26*R26 -> 0

Sheet Lista nombres
A1: GALA | B1: Microchip
A2: =Gala!M8 -> All Night Long | B2: =Gala!I8 -> 941000024949048
A3: =Gala!M9 -> Belong to You | B3: =Gala!I9 -> 941000247069250
A4: =Gala!M10 -> Blue Moon Rising | B4: =Gala!I10 -> 0
A5: =Gala!M11 -> Colour in your Heart | B5: =Gala!I11 -> 0
A6: =Gala!M12 -> Colours of the Night | B6: =Gala!I12 -> 0
A7: =Gala!M13 -> Goodnight Moon | B7: =Gala!I13 -> 0
A8: =Gala!M14 -> Miss Summer | B8: =Gala!I14 -> 0
A9: =Gala!M15 -> Run to the Sun | B9: =Gala!I15 -> 0
A10: =Gala!M16 -> Something About You | B10: =Gala!I16 -> 941000247006000
A11: =Gala!M17 -> Soul Groove | B11: =Gala!I17 -> 0
A12: =Gala!M18 -> Sunset Skies | B12: =Gala!I18 -> 0
A13: =Gala!M19 -> Take my Soul | B13: =Gala!I19 -> 0
... A15: =Gala!M21 -> When the Times Comes | B15: =Gala!I21 -> 0
A16: Hoja 2
A17: ='Hoja 2'!M8 -> 0
A18: ='Hoja 2'!M9 -> 0
A19: ='Hoja 2'!M10 -> 0
A20: ='Hoja 2'!M11 -> 0
A21: ='Hoja 2'!M12 -> 0
A22: ='Hoja 2'!M13 -> 0
A23: ='Hoja 2'!M14 -> 0
A24: ='Hoja 2'!M15 -> 0
A25: ='Hoja 2'!M16 -> 0
A26: ='Hoja 2'!M17 -> 0
A27: ='Hoja 2'!M18 -> 0
A28: ='Hoja 2'!M19 -> 0
... A30: ='Hoja 2'!M21 -> 0
A31: Hoja 3
A32: ='Hoja 3'!M8 -> 0
A33: ='Hoja 3'!M9 -> 0
A34: ='Hoja 3'!M10 -> 0
A35: ='Hoja 3'!M11 -> 0
A36: ='Hoja 3'!M12 -> 0
A37: ='Hoja 3'!M13 -> 0
A38: ='Hoja 3'!M14 -> 0
A39: ='Hoja 3'!M15 -> 0
A40: ='Hoja 3'!M16 -> 0
A41: ='Hoja 3'!M17 -> 0
A42: ='Hoja 3'!M18 -> 0
...

Sheet Formulas
A1: hembra/macho
A2: Hembra
A3: Macho
