Workbook
Name volbaie: 'INPUT CSV'!$A$1:$J$24

Sheet INPUT CSV
A1: Name | B1: Taill | C1: Percentage | D1: calcul 1 | E1: Calcul2 | F1: Volume | G1: Copies | H1: Partage | I1: Système | J1: Total
A2: Name1 | B2: 68719476736 | C2: 0.90933934 | D2: 3.0528072 | E2: 33.672897 | F2: 2006570342 | G2: 211798959 | J2: 2218369301
A3: Name2 | B3: 322122547200 | C3: 0.8423088 | D3: 9.5519843 | E3: 60.573986 | F3: 2475851710 | G3: 0 | J3: 2475851710
A4: Name3 | B4: 2199023255552 | C4: 0.99997259 | D4: 12.679714 | E4: 462571.11 | F4: 1267849 | G4: 0 | J4: 1267849
A5: Name4 | B5: 5497558138880 | C5: 0.98716965 | D5: 4.07381 | E5: 317.51353 | F5: 14049936217 | G5: 227555 | J5: 14050163772
A6: Name5 | B6: 1324997410816 | C6: 0.99113528 | D6: 13.556349 | E6: 1529.2468 | F6: 113132942 | G6: 495161 | J6: 113628103
A7: Name6 | B7: 107374182400 | C7: 0.9993717 | D7: 14.910732 | E7: 23731.697 | F7: 73027 | G7: 0 | J7: 73027
A8: Name7 | B8: 107374182400 | C8: 0.99937146 | D8: 14.776668 | E8: 23509.581 | F8: 124591 | G8: 0 | J8: 124591
A9: Name8 | B9: 107374182400 | C9: 0.99937136 | D9: 14.795938 | E9: 23536.311 | F9: 116996 | G9: 0 | J9: 116996
A10: Name9 | B10: 128849018880 | C10: 0.90350939 | D10: 11.16266 | E10: 115.68649 | F10: 349613081 | G10: 0 | J10: 349613081
A11: Name10 | B11: 10737418240 | C11: 1 | D11: 1 | E11: 1 | F11: 0 | G11: 0 | J11: 0
A12: Name11 | B12: 107374182400 | C12: 1 | D12: 1 | E12: 1 | F12: 0 | G12: 0 | J12: 0
A13: Name12 | B13: 107374182400 | C13: 1 | D13: 1 | E13: 1 | F13: 0 | G13: 0 | J13: 0
... A23: Name22 | B23: 1099511627776 | C23: 0.999971 | D23: 11.750959 | E23: 405179.62 | F23: 715877 | G23: 0 | J23: 715877
A24: (total) | B24: 1.1471729e+15 | C24: 0.99964325 | D24: 4.7874176 | E24: 12384.714 | F24: 73634897285 | G24: 358938831 | H24: 21773955949 | I24: 0 | J24: 95826650859

Sheet Calculs
A1: Name | B1: Taille | C1: Percentage | D1: Calcul1 | E1: Calcul 3 | F1: Calcul2 | G1: Taille 2 | H1: Taille totale | I1: Volume | J1: Copies | K1: partage | L1: Système | M1: total
A2: ='INPUT CSV'!A2 -> Name1 | B2: ='INPUT CSV'!B2/1024^3 -> 64 | C2: ='INPUT CSV'!C2 -> 0.90933934 | D2: ='INPUT CSV'!D2 -> 3.0528072 | E2: =F2/D2 -> 11.030142 | F2: ='INPUT CSV'!E2 -> 33.672897 | G2: =B2*(1-C2) -> 5.8022823 | H2: =IF(C2=100%,0,B2/F2) -> 1.9006383 | I2: ='INPUT CSV'!F2/1024^3 -> 1.8687643 | J2: ='INPUT CSV'!G2/1024^3 -> 0.19725315 | K2: =IF(C2=100%,0,H2-I2-J2-L2) -> -0.16537907 | L2: ='INPUT CSV'!I2/1024^3 -> 0 | M2: ='INPUT CSV'!J2/1024^3 -> 2.0660174
A3: ='INPUT CSV'!A3 -> Name2 | B3: ='INPUT CSV'!B3/1024^3 -> 300 | C3: ='INPUT CSV'!C3 -> 0.8423088 | D3: ='INPUT CSV'!D3 -> 9.5519843 | E3: =F3/D3 -> 6.3415081 | F3: ='INPUT CSV'!E3 -> 60.573986 | G3: =B3*(1-C3) -> 47.307359 | H3: =IF(C3=100%,0,B3/F3) -> 4.9526211 | I3: ='INPUT CSV'!F3/1024^3 -> 2.3058166 | J3: ='INPUT CSV'!G3/1024^3 -> 0 | K3: =IF(C3=100%,0,H3-I3-J3-L3) -> 2.6468045 | L3: ='INPUT CSV'!I3/1024^3 -> 0 | M3: ='INPUT CSV'!J3/1024^3 -> 2.3058166
A4: ='INPUT CSV'!A4 -> Name3 | B4: ='INPUT CSV'!B4/1024^3 -> 2048 | C4: ='INPUT CSV'!C4 -> 0.99997259 | D4: ='INPUT CSV'!D4 -> 12.679714 | E4: =F4/D4 -> 36481.193 | F4: ='INPUT CSV'!E4 -> 462571.11 | G4: =B4*(1-C4) -> 0.056138516 | H4: =IF(C4=100%,0,B4/F4) -> 0.0044274274 | I4: ='INPUT CSV'!F4/1024^3 -> 0.0011807764 | J4: ='INPUT CSV'!G4/1024^3 -> 0 | K4: =IF(C4=100%,0,H4-I4-J4-L4) -> 0.003246651 | L4: ='INPUT CSV'!I4/1024^3 -> 0 | M4: ='INPUT CSV'!J4/1024^3 -> 0.0011807764
A5: ='INPUT CSV'!A5 -> Name4 | B5: ='INPUT CSV'!B5/1024^3 -> 5120 | C5: ='INPUT CSV'!C5 -> 0.98716965 | D5: ='INPUT CSV'!D5 -> 4.07381 | E5: =F5/D5 -> 77.94019 | F5: ='INPUT CSV'!E5 -> 317.51353 | G5: =B5*(1-C5) -> 65.691397 | H5: =IF(C5=100%,0,B5/F5) -> 16.125297 | I5: ='INPUT CSV'!F5/1024^3 -> 13.085023 | J5: ='INPUT CSV'!G5/1024^3 -> 0.00021192711 | K5: =IF(C5=100%,0,H5-I5-J5-L5) -> 3.0400626 | L5: ='INPUT CSV'!I5/1024^3 -> 0 | M5: ='INPUT CSV'!J5/1024^3 -> 13.085235
A6: ='INPUT CSV'!A6 -> Name5 | B6: ='INPUT CSV'!B6/1024^3 -> 1234 | C6: ='INPUT CSV'!C6 -> 0.99113528 | D6: ='INPUT CSV'!D6 -> 13.556349 | E6: =F6/D6 -> 112.80668 | F6: ='INPUT CSV'!E6 -> 1529.2468 | G6: =B6*(1-C6) -> 10.939068 | H6: =IF(C6=100%,0,B6/F6) -> 0.80693321 | I6: ='INPUT CSV'!F6/1024^3 -> 0.10536326 | J6: ='INPUT CSV'!G6/1024^3 -> 0.00046115462 | K6: =IF(C6=100%,0,H6-I6-J6-L6) -> 0.70110879 | L6: ='INPUT CSV'!I6/1024^3 -> 0 | M6: ='INPUT CSV'!J6/1024^3 -> 0.10582442
A7: ='INPUT CSV'!A7 -> Name6 | B7: ='INPUT CSV'!B7/1024^3 -> 100 | C7: ='INPUT CSV'!C7 -> 0.9993717 | D7: ='INPUT CSV'!D7 -> 14.910732 | E7: =F7/D7 -> 1591.585 | F7: ='INPUT CSV'!E7 -> 23731.697 | G7: =B7*(1-C7) -> 0.062830448 | H7: =IF(C7=100%,0,B7/F7) -> 0.0042137736 | I7: ='INPUT CSV'!F7/1024^3 -> 6.8011694e-05 | J7: ='INPUT CSV'!G7/1024^3 -> 0 | K7: =IF(C7=100%,0,H7-I7-J7-L7) -> 0.004145762 | L7: ='INPUT CSV'!I7/1024^3 -> 0 | M7: ='INPUT CSV'!J7/1024^3 -> 6.8011694e-05
A8: ='INPUT CSV'!A8 -> Name7 | B8: ='INPUT CSV'!B8/1024^3 -> 100 | C8: ='INPUT CSV'!C8 -> 0.99937146 | D8: ='INPUT CSV'!D8 -> 14.776668 | E8: =F8/D8 -> 1590.9934 | F8: ='INPUT CSV'!E8 -> 23509.581 | G8: =B8*(1-C8) -> 0.062853813 | H8: =IF(C8=100%,0,B8/F8) -> 0.0042535849 | I8: ='INPUT CSV'!F8/1024^3 -> 0.00011603441 | J8: ='INPUT CSV'!G8/1024^3 -> 0 | K8: =IF(C8=100%,0,H8-I8-J8-L8) -> 0.0041375505 | L8: ='INPUT CSV'!I8/1024^3 -> 0 | M8: ='INPUT CSV'!J8/1024^3 -> 0.00011603441
A9: ='INPUT CSV'!A9 -> Name8 | B9: ='INPUT CSV'!B9/1024^3 -> 100 | C9: ='INPUT CSV'!C9 -> 0.99937136 | D9: ='INPUT CSV'!D9 -> 14.795938 | E9: =F9/D9 -> 1590.7279 | F9: ='INPUT CSV'!E9 -> 23536.311 | G9: =B9*(1-C9) -> 0.062864304 | H9: =IF(C9=100%,0,B9/F9) -> 0.0042487541 | I9: ='INPUT CSV'!F9/1024^3 -> 0.00010896102 | J9: ='INPUT CSV'!G9/1024^3 -> 0 | K9: =IF(C9=100%,0,H9-I9-J9-L9) -> 0.0041397931 | L9: ='INPUT CSV'!I9/1024^3 -> 0 | M9: ='INPUT CSV'!J9/1024^3 -> 0.00010896102
A10: ='INPUT CSV'!A10 -> Name9 | B10: ='INPUT CSV'!B10/1024^3 -> 120 | C10: ='INPUT CSV'!C10 -> 0.90350939 | D10: ='INPUT CSV'!D10 -> 11.16266 | E10: =F10/D10 -> 10.363703 | F10: ='INPUT CSV'!E10 -> 115.68649 | G10: =B10*(1-C10) -> 11.578873 | H10: =IF(C10=100%,0,B10/F10) -> 1.0372862 | I10: ='INPUT CSV'!F10/1024^3 -> 0.32560255 | J10: ='INPUT CSV'!G10/1024^3 -> 0 | K10: =IF(C10=100%,0,H10-I10-J10-L10) -> 0.71168363 | L10: ='INPUT CSV'!I10/1024^3 -> 0 | M10: ='INPUT CSV'!J10/1024^3 -> 0.32560255
A11: ='INPUT CSV'!A11 -> Name10 | B11: ='INPUT CSV'!B11/1024^3 -> 10 | C11: ='INPUT CSV'!C11 -> 1 | D11: ='INPUT CSV'!D11 -> 1 | E11: =F11/D11 -> 1 | F11: ='INPUT CSV'!E11 -> 1 | G11: =B11*(1-C11) -> 0 | H11: =IF(C11=100%,0,B11/F11) -> 0 | I11: ='INPUT CSV'!F11/1024^3 -> 0 | J11: ='INPUT CSV'!G11/1024^3 -> 0 | K11: =IF(C11=100%,0,H11-I11-J11-L11) -> 0 | L11: ='INPUT CSV'!I11/1024^3 -> 0 | M11: ='INPUT CSV'!J11/1024^3 -> 0
A12: ='INPUT CSV'!A12 -> Name11 | B12: ='INPUT CSV'!B12/1024^3 -> 100 | C12: ='INPUT CSV'!C12 -> 1 | D12: ='INPUT CSV'!D12 -> 1 | E12: =F12/D12 -> 1 | F12: ='INPUT CSV'!E12 -> 1 | G12: =B12*(1-C12) -> 0 | H12: =IF(C12=100%,0,B12/F12) -> 0 | I12: ='INPUT CSV'!F12/1024^3 -> 0 | J12: ='INPUT CSV'!G12/1024^3 -> 0 | K12: =IF(C12=100%,0,H12-I12-J12-L12) -> 0 | L12: ='INPUT CSV'!I12/1024^3 -> 0 | M12: ='INPUT CSV'!J12/1024^3 -> 0
A13: ='INPUT CSV'!A13 -> Name12 | B13: ='INPUT CSV'!B13/1024^3 -> 100 | C13: ='INPUT CSV'!C13 -> 1 | D13: ='INPUT CSV'!D13 -> 1 | E13: =F13/D13 -> 1 | F13: ='INPUT CSV'!E13 -> 1 | G13: =B13*(1-C13) -> 0 | H13: =IF(C13=100%,0,B13/F13) -> 0 | I13: ='INPUT CSV'!F13/1024^3 -> 0 | J13: ='INPUT CSV'!G13/1024^3 -> 0 | K13: =IF(C13=100%,0,H13-I13-J13-L13) -> 0 | L13: ='INPUT CSV'!I13/1024^3 -> 0 | M13: ='INPUT CSV'!J13/1024^3 -> 0
... A21: ='INPUT CSV'!A21 -> Name20 | B21: ='INPUT CSV'!B21/1024^3 -> 5120 | C21: ='INPUT CSV'!C21 -> 0.96024481 | D21: ='INPUT CSV'!D21 -> 3.9825397 | E21: =F21/D21 -> 25.153945 | F21: ='INPUT CSV'!E21 -> 100.17659 | G21: =B21*(1-C21) -> 203.5466 | H21: =IF(C21=100%,0,B21/F21) -> 51.109747 | I21: ='INPUT CSV'!F21/1024^3 -> 44.844207 | J21: ='INPUT CSV'!G21/1024^3 -> 0 | K21: =IF(C21=100%,0,H21-I21-J21-L21) -> 6.2655399 | L21: ='INPUT CSV'!I21/1024^3 -> 0 | M21: ='INPUT CSV'!J21/1024^3 -> 44.844207
A22: ='INPUT CSV'!A24 -> (total) | B22: ='INPUT CSV'!B24/1024^3 -> 1068388 | C22: ='INPUT CSV'!C24 -> 0.99964325 | D22: ='INPUT CSV'!D24 -> 4.7874176 | E22: =F22/D22 -> 2586.9299 | F22: ='INPUT CSV'!E24 -> 12384.714 | G22: =B22*(1-C22) -> 381.14966 | H22: =IF(C22=100%,0,B22/F22) -> 86.26667 | I22: ='INPUT CSV'!F24/1024^3 -> 68.577842 | J22: ='INPUT CSV'!G24/1024^3 -> 0.33428784 | K22: ='INPUT CSV'!H24/1024^3 -> 20.278577 | L22: ='INPUT CSV'!I24/1024^3 -> 0 | M22: ='INPUT CSV'!J24/1024^3 -> 89.245523
