Workbook

Sheet MENU DEROULANT 1
A1: Niveau 3
A2: A00 | B2: 0 | C2: 1 | D2: =MID(A2,2,1) -> 0 | E2: =MID(A2,3,1) -> 0
A3: A06 | B3: 0 | C3: 1 | D3: =MID(A3,2,1) -> 0 | E3: =MID(A3,3,1) -> 6
A4: A10 | B4: 0 | C4: 1 | D4: =MID(A4,2,1) -> 1 | E4: =MID(A4,3,1) -> 0
A5: A11 | B5: 0 | C5: 1 | D5: =MID(A5,2,1) -> 1 | E5: =MID(A5,3,1) -> 1
A6: A20 | B6: 0 | C6: 1 | D6: =MID(A6,2,1) -> 2 | E6: =MID(A6,3,1) -> 0
A7: A30 | B7: 0 | C7: 1 | D7: =MID(A7,2,1) -> 3 | E7: =MID(A7,3,1) -> 0
A8: A31 | B8: 0 | C8: 1 | D8: =MID(A8,2,1) -> 3 | E8: =MID(A8,3,1) -> 1
A9: A32 | B9: 0 | C9: 1 | D9: =MID(A9,2,1) -> 3 | E9: =MID(A9,3,1) -> 2
A10: A33 | B10: 0 | C10: 1 | D10: =MID(A10,2,1) -> 3 | E10: =MID(A10,3,1) -> 3
A11: A34 | B11: 0 | C11: 1 | D11: =MID(A11,2,1) -> 3 | E11: =MID(A11,3,1) -> 4
A12: A35 | B12: 0 | C12: 1 | D12: =MID(A12,2,1) -> 3 | E12: =MID(A12,3,1) -> 5
A13: A40 | B13: 0 | C13: 1 | D13: =MID(A13,2,1) -> 4 | E13: =MID(A13,3,1) -> 0
... A353: S63 | B353: 1 | C353: 1 | D353: =MID(A353,2,1) -> 6 | E353: =MID(A353,3,1) -> 3

Sheet MENU DEROULANT 2
A1: Niveau 4
A2: 010 | B2: =MID(A2,1,1) -> 0 | C2: =MID(A2,2,1) -> 1 | D2: =MID(A2,3,1) -> 0
A3: 015 | B3: =MID(A3,1,1) -> 0 | C3: =MID(A3,2,1) -> 1 | D3: =MID(A3,3,1) -> 5
A4: 020 | B4: =MID(A4,1,1) -> 0 | C4: =MID(A4,2,1) -> 2 | D4: =MID(A4,3,1) -> 0
A5: 022 | B5: =MID(A5,1,1) -> 0 | C5: =MID(A5,2,1) -> 2 | D5: =MID(A5,3,1) -> 2
A6: 025 | B6: =MID(A6,1,1) -> 0 | C6: =MID(A6,2,1) -> 2 | D6: =MID(A6,3,1) -> 5
A7: 030 | B7: =MID(A7,1,1) -> 0 | C7: =MID(A7,2,1) -> 3 | D7: =MID(A7,3,1) -> 0
A8: 031 | B8: =MID(A8,1,1) -> 0 | C8: =MID(A8,2,1) -> 3 | D8: =MID(A8,3,1) -> 1
A9: 032 | B9: =MID(A9,1,1) -> 0 | C9: =MID(A9,2,1) -> 3 | D9: =MID(A9,3,1) -> 2
A10: 033 | B10: =MID(A10,1,1) -> 0 | C10: =MID(A10,2,1) -> 3 | D10: =MID(A10,3,1) -> 3
A11: 035 | B11: =MID(A11,1,1) -> 0 | C11: =MID(A11,2,1) -> 3 | D11: =MID(A11,3,1) -> 5
A12: 038 | B12: =MID(A12,1,1) -> 0 | C12: =MID(A12,2,1) -> 3 | D12: =MID(A12,3,1) -> 8
A13: 040 | B13: =MID(A13,1,1) -> 0 | C13: =MID(A13,2,1) -> 4 | D13: =MID(A13,3,1) -> 0
... A56: 995 | B56: =MID(A56,1,1) -> 9 | C56: =MID(A56,2,1) -> 9 | D56: =MID(A56,3,1) -> 5

Sheet LISTE CODEGE CREE
B1: Code à barre créé
B2: 9014001000021

Sheet GENERATION CODEGE
A3: 1/ Choisir coden dans le menu déroulant : | D3: A40
A4: 2/ Choisir coden 4 dans le menu : | D4: 010
C9: coden | G9: coden 4 | J9: suite logique de creation | N9: clé securite
A10: Position de création | B10: 1 | C10: 2 | D10: 3 | E10: 4 | F10: 5 | G10: 6 | H10: 7 | I10: 8 | J10: 9 | K10: 10 | L10: 11 | M10: 12 | N10: 13 | P10: =SUM(C11+E11+G11+I11+K11+M11)*3 -> 18
A11: Code à barre | B11: 9 | C11: =VLOOKUP(D3,'MENU DEROULANT 1'!A2:E353,2,FALSE) -> 0 | D11: =VLOOKUP(D3,'MENU DEROULANT 1'!A2:E353,3,FALSE) -> 1 | E11: =VLOOKUP(D3,'MENU DEROULANT 1'!A2:E353,4,FALSE) -> 4 | F11: =VLOOKUP(D3,'MENU DEROULANT 1'!A2:E353,5,FALSE) -> 0 | G11: =VLOOKUP(D4,'MENU DEROULANT 2'!A2:D56,2,FALSE) -> 0 | H11: =VLOOKUP(D4,'MENU DEROULANT 2'!A2:D56,3,FALSE) -> 1 | I11: =VLOOKUP(D4,'MENU DEROULANT 2'!A2:D56,4,FALSE) -> 0 | J11: 0 | K11: 0 | L11: 0 | M11: 2 | N11: =P13-P12 -> 1 | P11: =SUM(B11+D11+F11+H11+J11+L11) -> 11
P12: =P11+P10 -> 29
P13: =CEILING(P12,10) -> 30
D16: CODEGE GENERE : | H16: =CONCATENATE(B11,C11,D11,E11,F11,G11,H11,I11,J11,K11,L11,M11,N11) -> 9014001000021 | K16: =IF(H18=0,"","ATTENTION DEJA EXISTANT") -> ATTENTION DEJA EXISTANT
H18: =COUNTIF('LISTE CODEGE CREE'!B2:B3,SUBSTITUTE(H16,"","")) -> 1
