Workbook
Name CODEASS: Feuil2!$A$1:$A$1110
Name CONCEPT: Feuil2!$F$4:$F$5
Name GLOBAL: Feuil2!$A$1:$D$1110
Name LISTEG: Feuil2!#REF!
Name LISTEMAG: Feuil2!#REF!
Name LISTEMAGASINS: Feuil2!#REF!
Name OLIVES: 'Matrice CONCEPTS'!$C$41:$L$48
Name OLM: Feuil2!#REF!
Name test: Feuil2!$A$1102:$E$1110

Sheet Fiche PDV
B3: CODE ASSOCIE | E3: 50501
B5: NOM MAGASIN | E5: =VLOOKUP(E3,GLOBAL,2,0) -> HU LES ARCS
B6: SURFACE MAGASIN: | E6: =VLOOKUP(E3,GLOBAL,3,0) -> 4501
B7: TYPOLOGIE: | E7: =VLOOKUP(E3,GLOBAL,4,0) -> Rural dynamique
B8: CONCEPT FD | E8: UVCI
B9: CONCEPT JUS | E9: OUI
B10: CONCEPT OLIVES | E10: OUI
B11: CONCEPT BIO VRAC | E11: VRAC + LS

Sheet Feuil5
A1: n° pdv | B1: nom pdv | C1: surface | D1: typologie | E1: ca fl | F1: quota fd | G1: quota bio | H1: quota jus | I1: quota olives
A2: ='[1]Total magasin'!B6 -> 20612 | B2: ='[1]Total magasin'!D6 -> UE AGON COUTAINVILLE UE | C2: ='[1]Total magasin'!E6 -> 999 | D2: ='[1]Total magasin'!H6 -> Saisonniers
A3: ='[1]Total magasin'!B7 -> 20833 | B3: ='[1]Total magasin'!D7 -> SU STE MERE EGLISE SU | C3: ='[1]Total magasin'!E7 -> 2875 | D3: ='[1]Total magasin'!H7 -> Rural dynamique
A4: ='[1]Total magasin'!B8 -> 20507 | B4: ='[1]Total magasin'!D8 -> SU BREHAL SU | C4: ='[1]Total magasin'!E8 -> 2220 | D4: ='[1]Total magasin'!H8 -> Saisonniers
A5: ='[1]Total magasin'!B9 -> 20299 | B5: ='[1]Total magasin'!D9 -> SU CLAMART V. HUGO SU | C5: ='[1]Total magasin'!E9 -> 1250 | D5: ='[1]Total magasin'!H9 -> Ultra-urbain
A6: ='[1]Total magasin'!B10 -> 25347 | B6: ='[1]Total magasin'!D10 -> HU VERNOUILLET HU | C6: ='[1]Total magasin'!E10 -> 5500 | D6: ='[1]Total magasin'!H10 -> Périurbain concurrentiel
A7: ='[1]Total magasin'!B11 -> 20442 | B7: ='[1]Total magasin'!D11 -> SU VITRY EN ARTOIS SU | C7: ='[1]Total magasin'!E11 -> 3600 | D7: ='[1]Total magasin'!H11 -> Périurbain résidentiel
A8: ='[1]Total magasin'!B12 -> 20515 | B8: ='[1]Total magasin'!D12 -> SU LES PIEUX | C8: ='[1]Total magasin'!E12 -> 2110 | D8: ='[1]Total magasin'!H12 -> Rural dynamique
A9: ='[1]Total magasin'!B13 -> 20671 | B9: ='[1]Total magasin'!D13 -> UE JULLOUVILLE LES PINS | C9: ='[1]Total magasin'!E13 -> 475 | D9: ='[1]Total magasin'!H13 -> Saisonniers
A10: ='[1]Total magasin'!B14 -> 20574 | B10: ='[1]Total magasin'!D14 -> UE GOUVILLE SUR MER UE | C10: ='[1]Total magasin'!E14 -> 510 | D10: ='[1]Total magasin'!H14 -> Saisonniers
A11: ='[1]Total magasin'!B15 -> 20728 | B11: ='[1]Total magasin'!D15 -> UE EQUEURDREVILLE | C11: ='[1]Total magasin'!E15 -> 1060 | D11: ='[1]Total magasin'!H15 -> Périurbain concurrentiel
A12: ='[1]Total magasin'!B16 -> 20736 | B12: ='[1]Total magasin'!D16 -> SU BRECEY SU | C12: ='[1]Total magasin'!E16 -> 2134 | D12: ='[1]Total magasin'!H16 -> Rural traditionnel
A13: ='[1]Total magasin'!B17 -> 20604 | B13: ='[1]Total magasin'!D17 -> UE GAVRAY | C13: ='[1]Total magasin'!E17 -> 805 | D13: ='[1]Total magasin'!H17 -> Rural traditionnel
... A1111: ='[1]Total magasin'!B1115 -> 56992 | B1111: ='[1]Total magasin'!D1115 -> SU BISCARROSSE | C1111: ='[1]Total magasin'!E1115 -> 4860 | D1111: ='[1]Total magasin'!H1115 -> Saisonniers

Sheet Matrice CONCEPTS
C3: ='Fiche PDV'!$E$3 -> 50501 | D3: ='Fiche PDV'!$E$5 -> HU LES ARCS
D5: REALISE | G5: N-1 | J5: CIBLE
C7: CA FL
C9: CONCEPT FRAICHE DECOUPE | J9: ='Fiche PDV'!$E$8 -> UVCI
C11: CA FD | J11: =J13*D7 -> 0
C13: Quota FD/FL | D13: =D11/D7 -> #DIV/0! | G13: =G11/G7 -> #DIV/0! | J13: =VLOOKUP(J9,Feuil2!F4:G5,2,FALSE) -> 0.015
D15: ECART QUOTA | G15: =D13-G13 -> #DIV/0! | J15: =D13-J13 -> #DIV/0!
D17: ECART VALEUR | G17: =D11-G11 -> 0 | J17: =D11-J11 -> 0
C19: CONCEPT BIO VRAC | J19: ='Fiche PDV'!E11 -> VRAC + LS
C21: CA BIO | J21: =J23*D7 -> 0
C23: Quota BIO/FL | D23: =D21/D7 -> #DIV/0! | G23: =G21/G7 -> #DIV/0! | J23: =VLOOKUP(J19,Feuil2!J12:K13,2,0) -> 0.1
D25: ECART QUOTA | G25: =D23-G23 -> #DIV/0! | J25: =D23-J23 -> #DIV/0!
D27: ECART VALEUR | G27: =D21-G21 -> 0 | J27: =D21-J21 -> 0
C29: CONCEPT JUS | J29: ='Fiche PDV'!E9 -> OUI
C31: CA JUS | J31: =J33*D7 -> 0
C33: Quota JUS/FL | D33: =D31/D7 -> #DIV/0! | G33: =G31/G7 -> #DIV/0! | J33: =VLOOKUP(J29,Feuil2!J4:K5,2,0) -> 0.006
D35: ECART QUOTA | G35: =D33-G33 -> #DIV/0! | J35: =D33-J33 -> #DIV/0!
D37: ECART VALEUR | G37: =D31-G31 -> 0 | J37: =D31-J31 -> 0
C39: CONCEPT OLIVES | J39: ='Fiche PDV'!E10 -> OUI
C41: CA OLIVES | J41: =J43*D7 -> 0
C43: Quota OLIVES/FL | D43: =D41/D7 -> #DIV/0! | G43: =G41/G7 -> #DIV/0! | J43: =VLOOKUP(J39,Feuil2!J8:K9,2,0) -> 0.0035
D45: ECART QUOTA | G45: =D43-G43 -> #DIV/0! | J45: =D43-J43 -> #DIV/0!
D47: ECART VALEUR | G47: =D41-G41 -> 0 | J47: =D41-J41 -> 0
C51: ECART CONCEPTS N-1 | G51: =G47+G37+G17+G27 -> 0
C53: ECART CONCEPTS CIBLE | J53: =J47+J37+J17+J27 -> 0

Sheet Feuil2
A1: ='[1]Total magasin'!B5 -> 20825 | B1: ='[1]Total magasin'!D5 -> SU ST SAUVEUR LE VICOMTE | C1: ='[1]Total magasin'!E5 -> 1500 | D1: ='[1]Total magasin'!H5 -> Rural traditionnel
A2: ='[1]Total magasin'!B6 -> 20612 | B2: ='[1]Total magasin'!D6 -> UE AGON COUTAINVILLE UE | C2: ='[1]Total magasin'!E6 -> 999 | D2: ='[1]Total magasin'!H6 -> Saisonniers
A3: ='[1]Total magasin'!B7 -> 20833 | B3: ='[1]Total magasin'!D7 -> SU STE MERE EGLISE SU | C3: ='[1]Total magasin'!E7 -> 2875 | D3: ='[1]Total magasin'!H7 -> Rural dynamique | F3: CONCEPT | G3: CIBLE | J3: JUS
A4: ='[1]Total magasin'!B8 -> 20507 | B4: ='[1]Total magasin'!D8 -> SU BREHAL SU | C4: ='[1]Total magasin'!E8 -> 2220 | D4: ='[1]Total magasin'!H8 -> Saisonniers | F4: UVCI | G4: =VLOOKUP('Fiche PDV'!E7,Feuil2!L34:M39,2,0) -> 0.015 | J4: OUI | K4: =VLOOKUP('Fiche PDV'!E7,Feuil2!L24:M29,2,0) -> 0.006
A5: ='[1]Total magasin'!B9 -> 20299 | B5: ='[1]Total magasin'!D9 -> SU CLAMART V. HUGO SU | C5: ='[1]Total magasin'!E9 -> 1250 | D5: ='[1]Total magasin'!H9 -> Ultra-urbain | F5: UVCM | G5: 0.035 | J5: NON
A6: ='[1]Total magasin'!B10 -> 25347 | B6: ='[1]Total magasin'!D10 -> HU VERNOUILLET HU | C6: ='[1]Total magasin'!E10 -> 5500 | D6: ='[1]Total magasin'!H10 -> Périurbain concurrentiel
A7: ='[1]Total magasin'!B11 -> 20442 | B7: ='[1]Total magasin'!D11 -> SU VITRY EN ARTOIS SU | C7: ='[1]Total magasin'!E11 -> 3600 | D7: ='[1]Total magasin'!H11 -> Périurbain résidentiel | J7: OLIVES
A8: ='[1]Total magasin'!B12 -> 20515 | B8: ='[1]Total magasin'!D12 -> SU LES PIEUX | C8: ='[1]Total magasin'!E12 -> 2110 | D8: ='[1]Total magasin'!H12 -> Rural dynamique | J8: OUI | K8: 0.0035
A9: ='[1]Total magasin'!B13 -> 20671 | B9: ='[1]Total magasin'!D13 -> UE JULLOUVILLE LES PINS | C9: ='[1]Total magasin'!E13 -> 475 | D9: ='[1]Total magasin'!H13 -> Saisonniers | J9: NON
A10: ='[1]Total magasin'!B14 -> 20574 | B10: ='[1]Total magasin'!D14 -> UE GOUVILLE SUR MER UE | C10: ='[1]Total magasin'!E14 -> 510 | D10: ='[1]Total magasin'!H14 -> Saisonniers | F10: CA FL N | G10: ='Matrice CONCEPTS'!D7 -> 0
A11: ='[1]Total magasin'!B15 -> 20728 | B11: ='[1]Total magasin'!D15 -> UE EQUEURDREVILLE | C11: ='[1]Total magasin'!E15 -> 1060 | D11: ='[1]Total magasin'!H15 -> Périurbain concurrentiel | F11: CA FL N-1 | G11: ='Matrice CONCEPTS'!G7 -> 0 | J11: BIO VRAC
A12: ='[1]Total magasin'!B16 -> 20736 | B12: ='[1]Total magasin'!D16 -> SU BRECEY SU | C12: ='[1]Total magasin'!E16 -> 2134 | D12: ='[1]Total magasin'!H16 -> Rural traditionnel | J12: VRAC + LS | K12: 0.1
A13: ='[1]Total magasin'!B17 -> 20604 | B13: ='[1]Total magasin'!D17 -> UE GAVRAY | C13: ='[1]Total magasin'!E17 -> 805 | D13: ='[1]Total magasin'!H17 -> Rural traditionnel | J13: LS | K13: 0.07
A14: ='[1]Total magasin'!B18 -> 20930 | B14: ='[1]Total magasin'!D18 -> UE ST LO | C14: ='[1]Total magasin'!E18 -> 494 | D14: ='[1]Total magasin'!H18 -> Périurbain concurrentiel | F14: CA FD N | G14: ='Matrice CONCEPTS'!D11 -> 0
A15: ='[1]Total magasin'!B19 -> 20523 | B15: ='[1]Total magasin'!D19 -> SU BRICQUEBEC SU | C15: ='[1]Total magasin'!E19 -> 2400 | D15: ='[1]Total magasin'!H19 -> Rural dynamique | F15: CA FD N-1 | G15: ='Matrice CONCEPTS'!G11 -> 0
A16: ='[1]Total magasin'!B20 -> 21244 | B16: ='[1]Total magasin'!D20 -> SU DOZULE | C16: ='[1]Total magasin'!E20 -> 2480 | D16: ='[1]Total magasin'!H20 -> Rural dynamique | F16: CA FD CIBLE | G16: ='Matrice CONCEPTS'!J11 -> 0
A17: ='[1]Total magasin'!B21 -> 22496 | B17: ='[1]Total magasin'!D21 -> HU DOUVRES LA DELIVRANDE | C17: ='[1]Total magasin'!E21 -> 4140 | D17: ='[1]Total magasin'!H21 -> Périurbain résidentiel
A18: ='[1]Total magasin'!B22 -> 24472 | B18: ='[1]Total magasin'!D22 -> SU LE MOLAY LITTRY SU | C18: ='[1]Total magasin'!E22 -> 2360 | D18: ='[1]Total magasin'!H22 -> Rural dynamique
A19: ='[1]Total magasin'!B23 -> 22060 | B19: ='[1]Total magasin'!D23 -> UE BAYEUX | C19: ='[1]Total magasin'!E23 -> 1216 | D19: ='[1]Total magasin'!H23 -> Rural dynamique | F19: QUOTA FD N | G19: ='Matrice CONCEPTS'!D13 -> #DIV/0!
A20: ='[1]Total magasin'!B24 -> 25412 | B20: ='[1]Total magasin'!D24 -> SU BLANGY SUR BRESLE | C20: ='[1]Total magasin'!E24 -> 2000 | D20: ='[1]Total magasin'!H24 -> Rural dynamique | F20: QUOTA FD N-1 | G20: ='Matrice CONCEPTS'!G13 -> #DIV/0!
A21: ='[1]Total magasin'!B25 -> 21473 | B21: ='[1]Total magasin'!D25 -> SU FAUVILLE EN CAUX SU | C21: ='[1]Total magasin'!E25 -> 2798 | D21: ='[1]Total magasin'!H25 -> Rural dynamique | F21: QUOTA FD CIBLE | G21: ='Matrice CONCEPTS'!J13 -> 0.015
A22: ='[1]Total magasin'!B26 -> 21481 | B22: ='[1]Total magasin'!D26 -> SU CAEN BEAULIEU SU | C22: ='[1]Total magasin'!E26 -> 2730 | D22: ='[1]Total magasin'!H26 -> Ultra-urbain | L22: JUS
A23: ='[1]Total magasin'!B27 -> 21562 | B23: ='[1]Total magasin'!D27 -> SU PACY SUR EURE | C23: ='[1]Total magasin'!E27 -> 1897 | D23: ='[1]Total magasin'!H27 -> Rural dynamique
A24: ='[1]Total magasin'!B28 -> 25703 | B24: ='[1]Total magasin'!D28 -> SU BROU SU | C24: ='[1]Total magasin'!E28 -> 2975 | D24: ='[1]Total magasin'!H28 -> Rural traditionnel | F24: EVOLUTION CA FL | G24: 0 | H24: =(G10-G11)/G11 -> #DIV/0! | L24: Saisonniers | M24: 0.004
A25: ='[1]Total magasin'!B29 -> 21600 | B25: ='[1]Total magasin'!D29 -> SU CLAMART GARE SU | C25: ='[1]Total magasin'!E29 -> 900 | D25: ='[1]Total magasin'!H29 -> Ultra-urbain | F25: EVOLUTION CA FD | G25: 0 | H25: =(G14-G15)/G15 -> #DIV/0! | L25: Rural traditionnel | M25: 0.004
A26: ='[1]Total magasin'!B30 -> 22356 | B26: ='[1]Total magasin'!D30 -> SU CHATOU SU | C26: ='[1]Total magasin'!E30 -> 1700 | D26: ='[1]Total magasin'!H30 -> Ultra-urbain | L26: Rural dynamique | M26: 0.006
A27: ='[1]Total magasin'!B31 -> 25533 | B27: ='[1]Total magasin'!D31 -> HU HANCHES HU | C27: ='[1]Total magasin'!E31 -> 6611 | D27: ='[1]Total magasin'!H31 -> Périurbain résidentiel | F27: N | G27: N-1 | L27: Périurbain concurrentiel | M27: 0.006
A28: ='[1]Total magasin'!B32 -> 23042 | B28: ='[1]Total magasin'!D32 -> UE GARCHES | C28: ='[1]Total magasin'!E32 -> 983 | D28: ='[1]Total magasin'!H32 -> Ultra-urbain | L28: Périurbain résidentiel | M28: 0.01
A29: ='[1]Total magasin'!B33 -> 21791 | B29: ='[1]Total magasin'!D33 -> UE VILLE D'AVRAY | C29: ='[1]Total magasin'!E33 -> 1315 | D29: ='[1]Total magasin'!H33 -> Ultra-urbain | L29: Ultra-urbain | M29: 0.01
A30: ='[1]Total magasin'!B34 -> 21805 | B30: ='[1]Total magasin'!D34 -> UE ROCQUENCOURT | C30: ='[1]Total magasin'!E34 -> 400 | D30: ='[1]Total magasin'!H34 -> Ultra-urbain | F30: CA BIO N | G30: ='Matrice CONCEPTS'!D21 -> 0
A31: ='[1]Total magasin'!B35 -> 26068 | B31: ='[1]Total magasin'!D35 -> SU WORMHOUT SU | C31: ='[1]Total magasin'!E35 -> 2607 | D31: ='[1]Total magasin'!H35 -> Rural dynamique | F31: CA BIO N-1 | G31: ='Matrice CONCEPTS'!G21 -> 0
A32: ='[1]Total magasin'!B36 -> 21872 | B32: ='[1]Total magasin'!D36 -> SU PARIS CLICHY | C32: ='[1]Total magasin'!E36 -> 1430 | D32: ='[1]Total magasin'!H36 -> Ultra-urbain | F32: CA BIO CIBLE | G32: ='Matrice CONCEPTS'!J21 -> 0 | L32: UVCI
A33: ='[1]Total magasin'!B37 -> 21880 | B33: ='[1]Total magasin'!D37 -> SU FERE EN TARDENOIS SU | C33: ='[1]Total magasin'!E37 -> 2051 | D33: ='[1]Total magasin'!H37 -> Rural dynamique
A34: ='[1]Total magasin'!B38 -> 26327 | B34: ='[1]Total magasin'!D38 -> SU CHARLY SUR MARNE SU | C34: ='[1]Total magasin'!E38 -> 2725 | D34: ='[1]Total magasin'!H38 -> Rural dynamique | L34: Saisonniers | M34: 0.015
A35: ='[1]Total magasin'!B39 -> 25815 | B35: ='[1]Total magasin'!D39 -> UE ST QUENTIN | C35: ='[1]Total magasin'!E39 -> 508 | D35: ='[1]Total magasin'!H39 -> Périurbain concurrentiel | F35: CA JUS N | G35: ='Matrice CONCEPTS'!D31 -> 0 | L35: Rural traditionnel | M35: 0.01
A36: ='[1]Total magasin'!B40 -> 29385 | B36: ='[1]Total magasin'!D40 -> UE LILLE | C36: ='[1]Total magasin'!E40 -> 570 | D36: ='[1]Total magasin'!H40 -> Ultra-urbain | F36: CA JUS N-1 | G36: ='Matrice CONCEPTS'!G31 -> 0 | L36: Rural dynamique | M36: 0.015
A37: ='[1]Total magasin'!B41 -> 25266 | B37: ='[1]Total magasin'!D41 -> SU MAROMME SU | C37: ='[1]Total magasin'!E41 -> 2985 | D37: ='[1]Total magasin'!H41 -> Périurbain concurrentiel | F37: CA JUS CIBLE | G37: ='Matrice CONCEPTS'!J31 -> 0 | L37: Périurbain concurrentiel | M37: 0.015
A38: ='[1]Total magasin'!B42 -> 22259 | B38: ='[1]Total magasin'!D42 -> SU LE HOM (THURY) SU | C38: ='[1]Total magasin'!E42 -> 2225 | D38: ='[1]Total magasin'!H42 -> Rural dynamique | L38: Périurbain résidentiel | M38: 0.015
A39: ='[1]Total magasin'!B43 -> 21836 | B39: ='[1]Total magasin'!D43 -> SU SAINT CONTEST | C39: ='[1]Total magasin'!E43 -> 2198 | D39: ='[1]Total magasin'!H43 -> Périurbain concurrentiel | L39: Ultra-urbain | M39: 0.02
A40: ='[1]Total magasin'!B44 -> 22113 | B40: ='[1]Total magasin'!D44 -> SU TROARN | C40: ='[1]Total magasin'!E44 -> 2989 | D40: ='[1]Total magasin'!H44 -> Rural dynamique | F40: CA BAO N | G40: ='Matrice CONCEPTS'!D41 -> 0
...

Sheet Graphiques FD

Sheet GRAPHIQUES BIO

Sheet GRAPHIQUES JUS

Sheet GRAPHIQUES BAR A OLIVES
