Workbook
Name Barème500: '[1]Barèmes & Options'!$A$1:$C$218

Sheet Calcul de note
D3: Nom-Prénom | E3: sexe | F3: 500 1 | G3: 500 1 | H3: 500 2 | I3: 500 2 | J3: 500 3 | K3: 500 3 | L3: Temps total | M3: Meilleure perf | N3: Note meilleure perf | O3: Somme écart | P3: Note somme écart
E4: f | F4: 212 | G4: =TIME(0,INT(F4/100),MOD(F4,100)) -> 0.0015277778 | H4: 228 | I4: =TIME(0,INT(H4/100),MOD(H4,100)) -> 0.001712963 | J4: 226 | K4: =TIME(0,INT(J4/100),MOD(J4,100)) -> 0.0016898148 | L4: =SUM(G4,I4,K4) -> 0.0049305556 | M4: =MIN(G4,I4,K4) -> 0.0015277778 | N4: =IF(E4="","",IF(E4="f",VLOOKUP(M4,Barème!$D$4:$I$23,6,TRUE),IF(E4="g",VLOOKUP(M4,Barème!$H$4:$I$23,2,TRUE)))) -> 7.2 | O4: =IF(M4=G4,SUM((I4-G4)+(K4-G4)),IF(M4=I4,SUM((G4-I4)+(K4-I4)),SUM((G4-K4)+(I4-K4)))) -> 0.00034722222 | P4: =VLOOKUP(O4,Barème!$K$4:$L$23,2,TRUE) -> 4.2
E5: g | F5: 130 | G5: =TIME(0,INT(F5/100),MOD(F5,100)) -> 0.0010416667 | H5: 128 | I5: =TIME(0,INT(H5/100),MOD(H5,100)) -> 0.0010185185 | J5: 131 | K5: =TIME(0,INT(J5/100),MOD(J5,100)) -> 0.0010532407 | L5: =SUM(G5,I5,K5) -> 0.0031134259 | M5: =MIN(G5,I5,K5) -> 0.0010185185 | N5: =IF(E5="","",IF(E5="f",VLOOKUP(M5,Barème!$D$4:$I$23,6,TRUE),IF(E5="g",VLOOKUP(M5,Barème!$H$4:$I$23,2,TRUE)))) -> 10.8 | O5: =IF(M5=G5,SUM((I5-G5)+(K5-G5)),IF(M5=I5,SUM((G5-I5)+(K5-I5)),SUM((G5-K5)+(I5-K5)))) -> 5.787037e-05 | P5: =VLOOKUP(O5,Barème!$K$4:$L$23,2,TRUE) -> 12
E6: f | F6: 219 | G6: =TIME(0,INT(F6/100),MOD(F6,100)) -> 0.0016087963 | H6: 217 | I6: =TIME(0,INT(H6/100),MOD(H6,100)) -> 0.0015856481 | J6: 215 | K6: =TIME(0,INT(J6/100),MOD(J6,100)) -> 0.0015625 | L6: =SUM(G6,I6,K6) -> 0.0047569444 | M6: =MIN(G6,I6,K6) -> 0.0015625 | N6: =IF(E6="","",IF(E6="f",VLOOKUP(M6,Barème!$D$4:$I$23,6,TRUE),IF(E6="g",VLOOKUP(M6,Barème!$H$4:$I$23,2,TRUE)))) -> 6.6 | O6: =IF(M6=G6,SUM((I6-G6)+(K6-G6)),IF(M6=I6,SUM((G6-I6)+(K6-I6)),SUM((G6-K6)+(I6-K6)))) -> 6.9444444e-05 | P6: =VLOOKUP(O6,Barème!$K$4:$L$23,2,TRUE) -> 11.4
E7: g | F7: 124 | G7: =TIME(0,INT(F7/100),MOD(F7,100)) -> 0.00097222222 | H7: 128 | I7: =TIME(0,INT(H7/100),MOD(H7,100)) -> 0.0010185185 | J7: 127 | K7: =TIME(0,INT(J7/100),MOD(J7,100)) -> 0.0010069444 | L7: =SUM(G7,I7,K7) -> 0.0029976852 | M7: =MIN(G7,I7,K7) -> 0.00097222222 | N7: =IF(E7="","",IF(E7="f",VLOOKUP(M7,Barème!$D$4:$I$23,6,TRUE),IF(E7="g",VLOOKUP(M7,Barème!$H$4:$I$23,2,TRUE)))) -> 12 | O7: =IF(M7=G7,SUM((I7-G7)+(K7-G7)),IF(M7=I7,SUM((G7-I7)+(K7-I7)),SUM((G7-K7)+(I7-K7)))) -> 8.1018519e-05 | P7: =VLOOKUP(O7,Barème!$K$4:$L$23,2,TRUE) -> 10.8

Sheet Barème
I3: Note | J3: Somme écart | K3: Somme écart | L3: Note
A4: 1’43 | B4: 143 | C4: =TIME(0,INT(B4/100),MOD(B4,100)) -> 0.0011921296 | D4: 0.0011921296 | E4: 1’22 | F4: 122 | G4: =TIME(0,INT(F4/100),MOD(F4,100)) -> 0.00094907407 | H4: 0.00094907407 | I4: 12 | J4: 3 | K4: 3.4722222e-05 | L4: 12
A5: 1’46 | B5: 146 | C5: =TIME(0,INT(B5/100),MOD(B5,100)) -> 0.0012268519 | D5: 0.0012268519 | E5: 1’25 | F5: 125 | G5: =TIME(0,INT(F5/100),MOD(F5,100)) -> 0.0009837963 | H5: 0.0009837963 | I5: 11.4 | J5: 5 | K5: 5.787037e-05 | L5: 11.4
A6: 1’49 | B6: 149 | C6: =TIME(0,INT(B6/100),MOD(B6,100)) -> 0.0012615741 | D6: 0.0012615741 | E6: 1’28 | F6: 128 | G6: =TIME(0,INT(F6/100),MOD(F6,100)) -> 0.0010185185 | H6: 0.0010185185 | I6: 10.8 | J6: 7 | K6: 8.1018519e-05 | L6: 10.8
A7: 1’52 | B7: 152 | C7: =TIME(0,INT(B7/100),MOD(B7,100)) -> 0.0012962963 | D7: 0.0012962963 | E7: 1’31 | F7: 131 | G7: =TIME(0,INT(F7/100),MOD(F7,100)) -> 0.0010532407 | H7: 0.0010532407 | I7: 10.2 | J7: 9 | K7: 0.00010416667 | L7: 10.2
A8: 1’55 | B8: 155 | C8: =TIME(0,INT(B8/100),MOD(B8,100)) -> 0.0013310185 | D8: 0.0013310185 | E8: 1’34 | F8: 134 | G8: =TIME(0,INT(F8/100),MOD(F8,100)) -> 0.001087963 | H8: 0.001087963 | I8: 9.6 | J8: 11 | K8: 0.00012731481 | L8: 9.6
A9: 1’58 | B9: 158 | C9: =TIME(0,INT(B9/100),MOD(B9,100)) -> 0.0013657407 | D9: 0.0013657407 | E9: 1’37 | F9: 137 | G9: =TIME(0,INT(F9/100),MOD(F9,100)) -> 0.0011226852 | H9: 0.0011226852 | I9: 9 | J9: 13 | K9: 0.00015046296 | L9: 9
A10: 2’1 | B10: 201 | C10: =TIME(0,INT(B10/100),MOD(B10,100)) -> 0.001400463 | D10: 0.001400463 | E10: 1’40 | F10: 140 | G10: =TIME(0,INT(F10/100),MOD(F10,100)) -> 0.0011574074 | H10: 0.0011574074 | I10: 8.4 | J10: 15 | K10: 0.00017361111 | L10: 8.4
A11: 2'06 | B11: 206 | C11: =TIME(0,INT(B11/100),MOD(B11,100)) -> 0.0014583333 | D11: 0.0014583333 | E11: 1’43 | F11: 143 | G11: =TIME(0,INT(F11/100),MOD(F11,100)) -> 0.0011921296 | H11: 0.0011921296 | I11: 7.8 | J11: 17 | K11: 0.00019675926 | L11: 7.8
A12: 2'10 | B12: 210 | C12: =TIME(0,INT(B12/100),MOD(B12,100)) -> 0.0015046296 | D12: 0.0015046296 | E12: 1’46 | F12: 146 | G12: =TIME(0,INT(F12/100),MOD(F12,100)) -> 0.0012268519 | H12: 0.0012268519 | I12: 7.2 | J12: 19 | K12: 0.00021990741 | L12: 7.2
A13: 2’15 | B13: 215 | C13: =TIME(0,INT(B13/100),MOD(B13,100)) -> 0.0015625 | D13: 0.0015625 | E13: 1’49 | F13: 149 | G13: =TIME(0,INT(F13/100),MOD(F13,100)) -> 0.0012615741 | H13: 0.0012615741 | I13: 6.6 | J13: 21 | K13: 0.00024305556 | L13: 6.6
A14: 2’20 | B14: 220 | C14: =TIME(0,INT(B14/100),MOD(B14,100)) -> 0.0016203704 | D14: 0.0016203704 | E14: 1’52 | F14: 152 | G14: =TIME(0,INT(F14/100),MOD(F14,100)) -> 0.0012962963 | H14: 0.0012962963 | I14: 6 | J14: 23 | K14: 0.0002662037 | L14: 6
A15: 2’25 | B15: 225 | C15: =TIME(0,INT(B15/100),MOD(B15,100)) -> 0.0016782407 | D15: 0.0016782407 | E15: 1’56 | F15: 156 | G15: =TIME(0,INT(F15/100),MOD(F15,100)) -> 0.0013425926 | H15: 0.0013425926 | I15: 5.4 | J15: 25 | K15: 0.00028935185 | L15: 5.4
... A23: 3’20 | B23: 320 | C23: =TIME(0,INT(B23/100),MOD(B23,100)) -> 0.0023148148 | D23: 0.0023148148 | E23: 2’30 | F23: 230 | G23: =TIME(0,INT(F23/100),MOD(F23,100)) -> 0.0017361111 | H23: 0.0017361111 | I23: 0.6 | J23: 41 | K23: 0.00047453704 | L23: 0.6
