Workbook

Sheet Réponse au formulaire 1
A1: Horodateur | B1: Attestation sur l'honneur ✋ | C1: Comment tu passes incognito sur Terre ? (Filière) | D1: Tu viens de quelle planète ? (Ville) | E1: Choisis ton personnage | F1: Tu sera présents combien de saisons ? | G1: Tu manges quoi ? | H1: Tu bois quoi ? | I1: Je souhaite être suppléant d'organisation 💜 | J1: Je souhaites être petites mains 🔥
A2: 45282.682 | B2: J'ai lu et j'accepte le règlement Intérieur imposé par l'association La Rabelaisienne | C2: 1g | D2: Orléans | E2: Extraterrestre (Faluchard·e) | F2: Les 2 saisons en entier | G2: Tant que ça se mange je prends (Omnivore) | H2: Je bois de l'alcool | I2: Non | J2: Non
A3: 45282.685 | B3: J'ai lu et j'accepte le règlement Intérieur imposé par l'association La Rabelaisienne | C3: Science | D3: Tours | E3: Extraterrestre (Faluchard·e) | F3: Les 2 saisons en entier | G3: Tant que ça se mange je prends (Omnivore) | H3: Je bois de l'alcool | I3: Oui | J3: Non
A4: 45282.692 | B4: J'ai lu et j'accepte le règlement Intérieur imposé par l'association La Rabelaisienne | C4: IPP | D4: Angers | E4: Extraterrestre (Faluchard·e) | F4: Les 2 saisons en entier | G4: Tant que ça se mange je prends (Omnivore) | H4: Je bois de l'alcool | I4: Non | J4: Non
A5: 45282.692 | B5: J'ai lu et j'accepte le règlement Intérieur imposé par l'association La Rabelaisienne | C5: Design | D5: Rennes | E5: Insecte (Impétrant·e) | F5: Les 2 saisons en entier | G5: Tant que ça se mange je prends (Omnivore) | H5: Je bois de l'alcool | I5: Non | J5: Non
A6: 45282.696 | B6: J'ai lu et j'accepte le règlement Intérieur imposé par l'association La Rabelaisienne | C6: Kiné IF | D6: Paris | E6: Extraterrestre (Faluchard·e) | F6: Les 2 saisons en entier | G6: Tant que ça se mange je prends (Omnivore) | H6: Je bois de l'alcool | I6: Non | J6: Non
A7: 45282.697 | B7: J'ai lu et j'accepte le règlement Intérieur imposé par l'association La Rabelaisienne | C7: If science | D7: Tours le S | E7: Insecte (Impétrant·e) | F7: Les 2 saisons en entier | G7: Tant que ça se mange je prends (Omnivore) | H7: Je bois de l'alcool | I7: Oui | J7: Non
A8: 45282.698 | B8: J'ai lu et j'accepte le règlement Intérieur imposé par l'association La Rabelaisienne | C8: Ingenieur | D8: Tours | E8: Extraterrestre (Faluchard·e) | F8: Les 2 saisons en entier | G8: Tant que ça se mange je prends (Omnivore) | H8: Je bois de l'alcool | I8: Oui | J8: Oui
A9: 45282.698 | B9: J'ai lu et j'accepte le règlement Intérieur imposé par l'association La Rabelaisienne | C9: Médecine | D9: Tours | E9: Insecte (Impétrant·e) | F9: Les 2 saisons en entier | G9: Tant que ça se mange je prends (Omnivore) | H9: Je bois de l'alcool | I9: Oui | J9: Oui

Sheet Feuille 2
A1: Fillière | B1: Ville | C1: Fal ? | D1: Cb de soirs ? | E1: Régime | F1: BT ou OB | G1: Petites mains | H1: Supplénat d'orga
A2: ='Réponse au formulaire 1'!C2 -> 1g | B2: ='Réponse au formulaire 1'!D2 -> Orléans | C2: =IF('Réponse au formulaire 1'!E2="Extraterrestre (Faluchard·e)","Faluchard·e",IF('Réponse au formulaire 1'!E2="Insecte (Impétrant·e)","Impétrant·e",IF('Réponse au formulaire 1'!E2="Humain (Sympathisant·e)","Sympathisant·e",IF('Réponse au formulaire 1'!E2="Objet (Autre folklore)","Autre folkore"," " )))) -> Faluchard·e | D2: =IF('Réponse au formulaire 1'!F2="Les 2 saisons en entier","2 soirs",IF(ISBLANK('Réponse au formulaire 1'!F2)," ","1 soir")) -> 2 soirs | E2: =IF('Réponse au formulaire 1'!G2="Tant que ça se mange je prends (Omnivore)","Tout",IF('Réponse au formulaire 1'!G2="Les carottes c'est sympa (Végétarien)","VG",IF('Réponse au formulaire 1'!G2="Je préfère le poulet (Sans porc)","Sans porc"," "))) -> Tout | F2: =IF('Réponse au formulaire 1'!H2="Je bois de l'alcool","OB",IF('Réponse au formulaire 1'!H2="Je bois du jus de fruit (Bacchus troué : -5€/soir)","BT"," ")) -> OB | G2: ='Réponse au formulaire 1'!I2 -> Non | H2: ='Réponse au formulaire 1'!J2 -> Non
A3: ='Réponse au formulaire 1'!C3 -> Science | B3: ='Réponse au formulaire 1'!D3 -> Tours | C3: =IF('Réponse au formulaire 1'!E3="Extraterrestre (Faluchard·e)","Faluchard·e",IF('Réponse au formulaire 1'!E3="Insecte (Impétrant·e)","Impétrant·e",IF('Réponse au formulaire 1'!E3="Humain (Sympathisant·e)","Sympathisant·e",IF('Réponse au formulaire 1'!E3="Objet (Autre folklore)","Autre folkore"," " )))) -> Faluchard·e | D3: =IF('Réponse au formulaire 1'!F3="Les 2 saisons en entier","2 soirs",IF(ISBLANK('Réponse au formulaire 1'!F3)," ","1 soir")) -> 2 soirs | E3: =IF('Réponse au formulaire 1'!G3="Tant que ça se mange je prends (Omnivore)","Tout",IF('Réponse au formulaire 1'!G3="Les carottes c'est sympa (Végétarien)","VG",IF('Réponse au formulaire 1'!G3="Je préfère le poulet (Sans porc)","Sans porc"," "))) -> Tout | F3: =IF('Réponse au formulaire 1'!H3="Je bois de l'alcool","OB",IF('Réponse au formulaire 1'!H3="Je bois du jus de fruit (Bacchus troué : -5€/soir)","BT"," ")) -> OB | G3: ='Réponse au formulaire 1'!I3 -> Oui | H3: ='Réponse au formulaire 1'!J3 -> Non
A4: ='Réponse au formulaire 1'!C4 -> IPP | B4: ='Réponse au formulaire 1'!D4 -> Angers | C4: =IF('Réponse au formulaire 1'!E4="Extraterrestre (Faluchard·e)","Faluchard·e",IF('Réponse au formulaire 1'!E4="Insecte (Impétrant·e)","Impétrant·e",IF('Réponse au formulaire 1'!E4="Humain (Sympathisant·e)","Sympathisant·e",IF('Réponse au formulaire 1'!E4="Objet (Autre folklore)","Autre folkore"," " )))) -> Faluchard·e | D4: =IF('Réponse au formulaire 1'!F4="Les 2 saisons en entier","2 soirs",IF(ISBLANK('Réponse au formulaire 1'!F4)," ","1 soir")) -> 2 soirs | E4: =IF('Réponse au formulaire 1'!G4="Tant que ça se mange je prends (Omnivore)","Tout",IF('Réponse au formulaire 1'!G4="Les carottes c'est sympa (Végétarien)","VG",IF('Réponse au formulaire 1'!G4="Je préfère le poulet (Sans porc)","Sans porc"," "))) -> Tout | F4: =IF('Réponse au formulaire 1'!H4="Je bois de l'alcool","OB",IF('Réponse au formulaire 1'!H4="Je bois du jus de fruit (Bacchus troué : -5€/soir)","BT"," ")) -> OB | G4: ='Réponse au formulaire 1'!I4 -> Non | H4: ='Réponse au formulaire 1'!J4 -> Non
A5: ='Réponse au formulaire 1'!C5 -> Design | B5: ='Réponse au formulaire 1'!D5 -> Rennes | C5: =IF('Réponse au formulaire 1'!E5="Extraterrestre (Faluchard·e)","Faluchard·e",IF('Réponse au formulaire 1'!E5="Insecte (Impétrant·e)","Impétrant·e",IF('Réponse au formulaire 1'!E5="Humain (Sympathisant·e)","Sympathisant·e",IF('Réponse au formulaire 1'!E5="Objet (Autre folklore)","Autre folkore"," " )))) -> Impétrant·e | D5: =IF('Réponse au formulaire 1'!F5="Les 2 saisons en entier","2 soirs",IF(ISBLANK('Réponse au formulaire 1'!F5)," ","1 soir")) -> 2 soirs | E5: =IF('Réponse au formulaire 1'!G5="Tant que ça se mange je prends (Omnivore)","Tout",IF('Réponse au formulaire 1'!G5="Les carottes c'est sympa (Végétarien)","VG",IF('Réponse au formulaire 1'!G5="Je préfère le poulet (Sans porc)","Sans porc"," "))) -> Tout | F5: =IF('Réponse au formulaire 1'!H5="Je bois de l'alcool","OB",IF('Réponse au formulaire 1'!H5="Je bois du jus de fruit (Bacchus troué : -5€/soir)","BT"," ")) -> OB | G5: ='Réponse au formulaire 1'!I5 -> Non | H5: ='Réponse au formulaire 1'!J5 -> Non
A6: ='Réponse au formulaire 1'!C6 -> Kiné IF | B6: ='Réponse au formulaire 1'!D6 -> Paris | C6: =IF('Réponse au formulaire 1'!E6="Extraterrestre (Faluchard·e)","Faluchard·e",IF('Réponse au formulaire 1'!E6="Insecte (Impétrant·e)","Impétrant·e",IF('Réponse au formulaire 1'!E6="Humain (Sympathisant·e)","Sympathisant·e",IF('Réponse au formulaire 1'!E6="Objet (Autre folklore)","Autre folkore"," " )))) -> Faluchard·e | D6: =IF('Réponse au formulaire 1'!F6="Les 2 saisons en entier","2 soirs",IF(ISBLANK('Réponse au formulaire 1'!F6)," ","1 soir")) -> 2 soirs | E6: =IF('Réponse au formulaire 1'!G6="Tant que ça se mange je prends (Omnivore)","Tout",IF('Réponse au formulaire 1'!G6="Les carottes c'est sympa (Végétarien)","VG",IF('Réponse au formulaire 1'!G6="Je préfère le poulet (Sans porc)","Sans porc"," "))) -> Tout | F6: =IF('Réponse au formulaire 1'!H6="Je bois de l'alcool","OB",IF('Réponse au formulaire 1'!H6="Je bois du jus de fruit (Bacchus troué : -5€/soir)","BT"," ")) -> OB | G6: ='Réponse au formulaire 1'!I6 -> Non | H6: ='Réponse au formulaire 1'!J6 -> Non
A7: ='Réponse au formulaire 1'!C7 -> If science | B7: ='Réponse au formulaire 1'!D7 -> Tours le S | C7: =IF('Réponse au formulaire 1'!E7="Extraterrestre (Faluchard·e)","Faluchard·e",IF('Réponse au formulaire 1'!E7="Insecte (Impétrant·e)","Impétrant·e",IF('Réponse au formulaire 1'!E7="Humain (Sympathisant·e)","Sympathisant·e",IF('Réponse au formulaire 1'!E7="Objet (Autre folklore)","Autre folkore"," " )))) -> Impétrant·e | D7: =IF('Réponse au formulaire 1'!F7="Les 2 saisons en entier","2 soirs",IF(ISBLANK('Réponse au formulaire 1'!F7)," ","1 soir")) -> 2 soirs | E7: =IF('Réponse au formulaire 1'!G7="Tant que ça se mange je prends (Omnivore)","Tout",IF('Réponse au formulaire 1'!G7="Les carottes c'est sympa (Végétarien)","VG",IF('Réponse au formulaire 1'!G7="Je préfère le poulet (Sans porc)","Sans porc"," "))) -> Tout | F7: =IF('Réponse au formulaire 1'!H7="Je bois de l'alcool","OB",IF('Réponse au formulaire 1'!H7="Je bois du jus de fruit (Bacchus troué : -5€/soir)","BT"," ")) -> OB | G7: ='Réponse au formulaire 1'!I7 -> Oui | H7: ='Réponse au formulaire 1'!J7 -> Non
A8: ='Réponse au formulaire 1'!C8 -> Ingenieur | B8: ='Réponse au formulaire 1'!D8 -> Tours | C8: =IF('Réponse au formulaire 1'!E8="Extraterrestre (Faluchard·e)","Faluchard·e",IF('Réponse au formulaire 1'!E8="Insecte (Impétrant·e)","Impétrant·e",IF('Réponse au formulaire 1'!E8="Humain (Sympathisant·e)","Sympathisant·e",IF('Réponse au formulaire 1'!E8="Objet (Autre folklore)","Autre folkore"," " )))) -> Faluchard·e | D8: =IF('Réponse au formulaire 1'!F8="Les 2 saisons en entier","2 soirs",IF(ISBLANK('Réponse au formulaire 1'!F8)," ","1 soir")) -> 2 soirs | E8: =IF('Réponse au formulaire 1'!G8="Tant que ça se mange je prends (Omnivore)","Tout",IF('Réponse au formulaire 1'!G8="Les carottes c'est sympa (Végétarien)","VG",IF('Réponse au formulaire 1'!G8="Je préfère le poulet (Sans porc)","Sans porc"," "))) -> Tout | F8: =IF('Réponse au formulaire 1'!H8="Je bois de l'alcool","OB",IF('Réponse au formulaire 1'!H8="Je bois du jus de fruit (Bacchus troué : -5€/soir)","BT"," ")) -> OB | G8: ='Réponse au formulaire 1'!I8 -> Oui | H8: ='Réponse au formulaire 1'!J8 -> Oui
A9: ='Réponse au formulaire 1'!C9 -> Médecine | B9: ='Réponse au formulaire 1'!D9 -> Tours | C9: =IF('Réponse au formulaire 1'!E9="Extraterrestre (Faluchard·e)","Faluchard·e",IF('Réponse au formulaire 1'!E9="Insecte (Impétrant·e)","Impétrant·e",IF('Réponse au formulaire 1'!E9="Humain (Sympathisant·e)","Sympathisant·e",IF('Réponse au formulaire 1'!E9="Objet (Autre folklore)","Autre folkore"," " )))) -> Impétrant·e | D9: =IF('Réponse au formulaire 1'!F9="Les 2 saisons en entier","2 soirs",IF(ISBLANK('Réponse au formulaire 1'!F9)," ","1 soir")) -> 2 soirs | E9: =IF('Réponse au formulaire 1'!G9="Tant que ça se mange je prends (Omnivore)","Tout",IF('Réponse au formulaire 1'!G9="Les carottes c'est sympa (Végétarien)","VG",IF('Réponse au formulaire 1'!G9="Je préfère le poulet (Sans porc)","Sans porc"," "))) -> Tout | F9: =IF('Réponse au formulaire 1'!H9="Je bois de l'alcool","OB",IF('Réponse au formulaire 1'!H9="Je bois du jus de fruit (Bacchus troué : -5€/soir)","BT"," ")) -> OB | G9: ='Réponse au formulaire 1'!I9 -> Oui | H9: ='Réponse au formulaire 1'!J9 -> Oui
A10: ='Réponse au formulaire 1'!C10 | B10: ='Réponse au formulaire 1'!D10 | C10: =IF('Réponse au formulaire 1'!E10="Extraterrestre (Faluchard·e)","Faluchard·e",IF('Réponse au formulaire 1'!E10="Insecte (Impétrant·e)","Impétrant·e",IF('Réponse au formulaire 1'!E10="Humain (Sympathisant·e)","Sympathisant·e",IF('Réponse au formulaire 1'!E10="Objet (Autre folklore)","Autre folkore"," " )))) | D10: =IF('Réponse au formulaire 1'!F10="Les 2 saisons en entier","2 soirs",IF(ISBLANK('Réponse au formulaire 1'!F10)," ","1 soir")) | E10: =IF('Réponse au formulaire 1'!G10="Tant que ça se mange je prends (Omnivore)","Tout",IF('Réponse au formulaire 1'!G10="Les carottes c'est sympa (Végétarien)","VG",IF('Réponse au formulaire 1'!G10="Je préfère le poulet (Sans porc)","Sans porc"," "))) | F10: =IF('Réponse au formulaire 1'!H10="Je bois de l'alcool","OB",IF('Réponse au formulaire 1'!H10="Je bois du jus de fruit (Bacchus troué : -5€/soir)","BT"," ")) | G10: ='Réponse au formulaire 1'!I10 | H10: ='Réponse au formulaire 1'!J10
A11: ='Réponse au formulaire 1'!C11 | B11: ='Réponse au formulaire 1'!D11 | C11: =IF('Réponse au formulaire 1'!E11="Extraterrestre (Faluchard·e)","Faluchard·e",IF('Réponse au formulaire 1'!E11="Insecte (Impétrant·e)","Impétrant·e",IF('Réponse au formulaire 1'!E11="Humain (Sympathisant·e)","Sympathisant·e",IF('Réponse au formulaire 1'!E11="Objet (Autre folklore)","Autre folkore"," " )))) | D11: =IF('Réponse au formulaire 1'!F11="Les 2 saisons en entier","2 soirs",IF(ISBLANK('Réponse au formulaire 1'!F11)," ","1 soir")) | E11: =IF('Réponse au formulaire 1'!G11="Tant que ça se mange je prends (Omnivore)","Tout",IF('Réponse au formulaire 1'!G11="Les carottes c'est sympa (Végétarien)","VG",IF('Réponse au formulaire 1'!G11="Je préfère le poulet (Sans porc)","Sans porc"," "))) | F11: =IF('Réponse au formulaire 1'!H11="Je bois de l'alcool","OB",IF('Réponse au formulaire 1'!H11="Je bois du jus de fruit (Bacchus troué : -5€/soir)","BT"," ")) | G11: ='Réponse au formulaire 1'!I11 | H11: ='Réponse au formulaire 1'!J11
A12: ='Réponse au formulaire 1'!C12 | B12: ='Réponse au formulaire 1'!D12 | C12: =IF('Réponse au formulaire 1'!E12="Extraterrestre (Faluchard·e)","Faluchard·e",IF('Réponse au formulaire 1'!E12="Insecte (Impétrant·e)","Impétrant·e",IF('Réponse au formulaire 1'!E12="Humain (Sympathisant·e)","Sympathisant·e",IF('Réponse au formulaire 1'!E12="Objet (Autre folklore)","Autre folkore"," " )))) | D12: =IF('Réponse au formulaire 1'!F12="Les 2 saisons en entier","2 soirs",IF(ISBLANK('Réponse au formulaire 1'!F12)," ","1 soir")) | E12: =IF('Réponse au formulaire 1'!G12="Tant que ça se mange je prends (Omnivore)","Tout",IF('Réponse au formulaire 1'!G12="Les carottes c'est sympa (Végétarien)","VG",IF('Réponse au formulaire 1'!G12="Je préfère le poulet (Sans porc)","Sans porc"," "))) | F12: =IF('Réponse au formulaire 1'!H12="Je bois de l'alcool","OB",IF('Réponse au formulaire 1'!H12="Je bois du jus de fruit (Bacchus troué : -5€/soir)","BT"," ")) | G12: ='Réponse au formulaire 1'!I12 | H12: ='Réponse au formulaire 1'!J12
A13: ='Réponse au formulaire 1'!C13 | B13: ='Réponse au formulaire 1'!D13 | C13: =IF('Réponse au formulaire 1'!E13="Extraterrestre (Faluchard·e)","Faluchard·e",IF('Réponse au formulaire 1'!E13="Insecte (Impétrant·e)","Impétrant·e",IF('Réponse au formulaire 1'!E13="Humain (Sympathisant·e)","Sympathisant·e",IF('Réponse au formulaire 1'!E13="Objet (Autre folklore)","Autre folkore"," " )))) | D13: =IF('Réponse au formulaire 1'!F13="Les 2 saisons en entier","2 soirs",IF(ISBLANK('Réponse au formulaire 1'!F13)," ","1 soir")) | E13: =IF('Réponse au formulaire 1'!G13="Tant que ça se mange je prends (Omnivore)","Tout",IF('Réponse au formulaire 1'!G13="Les carottes c'est sympa (Végétarien)","VG",IF('Réponse au formulaire 1'!G13="Je préfère le poulet (Sans porc)","Sans porc"," "))) | F13: =IF('Réponse au formulaire 1'!H13="Je bois de l'alcool","OB",IF('Réponse au formulaire 1'!H13="Je bois du jus de fruit (Bacchus troué : -5€/soir)","BT"," ")) | G13: ='Réponse au formulaire 1'!I13 | H13: ='Réponse au formulaire 1'!J13
... A736: ='Réponse au formulaire 1'!C736 | B736: ='Réponse au formulaire 1'!D736 | C736: =IF('Réponse au formulaire 1'!E736="Extraterrestre (Faluchard·e)","Faluchard·e",IF('Réponse au formulaire 1'!E736="Insecte (Impétrant·e)","Impétrant·e",IF('Réponse au formulaire 1'!E736="Humain (Sympathisant·e)","Sympathisant·e",IF('Réponse au formulaire 1'!E736="Objet (Autre folklore)","Autre folkore"," " )))) | D736: =IF('Réponse au formulaire 1'!F736="Les 2 saisons en entier","2 soirs",IF(ISBLANK('Réponse au formulaire 1'!F736)," ","1 soir")) | E736: =IF('Réponse au formulaire 1'!G736="Tant que ça se mange je prends (Omnivore)","Tout",IF('Réponse au formulaire 1'!G736="Les carottes c'est sympa (Végétarien)","VG",IF('Réponse au formulaire 1'!G736="Je préfère le poulet (Sans porc)","Sans porc"," "))) | F736: =IF('Réponse au formulaire 1'!H736="Je bois de l'alcool","OB",IF('Réponse au formulaire 1'!H736="Je bois du jus de fruit (Bacchus troué : -5€/soir)","BT"," ")) | G736: ='Réponse au formulaire 1'!I736 | H736: ='Réponse au formulaire 1'!J736
