Workbook

Sheet Proposition
F1: Référence devis: | H1: D.00.00
F5: NOM
F6: Adresse
F7: Adresse
A13: TITRE
A14: sous titre
A19: Ventillation des honoraires
B22: Eléments de mission | C22: Répartition % | D22: Montant HT | F22: TVA | G22: 0.2 | H22: Montant TTC
A24: 0 | B24: Constitution du dossier | C24: 0.05 | D24: =D30*C24 -> 5000 | F24: =D24*G22 -> 1000 | H24: =D24+F24 -> 6000
A25: 1 | B25: Visa des éléments transmis | C25: 0.2 | D25: =C25*D30 -> 20000 | F25: =D25*G22 -> 4000 | H25: =D25+F25 -> 24000
A26: 2 | B26: Modélisation des éléments | C26: 0.35 | D26: =C26*D30 -> 35000 | F26: =D26*G22 -> 7000 | H26: =D26+F26 -> 42000
A27: 3 | B27: Intégration des éléments | C27: 0.35 | D27: =C27*D30 -> 35000 | F27: =D27*G22 -> 7000 | H27: =D27+F27 -> 42000
A28: 4 | B28: DOE | C28: 0.05 | D28: =C28*D30 -> 5000 | F28: =D28*G22 -> 1000 | H28: =D28+F28 -> 6000
B30: TOTAL | C30: =SUM(C24:C29) -> 1 | D30: 100000 | F30: =SUM(F24:G28) -> 20000 | H30: =SUM(H24:H28) -> 120000
A33: Conditions de règlement | D33: Montant HT | F33: TVA | G33: =G22 -> 0.2 | H33: Montant TTC
A35: Constitution du dossier | C35: 0 | D35: =D24*C35 -> 0 | F35: =D35*K22 -> 0 | H35: =SUM(D35:F35) -> 0
A36: Visa des éléments transmis | C36: 0 | D36: =D25*C36 -> 0 | F36: =D36*K23 -> 0 | H36: =SUM(D36:G36) -> 0
A37: Modélisation des éléments | C37: 0 | D37: =D26*C37 -> 0 | F37: =D37*K24 -> 0 | H37: =SUM(D37:G37) -> 0
A38: Intégration des éléments | C38: 0 | D38: =D27*C38 -> 0 | F38: =D38*K25 -> 0 | H38: =SUM(D38:G38) -> 0
A39: DOE | C39: 0 | D39: =D28*C39 -> 0 | F39: =D39*K26 -> 0 | H39: =SUM(D39:G39) -> 0

Sheet Honoraires n°1
I7: Référence devis: | J7: =Proposition!$H$1 -> D.00.00
I8: Référence facture:
I11: =Proposition!F5 -> NOM
I12: =Proposition!F6 -> Adresse
I13: =Proposition!F7 -> Adresse
A19: =Proposition!$A$13 -> TITRE
A22: =Proposition!A14 -> sous titre
A25: Note d'honoraires n°1
D31: Pourcentage | E31: Montant HT | G31: TVA | H31: =Proposition!G22 -> 0.2 | I31: Montant TTC
B33: =Proposition!A35 -> Constitution du dossier | D33: 1 | E33: =D33*Proposition!D24 -> 5000 | G33: =E33*$H$31 -> 1000 | I33: =SUM(E33:G33) -> 6000
B34: =Proposition!A36 -> Visa des éléments transmis | D34: 0.2 | E34: =D34*Proposition!D25 -> 4000 | G34: =E34*$H$31 -> 800 | I34: =SUM(E34:G34) -> 4800
B35: =Proposition!A37 -> Modélisation des éléments | D35: 0 | E35: =D35*Proposition!D26 -> 0 | G35: =E35*$H$31 -> 0 | I35: =SUM(E35:G35) -> 0
B36: =Proposition!B27 -> Intégration des éléments | D36: 0 | E36: =D36*Proposition!D27 -> 0 | G36: =E36*$H$31 -> 0 | I36: =SUM(E36:G36) -> 0
B37: =Proposition!B28 -> DOE | D37: 0 | E37: =D37*Proposition!D28 -> 0 | G37: =E37*$H$31 -> 0 | I37: =SUM(E37:G37) -> 0
B39: Total cumulé | D39: =E39/E42 -> 0.09 | E39: =SUM(E33:F38) -> 9000 | G39: =SUM(G33:H38) -> 1800 | I39: =SUM(I33:I38) -> 10800
B41: Condition de règlement | D41: Pourcentage | E41: Montant HT | G41: TVA | H41: =Proposition!G22 -> 0.2 | I41: Montant TTC
B42: Montant global (Rappel) | E42: =Proposition!D30 -> 100000 | G42: =Proposition!F30 -> 20000 | I42: =Proposition!H30 -> 120000
B43: Cumul des situations précédentes | D43: =0 -> 0 | E43: =0 -> 0 | G43: =0 -> 0 | I43: =0 -> 0
B45: Montant à payer | D45: =E45/E42 -> 0.09 | E45: =E33+E34+E35+E36+E37 -> 9000 | G45: =G33+G34+G35+G36+G37 -> 1800 | I45: =I33+I34+I35+I36+I37 -> 10800
G54: Paiement par virement à réception de la facture
I83: Référence devis: | J83: =Proposition!$H$1 -> D.00.00
I84: Référence facture: | J84: =J8 -> 0
J85: =J9 -> 0
I87: =Proposition!F5 -> NOM
I88: =Proposition!F6 -> Adresse
I89: =Proposition!F7 -> Adresse
A95: =Proposition!$A$13 -> TITRE
A98: =Proposition!A14 -> sous titre
A101: RIB

Sheet Honoraires n°2
I7: ='Honoraires n°1'!I7 -> Référence devis: | J7: =Proposition!$H$1 -> D.00.00
I8: ='Honoraires n°1'!I8 -> Référence facture:
I9: ='Honoraires n°1'!I9 -> 0
I11: =Proposition!F5 -> NOM
I12: =Proposition!F6 -> Adresse
I13: =Proposition!F7 -> Adresse
A19: =Proposition!$A$13 -> TITRE
A22: =Proposition!A14 -> sous titre
A25: Note d'honoraires n°2
D31: ='Honoraires n°1'!D31 -> Pourcentage | E31: ='Honoraires n°1'!E31:F31 -> Montant HT | G31: ='Honoraires n°1'!G31 -> TVA | H31: =Proposition!G22 -> 0.2 | I31: ='Honoraires n°1'!I31 -> Montant TTC
B33: ='Honoraires n°1'!B33:C33 -> Constitution du dossier | D33: 1 | E33: =D33*Proposition!D24 -> 5000 | G33: =E33*$H$31 -> 1000 | I33: =SUM(E33:G33) -> 6000
B34: ='Honoraires n°1'!B34:C34 -> Visa des éléments transmis | D34: 0.2 | E34: =D34*Proposition!D25 -> 4000 | G34: =E34*$H$31 -> 800 | I34: =SUM(E34:G34) -> 4800
B35: ='Honoraires n°1'!B35:C35 -> Modélisation des éléments | D35: 0 | E35: =D35*Proposition!D26 -> 0 | G35: =E35*$H$31 -> 0 | I35: =SUM(E35:G35) -> 0
B36: ='Honoraires n°1'!B36:C36 -> Intégration des éléments | D36: 0 | E36: =D36*Proposition!D27 -> 0 | G36: =E36*$H$31 -> 0 | I36: =SUM(E36:G36) -> 0
B37: ='Honoraires n°1'!B37:C37 -> DOE | D37: 0 | E37: =D37*Proposition!D28 -> 0 | G37: =E37*$H$31 -> 0 | I37: =SUM(E37:G37) -> 0
B39: ='Honoraires n°1'!B39:C39 -> Total cumulé | D39: =E39/E42 -> 0.09 | E39: =SUM(E33:F38) -> 9000 | G39: =SUM(G33:H38) -> 1800 | I39: =SUM(I33:I38) -> 10800
B41: ='Honoraires n°1'!B41:C41 -> Condition de règlement | D41: Pourcentage | E41: Montant HT | G41: TVA | H41: =Proposition!G22 -> 0.2 | I41: Montant TTC
B42: ='Honoraires n°1'!B42:C42 -> Montant global (Rappel) | E42: =Proposition!D30 -> 100000 | G42: =Proposition!F30 -> 20000 | I42: =Proposition!H30 -> 120000
B43: ='Honoraires n°1'!B43:C43 -> Cumul des situations précédentes | D43: =E43/E42 -> 0.09 | E43: ='Honoraires n°1'!E39:F39 -> 9000 | G43: =E43*Proposition!G22 -> 1800 | I43: =E43+G43 -> 10800
B45: ='Honoraires n°1'!B45:C45 -> Montant à payer | D45: =E45/E42 -> 0 | E45: =E39-E43 -> 0 | G45: =E45*Proposition!G22 -> 0 | I45: =E45+G45 -> 0
G54: ='Honoraires n°1'!G54 -> Paiement par virement à réception de la facture
I83: Référence devis: | J83: =Proposition!$H$1 -> D.00.00
I84: Référence facture: | J84: =J8 -> 0
J85: =J9 -> 0
I87: =Proposition!F5 -> NOM
I88: =Proposition!F6 -> Adresse
I89: =Proposition!F7 -> Adresse
A95: =Proposition!$A$13 -> TITRE
A98: =Proposition!A14 -> sous titre
A101: RIB

Sheet Honoraires n°3
I7: ='Honoraires n°1'!I7 -> Référence devis: | J7: =Proposition!$H$1 -> D.00.00
I8: ='Honoraires n°1'!I8 -> Référence facture:
I9: ='Honoraires n°1'!I9 -> 0
I11: =Proposition!F5 -> NOM
I12: =Proposition!F6 -> Adresse
I13: =Proposition!F7 -> Adresse
A19: =Proposition!$A$13 -> TITRE
A22: =Proposition!A14 -> sous titre
A25: Note d'honoraires n°3
D31: ='Honoraires n°1'!D31 -> Pourcentage | E31: ='Honoraires n°1'!E31:F31 -> Montant HT | G31: ='Honoraires n°1'!G31 -> TVA | H31: =Proposition!G22 -> 0.2 | I31: ='Honoraires n°1'!I31 -> Montant TTC
B33: ='Honoraires n°1'!B33:C33 -> Constitution du dossier | D33: 1 | E33: =D33*Proposition!D24 -> 5000 | G33: =E33*$H$31 -> 1000 | I33: =SUM(E33:G33) -> 6000
B34: ='Honoraires n°1'!B34:C34 -> Visa des éléments transmis | D34: 0.2 | E34: =D34*Proposition!D25 -> 4000 | G34: =E34*$H$31 -> 800 | I34: =SUM(E34:G34) -> 4800
B35: ='Honoraires n°1'!B35:C35 -> Modélisation des éléments | D35: 0 | E35: =D35*Proposition!D26 -> 0 | G35: =E35*$H$31 -> 0 | I35: =SUM(E35:G35) -> 0
B36: ='Honoraires n°1'!B36:C36 -> Intégration des éléments | D36: 0 | E36: =D36*Proposition!D27 -> 0 | G36: =E36*$H$31 -> 0 | I36: =SUM(E36:G36) -> 0
B37: ='Honoraires n°1'!B37:C37 -> DOE | D37: 0 | E37: =D37*Proposition!D28 -> 0 | G37: =E37*$H$31 -> 0 | I37: =SUM(E37:G37) -> 0
B39: ='Honoraires n°1'!B39:C39 -> Total cumulé | D39: =E39/E42 -> 0.09 | E39: =SUM(E33:F38) -> 9000 | G39: =SUM(G33:H38) -> 1800 | I39: =SUM(I33:I38) -> 10800
B41: ='Honoraires n°1'!B41:C41 -> Condition de règlement | D41: Pourcentage | E41: Montant HT | G41: TVA | H41: =Proposition!G22 -> 0.2 | I41: Montant TTC
B42: ='Honoraires n°1'!B42:C42 -> Montant global (Rappel) | E42: =Proposition!D30 -> 100000 | G42: =Proposition!F30 -> 20000 | I42: =Proposition!H30 -> 120000
B43: ='Honoraires n°1'!B43:C43 -> Cumul des situations précédentes | D43: =E43/E42 -> 0.09 | E43: ='Honoraires n°2'!E39:F39 -> 9000 | G43: =E43*Proposition!G22 -> 1800 | I43: =E43+G43 -> 10800
B45: ='Honoraires n°1'!B45:C45 -> Montant à payer | D45: =E45/E42 -> 0 | E45: =E39-E43 -> 0 | G45: =E45*Proposition!G22 -> 0 | I45: =E45+G45 -> 0
G54: ='Honoraires n°1'!G54 -> Paiement par virement à réception de la facture
I83: Référence devis: | J83: =Proposition!$H$1 -> D.00.00
I84: Référence facture: | J84: =J8 -> 0
I85: =I9 -> 0 | J85: =J9 -> 0
I87: =Proposition!F5 -> NOM
I88: =Proposition!F6 -> Adresse
I89: =Proposition!F7 -> Adresse
A95: =Proposition!$A$13 -> TITRE
A98: =Proposition!A14 -> sous titre
A101: RIB

Sheet Honoraires n°4
I7: ='Honoraires n°1'!I7 -> Référence devis: | J7: =Proposition!$H$1 -> D.00.00
I8: ='Honoraires n°1'!I8 -> Référence facture:
I9: ='Honoraires n°1'!I9 -> 0
I11: =Proposition!F5 -> NOM
I12: =Proposition!F6 -> Adresse
I13: =Proposition!F7 -> Adresse
A19: =Proposition!$A$13 -> TITRE
A22: =Proposition!A14 -> sous titre
A25: Note d'honoraires n°4
D31: ='Honoraires n°1'!D31 -> Pourcentage | E31: ='Honoraires n°1'!E31:F31 -> Montant HT | G31: ='Honoraires n°1'!G31 -> TVA | H31: =Proposition!G22 -> 0.2 | I31: ='Honoraires n°1'!I31 -> Montant TTC
B33: ='Honoraires n°1'!B33:C33 -> Constitution du dossier | D33: 1 | E33: =D33*Proposition!D24 -> 5000 | G33: =E33*$H$31 -> 1000 | I33: =SUM(E33:G33) -> 6000
B34: ='Honoraires n°1'!B34:C34 -> Visa des éléments transmis | D34: 0.2 | E34: =D34*Proposition!D25 -> 4000 | G34: =E34*$H$31 -> 800 | I34: =SUM(E34:G34) -> 4800
B35: ='Honoraires n°1'!B35:C35 -> Modélisation des éléments | D35: 0 | E35: =D35*Proposition!D26 -> 0 | G35: =E35*$H$31 -> 0 | I35: =SUM(E35:G35) -> 0
B36: ='Honoraires n°1'!B36:C36 -> Intégration des éléments | D36: 0 | E36: =D36*Proposition!D27 -> 0 | G36: =E36*$H$31 -> 0 | I36: =SUM(E36:G36) -> 0
B37: ='Honoraires n°1'!B37:C37 -> DOE | D37: 0 | E37: =D37*Proposition!D28 -> 0 | G37: =E37*$H$31 -> 0 | I37: =SUM(E37:G37) -> 0
B39: ='Honoraires n°1'!B39:C39 -> Total cumulé | D39: =E39/E42 -> 0.09 | E39: =SUM(E33:F38) -> 9000 | G39: =SUM(G33:H38) -> 1800 | I39: =SUM(I33:I38) -> 10800
B41: ='Honoraires n°1'!B41:C41 -> Condition de règlement | D41: Pourcentage | E41: Montant HT | G41: TVA | H41: =Proposition!G22 -> 0.2 | I41: Montant TTC
B42: ='Honoraires n°1'!B42:C42 -> Montant global (Rappel) | E42: =Proposition!D30 -> 100000 | G42: =Proposition!F30 -> 20000 | I42: =Proposition!H30 -> 120000
B43: ='Honoraires n°1'!B43:C43 -> Cumul des situations précédentes | D43: =E43/E42 -> 0.09 | E43: ='Honoraires n°3'!E39:F39 -> 9000 | G43: =E43*Proposition!G22 -> 1800 | I43: =E43+G43 -> 10800
B45: ='Honoraires n°1'!B45:C45 -> Montant à payer | D45: =E45/E42 -> 0 | E45: =E39-E43 -> 0 | G45: =E45*Proposition!G22 -> 0 | I45: =E45+G45 -> 0
G54: ='Honoraires n°1'!G54 -> Paiement par virement à réception de la facture
I83: Référence devis: | J83: =Proposition!$H$1 -> D.00.00
I84: Référence facture: | J84: =J8 -> 0
J85: =J9 -> 0
I87: =Proposition!F5 -> NOM
I88: =Proposition!F6 -> Adresse
I89: =Proposition!F7 -> Adresse
A95: =Proposition!$A$13 -> TITRE
A98: =Proposition!A14 -> sous titre
A101: RIB

Sheet Honoraires n°5
I7: ='Honoraires n°1'!I7 -> Référence devis: | J7: =Proposition!$H$1 -> D.00.00
I8: ='Honoraires n°1'!I8 -> Référence facture:
I9: ='Honoraires n°1'!I9 -> 0
I11: =Proposition!F5 -> NOM
I12: =Proposition!F6 -> Adresse
I13: =Proposition!F7 -> Adresse
A19: =Proposition!$A$13 -> TITRE
A22: =Proposition!A14 -> sous titre
A25: Note d'honoraires n°5
D31: ='Honoraires n°1'!D31 -> Pourcentage | E31: ='Honoraires n°1'!E31:F31 -> Montant HT | G31: ='Honoraires n°1'!G31 -> TVA | H31: =Proposition!G22 -> 0.2 | I31: ='Honoraires n°1'!I31 -> Montant TTC
B33: ='Honoraires n°1'!B33:C33 -> Constitution du dossier | D33: 1 | E33: =D33*Proposition!D24 -> 5000 | G33: =E33*$H$31 -> 1000 | I33: =SUM(E33:G33) -> 6000
B34: ='Honoraires n°1'!B34:C34 -> Visa des éléments transmis | D34: 0.2 | E34: =D34*Proposition!D25 -> 4000 | G34: =E34*$H$31 -> 800 | I34: =SUM(E34:G34) -> 4800
B35: ='Honoraires n°1'!B35:C35 -> Modélisation des éléments | D35: 0 | E35: =D35*Proposition!D26 -> 0 | G35: =E35*$H$31 -> 0 | I35: =SUM(E35:G35) -> 0
B36: ='Honoraires n°1'!B36:C36 -> Intégration des éléments | D36: 0 | E36: =D36*Proposition!D27 -> 0 | G36: =E36*$H$31 -> 0 | I36: =SUM(E36:G36) -> 0
B37: ='Honoraires n°1'!B37:C37 -> DOE | D37: 0 | E37: =D37*Proposition!D28 -> 0 | G37: =E37*$H$31 -> 0 | I37: =SUM(E37:G37) -> 0
B39: ='Honoraires n°1'!B39:C39 -> Total cumulé | D39: =E39/E42 -> 0.09 | E39: =SUM(E33:F38) -> 9000 | G39: =SUM(G33:H38) -> 1800 | I39: =SUM(I33:I38) -> 10800
B41: ='Honoraires n°1'!B41:C41 -> Condition de règlement | D41: Pourcentage | E41: Montant HT | G41: TVA | H41: =Proposition!G22 -> 0.2 | I41: Montant TTC
B42: ='Honoraires n°1'!B42:C42 -> Montant global (Rappel) | E42: =Proposition!D30 -> 100000 | G42: =Proposition!F30 -> 20000 | I42: =Proposition!H30 -> 120000
B43: ='Honoraires n°1'!B43:C43 -> Cumul des situations précédentes | D43: =E43/E42 -> 0.09 | E43: ='Honoraires n°4'!E39:F39 -> 9000 | G43: =E43*Proposition!G22 -> 1800 | I43: =E43+G43 -> 10800
B45: ='Honoraires n°1'!B45:C45 -> Montant à payer | D45: =E45/E42 -> 0 | E45: =E39-E43 -> 0 | G45: =E45*Proposition!G22 -> 0 | I45: =E45+G45 -> 0
G54: ='Honoraires n°1'!G54 -> Paiement par virement à réception de la facture
I83: Référence devis: | J83: =Proposition!$H$1 -> D.00.00
I84: Référence facture: | J84: =J8 -> 0
J85: =J9 -> 0
I87: =Proposition!F5 -> NOM
I88: =Proposition!F6 -> Adresse
I89: =Proposition!F7 -> Adresse
A95: =Proposition!$A$13 -> TITRE
A98: =Proposition!A14 -> sous titre
A101: RIB
