Workbook

Sheet employés
B3: Nom Prénom | C3: Heures Contrat | D3: Actif
B4: EA Samnang | C4: 1.625 | D4: oui
B5: LIM Sidaneth | C5: 1.625 | D5: oui
B6: PEYRAFORT Quentin | C6: 1.625 | D6: oui

Sheet Suivi Heures
B3: Date | C3: Nom | D3: Heures
B4: 43941 | C4: EA Samnang | D4: 0.25
B5: 43942 | C5: EA Samnang | D5: 0.33333333
B6: 43943 | C6: EA Samnang | D6: 0.33333333
B7: 43944 | C7: EA Samnang | D7: 0.33333333
B8: 43945 | C8: EA Samnang | D8: 0.33333333
B9: 43941 | C9: LIM Sidaneth | D9: 0.33333333
B10: 43942 | C10: LIM Sidaneth | D10: 0.33333333
B11: 43943 | C11: LIM Sidaneth | D11: 0.33333333
B12: 43944 | C12: LIM Sidaneth | D12: 0.33333333
B13: 43945 | C13: LIM Sidaneth | D13: 0.33333333
B14: 43941 | C14: PEYRAFOT Quentin | D14: 0.33333333
B15: 43942 | C15: PEYRAFOT Quentin | D15: 0.33333333
... B19: 43976 | C19: PEYRAFOT Quentin | D19: 0.041666667

Sheet Heures
E2: ="SEMAINE "&WEEKNUM(K4,11)&" -"&YEAR(K4) -> SEMAINE 17 -2020
E3: Lundi | F3: Mardi | G3: Mercredi | H3: Jeudi | I3: Vendredi | J3: Samedi | K3: Dimanche
E4: 43941 | F4: =E4+1 -> 43942 | G4: =F4+1 -> 43943 | H4: =G4+1 -> 43944 | I4: =H4+1 -> 43945 | J4: =I4+1 -> 43946 | K4: =J4+1 -> 43947
D5: Actif | E5: (Tous)
D7: EA Samnang | E7: {=IFERROR(INDEX(Tableau3[Heures],MATCH(1,(Tableau3[Nom]=Heures!$D7)*(Tableau3[Date]=Heures!E$4),0)),"")} -> 0.25 | F7: {=IFERROR(INDEX(Tableau3[Date],MATCH(1,(Tableau3[Heures]=Heures!$D7)*(Tableau3[Nom]=Heures!F$4),0)),"")} | G7: {=IFERROR(INDEX(Tableau3[Date],MATCH(1,(Tableau3[Heures]=Heures!$D7)*(Tableau3[Nom]=Heures!G$4),0)),"")} | H7: {=IFERROR(INDEX(Tableau3[Heures],MATCH(1,(Tableau3[Nom]=Heures!$D7)*(Tableau3[Date]=Heures!H$4),0)),"")} -> 0.33333333 | I7: {=IFERROR(INDEX(Tableau3[Date],MATCH(1,(Tableau3[Heures]=Heures!$D7)*(Tableau3[Nom]=Heures!I$4),0)),"")} | J7: {=IFERROR(INDEX(Tableau3[Nom],MATCH(1,(Tableau3[Date]=Heures!$D7)*(Tableau3[Heures]=Heures!J$4),0)),"")} | K7: {=IFERROR(INDEX(Tableau3[Heures],MATCH(1,(Tableau3[Nom]=Heures!$D7)*(Tableau3[Date]=Heures!K$4),0)),"")}
D8: LIM Sidaneth | E8: {=IFERROR(INDEX(Tableau3[Heures],MATCH(1,(Tableau3[Nom]=Heures!$D8)*(Tableau3[Date]=Heures!E$4),0)),"")} -> 0.33333333 | F8: {=IFERROR(INDEX(Tableau3[Date],MATCH(1,(Tableau3[Heures]=Heures!$D8)*(Tableau3[Nom]=Heures!F$4),0)),"")} | G8: {=IFERROR(INDEX(Tableau3[Nom],MATCH(1,(Tableau3[Date]=Heures!$D8)*(Tableau3[Heures]=Heures!G$4),0)),"")} | H8: {=IFERROR(INDEX(Tableau3[Heures],MATCH(1,(Tableau3[Nom]=Heures!$D8)*(Tableau3[Date]=Heures!H$4),0)),"")} -> 0.33333333 | I8: {=IFERROR(INDEX(Tableau3[Date],MATCH(1,(Tableau3[Heures]=Heures!$D8)*(Tableau3[Nom]=Heures!I$4),0)),"")} | J8: {=IFERROR(INDEX(Tableau3[Nom],MATCH(1,(Tableau3[Date]=Heures!$D8)*(Tableau3[Heures]=Heures!J$4),0)),"")} | K8: {=IFERROR(INDEX(Tableau3[Heures],MATCH(1,(Tableau3[Nom]=Heures!$D8)*(Tableau3[Date]=Heures!K$4),0)),"")}
D9: PEYRAFORT Quentin | E9: {=IFERROR(INDEX(Tableau3[Heures],MATCH(1,(Tableau3[Nom]=Heures!$D9)*(Tableau3[Date]=Heures!E$4),0)),"")} | F9: {=IFERROR(INDEX(Tableau3[Date],MATCH(1,(Tableau3[Heures]=Heures!$D9)*(Tableau3[Nom]=Heures!F$4),0)),"")} | G9: {=IFERROR(INDEX(Tableau3[Nom],MATCH(1,(Tableau3[Date]=Heures!$D9)*(Tableau3[Heures]=Heures!G$4),0)),"")} | H9: {=IFERROR(INDEX(Tableau3[Heures],MATCH(1,(Tableau3[Nom]=Heures!$D9)*(Tableau3[Date]=Heures!H$4),0)),"")} | I9: {=IFERROR(INDEX(Tableau3[Date],MATCH(1,(Tableau3[Heures]=Heures!$D9)*(Tableau3[Nom]=Heures!I$4),0)),"")} | J9: {=IFERROR(INDEX(Tableau3[Nom],MATCH(1,(Tableau3[Date]=Heures!$D9)*(Tableau3[Heures]=Heures!J$4),0)),"")} | K9: {=IFERROR(INDEX(Tableau3[Heures],MATCH(1,(Tableau3[Nom]=Heures!$D9)*(Tableau3[Date]=Heures!K$4),0)),"")}
