Workbook
Name acasc: [2]dimension!$C$138:$C$142
Name Allégation: [1]!Tableau1[Allégation]
Name Allergene: [3]!Tableau1[Allergene]
Name Allergene: [1]!Tableau1[Allergene]
Name autre: [2]dimension!$C$73:$C$79
Name base_ligne: Liste!$Z$4:$AA$77
Name bio: [2]dimension!$C$59:$C$64
Name Brix: [2]dimension!$A$127:$A$153
Name cb: [2]dimension!$C$133:$C$139
Name Chaudron: [1]!Tableau1[Chaudron]
Name Classification: [3]!Tableau1[Classification]
Name Classification: [1]!Tableau1[Classification]
Name conditionnement: [2]dimension!$A$78:$A$85
Name cycle: [2]dimension!$A$86:$A$88
Name Dénomination: [1]!Tableau1[Dénomination]
Name DLUO: [1]!Tableau1[DLUO]
Name echant: [2]dimension!$J$168:$J$190
Name emboitage: prelevement
Name entrepot: [2]dimension!$C$103:$C$125
Name explosion: [2]dimension!$C$127:$C$129
Name Filmage: [1]!Tableau1[Filmage]
Name Filtre: [3]!Tableau1[Filtre]
Name Filtre: [1]!Tableau1[Filtre]
Name Format: [1]!Tableau1[Format]
Name Garantie_entrepôt: [1]!Tableau1[DLUO Garantie]
Name incorporation: [2]dimension!$A$160:$A$175
Name infor: [2]dimension!$A$203:$A$211
Name Informations: [3]!Tableau1[Informations Spécifiques]
Name Informations: [1]!Tableau1[Informations Spécifiques]
Name Intercalaire: [1]!Tableau1[Intercalaire]
Name Ligne: [1]!Tableau1[Ligne]
Name Lisseur: [3]!Tableau1[Lisseur]
Name Lisseur: [1]!Tableau1[Lisseur]
Name Marché: [1]dimension!$D$2:$D$38
Name Marquage: [1]!Tableau1[Marquage]
Name Nettoyage: [3]!Tableau1[Nettoyage]
Name Nettoyage: [1]!Tableau1[Nettoyage]
Name numerorecette: [2]dimension!$C$171:$C$182
Name oui: [2]dimension!$B$63:$B$65
Name ouinon: [1]dimension!$A$2:$A$3
Name pack: [2]dimension!$A$66:$A$77
Name Palettisation: [1]Palettisation!$1:$1048576
Name ph: [2]dimension!$J$88:$J$93
Name Poids: [1]!Tableau1[Poids]
Name pomme: [2]dimension!$C$162:$C$168
Name prelevement: [2]dimension!$J$169:$J$181
Name Prélèvement: [1]!Tableau1[Prélèvement]
Name Recette: [1]!Tableau1[Recette]
Name Stockage: [1]dimension!$B$2:$B$3
Name sucre: [2]dimension!$E$65:$E$71
Name T°C: [2]dimension!$H$172:$H$175
Name Température: [1]!Tableau1[Température]
Name Texture: [1]!Tableau1[Texture]
Name Trémie: [1]!Tableau1[Trémie]
Name Utilisationpomme: [3]!Tableau1[Utilisation Pomme]
Name Utilisationpomme: [1]!Tableau1[Utilisation Pomme]

Sheet Modèle
B1: Fichier Récap
A6: Chien | E6: Cheval | I6: Oiseau
B7: min | C7: max | F7: min | G7: max | I7: Cible | J7: min | K7: max
B8: =INDEX(INDIRECT(Liste!$F$6),$B$10+2,$B$11+1) -> 12 | C8: =INDEX(INDIRECT(Liste!$F$6),$B$10+2,$B$11+2) -> 65 | E8: z | F8: =INDEX(INDIRECT(Liste!$F$6),$F$12+2,$F$13+1) -> 3 | G8: =INDEX(INDIRECT(Liste!$F$6),$F$12+2,$F$13+2) -> 8 | I8: =INDEX(INDIRECT(Liste!$F$6),$J$10+2,$J$11) -> 400 | J8: =INDEX(INDIRECT(Liste!$F$6),$J$10+2,$J$11+1) -> 245 | K8: =INDEX(INDIRECT(Liste!$F$6),$J$10+2,$J$11+2) -> 896
A10: ligne | B10: =IFERROR(MATCH(A6,INDIRECT(Liste!$I$10),0),IFERROR(MATCH(A6,INDIRECT(Liste!$I$11),0),IFERROR(MATCH(A6,INDIRECT(Liste!$I$12),0),IFERROR(MATCH(A6,INDIRECT(Liste!$I$13),0),IFERROR(MATCH(A6,INDIRECT(Liste!$I$14),0),IFERROR(MATCH(A6,INDIRECT(Liste!$I$15),0),IFERROR(MATCH(A6,INDIRECT(Liste!$I$16),0),IFERROR(MATCH(A6,INDIRECT(Liste!$I$17),0),IFERROR(MATCH(A6,INDIRECT(Liste!$I$18),0),"Erreur"))))))))) -> 43 | E10: y | F10: =INDEX(INDIRECT(Liste!$F$6),$F$12+4,$F$13+1) -> 100 | G10: =INDEX(INDIRECT(Liste!$F$6),$F$12+4,$F$13+2) -> 200 | I10: ligne | J10: =IFERROR(MATCH(I6,INDIRECT(Liste!$I$10),0),IFERROR(MATCH(I6,INDIRECT(Liste!$I$11),0),IFERROR(MATCH(I6,INDIRECT(Liste!$I$12),0),IFERROR(MATCH(I6,INDIRECT(Liste!$I$13),0),IFERROR(MATCH(I6,INDIRECT(Liste!$I$14),0),IFERROR(MATCH(I6,INDIRECT(Liste!$I$15),0),IFERROR(MATCH(I6,INDIRECT(Liste!$I$16),0),IFERROR(MATCH(I6,INDIRECT(Liste!$I$17),0),IFERROR(MATCH(I6,INDIRECT(Liste!$I$18),0),"Erreur"))))))))) -> 57
A11: colonne | B11: =MATCH(A6,INDIRECT(Liste!F10),0) -> 8 | I11: colonne | J11: =MATCH(I6,INDIRECT(Liste!F12),0) -> 8
E12: ligne | F12: =IFERROR(MATCH(E6,INDIRECT(Liste!I10),0),IFERROR(MATCH(E6,INDIRECT(Liste!I11),0),IFERROR(MATCH(E6,INDIRECT(Liste!I12),0),IFERROR(MATCH(E6,INDIRECT(Liste!I13),0),IFERROR(MATCH(E6,INDIRECT(Liste!I14),0),IFERROR(MATCH(E6,INDIRECT(Liste!I15),0),IFERROR(MATCH(E6,INDIRECT(Liste!I16),0),IFERROR(MATCH(E6,INDIRECT(Liste!I17),0),IFERROR(MATCH(E6,INDIRECT(Liste!I18),0),"Erreur"))))))))) -> 49
E13: colonne | F13: =MATCH(E6,INDIRECT(Liste!F11),0) -> 8
A15: Poulet | E15: Chat
B16: à FROID | E16: cible | F16: min | G16: max
A17: cible | B17: =INDEX(INDIRECT(Liste!$F$6),$B$20+2,$B$21+1) -> 45 | E17: =INDEX(INDIRECT(Liste!$F$6),$F$19+2,$F$20) -> 34 | F17: =INDEX(INDIRECT(Liste!$F$6),$F$19+2,$F$20+1) -> 32 | G17: =INDEX(INDIRECT(Liste!$F$6),$F$19+2,$F$20+2) -> 36
A18: min | B18: =INDEX(INDIRECT(Liste!$F$6),$B$20+4,$B$21+1) -> 23
A19: max | B19: =INDEX(INDIRECT(Liste!$F$6),$B$20+6,$B$21+1) -> 56 | E19: ligne | F19: =IFERROR(MATCH(E15,INDIRECT(Liste!$I$10),0),IFERROR(MATCH(E15,INDIRECT(Liste!$I$11),0),IFERROR(MATCH(E15,INDIRECT(Liste!$I$12),0),IFERROR(MATCH(E15,INDIRECT(Liste!$I$13),0),IFERROR(MATCH(E15,INDIRECT(Liste!$I$14),0),IFERROR(MATCH(E15,INDIRECT(Liste!$I$15),0),IFERROR(MATCH(E15,INDIRECT(Liste!$I$16),0),IFERROR(MATCH(E15,INDIRECT(Liste!$I$17),0),IFERROR(MATCH(E15,INDIRECT(Liste!$I$18),0),"Erreur"))))))))) -> 73
A20: ligne | B20: =IFERROR(MATCH(A15,INDIRECT(Liste!$I$10),0),IFERROR(MATCH(A15,INDIRECT(Liste!$I$11),0),IFERROR(MATCH(A15,INDIRECT(Liste!$I$12),0),IFERROR(MATCH(A15,INDIRECT(Liste!$I$13),0),IFERROR(MATCH(A15,INDIRECT(Liste!$I$14),0),IFERROR(MATCH(A15,INDIRECT(Liste!$I$15),0),IFERROR(MATCH(A15,INDIRECT(Liste!$I$16),0),IFERROR(MATCH(A15,INDIRECT(Liste!$I$17),0),IFERROR(MATCH(A15,INDIRECT(Liste!$I$18),0),"Erreur"))))))))) -> 63 | E20: colonne | F20: =MATCH(E15,INDIRECT(Liste!F14),0) -> 8
A21: colonne | B21: =MATCH(A15,INDIRECT(Liste!F13),0) -> 8

Sheet Liste
B1: Exemple Fichier base.xlsx | C1: ExFeuille
E5: =IF(D5="","",D5) | F5: Tableau général des recherches
F6: =CONCATENATE("'[",$B$1,"]","",$C$1,"'!",G6) -> '[Exemple Fichier base.xlsx]ExFeuille'!$a$1:$s$200 | G6: $a$1:$s$200
F8: Tableau Recherches Paramètres Qualité
F9: Ligne | H9: Colonne
E10: Chien | F10: =CONCATENATE("'[",$B$1,"]","",$C$1,"'!",G10) -> '[Exemple Fichier base.xlsx]ExFeuille'!$a$43:$i$43 | G10: =CONCATENATE("$a$",Modèle!B10,":$i$",Modèle!B10) -> $a$43:$i$43 | H10: $d$1:$d$200 | I10: =CONCATENATE("'[",$B$1,"]","",$C$1,"'!",H10) -> '[Exemple Fichier base.xlsx]ExFeuille'!$d$1:$d$200
C11: =IF(B11="","",B11) | E11: Cheval | F11: =CONCATENATE("'[",$B$1,"]","",$C$1,"'!",G11) -> '[Exemple Fichier base.xlsx]ExFeuille'!$a$49:$i$49 | G11: =CONCATENATE("$a$",Modèle!F12,":$i$",Modèle!F12) -> $a$49:$i$49 | H11: $e$1:$e$200 | I11: =CONCATENATE("'[",$B$1,"]","",$C$1,"'!",H11) -> '[Exemple Fichier base.xlsx]ExFeuille'!$e$1:$e$200
E12: Oiseau | F12: =CONCATENATE("'[",$B$1,"]","",$C$1,"'!",G12) -> '[Exemple Fichier base.xlsx]ExFeuille'!$a$57:$i$57 | G12: =CONCATENATE("$a$",Modèle!J10,":$i$",Modèle!J10) -> $a$57:$i$57 | H12: $f$1:$f$200 | I12: =CONCATENATE("'[",$B$1,"]","",$C$1,"'!",H12) -> '[Exemple Fichier base.xlsx]ExFeuille'!$f$1:$f$200
E13: Poulet | F13: =CONCATENATE("'[",$B$1,"]","",$C$1,"'!",G13) -> '[Exemple Fichier base.xlsx]ExFeuille'!$a$63:$i$63 | G13: =CONCATENATE("$a$",Modèle!B20,":$i$",Modèle!B20) -> $a$63:$i$63 | H13: $g$1:$g$200 | I13: =CONCATENATE("'[",$B$1,"]","",$C$1,"'!",H13) -> '[Exemple Fichier base.xlsx]ExFeuille'!$g$1:$g$200
B14: =IF(A14="","",A14) | E14: Chat | F14: =CONCATENATE("'[",$B$1,"]","",$C$1,"'!",G14) -> '[Exemple Fichier base.xlsx]ExFeuille'!$a$73:$i$73 | G14: =CONCATENATE("$a$",Modèle!F19,":$i$",Modèle!F19) -> $a$73:$i$73 | H14: $h$1:$h$200 | I14: =CONCATENATE("'[",$B$1,"]","",$C$1,"'!",H14) -> '[Exemple Fichier base.xlsx]ExFeuille'!$h$1:$h$200
B15: =IF(A15="","",A15) | H15: $i$1:$i$200 | I15: =CONCATENATE("'[",$B$1,"]","",$C$1,"'!",H15) -> '[Exemple Fichier base.xlsx]ExFeuille'!$i$1:$i$200
B16: =IF(A16="","",A16) | H16: $j$1:$j$200 | I16: =CONCATENATE("'[",$B$1,"]","",$C$1,"'!",H16) -> '[Exemple Fichier base.xlsx]ExFeuille'!$j$1:$j$200
B17: =IF(A17="","",A17) | H17: $k$1:$k$200 | I17: =CONCATENATE("'[",$B$1,"]","",$C$1,"'!",H17) -> '[Exemple Fichier base.xlsx]ExFeuille'!$k$1:$k$200
B18: =IF(A18="","",A18) | H18: $l$1:$l$200 | I18: =CONCATENATE("'[",$B$1,"]","",$C$1,"'!",H18) -> '[Exemple Fichier base.xlsx]ExFeuille'!$l$1:$l$200
B19: =IF(A19="","",A19)
B20: =IF(A20="","",A20)
B21: =IF(A21="","",A21)
B22: =IF(A22="","",A22)
B23: =IF(A23="","",A23)
B24: =IF(A24="","",A24)
B25: =IF(A25="","",A25)
B26: =IF(A26="","",A26)
B27: =IF(A27="","",A27)
