Workbook
Name août: 'données '!$I$3:$I$9
Name avril: 'données '!$E$3:$E$10
Name CibleMois: 'données '!$B$2:$M$2
Name décembre: 'données '!$M$3
Name février: 'données '!$C$3:$C$5
Name janvier: 'données '!$B$3:$B$4
Name juillet: 'données '!$H$3:$H$8
Name juin: 'données '!$G$3:$G$12
Name legumes: OFFSET('données '!XFD$3,,,COUNTA('données '!XFD:XFD)-1)
Name mai: 'données '!$F$3:$F$13
Name mars: 'données '!$D$3:$D$9
Name novembre: 'données '!$L$3:$L$5
Name octobre: 'données '!$K$3:$K$6
Name septembre: 'données '!$J$3:$J$9

Sheet Feuil1
B2: CULTURE | C2: DENSITÉ (POUSSES / M²) | D2: SURFACE À SEMER EN M² | E2: QUANTITÉ DE SEMENCES À ACHETER | F2: POIDS DE SEMENCES EN T
B3: AIL D'AUTOMNE | C3: 15 | D3: 5000 | E3: =C3*D3 -> 75000 | F3: =E3*0.00001 -> 0.75
B4: AIL D'HIVER | C4: 15 | D4: 5000 | E4: =C4*D4 -> 75000 | F4: =E4*0.00001 -> 0.75
B5: AUBERGINE | C5: 2 | D5: 5000 | E5: =C5*D5 -> 10000 | F5: =E5*0.00001 -> 0.1
B6: CAROTTE | C6: 160 | D6: 5000 | E6: =C6*D6 -> 800000 | F6: =E6*0.00001 -> 8
B7: CÉLERI-RAVE | C7: 8 | D7: 5000 | E7: =C7*D7 -> 40000 | F7: =E7*0.00001 -> 0.4
B8: CHOU BROCOLI | C8: 3 | D8: 5000 | E8: =C8*D8 -> 15000 | F8: =E8*0.00001 -> 0.15
B9: CHOU DE BRUXELLES | C9: 4 | D9: 5000 | E9: =C9*D9 -> 20000 | F9: =E9*0.00001 -> 0.2
B10: CHOU FLEUR | C10: 3 | D10: 5000 | E10: =C10*D10 -> 15000 | F10: =E10*0.00001 -> 0.15
B11: CORNICHON | C11: 3 | D11: 5000 | E11: =C11*D11 -> 15000 | F11: =E11*0.00001 -> 0.15
B12: COURGETTE | C12: 2 | D12: 5000 | E12: =C12*D12 -> 10000 | F12: =E12*0.00001 -> 0.1
B13: ÉPINARD D'HIVER | C13: 400 | D13: 5000 | E13: =C13*D13 -> 2000000 | F13: =E13*0.00001 -> 20
B14: ÉPINARD DE PRIMTEMPS | C14: 400 | D14: 5000 | E14: =C14*D14 -> 2000000 | F14: =E14*0.00001 -> 20
... B22: RADIS | C22: 360 | D22: 5000 | E22: =C22*D22 -> 1800000 | F22: =E22*0.00001 -> 18

Sheet culture 
B4: MOIS | C4: JANVIER
B6: CULTURE POSSIBLE | C6: {=OFFSET('données '!A1,2,MATCH('culture '!$C$4,CibleMois,0),COUNTA(legumes))} -> AIL D'HIVER
C7: {=OFFSET('données '!A2,2,MATCH('culture '!$C$4,CibleMois,0),COUNTA(legumes))} -> POIREAU | D7: 0
C8: {=OFFSET('données '!A3,2,MATCH('culture '!$C$4,CibleMois,0),COUNTA(legumes))} -> 0
C9: {=OFFSET('données '!A4,2,MATCH('culture '!$C$4,CibleMois,0),COUNTA(legumes))} -> 0
C10: {=OFFSET('données '!A5,2,MATCH('culture '!$C$4,CibleMois,0),COUNTA(legumes))} -> 0
C11: {=OFFSET('données '!A6,2,MATCH('culture '!$C$4,CibleMois,0),COUNTA(legumes))} -> 0
C12: {=OFFSET('données '!A7,2,MATCH('culture '!$C$4,CibleMois,0),COUNTA(legumes))} -> 0
C13: {=OFFSET('données '!A8,2,MATCH('culture '!$C$4,CibleMois,0),COUNTA(legumes))} -> 0
C14: {=OFFSET('données '!A9,2,MATCH('culture '!$C$4,CibleMois,0),COUNTA(legumes))} -> 0
C15: {=OFFSET('données '!A10,2,MATCH('culture '!$C$4,CibleMois,0),COUNTA(legumes))} -> 0
C16: {=OFFSET('données '!A11,2,MATCH('culture '!$C$4,CibleMois,0),COUNTA(legumes))} -> 0
C17: {=OFFSET('données '!A12,2,MATCH('culture '!$C$4,CibleMois,0),COUNTA(legumes))} -> 0
C18: {=OFFSET('données '!A13,2,MATCH('culture '!$C$4,CibleMois,0),COUNTA(legumes))} -> 0
C19: {=OFFSET('données '!A14,2,MATCH('culture '!$C$4,CibleMois,0),COUNTA(legumes))} -> 0
... C26: {=OFFSET('données '!A21,2,MATCH('culture '!$C$4,CibleMois,0),COUNTA(legumes))} -> 0

Sheet données 
B2: JANVIER | C2: FÉVRIER | D2: MARS | E2: AVRIL | F2: MAI | G2: JUIN | H2: JUILLET | I2: AOÛT | J2: SEPTEMBRE | K2: OCTOBRE | L2: NOVEMBRE | M2: DÉCEMBRE
B3: AIL D'HIVER | C3: AIL D'HIVER | D3: CAROTTE | E3: CAROTTE | F3: AUBERGINE | G3: CAROTTE | H3: CHOU BROCOLI | I3: CHOU BROCOLI | J3: CHOU BROCOLI | K3: AIL D'AUTOMNE | L3: AIL D'AUTOMNE | M3: MACHE
B4: POIREAU | C4: POIREAU | D4: ÉPINARD DE PRINTEMPS | E4: CORNICHON | F4: CAROTTE | G4: CéLERI-RAVE | H4: CHOU FLEUR | I4: CHOU FLEUR | J4: CHOU FLEUR | K4: MACHE | L4: MACHE
C5: RADIS | D5: LAITUE | E5: ÉPINARD DE PRINTEMPS | F5: CÉLERI-RAVE | G5: CHOU BROCOLI | H5: FRAISE | I5: ÉPINARD D'HIVER | J5: ÉPINARD D'HIVER | K5: NAVET | L5: NAVET
D6: NAVET | E6: HARICOT VERT | F6: CHOU DE BRUXELLES | G6: CHOU DE BRUXELLES | H6: HARICOT VERT | I6: HARICOT VERT | J6: HARICOT VERT | K6: RADIS
D7: PANAIS | E7: NAVET | F7: CORNICHON | G7: CHOU FLEUR | H7: PANAIS | I7: LAITUE | J7: LAITUE
D8: POIREAU | E8: PANAIS | F8: COURGETTE | G8: FRAISE | H8: POIREAU | I8: NAVET | J8: MACHE
D9: RADIS | E9: POIREAU | F9: HARICOT VERT | G9: HARICOT VERT | I9: POIREAU | J9: RADIS
E10: RADIS | F10: LAITUE | G10: MELON
F11: MELON | G11: PANAIS
F12: PANAIS | G12: POIREAU
F13: POIREAU

Sheet Feuil2
C1: SEMI / POUSSE | H1: TEMPÉRATURE | J1: RÉCOLTE | M1: CONSERVATION DANS PALOX | N1: CONSERVATION DANS EMBALAGE | O1: MODE DE CONSERVATION
B2: TYPE DE CULTURE | C2: PRÉPARATION DES PLANTS | D2: SEMIS | E2: DENSITÉ | F2: DURÉE DE POUSSE | G2: IRRIGATION | H2: ZÉRO VÉGÉTATIF | I2: TEMPÉRATURES OPTIMALES | J2: DURÉE DE RÉCOLTE | K2: MODE DE RÉCOLTE | L2: RENDEMENT DE BASE
A3: AIL D'AUTOMNE | B3: Pleine Terre | C3: Pas de préparation de plants | D3: Du 1er Octobre au 7 Novembre | E3: 15 pousses / m² | F3: 56 Jours | G3: 0 litre / m² / jour | H3: 0 °C | I3: 20 °C à 22 °C | J3: 7 Jours | K3: Avec Récolteuse (0,06 PA / Kg) | L3: 0,15 Kg / m² / Jour | M3: 5 Jours | N3: 14 Jours | O3: Salle de Stockage
A4: AIL D'HIVER | B4: Pleine Terre | C4: Pas de préparation de plants | D4: Du 1er Jznvier au 7 Février | E4: 15 pousses / m² | F4: 35 Jours | G4: 1 litre / m² / jour | H4: 0 °C | I4: 20 °C à 22 °C | J4: 7 Jours | K4: Avec Récolteuse (0,06 PA / Kg) | L4: 0,15 Kg / m² / Jour | M4: 5 Jours | N4: 14 Jours | O4: Salle de Stockage
