Workbook

Sheet Synthèse
A1: Analytique | B1: CA 100%
A2: 10BLID | B2: ='10BLID'!$D$20 -> 0
A3: 10MAIZ | B3: ='10MAIZ'!$D$20 -> 0
A4: 10ROSS
A5: 10SARR
A6: 20ARGE
A7: 20BRY
A8: 20FAME
A9: 20FLO1
A10: 20FLO2
A11: 20FLO3
A12: 20FOUR
A13: 20MAIZ
A14: 20STAL
A15: 20STEI
... A39: 50VITR

Sheet 10BLID
A1: Ne modifier que les cellules surlignées en jaune!
A3: Analytique | B3: 10BLID | C3: => inscrire le code de la structure (Feuille "Nomenclature", Colonne A)
A4: Structure | B4: =+VLOOKUP($B$3,Synthèse!$A$1:$A$39,2,FALSE) -> #REF!
A5: DGE | B5: =+VLOOKUP($B$3,Synthèse!$A$1:$A$39,3,FALSE) -> #REF!
A6: Type de structure | B6: =+VLOOKUP($B$3,Synthèse!$A$1:$A$39,4,FALSE) -> #REF!
A8: (ne pas supprimer les lignes vides pour garder la même trame pour chaque site)
A9: Typologie de logement | B9: Nombre | C9: Montant redevance | D9: CA 100%
D10: =B10*C10 -> 0
D11: =B11*C11 -> 0
D12: =B12*C12 -> 0
D13: =B13*C13 -> 0
D14: =B14*C14 -> 0
D15: =B15*C15 -> 0
D16: =B16*C16 -> 0
D17: =B17*C17 -> 0
D18: =B18*C18 -> 0
D19: =B19*C19 -> 0
C20: Total: | D20: =SUM(D10:D19) -> 0

Sheet 10MAIZ
A1: Ne modifier que les cellules surlignées en jaune!
A3: Analytique | B3: 10BLID | C3: => inscrire le code de la structure (Feuille "Nomenclature", Colonne A)
A4: Structure | B4: =+VLOOKUP($B$3,Synthèse!$A$1:$A$39,2,FALSE) -> #REF!
A5: DGE | B5: =+VLOOKUP($B$3,Synthèse!$A$1:$A$39,3,FALSE) -> #REF!
A6: Type de structure | B6: =+VLOOKUP($B$3,Synthèse!$A$1:$A$39,4,FALSE) -> #REF!
A8: (ne pas supprimer les lignes vides pour garder la même trame pour chaque site)
A9: Typologie de logement | B9: Nombre | C9: Montant redevance | D9: CA 100%
D10: =B10*C10 -> 0
D11: =B11*C11 -> 0
D12: =B12*C12 -> 0
D13: =B13*C13 -> 0
D14: =B14*C14 -> 0
D15: =B15*C15 -> 0
D16: =B16*C16 -> 0
D17: =B17*C17 -> 0
D18: =B18*C18 -> 0
D19: =B19*C19 -> 0
C20: Total: | D20: =SUM(D10:D19) -> 0
