Workbook

Sheet Barèmes et commentaires
A1: Nom du devoir : | C1: Devoir en temps limité de Physique n° 7
A2: Date du devoir : | C2: Samedi 28 mars 2020
A4: Question | B4: Barème
A5: PROBLEME 1
A6: Q1 - moment d'inertie | B6: 1 | C6: Il faut justifier votre réponse (ce n'est pas un jeu de "pile ou face" avec 1 chance sur 2). Que la réponse donnée soit juste ou fausse, si elle n'est pas justifiée, aucun point n'est accordé. | D6: Justification incorrecte ou imprécise. | E6: Revoir dans le cours la définition et la signification physique du moment d'inertie J d'un solide par rapport à un axe.
A7: Q2 - moment du poids | B7: 2
A8: Q2 - équa.diff. | B8: 1
A9: Q3 - Ep de pesanteur | B9: 2
A10: Q3 - Ep de torsion | B10: 2
A11: Q3 - équa.diff. | B11: 1
A12: Q4 - méthode | B12: 1
A13: Q4 - résultat | B13: 1
A14: Q5 - C critique | B14: 1
A15: Q6 - stabilité | B15: 2
A16: Q7 - DL de sinus | B16: 0.5
A17: Q8 - stabilité | B17: 3
A18: Q9 - période | B18: 0.5
... A24: Q14 - calcul et AN de g | B24: 1

Sheet Statistiques
A1: 1. Données auto après correction complète du paquet (ne pas toucher) | D1: 2. Conversion des points en note sur 20 (à remplir après correction complète) | G1: 3. Données auto après conversion en note (ne pas toucher)
A2: Nd de feuilles d'élèves | B2: =_xlfn.SHEETS()-5 -> 1 | D2: Nb de points | E2: doit donner la note /20
A3: Nb total de points du devoir | B3: =SUM('Barèmes et commentaires'!B:B) -> 26.5
A4: Nb min de points | B4: =MIN(DEBUT:FIN!G5) -> 0.5 | G4: Note minimale | H4: =B4/(E6*B4+E7) -> 0.52631579
A5: Nb max de points | B5: =MAX(DEBUT:FIN!G5) -> 0.5 | D5: Calcul automatique des coefficients : | G5: Note maximale | H5: =B5/(E6*B5+E7) -> 0.52631579
A6: Moy de points | B6: =AVERAGE(DEBUT:FIN!G5) -> 0.5 | D6: a= | E6: 0 | G6: Moyenne | H6: =B6/(E6*B6+E7) -> 0.52631579
D7: b= | E7: =19/20 -> 0.95

Sheet Liste des notes
A1: NOM Prénom | B1: Note

Sheet DEBUT
A1: NE PAS TOUCHER CETTE FEUILLE
A2: Mettre les feuilles des élèves entre DEBUT et FIN

Sheet Nouvel élève
A1: ='Barèmes et commentaires'!C1 -> Devoir en temps limité de Physique n° 7 | F1: ='Barèmes et commentaires'!C2 -> Samedi 28 mars 2020
A2: {=RIGHT(CELL("nomfichier",A1),LEN(CELL("nomfichier",A1))-FIND("]",CELL("nomfichier",A1)))} -> Nouvel élève | F2: =G5/(G5*Statistiques!E6+Statistiques!E7) -> 0.52631579 | G2: / | H2: 20
F4: Rang : | G4: X | H4: e sur | I4: =Statistiques!B2 -> 1
F5: Total de points : | G5: =SUM(D:D) -> 0.5 | H5: / | I5: =Statistiques!B3 -> 26.5
F7: Moyenne classe : | G7: =Statistiques!H6 -> 0.52631579 | H7: / | I7: 20
F8: Note maximale : | G8: =Statistiques!H4 -> 0.52631579 | H8: / | I8: 20
A9: Question | B9: Barème | C9: Score | D9: Points | E9: Commentaire | F9: Note minimale : | G9: =Statistiques!H5 -> 0.52631579 | H9: / | I9: 20
A10: {=IF('Barèmes et commentaires'!A5:A5<>"",'Barèmes et commentaires'!A5:A5,"")} -> PROBLEME 1 | B10: {=IF('Barèmes et commentaires'!B5:B5<>"",'Barèmes et commentaires'!B5:B5,"")} | D10: =IF(C10<>"",C10/4*B10,"")
A11: {=IF('Barèmes et commentaires'!A6:A6<>"",'Barèmes et commentaires'!A6:A6,"")} -> Q1 - moment d'inertie | B11: {=IF('Barèmes et commentaires'!B6:B6<>"",'Barèmes et commentaires'!B6:B6,"")} -> 1 | C11: 2 | D11: =IF(C11<>"",C11/4*B11,"") -> 0.5 | F11: La note sur 20 (N) a été calculée
A12: {=IF('Barèmes et commentaires'!A7:A7<>"",'Barèmes et commentaires'!A7:A7,"")} -> Q2 - moment du poids | B12: {=IF('Barèmes et commentaires'!B7:B7<>"",'Barèmes et commentaires'!B7:B7,"")} -> 2 | D12: =IF(C12<>"",C12/4*B12,"") | F12: à partir du nombre de points (P) par
A13: {=IF('Barèmes et commentaires'!A8:A8<>"",'Barèmes et commentaires'!A8:A8,"")} -> Q2 - équa.diff. | B13: {=IF('Barèmes et commentaires'!B8:B8<>"",'Barèmes et commentaires'!B8:B8,"")} -> 1 | D13: =IF(C13<>"",C13/4*B13,"") | F13: N = P/(aP + b)
A14: {=IF('Barèmes et commentaires'!A9:A9<>"",'Barèmes et commentaires'!A9:A9,"")} -> Q3 - Ep de pesanteur | B14: {=IF('Barèmes et commentaires'!B9:B9<>"",'Barèmes et commentaires'!B9:B9,"")} -> 2 | D14: =IF(C14<>"",C14/4*B14,"") | F14: avec ces coefficients d'ajustement :
A15: {=IF('Barèmes et commentaires'!A10:A10<>"",'Barèmes et commentaires'!A10:A10,"")} -> Q3 - Ep de torsion | B15: {=IF('Barèmes et commentaires'!B10:B10<>"",'Barèmes et commentaires'!B10:B10,"")} -> 2 | D15: =IF(C15<>"",C15/4*B15,"") | F15: a = | G15: =Statistiques!E6 -> 0
A16: {=IF('Barèmes et commentaires'!A11:A11<>"",'Barèmes et commentaires'!A11:A11,"")} -> Q3 - équa.diff. | B16: {=IF('Barèmes et commentaires'!B11:B11<>"",'Barèmes et commentaires'!B11:B11,"")} -> 1 | D16: =IF(C16<>"",C16/4*B16,"") | F16: b = | G16: =Statistiques!E7 -> 0.95
A17: {=IF('Barèmes et commentaires'!A12:A12<>"",'Barèmes et commentaires'!A12:A12,"")} -> Q4 - méthode | B17: {=IF('Barèmes et commentaires'!B12:B12<>"",'Barèmes et commentaires'!B12:B12,"")} -> 1 | D17: =IF(C17<>"",C17/4*B17,"")
A18: {=IF('Barèmes et commentaires'!A13:A13<>"",'Barèmes et commentaires'!A13:A13,"")} -> Q4 - résultat | B18: {=IF('Barèmes et commentaires'!B13:B13<>"",'Barèmes et commentaires'!B13:B13,"")} -> 1 | D18: =IF(C18<>"",C18/4*B18,"")
A19: {=IF('Barèmes et commentaires'!A14:A14<>"",'Barèmes et commentaires'!A14:A14,"")} -> Q5 - C critique | B19: {=IF('Barèmes et commentaires'!B14:B14<>"",'Barèmes et commentaires'!B14:B14,"")} -> 1 | D19: =IF(C19<>"",C19/4*B19,"")
A20: {=IF('Barèmes et commentaires'!A15:A15<>"",'Barèmes et commentaires'!A15:A15,"")} -> Q6 - stabilité | B20: {=IF('Barèmes et commentaires'!B15:B15<>"",'Barèmes et commentaires'!B15:B15,"")} -> 2 | D20: =IF(C20<>"",C20/4*B20,"")
A21: {=IF('Barèmes et commentaires'!A16:A16<>"",'Barèmes et commentaires'!A16:A16,"")} -> Q7 - DL de sinus | B21: {=IF('Barèmes et commentaires'!B16:B16<>"",'Barèmes et commentaires'!B16:B16,"")} -> 0.5 | D21: =IF(C21<>"",C21/4*B21,"")
A22: {=IF('Barèmes et commentaires'!A17:A17<>"",'Barèmes et commentaires'!A17:A17,"")} -> Q8 - stabilité | B22: {=IF('Barèmes et commentaires'!B17:B17<>"",'Barèmes et commentaires'!B17:B17,"")} -> 3 | D22: =IF(C22<>"",C22/4*B22,"")
A23: {=IF('Barèmes et commentaires'!A18:A18<>"",'Barèmes et commentaires'!A18:A18,"")} -> Q9 - période | B23: {=IF('Barèmes et commentaires'!B18:B18<>"",'Barèmes et commentaires'!B18:B18,"")} -> 0.5 | D23: =IF(C23<>"",C23/4*B23,"")
A24: {=IF('Barèmes et commentaires'!A19:A19<>"",'Barèmes et commentaires'!A19:A19,"")} -> Q10 - calcul et AN de g | B24: {=IF('Barèmes et commentaires'!B19:B19<>"",'Barèmes et commentaires'!B19:B19,"")} -> 0.5 | D24: =IF(C24<>"",C24/4*B24,"")
A25: {=IF('Barèmes et commentaires'!A20:A20<>"",'Barèmes et commentaires'!A20:A20,"")} -> Q11 - DL de sin à l'ordre 3 | B25: {=IF('Barèmes et commentaires'!B20:B20<>"",'Barèmes et commentaires'!B20:B20,"")} -> 0.5 | D25: =IF(C25<>"",C25/4*B25,"")
A26: {=IF('Barèmes et commentaires'!A21:A21<>"",'Barèmes et commentaires'!A21:A21,"")} -> Q12 - multiplier par θ' | B26: {=IF('Barèmes et commentaires'!B21:B21<>"",'Barèmes et commentaires'!B21:B21,"")} -> 0.5 | D26: =IF(C26<>"",C26/4*B26,"")
A27: {=IF('Barèmes et commentaires'!A22:A22<>"",'Barèmes et commentaires'!A22:A22,"")} -> Q12 - intégration avec CI | B27: {=IF('Barèmes et commentaires'!B22:B22<>"",'Barèmes et commentaires'!B22:B22,"")} -> 2 | D27: =IF(C27<>"",C27/4*B27,"")
A28: {=IF('Barèmes et commentaires'!A23:A23<>"",'Barèmes et commentaires'!A23:A23,"")} -> Q13 - période | B28: {=IF('Barèmes et commentaires'!B23:B23<>"",'Barèmes et commentaires'!B23:B23,"")} -> 4 | D28: =IF(C28<>"",C28/4*B28,"")
... A34: {=IF('Barèmes et commentaires'!A29:A29<>"",'Barèmes et commentaires'!A29:A29,"")} | B34: {=IF('Barèmes et commentaires'!B29:B29<>"",'Barèmes et commentaires'!B29:B29,"")} | D34: =IF(C34<>"",C34/4*B34,"")
D35: =IF(C35<>"",C35/4*B35,"")
D36: =IF(C36<>"",C36/4*B36,"")
D37: =IF(C37<>"",C37/4*B37,"")
D38: =IF(C38<>"",C38/4*B38,"")
D39: =IF(C39<>"",C39/4*B39,"")
D40: =IF(C40<>"",C40/4*B40,"")
D41: =IF(C41<>"",C41/4*B41,"")

Sheet FIN
A1: NE PAS TOUCHER CETTE FEUILLE
A2: Mettre les feuilles des élèves entre DEBUT et FIN
