Workbook

Sheet Data
B3: Date | C3: Nom technicien | D3: Equipement
B4: 43832 | C4: RIRI | D4: Bidule
B5: 43834 | C5: TOTO | D5: Truc
B6: 43838 | C6: LULU | D6: Bazar | G6: RIRI | H6: 43840
B7: 43840 | C7: RIRI | D7: Machin
B8: 43836 | C8: LULU | D8: Truc3
B9: 43832 | C9: TOTO | D9: Bazar7
B10: 43839 | C10: RIRI | D10: Chose8
D16: =SUMPRODUCT(ROW(Data!$B$4:$B$10)*(Data!$B$4:$B$10=H6)*(Data!$C$4:$C$10=G6)) -> 7

Sheet Planning
C3: RIRI | D3: TOTO | E3: LULU
B4: 43831 | C4: =IF(ISERROR(INDEX(Data!$D$4:$D$10,SUMPRODUCT(ROW(Data!$B$4:$B$10)*(Data!$B$4:$B$10=B$4)*(Data!$C$4:$C$10=C3))-3,1)),"",INDEX(Data!$D$4:$D$10,SUMPRODUCT(ROW(Data!$B$4:$B$10)*(Data!$B$4:$B$10=B$4)*(Data!$C$4:$C$10=C3))-3,1)) | D4: =IF(ISERROR(INDEX(Data!$D$4:$D$10,SUMPRODUCT(ROW(Data!$B$4:$B$10)*(Data!$B$4:$B$10=B4)*(Data!$C$4:$C$10=D$3))-3,1)),"",INDEX(Data!$D$4:$D$10,SUMPRODUCT(ROW(Data!$B$4:$B$10)*(Data!$B$4:$B$10=B4)*(Data!$C$4:$C$10=D$3))-3,1)) | E4: =IF(ISERROR(INDEX(Data!$D$4:$D$10,SUMPRODUCT(ROW(Data!$B$4:$B$10)*(Data!$B$4:$B$10=B4)*(Data!$C$4:$C$10=E$3))-3,1)),"",INDEX(Data!$D$4:$D$10,SUMPRODUCT(ROW(Data!$B$4:$B$10)*(Data!$B$4:$B$10=B4)*(Data!$C$4:$C$10=E$3))-3,1))
B5: 43832 | C5: =IF(ISERROR(INDEX(Data!$D$4:$D$10,SUMPRODUCT(ROW(Data!$B$4:$B$10)*(Data!$B$4:$B$10=B5)*(Data!$C$4:$C$10=C$3))-3,1)),"",INDEX(Data!$D$4:$D$10,SUMPRODUCT(ROW(Data!$B$4:$B$10)*(Data!$B$4:$B$10=B5)*(Data!$C$4:$C$10=C$3))-3,1)) -> Bidule | D5: =IF(ISERROR(INDEX(Data!$D$4:$D$10,SUMPRODUCT(ROW(Data!$B$4:$B$10)*(Data!$B$4:$B$10=B5)*(Data!$C$4:$C$10=D$3))-3,1)),"",INDEX(Data!$D$4:$D$10,SUMPRODUCT(ROW(Data!$B$4:$B$10)*(Data!$B$4:$B$10=B5)*(Data!$C$4:$C$10=D$3))-3,1)) -> Bazar7 | E5: =IF(ISERROR(INDEX(Data!$D$4:$D$10,SUMPRODUCT(ROW(Data!$B$4:$B$10)*(Data!$B$4:$B$10=B5)*(Data!$C$4:$C$10=E$3))-3,1)),"",INDEX(Data!$D$4:$D$10,SUMPRODUCT(ROW(Data!$B$4:$B$10)*(Data!$B$4:$B$10=B5)*(Data!$C$4:$C$10=E$3))-3,1))
B6: 43833 | C6: =IF(ISERROR(INDEX(Data!$D$4:$D$10,SUMPRODUCT(ROW(Data!$B$4:$B$10)*(Data!$B$4:$B$10=B6)*(Data!$C$4:$C$10=C$3))-3,1)),"",INDEX(Data!$D$4:$D$10,SUMPRODUCT(ROW(Data!$B$4:$B$10)*(Data!$B$4:$B$10=B6)*(Data!$C$4:$C$10=C$3))-3,1)) | D6: =IF(ISERROR(INDEX(Data!$D$4:$D$10,SUMPRODUCT(ROW(Data!$B$4:$B$10)*(Data!$B$4:$B$10=B6)*(Data!$C$4:$C$10=D$3))-3,1)),"",INDEX(Data!$D$4:$D$10,SUMPRODUCT(ROW(Data!$B$4:$B$10)*(Data!$B$4:$B$10=B6)*(Data!$C$4:$C$10=D$3))-3,1)) | E6: =IF(ISERROR(INDEX(Data!$D$4:$D$10,SUMPRODUCT(ROW(Data!$B$4:$B$10)*(Data!$B$4:$B$10=B6)*(Data!$C$4:$C$10=E$3))-3,1)),"",INDEX(Data!$D$4:$D$10,SUMPRODUCT(ROW(Data!$B$4:$B$10)*(Data!$B$4:$B$10=B6)*(Data!$C$4:$C$10=E$3))-3,1))
B7: 43834 | C7: =IF(ISERROR(INDEX(Data!$D$4:$D$10,SUMPRODUCT(ROW(Data!$B$4:$B$10)*(Data!$B$4:$B$10=B7)*(Data!$C$4:$C$10=C$3))-3,1)),"",INDEX(Data!$D$4:$D$10,SUMPRODUCT(ROW(Data!$B$4:$B$10)*(Data!$B$4:$B$10=B7)*(Data!$C$4:$C$10=C$3))-3,1)) | D7: =IF(ISERROR(INDEX(Data!$D$4:$D$10,SUMPRODUCT(ROW(Data!$B$4:$B$10)*(Data!$B$4:$B$10=B7)*(Data!$C$4:$C$10=D$3))-3,1)),"",INDEX(Data!$D$4:$D$10,SUMPRODUCT(ROW(Data!$B$4:$B$10)*(Data!$B$4:$B$10=B7)*(Data!$C$4:$C$10=D$3))-3,1)) -> Truc | E7: =IF(ISERROR(INDEX(Data!$D$4:$D$10,SUMPRODUCT(ROW(Data!$B$4:$B$10)*(Data!$B$4:$B$10=B7)*(Data!$C$4:$C$10=E$3))-3,1)),"",INDEX(Data!$D$4:$D$10,SUMPRODUCT(ROW(Data!$B$4:$B$10)*(Data!$B$4:$B$10=B7)*(Data!$C$4:$C$10=E$3))-3,1))
B8: 43835 | C8: =IF(ISERROR(INDEX(Data!$D$4:$D$10,SUMPRODUCT(ROW(Data!$B$4:$B$10)*(Data!$B$4:$B$10=B8)*(Data!$C$4:$C$10=C$3))-3,1)),"",INDEX(Data!$D$4:$D$10,SUMPRODUCT(ROW(Data!$B$4:$B$10)*(Data!$B$4:$B$10=B8)*(Data!$C$4:$C$10=C$3))-3,1)) | D8: =IF(ISERROR(INDEX(Data!$D$4:$D$10,SUMPRODUCT(ROW(Data!$B$4:$B$10)*(Data!$B$4:$B$10=B8)*(Data!$C$4:$C$10=D$3))-3,1)),"",INDEX(Data!$D$4:$D$10,SUMPRODUCT(ROW(Data!$B$4:$B$10)*(Data!$B$4:$B$10=B8)*(Data!$C$4:$C$10=D$3))-3,1)) | E8: =IF(ISERROR(INDEX(Data!$D$4:$D$10,SUMPRODUCT(ROW(Data!$B$4:$B$10)*(Data!$B$4:$B$10=B8)*(Data!$C$4:$C$10=E$3))-3,1)),"",INDEX(Data!$D$4:$D$10,SUMPRODUCT(ROW(Data!$B$4:$B$10)*(Data!$B$4:$B$10=B8)*(Data!$C$4:$C$10=E$3))-3,1))
B9: 43836 | C9: =IF(ISERROR(INDEX(Data!$D$4:$D$10,SUMPRODUCT(ROW(Data!$B$4:$B$10)*(Data!$B$4:$B$10=B9)*(Data!$C$4:$C$10=C$3))-3,1)),"",INDEX(Data!$D$4:$D$10,SUMPRODUCT(ROW(Data!$B$4:$B$10)*(Data!$B$4:$B$10=B9)*(Data!$C$4:$C$10=C$3))-3,1)) | D9: =IF(ISERROR(INDEX(Data!$D$4:$D$10,SUMPRODUCT(ROW(Data!$B$4:$B$10)*(Data!$B$4:$B$10=B9)*(Data!$C$4:$C$10=D$3))-3,1)),"",INDEX(Data!$D$4:$D$10,SUMPRODUCT(ROW(Data!$B$4:$B$10)*(Data!$B$4:$B$10=B9)*(Data!$C$4:$C$10=D$3))-3,1)) | E9: =IF(ISERROR(INDEX(Data!$D$4:$D$10,SUMPRODUCT(ROW(Data!$B$4:$B$10)*(Data!$B$4:$B$10=B9)*(Data!$C$4:$C$10=E$3))-3,1)),"",INDEX(Data!$D$4:$D$10,SUMPRODUCT(ROW(Data!$B$4:$B$10)*(Data!$B$4:$B$10=B9)*(Data!$C$4:$C$10=E$3))-3,1)) -> Truc3
B10: 43837 | C10: =IF(ISERROR(INDEX(Data!$D$4:$D$10,SUMPRODUCT(ROW(Data!$B$4:$B$10)*(Data!$B$4:$B$10=B10)*(Data!$C$4:$C$10=C$3))-3,1)),"",INDEX(Data!$D$4:$D$10,SUMPRODUCT(ROW(Data!$B$4:$B$10)*(Data!$B$4:$B$10=B10)*(Data!$C$4:$C$10=C$3))-3,1)) | D10: =IF(ISERROR(INDEX(Data!$D$4:$D$10,SUMPRODUCT(ROW(Data!$B$4:$B$10)*(Data!$B$4:$B$10=B10)*(Data!$C$4:$C$10=D$3))-3,1)),"",INDEX(Data!$D$4:$D$10,SUMPRODUCT(ROW(Data!$B$4:$B$10)*(Data!$B$4:$B$10=B10)*(Data!$C$4:$C$10=D$3))-3,1)) | E10: =IF(ISERROR(INDEX(Data!$D$4:$D$10,SUMPRODUCT(ROW(Data!$B$4:$B$10)*(Data!$B$4:$B$10=B10)*(Data!$C$4:$C$10=E$3))-3,1)),"",INDEX(Data!$D$4:$D$10,SUMPRODUCT(ROW(Data!$B$4:$B$10)*(Data!$B$4:$B$10=B10)*(Data!$C$4:$C$10=E$3))-3,1))
B11: 43838 | C11: =IF(ISERROR(INDEX(Data!$D$4:$D$10,SUMPRODUCT(ROW(Data!$B$4:$B$10)*(Data!$B$4:$B$10=B11)*(Data!$C$4:$C$10=C$3))-3,1)),"",INDEX(Data!$D$4:$D$10,SUMPRODUCT(ROW(Data!$B$4:$B$10)*(Data!$B$4:$B$10=B11)*(Data!$C$4:$C$10=C$3))-3,1)) | D11: =IF(ISERROR(INDEX(Data!$D$4:$D$10,SUMPRODUCT(ROW(Data!$B$4:$B$10)*(Data!$B$4:$B$10=B11)*(Data!$C$4:$C$10=D$3))-3,1)),"",INDEX(Data!$D$4:$D$10,SUMPRODUCT(ROW(Data!$B$4:$B$10)*(Data!$B$4:$B$10=B11)*(Data!$C$4:$C$10=D$3))-3,1)) | E11: =IF(ISERROR(INDEX(Data!$D$4:$D$10,SUMPRODUCT(ROW(Data!$B$4:$B$10)*(Data!$B$4:$B$10=B11)*(Data!$C$4:$C$10=E$3))-3,1)),"",INDEX(Data!$D$4:$D$10,SUMPRODUCT(ROW(Data!$B$4:$B$10)*(Data!$B$4:$B$10=B11)*(Data!$C$4:$C$10=E$3))-3,1)) -> Bazar
B12: 43839 | C12: =IF(ISERROR(INDEX(Data!$D$4:$D$10,SUMPRODUCT(ROW(Data!$B$4:$B$10)*(Data!$B$4:$B$10=B12)*(Data!$C$4:$C$10=C$3))-3,1)),"",INDEX(Data!$D$4:$D$10,SUMPRODUCT(ROW(Data!$B$4:$B$10)*(Data!$B$4:$B$10=B12)*(Data!$C$4:$C$10=C$3))-3,1)) -> Chose8 | D12: =IF(ISERROR(INDEX(Data!$D$4:$D$10,SUMPRODUCT(ROW(Data!$B$4:$B$10)*(Data!$B$4:$B$10=B12)*(Data!$C$4:$C$10=D$3))-3,1)),"",INDEX(Data!$D$4:$D$10,SUMPRODUCT(ROW(Data!$B$4:$B$10)*(Data!$B$4:$B$10=B12)*(Data!$C$4:$C$10=D$3))-3,1)) | E12: =IF(ISERROR(INDEX(Data!$D$4:$D$10,SUMPRODUCT(ROW(Data!$B$4:$B$10)*(Data!$B$4:$B$10=B12)*(Data!$C$4:$C$10=E$3))-3,1)),"",INDEX(Data!$D$4:$D$10,SUMPRODUCT(ROW(Data!$B$4:$B$10)*(Data!$B$4:$B$10=B12)*(Data!$C$4:$C$10=E$3))-3,1))
B13: 43840 | C13: =IF(ISERROR(INDEX(Data!$D$4:$D$10,SUMPRODUCT(ROW(Data!$B$4:$B$10)*(Data!$B$4:$B$10=B13)*(Data!$C$4:$C$10=C$3))-3,1)),"",INDEX(Data!$D$4:$D$10,SUMPRODUCT(ROW(Data!$B$4:$B$10)*(Data!$B$4:$B$10=B13)*(Data!$C$4:$C$10=C$3))-3,1)) -> Machin | D13: =IF(ISERROR(INDEX(Data!$D$4:$D$10,SUMPRODUCT(ROW(Data!$B$4:$B$10)*(Data!$B$4:$B$10=B13)*(Data!$C$4:$C$10=D$3))-3,1)),"",INDEX(Data!$D$4:$D$10,SUMPRODUCT(ROW(Data!$B$4:$B$10)*(Data!$B$4:$B$10=B13)*(Data!$C$4:$C$10=D$3))-3,1)) | E13: =IF(ISERROR(INDEX(Data!$D$4:$D$10,SUMPRODUCT(ROW(Data!$B$4:$B$10)*(Data!$B$4:$B$10=B13)*(Data!$C$4:$C$10=E$3))-3,1)),"",INDEX(Data!$D$4:$D$10,SUMPRODUCT(ROW(Data!$B$4:$B$10)*(Data!$B$4:$B$10=B13)*(Data!$C$4:$C$10=E$3))-3,1))
B14: 43841 | C14: =IF(ISERROR(INDEX(Data!$D$4:$D$10,SUMPRODUCT(ROW(Data!$B$4:$B$10)*(Data!$B$4:$B$10=B14)*(Data!$C$4:$C$10=C$3))-3,1)),"",INDEX(Data!$D$4:$D$10,SUMPRODUCT(ROW(Data!$B$4:$B$10)*(Data!$B$4:$B$10=B14)*(Data!$C$4:$C$10=C$3))-3,1)) | D14: =IF(ISERROR(INDEX(Data!$D$4:$D$10,SUMPRODUCT(ROW(Data!$B$4:$B$10)*(Data!$B$4:$B$10=B14)*(Data!$C$4:$C$10=D$3))-3,1)),"",INDEX(Data!$D$4:$D$10,SUMPRODUCT(ROW(Data!$B$4:$B$10)*(Data!$B$4:$B$10=B14)*(Data!$C$4:$C$10=D$3))-3,1)) | E14: =IF(ISERROR(INDEX(Data!$D$4:$D$10,SUMPRODUCT(ROW(Data!$B$4:$B$10)*(Data!$B$4:$B$10=B14)*(Data!$C$4:$C$10=E$3))-3,1)),"",INDEX(Data!$D$4:$D$10,SUMPRODUCT(ROW(Data!$B$4:$B$10)*(Data!$B$4:$B$10=B14)*(Data!$C$4:$C$10=E$3))-3,1))
B15: 43842 | C15: =IF(ISERROR(INDEX(Data!$D$4:$D$10,SUMPRODUCT(ROW(Data!$B$4:$B$10)*(Data!$B$4:$B$10=B15)*(Data!$C$4:$C$10=C$3))-3,1)),"",INDEX(Data!$D$4:$D$10,SUMPRODUCT(ROW(Data!$B$4:$B$10)*(Data!$B$4:$B$10=B15)*(Data!$C$4:$C$10=C$3))-3,1)) | D15: =IF(ISERROR(INDEX(Data!$D$4:$D$10,SUMPRODUCT(ROW(Data!$B$4:$B$10)*(Data!$B$4:$B$10=B15)*(Data!$C$4:$C$10=D$3))-3,1)),"",INDEX(Data!$D$4:$D$10,SUMPRODUCT(ROW(Data!$B$4:$B$10)*(Data!$B$4:$B$10=B15)*(Data!$C$4:$C$10=D$3))-3,1)) | E15: =IF(ISERROR(INDEX(Data!$D$4:$D$10,SUMPRODUCT(ROW(Data!$B$4:$B$10)*(Data!$B$4:$B$10=B15)*(Data!$C$4:$C$10=E$3))-3,1)),"",INDEX(Data!$D$4:$D$10,SUMPRODUCT(ROW(Data!$B$4:$B$10)*(Data!$B$4:$B$10=B15)*(Data!$C$4:$C$10=E$3))-3,1))
B16: 43843 | C16: =IF(ISERROR(INDEX(Data!$D$4:$D$10,SUMPRODUCT(ROW(Data!$B$4:$B$10)*(Data!$B$4:$B$10=B16)*(Data!$C$4:$C$10=C$3))-3,1)),"",INDEX(Data!$D$4:$D$10,SUMPRODUCT(ROW(Data!$B$4:$B$10)*(Data!$B$4:$B$10=B16)*(Data!$C$4:$C$10=C$3))-3,1)) | D16: =IF(ISERROR(INDEX(Data!$D$4:$D$10,SUMPRODUCT(ROW(Data!$B$4:$B$10)*(Data!$B$4:$B$10=B16)*(Data!$C$4:$C$10=D$3))-3,1)),"",INDEX(Data!$D$4:$D$10,SUMPRODUCT(ROW(Data!$B$4:$B$10)*(Data!$B$4:$B$10=B16)*(Data!$C$4:$C$10=D$3))-3,1)) | E16: =IF(ISERROR(INDEX(Data!$D$4:$D$10,SUMPRODUCT(ROW(Data!$B$4:$B$10)*(Data!$B$4:$B$10=B16)*(Data!$C$4:$C$10=E$3))-3,1)),"",INDEX(Data!$D$4:$D$10,SUMPRODUCT(ROW(Data!$B$4:$B$10)*(Data!$B$4:$B$10=B16)*(Data!$C$4:$C$10=E$3))-3,1))
... B22: 43849 | C22: =IF(ISERROR(INDEX(Data!$D$4:$D$10,SUMPRODUCT(ROW(Data!$B$4:$B$10)*(Data!$B$4:$B$10=B22)*(Data!$C$4:$C$10=C$3))-3,1)),"",INDEX(Data!$D$4:$D$10,SUMPRODUCT(ROW(Data!$B$4:$B$10)*(Data!$B$4:$B$10=B22)*(Data!$C$4:$C$10=C$3))-3,1)) | D22: =IF(ISERROR(INDEX(Data!$D$4:$D$10,SUMPRODUCT(ROW(Data!$B$4:$B$10)*(Data!$B$4:$B$10=B22)*(Data!$C$4:$C$10=D$3))-3,1)),"",INDEX(Data!$D$4:$D$10,SUMPRODUCT(ROW(Data!$B$4:$B$10)*(Data!$B$4:$B$10=B22)*(Data!$C$4:$C$10=D$3))-3,1)) | E22: =IF(ISERROR(INDEX(Data!$D$4:$D$10,SUMPRODUCT(ROW(Data!$B$4:$B$10)*(Data!$B$4:$B$10=B22)*(Data!$C$4:$C$10=E$3))-3,1)),"",INDEX(Data!$D$4:$D$10,SUMPRODUCT(ROW(Data!$B$4:$B$10)*(Data!$B$4:$B$10=B22)*(Data!$C$4:$C$10=E$3))-3,1))
G26: =SUMPRODUCT(ROW(Data!$B$4:$B$10)*(Data!$B$4:$B$10=B5)*(Data!$C$4:$C$10=C3)) -> 4
