Workbook

Sheet Feuil1
A1: =IF(F1="","",F1) | B1: =IF(G1="","",G1) | C1: =IF(H1="","",H1)
A2: =IF(F2="","",F2) | B2: =IF(G2="","",G2) | C2: =IF(H2="","",H2)
A3: =IF(F3="","",F3) | B3: =IF(G3="","",G3) | C3: =IF(H3="","",H3)
A4: =IF(F4="","",F4) | B4: =IF(G4="","",G4) | C4: =IF(H4="","",H4)
A5: =IF(F5="","",F5) | B5: =IF(G5="","",G5) | C5: =IF(H5="","",H5)
A6: =IF(F6="","",F6) | B6: =IF(G6="","",G6) | C6: =IF(H6="","",H6)
A7: =IF(F7="","",F7) | B7: =IF(G7="","",G7) | C7: =IF(H7="","",H7)
A8: =IF(F8="","",F8) | B8: =IF(G8="","",G8) | C8: =IF(H8="","",H8)
A9: =IF(F9="","",F9) | B9: =IF(G9="","",G9) | C9: =IF(H9="","",H9)
A10: =IF(F10="","",F10) | B10: =IF(G10="","",G10) | C10: =IF(H10="","",H10)
A11: =IF(F11="","",F11) -> 12 | B11: =IF(G11="","",G11) | C11: =IF(H11="","",H11) | F11: 12
A12: =IF(F12="","",F12) | B12: =IF(G12="","",G12) | C12: =IF(H12="","",H12)
A13: =IF(F13="","",F13) | B13: =IF(G13="","",G13) | C13: =IF(H13="","",H13)
A14: =IF(F14="","",F14) | B14: =IF(G14="","",G14) | C14: =IF(H14="","",H14)
A15: =IF(F15="","",F15) | B15: =IF(G15="","",G15) | C15: =IF(H15="","",H15)
A16: =IF(F16="","",F16) | B16: =IF(G16="","",G16) | C16: =IF(H16="","",H16)
A17: =IF(F17="","",F17) | B17: =IF(G17="","",G17) -> 12 | C17: =IF(H17="","",H17) | G17: 12
A18: =IF(F18="","",F18) | B18: =IF(G18="","",G18) | C18: =IF(H18="","",H18) | J18: Saisir ici
A19: =IF(F19="","",F19) | B19: =IF(G19="","",G19) | C19: =IF(H19="","",H19)
A20: =IF(F20="","",F20) | C20: =IF(H20="","",H20)
A21: =IF(F21="","",F21) | B21: =IF(G21="","",G21) | C21: =IF(H21="","",H21)
A22: =IF(F22="","",F22) | B22: =IF(G22="","",G22) | C22: =IF(H22="","",H22)
A23: =IF(F23="","",F23) | B23: =IF(G23="","",G23) | C23: =IF(H23="","",H23)
A24: =IF(F24="","",F24) | B24: =IF(G24="","",G24) | C24: =IF(H24="","",H24)
A25: =IF(F25="","",F25) | B25: =IF(G25="","",G25) | C25: =IF(H25="","",H25)
A26: =IF(F26="","",F26) | B26: =IF(G26="","",G26) | C26: =IF(H26="","",H26)
A27: =IF(F27="","",F27) | B27: =IF(G27="","",G27) | C27: =IF(H27="","",H27)
A28: =IF(F28="","",F28) | B28: =IF(G28="","",G28) | C28: =IF(H28="","",H28)
A29: =IF(F29="","",F29) | B29: =IF(G29="","",G29) | C29: =IF(H29="","",H29)
A30: =IF(F30="","",F30) | B30: =IF(G30="","",G30) | C30: =IF(H30="","",H30)
A31: =IF(F31="","",F31) | B31: =IF(G31="","",G31) | C31: =IF(H31="","",H31)
A32: =IF(F32="","",F32) | B32: =IF(G32="","",G32) | C32: =IF(H32="","",H32)
... A35: =IF(F35="","",F35) | B35: =IF(G35="","",G35) | C35: =IF(H35="","",H35)

Sheet Feuil2
F1: =IF(Feuil1!A1<>"",Feuil1!A1,"")
F2: =IF(Feuil1!A2<>"",Feuil1!A2,"")
F3: =IF(Feuil1!A3<>"",Feuil1!A3,"")
F4: =IF(Feuil1!A4<>"",Feuil1!A4,"")
F5: =IF(Feuil1!A5<>"",Feuil1!A5,"")
F6: =IF(Feuil1!A6<>"",Feuil1!A6,"")
F7: =IF(Feuil1!A7<>"",Feuil1!A7,"")
F8: =IF(Feuil1!A8<>"",Feuil1!A8,"")
F9: =IF(Feuil1!A9<>"",Feuil1!A9,"")
F10: =IF(Feuil1!A10<>"",Feuil1!A10,"")
F11: =IF(Feuil1!A11<>"",Feuil1!A11,"") -> 12
F12: =IF(Feuil1!A12<>"",Feuil1!A12,"")
... F35: =IF(Feuil1!A35<>"",Feuil1!A35,"")

Sheet Feuil3
F1: =IF(Feuil1!B1<>"",Feuil1!B1,"")
F2: =IF(Feuil1!B2<>"",Feuil1!B2,"")
F3: =IF(Feuil1!B3<>"",Feuil1!B3,"")
F4: =IF(Feuil1!B4<>"",Feuil1!B4,"")
F5: =IF(Feuil1!B5<>"",Feuil1!B5,"")
F6: =IF(Feuil1!B6<>"",Feuil1!B6,"")
F7: =IF(Feuil1!B7<>"",Feuil1!B7,"")
F8: =IF(Feuil1!B8<>"",Feuil1!B8,"")
F9: =IF(Feuil1!B9<>"",Feuil1!B9,"")
F10: =IF(Feuil1!B10<>"",Feuil1!B10,"")
F11: =IF(Feuil1!B11<>"",Feuil1!B11,"")
F12: =IF(Feuil1!B12<>"",Feuil1!B12,"")
... F35: =IF(Feuil1!B35<>"",Feuil1!B35,"")
