Workbook
Name base_clg: #REF!

Sheet sans tri
A1: ID_CLG | B1: num_etab | C1: Niveau | D1: EC_RAT_19 | E1: établissement d'accueil | F1: établissement de rattachement | G1: Respect
A2: ID_xxxx1 | C2: 6S | E2: COLLEGE 1 | F2: COLLEGE 1 | G2: =IF(E2=F2,"Oui","Non") -> Oui
A3: ID_xxxx2 | C3: 6S | E3: COLLEGE 1 | F3: COLLEGE 1 | G3: =IF(E3=F3,"Oui","Non") -> Oui
A4: ID_xxxx3 | C4: 6S | E4: COLLEGE 1 | F4: COLLEGE 1 | G4: =IF(E4=F4,"Oui","Non") -> Oui
A5: ID_xxxx4 | C5: X | E5: COLLEGE 2 | F5: COLLEGE 1 | G5: =IF(E5=F5,"Oui","Non") -> Non
A6: ID_xxxx5 | C6: 6S | E6: COLLEGE 1 | F6: COLLEGE 1 | G6: =IF(E6=F6,"Oui","Non") -> Oui
A7: ID_xxxx6 | C7: 6E | E7: COLLEGE 1 | F7: COLLEGE 1 | G7: =IF(E7=F7,"Oui","Non") -> Oui
A8: ID_xxxx7 | C8: 6E | E8: COLLEGE 1 | F8: COLLEGE 1 | G8: =IF(E8=F8,"Oui","Non") -> Oui
A9: ID_xxxx8 | C9: 6E | E9: COLLEGE 1 | F9: COLLEGE 1 | G9: =IF(E9=F9,"Oui","Non") -> Oui
A10: ID_xxxx9 | C10: 6E | E10: COLLEGE 1 | F10: COLLEGE 1 | G10: =IF(E10=F10,"Oui","Non") -> Oui
A11: ID_xxxx10 | C11: Y | E11: COLLEGE 2 | F11: COLLEGE 1 | G11: =IF(E11=F11,"Oui","Non") -> Non
A12: ID_xxxx11 | C12: 6E | E12: COLLEGE 1 | F12: COLLEGE 1 | G12: =IF(E12=F12,"Oui","Non") -> Oui
A13: ID_xxxx12 | C13: 6E | E13: COLLEGE 1 | F13: COLLEGE 1 | G13: =IF(E13=F13,"Oui","Non") -> Oui
... A21: ID_xxxx20 | C21: 6E | E21: COLLEGE 1 | F21: COLLEGE 1 | G21: =IF(E21=F21,"Oui","Non") -> Oui

Sheet TRI
A1: ='sans tri'!A1 -> ID_CLG | B1: ='sans tri'!B1 -> num_etab | C1: ='sans tri'!C1 -> Niveau | D1: ='sans tri'!D1 -> EC_RAT_19 | E1: ='sans tri'!E1 -> établissement d'accueil | F1: ='sans tri'!F1 -> établissement de rattachement | G1: ='sans tri'!G1 -> Respect | H1: Derogation
A2: =IF('sans tri'!A2<>"",'sans tri'!A2,"") -> ID_xxxx1 | B2: =IF('sans tri'!B2<>"",'sans tri'!B2,"") | C2: =IF('sans tri'!C2<>"",'sans tri'!C2,"") -> 6S | D2: =IF('sans tri'!D2<>"",'sans tri'!D2,"") | E2: =IF(H2="",IF('sans tri'!E2<>"",'sans tri'!E2,""),"COLLEGE 0") -> COLLEGE 1 | F2: =IF('sans tri'!F2<>"",'sans tri'!F2,"") -> COLLEGE 1 | G2: =IF('sans tri'!G2<>"",'sans tri'!G2,"") -> Oui | H2: =IF(F2<>'sans tri'!E2,"OUI","")
A3: =IF('sans tri'!A3<>"",'sans tri'!A3,"") -> ID_xxxx2 | B3: =IF('sans tri'!B3<>"",'sans tri'!B3,"") | C3: =IF('sans tri'!C3<>"",'sans tri'!C3,"") -> 6S | D3: =IF('sans tri'!D3<>"",'sans tri'!D3,"") | E3: =IF(H3="",IF('sans tri'!E3<>"",'sans tri'!E3,""),"COLLEGE 0") -> COLLEGE 1 | F3: =IF('sans tri'!F3<>"",'sans tri'!F3,"") -> COLLEGE 1 | G3: =IF('sans tri'!G3<>"",'sans tri'!G3,"") -> Oui | H3: =IF(F3<>'sans tri'!E3,"OUI","")
A4: =IF('sans tri'!A4<>"",'sans tri'!A4,"") -> ID_xxxx3 | B4: =IF('sans tri'!B4<>"",'sans tri'!B4,"") | C4: =IF('sans tri'!C4<>"",'sans tri'!C4,"") -> 6S | D4: =IF('sans tri'!D4<>"",'sans tri'!D4,"") | E4: =IF(H4="",IF('sans tri'!E4<>"",'sans tri'!E4,""),"COLLEGE 0") -> COLLEGE 1 | F4: =IF('sans tri'!F4<>"",'sans tri'!F4,"") -> COLLEGE 1 | G4: =IF('sans tri'!G4<>"",'sans tri'!G4,"") -> Oui | H4: =IF(F4<>'sans tri'!E4,"OUI","")
A5: =IF('sans tri'!A5<>"",'sans tri'!A5,"") -> ID_xxxx4 | B5: =IF('sans tri'!B5<>"",'sans tri'!B5,"") | C5: =IF('sans tri'!C5<>"",'sans tri'!C5,"") -> X | D5: =IF('sans tri'!D5<>"",'sans tri'!D5,"") | E5: =IF(H5="",IF('sans tri'!E5<>"",'sans tri'!E5,""),"COLLEGE 0") -> COLLEGE 0 | F5: =IF('sans tri'!F5<>"",'sans tri'!F5,"") -> COLLEGE 1 | G5: =IF('sans tri'!G5<>"",'sans tri'!G5,"") -> Non | H5: =IF(F5<>'sans tri'!E5,"OUI","") -> OUI
A6: =IF('sans tri'!A6<>"",'sans tri'!A6,"") -> ID_xxxx5 | B6: =IF('sans tri'!B6<>"",'sans tri'!B6,"") | C6: =IF('sans tri'!C6<>"",'sans tri'!C6,"") -> 6S | D6: =IF('sans tri'!D6<>"",'sans tri'!D6,"") | E6: =IF(H6="",IF('sans tri'!E6<>"",'sans tri'!E6,""),"COLLEGE 0") -> COLLEGE 1 | F6: =IF('sans tri'!F6<>"",'sans tri'!F6,"") -> COLLEGE 1 | G6: =IF('sans tri'!G6<>"",'sans tri'!G6,"") -> Oui | H6: =IF(F6<>'sans tri'!E6,"OUI","")
A7: =IF('sans tri'!A7<>"",'sans tri'!A7,"") -> ID_xxxx6 | B7: =IF('sans tri'!B7<>"",'sans tri'!B7,"") | C7: =IF('sans tri'!C7<>"",'sans tri'!C7,"") -> 6E | D7: =IF('sans tri'!D7<>"",'sans tri'!D7,"") | E7: =IF(H7="",IF('sans tri'!E7<>"",'sans tri'!E7,""),"COLLEGE 0") -> COLLEGE 1 | F7: =IF('sans tri'!F7<>"",'sans tri'!F7,"") -> COLLEGE 1 | G7: =IF('sans tri'!G7<>"",'sans tri'!G7,"") -> Oui | H7: =IF(F7<>'sans tri'!E7,"OUI","")
A8: =IF('sans tri'!A8<>"",'sans tri'!A8,"") -> ID_xxxx7 | B8: =IF('sans tri'!B8<>"",'sans tri'!B8,"") | C8: =IF('sans tri'!C8<>"",'sans tri'!C8,"") -> 6E | D8: =IF('sans tri'!D8<>"",'sans tri'!D8,"") | E8: =IF(H8="",IF('sans tri'!E8<>"",'sans tri'!E8,""),"COLLEGE 0") -> COLLEGE 1 | F8: =IF('sans tri'!F8<>"",'sans tri'!F8,"") -> COLLEGE 1 | G8: =IF('sans tri'!G8<>"",'sans tri'!G8,"") -> Oui | H8: =IF(F8<>'sans tri'!E8,"OUI","") | M8: Allez en ligne 1000 et tirez kla vers le bas (Colonnes A à H ) jusqu'à 100 000 lignes merci
A9: =IF('sans tri'!A9<>"",'sans tri'!A9,"") -> ID_xxxx8 | B9: =IF('sans tri'!B9<>"",'sans tri'!B9,"") | C9: =IF('sans tri'!C9<>"",'sans tri'!C9,"") -> 6E | D9: =IF('sans tri'!D9<>"",'sans tri'!D9,"") | E9: =IF(H9="",IF('sans tri'!E9<>"",'sans tri'!E9,""),"COLLEGE 0") -> COLLEGE 1 | F9: =IF('sans tri'!F9<>"",'sans tri'!F9,"") -> COLLEGE 1 | G9: =IF('sans tri'!G9<>"",'sans tri'!G9,"") -> Oui | H9: =IF(F9<>'sans tri'!E9,"OUI","")
A10: =IF('sans tri'!A10<>"",'sans tri'!A10,"") -> ID_xxxx9 | B10: =IF('sans tri'!B10<>"",'sans tri'!B10,"") | C10: =IF('sans tri'!C10<>"",'sans tri'!C10,"") -> 6E | D10: =IF('sans tri'!D10<>"",'sans tri'!D10,"") | E10: =IF(H10="",IF('sans tri'!E10<>"",'sans tri'!E10,""),"COLLEGE 0") -> COLLEGE 1 | F10: =IF('sans tri'!F10<>"",'sans tri'!F10,"") -> COLLEGE 1 | G10: =IF('sans tri'!G10<>"",'sans tri'!G10,"") -> Oui | H10: =IF(F10<>'sans tri'!E10,"OUI","")
A11: =IF('sans tri'!A11<>"",'sans tri'!A11,"") -> ID_xxxx10 | B11: =IF('sans tri'!B11<>"",'sans tri'!B11,"") | C11: =IF('sans tri'!C11<>"",'sans tri'!C11,"") -> Y | D11: =IF('sans tri'!D11<>"",'sans tri'!D11,"") | E11: =IF(H11="",IF('sans tri'!E11<>"",'sans tri'!E11,""),"COLLEGE 0") -> COLLEGE 0 | F11: =IF('sans tri'!F11<>"",'sans tri'!F11,"") -> COLLEGE 1 | G11: =IF('sans tri'!G11<>"",'sans tri'!G11,"") -> Non | H11: =IF(F11<>'sans tri'!E11,"OUI","") -> OUI | M11: Pour avoir les Dérogations il suffit de mettre un filtre
A12: =IF('sans tri'!A12<>"",'sans tri'!A12,"") -> ID_xxxx11 | B12: =IF('sans tri'!B12<>"",'sans tri'!B12,"") | C12: =IF('sans tri'!C12<>"",'sans tri'!C12,"") -> 6E | D12: =IF('sans tri'!D12<>"",'sans tri'!D12,"") | E12: =IF(H12="",IF('sans tri'!E12<>"",'sans tri'!E12,""),"COLLEGE 0") -> COLLEGE 1 | F12: =IF('sans tri'!F12<>"",'sans tri'!F12,"") -> COLLEGE 1 | G12: =IF('sans tri'!G12<>"",'sans tri'!G12,"") -> Oui | H12: =IF(F12<>'sans tri'!E12,"OUI","")
A13: =IF('sans tri'!A13<>"",'sans tri'!A13,"") -> ID_xxxx12 | B13: =IF('sans tri'!B13<>"",'sans tri'!B13,"") | C13: =IF('sans tri'!C13<>"",'sans tri'!C13,"") -> 6E | D13: =IF('sans tri'!D13<>"",'sans tri'!D13,"") | E13: =IF(H13="",IF('sans tri'!E13<>"",'sans tri'!E13,""),"COLLEGE 0") -> COLLEGE 1 | F13: =IF('sans tri'!F13<>"",'sans tri'!F13,"") -> COLLEGE 1 | G13: =IF('sans tri'!G13<>"",'sans tri'!G13,"") -> Oui | H13: =IF(F13<>'sans tri'!E13,"OUI","") | M13: Ne rien écrire sur cette feuille entre les colonnes A et H car 1 000 lignes sont occupées par des formules
A14: =IF('sans tri'!A14<>"",'sans tri'!A14,"") -> ID_xxxx13 | B14: =IF('sans tri'!B14<>"",'sans tri'!B14,"") | C14: =IF('sans tri'!C14<>"",'sans tri'!C14,"") -> 6E | D14: =IF('sans tri'!D14<>"",'sans tri'!D14,"") | E14: =IF(H14="",IF('sans tri'!E14<>"",'sans tri'!E14,""),"COLLEGE 0") -> COLLEGE 1 | F14: =IF('sans tri'!F14<>"",'sans tri'!F14,"") -> COLLEGE 1 | G14: =IF('sans tri'!G14<>"",'sans tri'!G14,"") -> Oui | H14: =IF(F14<>'sans tri'!E14,"OUI","")
A15: =IF('sans tri'!A15<>"",'sans tri'!A15,"") -> ID_xxxx14 | B15: =IF('sans tri'!B15<>"",'sans tri'!B15,"") | C15: =IF('sans tri'!C15<>"",'sans tri'!C15,"") -> 6E | D15: =IF('sans tri'!D15<>"",'sans tri'!D15,"") | E15: =IF(H15="",IF('sans tri'!E15<>"",'sans tri'!E15,""),"COLLEGE 0") -> COLLEGE 1 | F15: =IF('sans tri'!F15<>"",'sans tri'!F15,"") -> COLLEGE 1 | G15: =IF('sans tri'!G15<>"",'sans tri'!G15,"") -> Oui | H15: =IF(F15<>'sans tri'!E15,"OUI","")
A16: =IF('sans tri'!A16<>"",'sans tri'!A16,"") -> ID_xxxx15 | B16: =IF('sans tri'!B16<>"",'sans tri'!B16,"") | C16: =IF('sans tri'!C16<>"",'sans tri'!C16,"") -> 6E | D16: =IF('sans tri'!D16<>"",'sans tri'!D16,"") | E16: =IF(H16="",IF('sans tri'!E16<>"",'sans tri'!E16,""),"COLLEGE 0") -> COLLEGE 0 | F16: =IF('sans tri'!F16<>"",'sans tri'!F16,"") -> COLLEGE 1 | G16: =IF('sans tri'!G16<>"",'sans tri'!G16,"") -> Non | H16: =IF(F16<>'sans tri'!E16,"OUI","") -> OUI | M16: Et après votre intervention 100 000 lignes !
A17: =IF('sans tri'!A17<>"",'sans tri'!A17,"") -> ID_xxxx16 | B17: =IF('sans tri'!B17<>"",'sans tri'!B17,"") | C17: =IF('sans tri'!C17<>"",'sans tri'!C17,"") -> 6E | D17: =IF('sans tri'!D17<>"",'sans tri'!D17,"") | E17: =IF(H17="",IF('sans tri'!E17<>"",'sans tri'!E17,""),"COLLEGE 0") -> COLLEGE 1 | F17: =IF('sans tri'!F17<>"",'sans tri'!F17,"") -> COLLEGE 1 | G17: =IF('sans tri'!G17<>"",'sans tri'!G17,"") -> Oui | H17: =IF(F17<>'sans tri'!E17,"OUI","")
A18: =IF('sans tri'!A18<>"",'sans tri'!A18,"") -> ID_xxxx17 | B18: =IF('sans tri'!B18<>"",'sans tri'!B18,"") | C18: =IF('sans tri'!C18<>"",'sans tri'!C18,"") -> 6E | D18: =IF('sans tri'!D18<>"",'sans tri'!D18,"") | E18: =IF(H18="",IF('sans tri'!E18<>"",'sans tri'!E18,""),"COLLEGE 0") -> COLLEGE 1 | F18: =IF('sans tri'!F18<>"",'sans tri'!F18,"") -> COLLEGE 1 | G18: =IF('sans tri'!G18<>"",'sans tri'!G18,"") -> Oui | H18: =IF(F18<>'sans tri'!E18,"OUI","")
A19: =IF('sans tri'!A19<>"",'sans tri'!A19,"") -> ID_xxxx18 | B19: =IF('sans tri'!B19<>"",'sans tri'!B19,"") | C19: =IF('sans tri'!C19<>"",'sans tri'!C19,"") -> 6E | D19: =IF('sans tri'!D19<>"",'sans tri'!D19,"") | E19: =IF(H19="",IF('sans tri'!E19<>"",'sans tri'!E19,""),"COLLEGE 0") -> COLLEGE 1 | F19: =IF('sans tri'!F19<>"",'sans tri'!F19,"") -> COLLEGE 1 | G19: =IF('sans tri'!G19<>"",'sans tri'!G19,"") -> Oui | H19: =IF(F19<>'sans tri'!E19,"OUI","")
A20: =IF('sans tri'!A20<>"",'sans tri'!A20,"") -> ID_xxxx19 | B20: =IF('sans tri'!B20<>"",'sans tri'!B20,"") | C20: =IF('sans tri'!C20<>"",'sans tri'!C20,"") -> 6E | D20: =IF('sans tri'!D20<>"",'sans tri'!D20,"") | E20: =IF(H20="",IF('sans tri'!E20<>"",'sans tri'!E20,""),"COLLEGE 0") -> COLLEGE 1 | F20: =IF('sans tri'!F20<>"",'sans tri'!F20,"") -> COLLEGE 1 | G20: =IF('sans tri'!G20<>"",'sans tri'!G20,"") -> Oui | H20: =IF(F20<>'sans tri'!E20,"OUI","")
A21: =IF('sans tri'!A21<>"",'sans tri'!A21,"") -> ID_xxxx20 | B21: =IF('sans tri'!B21<>"",'sans tri'!B21,"") | C21: =IF('sans tri'!C21<>"",'sans tri'!C21,"") -> 6E | D21: =IF('sans tri'!D21<>"",'sans tri'!D21,"") | E21: =IF(H21="",IF('sans tri'!E21<>"",'sans tri'!E21,""),"COLLEGE 0") -> COLLEGE 1 | F21: =IF('sans tri'!F21<>"",'sans tri'!F21,"") -> COLLEGE 1 | G21: =IF('sans tri'!G21<>"",'sans tri'!G21,"") -> Oui | H21: =IF(F21<>'sans tri'!E21,"OUI","")
A22: =IF('sans tri'!A22<>"",'sans tri'!A22,"") | B22: =IF('sans tri'!B22<>"",'sans tri'!B22,"") | C22: =IF('sans tri'!C22<>"",'sans tri'!C22,"") | D22: =IF('sans tri'!D22<>"",'sans tri'!D22,"") | E22: =IF(H22="",IF('sans tri'!E22<>"",'sans tri'!E22,""),"COLLEGE 0") | F22: =IF('sans tri'!F22<>"",'sans tri'!F22,"") | G22: =IF('sans tri'!G22<>"",'sans tri'!G22,"") | H22: =IF(F22<>'sans tri'!E22,"OUI","")
A23: =IF('sans tri'!A23<>"",'sans tri'!A23,"") | B23: =IF('sans tri'!B23<>"",'sans tri'!B23,"") | C23: =IF('sans tri'!C23<>"",'sans tri'!C23,"") | D23: =IF('sans tri'!D23<>"",'sans tri'!D23,"") | E23: =IF(H23="",IF('sans tri'!E23<>"",'sans tri'!E23,""),"COLLEGE 0") | F23: =IF('sans tri'!F23<>"",'sans tri'!F23,"") | G23: =IF('sans tri'!G23<>"",'sans tri'!G23,"") | H23: =IF(F23<>'sans tri'!E23,"OUI","")
A24: =IF('sans tri'!A24<>"",'sans tri'!A24,"") | B24: =IF('sans tri'!B24<>"",'sans tri'!B24,"") | C24: =IF('sans tri'!C24<>"",'sans tri'!C24,"") | D24: =IF('sans tri'!D24<>"",'sans tri'!D24,"") | E24: =IF(H24="",IF('sans tri'!E24<>"",'sans tri'!E24,""),"COLLEGE 0") | F24: =IF('sans tri'!F24<>"",'sans tri'!F24,"") | G24: =IF('sans tri'!G24<>"",'sans tri'!G24,"") | H24: =IF(F24<>'sans tri'!E24,"OUI","")
A25: =IF('sans tri'!A25<>"",'sans tri'!A25,"") | B25: =IF('sans tri'!B25<>"",'sans tri'!B25,"") | C25: =IF('sans tri'!C25<>"",'sans tri'!C25,"") | D25: =IF('sans tri'!D25<>"",'sans tri'!D25,"") | E25: =IF(H25="",IF('sans tri'!E25<>"",'sans tri'!E25,""),"COLLEGE 0") | F25: =IF('sans tri'!F25<>"",'sans tri'!F25,"") | G25: =IF('sans tri'!G25<>"",'sans tri'!G25,"") | H25: =IF(F25<>'sans tri'!E25,"OUI","")
A26: =IF('sans tri'!A26<>"",'sans tri'!A26,"") | B26: =IF('sans tri'!B26<>"",'sans tri'!B26,"") | C26: =IF('sans tri'!C26<>"",'sans tri'!C26,"") | D26: =IF('sans tri'!D26<>"",'sans tri'!D26,"") | E26: =IF(H26="",IF('sans tri'!E26<>"",'sans tri'!E26,""),"COLLEGE 0") | F26: =IF('sans tri'!F26<>"",'sans tri'!F26,"") | G26: =IF('sans tri'!G26<>"",'sans tri'!G26,"") | H26: =IF(F26<>'sans tri'!E26,"OUI","")
A27: =IF('sans tri'!A27<>"",'sans tri'!A27,"") | B27: =IF('sans tri'!B27<>"",'sans tri'!B27,"") | C27: =IF('sans tri'!C27<>"",'sans tri'!C27,"") | D27: =IF('sans tri'!D27<>"",'sans tri'!D27,"") | E27: =IF(H27="",IF('sans tri'!E27<>"",'sans tri'!E27,""),"COLLEGE 0") | F27: =IF('sans tri'!F27<>"",'sans tri'!F27,"") | G27: =IF('sans tri'!G27<>"",'sans tri'!G27,"") | H27: =IF(F27<>'sans tri'!E27,"OUI","")
A28: =IF('sans tri'!A28<>"",'sans tri'!A28,"") | B28: =IF('sans tri'!B28<>"",'sans tri'!B28,"") | C28: =IF('sans tri'!C28<>"",'sans tri'!C28,"") | D28: =IF('sans tri'!D28<>"",'sans tri'!D28,"") | E28: =IF(H28="",IF('sans tri'!E28<>"",'sans tri'!E28,""),"COLLEGE 0") | F28: =IF('sans tri'!F28<>"",'sans tri'!F28,"") | G28: =IF('sans tri'!G28<>"",'sans tri'!G28,"") | H28: =IF(F28<>'sans tri'!E28,"OUI","")
... A999: =IF('sans tri'!A999<>"",'sans tri'!A999,"") | B999: =IF('sans tri'!B999<>"",'sans tri'!B999,"") | C999: =IF('sans tri'!C999<>"",'sans tri'!C999,"") | D999: =IF('sans tri'!D999<>"",'sans tri'!D999,"") | E999: =IF(H999="",IF('sans tri'!E999<>"",'sans tri'!E999,""),"COLLEGE 0") | F999: =IF('sans tri'!F999<>"",'sans tri'!F999,"") | G999: =IF('sans tri'!G999<>"",'sans tri'!G999,"") | H999: =IF(F999<>'sans tri'!E999,"OUI","")
A1000: =IF('sans tri'!A1000<>"",'sans tri'!A1000,"") | B1000: =IF('sans tri'!B1000<>"",'sans tri'!B1000,"") | C1000: =IF('sans tri'!C1000<>"",'sans tri'!C1000,"") | D1000: =IF('sans tri'!D1000<>"",'sans tri'!D1000,"") | E1000: =IF(H1000="",IF('sans tri'!E1000<>"",'sans tri'!E1000,""),"COLLEGE 0") | F1000: =IF('sans tri'!F1000<>"",'sans tri'!F1000,"") | G1000: =IF('sans tri'!G1000<>"",'sans tri'!G1000,"") | H1000: =IF(F1000<>'sans tri'!E1000,"OUI","") | I1000: Je me suis arrété ici, il faut effacer ce commentaire et tirer cette ligne vers le bas jusqu'à 100 000 lignes merci
A1001: =IF('sans tri'!A1001<>"",'sans tri'!A1001,"") | B1001: =IF('sans tri'!B1001<>"",'sans tri'!B1001,"") | C1001: =IF('sans tri'!C1001<>"",'sans tri'!C1001,"") | D1001: =IF('sans tri'!D1001<>"",'sans tri'!D1001,"") | E1001: =IF(H1001="",IF('sans tri'!E1001<>"",'sans tri'!E1001,""),"COLLEGE 0") | F1001: =IF('sans tri'!F1001<>"",'sans tri'!F1001,"") | G1001: =IF('sans tri'!G1001<>"",'sans tri'!G1001,"") | H1001: =IF(F1001<>'sans tri'!E1001,"OUI","") | I1001: J'ai fais cela pour ne pas avoir un trop gros fichier
