Workbook
Name Opéartion_6: '01_BDD'!$G$50:$G$53
Name Opération_1: '01_BDD'!$G$27:$G$28
Name Opération_10: '01_BDD'!$G$61:$G$64
Name Opération_11: '01_BDD'!$G$65:$G$68
Name Opération_12: '01_BDD'!$G$69:$G$71
Name Opération_2: '01_BDD'!$G$29:$G$34
Name Opération_3: '01_BDD'!$G$35:$G$40
Name Opération_4: '01_BDD'!$G$41:$G$44
Name Opération_5: '01_BDD'!$G$45:$G$49
Name Opération_7: '01_BDD'!$G$54
Name Opération_8: '01_BDD'!$G$55:$G$58
Name Opération_9: '01_BDD'!$G$59:$G$60

Sheet 01_BDD
A1: 01_BASE DE DONNÉES
A3: 1.1 Vos données
A5: Saisir dans les cases roses uniquement
A7: Votre nom ou raison sociale : | B7: REL | D7: Moyens de règlement clients :
A8: Complément raison sociale : | B8: SARL au capital de 6 000 € | D8: Chèque
A9: Adresse de votre siège : | B9: 17 CHEMIN DU SANS SOUCI | D9: Virement
A10: Code postal : | B10: 13100 AIX EN PROVENCE
A11: Ville : | B11: AIX EN PROVENCE
A12: Téléphone : | B12: 06 06 06 06 06
A13: Site internet : | B13: www.REL.com
A14: Numéro Siret : | B14: 500 500 500 RCS AIX EN PROVENCE
A15: Numéro de TVA intracommunautaire : | B15: FR 17 111 111 111
A16: Taux de TVA | B16: 0.2
A20: 1.1 DPGF
A22: Saisir dans les cases roses uniquement / Ne pas Sauter de ligne / Ne pas laisser de ligne vide / Ne pas fusionner les lignes (utiliser "=" pour éviter les problèmes de mie en forme)
A23: ATTENTION - A CHAQUE NOUVELLE OPERATION => Nommer l'ensemble des lignes créer depuis la colonne B Remplacer les " espaces" par des "_" pour que les listes fonctionnent
H25: Concertation / Réunions / Visites | J25: Production | L25: Montant HT global | N25: Commentaires
A26: Mode de facturation | B26: Nom opération | C26: Nom client | D26: Affaire suivie par | E26: Adresse facturation | F26: Référence du marché | G26: Phases | H26: Forfait jour | I26: Nb de jours | J26: Forfait jour | K26: Nb de jours | L26: Par phase | M26: Global
B27: Opération_1 | C27: Client 1 | D27: XXX | E27: Hihgway to Hell | G27: PHASE 1 | H27: 800 | I27: 3.5 | J27: 650 | K27: 6 | L27: =(I27*H27)+(J27*K27) -> 6700 | M27: =SUM(L27:L28) -> 11950
B28: =B27 -> Opération_1 | C28: =C27 -> Client 1 | D28: =D27 -> XXX | E28: =E27 -> Hihgway to Hell | G28: PHASE 2 | H28: 800 | I28: 2.5 | J28: 650 | K28: 5 | L28: =(I28*H28)+(J28*K28) -> 5250
B29: Opération_2 | C29: Client 2 | D29: XXX | E29: Hihgway to Hell | G29: PHASE 1 | H29: 750 | I29: 3.5 | J29: 600 | K29: 4 | L29: =(I29*H29)+(J29*K29) -> 5025 | M29: =SUM(L29:L34) -> 26325
B30: =B29 -> Opération_2 | C30: =C29 -> Client 2 | D30: =D29 -> XXX | E30: =E29 -> Hihgway to Hell | G30: PHASE 2 | H30: 750 | I30: =3+1 -> 4 | J30: 600 | K30: =5+2+2+0.5 -> 9.5 | L30: =(I30*H30)+(J30*K30) -> 8700
B31: =B30 -> Opération_2 | C31: =C30 -> Client 2 | D31: =D30 -> XXX | E31: =E30 -> Hihgway to Hell | G31: PHASE 3 | H31: 750 | I31: 1.5 | J31: 600 | K31: =3+1+0.5+1+0.5 -> 6 | L31: =(I31*H31)+(J31*K31) -> 4725
B32: =B31 -> Opération_2 | C32: =C31 -> Client 2 | D32: =D31 -> XXX | E32: =E31 -> Hihgway to Hell | G32: PHASE 4 | H32: 750 | I32: 1 | J32: 600 | K32: 3 | L32: =(I32*H32)+(J32*K32) -> 2550
B33: =B32 -> Opération_2 | C33: =C32 -> Client 2 | D33: =D32 -> XXX | E33: =E32 -> Hihgway to Hell | G33: PHASE 5 | H33: 750 | I33: 1.5 | J33: 600 | K33: 4.5 | L33: =(I33*H33)+(J33*K33) -> 3825
B34: =B33 -> Opération_2 | C34: =C33 -> Client 2 | D34: =D33 -> XXX | E34: =E29 -> Hihgway to Hell | G34: PHASE 6 | H34: 750 | I34: 0 | J34: 600 | K34: 2.5 | L34: =(I34*H34)+(J34*K34) -> 1500
B35: Opération_3 | C35: Client 3 | D35: XXX | E35: Hihgway to Hell | G35: PHASE 1 | H35: 750 | I35: 4 | J35: 600 | K35: 5 | L35: =(I35*H35)+(J35*K35) -> 6000 | M35: =SUM(L35:L40) -> 20475
B36: =B35 -> Opération_3 | C36: =C35 -> Client 3 | D36: =D35 -> XXX | E36: =E35 -> Hihgway to Hell | G36: PHASE 2 | H36: 750 | I36: 1.5 | J36: 600 | K36: 5.5 | L36: =(I36*H36)+(J36*K36) -> 4425
B37: =B36 -> Opération_3 | C37: =C36 -> Client 3 | D37: =D36 -> XXX | E37: =E36 -> Hihgway to Hell | G37: PHASE 3 | H37: 750 | I37: 1.5 | J37: 600 | K37: 4.5 | L37: =(I37*H37)+(J37*K37) -> 3825
B38: =B37 -> Opération_3 | C38: =C37 -> Client 3 | D38: =D37 -> XXX | E38: =E37 -> Hihgway to Hell | G38: PHASE 4 | H38: 750 | I38: 0 | J38: 600 | K38: 3.5 | L38: =(I38*H38)+(J38*K38) -> 2100
B39: =B38 -> Opération_3 | C39: =C38 -> Client 3 | D39: =D38 -> XXX | E39: =E38 -> Hihgway to Hell | G39: PHASE 5 | H39: 750 | I39: 1.5 | J39: 600 | K39: 2.5 | L39: =(I39*H39)+(J39*K39) -> 2625
B40: =B39 -> Opération_3 | C40: =C39 -> Client 3 | D40: =D39 -> XXX | E40: =E39 -> Hihgway to Hell | G40: PHASE 6 | H40: 750 | I40: 0 | J40: 600 | K40: 2.5 | L40: =(I40*H40)+(J40*K40) -> 1500
B41: Opération_4 | C41: =C40 -> Client 3 | D41: XXX | E41: Hihgway to Hell | G41: PHASE 1 | H41: 750 | I41: 3 | J41: 600 | K41: 4 | L41: =(I41*H41)+(J41*K41) -> 4650 | M41: =SUM(L41:L44) -> 18900
B42: =B41 -> Opération_4 | C42: =C41 -> Client 3 | D42: =D41 -> XXX | E42: =E41 -> Hihgway to Hell | G42: PHASE 2 | H42: 750 | I42: 2.5 | J42: 600 | K42: 8.5 | L42: =(I42*H42)+(J42*K42) -> 6975
B43: =B42 -> Opération_4 | C43: =C42 -> Client 3 | D43: =D42 -> XXX | E43: =E42 -> Hihgway to Hell | G43: PHASE 3 | H43: 750 | I43: 1.5 | J43: 600 | K43: 6 | L43: =(I43*H43)+(J43*K43) -> 4725
B44: =B43 -> Opération_4 | C44: =C43 -> Client 3 | D44: =D43 -> XXX | E44: =E43 -> Hihgway to Hell | G44: PHASE 4 | H44: 750 | I44: 1 | J44: 600 | K44: 3 | L44: =(I44*H44)+(J44*K44) -> 2550
B45: Opération_5 | C45: =C44 -> Client 3 | D45: XXX | E45: Hihgway to Hell | G45: PHASE 1 | H45: 750 | I45: 3 | J45: 600 | K45: 5 | L45: =(I45*H45)+(J45*K45) -> 5250 | M45: =SUM(L45:L49) -> 23325
B46: =B45 -> Opération_5 | C46: =C45 -> Client 3 | D46: =D45 -> XXX | E46: =E45 -> Hihgway to Hell | G46: PHASE 2 | H46: 750 | I46: 2.5 | J46: 600 | K46: 8.5 | L46: =(I46*H46)+(J46*K46) -> 6975
B47: =B46 -> Opération_5 | C47: =C46 -> Client 3 | D47: =D46 -> XXX | E47: =E46 -> Hihgway to Hell | G47: PHASE 3 | H47: 750 | I47: 1.5 | J47: 600 | K47: 6 | L47: =(I47*H47)+(J47*K47) -> 4725
B48: =B47 -> Opération_5 | C48: =C47 -> Client 3 | D48: =D47 -> XXX | E48: =E47 -> Hihgway to Hell | G48: PHASE 4 | H48: 750 | I48: 1 | J48: 600 | K48: 3 | L48: =(I48*H48)+(J48*K48) -> 2550
...

Sheet 02_Base facturation
A1: 02_BASE FACTURATION
A4: Saisir dans les cases roses | C4: Saisissez vos factures à la suite :
A7: Numéro d'ordre facture : | B7: DEVIS (apparaitra dans l'onglet devis) | C7: F2020_01 | D7: F2020_02 | E7: F2020_03 | F7: F2020_04 | G7: F2020_05 | H7: F2020_06 | I7: F2020_07 | J7: F2020_08 | K7: F2020_09 | L7: F2020_10 | M7: F2020_11 | N7: F2020_12 | O7: F2020_13 | P7: F2020_14 | Q7: F2020_15 | R7: F2020_16 | S7: F2020_17 | T7: F2020_18 | U7: F2020_19 | V7: F2020_20 | W7: F2020_21 | X7: F2020_22 | Y7: F2020_23 | Z7: F2020_24 | AA7: F2020_25 | AB7: F2020_26 | AC7: F2020_27 | AD7: F2020_28 | AE7: F2020_29 | AF7: F2020_30 | AG7: F2020_31 | AH7: F2020_32 | AI7: F2020_33 | AJ7: F2020_34 | AK7: F2020_35 | AL7: F2020_36 | AM7: F2020_37 | AN7: F2020_38 | AO7: F2020_39 | AP7: F2020_40 | AQ7: F2020_41 | AR7: F2020_42 | AS7: F2020_43 | AT7: F2020_44 | AU7: F2020_45 | AV7: F2020_46 | AW7: F2020_47 | AX7: F2020_48 | AY7: F2020_49
A8: Sélectionner un nom d'opération: | B8: C00001 | C8: Opération_1 | D8: Opération_2 | E8: Opération_2 | F8: Opération_2 | G8: Opération_3 | H8: Opération_3 | I8: Opération_3 | J8: Opération_4 | K8: Opération_4 | L8: Opération_4 | M8: Opération_5 | N8: Opéartion_6 | O8: Opéartion_6 | P8: Opération_7 | Q8: Opération_8 | R8: Opération_8 | S8: Opération_9 | T8: Opération_1
A9: Sélectionner une phase: | B9: =IF(ISBLANK(B8),"",VLOOKUP(B8,#REF!,3,0)) -> #REF! | C9: PHASE 1 | D9: PHASE 1 | E9: PHASE 2 | F9: PHASE 3 | G9: PHASE 1 | H9: PHASE 2 | I9: PHASE 3 | J9: PHASE 1 | K9: PHASE 2 | L9: PHASE 3 | M9: PHASE 1 | N9: PHASE 1 | O9: PHASE 2 | P9: PHASE 1 | Q9: PHASE 1 | R9: PHASE 2 | S9: PHASE 1 | T9: PHASE 2
A11: Saisir date facture (Ctrl + touche point virgule pour la date du jour) ; obligatoire | B11: 43928 | C11: 43678 | D11: 43678 | E11: 43922 | F11: 43862 | G11: 43862 | H11: 43922 | I11: 43922 | J11: 43800 | K11: 43800 | L11: 43800 | M11: 43891 | N11: 43647 | O11: 43647 | P11: 43770 | Q11: 43678 | R11: 43800 | S11: 43709 | T11: 43709
A12: Date échéance | B12: 43951 | C12: =EDATE(C11,1) -> 43709 | D12: =EDATE(D11,1) -> 43709 | E12: =EDATE(E11,1) -> 43952 | F12: =EDATE(F11,1) -> 43891 | G12: =EDATE(G11,1) -> 43891 | H12: =EDATE(H11,1) -> 43952 | I12: =EDATE(I11,1) -> 43952 | J12: =EDATE(J11,1) -> 43831 | ... AY12: =EDATE(AY11,1) -> 31
A13: Choisir moyen de règlement : | B13: Virement | C13: Virement | D13: Virement | E13: Virement | F13: Virement | G13: Virement | H13: Virement | I13: Virement | J13: Virement | K13: Virement | L13: Virement | M13: Virement | N13: Virement | O13: Virement | P13: Virement | Q13: Virement | R13: Virement | S13: Virement | T13: Virement | U13: Virement | V13: Virement | W13: Virement | X13: Virement | Y13: Virement | Z13: Virement | AA13: Virement | AB13: Virement | AC13: Virement | AD13: Virement | AE13: Virement | AF13: Virement | AG13: Virement | AH13: Virement | AI13: Virement | AJ13: Virement | AK13: Virement | AL13: Virement | AM13: Virement | AN13: Virement | AO13: Virement | AP13: Virement | AQ13: Virement | AR13: Virement | AS13: Virement | AT13: Virement | AU13: Virement | AV13: Virement | AW13: Virement | AX13: Virement | AY13: Virement
A14: Déjà réglé : | B14: 0 | C14: 0 | D14: 0 | E14: 0 | F14: 0 | G14: 0 | H14: 0 | I14: 0 | J14: 0 | K14: 0 | L14: 0 | M14: 0 | N14: 0 | O14: 0 | P14: 0 | Q14: 0 | R14: 0 | S14: 0 | T14: 0 | U14: 0 | V14: 0 | W14: 0 | X14: 0 | Y14: 0 | Z14: 0 | AA14: 0 | AB14: 0 | AC14: 0 | AD14: 0 | AE14: 0 | AF14: 0 | AG14: 0 | AH14: 0 | AI14: 0 | AJ14: 0 | AK14: 0 | AL14: 0 | AM14: 0 | AN14: 0 | AO14: 0 | AP14: 0 | AQ14: 0 | AR14: 0 | AS14: 0 | AT14: 0 | AU14: 0 | AV14: 0 | AW14: 0 | AX14: 0 | AY14: 0
A15: Ligne < 90
A16: Montant de la Phase | C16: =IF(AND(C8='01_BDD'!$B$27,C9='01_BDD'!$G$27),'01_BDD'!$L$27,IF(AND(C8='01_BDD'!$B$28,C9='01_BDD'!$G$28),'01_BDD'!$L$28,IF(AND(C8='01_BDD'!$B$29,C9='01_BDD'!$G$29),'01_BDD'!$L$29,IF(AND(C8='01_BDD'!$B$30,C9='01_BDD'!$G$30),'01_BDD'!$L$30,IF(AND(C8='01_BDD'!$B$31,C9='01_BDD'!$G$31),'01_BDD'!$L$31,IF(AND(C8='01_BDD'!$B$32,C9='01_BDD'!$G$32),'01_BDD'!$L$32,IF(AND(C8='01_BDD'!$B$33,C9='01_BDD'!$G$33),'01_BDD'!$L$33,IF(AND(C8='01_BDD'!$B$34,C9='01_BDD'!$G$34),'01_BDD'!$L$34,IF(AND(C8='01_BDD'!$B$35,C9='01_BDD'!$G$35),'01_BDD'!$L$35,IF(AND(C8='01_BDD'!$B$36,C9='01_BDD'!$G$36),'01_BDD'!$L$36,IF(AND(C8='01_BDD'!$B$37,C9='01_BDD'!$G$37),'01_BDD'!$L$37,IF(AND(C8='01_BDD'!$B$38,C9='01_BDD'!$G$38),'01_BDD'!$L$38,IF(AND(C8='01_BDD'!$B$39,C9='01_BDD'!$G$39),'01_BDD'!$L$39,IF(AND(C8='01_BDD'!$B$40,C9='01_BDD'!$G$40),'01_BDD'!$L$40,IF(AND(C8='01_BDD'!$B$41,C9='01_BDD'!$G$41),'01_BDD'!$L$41,IF(AND(C8='01_BDD'!$B$42,C9='01_BDD'!$G$42),'01_BDD'!$L$42,IF(AND(C8='01_BDD'!$B$43,C9='01_BDD'!$G$43),'01_BDD'!$L$43,IF(AND(C8='01_BDD'!$B$44,C9='01_BDD'!$G$44),'01_BDD'!$L$44,IF(AND(C8='01_BDD'!$B$45,C9='01_BDD'!$G$45),'01_BDD'!$L$45,IF(AND(C8='01_BDD'!$B$46,C9='01_BDD'!$G$46),'01_BDD'!$L$46,IF(AND(C8='01_BDD'!$B$47,C9='01_BDD'!$G$47),'01_BDD'!$L$47,IF(AND(C8='01_BDD'!$B$48,C9='01_BDD'!$G$48),'01_BDD'!$L$48,IF(AND(C8='01_BDD'!$B$49,C9='01_BDD'!$G$49),'01_BDD'!$L$49,IF(AND(C8='01_BDD'!$B$50,C9='01_BDD'!$G$50),'01_BDD'!$L$50,IF(AND(C8='01_BDD'!$B$51,C9='01_BDD'!$G$51),'01_BDD'!$L$51,IF(AND(C8='01_BDD'!$B$52,C9='01_BDD'!$G$52),'01_BDD'!$L$52,IF(AND(C8='01_BDD'!$B$53,C9='01_BDD'!$G$53),'01_BDD'!$L$53,IF(AND(C8='01_BDD'!$B$54,C9='01_BDD'!$G$54),'01_BDD'!$L$54,IF(AND(C8='01_BDD'!$B$55,C9='01_BDD'!$G$55),'01_BDD'!$L$55,IF(AND(C8='01_BDD'!$B$56,C9='01_BDD'!$G$56),'01_BDD'!$L$56,IF(AND(C8='01_BDD'!$B$57,C9='01_BDD'!$G$57),'01_BDD'!$L$57,IF(AND(C8='01_BDD'!$B$58,C9='01_BDD'!$G$58),'01_BDD'!$L$58,IF(AND(C8='01_BDD'!$B$59,C9='01_BDD'!$G$59),'01_BDD'!$L$59,IF(AND(C8='01_BDD'!$B$60,C9='01_BDD'!$G$60),'01_BDD'!$L$60,IF(AND(C8='01_BDD'!$B$61,C9='01_BDD'!$G$61),'01_BDD'!$L$61,IF(AND(C8='01_BDD'!$B$62,C9='01_BDD'!$G$62),'01_BDD'!$L$62,IF(AND(C8='01_BDD'!$B$63,C9='01_BDD'!$G$63),'01_BDD'!$L$63,IF(AND(C8='01_BDD'!$B$64,C9='01_BDD'!$G$64),'01_BDD'!$L$64,IF(AND(C8='01_BDD'!$B$65,C9='01_BDD'!$G$65),'01_BDD'!$L$65,IF(AND(C8='01_BDD'!$B$66,C9='01_BDD'!$G$66),'01_BDD'!$L$66,IF(AND(C8='01_BDD'!$B$67,C9='01_BDD'!$G$67),'01_BDD'!$L$67,IF(AND(C8='01_BDD'!$B$68,C9='01_BDD'!$G$68),'01_BDD'!$L$68,IF(AND(C8='01_BDD'!$B$69,C9='01_BDD'!$G$69),'01_BDD'!$L$69,IF(AND(C8='01_BDD'!$B$70,C9='01_BDD'!$G$70),'01_BDD'!$L$70,IF(AND(C8='01_BDD'!$B$71,C9='01_BDD'!$G$71),'01_BDD'!$L$71,IF(AND(C8='01_BDD'!$B$72,C9='01_BDD'!$G$72),'01_BDD'!$L$72,IF(AND(C8='01_BDD'!$B$73,C9='01_BDD'!$G$73),'01_BDD'!$L$73,IF(AND(C8='01_BDD'!$B$74,C9='01_BDD'!$G$74),'01_BDD'!$L$74,IF(AND(C8='01_BDD'!$B$75,C9='01_BDD'!$G$75),'01_BDD'!$L$75,IF(AND(C8='01_BDD'!$B$76,C9='01_BDD'!$G$76),'01_BDD'!$L$76,IF(AND(C8='01_BDD'!$B$77,C9='01_BDD'!$G$77),'01_BDD'!$L$77,IF(AND(C8='01_BDD'!$B$78,C9='01_BDD'!$G$78),'01_BDD'!$L$78,IF(AND(C8='01_BDD'!$B$79,C9='01_BDD'!$G$79),'01_BDD'!$L$79,IF(AND(C8='01_BDD'!$B$80,C9='01_BDD'!$G$80),'01_BDD'!$L$80,IF(AND(C8='01_BDD'!$B$81,C9='01_BDD'!$G$81),'01_BDD'!$L$81,IF(AND(C8='01_BDD'!$B$82,C9='01_BDD'!$G$82),'01_BDD'!$L$82,IF(AND(C8='01_BDD'!$B$83,C9='01_BDD'!$G$83),'01_BDD'!$L$83,IF(AND(C8='01_BDD'!$B$84,C9='01_BDD'!$G$84),'01_BDD'!$L$84,IF(AND(C8='01_BDD'!$B$85,C9='01_BDD'!$G$85),'01_BDD'!$L$85,IF(AND(C8='01_BDD'!$B$86,C9='01_BDD'!$G$86),'01_BDD'!$L$86,IF(AND(C8='01_BDD'!$B$87,C9='01_BDD'!$G$87),'01_BDD'!$L$87,IF(AND(C8='01_BDD'!$B$88,C9='01_BDD'!$G$88),'01_BDD'!$L$88,IF(AND(C8='01_BDD'!$B$89,C9='01_BDD'!$G$89),'01_BDD'!$L$89,IF(AND(C8='01_BDD'!$B$90,C9='01_BDD'!$G$90),'01_BDD'!$L$90,"0")))))))))))))))))))))))))))))))))))))))))))))))))))))))))))))))) -> 6700 | D16: =IF(AND(D8='01_BDD'!$B$27,D9='01_BDD'!$G$27),'01_BDD'!$L$27,IF(AND(D8='01_BDD'!$B$28,D9='01_BDD'!$G$28),'01_BDD'!$L$28,IF(AND(D8='01_BDD'!$B$29,D9='01_BDD'!$G$29),'01_BDD'!$L$29,IF(AND(D8='01_BDD'!$B$30,D9='01_BDD'!$G$30),'01_BDD'!$L$30,IF(AND(D8='01_BDD'!$B$31,D9='01_BDD'!$G$31),'01_BDD'!$L$31,IF(AND(D8='01_BDD'!$B$32,D9='01_BDD'!$G$32),'01_BDD'!$L$32,IF(AND(D8='01_BDD'!$B$33,D9='01_BDD'!$G$33),'01_BDD'!$L$33,IF(AND(D8='01_BDD'!$B$34,D9='01_BDD'!$G$34),'01_BDD'!$L$34,IF(AND(D8='01_BDD'!$B$35,D9='01_BDD'!$G$35),'01_BDD'!$L$35,IF(AND(D8='01_BDD'!$B$36,D9='01_BDD'!$G$36),'01_BDD'!$L$36,IF(AND(D8='01_BDD'!$B$37,D9='01_BDD'!$G$37),'01_BDD'!$L$37,IF(AND(D8='01_BDD'!$B$38,D9='01_BDD'!$G$38),'01_BDD'!$L$38,IF(AND(D8='01_BDD'!$B$39,D9='01_BDD'!$G$39),'01_BDD'!$L$39,IF(AND(D8='01_BDD'!$B$40,D9='01_BDD'!$G$40),'01_BDD'!$L$40,IF(AND(D8='01_BDD'!$B$41,D9='01_BDD'!$G$41),'01_BDD'!$L$41,IF(AND(D8='01_BDD'!$B$42,D9='01_BDD'!$G$42),'01_BDD'!$L$42,IF(AND(D8='01_BDD'!$B$43,D9='01_BDD'!$G$43),'01_BDD'!$L$43,IF(AND(D8='01_BDD'!$B$44,D9='01_BDD'!$G$44),'01_BDD'!$L$44,IF(AND(D8='01_BDD'!$B$45,D9='01_BDD'!$G$45),'01_BDD'!$L$45,IF(AND(D8='01_BDD'!$B$46,D9='01_BDD'!$G$46),'01_BDD'!$L$46,IF(AND(D8='01_BDD'!$B$47,D9='01_BDD'!$G$47),'01_BDD'!$L$47,IF(AND(D8='01_BDD'!$B$48,D9='01_BDD'!$G$48),'01_BDD'!$L$48,IF(AND(D8='01_BDD'!$B$49,D9='01_BDD'!$G$49),'01_BDD'!$L$49,IF(AND(D8='01_BDD'!$B$50,D9='01_BDD'!$G$50),'01_BDD'!$L$50,IF(AND(D8='01_BDD'!$B$51,D9='01_BDD'!$G$51),'01_BDD'!$L$51,IF(AND(D8='01_BDD'!$B$52,D9='01_BDD'!$G$52),'01_BDD'!$L$52,IF(AND(D8='01_BDD'!$B$53,D9='01_BDD'!$G$53),'01_BDD'!$L$53,IF(AND(D8='01_BDD'!$B$54,D9='01_BDD'!$G$54),'01_BDD'!$L$54,IF(AND(D8='01_BDD'!$B$55,D9='01_BDD'!$G$55),'01_BDD'!$L$55,IF(AND(D8='01_BDD'!$B$56,D9='01_BDD'!$G$56),'01_BDD'!$L$56,IF(AND(D8='01_BDD'!$B$57,D9='01_BDD'!$G$57),'01_BDD'!$L$57,IF(AND(D8='01_BDD'!$B$58,D9='01_BDD'!$G$58),'01_BDD'!$L$58,IF(AND(D8='01_BDD'!$B$59,D9='01_BDD'!$G$59),'01_BDD'!$L$59,IF(AND(D8='01_BDD'!$B$60,D9='01_BDD'!$G$60),'01_BDD'!$L$60,IF(AND(D8='01_BDD'!$B$61,D9='01_BDD'!$G$61),'01_BDD'!$L$61,IF(AND(D8='01_BDD'!$B$62,D9='01_BDD'!$G$62),'01_BDD'!$L$62,IF(AND(D8='01_BDD'!$B$63,D9='01_BDD'!$G$63),'01_BDD'!$L$63,IF(AND(D8='01_BDD'!$B$64,D9='01_BDD'!$G$64),'01_BDD'!$L$64,IF(AND(D8='01_BDD'!$B$65,D9='01_BDD'!$G$65),'01_BDD'!$L$65,IF(AND(D8='01_BDD'!$B$66,D9='01_BDD'!$G$66),'01_BDD'!$L$66,IF(AND(D8='01_BDD'!$B$67,D9='01_BDD'!$G$67),'01_BDD'!$L$67,IF(AND(D8='01_BDD'!$B$68,D9='01_BDD'!$G$68),'01_BDD'!$L$68,IF(AND(D8='01_BDD'!$B$69,D9='01_BDD'!$G$69),'01_BDD'!$L$69,IF(AND(D8='01_BDD'!$B$70,D9='01_BDD'!$G$70),'01_BDD'!$L$70,IF(AND(D8='01_BDD'!$B$71,D9='01_BDD'!$G$71),'01_BDD'!$L$71,IF(AND(D8='01_BDD'!$B$72,D9='01_BDD'!$G$72),'01_BDD'!$L$72,IF(AND(D8='01_BDD'!$B$73,D9='01_BDD'!$G$73),'01_BDD'!$L$73,IF(AND(D8='01_BDD'!$B$74,D9='01_BDD'!$G$74),'01_BDD'!$L$74,IF(AND(D8='01_BDD'!$B$75,D9='01_BDD'!$G$75),'01_BDD'!$L$75,IF(AND(D8='01_BDD'!$B$76,D9='01_BDD'!$G$76),'01_BDD'!$L$76,IF(AND(D8='01_BDD'!$B$77,D9='01_BDD'!$G$77),'01_BDD'!$L$77,IF(AND(D8='01_BDD'!$B$78,D9='01_BDD'!$G$78),'01_BDD'!$L$78,IF(AND(D8='01_BDD'!$B$79,D9='01_BDD'!$G$79),'01_BDD'!$L$79,IF(AND(D8='01_BDD'!$B$80,D9='01_BDD'!$G$80),'01_BDD'!$L$80,IF(AND(D8='01_BDD'!$B$81,D9='01_BDD'!$G$81),'01_BDD'!$L$81,IF(AND(D8='01_BDD'!$B$82,D9='01_BDD'!$G$82),'01_BDD'!$L$82,IF(AND(D8='01_BDD'!$B$83,D9='01_BDD'!$G$83),'01_BDD'!$L$83,IF(AND(D8='01_BDD'!$B$84,D9='01_BDD'!$G$84),'01_BDD'!$L$84,IF(AND(D8='01_BDD'!$B$85,D9='01_BDD'!$G$85),'01_BDD'!$L$85,IF(AND(D8='01_BDD'!$B$86,D9='01_BDD'!$G$86),'01_BDD'!$L$86,IF(AND(D8='01_BDD'!$B$87,D9='01_BDD'!$G$87),'01_BDD'!$L$87,IF(AND(D8='01_BDD'!$B$88,D9='01_BDD'!$G$88),'01_BDD'!$L$88,IF(AND(D8='01_BDD'!$B$89,D9='01_BDD'!$G$89),'01_BDD'!$L$89,IF(AND(D8='01_BDD'!$B$90,D9='01_BDD'!$G$90),'01_BDD'!$L$90,"0")))))))))))))))))))))))))))))))))))))))))))))))))))))))))))))))) -> 5025 | E16: =IF(AND(E8='01_BDD'!$B$27,E9='01_BDD'!$G$27),'01_BDD'!$L$27,IF(AND(E8='01_BDD'!$B$28,E9='01_BDD'!$G$28),'01_BDD'!$L$28,IF(AND(E8='01_BDD'!$B$29,E9='01_BDD'!$G$29),'01_BDD'!$L$29,IF(AND(E8='01_BDD'!$B$30,E9='01_BDD'!$G$30),'01_BDD'!$L$30,IF(AND(E8='01_BDD'!$B$31,E9='01_BDD'!$G$31),'01_BDD'!$L$31,IF(AND(E8='01_BDD'!$B$32,E9='01_BDD'!$G$32),'01_BDD'!$L$32,IF(AND(E8='01_BDD'!$B$33,E9='01_BDD'!$G$33),'01_BDD'!$L$33,IF(AND(E8='01_BDD'!$B$34,E9='01_BDD'!$G$34),'01_BDD'!$L$34,IF(AND(E8='01_BDD'!$B$35,E9='01_BDD'!$G$35),'01_BDD'!$L$35,IF(AND(E8='01_BDD'!$B$36,E9='01_BDD'!$G$36),'01_BDD'!$L$36,IF(AND(E8='01_BDD'!$B$37,E9='01_BDD'!$G$37),'01_BDD'!$L$37,IF(AND(E8='01_BDD'!$B$38,E9='01_BDD'!$G$38),'01_BDD'!$L$38,IF(AND(E8='01_BDD'!$B$39,E9='01_BDD'!$G$39),'01_BDD'!$L$39,IF(AND(E8='01_BDD'!$B$40,E9='01_BDD'!$G$40),'01_BDD'!$L$40,IF(AND(E8='01_BDD'!$B$41,E9='01_BDD'!$G$41),'01_BDD'!$L$41,IF(AND(E8='01_BDD'!$B$42,E9='01_BDD'!$G$42),'01_BDD'!$L$42,IF(AND(E8='01_BDD'!$B$43,E9='01_BDD'!$G$43),'01_BDD'!$L$43,IF(AND(E8='01_BDD'!$B$44,E9='01_BDD'!$G$44),'01_BDD'!$L$44,IF(AND(E8='01_BDD'!$B$45,E9='01_BDD'!$G$45),'01_BDD'!$L$45,IF(AND(E8='01_BDD'!$B$46,E9='01_BDD'!$G$46),'01_BDD'!$L$46,IF(AND(E8='01_BDD'!$B$47,E9='01_BDD'!$G$47),'01_BDD'!$L$47,IF(AND(E8='01_BDD'!$B$48,E9='01_BDD'!$G$48),'01_BDD'!$L$48,IF(AND(E8='01_BDD'!$B$49,E9='01_BDD'!$G$49),'01_BDD'!$L$49,IF(AND(E8='01_BDD'!$B$50,E9='01_BDD'!$G$50),'01_BDD'!$L$50,IF(AND(E8='01_BDD'!$B$51,E9='01_BDD'!$G$51),'01_BDD'!$L$51,IF(AND(E8='01_BDD'!$B$52,E9='01_BDD'!$G$52),'01_BDD'!$L$52,IF(AND(E8='01_BDD'!$B$53,E9='01_BDD'!$G$53),'01_BDD'!$L$53,IF(AND(E8='01_BDD'!$B$54,E9='01_BDD'!$G$54),'01_BDD'!$L$54,IF(AND(E8='01_BDD'!$B$55,E9='01_BDD'!$G$55),'01_BDD'!$L$55,IF(AND(E8='01_BDD'!$B$56,E9='01_BDD'!$G$56),'01_BDD'!$L$56,IF(AND(E8='01_BDD'!$B$57,E9='01_BDD'!$G$57),'01_BDD'!$L$57,IF(AND(E8='01_BDD'!$B$58,E9='01_BDD'!$G$58),'01_BDD'!$L$58,IF(AND(E8='01_BDD'!$B$59,E9='01_BDD'!$G$59),'01_BDD'!$L$59,IF(AND(E8='01_BDD'!$B$60,E9='01_BDD'!$G$60),'01_BDD'!$L$60,IF(AND(E8='01_BDD'!$B$61,E9='01_BDD'!$G$61),'01_BDD'!$L$61,IF(AND(E8='01_BDD'!$B$62,E9='01_BDD'!$G$62),'01_BDD'!$L$62,IF(AND(E8='01_BDD'!$B$63,E9='01_BDD'!$G$63),'01_BDD'!$L$63,IF(AND(E8='01_BDD'!$B$64,E9='01_BDD'!$G$64),'01_BDD'!$L$64,IF(AND(E8='01_BDD'!$B$65,E9='01_BDD'!$G$65),'01_BDD'!$L$65,IF(AND(E8='01_BDD'!$B$66,E9='01_BDD'!$G$66),'01_BDD'!$L$66,IF(AND(E8='01_BDD'!$B$67,E9='01_BDD'!$G$67),'01_BDD'!$L$67,IF(AND(E8='01_BDD'!$B$68,E9='01_BDD'!$G$68),'01_BDD'!$L$68,IF(AND(E8='01_BDD'!$B$69,E9='01_BDD'!$G$69),'01_BDD'!$L$69,IF(AND(E8='01_BDD'!$B$70,E9='01_BDD'!$G$70),'01_BDD'!$L$70,IF(AND(E8='01_BDD'!$B$71,E9='01_BDD'!$G$71),'01_BDD'!$L$71,IF(AND(E8='01_BDD'!$B$72,E9='01_BDD'!$G$72),'01_BDD'!$L$72,IF(AND(E8='01_BDD'!$B$73,E9='01_BDD'!$G$73),'01_BDD'!$L$73,IF(AND(E8='01_BDD'!$B$74,E9='01_BDD'!$G$74),'01_BDD'!$L$74,IF(AND(E8='01_BDD'!$B$75,E9='01_BDD'!$G$75),'01_BDD'!$L$75,IF(AND(E8='01_BDD'!$B$76,E9='01_BDD'!$G$76),'01_BDD'!$L$76,IF(AND(E8='01_BDD'!$B$77,E9='01_BDD'!$G$77),'01_BDD'!$L$77,IF(AND(E8='01_BDD'!$B$78,E9='01_BDD'!$G$78),'01_BDD'!$L$78,IF(AND(E8='01_BDD'!$B$79,E9='01_BDD'!$G$79),'01_BDD'!$L$79,IF(AND(E8='01_BDD'!$B$80,E9='01_BDD'!$G$80),'01_BDD'!$L$80,IF(AND(E8='01_BDD'!$B$81,E9='01_BDD'!$G$81),'01_BDD'!$L$81,IF(AND(E8='01_BDD'!$B$82,E9='01_BDD'!$G$82),'01_BDD'!$L$82,IF(AND(E8='01_BDD'!$B$83,E9='01_BDD'!$G$83),'01_BDD'!$L$83,IF(AND(E8='01_BDD'!$B$84,E9='01_BDD'!$G$84),'01_BDD'!$L$84,IF(AND(E8='01_BDD'!$B$85,E9='01_BDD'!$G$85),'01_BDD'!$L$85,IF(AND(E8='01_BDD'!$B$86,E9='01_BDD'!$G$86),'01_BDD'!$L$86,IF(AND(E8='01_BDD'!$B$87,E9='01_BDD'!$G$87),'01_BDD'!$L$87,IF(AND(E8='01_BDD'!$B$88,E9='01_BDD'!$G$88),'01_BDD'!$L$88,IF(AND(E8='01_BDD'!$B$89,E9='01_BDD'!$G$89),'01_BDD'!$L$89,IF(AND(E8='01_BDD'!$B$90,E9='01_BDD'!$G$90),'01_BDD'!$L$90,"0")))))))))))))))))))))))))))))))))))))))))))))))))))))))))))))))) -> 8700 | F16: =IF(AND(F8='01_BDD'!$B$27,F9='01_BDD'!$G$27),'01_BDD'!$L$27,IF(AND(F8='01_BDD'!$B$28,F9='01_BDD'!$G$28),'01_BDD'!$L$28,IF(AND(F8='01_BDD'!$B$29,F9='01_BDD'!$G$29),'01_BDD'!$L$29,IF(AND(F8='01_BDD'!$B$30,F9='01_BDD'!$G$30),'01_BDD'!$L$30,IF(AND(F8='01_BDD'!$B$31,F9='01_BDD'!$G$31),'01_BDD'!$L$31,IF(AND(F8='01_BDD'!$B$32,F9='01_BDD'!$G$32),'01_BDD'!$L$32,IF(AND(F8='01_BDD'!$B$33,F9='01_BDD'!$G$33),'01_BDD'!$L$33,IF(AND(F8='01_BDD'!$B$34,F9='01_BDD'!$G$34),'01_BDD'!$L$34,IF(AND(F8='01_BDD'!$B$35,F9='01_BDD'!$G$35),'01_BDD'!$L$35,IF(AND(F8='01_BDD'!$B$36,F9='01_BDD'!$G$36),'01_BDD'!$L$36,IF(AND(F8='01_BDD'!$B$37,F9='01_BDD'!$G$37),'01_BDD'!$L$37,IF(AND(F8='01_BDD'!$B$38,F9='01_BDD'!$G$38),'01_BDD'!$L$38,IF(AND(F8='01_BDD'!$B$39,F9='01_BDD'!$G$39),'01_BDD'!$L$39,IF(AND(F8='01_BDD'!$B$40,F9='01_BDD'!$G$40),'01_BDD'!$L$40,IF(AND(F8='01_BDD'!$B$41,F9='01_BDD'!$G$41),'01_BDD'!$L$41,IF(AND(F8='01_BDD'!$B$42,F9='01_BDD'!$G$42),'01_BDD'!$L$42,IF(AND(F8='01_BDD'!$B$43,F9='01_BDD'!$G$43),'01_BDD'!$L$43,IF(AND(F8='01_BDD'!$B$44,F9='01_BDD'!$G$44),'01_BDD'!$L$44,IF(AND(F8='01_BDD'!$B$45,F9='01_BDD'!$G$45),'01_BDD'!$L$45,IF(AND(F8='01_BDD'!$B$46,F9='01_BDD'!$G$46),'01_BDD'!$L$46,IF(AND(F8='01_BDD'!$B$47,F9='01_BDD'!$G$47),'01_BDD'!$L$47,IF(AND(F8='01_BDD'!$B$48,F9='01_BDD'!$G$48),'01_BDD'!$L$48,IF(AND(F8='01_BDD'!$B$49,F9='01_BDD'!$G$49),'01_BDD'!$L$49,IF(AND(F8='01_BDD'!$B$50,F9='01_BDD'!$G$50),'01_BDD'!$L$50,IF(AND(F8='01_BDD'!$B$51,F9='01_BDD'!$G$51),'01_BDD'!$L$51,IF(AND(F8='01_BDD'!$B$52,F9='01_BDD'!$G$52),'01_BDD'!$L$52,IF(AND(F8='01_BDD'!$B$53,F9='01_BDD'!$G$53),'01_BDD'!$L$53,IF(AND(F8='01_BDD'!$B$54,F9='01_BDD'!$G$54),'01_BDD'!$L$54,IF(AND(F8='01_BDD'!$B$55,F9='01_BDD'!$G$55),'01_BDD'!$L$55,IF(AND(F8='01_BDD'!$B$56,F9='01_BDD'!$G$56),'01_BDD'!$L$56,IF(AND(F8='01_BDD'!$B$57,F9='01_BDD'!$G$57),'01_BDD'!$L$57,IF(AND(F8='01_BDD'!$B$58,F9='01_BDD'!$G$58),'01_BDD'!$L$58,IF(AND(F8='01_BDD'!$B$59,F9='01_BDD'!$G$59),'01_BDD'!$L$59,IF(AND(F8='01_BDD'!$B$60,F9='01_BDD'!$G$60),'01_BDD'!$L$60,IF(AND(F8='01_BDD'!$B$61,F9='01_BDD'!$G$61),'01_BDD'!$L$61,IF(AND(F8='01_BDD'!$B$62,F9='01_BDD'!$G$62),'01_BDD'!$L$62,IF(AND(F8='01_BDD'!$B$63,F9='01_BDD'!$G$63),'01_BDD'!$L$63,IF(AND(F8='01_BDD'!$B$64,F9='01_BDD'!$G$64),'01_BDD'!$L$64,IF(AND(F8='01_BDD'!$B$65,F9='01_BDD'!$G$65),'01_BDD'!$L$65,IF(AND(F8='01_BDD'!$B$66,F9='01_BDD'!$G$66),'01_BDD'!$L$66,IF(AND(F8='01_BDD'!$B$67,F9='01_BDD'!$G$67),'01_BDD'!$L$67,IF(AND(F8='01_BDD'!$B$68,F9='01_BDD'!$G$68),'01_BDD'!$L$68,IF(AND(F8='01_BDD'!$B$69,F9='01_BDD'!$G$69),'01_BDD'!$L$69,IF(AND(F8='01_BDD'!$B$70,F9='01_BDD'!$G$70),'01_BDD'!$L$70,IF(AND(F8='01_BDD'!$B$71,F9='01_BDD'!$G$71),'01_BDD'!$L$71,IF(AND(F8='01_BDD'!$B$72,F9='01_BDD'!$G$72),'01_BDD'!$L$72,IF(AND(F8='01_BDD'!$B$73,F9='01_BDD'!$G$73),'01_BDD'!$L$73,IF(AND(F8='01_BDD'!$B$74,F9='01_BDD'!$G$74),'01_BDD'!$L$74,IF(AND(F8='01_BDD'!$B$75,F9='01_BDD'!$G$75),'01_BDD'!$L$75,IF(AND(F8='01_BDD'!$B$76,F9='01_BDD'!$G$76),'01_BDD'!$L$76,IF(AND(F8='01_BDD'!$B$77,F9='01_BDD'!$G$77),'01_BDD'!$L$77,IF(AND(F8='01_BDD'!$B$78,F9='01_BDD'!$G$78),'01_BDD'!$L$78,IF(AND(F8='01_BDD'!$B$79,F9='01_BDD'!$G$79),'01_BDD'!$L$79,IF(AND(F8='01_BDD'!$B$80,F9='01_BDD'!$G$80),'01_BDD'!$L$80,IF(AND(F8='01_BDD'!$B$81,F9='01_BDD'!$G$81),'01_BDD'!$L$81,IF(AND(F8='01_BDD'!$B$82,F9='01_BDD'!$G$82),'01_BDD'!$L$82,IF(AND(F8='01_BDD'!$B$83,F9='01_BDD'!$G$83),'01_BDD'!$L$83,IF(AND(F8='01_BDD'!$B$84,F9='01_BDD'!$G$84),'01_BDD'!$L$84,IF(AND(F8='01_BDD'!$B$85,F9='01_BDD'!$G$85),'01_BDD'!$L$85,IF(AND(F8='01_BDD'!$B$86,F9='01_BDD'!$G$86),'01_BDD'!$L$86,IF(AND(F8='01_BDD'!$B$87,F9='01_BDD'!$G$87),'01_BDD'!$L$87,IF(AND(F8='01_BDD'!$B$88,F9='01_BDD'!$G$88),'01_BDD'!$L$88,IF(AND(F8='01_BDD'!$B$89,F9='01_BDD'!$G$89),'01_BDD'!$L$89,IF(AND(F8='01_BDD'!$B$90,F9='01_BDD'!$G$90),'01_BDD'!$L$90,"0")))))))))))))))))))))))))))))))))))))))))))))))))))))))))))))))) -> 4725 | G16: =IF(AND(G8='01_BDD'!$B$27,G9='01_BDD'!$G$27),'01_BDD'!$L$27,IF(AND(G8='01_BDD'!$B$28,G9='01_BDD'!$G$28),'01_BDD'!$L$28,IF(AND(G8='01_BDD'!$B$29,G9='01_BDD'!$G$29),'01_BDD'!$L$29,IF(AND(G8='01_BDD'!$B$30,G9='01_BDD'!$G$30),'01_BDD'!$L$30,IF(AND(G8='01_BDD'!$B$31,G9='01_BDD'!$G$31),'01_BDD'!$L$31,IF(AND(G8='01_BDD'!$B$32,G9='01_BDD'!$G$32),'01_BDD'!$L$32,IF(AND(G8='01_BDD'!$B$33,G9='01_BDD'!$G$33),'01_BDD'!$L$33,IF(AND(G8='01_BDD'!$B$34,G9='01_BDD'!$G$34),'01_BDD'!$L$34,IF(AND(G8='01_BDD'!$B$35,G9='01_BDD'!$G$35),'01_BDD'!$L$35,IF(AND(G8='01_BDD'!$B$36,G9='01_BDD'!$G$36),'01_BDD'!$L$36,IF(AND(G8='01_BDD'!$B$37,G9='01_BDD'!$G$37),'01_BDD'!$L$37,IF(AND(G8='01_BDD'!$B$38,G9='01_BDD'!$G$38),'01_BDD'!$L$38,IF(AND(G8='01_BDD'!$B$39,G9='01_BDD'!$G$39),'01_BDD'!$L$39,IF(AND(G8='01_BDD'!$B$40,G9='01_BDD'!$G$40),'01_BDD'!$L$40,IF(AND(G8='01_BDD'!$B$41,G9='01_BDD'!$G$41),'01_BDD'!$L$41,IF(AND(G8='01_BDD'!$B$42,G9='01_BDD'!$G$42),'01_BDD'!$L$42,IF(AND(G8='01_BDD'!$B$43,G9='01_BDD'!$G$43),'01_BDD'!$L$43,IF(AND(G8='01_BDD'!$B$44,G9='01_BDD'!$G$44),'01_BDD'!$L$44,IF(AND(G8='01_BDD'!$B$45,G9='01_BDD'!$G$45),'01_BDD'!$L$45,IF(AND(G8='01_BDD'!$B$46,G9='01_BDD'!$G$46),'01_BDD'!$L$46,IF(AND(G8='01_BDD'!$B$47,G9='01_BDD'!$G$47),'01_BDD'!$L$47,IF(AND(G8='01_BDD'!$B$48,G9='01_BDD'!$G$48),'01_BDD'!$L$48,IF(AND(G8='01_BDD'!$B$49,G9='01_BDD'!$G$49),'01_BDD'!$L$49,IF(AND(G8='01_BDD'!$B$50,G9='01_BDD'!$G$50),'01_BDD'!$L$50,IF(AND(G8='01_BDD'!$B$51,G9='01_BDD'!$G$51),'01_BDD'!$L$51,IF(AND(G8='01_BDD'!$B$52,G9='01_BDD'!$G$52),'01_BDD'!$L$52,IF(AND(G8='01_BDD'!$B$53,G9='01_BDD'!$G$53),'01_BDD'!$L$53,IF(AND(G8='01_BDD'!$B$54,G9='01_BDD'!$G$54),'01_BDD'!$L$54,IF(AND(G8='01_BDD'!$B$55,G9='01_BDD'!$G$55),'01_BDD'!$L$55,IF(AND(G8='01_BDD'!$B$56,G9='01_BDD'!$G$56),'01_BDD'!$L$56,IF(AND(G8='01_BDD'!$B$57,G9='01_BDD'!$G$57),'01_BDD'!$L$57,IF(AND(G8='01_BDD'!$B$58,G9='01_BDD'!$G$58),'01_BDD'!$L$58,IF(AND(G8='01_BDD'!$B$59,G9='01_BDD'!$G$59),'01_BDD'!$L$59,IF(AND(G8='01_BDD'!$B$60,G9='01_BDD'!$G$60),'01_BDD'!$L$60,IF(AND(G8='01_BDD'!$B$61,G9='01_BDD'!$G$61),'01_BDD'!$L$61,IF(AND(G8='01_BDD'!$B$62,G9='01_BDD'!$G$62),'01_BDD'!$L$62,IF(AND(G8='01_BDD'!$B$63,G9='01_BDD'!$G$63),'01_BDD'!$L$63,IF(AND(G8='01_BDD'!$B$64,G9='01_BDD'!$G$64),'01_BDD'!$L$64,IF(AND(G8='01_BDD'!$B$65,G9='01_BDD'!$G$65),'01_BDD'!$L$65,IF(AND(G8='01_BDD'!$B$66,G9='01_BDD'!$G$66),'01_BDD'!$L$66,IF(AND(G8='01_BDD'!$B$67,G9='01_BDD'!$G$67),'01_BDD'!$L$67,IF(AND(G8='01_BDD'!$B$68,G9='01_BDD'!$G$68),'01_BDD'!$L$68,IF(AND(G8='01_BDD'!$B$69,G9='01_BDD'!$G$69),'01_BDD'!$L$69,IF(AND(G8='01_BDD'!$B$70,G9='01_BDD'!$G$70),'01_BDD'!$L$70,IF(AND(G8='01_BDD'!$B$71,G9='01_BDD'!$G$71),'01_BDD'!$L$71,IF(AND(G8='01_BDD'!$B$72,G9='01_BDD'!$G$72),'01_BDD'!$L$72,IF(AND(G8='01_BDD'!$B$73,G9='01_BDD'!$G$73),'01_BDD'!$L$73,IF(AND(G8='01_BDD'!$B$74,G9='01_BDD'!$G$74),'01_BDD'!$L$74,IF(AND(G8='01_BDD'!$B$75,G9='01_BDD'!$G$75),'01_BDD'!$L$75,IF(AND(G8='01_BDD'!$B$76,G9='01_BDD'!$G$76),'01_BDD'!$L$76,IF(AND(G8='01_BDD'!$B$77,G9='01_BDD'!$G$77),'01_BDD'!$L$77,IF(AND(G8='01_BDD'!$B$78,G9='01_BDD'!$G$78),'01_BDD'!$L$78,IF(AND(G8='01_BDD'!$B$79,G9='01_BDD'!$G$79),'01_BDD'!$L$79,IF(AND(G8='01_BDD'!$B$80,G9='01_BDD'!$G$80),'01_BDD'!$L$80,IF(AND(G8='01_BDD'!$B$81,G9='01_BDD'!$G$81),'01_BDD'!$L$81,IF(AND(G8='01_BDD'!$B$82,G9='01_BDD'!$G$82),'01_BDD'!$L$82,IF(AND(G8='01_BDD'!$B$83,G9='01_BDD'!$G$83),'01_BDD'!$L$83,IF(AND(G8='01_BDD'!$B$84,G9='01_BDD'!$G$84),'01_BDD'!$L$84,IF(AND(G8='01_BDD'!$B$85,G9='01_BDD'!$G$85),'01_BDD'!$L$85,IF(AND(G8='01_BDD'!$B$86,G9='01_BDD'!$G$86),'01_BDD'!$L$86,IF(AND(G8='01_BDD'!$B$87,G9='01_BDD'!$G$87),'01_BDD'!$L$87,IF(AND(G8='01_BDD'!$B$88,G9='01_BDD'!$G$88),'01_BDD'!$L$88,IF(AND(G8='01_BDD'!$B$89,G9='01_BDD'!$G$89),'01_BDD'!$L$89,IF(AND(G8='01_BDD'!$B$90,G9='01_BDD'!$G$90),'01_BDD'!$L$90,"0")))))))))))))))))))))))))))))))))))))))))))))))))))))))))))))))) -> 6000 | H16: =IF(AND(H8='01_BDD'!$B$27,H9='01_BDD'!$G$27),'01_BDD'!$L$27,IF(AND(H8='01_BDD'!$B$28,H9='01_BDD'!$G$28),'01_BDD'!$L$28,IF(AND(H8='01_BDD'!$B$29,H9='01_BDD'!$G$29),'01_BDD'!$L$29,IF(AND(H8='01_BDD'!$B$30,H9='01_BDD'!$G$30),'01_BDD'!$L$30,IF(AND(H8='01_BDD'!$B$31,H9='01_BDD'!$G$31),'01_BDD'!$L$31,IF(AND(H8='01_BDD'!$B$32,H9='01_BDD'!$G$32),'01_BDD'!$L$32,IF(AND(H8='01_BDD'!$B$33,H9='01_BDD'!$G$33),'01_BDD'!$L$33,IF(AND(H8='01_BDD'!$B$34,H9='01_BDD'!$G$34),'01_BDD'!$L$34,IF(AND(H8='01_BDD'!$B$35,H9='01_BDD'!$G$35),'01_BDD'!$L$35,IF(AND(H8='01_BDD'!$B$36,H9='01_BDD'!$G$36),'01_BDD'!$L$36,IF(AND(H8='01_BDD'!$B$37,H9='01_BDD'!$G$37),'01_BDD'!$L$37,IF(AND(H8='01_BDD'!$B$38,H9='01_BDD'!$G$38),'01_BDD'!$L$38,IF(AND(H8='01_BDD'!$B$39,H9='01_BDD'!$G$39),'01_BDD'!$L$39,IF(AND(H8='01_BDD'!$B$40,H9='01_BDD'!$G$40),'01_BDD'!$L$40,IF(AND(H8='01_BDD'!$B$41,H9='01_BDD'!$G$41),'01_BDD'!$L$41,IF(AND(H8='01_BDD'!$B$42,H9='01_BDD'!$G$42),'01_BDD'!$L$42,IF(AND(H8='01_BDD'!$B$43,H9='01_BDD'!$G$43),'01_BDD'!$L$43,IF(AND(H8='01_BDD'!$B$44,H9='01_BDD'!$G$44),'01_BDD'!$L$44,IF(AND(H8='01_BDD'!$B$45,H9='01_BDD'!$G$45),'01_BDD'!$L$45,IF(AND(H8='01_BDD'!$B$46,H9='01_BDD'!$G$46),'01_BDD'!$L$46,IF(AND(H8='01_BDD'!$B$47,H9='01_BDD'!$G$47),'01_BDD'!$L$47,IF(AND(H8='01_BDD'!$B$48,H9='01_BDD'!$G$48),'01_BDD'!$L$48,IF(AND(H8='01_BDD'!$B$49,H9='01_BDD'!$G$49),'01_BDD'!$L$49,IF(AND(H8='01_BDD'!$B$50,H9='01_BDD'!$G$50),'01_BDD'!$L$50,IF(AND(H8='01_BDD'!$B$51,H9='01_BDD'!$G$51),'01_BDD'!$L$51,IF(AND(H8='01_BDD'!$B$52,H9='01_BDD'!$G$52),'01_BDD'!$L$52,IF(AND(H8='01_BDD'!$B$53,H9='01_BDD'!$G$53),'01_BDD'!$L$53,IF(AND(H8='01_BDD'!$B$54,H9='01_BDD'!$G$54),'01_BDD'!$L$54,IF(AND(H8='01_BDD'!$B$55,H9='01_BDD'!$G$55),'01_BDD'!$L$55,IF(AND(H8='01_BDD'!$B$56,H9='01_BDD'!$G$56),'01_BDD'!$L$56,IF(AND(H8='01_BDD'!$B$57,H9='01_BDD'!$G$57),'01_BDD'!$L$57,IF(AND(H8='01_BDD'!$B$58,H9='01_BDD'!$G$58),'01_BDD'!$L$58,IF(AND(H8='01_BDD'!$B$59,H9='01_BDD'!$G$59),'01_BDD'!$L$59,IF(AND(H8='01_BDD'!$B$60,H9='01_BDD'!$G$60),'01_BDD'!$L$60,IF(AND(H8='01_BDD'!$B$61,H9='01_BDD'!$G$61),'01_BDD'!$L$61,IF(AND(H8='01_BDD'!$B$62,H9='01_BDD'!$G$62),'01_BDD'!$L$62,IF(AND(H8='01_BDD'!$B$63,H9='01_BDD'!$G$63),'01_BDD'!$L$63,IF(AND(H8='01_BDD'!$B$64,H9='01_BDD'!$G$64),'01_BDD'!$L$64,IF(AND(H8='01_BDD'!$B$65,H9='01_BDD'!$G$65),'01_BDD'!$L$65,IF(AND(H8='01_BDD'!$B$66,H9='01_BDD'!$G$66),'01_BDD'!$L$66,IF(AND(H8='01_BDD'!$B$67,H9='01_BDD'!$G$67),'01_BDD'!$L$67,IF(AND(H8='01_BDD'!$B$68,H9='01_BDD'!$G$68),'01_BDD'!$L$68,IF(AND(H8='01_BDD'!$B$69,H9='01_BDD'!$G$69),'01_BDD'!$L$69,IF(AND(H8='01_BDD'!$B$70,H9='01_BDD'!$G$70),'01_BDD'!$L$70,IF(AND(H8='01_BDD'!$B$71,H9='01_BDD'!$G$71),'01_BDD'!$L$71,IF(AND(H8='01_BDD'!$B$72,H9='01_BDD'!$G$72),'01_BDD'!$L$72,IF(AND(H8='01_BDD'!$B$73,H9='01_BDD'!$G$73),'01_BDD'!$L$73,IF(AND(H8='01_BDD'!$B$74,H9='01_BDD'!$G$74),'01_BDD'!$L$74,IF(AND(H8='01_BDD'!$B$75,H9='01_BDD'!$G$75),'01_BDD'!$L$75,IF(AND(H8='01_BDD'!$B$76,H9='01_BDD'!$G$76),'01_BDD'!$L$76,IF(AND(H8='01_BDD'!$B$77,H9='01_BDD'!$G$77),'01_BDD'!$L$77,IF(AND(H8='01_BDD'!$B$78,H9='01_BDD'!$G$78),'01_BDD'!$L$78,IF(AND(H8='01_BDD'!$B$79,H9='01_BDD'!$G$79),'01_BDD'!$L$79,IF(AND(H8='01_BDD'!$B$80,H9='01_BDD'!$G$80),'01_BDD'!$L$80,IF(AND(H8='01_BDD'!$B$81,H9='01_BDD'!$G$81),'01_BDD'!$L$81,IF(AND(H8='01_BDD'!$B$82,H9='01_BDD'!$G$82),'01_BDD'!$L$82,IF(AND(H8='01_BDD'!$B$83,H9='01_BDD'!$G$83),'01_BDD'!$L$83,IF(AND(H8='01_BDD'!$B$84,H9='01_BDD'!$G$84),'01_BDD'!$L$84,IF(AND(H8='01_BDD'!$B$85,H9='01_BDD'!$G$85),'01_BDD'!$L$85,IF(AND(H8='01_BDD'!$B$86,H9='01_BDD'!$G$86),'01_BDD'!$L$86,IF(AND(H8='01_BDD'!$B$87,H9='01_BDD'!$G$87),'01_BDD'!$L$87,IF(AND(H8='01_BDD'!$B$88,H9='01_BDD'!$G$88),'01_BDD'!$L$88,IF(AND(H8='01_BDD'!$B$89,H9='01_BDD'!$G$89),'01_BDD'!$L$89,IF(AND(H8='01_BDD'!$B$90,H9='01_BDD'!$G$90),'01_BDD'!$L$90,"0")))))))))))))))))))))))))))))))))))))))))))))))))))))))))))))))) -> 4425 | I16: =IF(AND(I8='01_BDD'!$B$27,I9='01_BDD'!$G$27),'01_BDD'!$L$27,IF(AND(I8='01_BDD'!$B$28,I9='01_BDD'!$G$28),'01_BDD'!$L$28,IF(AND(I8='01_BDD'!$B$29,I9='01_BDD'!$G$29),'01_BDD'!$L$29,IF(AND(I8='01_BDD'!$B$30,I9='01_BDD'!$G$30),'01_BDD'!$L$30,IF(AND(I8='01_BDD'!$B$31,I9='01_BDD'!$G$31),'01_BDD'!$L$31,IF(AND(I8='01_BDD'!$B$32,I9='01_BDD'!$G$32),'01_BDD'!$L$32,IF(AND(I8='01_BDD'!$B$33,I9='01_BDD'!$G$33),'01_BDD'!$L$33,IF(AND(I8='01_BDD'!$B$34,I9='01_BDD'!$G$34),'01_BDD'!$L$34,IF(AND(I8='01_BDD'!$B$35,I9='01_BDD'!$G$35),'01_BDD'!$L$35,IF(AND(I8='01_BDD'!$B$36,I9='01_BDD'!$G$36),'01_BDD'!$L$36,IF(AND(I8='01_BDD'!$B$37,I9='01_BDD'!$G$37),'01_BDD'!$L$37,IF(AND(I8='01_BDD'!$B$38,I9='01_BDD'!$G$38),'01_BDD'!$L$38,IF(AND(I8='01_BDD'!$B$39,I9='01_BDD'!$G$39),'01_BDD'!$L$39,IF(AND(I8='01_BDD'!$B$40,I9='01_BDD'!$G$40),'01_BDD'!$L$40,IF(AND(I8='01_BDD'!$B$41,I9='01_BDD'!$G$41),'01_BDD'!$L$41,IF(AND(I8='01_BDD'!$B$42,I9='01_BDD'!$G$42),'01_BDD'!$L$42,IF(AND(I8='01_BDD'!$B$43,I9='01_BDD'!$G$43),'01_BDD'!$L$43,IF(AND(I8='01_BDD'!$B$44,I9='01_BDD'!$G$44),'01_BDD'!$L$44,IF(AND(I8='01_BDD'!$B$45,I9='01_BDD'!$G$45),'01_BDD'!$L$45,IF(AND(I8='01_BDD'!$B$46,I9='01_BDD'!$G$46),'01_BDD'!$L$46,IF(AND(I8='01_BDD'!$B$47,I9='01_BDD'!$G$47),'01_BDD'!$L$47,IF(AND(I8='01_BDD'!$B$48,I9='01_BDD'!$G$48),'01_BDD'!$L$48,IF(AND(I8='01_BDD'!$B$49,I9='01_BDD'!$G$49),'01_BDD'!$L$49,IF(AND(I8='01_BDD'!$B$50,I9='01_BDD'!$G$50),'01_BDD'!$L$50,IF(AND(I8='01_BDD'!$B$51,I9='01_BDD'!$G$51),'01_BDD'!$L$51,IF(AND(I8='01_BDD'!$B$52,I9='01_BDD'!$G$52),'01_BDD'!$L$52,IF(AND(I8='01_BDD'!$B$53,I9='01_BDD'!$G$53),'01_BDD'!$L$53,IF(AND(I8='01_BDD'!$B$54,I9='01_BDD'!$G$54),'01_BDD'!$L$54,IF(AND(I8='01_BDD'!$B$55,I9='01_BDD'!$G$55),'01_BDD'!$L$55,IF(AND(I8='01_BDD'!$B$56,I9='01_BDD'!$G$56),'01_BDD'!$L$56,IF(AND(I8='01_BDD'!$B$57,I9='01_BDD'!$G$57),'01_BDD'!$L$57,IF(AND(I8='01_BDD'!$B$58,I9='01_BDD'!$G$58),'01_BDD'!$L$58,IF(AND(I8='01_BDD'!$B$59,I9='01_BDD'!$G$59),'01_BDD'!$L$59,IF(AND(I8='01_BDD'!$B$60,I9='01_BDD'!$G$60),'01_BDD'!$L$60,IF(AND(I8='01_BDD'!$B$61,I9='01_BDD'!$G$61),'01_BDD'!$L$61,IF(AND(I8='01_BDD'!$B$62,I9='01_BDD'!$G$62),'01_BDD'!$L$62,IF(AND(I8='01_BDD'!$B$63,I9='01_BDD'!$G$63),'01_BDD'!$L$63,IF(AND(I8='01_BDD'!$B$64,I9='01_BDD'!$G$64),'01_BDD'!$L$64,IF(AND(I8='01_BDD'!$B$65,I9='01_BDD'!$G$65),'01_BDD'!$L$65,IF(AND(I8='01_BDD'!$B$66,I9='01_BDD'!$G$66),'01_BDD'!$L$66,IF(AND(I8='01_BDD'!$B$67,I9='01_BDD'!$G$67),'01_BDD'!$L$67,IF(AND(I8='01_BDD'!$B$68,I9='01_BDD'!$G$68),'01_BDD'!$L$68,IF(AND(I8='01_BDD'!$B$69,I9='01_BDD'!$G$69),'01_BDD'!$L$69,IF(AND(I8='01_BDD'!$B$70,I9='01_BDD'!$G$70),'01_BDD'!$L$70,IF(AND(I8='01_BDD'!$B$71,I9='01_BDD'!$G$71),'01_BDD'!$L$71,IF(AND(I8='01_BDD'!$B$72,I9='01_BDD'!$G$72),'01_BDD'!$L$72,IF(AND(I8='01_BDD'!$B$73,I9='01_BDD'!$G$73),'01_BDD'!$L$73,IF(AND(I8='01_BDD'!$B$74,I9='01_BDD'!$G$74),'01_BDD'!$L$74,IF(AND(I8='01_BDD'!$B$75,I9='01_BDD'!$G$75),'01_BDD'!$L$75,IF(AND(I8='01_BDD'!$B$76,I9='01_BDD'!$G$76),'01_BDD'!$L$76,IF(AND(I8='01_BDD'!$B$77,I9='01_BDD'!$G$77),'01_BDD'!$L$77,IF(AND(I8='01_BDD'!$B$78,I9='01_BDD'!$G$78),'01_BDD'!$L$78,IF(AND(I8='01_BDD'!$B$79,I9='01_BDD'!$G$79),'01_BDD'!$L$79,IF(AND(I8='01_BDD'!$B$80,I9='01_BDD'!$G$80),'01_BDD'!$L$80,IF(AND(I8='01_BDD'!$B$81,I9='01_BDD'!$G$81),'01_BDD'!$L$81,IF(AND(I8='01_BDD'!$B$82,I9='01_BDD'!$G$82),'01_BDD'!$L$82,IF(AND(I8='01_BDD'!$B$83,I9='01_BDD'!$G$83),'01_BDD'!$L$83,IF(AND(I8='01_BDD'!$B$84,I9='01_BDD'!$G$84),'01_BDD'!$L$84,IF(AND(I8='01_BDD'!$B$85,I9='01_BDD'!$G$85),'01_BDD'!$L$85,IF(AND(I8='01_BDD'!$B$86,I9='01_BDD'!$G$86),'01_BDD'!$L$86,IF(AND(I8='01_BDD'!$B$87,I9='01_BDD'!$G$87),'01_BDD'!$L$87,IF(AND(I8='01_BDD'!$B$88,I9='01_BDD'!$G$88),'01_BDD'!$L$88,IF(AND(I8='01_BDD'!$B$89,I9='01_BDD'!$G$89),'01_BDD'!$L$89,IF(AND(I8='01_BDD'!$B$90,I9='01_BDD'!$G$90),'01_BDD'!$L$90,"0")))))))))))))))))))))))))))))))))))))))))))))))))))))))))))))))) -> 3825 | J16: =IF(AND(J8='01_BDD'!$B$27,J9='01_BDD'!$G$27),'01_BDD'!$L$27,IF(AND(J8='01_BDD'!$B$28,J9='01_BDD'!$G$28),'01_BDD'!$L$28,IF(AND(J8='01_BDD'!$B$29,J9='01_BDD'!$G$29),'01_BDD'!$L$29,IF(AND(J8='01_BDD'!$B$30,J9='01_BDD'!$G$30),'01_BDD'!$L$30,IF(AND(J8='01_BDD'!$B$31,J9='01_BDD'!$G$31),'01_BDD'!$L$31,IF(AND(J8='01_BDD'!$B$32,J9='01_BDD'!$G$32),'01_BDD'!$L$32,IF(AND(J8='01_BDD'!$B$33,J9='01_BDD'!$G$33),'01_BDD'!$L$33,IF(AND(J8='01_BDD'!$B$34,J9='01_BDD'!$G$34),'01_BDD'!$L$34,IF(AND(J8='01_BDD'!$B$35,J9='01_BDD'!$G$35),'01_BDD'!$L$35,IF(AND(J8='01_BDD'!$B$36,J9='01_BDD'!$G$36),'01_BDD'!$L$36,IF(AND(J8='01_BDD'!$B$37,J9='01_BDD'!$G$37),'01_BDD'!$L$37,IF(AND(J8='01_BDD'!$B$38,J9='01_BDD'!$G$38),'01_BDD'!$L$38,IF(AND(J8='01_BDD'!$B$39,J9='01_BDD'!$G$39),'01_BDD'!$L$39,IF(AND(J8='01_BDD'!$B$40,J9='01_BDD'!$G$40),'01_BDD'!$L$40,IF(AND(J8='01_BDD'!$B$41,J9='01_BDD'!$G$41),'01_BDD'!$L$41,IF(AND(J8='01_BDD'!$B$42,J9='01_BDD'!$G$42),'01_BDD'!$L$42,IF(AND(J8='01_BDD'!$B$43,J9='01_BDD'!$G$43),'01_BDD'!$L$43,IF(AND(J8='01_BDD'!$B$44,J9='01_BDD'!$G$44),'01_BDD'!$L$44,IF(AND(J8='01_BDD'!$B$45,J9='01_BDD'!$G$45),'01_BDD'!$L$45,IF(AND(J8='01_BDD'!$B$46,J9='01_BDD'!$G$46),'01_BDD'!$L$46,IF(AND(J8='01_BDD'!$B$47,J9='01_BDD'!$G$47),'01_BDD'!$L$47,IF(AND(J8='01_BDD'!$B$48,J9='01_BDD'!$G$48),'01_BDD'!$L$48,IF(AND(J8='01_BDD'!$B$49,J9='01_BDD'!$G$49),'01_BDD'!$L$49,IF(AND(J8='01_BDD'!$B$50,J9='01_BDD'!$G$50),'01_BDD'!$L$50,IF(AND(J8='01_BDD'!$B$51,J9='01_BDD'!$G$51),'01_BDD'!$L$51,IF(AND(J8='01_BDD'!$B$52,J9='01_BDD'!$G$52),'01_BDD'!$L$52,IF(AND(J8='01_BDD'!$B$53,J9='01_BDD'!$G$53),'01_BDD'!$L$53,IF(AND(J8='01_BDD'!$B$54,J9='01_BDD'!$G$54),'01_BDD'!$L$54,IF(AND(J8='01_BDD'!$B$55,J9='01_BDD'!$G$55),'01_BDD'!$L$55,IF(AND(J8='01_BDD'!$B$56,J9='01_BDD'!$G$56),'01_BDD'!$L$56,IF(AND(J8='01_BDD'!$B$57,J9='01_BDD'!$G$57),'01_BDD'!$L$57,IF(AND(J8='01_BDD'!$B$58,J9='01_BDD'!$G$58),'01_BDD'!$L$58,IF(AND(J8='01_BDD'!$B$59,J9='01_BDD'!$G$59),'01_BDD'!$L$59,IF(AND(J8='01_BDD'!$B$60,J9='01_BDD'!$G$60),'01_BDD'!$L$60,IF(AND(J8='01_BDD'!$B$61,J9='01_BDD'!$G$61),'01_BDD'!$L$61,IF(AND(J8='01_BDD'!$B$62,J9='01_BDD'!$G$62),'01_BDD'!$L$62,IF(AND(J8='01_BDD'!$B$63,J9='01_BDD'!$G$63),'01_BDD'!$L$63,IF(AND(J8='01_BDD'!$B$64,J9='01_BDD'!$G$64),'01_BDD'!$L$64,IF(AND(J8='01_BDD'!$B$65,J9='01_BDD'!$G$65),'01_BDD'!$L$65,IF(AND(J8='01_BDD'!$B$66,J9='01_BDD'!$G$66),'01_BDD'!$L$66,IF(AND(J8='01_BDD'!$B$67,J9='01_BDD'!$G$67),'01_BDD'!$L$67,IF(AND(J8='01_BDD'!$B$68,J9='01_BDD'!$G$68),'01_BDD'!$L$68,IF(AND(J8='01_BDD'!$B$69,J9='01_BDD'!$G$69),'01_BDD'!$L$69,IF(AND(J8='01_BDD'!$B$70,J9='01_BDD'!$G$70),'01_BDD'!$L$70,IF(AND(J8='01_BDD'!$B$71,J9='01_BDD'!$G$71),'01_BDD'!$L$71,IF(AND(J8='01_BDD'!$B$72,J9='01_BDD'!$G$72),'01_BDD'!$L$72,IF(AND(J8='01_BDD'!$B$73,J9='01_BDD'!$G$73),'01_BDD'!$L$73,IF(AND(J8='01_BDD'!$B$74,J9='01_BDD'!$G$74),'01_BDD'!$L$74,IF(AND(J8='01_BDD'!$B$75,J9='01_BDD'!$G$75),'01_BDD'!$L$75,IF(AND(J8='01_BDD'!$B$76,J9='01_BDD'!$G$76),'01_BDD'!$L$76,IF(AND(J8='01_BDD'!$B$77,J9='01_BDD'!$G$77),'01_BDD'!$L$77,IF(AND(J8='01_BDD'!$B$78,J9='01_BDD'!$G$78),'01_BDD'!$L$78,IF(AND(J8='01_BDD'!$B$79,J9='01_BDD'!$G$79),'01_BDD'!$L$79,IF(AND(J8='01_BDD'!$B$80,J9='01_BDD'!$G$80),'01_BDD'!$L$80,IF(AND(J8='01_BDD'!$B$81,J9='01_BDD'!$G$81),'01_BDD'!$L$81,IF(AND(J8='01_BDD'!$B$82,J9='01_BDD'!$G$82),'01_BDD'!$L$82,IF(AND(J8='01_BDD'!$B$83,J9='01_BDD'!$G$83),'01_BDD'!$L$83,IF(AND(J8='01_BDD'!$B$84,J9='01_BDD'!$G$84),'01_BDD'!$L$84,IF(AND(J8='01_BDD'!$B$85,J9='01_BDD'!$G$85),'01_BDD'!$L$85,IF(AND(J8='01_BDD'!$B$86,J9='01_BDD'!$G$86),'01_BDD'!$L$86,IF(AND(J8='01_BDD'!$B$87,J9='01_BDD'!$G$87),'01_BDD'!$L$87,IF(AND(J8='01_BDD'!$B$88,J9='01_BDD'!$G$88),'01_BDD'!$L$88,IF(AND(J8='01_BDD'!$B$89,J9='01_BDD'!$G$89),'01_BDD'!$L$89,IF(AND(J8='01_BDD'!$B$90,J9='01_BDD'!$G$90),'01_BDD'!$L$90,"0")))))))))))))))))))))))))))))))))))))))))))))))))))))))))))))))) -> 4650 | ... AO16: =IF(AND(AO8='01_BDD'!$B$27,AO9='01_BDD'!$G$27),'01_BDD'!$L$27,IF(AND(AO8='01_BDD'!$B$28,AO9='01_BDD'!$G$28),'01_BDD'!$L$28,IF(AND(AO8='01_BDD'!$B$29,AO9='01_BDD'!$G$29),'01_BDD'!$L$29,IF(AND(AO8='01_BDD'!$B$30,AO9='01_BDD'!$G$30),'01_BDD'!$L$30,IF(AND(AO8='01_BDD'!$B$31,AO9='01_BDD'!$G$31),'01_BDD'!$L$31,IF(AND(AO8='01_BDD'!$B$32,AO9='01_BDD'!$G$32),'01_BDD'!$L$32,IF(AND(AO8='01_BDD'!$B$33,AO9='01_BDD'!$G$33),'01_BDD'!$L$33,IF(AND(AO8='01_BDD'!$B$34,AO9='01_BDD'!$G$34),'01_BDD'!$L$34,IF(AND(AO8='01_BDD'!$B$35,AO9='01_BDD'!$G$35),'01_BDD'!$L$35,IF(AND(AO8='01_BDD'!$B$36,AO9='01_BDD'!$G$36),'01_BDD'!$L$36,IF(AND(AO8='01_BDD'!$B$37,AO9='01_BDD'!$G$37),'01_BDD'!$L$37,IF(AND(AO8='01_BDD'!$B$38,AO9='01_BDD'!$G$38),'01_BDD'!$L$38,IF(AND(AO8='01_BDD'!$B$39,AO9='01_BDD'!$G$39),'01_BDD'!$L$39,IF(AND(AO8='01_BDD'!$B$40,AO9='01_BDD'!$G$40),'01_BDD'!$L$40,IF(AND(AO8='01_BDD'!$B$41,AO9='01_BDD'!$G$41),'01_BDD'!$L$41,IF(AND(AO8='01_BDD'!$B$42,AO9='01_BDD'!$G$42),'01_BDD'!$L$42,IF(AND(AO8='01_BDD'!$B$43,AO9='01_BDD'!$G$43),'01_BDD'!$L$43,IF(AND(AO8='01_BDD'!$B$44,AO9='01_BDD'!$G$44),'01_BDD'!$L$44,IF(AND(AO8='01_BDD'!$B$45,AO9='01_BDD'!$G$45),'01_BDD'!$L$45,IF(AND(AO8='01_BDD'!$B$46,AO9='01_BDD'!$G$46),'01_BDD'!$L$46,IF(AND(AO8='01_BDD'!$B$47,AO9='01_BDD'!$G$47),'01_BDD'!$L$47,IF(AND(AO8='01_BDD'!$B$48,AO9='01_BDD'!$G$48),'01_BDD'!$L$48,IF(AND(AO8='01_BDD'!$B$49,AO9='01_BDD'!$G$49),'01_BDD'!$L$49,IF(AND(AO8='01_BDD'!$B$50,AO9='01_BDD'!$G$50),'01_BDD'!$L$50,IF(AND(AO8='01_BDD'!$B$51,AO9='01_BDD'!$G$51),'01_BDD'!$L$51,IF(AND(AO8='01_BDD'!$B$52,AO9='01_BDD'!$G$52),'01_BDD'!$L$52,IF(AND(AO8='01_BDD'!$B$53,AO9='01_BDD'!$G$53),'01_BDD'!$L$53,IF(AND(AO8='01_BDD'!$B$54,AO9='01_BDD'!$G$54),'01_BDD'!$L$54,IF(AND(AO8='01_BDD'!$B$55,AO9='01_BDD'!$G$55),'01_BDD'!$L$55,IF(AND(AO8='01_BDD'!$B$56,AO9='01_BDD'!$G$56),'01_BDD'!$L$56,IF(AND(AO8='01_BDD'!$B$57,AO9='01_BDD'!$G$57),'01_BDD'!$L$57,IF(AND(AO8='01_BDD'!$B$58,AO9='01_BDD'!$G$58),'01_BDD'!$L$58,IF(AND(AO8='01_BDD'!$B$59,AO9='01_BDD'!$G$59),'01_BDD'!$L$59,IF(AND(AO8='01_BDD'!$B$60,AO9='01_BDD'!$G$60),'01_BDD'!$L$60,IF(AND(AO8='01_BDD'!$B$61,AO9='01_BDD'!$G$61),'01_BDD'!$L$61,IF(AND(AO8='01_BDD'!$B$62,AO9='01_BDD'!$G$62),'01_BDD'!$L$62,IF(AND(AO8='01_BDD'!$B$63,AO9='01_BDD'!$G$63),'01_BDD'!$L$63,IF(AND(AO8='01_BDD'!$B$64,AO9='01_BDD'!$G$64),'01_BDD'!$L$64,IF(AND(AO8='01_BDD'!$B$65,AO9='01_BDD'!$G$65),'01_BDD'!$L$65,IF(AND(AO8='01_BDD'!$B$66,AO9='01_BDD'!$G$66),'01_BDD'!$L$66,IF(AND(AO8='01_BDD'!$B$67,AO9='01_BDD'!$G$67),'01_BDD'!$L$67,IF(AND(AO8='01_BDD'!$B$68,AO9='01_BDD'!$G$68),'01_BDD'!$L$68,IF(AND(AO8='01_BDD'!$B$69,AO9='01_BDD'!$G$69),'01_BDD'!$L$69,IF(AND(AO8='01_BDD'!$B$70,AO9='01_BDD'!$G$70),'01_BDD'!$L$70,IF(AND(AO8='01_BDD'!$B$71,AO9='01_BDD'!$G$71),'01_BDD'!$L$71,IF(AND(AO8='01_BDD'!$B$72,AO9='01_BDD'!$G$72),'01_BDD'!$L$72,IF(AND(AO8='01_BDD'!$B$73,AO9='01_BDD'!$G$73),'01_BDD'!$L$73,IF(AND(AO8='01_BDD'!$B$74,AO9='01_BDD'!$G$74),'01_BDD'!$L$74,IF(AND(AO8='01_BDD'!$B$75,AO9='01_BDD'!$G$75),'01_BDD'!$L$75,IF(AND(AO8='01_BDD'!$B$76,AO9='01_BDD'!$G$76),'01_BDD'!$L$76,IF(AND(AO8='01_BDD'!$B$77,AO9='01_BDD'!$G$77),'01_BDD'!$L$77,IF(AND(AO8='01_BDD'!$B$78,AO9='01_BDD'!$G$78),'01_BDD'!$L$78,IF(AND(AO8='01_BDD'!$B$79,AO9='01_BDD'!$G$79),'01_BDD'!$L$79,IF(AND(AO8='01_BDD'!$B$80,AO9='01_BDD'!$G$80),'01_BDD'!$L$80,IF(AND(AO8='01_BDD'!$B$81,AO9='01_BDD'!$G$81),'01_BDD'!$L$81,IF(AND(AO8='01_BDD'!$B$82,AO9='01_BDD'!$G$82),'01_BDD'!$L$82,IF(AND(AO8='01_BDD'!$B$83,AO9='01_BDD'!$G$83),'01_BDD'!$L$83,IF(AND(AO8='01_BDD'!$B$84,AO9='01_BDD'!$G$84),'01_BDD'!$L$84,IF(AND(AO8='01_BDD'!$B$85,AO9='01_BDD'!$G$85),'01_BDD'!$L$85,IF(AND(AO8='01_BDD'!$B$86,AO9='01_BDD'!$G$86),'01_BDD'!$L$86,IF(AND(AO8='01_BDD'!$B$87,AO9='01_BDD'!$G$87),'01_BDD'!$L$87,IF(AND(AO8='01_BDD'!$B$88,AO9='01_BDD'!$G$88),'01_BDD'!$L$88,IF(AND(AO8='01_BDD'!$B$89,AO9='01_BDD'!$G$89),'01_BDD'!$L$89,IF(AND(AO8='01_BDD'!$B$90,AO9='01_BDD'!$G$90),'01_BDD'!$L$90,"0")))))))))))))))))))))))))))))))))))))))))))))))))))))))))))))))) -> 0
A17: Avancement | C17: 1 | D17: 1 | E17: 0.75 | F17: 1 | G17: 1 | H17: 1 | I17: 0.84615385 | J17: 1 | K17: 1 | L17: 1 | M17: 0.39450355 | N17: 1 | O17: 1 | P17: 1 | Q17: 1 | R17: 1 | S17: 1 | T17: 1
