Workbook

Sheet RECAPITULATIF ANNUEL
F1: STEU : | G1: BORGO NORD
F2: ANNEE | G2: 2019
F3: INTERVENANT : | G3: LEROUX
A5: MOIS | B5: DATE | C5: DEBIT | J5: BOUES | M5: Polymère
C6: Qe | D6: Qs | E6: Trop plein | F6: Température effluent sortie | G6: Différence | H6: écart E/S | I6: retour en tête | J6: Vol soutiré deshydraté | K6: quantité évacuée | L6: Poubelle | M6: cationique
C7: m3/j | D7: m3/j | E7: m3/j | F7: °C | G7: m3/j | H7: % | I7: m3/j | J7: m3 | K7: kg | L7: kg | M7: bidon
A8: JANVIER | B8: 43466 | C8: 1028 | D8: 676 | E8: 0 | G8: =IF((C8>0),(C8-D8),("")) -> 352 | H8: =IF((C8>0),(100*(C8-D8)/C8),("")) -> 34.241245 | I8: 61 | J8: 0 | K8: 0 | L8: 300 | M8: 0
B9: 43467 | C9: 762 | D9: 719 | E9: 0 | F9: 15.1 | G9: =IF((C9>0),(C9-D9),("")) -> 43 | H9: =IF((C9>0),(100*(C9-D9)/C9),("")) -> 5.6430446 | I9: 54 | J9: 0 | K9: 0 | L9: 0 | M9: 0
B10: 43468 | C10: 754 | D10: 731 | E10: 0 | F10: 15.2 | G10: =IF((C10>0),(C10-D10),("")) -> 23 | H10: =IF((C10>0),(100*(C10-D10)/C10),("")) -> 3.0503979 | I10: 12 | J10: 0 | K10: 0 | L10: 0 | M10: 0
B11: 43469 | C11: 703 | D11: 684 | E11: 0 | F11: 14.7 | G11: =IF((C11>0),(C11-D11),("")) -> 19 | H11: =IF((C11>0),(100*(C11-D11)/C11),("")) -> 2.7027027 | I11: 4 | J11: 0 | K11: 0 | L11: 300 | M11: 0
B12: 43470 | C12: 714 | D12: 687 | E12: 0 | G12: =IF((C12>0),(C12-D12),("")) -> 27 | H12: =IF((C12>0),(100*(C12-D12)/C12),("")) -> 3.7815126 | I12: 7 | J12: 0 | K12: 0 | L12: 0 | M12: 0
B13: 43471 | C13: 863 | D13: 810 | E13: 0 | G13: =IF((C13>0),(C13-D13),("")) -> 53 | H13: =IF((C13>0),(100*(C13-D13)/C13),("")) -> 6.1413673 | I13: 9 | J13: 0 | K13: 0 | L13: 0 | M13: 0
B14: 43472 | C14: 845 | D14: 801 | E14: 0 | F14: 14.5 | G14: =IF((C14>0),(C14-D14),("")) -> 44 | H14: =IF((C14>0),(100*(C14-D14)/C14),("")) -> 5.2071006 | I14: 12 | J14: 0 | K14: 0 | L14: 300 | M14: 0
B15: 43473 | C15: 898 | D15: 788 | E15: 0 | F15: 14.7 | G15: =IF((C15>0),(C15-D15),("")) -> 110 | H15: =IF((C15>0),(100*(C15-D15)/C15),("")) -> 12.249443 | I15: 157 | J15: 98 | K15: 0 | L15: 0 | M15: 1
B16: 43474 | C16: 927 | D16: 792 | E16: 0 | F16: 14.8 | G16: =IF((C16>0),(C16-D16),("")) -> 135 | H16: =IF((C16>0),(100*(C16-D16)/C16),("")) -> 14.563107 | I16: 136 | J16: 100 | K16: 0 | L16: 300 | M16: 1
B17: 43475 | C17: 892 | D17: 772 | E17: 0 | F17: 14.9 | G17: =IF((C17>0),(C17-D17),("")) -> 120 | H17: =IF((C17>0),(100*(C17-D17)/C17),("")) -> 13.452915 | I17: 114 | J17: 56 | K17: 0 | L17: 0 | M17: 1
B18: 43476 | C18: 747 | D18: 736 | E18: 0 | F18: 15 | G18: =IF((C18>0),(C18-D18),("")) -> 11 | H18: =IF((C18>0),(100*(C18-D18)/C18),("")) -> 1.4725569 | I18: 19 | J18: 0 | K18: 0 | L18: 0 | M18: 0
B19: 43477 | C19: 753 | D19: 736 | E19: 0 | G19: =IF((C19>0),(C19-D19),("")) -> 17 | H19: =IF((C19>0),(100*(C19-D19)/C19),("")) -> 2.2576361 | I19: 19 | J19: 0 | K19: 0 | L19: 300 | M19: 0
B20: 43478 | C20: 883 | D20: 788 | E20: 0 | G20: =IF((C20>0),(C20-D20),("")) -> 95 | H20: =IF((C20>0),(100*(C20-D20)/C20),("")) -> 10.758777 | I20: 36 | J20: 5 | K20: 0 | L20: 0 | M20: 0
B21: 43479 | C21: 1658 | D21: 727 | E21: 0 | F21: 14.9 | G21: =IF((C21>0),(C21-D21),("")) -> 931 | H21: =IF((C21>0),(100*(C21-D21)/C21),("")) -> 56.15199 | I21: 399 | J21: 103 | K21: 8340 | L21: 0 | M21: 1
B22: 43480 | C22: 1202 | D22: 753 | E22: 0 | F22: 15.1 | G22: =IF((C22>0),(C22-D22),("")) -> 449 | H22: =IF((C22>0),(100*(C22-D22)/C22),("")) -> 37.354409 | I22: 115 | J22: 88 | K22: 0 | L22: 0 | M22: 1
B23: 43481 | C23: 874 | D23: 780 | E23: 0 | F23: 15.1 | G23: =IF((C23>0),(C23-D23),("")) -> 94 | H23: =IF((C23>0),(100*(C23-D23)/C23),("")) -> 10.755149 | I23: 71 | J23: 11 | K23: 0 | L23: 300 | M23: 1
B24: 43482 | C24: 858 | D24: 749 | E24: 0 | F24: 14.8 | G24: =IF((C24>0),(C24-D24),("")) -> 109 | H24: =IF((C24>0),(100*(C24-D24)/C24),("")) -> 12.703963 | I24: 225 | J24: 91 | K24: 7900 | L24: 0 | M24: 1
B25: 43483 | C25: 418 | D25: 359 | E25: 0 | F25: 14.9 | G25: =IF((C25>0),(C25-D25),("")) -> 59 | H25: =IF((C25>0),(100*(C25-D25)/C25),("")) -> 14.114833 | I25: 84 | J25: 32 | K25: 0 | L25: 0 | M25: 0
B26: 43484 | C26: 741 | D26: 727 | E26: 0 | G26: =IF((C26>0),(C26-D26),("")) -> 14 | H26: =IF((C26>0),(100*(C26-D26)/C26),("")) -> 1.8893387 | I26: 38 | J26: 0 | K26: 0 | L26: 0 | M26: 0
B27: 43485 | C27: 950 | D27: 925 | E27: 0 | G27: =IF((C27>0),(C27-D27),("")) -> 25 | H27: =IF((C27>0),(100*(C27-D27)/C27),("")) -> 2.6315789 | I27: 78 | J27: 0 | K27: 0 | L27: 0 | M27: 0
B28: 43486 | C28: 948 | D28: 881 | E28: 0 | F28: 14.7 | G28: =IF((C28>0),(C28-D28),("")) -> 67 | H28: =IF((C28>0),(100*(C28-D28)/C28),("")) -> 7.0675105 | I28: 328 | J28: 86 | K28: 0 | L28: 0 | M28: 1
B29: 43487 | C29: 837 | D29: 755 | E29: 0 | F29: 14.7 | G29: =IF((C29>0),(C29-D29),("")) -> 82 | H29: =IF((C29>0),(100*(C29-D29)/C29),("")) -> 9.7968937 | I29: 307 | J29: 59 | K29: 0 | L29: 300 | M29: 0
B30: 43488 | C30: 1583 | D30: 1213 | E30: 87 | F30: 14.7 | G30: =IF((C30>0),(C30-D30),("")) -> 370 | H30: =IF((C30>0),(100*(C30-D30)/C30),("")) -> 23.373342 | I30: 561 | J30: 92 | K30: 0 | L30: 0 | M30: 1
B31: 43489 | C31: 983 | D31: 890 | E31: 0 | G31: =IF((C31>0),(C31-D31),("")) -> 93 | H31: =IF((C31>0),(100*(C31-D31)/C31),("")) -> 9.4608342 | I31: 161 | J31: 94 | K31: 8220 | L31: 300 | M31: 1
B32: 43490 | C32: 750 | D32: 737 | E32: 0 | G32: =IF((C32>0),(C32-D32),("")) -> 13 | H32: =IF((C32>0),(100*(C32-D32)/C32),("")) -> 1.7333333 | I32: 105 | J32: 29 | K32: 0 | L32: 0 | M32: 1
B33: 43491 | C33: 772 | D33: 715 | E33: 0 | G33: =IF((C33>0),(C33-D33),("")) -> 57 | H33: =IF((C33>0),(100*(C33-D33)/C33),("")) -> 7.3834197 | I33: 37 | J33: 0 | K33: 0 | L33: 0 | M33: 0
B34: 43492 | C34: 838 | D34: 804 | E34: 0 | G34: =IF((C34>0),(C34-D34),("")) -> 34 | H34: =IF((C34>0),(100*(C34-D34)/C34),("")) -> 4.0572792 | I34: 36 | J34: 0 | K34: 0 | L34: 0 | M34: 0
B35: 43493 | C35: 830 | D35: 733 | E35: 0 | F35: 13 | G35: =IF((C35>0),(C35-D35),("")) -> 97 | H35: =IF((C35>0),(100*(C35-D35)/C35),("")) -> 11.686747 | I35: 298 | J35: 78 | K35: 6780 | L35: 300 | M35: 1
B36: 43494 | C36: 720 | D36: 708 | E36: 0 | F36: 13.3 | G36: =IF((C36>0),(C36-D36),("")) -> 12 | H36: =IF((C36>0),(100*(C36-D36)/C36),("")) -> 1.6666667 | I36: 23 | J36: 1 | K36: 0 | L36: 0 | M36: 0
B37: 43495 | C37: 1029 | D37: 1009 | E37: 0 | F37: 13.1 | G37: =IF((C37>0),(C37-D37),("")) -> 20 | H37: =IF((C37>0),(100*(C37-D37)/C37),("")) -> 1.9436346 | I37: 12 | J37: 0 | K37: 0 | L37: 0 | M37: 0
B38: 43496 | C38: 760 | D38: 750 | E38: 0 | G38: =IF((C38>0),(C38-D38),("")) -> 10 | H38: =IF((C38>0),(100*(C38-D38)/C38),("")) -> 1.3157895 | I38: 9 | J38: 0 | K38: 7000 | L38: 0 | M38: 0
A39: FEVRIER | B39: 43497 | C39: 914 | D39: 859 | E39: 0 | G39: =IF((C39>0),(C39-D39),("")) -> 55 | H39: =IF((C39>0),(100*(C39-D39)/C39),("")) -> 6.0175055 | I39: 17 | J39: 0 | K39: 0 | L39: 0 | M39: 0
B40: 43498 | C40: 790 | D40: 729 | E40: 24 | G40: =IF((C40>0),(C40-D40),("")) -> 61 | H40: =IF((C40>0),(100*(C40-D40)/C40),("")) -> 7.721519 | I40: 67 | J40: 0 | K40: 0 | L40: 300 | M40: 0
B41: 43499 | C41: 1032 | D41: 1022 | E41: 287 | G41: =IF((C41>0),(C41-D41),("")) -> 10 | H41: =IF((C41>0),(100*(C41-D41)/C41),("")) -> 0.96899225 | I41: 303 | J41: 0 | K41: 0 | L41: 0 | M41: 0
B42: 43500 | C42: 950 | D42: 766 | E42: 0 | F42: 14 | G42: =IF((C42>0),(C42-D42),("")) -> 184 | H42: =IF((C42>0),(100*(C42-D42)/C42),("")) -> 19.368421 | I42: 8 | J42: 0 | K42: 0 | L42: 0 | M42: 0
B43: 43501 | C43: 842 | D43: 782 | E43: 0 | F43: 14.1 | G43: =IF((C43>0),(C43-D43),("")) -> 60 | H43: =IF((C43>0),(100*(C43-D43)/C43),("")) -> 7.1258907 | I43: 6 | J43: 0 | K43: 0 | L43: 300 | M43: 0
B44: 43502 | C44: 815 | D44: 783 | E44: 0 | F44: 13.8 | G44: =IF((C44>0),(C44-D44),("")) -> 32 | H44: =IF((C44>0),(100*(C44-D44)/C44),("")) -> 3.9263804 | I44: 14 | J44: 0 | K44: 0 | L44: 0 | M44: 0
B45: 43503 | C45: 644 | D45: 599 | E45: 0 | F45: 14.2 | G45: =IF((C45>0),(C45-D45),("")) -> 45 | H45: =IF((C45>0),(100*(C45-D45)/C45),("")) -> 6.9875776 | I45: 8 | J45: 0 | K45: 0 | L45: 0 | M45: 0
B46: 43504 | C46: 649 | D46: 632 | E46: 0 | G46: =IF((C46>0),(C46-D46),("")) -> 17 | H46: =IF((C46>0),(100*(C46-D46)/C46),("")) -> 2.6194145 | I46: 182 | J46: 0 | K46: 0 | L46: 0 | M46: 0
B47: 43505 | C47: 736 | D47: 703 | E47: 0 | G47: =IF((C47>0),(C47-D47),("")) -> 33 | H47: =IF((C47>0),(100*(C47-D47)/C47),("")) -> 4.4836957 | I47: 294 | J47: 0 | K47: 0 | L47: 0 | M47: 0
B48: 43506 | C48: 814 | D48: 734 | E48: 0 | G48: =IF((C48>0),(C48-D48),("")) -> 80 | H48: =IF((C48>0),(100*(C48-D48)/C48),("")) -> 9.8280098 | I48: 313 | J48: 0 | K48: 0 | L48: 0 | M48: 0
B49: 43507 | C49: 754 | D49: 706 | E49: 0 | F49: 14.3 | G49: =IF((C49>0),(C49-D49),("")) -> 48 | H49: =IF((C49>0),(100*(C49-D49)/C49),("")) -> 6.3660477 | I49: 403 | J49: 0 | K49: 0 | L49: 0 | M49: 0
B50: 43508 | C50: 521 | D50: 486 | E50: 0 | F50: 14.5 | G50: =IF((C50>0),(C50-D50),("")) -> 35 | H50: =IF((C50>0),(100*(C50-D50)/C50),("")) -> 6.7178503 | I50: 84 | J50: 0 | K50: 0 | L50: 300 | M50: 0
B51: 43509 | C51: 503 | D51: 474 | E51: 0 | F51: 14.5 | G51: =IF((C51>0),(C51-D51),("")) -> 29 | H51: =IF((C51>0),(100*(C51-D51)/C51),("")) -> 5.7654076 | I51: 13 | J51: 0 | K51: 0 | L51: 0 | M51: 0
B52: 43510 | C52: 482 | D52: 448 | E52: 0 | F52: 14 | G52: =IF((C52>0),(C52-D52),("")) -> 34 | H52: =IF((C52>0),(100*(C52-D52)/C52),("")) -> 7.0539419 | I52: 28 | J52: 0 | K52: 0 | L52: 0 | M52: 0
B53: 43511 | C53: 452 | D53: 426 | E53: 0 | F53: 14.1 | G53: =IF((C53>0),(C53-D53),("")) -> 26 | H53: =IF((C53>0),(100*(C53-D53)/C53),("")) -> 5.7522124 | I53: 44 | J53: 0 | K53: 0 | L53: 0 | M53: 0
B54: 43512 | E54: 0 | G54: =IF((C54>0),(C54-D54),("")) | H54: =IF((C54>0),(100*(C54-D54)/C54),("")) | J54: 0 | K54: 0 | L54: 0 | M54: 0
B55: 43513 | C55: 756 | D55: 690 | E55: 0 | G55: =IF((C55>0),(C55-D55),("")) -> 66 | H55: =IF((C55>0),(100*(C55-D55)/C55),("")) -> 8.7301587 | I55: 23 | J55: 0 | K55: 0 | L55: 0 | M55: 0
B56: 43514 | C56: 679 | D56: 628 | E56: 0 | F56: 14.1 | G56: =IF((C56>0),(C56-D56),("")) -> 51 | H56: =IF((C56>0),(100*(C56-D56)/C56),("")) -> 7.5110457 | I56: 4 | J56: 0 | K56: 0 | L56: 300 | M56: 0
B57: 43515 | C57: 702 | D57: 668 | E57: 0 | F57: 14 | G57: =IF((C57>0),(C57-D57),("")) -> 34 | H57: =IF((C57>0),(100*(C57-D57)/C57),("")) -> 4.8433048 | I57: 3 | J57: 0 | K57: 0 | L57: 0 | M57: 0
B58: 43516 | C58: 717 | D58: 677 | E58: 0 | F58: 13.8 | G58: =IF((C58>0),(C58-D58),("")) -> 40 | H58: =IF((C58>0),(100*(C58-D58)/C58),("")) -> 5.5788006 | I58: 4 | J58: 0 | K58: 0 | L58: 0 | M58: 0
B59: 43517 | C59: 711 | D59: 683 | E59: 0 | F59: 14 | G59: =IF((C59>0),(C59-D59),("")) -> 28 | H59: =IF((C59>0),(100*(C59-D59)/C59),("")) -> 3.9381153 | I59: 3 | J59: 0 | K59: 0 | L59: 0 | M59: 0
B60: 43518 | C60: 722 | D60: 673 | E60: 0 | F60: 14.3 | G60: =IF((C60>0),(C60-D60),("")) -> 49 | H60: =IF((C60>0),(100*(C60-D60)/C60),("")) -> 6.7867036 | I60: 7 | J60: 0 | K60: 0 | L60: 300 | M60: 0
B61: 43519 | C61: 691 | D61: 657 | E61: 0 | G61: =IF((C61>0),(C61-D61),("")) -> 34 | H61: =IF((C61>0),(100*(C61-D61)/C61),("")) -> 4.9204052 | I61: 8 | J61: 0 | K61: 0 | L61: 0 | M61: 0
B62: 43520 | C62: 700 | D62: 654 | E62: 0 | G62: =IF((C62>0),(C62-D62),("")) -> 46 | H62: =IF((C62>0),(100*(C62-D62)/C62),("")) -> 6.5714286 | I62: 9 | J62: 0 | K62: 0 | L62: 0 | M62: 0
B63: 43521 | C63: 648 | D63: 612 | E63: 0 | F63: 14.3 | G63: =IF((C63>0),(C63-D63),("")) -> 36 | H63: =IF((C63>0),(100*(C63-D63)/C63),("")) -> 5.5555556 | I63: 8 | J63: 0 | K63: 0 | L63: 0 | M63: 0
B64: 43522 | C64: 721 | D64: 672 | E64: 0 | F64: 14.8 | G64: =IF((C64>0),(C64-D64),("")) -> 49 | H64: =IF((C64>0),(100*(C64-D64)/C64),("")) -> 6.7961165 | I64: 6 | J64: 0 | K64: 0 | L64: 0 | M64: 0
B65: 43523 | C65: 700 | D65: 662 | E65: 0 | F65: 14.7 | G65: =IF((C65>0),(C65-D65),("")) -> 38 | H65: =IF((C65>0),(100*(C65-D65)/C65),("")) -> 5.4285714 | I65: 2 | J65: 0 | K65: 0 | L65: 0 | M65: 0
B66: 43524 | C66: 622 | D66: 605 | E66: 0 | G66: =IF((C66>0),(C66-D66),("")) -> 17 | H66: =IF((C66>0),(100*(C66-D66)/C66),("")) -> 2.733119 | I66: 3 | J66: 0 | K66: 0 | L66: 0 | M66: 0
A67: MARS | B67: 43525 | C67: 685 | D67: 655 | E67: 0 | G67: =IF((C67>0),(C67-D67),("")) -> 30 | H67: =IF((C67>0),(100*(C67-D67)/C67),("")) -> 4.379562 | I67: 3 | J67: 0 | K67: 0 | L67: 300 | M67: 0
B68: 43526 | C68: 672 | D68: 636 | E68: 0 | G68: =IF((C68>0),(C68-D68),("")) -> 36 | H68: =IF((C68>0),(100*(C68-D68)/C68),("")) -> 5.3571429 | I68: 3 | J68: 0 | K68: 0 | L68: 0 | M68: 0
B69: 43527 | C69: 753 | D69: 698 | E69: 0 | G69: =IF((C69>0),(C69-D69),("")) -> 55 | H69: =IF((C69>0),(100*(C69-D69)/C69),("")) -> 7.3041169 | I69: 4 | J69: 0 | K69: 0 | L69: 0 | M69: 0
B70: 43528 | C70: 779 | D70: 623 | E70: 0 | G70: =IF((C70>0),(C70-D70),("")) -> 156 | H70: =IF((C70>0),(100*(C70-D70)/C70),("")) -> 20.025674 | I70: 70 | J70: 56 | K70: 0 | L70: 0 | M70: 0
B71: 43529 | C71: 709 | D71: 614 | E71: 18 | G71: =IF((C71>0),(C71-D71),("")) -> 95 | H71: =IF((C71>0),(100*(C71-D71)/C71),("")) -> 13.399154 | I71: 193 | J71: 27 | K71: 0 | L71: 0 | M71: 1
B72: 43530 | C72: 803 | D72: 709 | E72: 0 | G72: =IF((C72>0),(C72-D72),("")) -> 94 | H72: =IF((C72>0),(100*(C72-D72)/C72),("")) -> 11.706102 | I72: 87 | J72: 72 | K72: 0 | L72: 0 | M72: 1
B73: 43531 | C73: 785 | D73: 668 | E73: 0 | G73: =IF((C73>0),(C73-D73),("")) -> 117 | H73: =IF((C73>0),(100*(C73-D73)/C73),("")) -> 14.904459 | I73: 47 | J73: 37 | K73: 0 | L73: 0 | M73: 0
B74: 43532 | C74: 722 | D74: 655 | E74: 0 | G74: =IF((C74>0),(C74-D74),("")) -> 67 | H74: =IF((C74>0),(100*(C74-D74)/C74),("")) -> 9.2797784 | I74: 3 | J74: 0 | K74: 0 | L74: 0 | M74: 0
B75: 43533 | C75: 747 | D75: 679 | E75: 0 | G75: =IF((C75>0),(C75-D75),("")) -> 68 | H75: =IF((C75>0),(100*(C75-D75)/C75),("")) -> 9.103079 | I75: 2 | J75: 0 | K75: 0 | L75: 0 | M75: 0
B76: 43534 | C76: 837 | D76: 770 | E76: 0 | G76: =IF((C76>0),(C76-D76),("")) -> 67 | H76: =IF((C76>0),(100*(C76-D76)/C76),("")) -> 8.004779 | I76: 3 | J76: 0 | K76: 0 | L76: 300 | M76: 0
B77: 43535 | C77: 834 | D77: 679 | E77: 0 | G77: =IF((C77>0),(C77-D77),("")) -> 155 | H77: =IF((C77>0),(100*(C77-D77)/C77),("")) -> 18.585132 | I77: 106 | J77: 811 | K77: 8500 | L77: 0 | M77: 0
B78: 43536 | C78: 832 | D78: 664 | E78: 0 | G78: =IF((C78>0),(C78-D78),("")) -> 168 | H78: =IF((C78>0),(100*(C78-D78)/C78),("")) -> 20.192308 | I78: 105 | J78: 87 | K78: 0 | L78: 0 | M78: 1
B79: 43537 | C79: 799 | D79: 712 | E79: 0 | G79: =IF((C79>0),(C79-D79),("")) -> 87 | H79: =IF((C79>0),(100*(C79-D79)/C79),("")) -> 10.888611 | I79: 24 | J79: 17 | K79: 0 | L79: 300 | M79: 1
B80: 43538 | C80: 829 | D80: 681 | E80: 0 | F80: 15.7 | G80: =IF((C80>0),(C80-D80),("")) -> 148 | H80: =IF((C80>0),(100*(C80-D80)/C80),("")) -> 17.852835 | I80: 88 | J80: 73 | K80: 0 | L80: 0 | M80: 1
B81: 43539 | C81: 724 | D81: 649 | E81: 0 | F81: 15.7 | G81: =IF((C81>0),(C81-D81),("")) -> 75 | H81: =IF((C81>0),(100*(C81-D81)/C81),("")) -> 10.359116 | I81: 43 | J81: 32 | K81: 8520 | L81: 0 | M81: 1
B82: 43540 | C82: 744 | D82: 690 | E82: 0 | F82: 16.2 | G82: =IF((C82>0),(C82-D82),("")) -> 54 | H82: =IF((C82>0),(100*(C82-D82)/C82),("")) -> 7.2580645 | I82: 3 | J82: 0 | K82: 0 | L82: 300 | M82: 0
B83: 43541 | C83: 814 | D83: 772 | E83: 0 | F83: 15.4 | G83: =IF((C83>0),(C83-D83),("")) -> 42 | H83: =IF((C83>0),(100*(C83-D83)/C83),("")) -> 5.1597052 | I83: 4 | J83: 0 | K83: 0 | L83: 0 | M83: 0
B84: 43542 | C84: 872 | D84: 713 | E84: 0 | F84: 16.6 | G84: =IF((C84>0),(C84-D84),("")) -> 159 | H84: =IF((C84>0),(100*(C84-D84)/C84),("")) -> 18.233945 | I84: 112 | J84: 92 | K84: 0 | L84: 0 | M84: 1
B85: 43543 | C85: 803 | D85: 682 | E85: 0 | F85: 16 | G85: =IF((C85>0),(C85-D85),("")) -> 121 | H85: =IF((C85>0),(100*(C85-D85)/C85),("")) -> 15.068493 | I85: 94 | J85: 77 | K85: 0 | L85: 300 | M85: 1
B86: 43544 | C86: 777 | D86: 648 | E86: 0 | F86: 15.8 | G86: =IF((C86>0),(C86-D86),("")) -> 129 | H86: =IF((C86>0),(100*(C86-D86)/C86),("")) -> 16.602317 | I86: 96 | J86: 81 | K86: 0 | L86: 0 | M86: 1
B87: 43545 | C87: 703 | D87: 622 | E87: 0 | F87: 17.4 | G87: =IF((C87>0),(C87-D87),("")) -> 81 | H87: =IF((C87>0),(100*(C87-D87)/C87),("")) -> 11.522048 | I87: 31 | J87: 22 | K87: 7800 | L87: 0 | M87: 0
B88: 43546 | C88: 621 | D88: 565 | E88: 0 | F88: 16.7 | G88: =IF((C88>0),(C88-D88),("")) -> 56 | H88: =IF((C88>0),(100*(C88-D88)/C88),("")) -> 9.0177134 | I88: 2 | J88: 0 | K88: 0 | L88: 0 | M88: 0
B89: 43547 | C89: 662 | D89: 600 | E89: 0 | F89: 16.6 | G89: =IF((C89>0),(C89-D89),("")) -> 62 | H89: =IF((C89>0),(100*(C89-D89)/C89),("")) -> 9.3655589 | I89: 3 | J89: 0 | K89: 0 | L89: 300 | M89: 0
B90: 43548 | C90: 743 | D90: 661 | E90: 0 | F90: 16.7 | G90: =IF((C90>0),(C90-D90),("")) -> 82 | H90: =IF((C90>0),(100*(C90-D90)/C90),("")) -> 11.036339 | I90: 9 | J90: 6 | K90: 8900 | L90: 0 | M90: 1
B91: 43549 | C91: 1027 | D91: 884 | E91: 24 | F91: 17.2 | G91: =IF((C91>0),(C91-D91),("")) -> 143 | H91: =IF((C91>0),(100*(C91-D91)/C91),("")) -> 13.924051 | I91: 220 | J91: 93 | K91: 0 | L91: 300 | M91: 1
... B95: 43553 | C95: 700 | D95: 588 | E95: 0 | F95: 16 | G95: =IF((C95>0),(C95-D95),("")) -> 112 | H95: =IF((C95>0),(100*(C95-D95)/C95),("")) -> 16 | I95: 3 | J95: 0 | K95: 0 | L95: 0 | M95: 0
B96: 43554 | C96: 774 | D96: 631 | E96: 0 | G96: =IF((C96>0),(C96-D96),("")) -> 143 | H96: =IF((C96>0),(100*(C96-D96)/C96),("")) -> 18.475452 | I96: 5 | J96: 0 | K96: 0 | L96: 0 | M96: 0
B97: 43555 | E97: 0 | G97: =IF((C97>0),(C97-D97),("")) | H97: =IF((C97>0),(100*(C97-D97)/C97),("")) | J97: 0 | K97: 0 | L97: 0 | M97: 0
A98: AVRIL | B98: 43556 | C98: 866 | D98: 719 | E98: 0 | F98: 16.7 | G98: =IF((C98>0),(C98-D98),("")) -> 147 | H98: =IF((C98>0),(100*(C98-D98)/C98),("")) -> 16.974596 | I98: 82 | J98: 66 | K98: 0 | L98: 0 | M98: 1
B99: 43557 | C99: 868 | D99: 702 | E99: 0 | F99: 16.6 | G99: =IF((C99>0),(C99-D99),("")) -> 166 | H99: =IF((C99>0),(100*(C99-D99)/C99),("")) -> 19.124424 | I99: 125 | J99: 108 | K99: 0 | L99: 0 | M99: 1
B100: 43558 | C100: 856 | D100: 756 | E100: 0 | F100: 17.2 | G100: =IF((C100>0),(C100-D100),("")) -> 100 | H100: =IF((C100>0),(100*(C100-D100)/C100),("")) -> 11.682243 | I100: 93 | J100: 78 | K100: 0 | L100: 300 | M100: 0
B101: 43559 | C101: 922 | D101: 850 | E101: 0 | F101: 17.4 | G101: =IF((C101>0),(C101-D101),("")) -> 72 | H101: =IF((C101>0),(100*(C101-D101)/C101),("")) -> 7.8091106 | I101: 117 | J101: 47 | K101: 0 | L101: 0 | M101: 0
B102: 43560 | C102: 654 | D102: 603 | E102: 0 | G102: =IF((C102>0),(C102-D102),("")) -> 51 | H102: =IF((C102>0),(100*(C102-D102)/C102),("")) -> 7.7981651 | I102: 10 | J102: 0 | K102: 0 | L102: 300 | M102: 0
B103: 43561 | C103: 806 | D103: 770 | E103: 0 | G103: =IF((C103>0),(C103-D103),("")) -> 36 | H103: =IF((C103>0),(100*(C103-D103)/C103),("")) -> 4.4665012 | I103: 7 | J103: 0 | K103: 0 | L103: 0 | M103: 0
B104: 43562 | C104: 821 | D104: 755 | E104: 0 | G104: =IF((C104>0),(C104-D104),("")) -> 66 | H104: =IF((C104>0),(100*(C104-D104)/C104),("")) -> 8.0389769 | I104: 29 | J104: 0 | K104: 0 | L104: 0 | M104: 0
...

Sheet MOYENNES
F1: STEU : | G1: BORGO LITTORAL
F2: ANNEE | G2: 2019
E3: INTERVENANT : | G3: LEROUX
D6: JANVIER | E6: FEVRIER | F6: MARS | G6: AVRIL | H6: MAI | I6: JUIN | J6: JUILLET | K6: AOUT | L6: SEPTEMBRE | M6: OCTOBRE | N6: NOVEMBRE | O6: DECEMBRE | Q6: ANNUEL
A7: Débits | B7: Entrée | C7: Total | D7: =SUM('RECAPITULATIF ANNUEL'!$C8:$C38) -> 27520 | E7: =SUM('RECAPITULATIF ANNUEL'!$C39:$C66) -> 19267 | F7: =SUM('RECAPITULATIF ANNUEL'!$C67:$C97) -> 23093 | G7: =SUM('RECAPITULATIF ANNUEL'!$C98:$C127) -> 24716 | H7: =SUM('RECAPITULATIF ANNUEL'!C$128:C$158) -> 28306 | I7: =SUM('RECAPITULATIF ANNUEL'!D$159:D$188) -> 21048 | J7: =SUM('RECAPITULATIF ANNUEL'!C$189:C$219) -> 25338 | K7: =SUM('RECAPITULATIF ANNUEL'!C$220:C$250) -> 23645 | L7: =SUM('RECAPITULATIF ANNUEL'!C$251:C$280) -> 21306 | M7: =SUM('RECAPITULATIF ANNUEL'!C$281:C$311) -> 25086 | N7: =SUM('RECAPITULATIF ANNUEL'!C$312:C$341) -> 29522 | O7: =SUM('RECAPITULATIF ANNUEL'!C$342:C$372) -> 22106 | Q7: =SUM(D7:O7) -> 290953
C8: Moyenne | D8: =AVERAGE('RECAPITULATIF ANNUEL'!$C8:$C38) -> 887.74194 | E8: =AVERAGE('RECAPITULATIF ANNUEL'!$C39:$C66) -> 713.59259 | F8: =AVERAGE('RECAPITULATIF ANNUEL'!$C67:$C97) -> 769.76667 | G8: =AVERAGE('RECAPITULATIF ANNUEL'!$C98:$C127) -> 823.86667 | H8: =AVERAGE('RECAPITULATIF ANNUEL'!C$128:C$158) -> 913.09677 | I8: =AVERAGE('RECAPITULATIF ANNUEL'!C159:C188) -> 837.23333 | J8: =AVERAGE('RECAPITULATIF ANNUEL'!C$189:C$219) -> 817.35484 | K8: =AVERAGE('RECAPITULATIF ANNUEL'!C$220:C$250) -> 788.16667 | L8: =AVERAGE('RECAPITULATIF ANNUEL'!C$251:C$280) -> 760.92857 | M8: =AVERAGE('RECAPITULATIF ANNUEL'!C$281:C$311) -> 836.2 | N8: =AVERAGE('RECAPITULATIF ANNUEL'!C$312:C$341) -> 984.06667 | O8: =AVERAGE('RECAPITULATIF ANNUEL'!C$342:C$372) -> 736.86667
C9: Minimum | D9: =MIN('RECAPITULATIF ANNUEL'!$C8:$C38) -> 418 | E9: =MIN('RECAPITULATIF ANNUEL'!$C39:$C66) -> 452 | F9: =MIN('RECAPITULATIF ANNUEL'!$C67:$C97) -> 578 | G9: =MIN('RECAPITULATIF ANNUEL'!$C98:$C127) -> 523 | H9: =MIN('RECAPITULATIF ANNUEL'!C$128:C$158) -> 513 | I9: =MIN('RECAPITULATIF ANNUEL'!D$159:D$188) -> 515 | J9: =MIN('RECAPITULATIF ANNUEL'!C$189:C$219) -> 634 | K9: =MIN('RECAPITULATIF ANNUEL'!C$220:C$250) -> 514 | L9: =MIN('RECAPITULATIF ANNUEL'!C$251:C$280) -> 618 | M9: =MIN('RECAPITULATIF ANNUEL'!C$281:C$311) -> 690 | N9: =MIN('RECAPITULATIF ANNUEL'!C$312:C$341) -> 621 | O9: =MIN('RECAPITULATIF ANNUEL'!C$342:C$372) -> 425
C10: Maximum | D10: =MAX('RECAPITULATIF ANNUEL'!$C8:$C38) -> 1658 | E10: =MAX('RECAPITULATIF ANNUEL'!$C9:$C66) -> 1658 | F10: =MAX('RECAPITULATIF ANNUEL'!$C67:$C97) -> 1094 | G10: =MAX('RECAPITULATIF ANNUEL'!$C98:$C127) -> 1355 | H10: =MAX('RECAPITULATIF ANNUEL'!C$128:C$158) -> 2339 | I10: =MAX('RECAPITULATIF ANNUEL'!D$159:D$188) -> 942 | J10: =MAX('RECAPITULATIF ANNUEL'!C$189:C$219) -> 1327 | K10: =MAX('RECAPITULATIF ANNUEL'!C$220:C$250) -> 1150 | L10: =MAX('RECAPITULATIF ANNUEL'!C$251:C$280) -> 843 | M10: =MAX('RECAPITULATIF ANNUEL'!C$281:C$311) -> 1713 | N10: =MAX('RECAPITULATIF ANNUEL'!C$312:C$341) -> 2513 | O10: =MAX('RECAPITULATIF ANNUEL'!C$342:C$372) -> 929
B11: Sortie | C11: Total | D11: =SUM('RECAPITULATIF ANNUEL'!$D8:$D38) -> 23935 | E11: =SUM('RECAPITULATIF ANNUEL'!$D39:$D66) -> 18030 | F11: =SUM('RECAPITULATIF ANNUEL'!$D67:$D97) -> 20331 | G11: =SUM('RECAPITULATIF ANNUEL'!$D98:$D127) -> 21716 | H11: =SUM('RECAPITULATIF ANNUEL'!C$128:C$158) -> 28306 | I11: =SUM('RECAPITULATIF ANNUEL'!D$159:D$188) -> 21048 | J11: =SUM('RECAPITULATIF ANNUEL'!D$189:D$219) -> 21427 | K11: =SUM('RECAPITULATIF ANNUEL'!D$220:D$250) -> 27317 | L11: =SUM('RECAPITULATIF ANNUEL'!D$251:D$280) -> 19866 | M11: =SUM('RECAPITULATIF ANNUEL'!D$281:D$311) -> 26391 | N11: =SUM('RECAPITULATIF ANNUEL'!D$312:D$341) -> 30919 | O11: =SUM('RECAPITULATIF ANNUEL'!D$342:D$372) -> 22677 | Q11: =SUM(D11:O11) -> 281963
C12: Moyenne | D12: =AVERAGE('RECAPITULATIF ANNUEL'!$D8:$D38) -> 772.09677 | E12: =AVERAGE('RECAPITULATIF ANNUEL'!$D39:$D66) -> 667.77778 | F12: =AVERAGE('RECAPITULATIF ANNUEL'!$D67:$D97) -> 677.7 | G12: =AVERAGE('RECAPITULATIF ANNUEL'!$D98:$D127) -> 723.86667 | H12: =AVERAGE('RECAPITULATIF ANNUEL'!C$128:C$158) -> 913.09677 | I12: =AVERAGE('RECAPITULATIF ANNUEL'!F$159:F$188) -> 22.930769 | J12: =AVERAGE('RECAPITULATIF ANNUEL'!D$189:D$219) -> 691.19355 | K12: =AVERAGE('RECAPITULATIF ANNUEL'!D$220:D$250) -> 910.56667 | L12: =AVERAGE('RECAPITULATIF ANNUEL'!D$251:D$280) -> 709.5 | M12: =AVERAGE('RECAPITULATIF ANNUEL'!D$281:D$311) -> 879.7 | N12: =AVERAGE('RECAPITULATIF ANNUEL'!D$312:D$341) -> 1030.6333 | O12: =AVERAGE('RECAPITULATIF ANNUEL'!D$342:D$372) -> 755.9
C13: Minimum | D13: =MIN('RECAPITULATIF ANNUEL'!$D8:$D38) -> 359 | E13: =MIN('RECAPITULATIF ANNUEL'!$D39:$D66) -> 426 | F13: =MIN('RECAPITULATIF ANNUEL'!$D67:$D97) -> 484 | G13: =MIN('RECAPITULATIF ANNUEL'!$D98:$D127) -> 425 | H13: =MIN('RECAPITULATIF ANNUEL'!C$128:C$158) -> 513 | I13: =MIN('RECAPITULATIF ANNUEL'!F$159:F$188) -> 20.4 | J13: =MIN('RECAPITULATIF ANNUEL'!D$189:D$219) -> 325 | K13: =MIN('RECAPITULATIF ANNUEL'!D$220:D$250) -> 433 | L13: =MIN('RECAPITULATIF ANNUEL'!D$251:D$280) -> 589 | M13: =MIN('RECAPITULATIF ANNUEL'!D$281:D$311) -> 721 | N13: =MIN('RECAPITULATIF ANNUEL'!D$312:D$341) -> 700 | O13: =MIN('RECAPITULATIF ANNUEL'!D$342:D$372) -> 490
C14: Maximum | D14: =MAX('RECAPITULATIF ANNUEL'!$D8:$D38) -> 1213 | E14: =MAX('RECAPITULATIF ANNUEL'!$D39:$D66) -> 1022 | F14: =MAX('RECAPITULATIF ANNUEL'!$D67:$D97) -> 1072 | G14: =MAX('RECAPITULATIF ANNUEL'!$D98:$D127) -> 1312 | H14: =MAX('RECAPITULATIF ANNUEL'!C$128:C$158) -> 2339 | I14: =MAX('RECAPITULATIF ANNUEL'!F$159:F$188) -> 25.6 | J14: =MAX('RECAPITULATIF ANNUEL'!D$189:D$219) -> 1307 | K14: =MAX('RECAPITULATIF ANNUEL'!D$220:D$250) -> 7310 | L14: =MAX('RECAPITULATIF ANNUEL'!D$251:D$280) -> 844 | M14: =MAX('RECAPITULATIF ANNUEL'!D$281:D$311) -> 1806 | N14: =MAX('RECAPITULATIF ANNUEL'!D$312:D$341) -> 2581 | O14: =MAX('RECAPITULATIF ANNUEL'!D$342:D$372) -> 960
B15: Trop pleins | C15: Total | D15: =SUM('RECAPITULATIF ANNUEL'!$E8:$E38) -> 87 | E15: =SUM('RECAPITULATIF ANNUEL'!$E$39:$E$66) -> 311 | F15: =SUM('RECAPITULATIF ANNUEL'!$E$67:$E$97) -> 69 | G15: =SUM('RECAPITULATIF ANNUEL'!$E$98:$E$127) -> 17 | H15: =SUM('RECAPITULATIF ANNUEL'!E$128:E$158) -> 1452 | I15: =SUM('RECAPITULATIF ANNUEL'!E$159:E$188) -> 106 | J15: =SUM('RECAPITULATIF ANNUEL'!E$189:E$219) -> 165 | K15: =SUM('RECAPITULATIF ANNUEL'!E$220:E$250) -> 0 | L15: =SUM('RECAPITULATIF ANNUEL'!E$251:E$280) -> 0 | M15: =SUM('RECAPITULATIF ANNUEL'!E$281:E$311) -> 564 | N15: =SUM('RECAPITULATIF ANNUEL'!E$312:E$341) -> 2896 | O15: =SUM('RECAPITULATIF ANNUEL'!E$342:E$372) -> 531 | Q15: =SUM(D15:O15) -> 6198
C16: Moyenne | D16: =AVERAGE('RECAPITULATIF ANNUEL'!$E8:$E38) -> 2.8064516 | E16: =AVERAGE('RECAPITULATIF ANNUEL'!$E$39:$E$66) -> 11.107143 | F16: =AVERAGE('RECAPITULATIF ANNUEL'!$E$67:$E$97) -> 2.2258065 | G16: =AVERAGE('RECAPITULATIF ANNUEL'!$E$98:$E$127) -> 0.56666667 | H16: =AVERAGE('RECAPITULATIF ANNUEL'!E$128:E$158) -> 46.83871 | I16: =AVERAGE('RECAPITULATIF ANNUEL'!E$159:E$188) -> 3.5333333 | J16: =AVERAGE('RECAPITULATIF ANNUEL'!E$189:E$219) -> 5.3225806 | K16: =AVERAGE('RECAPITULATIF ANNUEL'!E$220:E$250) -> 0 | L16: =AVERAGE('RECAPITULATIF ANNUEL'!E$251:E$280) -> 0 | M16: =AVERAGE('RECAPITULATIF ANNUEL'!E$281:E$311) -> 18.193548 | N16: =AVERAGE('RECAPITULATIF ANNUEL'!E$312:E$341) -> 96.533333 | O16: =AVERAGE('RECAPITULATIF ANNUEL'!E$342:E$372) -> 17.129032
C17: Minimum | D17: =MIN('RECAPITULATIF ANNUEL'!$E8:$E38) -> 0 | E17: =MIN('RECAPITULATIF ANNUEL'!$E$39:$E$66) -> 0 | F17: =MIN('RECAPITULATIF ANNUEL'!$E$67:$E$97) -> 0 | G17: =MIN('RECAPITULATIF ANNUEL'!$E$98:$E$127) -> 0 | H17: =MIN('RECAPITULATIF ANNUEL'!E$128:E$158) -> 0 | I17: =MIN('RECAPITULATIF ANNUEL'!E$159:E$188) -> 0 | J17: =MIN('RECAPITULATIF ANNUEL'!E$189:E$219) -> 0 | K17: =MIN('RECAPITULATIF ANNUEL'!E$220:E$250) -> 0 | L17: =MIN('RECAPITULATIF ANNUEL'!E$251:E$280) -> 0 | M17: =MIN('RECAPITULATIF ANNUEL'!E$281:E$311) -> 0 | N17: =MIN('RECAPITULATIF ANNUEL'!E$312:E$341) -> 0 | O17: =MIN('RECAPITULATIF ANNUEL'!E$342:E$372) -> 0
C18: Maximum | D18: =MAX('RECAPITULATIF ANNUEL'!$E8:$E38) -> 87 | E18: =MAX('RECAPITULATIF ANNUEL'!$E$39:$E$66) -> 287 | F18: =MAX('RECAPITULATIF ANNUEL'!$E$67:$E$97) -> 27 | G18: =MAX('RECAPITULATIF ANNUEL'!$E$98:$E$127) -> 17 | H18: =MAX('RECAPITULATIF ANNUEL'!E$128:E$158) -> 956 | I18: =MAX('RECAPITULATIF ANNUEL'!E$159:E$188) -> 104 | J18: =MAX('RECAPITULATIF ANNUEL'!E$189:E$219) -> 86 | K18: =MAX('RECAPITULATIF ANNUEL'!E$220:E$250) -> 0 | L18: =MAX('RECAPITULATIF ANNUEL'!E$251:E$280) -> 0 | M18: =MAX('RECAPITULATIF ANNUEL'!E$281:E$311) -> 314 | N18: =MAX('RECAPITULATIF ANNUEL'!E$312:E$341) -> 754 | O18: =MAX('RECAPITULATIF ANNUEL'!E$342:E$372) -> 373
B19: Retour en tête | C19: Total | D19: =SUM('RECAPITULATIF ANNUEL'!$I8:$I38) -> 3527 | E19: =SUM('RECAPITULATIF ANNUEL'!$I$39:$I$66) -> 1864 | F19: =SUM('RECAPITULATIF ANNUEL'!$I$67:$I$97) -> 1517 | G19: =SUM('RECAPITULATIF ANNUEL'!$I$98:$I$127) -> 1861 | H19: =SUM('RECAPITULATIF ANNUEL'!I$128:I$158) -> 4662 | I19: =SUM('RECAPITULATIF ANNUEL'!I$159:I$188) -> 10642 | J19: =SUM('RECAPITULATIF ANNUEL'!I$189:I$219) -> 7944 | K19: =SUM('RECAPITULATIF ANNUEL'!I$220:I$250) -> 46826 | L19: =SUM('RECAPITULATIF ANNUEL'!I$251:I$280) -> 11513 | M19: =SUM('RECAPITULATIF ANNUEL'!I$281:I$311) -> 2073 | N19: =SUM('RECAPITULATIF ANNUEL'!I$312:I$341) -> 3920 | O19: =SUM('RECAPITULATIF ANNUEL'!I$342:I$372) -> 2454 | Q19: =SUM(D19:O19) -> 98803
C20: Moyenne | D20: =AVERAGE('RECAPITULATIF ANNUEL'!$I8:$I38) -> 113.77419 | E20: =AVERAGE('RECAPITULATIF ANNUEL'!$I$39:$I$66) -> 69.037037 | F20: =AVERAGE('RECAPITULATIF ANNUEL'!$I$67:$I$97) -> 50.566667 | G20: =AVERAGE('RECAPITULATIF ANNUEL'!$I$98:$I$127) -> 64.172414 | H20: =AVERAGE('RECAPITULATIF ANNUEL'!I$128:I$158) -> 150.3871 | I20: =AVERAGE('RECAPITULATIF ANNUEL'!I$159:I$188) -> 354.73333 | J20: =AVERAGE('RECAPITULATIF ANNUEL'!I$189:I$219) -> 256.25806 | K20: =AVERAGE('RECAPITULATIF ANNUEL'!I$220:I$250) -> 1560.8667 | L20: =AVERAGE('RECAPITULATIF ANNUEL'!I$251:I$280) -> 383.76667 | M20: =AVERAGE('RECAPITULATIF ANNUEL'!I$281:I$311) -> 69.1 | N20: =AVERAGE('RECAPITULATIF ANNUEL'!I$312:I$341) -> 130.66667 | O20: =AVERAGE('RECAPITULATIF ANNUEL'!I$342:I$372) -> 81.8
C21: Minimum | D21: =MIN('RECAPITULATIF ANNUEL'!$I8:$I38) -> 4 | E21: =MIN('RECAPITULATIF ANNUEL'!$I$39:$I$66) -> 2 | F21: =MIN('RECAPITULATIF ANNUEL'!$I$67:$I$97) -> 2 | G21: =MIN('RECAPITULATIF ANNUEL'!$I$98:$I$127) -> 1 | H21: =MIN('RECAPITULATIF ANNUEL'!I$128:I$158) -> 2 | I21: =MIN('RECAPITULATIF ANNUEL'!I$159:I$188) -> 10 | J21: =MIN('RECAPITULATIF ANNUEL'!I$189:I$219) -> 14 | K21: =MIN('RECAPITULATIF ANNUEL'!I$220:I$250) -> 744 | L21: =MIN('RECAPITULATIF ANNUEL'!I$251:I$280) -> 0 | M21: =MIN('RECAPITULATIF ANNUEL'!I$281:I$311) -> 7 | N21: =MIN('RECAPITULATIF ANNUEL'!I$312:I$341) -> 4 | O21: =MIN('RECAPITULATIF ANNUEL'!I$342:I$372) -> 6
C22: Maximum | D22: =MAX('RECAPITULATIF ANNUEL'!$I8:$I38) -> 561 | E22: =MAX('RECAPITULATIF ANNUEL'!$I$39:$I$66) -> 403 | F22: =MAX('RECAPITULATIF ANNUEL'!$I$67:$I$97) -> 220 | G22: =MAX('RECAPITULATIF ANNUEL'!$I$98:$I$127) -> 125 | H22: =MAX('RECAPITULATIF ANNUEL'!I$128:I$158) -> 938 | I22: =MAX('RECAPITULATIF ANNUEL'!I$159:I$188) -> 876 | J22: =MAX('RECAPITULATIF ANNUEL'!I$189:I$219) -> 928 | K22: =MAX('RECAPITULATIF ANNUEL'!I$220:I$250) -> 11003 | L22: =MAX('RECAPITULATIF ANNUEL'!I$251:I$280) -> 1058 | M22: =MAX('RECAPITULATIF ANNUEL'!I$281:I$311) -> 311 | N22: =MAX('RECAPITULATIF ANNUEL'!I$312:I$341) -> 786 | O22: =MAX('RECAPITULATIF ANNUEL'!I$342:I$372) -> 1028
A24: Boues | B24: Vol soutiré deshydraté | C24: Total | D24: =SUM('RECAPITULATIF ANNUEL'!$J8:$J38) -> 1023 | E24: =SUM('RECAPITULATIF ANNUEL'!$J39:$J66) -> 0 | F24: =SUM('RECAPITULATIF ANNUEL'!$J67:$J97) -> 1632 | G24: =SUM('RECAPITULATIF ANNUEL'!$J98:$J127) -> 1438 | H24: =SUM('RECAPITULATIF ANNUEL'!J$128:J$158) -> 818 | I24: =SUM('RECAPITULATIF ANNUEL'!J$159:J$188) -> 1092 | J24: =SUM('RECAPITULATIF ANNUEL'!J$189:J$219) -> 1195 | K24: =SUM('RECAPITULATIF ANNUEL'!J$220:J$250) -> 1092 | L24: =SUM('RECAPITULATIF ANNUEL'!J$251:J$280) -> 441 | M24: =SUM('RECAPITULATIF ANNUEL'!J$281:J$311) -> 230 | N24: =SUM('RECAPITULATIF ANNUEL'!J$312:J$341) -> 397 | O24: =SUM('RECAPITULATIF ANNUEL'!J$342:J$372) -> 499 | Q24: =SUM(D24:O24) -> 9857
C25: Moyenne | D25: =AVERAGE('RECAPITULATIF ANNUEL'!$J8:$J38) -> 33 | E25: =AVERAGE('RECAPITULATIF ANNUEL'!$J39:$J66) -> 0 | F25: =AVERAGE('RECAPITULATIF ANNUEL'!$J67:$J97) -> 52.645161 | G25: =AVERAGE('RECAPITULATIF ANNUEL'!$J98:$J127) -> 47.933333 | H25: =AVERAGE('RECAPITULATIF ANNUEL'!J$58:J$128) -> 43.408451 | I25: =AVERAGE('RECAPITULATIF ANNUEL'!J$159:J$188) -> 36.4 | J25: =AVERAGE('RECAPITULATIF ANNUEL'!J$189:J$219) -> 38.548387 | K25: =AVERAGE('RECAPITULATIF ANNUEL'!J$220:J$250) -> 36.4 | L25: =AVERAGE('RECAPITULATIF ANNUEL'!J$251:J$280) -> 14.7 | M25: =AVERAGE('RECAPITULATIF ANNUEL'!J$281:J$311) -> 7.6666667 | N25: =AVERAGE('RECAPITULATIF ANNUEL'!J$312:J$341) -> 13.233333 | O25: =AVERAGE('RECAPITULATIF ANNUEL'!J$342:J$372) -> 16.633333
C26: Minimum | D26: =MIN('RECAPITULATIF ANNUEL'!$J8:$J38) -> 0 | E26: =MIN('RECAPITULATIF ANNUEL'!$J39:$J66) -> 0 | F26: =MIN('RECAPITULATIF ANNUEL'!$J67:$J97) -> 0 | G26: =MIN('RECAPITULATIF ANNUEL'!$J98:$J127) -> 0 | H26: =MIN('RECAPITULATIF ANNUEL'!J$128:J$158) -> 0 | I26: =MIN('RECAPITULATIF ANNUEL'!J$159:J$188) -> 0 | J26: =MIN('RECAPITULATIF ANNUEL'!J$189:J$219) -> 0 | K26: =MIN('RECAPITULATIF ANNUEL'!J$220:J$250) -> 0 | L26: =MIN('RECAPITULATIF ANNUEL'!J$251:J$280) -> 0 | M26: =MIN('RECAPITULATIF ANNUEL'!J$281:J$311) -> 0 | N26: =MIN('RECAPITULATIF ANNUEL'!J$312:J$341) -> 0 | O26: =MIN('RECAPITULATIF ANNUEL'!J$342:J$372) -> 0
C27: Maximum | D27: =MAX('RECAPITULATIF ANNUEL'!$J8:$J38) -> 103 | E27: =MAX('RECAPITULATIF ANNUEL'!$J39:$J66) -> 0 | F27: =MAX('RECAPITULATIF ANNUEL'!$J67:$J97) -> 811 | G27: =MAX('RECAPITULATIF ANNUEL'!$J98:$J127) -> 108 | H27: =MAX('RECAPITULATIF ANNUEL'!J$128:J$158) -> 131 | I27: =MAX('RECAPITULATIF ANNUEL'!J$159:J$188) -> 105 | J27: =MAX('RECAPITULATIF ANNUEL'!J$189:J$219) -> 105 | K27: =MAX('RECAPITULATIF ANNUEL'!J$220:J$250) -> 105 | L27: =MAX('RECAPITULATIF ANNUEL'!J$251:J$280) -> 103 | M27: =MAX('RECAPITULATIF ANNUEL'!J$281:J$311) -> 64 | N27: =MAX('RECAPITULATIF ANNUEL'!J$312:J$341) -> 36 | O27: =MAX('RECAPITULATIF ANNUEL'!J$342:J$372) -> 36
B28: quantité évacuée | C28: Total | D28: =SUM('RECAPITULATIF ANNUEL'!$K8:$K38) -> 38240 | E28: =SUM('RECAPITULATIF ANNUEL'!$K39:$K66) -> 0 | F28: =SUM('RECAPITULATIF ANNUEL'!$K67:$K97) -> 42240 | G28: =SUM('RECAPITULATIF ANNUEL'!$K98:$K127) -> 39100 | H28: =SUM('RECAPITULATIF ANNUEL'!K$128:K$158) -> 15820 | I28: =SUM('RECAPITULATIF ANNUEL'!K$159:K$188) -> 60200 | J28: =SUM('RECAPITULATIF ANNUEL'!K$189:K$219) -> 37520 | K28: =SUM('RECAPITULATIF ANNUEL'!K$220:K$250) -> 36320 | L28: =SUM('RECAPITULATIF ANNUEL'!K$251:K$280) -> 11800 | M28: =SUM('RECAPITULATIF ANNUEL'!K$281:K$311) -> 6820 | N28: =SUM('RECAPITULATIF ANNUEL'!K$312:K$341) -> 7320 | O28: =SUM('RECAPITULATIF ANNUEL'!K$342:K$372) -> 17420 | Q28: =SUM(D28:O28) -> 312800
C29: Moyenne | D29: =AVERAGE('RECAPITULATIF ANNUEL'!$K8:$K38) -> 1233.5484 | E29: =AVERAGE('RECAPITULATIF ANNUEL'!$K39:$K66) -> 0 | F29: =AVERAGE('RECAPITULATIF ANNUEL'!$K67:$K97) -> 1362.5806 | G29: =AVERAGE('RECAPITULATIF ANNUEL'!$K98:$K127) -> 1303.3333 | H29: =AVERAGE('RECAPITULATIF ANNUEL'!K$128:K$158) -> 510.32258 | I29: =AVERAGE('RECAPITULATIF ANNUEL'!K$159:K$188) -> 2006.6667 | J29: =AVERAGE('RECAPITULATIF ANNUEL'!K$189:K$219) -> 1210.3226 | K29: =AVERAGE('RECAPITULATIF ANNUEL'!K$220:K$250) -> 1171.6129 | L29: =AVERAGE('RECAPITULATIF ANNUEL'!K$251:K$280) -> 393.33333 | M29: =AVERAGE('RECAPITULATIF ANNUEL'!K$281:K$311) -> 220 | N29: =AVERAGE('RECAPITULATIF ANNUEL'!K$312:K$341) -> 244 | O29: =AVERAGE('RECAPITULATIF ANNUEL'!K$342:K$372) -> 561.93548
C30: Minimum | D30: =MIN('RECAPITULATIF ANNUEL'!$K8:$K38) -> 0 | E30: =MIN('RECAPITULATIF ANNUEL'!$K39:$K66) -> 0 | F30: =MIN('RECAPITULATIF ANNUEL'!$K67:$K97) -> 0 | G30: =MIN('RECAPITULATIF ANNUEL'!$K98:$K127) -> 0 | H30: =MIN('RECAPITULATIF ANNUEL'!K$128:K$158) -> 0 | I30: =MIN('RECAPITULATIF ANNUEL'!K$159:K$188) -> 0 | J30: =MIN('RECAPITULATIF ANNUEL'!K$189:K$219) -> 0 | K30: =MIN('RECAPITULATIF ANNUEL'!K$220:K$250) -> 0 | L30: =MIN('RECAPITULATIF ANNUEL'!K$251:K$280) -> 0 | M30: =MIN('RECAPITULATIF ANNUEL'!K$281:K$311) -> 0 | N30: =MIN('RECAPITULATIF ANNUEL'!K$312:K$341) -> 0 | O30: =MIN('RECAPITULATIF ANNUEL'!K$342:K$372) -> 0
C31: Maximum | D31: =MAX('RECAPITULATIF ANNUEL'!$K8:$K38) -> 8340 | E31: =MAX('RECAPITULATIF ANNUEL'!$K39:$K66) -> 0 | F31: =MAX('RECAPITULATIF ANNUEL'!$K67:$K97) -> 8900 | G31: =MAX('RECAPITULATIF ANNUEL'!$K98:$K127) -> 8340 | H31: =MAX('RECAPITULATIF ANNUEL'!K$128:K$158) -> 8180 | I31: =MAX('RECAPITULATIF ANNUEL'!K$159:K$188) -> 9340 | J31: =MAX('RECAPITULATIF ANNUEL'!K$189:K$219) -> 8280 | K31: =MAX('RECAPITULATIF ANNUEL'!K$220:K$250) -> 7700 | L31: =MAX('RECAPITULATIF ANNUEL'!K$251:K$280) -> 6320 | M31: =MAX('RECAPITULATIF ANNUEL'!K$281:K$311) -> 6820 | N31: =MAX('RECAPITULATIF ANNUEL'!K$312:K$341) -> 7320 | O31: =MAX('RECAPITULATIF ANNUEL'!K$342:K$372) -> 8720
A33: T° eau sortie | C33: Moyenne | D33: =AVERAGE('RECAPITULATIF ANNUEL'!$F8:$F38) -> 14.589474 | E33: =AVERAGE('RECAPITULATIF ANNUEL'!$F39:$F66) -> 14.205882 | F33: =AVERAGE('RECAPITULATIF ANNUEL'!$F67:F97) -> 16.175 | G33: =AVERAGE('RECAPITULATIF ANNUEL'!$F98:$F127) -> 17.853846 | H33: =AVERAGE('RECAPITULATIF ANNUEL'!F$128:F$158) -> 19.117241 | I33: =AVERAGE('RECAPITULATIF ANNUEL'!F$159:F$188) -> 22.930769 | J33: =AVERAGE('RECAPITULATIF ANNUEL'!F$189:F$219) -> 26.482759 | K33: =AVERAGE('RECAPITULATIF ANNUEL'!F$220:F$250) -> 26.951613 | L33: =AVERAGE('RECAPITULATIF ANNUEL'!F$251:F$280) -> 25.286667 | M33: =AVERAGE('RECAPITULATIF ANNUEL'!F$281:F$311) -> 23.027586 | N33: =AVERAGE('RECAPITULATIF ANNUEL'!F$251:F$280) -> 25.286667 | O33: =AVERAGE('RECAPITULATIF ANNUEL'!F$251:F$280) -> 25.286667
C34: Minimum | D34: =MIN('RECAPITULATIF ANNUEL'!$F8:$F38) -> 13 | E34: =MIN('RECAPITULATIF ANNUEL'!$F39:$F66) -> 13.8 | F34: =MIN('RECAPITULATIF ANNUEL'!$F67:F97) -> 15.1 | G34: =MIN('RECAPITULATIF ANNUEL'!$F98:$F127) -> 16.6 | H34: =MIN('RECAPITULATIF ANNUEL'!F$128:F$158) -> 17.5 | I34: =MIN('RECAPITULATIF ANNUEL'!F$159:F$188) -> 20.4 | J34: =MIN('RECAPITULATIF ANNUEL'!F$189:F$219) -> 25.2 | K34: =MIN('RECAPITULATIF ANNUEL'!F$220:F$250) -> 25.5 | L34: =MIN('RECAPITULATIF ANNUEL'!F$251:F$280) -> 24 | M34: =MIN('RECAPITULATIF ANNUEL'!F$281:F$311) -> 21.4 | N34: =MIN('RECAPITULATIF ANNUEL'!F$251:F$280) -> 24 | O34: =MIN('RECAPITULATIF ANNUEL'!F$251:F$280) -> 24
C35: Maximum | D35: =MAX('RECAPITULATIF ANNUEL'!$F8:$F38) -> 15.2 | E35: =MAX('RECAPITULATIF ANNUEL'!$F39:$F66) -> 14.8 | F35: =MAX('RECAPITULATIF ANNUEL'!$F67:F97) -> 17.4 | G35: =MAX('RECAPITULATIF ANNUEL'!$F98:$F127) -> 18.6 | H35: =MAX('RECAPITULATIF ANNUEL'!F$128:F$158) -> 21.3 | I35: =MAX('RECAPITULATIF ANNUEL'!F$159:F$188) -> 25.6 | J35: =MAX('RECAPITULATIF ANNUEL'!F$189:F$219) -> 27.2 | K35: =MAX('RECAPITULATIF ANNUEL'!F$220:F$250) -> 28.1 | L35: =MAX('RECAPITULATIF ANNUEL'!F$251:F$280) -> 27.5 | M35: =MAX('RECAPITULATIF ANNUEL'!F$281:F$311) -> 24.6 | N35: =MAX('RECAPITULATIF ANNUEL'!F$251:F$280) -> 27.5 | O35: =MAX('RECAPITULATIF ANNUEL'!F$251:F$280) -> 27.5
A37: Refus de dégrillage | C37: Total | D37: =SUM('RECAPITULATIF ANNUEL'!$L8:$L38) -> 2700 | E37: =SUM('RECAPITULATIF ANNUEL'!$L39:$L66) -> 1500 | F37: =SUM('RECAPITULATIF ANNUEL'!$L67:$L97) -> 2100 | G37: =SUM('RECAPITULATIF ANNUEL'!$L98:$L127) -> 2700 | H37: =SUM('RECAPITULATIF ANNUEL'!L$128:L$158) -> 2050 | I37: =SUM('RECAPITULATIF ANNUEL'!L$159:L$188) -> 2400 | J37: =SUM('RECAPITULATIF ANNUEL'!L$189:L$219) -> 2700 | K37: =SUM('RECAPITULATIF ANNUEL'!L$220:L$250) -> 2300 | L37: =SUM('RECAPITULATIF ANNUEL'!L$251:L$280) -> 2700 | M37: =SUM('RECAPITULATIF ANNUEL'!L$281:L$311) -> 2100 | N37: =SUM('RECAPITULATIF ANNUEL'!L$312:L$341) -> 1800 | O37: =SUM('RECAPITULATIF ANNUEL'!L$342:L$372) -> 2350 | Q37: =SUM(D37:O37) -> 27400
A38: Polymère cationique | C38: Total | D38: =SUM('RECAPITULATIF ANNUEL'!$M8:$M38) -> 12 | E38: =SUM('RECAPITULATIF ANNUEL'!$M39:$M66) -> 0 | F38: =SUM('RECAPITULATIF ANNUEL'!$M67:$M97) -> 11 | G38: =SUM('RECAPITULATIF ANNUEL'!$M98:$M127) -> 11 | H38: =SUM('RECAPITULATIF ANNUEL'!M$128:M$158) -> 6 | I38: =SUM('RECAPITULATIF ANNUEL'!M$159:M$188) -> 7 | J38: =SUM('RECAPITULATIF ANNUEL'!M$189:M$219) -> 13 | K38: =SUM('RECAPITULATIF ANNUEL'!M$220:M$250) -> 11 | L38: =SUM('RECAPITULATIF ANNUEL'!L$251:L$280) -> 2700 | M38: =SUM('RECAPITULATIF ANNUEL'!M$281:M$311) -> 5 | N38: =SUM('RECAPITULATIF ANNUEL'!M$312:M$341) -> 9 | O38: =SUM('RECAPITULATIF ANNUEL'!M$342:M$372) -> 8 | Q38: =SUM(D38:O38) -> 2793

Sheet Graphiques

Sheet ANALYSES réglementaires
E1: STEU : | F1: BORGO NORD
E2: ANNEE | F2: 2019
E3: INTERVENANT : | F3: LEROUX
C4: T° Entrée | D4: pH Entrée | E4: DCO Entrée | F4: MES Entrée | G4: DBO Entrée | H4: NTK Entrée | I4: Pt Entrée | J4: T° Sortie | K4: pH Sortie | L4: DCO Sortie | M4: MES Sortie | N4: DBO sortie | O4: NTK Sortie | P4: PtSORTIE | Q4: N-NH4+ Sortie | R4: N-NO3- Sortie | S4: N-NO2- Sortie | T4: drdt DCO | U4: rdt MES | V4: rdt DBO | W4: rdt NTK | X4: rdt Pt | Y4: Ratio DCO/DBO
A5: MOIS | B5: DATE | C5: ENTREE | J5: SORTIE | T5: RENDEMENT | Y5: RATIO | AC5: Débit | AD5: EH
C6: T° | D6: pH | E6: DCO | F6: MES | G6: DBO | H6: NTK | I6: Pt | J6: T° | K6: pH | L6: DCO | M6: MES | N6: DBO | O6: NTK | P6: Pt | Q6: N-NH4+ | R6: N-NO3- | S6: N-NO2- | T6: DCO | U6: MES | V6: DBO | W6: NTK | X6: Pt | Y6: DCO/DBO | Z6: DCO/NTK | AA6: DCO/Pt | AC6: Entrée | AD6: DCO | AE6: MES | AH6: 14.61
C7: °C | D7: / | E7: mg/L | F7: mg/L | G7: mg/L | H7: mg/L | I7: mg/L | J7: °C | K7: / | L7: mg/L | M7: mg/L | N7: mg/L | O7: mg/L | P7: mg/L | Q7: mg/L | R7: mg/L | S7: mg/L | T7: % | U7: % | V7: % | W7: % | X7: % | AC7: m3 | AH7: 17.14
A8: JANVIER | B8: 43481 | C8: 4.3 | D8: 7.8 | E8: 836 | F8: 314 | G8: 443 | J8: 4.1 | K8: 5.1 | L8: 8 | M8: 11 | N8: 11 | T8: =IF((E8>0),(100*(E8-L8)/E8),("")) -> 99.043062 | U8: =IF((F8>0),(100*(F8-M8)/F8),("")) -> 96.496815 | V8: =IF((G8>0),(100*(G8-N8)/G8),("")) -> 97.51693 | W8: =IF((H8>0),(100*(H8-O8)/H8),("")) | X8: =IF((I8>0),(100*(I8-P8)/I8),("")) | Y8: =IF((G8>0),($E8/G8),("")) -> 1.8871332 | Z8: =IF((H8>0),(E8/H8),("")) | AA8: =IF((I8>0),(E8/I8),("")) | AD8: =IF((E8>0),((((AC8*1000)*E8)/1000)/135),("")) -> 0 | AE8: =IF((G8>0),((((AC8*1000)*G8)/1000)/60),("")) -> 0 | AH8: 18.25
A9: FÉVRIER | B9: 43500 | C9: 4.6 | D9: 7.8 | E9: 639 | F9: 318 | G9: 277 | J9: 3.9 | K9: 7.7 | L9: 39 | M9: 6 | N9: 5 | T9: =IF((E9>0),(100*(E9-L9)/E9),("")) -> 93.896714 | U9: =IF((F9>0),(100*(F9-M9)/F9),("")) -> 98.113208 | V9: =IF((G9>0),(100*(G9-N9)/G9),("")) -> 98.194946 | W9: =IF((H9>0),(100*(H9-O9)/H9),("")) | X9: =IF((I9>0),(100*(I9-P9)/I9),("")) | Y9: =IF((G9>0),(E9/G9),("")) -> 2.3068592 | Z9: =IF((H9>0),(E9/H9),("")) | AA9: =IF((I9>0),(E9/I9),("")) | AD9: =IF((E9>0),((((AC9*1000)*E9)/1000)/135),("")) -> 0 | AE9: =IF((G9>0),((((AC9*1000)*G9)/1000)/60),("")) -> 0 | AH9: 19
A10: MARS | B10: 43550 | C10: 3.1 | D10: 7.5 | E10: 589 | F10: 288 | G10: 297 | J10: 2.29 | K10: 7.6 | L10: 602 | M10: 438 | N10: 70 | T10: =IF((E10>0),(100*(E10-L10)/E10),("")) -> -2.2071307 | U10: =IF((F10>0),(100*(F10-M10)/F10),("")) -> -52.083333 | V10: =IF((G10>0),(100*(G10-N10)/G10),("")) -> 76.430976 | W10: =IF((H10>0),(100*(H10-O10)/H10),("")) | X10: =IF((I10>0),(100*(I10-P10)/I10),("")) | Y10: =IF((G10>0),(E10/G10),("")) -> 1.983165 | Z10: =IF((H10>0),(E10/H10),("")) | AA10: =IF((I10>0),(E10/I10),("")) | AD10: =IF((E10>0),((((AC10*1000)*E10)/1000)/135),("")) -> 0 | AE10: =IF((G10>0),((((AC10*1000)*G10)/1000)/60),("")) -> 0 | AH10: 19.4
A11: AVRIL | B11: 43569 | C11: 3.1 | D11: 7.6 | E11: 1000 | F11: 388 | G11: 600 | J11: 4.1 | K11: 7.8 | L11: 49 | M11: 11 | N11: 7 | T11: =IF((E11>0),(100*(E11-L11)/E11),("")) -> 95.1 | U11: =IF((F11>0),(100*(F11-M11)/F11),("")) -> 97.164948 | V11: =IF((G11>0),(100*(G11-N11)/G11),("")) -> 98.833333 | W11: =IF((H11>0),(100*(H11-O11)/H11),("")) | X11: =IF((I11>0),(100*(I11-P11)/I11),("")) | Y11: =IF((G11>0),(E11/G11),("")) -> 1.6666667 | Z11: =IF((H11>0),(E11/H11),("")) | AA11: =IF((I11>0),(E11/I11),("")) | AD11: =IF((E11>0),((((AC11*1000)*E11)/1000)/135),("")) -> 0 | AE11: =IF((G11>0),((((AC11*1000)*G11)/1000)/60),("")) -> 0 | AH11: 19.16
A12: MAI | B12: 43605 | C12: 4.6 | D12: 7.6 | E12: 938 | F12: 324 | G12: 540 | H12: 89.89 | I12: 10.8 | J12: 3.6 | K12: 7.8 | L12: 102 | M12: 58 | N12: 16 | O12: 59.17 | P12: 2.33 | Q12: 55 | R12: 0.23 | S12: 0.02 | T12: =IF((E12>0),(100*(E12-L12)/E12),("")) -> 89.1258 | U12: =IF((F12>0),(100*(F12-M12)/F12),("")) -> 82.098765 | V12: =IF((G12>0),(100*(G12-N12)/G12),("")) -> 97.037037 | W12: =IF((H12>0),(100*(H12-O12)/H12),("")) -> 34.175103 | X12: =IF((I12>0),(100*(I12-P12)/I12),("")) -> 78.425926 | Y12: =IF((G12>0),(E12/G12),("")) -> 1.737037 | Z12: =IF((H12>0),(E12/H12),("")) -> 10.434976 | AA12: =IF((I12>0),(E12/I12),("")) -> 86.851852 | AD12: =IF((E12>0),((((AC12*1000)*E12)/1000)/135),("")) -> 0 | AE12: =IF((G12>0),((((AC12*1000)*G12)/1000)/60),("")) -> 0 | AH12: 19.16
A13: JUILLET | B13: 43649 | C13: 7.8 | D13: 7.5 | E13: 893 | F13: 408 | G13: 409 | H13: 97.56 | I13: 9.45 | J13: 6.4 | K13: 7.7 | L13: 46 | M13: 14 | N13: 6 | O13: 28.69 | P13: 2.54 | Q13: 18.9 | R13: 0.23 | S13: 0.15 | T13: =IF((E13>0),(100*(E13-L13)/E13),("")) -> 94.848824 | U13: =IF((F13>0),(100*(F13-M13)/F13),("")) -> 96.568627 | V13: =IF((G13>0),(100*(G13-N13)/G13),("")) -> 98.533007 | W13: =IF((H13>0),(100*(H13-O13)/H13),("")) -> 70.592456 | X13: =IF((I13>0),(100*(I13-P13)/I13),("")) -> 73.121693 | Y13: =IF((G13>0),(E13/G13),("")) -> 2.1833741 | Z13: =IF((H13>0),(E13/H13),("")) -> 9.1533415 | AA13: =IF((I13>0),(E13/I13),("")) -> 94.497354 | AD13: =IF((E13>0),((((AC13*1000)*E13)/1000)/135),("")) -> 0 | AE13: =IF((G13>0),((((AC13*1000)*G13)/1000)/60),("")) -> 0 | AH13: 21.96
B14: 43655 | C14: 4.9 | D14: 7.7 | E14: 898 | F14: 358 | G14: 407 | H14: 101.73 | I14: 9.77 | J14: 4.9 | K14: 7.8 | L14: 40 | M14: 7 | N14: 5 | O14: 35.05 | P14: 2.13 | Q14: 49 | R14: 0.23 | S14: 0.02 | T14: =IF((E14>0),(100*(E14-L14)/E14),("")) -> 95.545657 | U14: =IF((F14>0),(100*(F14-M14)/F14),("")) -> 98.044693 | V14: =IF((G14>0),(100*(G14-N14)/G14),("")) -> 98.771499 | W14: =IF((H14>0),(100*(H14-O14)/H14),("")) -> 65.546053 | X14: =IF((I14>0),(100*(I14-P14)/I14),("")) -> 78.198567 | Y14: =IF((G14>0),(E14/G14),("")) -> 2.2063882 | Z14: =IF((H14>0),(E14/H14),("")) -> 8.8272879 | AA14: =IF((I14>0),(E14/I14),("")) -> 91.914023 | AD14: =IF((E14>0),((((AC14*1000)*E14)/1000)/135),("")) -> 0 | AE14: =IF((G14>0),((((AC14*1000)*G14)/1000)/60),("")) -> 0 | AH14: 18.92
A15: AOÛT | B15: 43686 | C15: 4.9 | D15: 7.7 | E15: 898 | F15: 358 | G15: 407 | H15: 101.73 | I15: 9.77 | J15: 4.9 | K15: 7.8 | L15: 40 | M15: 7 | N15: 5 | O15: 35.05 | P15: 2.13 | Q15: 34.22 | R15: 0.23 | S15: 0.02 | T15: =IF((E15>0),(100*(E15-L15)/E15),("")) -> 95.545657 | U15: =IF((F15>0),(100*(F15-M15)/F15),("")) -> 98.044693 | V15: =IF((G15>0),(100*(G15-N15)/G15),("")) -> 98.771499 | W15: =IF((H15>0),(100*(H15-O15)/H15),("")) -> 65.546053 | X15: =IF((I15>0),(100*(I15-P15)/I15),("")) -> 78.198567 | Y15: =IF((G15>0),(E15/G15),("")) -> 2.2063882 | Z15: =IF((H15>0),(E15/H15),("")) -> 8.8272879 | AA15: =IF((I15>0),(E15/I15),("")) -> 91.914023 | AD15: =IF((E15>0),((((AC15*1000)*E15)/1000)/135),("")) -> 0 | AE15: =IF((G15>0),((((AC15*1000)*G15)/1000)/60),("")) -> 0 | AH15: 17.84
A16: SEPTEMBRE | B16: 43713 | C16: 5.1 | D16: 7.7 | E16: 850 | F16: 398 | G16: 358 | J16: 5.9 | K16: 7.8 | L16: 95 | M16: 36 | N16: 33 | T16: =IF((E16>0),(100*(E16-L16)/E16),("")) -> 88.823529 | U16: =IF((F16>0),(100*(F16-M16)/F16),("")) -> 90.954774 | V16: =IF((G16>0),(100*(G16-N16)/G16),("")) -> 90.782123 | W16: =IF((H16>0),(100*(H16-O16)/H16),("")) | X16: =IF((I16>0),(100*(I16-P16)/I16),("")) | Y16: =IF((G16>0),(E16/G16),("")) -> 2.3743017 | Z16: =IF((H16>0),(E16/H16),("")) | AA16: =IF((I16>0),(E16/I16),("")) | AD16: =IF((E16>0),((((AC16*1000)*E16)/1000)/135),("")) -> 0 | AE16: =IF((G16>0),((((AC16*1000)*G16)/1000)/60),("")) -> 0 | AH16: 18.36
A17: OCTOBRE | B17: 43743 | C17: 3 | D17: 7.7 | E17: 874 | F17: 344 | G17: 398 | J17: 3.1 | K17: 8 | L17: 121 | M17: 28 | N17: 35 | T17: =IF((E17>0),(100*(E17-L17)/E17),("")) -> 86.155606 | U17: =IF((F17>0),(100*(F17-M17)/F17),("")) -> 91.860465 | V17: =IF((G17>0),(100*(G17-N17)/G17),("")) -> 91.20603 | W17: =IF((H17>0),(100*(H17-O17)/H17),("")) | X17: =IF((I17>0),(100*(I17-P17)/I17),("")) | Y17: =IF((G17>0),(E17/G17),("")) -> 2.1959799 | Z17: =IF((H17>0),(E17/H17),("")) | AA17: =IF((I17>0),(E17/I17),("")) | AD17: =IF((E17>0),((((AC17*1000)*E17)/1000)/135),("")) -> 0 | AE17: =IF((G17>0),((((AC17*1000)*G17)/1000)/60),("")) -> 0
A18: NOVEMBRE | B18: 43783 | C18: 5.8 | D18: 7.7 | E18: 791 | F18: 352 | G18: 388 | J18: 7.7 | K18: 7.7 | L18: 114 | M18: 48 | N18: 38 | T18: =IF((E18>0),(100*(E18-L18)/E18),("")) -> 85.587863 | U18: =IF((F18>0),(100*(F18-M18)/F18),("")) -> 86.363636 | V18: =IF((G18>0),(100*(G18-N18)/G18),("")) -> 90.206186 | W18: =IF((H18>0),(100*(H18-O18)/H18),("")) | X18: =IF((I18>0),(100*(I18-P18)/I18),("")) | Y18: =IF((G18>0),(E18/G18),("")) -> 2.0386598 | Z18: =IF((H18>0),(E18/H18),("")) | AA18: =IF((I18>0),(E18/I18),("")) | AD18: =IF((E18>0),((((AC18*1000)*E18)/1000)/135),("")) -> 0 | AE18: =IF((G18>0),((((AC18*1000)*G18)/1000)/60),("")) -> 0
A19: DÉCEMBRE | B19: 43813 | C19: 4.8 | D19: 7.9 | E19: 1480 | F19: 740 | G19: 675 | J19: 4.4 | K19: 7.7 | L19: 218 | M19: 105 | N19: 45 | T19: =IF((E19>0),(100*(E19-L19)/E19),("")) -> 85.27027 | U19: =IF((F19>0),(100*(F19-M19)/F19),("")) -> 85.810811 | V19: =IF((G19>0),(100*(G19-N19)/G19),("")) -> 93.333333 | W19: =IF((H19>0),(100*(H19-O19)/H19),("")) | X19: =IF((I19>0),(100*(I19-P19)/I19),("")) | Y19: =IF((G19>0),(E19/G19),("")) -> 2.1925926 | Z19: =IF((H19>0),(E19/H19),("")) | AA19: =IF((I19>0),(E19/I19),("")) | AD19: =IF((E19>0),((((AC19*1000)*E19)/1000)/135),("")) -> 0 | AE19: =IF((G19>0),((((AC19*1000)*G19)/1000)/60),("")) -> 0
Y20: =IF((G20>0),(E20/G20),("")) | Z20: =IF((H20>0),(E20/H20),("")) | AA20: =IF((I20>0),(E20/I20),("")) | AG20: Moy siccité boues | AH20: =AVERAGE(AH6:AH16) -> 18.527273 | AI20: %
Y21: =IF((G21>0),(E21/G21),("")) | Z21: =IF((H21>0),(E21/H21),("")) | AA21: =IF((I21>0),(E21/I21),("")) | AG21: Boues évacuées | AH21: 354000 | AI21: kg (valeur lombricorse)
B22: MOYENNE | C22: =AVERAGE(C8:C19) -> 4.6666667 | D22: =AVERAGE(D8:D19) -> 7.6833333 | E22: =AVERAGE(E8:E19) -> 890.5 | F22: =AVERAGE(F8:F19) -> 382.5 | G22: =AVERAGE(G8:G19) -> 433.25 | H22: =AVERAGE(H8:H19) -> 97.7275 | I22: =AVERAGE(I8:I19) -> 9.9475 | J22: =AVERAGE(J8:J19) -> 4.6075 | ... X22: =AVERAGE(X8:X19) -> 76.986188 | Y22: =IF((G22>0),(E22/G22),("")) -> 2.0553953 | Z22: =IF((H22>0),(E22/H22),("")) -> 9.1120718 | AA22: =IF((I22>0),(E22/I22),("")) -> 89.51998 | AH22: =(AH20/100)*AH21 -> 65586.545 | AI22: kg mat seche annuel
B23: MINIMAL | C23: =MIN(C8:C19) -> 3 | D23: =MIN(D8:D19) -> 7.5 | E23: =MIN(E8:E19) -> 589 | F23: =MIN(F8:F19) -> 288 | G23: =MIN(G8:G19) -> 277 | H23: =MIN(H8:H19) -> 89.89 | I23: =MIN(I8:I19) -> 9.45 | J23: =MIN(J8:J19) -> 2.29 | ... X23: =MIN(X8:X19) -> 73.121693 | Y23: =IF((G23>0),(E23/G23),("")) -> 2.1263538 | Z23: =IF((H23>0),(E23/H23),("")) -> 6.552453 | AA23: =IF((I23>0),(E23/I23),("")) -> 62.328042
B24: MAXIMAL | C24: =MAX(C8:C19) -> 7.8 | D24: =MAX(D8:D19) -> 7.9 | E24: =MAX(E8:E19) -> 1480 | F24: =MAX(F8:F19) -> 740 | G24: =MAX(G8:G19) -> 675 | H24: =MAX(H8:H19) -> 101.73 | I24: =MAX(I8:I19) -> 10.8 | J24: =MAX(J8:J19) -> 7.7 | ... X24: =MAX(X8:X19) -> 78.425926 | Y24: =IF((G24>0),(E24/G24),("")) -> 2.1925926 | Z24: =IF((H24>0),(E24/H24),("")) -> 14.548314 | AA24: =IF((I24>0),(E24/I24),("")) -> 137.03704
Y25: =IF((G25>0),(E25/G25),("")) | Z25: =IF((H25>0),(E25/H25),("")) | AA25: =IF((I25>0),(E25/I25),(""))
Y26: =IF((G26>0),(E26/G26),("")) | Z26: =IF((H26>0),(E26/H26),("")) | AA26: =IF((I26>0),(E26/I26),(""))
Y27: =IF((G27>0),(E27/G27),("")) | Z27: =IF((H27>0),(E27/H27),("")) | AA27: =IF((I27>0),(E27/I27),(""))
Y28: =IF((G28>0),(E28/G28),("")) | Z28: =IF((H28>0),(E28/H28),("")) | AA28: =IF((I28>0),(E28/I28),(""))
Y29: =IF((G29>0),(E29/G29),("")) | Z29: =IF((H29>0),(E29/H29),("")) | AA29: =IF((I29>0),(E29/I29),(""))
Y30: =IF((G30>0),(E30/G30),("")) | Z30: =IF((H30>0),(E30/H30),("")) | AA30: =IF((I30>0),(E30/I30),(""))
Y31: =IF((G31>0),(E31/G31),("")) | Z31: =IF((H31>0),(E31/H31),("")) | AA31: =IF((I31>0),(E31/I31),(""))
Y32: =IF((G32>0),(E32/G32),("")) | Z32: =IF((H32>0),(E32/H32),("")) | AA32: =IF((I32>0),(E32/I32),(""))
Y33: =IF((G33>0),(E33/G33),("")) | Z33: =IF((H33>0),(E33/H33),("")) | AA33: =IF((I33>0),(E33/I33),(""))
Y34: =IF((G34>0),(E34/G34),("")) | Z34: =IF((H34>0),(E34/H34),("")) | AA34: =IF((I34>0),(E34/I34),(""))
Y35: =IF((G35>0),(E35/G35),("")) | Z35: =IF((H35>0),(E35/H35),("")) | AA35: =IF((I35>0),(E35/I35),(""))
Y36: =IF((G36>0),(E36/G36),("")) | Z36: =IF((H36>0),(E36/H36),("")) | AA36: =IF((I36>0),(E36/I36),(""))
... Y59: =IF((G59>0),(E59/G59),("")) | Z59: =IF((H59>0),(E59/H59),("")) | AA59: =IF((I59>0),(E59/I59),(""))

Sheet Données
B3: DCO | E3: dbo | H3: mes | K3: Température glacière | M3: NTK | O3: Pt | Q3: Qualité Ratio DCO/DBO | U3: Qualité Ratio DCO/NTK | X3: Qualité Ratio DCO/Pt
B4: Limite conformité | C4: redhibitoire | D4: rendement minimal | E4: Limite conformité | F4: redhibitoire | G4: rendement minimal | H4: Limite conformité | I4: redhibitoire | J4: rendement minimal | K4: T° minimale | L4: T° maximale | M4: Limite conformité | N4: rendement minimal | O4: Limite conformité | P4: rendement minimal | Q4: Très bon | R4: Bon | S4: Moyen | T4: Mauvais | U4: bon | X4: bon
A5: JANVIER | B5: 125 | C5: 250 | D5: 75 | E5: 25 | F5: 50 | G5: 80 | H5: 35 | I5: 85 | J5: 90 | K5: 2 | L5: 8 | M5: 15 | N5: 70 | O5: 2 | P5: 80 | Q5: 1 | R5: 2 | S5: 3 | T5: 4 | U5: 7 | V5: 20 | W5: 35 | X5: 25 | Y5: 100 | Z5: 125
A6: FÉVRIER | B6: 125 | C6: 250 | D6: 75 | E6: 25 | F6: 50 | G6: 80 | H6: 35 | I6: 85 | J6: 90 | K6: 2 | L6: 8 | M6: 15 | N6: 70 | O6: 2 | P6: 80 | Q6: 1 | R6: 2 | S6: 3 | T6: 4 | U6: 7 | V6: 20 | W6: 35 | X6: 25 | Y6: 100 | Z6: 125
A7: MARS | B7: 125 | C7: 250 | D7: 75 | E7: 25 | F7: 50 | G7: 80 | H7: 35 | I7: 85 | J7: 90 | K7: 2 | L7: 8 | M7: 15 | N7: 70 | O7: 2 | P7: 80 | Q7: 1 | R7: 2 | S7: 3 | T7: 4 | U7: 7 | V7: 20 | W7: 35 | X7: 25 | Y7: 100 | Z7: 125
A8: AVRIL | B8: 125 | C8: 250 | D8: 75 | E8: 25 | F8: 50 | G8: 80 | H8: 35 | I8: 85 | J8: 90 | K8: 2 | L8: 8 | M8: 15 | N8: 70 | O8: 2 | P8: 80 | Q8: 1 | R8: 2 | S8: 3 | T8: 4 | U8: 7 | V8: 20 | W8: 35 | X8: 25 | Y8: 100 | Z8: 125
A9: MAI | B9: 125 | C9: 250 | D9: 75 | E9: 25 | F9: 50 | G9: 80 | H9: 35 | I9: 85 | J9: 90 | K9: 2 | L9: 8 | M9: 15 | N9: 70 | O9: 2 | P9: 80 | Q9: 1 | R9: 2 | S9: 3 | T9: 4 | U9: 7 | V9: 20 | W9: 35 | X9: 25 | Y9: 100 | Z9: 125
A10: JUIN | B10: 125 | C10: 250 | D10: 75 | E10: 25 | F10: 50 | G10: 80 | H10: 35 | I10: 85 | J10: 90 | K10: 2 | L10: 8 | M10: 15 | N10: 70 | O10: 2 | P10: 80 | Q10: 1 | R10: 2 | S10: 3 | T10: 4 | U10: 7 | V10: 20 | W10: 35 | X10: 25 | Y10: 100 | Z10: 125
A11: JUILLET | B11: 125 | C11: 250 | D11: 75 | E11: 25 | F11: 50 | G11: 80 | H11: 35 | I11: 85 | J11: 90 | K11: 2 | L11: 8 | M11: 15 | N11: 70 | O11: 2 | P11: 80 | Q11: 1 | R11: 2 | S11: 3 | T11: 4 | U11: 7 | V11: 20 | W11: 35 | X11: 25 | Y11: 100 | Z11: 125
A12: AOÛT | B12: 125 | C12: 250 | D12: 75 | E12: 25 | F12: 50 | G12: 80 | H12: 35 | I12: 85 | J12: 90 | K12: 2 | L12: 8 | M12: 15 | N12: 70 | O12: 2 | P12: 80 | Q12: 1 | R12: 2 | S12: 3 | T12: 4 | U12: 7 | V12: 20 | W12: 35 | X12: 25 | Y12: 100 | Z12: 125
A13: SEPTEMBRE | B13: 125 | C13: 250 | D13: 75 | E13: 25 | F13: 50 | G13: 80 | H13: 35 | I13: 85 | J13: 90 | K13: 2 | L13: 8 | M13: 15 | N13: 70 | O13: 2 | P13: 80 | Q13: 1 | R13: 2 | S13: 3 | T13: 4 | U13: 7 | V13: 20 | W13: 35 | X13: 25 | Y13: 100 | Z13: 125
A14: OCTOBRE | B14: 125 | C14: 250 | D14: 75 | E14: 25 | F14: 50 | G14: 80 | H14: 35 | I14: 85 | J14: 90 | K14: 2 | L14: 8 | M14: 15 | N14: 70 | O14: 2 | P14: 80 | Q14: 1 | R14: 2 | S14: 3 | T14: 4 | U14: 7 | V14: 20 | W14: 35 | X14: 25 | Y14: 100 | Z14: 125
A15: NOVEMBRE | B15: 125 | C15: 250 | D15: 75 | E15: 25 | F15: 50 | G15: 80 | H15: 35 | I15: 85 | J15: 90 | K15: 2 | L15: 8 | M15: 15 | N15: 70 | O15: 2 | P15: 80 | Q15: 1 | R15: 2 | S15: 3 | T15: 4 | U15: 7 | V15: 20 | W15: 35 | X15: 25 | Y15: 100 | Z15: 125
A16: DÉCEMBRE | B16: 125 | C16: 250 | D16: 75 | E16: 25 | F16: 50 | G16: 80 | H16: 35 | I16: 85 | J16: 90 | K16: 2 | L16: 8 | M16: 15 | N16: 70 | O16: 2 | P16: 80 | Q16: 1 | R16: 2 | S16: 3 | T16: 4 | U16: 7 | V16: 20 | W16: 35 | X16: 25 | Y16: 100 | Z16: 125
B59: limite température | D59: Benne 2018 | H59: Bypass 2018
B60: 25 | D60: Mois | E60: quantité boues évacuées (T) | G60: janvier | I60: =SUM(H60:H90) -> 0 | K60: =I60 -> 0
B61: 25 | D61: janvier | K61: =I91 -> 0
B62: 25 | D62: fevreir | K62: =I119 -> 0
B63: 25 | D63: mars | K63: =I150 -> 0
B64: 25 | D64: avril | K64: =I180 -> 0
B65: 25 | D65: mai | K65: =I211 -> 0
B66: 25 | D66: juin | K66: =I241 -> 0
B67: 25 | D67: juillet | K67: =I272 -> 0
B68: 25 | D68: aout | K68: =I303 -> 0
B69: 25 | D69: septembre | K69: =I333 -> 0
B70: 25 | D70: octobre | K70: =I364 -> 0
B71: 25 | D71: novembre | K71: =I394 -> 0
B72: 25 | D72: décembre
B73: 25 | D73: total
B74: 25
B75: 25
B76: 25
B77: 25
B78: 25
B79: 25
B80: 25
B81: 25
B82: 25
B83: 25
B84: 25
B85: 25
... B90: 25
B91: 25 | G91: fevrier | I91: =SUM(H91:H118) -> 0
B92: 25
B93: 25
B94: 25
B95: 25
B96: 25
B97: 25
B98: 25
B99: 25
B100: 25
B101: 25
B102: 25
B103: 25
... B118: 25
B119: 25 | G119: mars | I119: =SUM(H119:H149) -> 0
B120: 25
B121: 25
B122: 25
B123: 25
B124: 25
B125: 25
B126: 25
B127: 25
B128: 25
B129: 25
B130: 25
B131: 25
... B149: 25
B150: 25 | G150: avril | I150: =SUM(H150:H179) -> 0
B151: 25
B152: 25
B153: 25
B154: 25
B155: 25
B156: 25
B157: 25
B158: 25
B159: 25
B160: 25
B161: 25
B162: 25
... B179: 25
B180: 25 | G180: mai | I180: =SUM(H180:H210) -> 0
B181: 25
B182: 25
B183: 25
B184: 25
B185: 25
B186: 25
B187: 25
B188: 25
B189: 25
B190: 25
B191: 25
B192: 25
... B210: 25
B211: 25 | G211: juin | I211: =SUM(H211:H240) -> 0
B212: 25
...
