Workbook

Sheet RESUME
B1: FICHE DE STOCK FINALE
B2: CALIBRE | D2: A | F2: B | H2: C | J2: D
B3: ARNO | D3: =ARNO!D6 -> 414 | F3: =ARNO!F6 -> 34 | H3: =ARNO!H6 -> 640 | J3: =ARNO!J6 -> 440
B4: ATLAS | D4: =ATLAS!D6 -> 380 | F4: =ATLAS!F6 -> 34 | H4: =ATLAS!H6 -> 640 | J4: =ATLAS!J6 -> 240

Sheet ARNO
B1: FICHE DE STOCK
B3: Article ARNO
B5: CALIBRE | D5: A | F5: B | H5: C | J5: D | L5: TOTAL
B6: STOCK FINAL | D6: =D38-E38 -> 414 | F6: =F38-G38 -> 34 | H6: =H38-I38 -> 640 | J6: =J38-K38 -> 440 | L6: =SUM(D6:K6) -> 1528
B7: DATE | D7: QT ENTREE | E7: QT SORTIE | F7: QT ENTREE | G7: QT SORTIE | H7: QT ENTREE | I7: QT SORTIE | J7: QT ENTREE | K7: QT SORTIE
B8: 43922 | D8: 450 | F8: 44 | G8: 10
B9: 43923 | D9: 44 | E9: 100 | H9: 700 | I9: 40 | J9: 580
B10: 43924 | D10: 50 | E10: 20 | K10: 140
B11: 43925 | E11: 10 | I11: 20
B12: 43926
B13: 43927
B14: 43928
B15: 43929
B16: 43930
B17: 43931
B18: 43932
B19: 43933
B20: 43934
B21: 43935
B22: 43936
B23: 43937
... B37: 43951
B38: TOTAL | D38: =SUM(D8:D37) -> 544 | E38: =SUM(E8:E37) -> 130 | F38: =SUM(F8:F37) -> 44 | G38: =SUM(G8:G37) -> 10 | H38: =SUM(H8:H37) -> 700 | I38: =SUM(I8:I37) -> 60 | J38: =SUM(J8:J37) -> 580 | K38: =SUM(K8:K37) -> 140

Sheet ATLAS
B1: FICHE DE STOCK
B3: Article ATLAS
B5: CALIBRE | D5: A | F5: B | H5: C | J5: D | L5: TOTAL
B6: STOCK FINAL | D6: =D38-E38 -> 380 | F6: =F38-G38 -> 34 | H6: =H38-I38 -> 640 | J6: =J38-K38 -> 240 | L6: =SUM(D6:K6) -> 1294
B7: DATE | D7: QT ENTREE | E7: QT SORTIE | F7: QT ENTREE | G7: QT SORTIE | H7: QT ENTREE | I7: QT SORTIE | J7: QT ENTREE | K7: QT SORTIE
B8: 43922 | D8: 450 | F8: 44 | G8: 10
B9: 43923 | E9: 100 | H9: 700 | I9: 40 | J9: 580 | K9: 200
B10: 43924 | D10: 50 | E10: 20 | K10: 140
B11: 43925 | I11: 20
B12: 43926
B13: 43927
B14: 43928
B15: 43929
B16: 43930
B17: 43931
B18: 43932
B19: 43933
B20: 43934
B21: 43935
B22: 43936
B23: 43937
... B37: 43951
B38: TOTAL | D38: =SUM(D8:D37) -> 500 | E38: =SUM(E8:E37) -> 120 | F38: =SUM(F8:F37) -> 44 | G38: =SUM(G8:G37) -> 10 | H38: =SUM(H8:H37) -> 700 | I38: =SUM(I8:I37) -> 60 | J38: =SUM(J8:J37) -> 580 | K38: =SUM(K8:K37) -> 340
