Workbook
Name Bateaux: calculs!$B$16:$D$16
Name calendrier: Tableau1[]
Name CatégoriesDépenses: #REF!
Name Charges: calculs!$B$2:$H$2
Name chauffage: calculs!$B$22:$C$22
Name Dépenses: calculs!$A$1:$A$4
Name EDF: calculs!$B$10:$D$10
Name Famille: calculs!$B$19:$I$19
Name Impôts: calculs!$B$1:$D$1
Name Investissements: calculs!$B$3:$D$3
Name Loisirs: calculs!$B$4:$C$4
Name Matériel: calculs!$B$13:$C$13
Name SUEZ: calculs!$B$11:$C$11
Name TitreColonne10: #REF!
Name TitreColonne11: #REF!
Name TitreColonne12: #REF!
Name TitreColonne13: #REF!
Name TitreColonne14: #REF!
Name TitreColonne2: #REF!
Name TitreColonne3: #REF!
Name TitreColonne4: #REF!
Name TitreColonne5: #REF!
Name TitreColonne6: #REF!
Name TitreColonne7: #REF!
Name TitreColonne8: #REF!
Name TitreColonne9: #REF!
Name Travaux_extérieurs: calculs!$B$15:$C$15
Name Travaux_intérieurs: calculs!$B$14:$E$14

Sheet test cal
A1: Famille | B1: Nb adultes | C1: Nb enfants | D1: Nb bébés | E1: du | F1: au | G1: Nb de jours | H1: chauffage
A2: Parents | E2: 43435 | F2: 43468 | G2: =F2-E2 -> 33 | H2: Oui | J2: Parents | K2: =SUMIF(A2:A19,"Parents",G2:G18) -> 38
A3: Parents | E3: 43470 | F3: 43475 | G3: =F3-E3 -> 5 | H3: Oui | J3: A | K3: =SUMIF(A2:A19,"Bouy",G2:G18) -> 0
G4: =F4-E4 -> 0 | J4: B | K4: =SUMIF(A2:A19,"Pichon FX",G2:G18) -> 0
J5: C | K5: =SUMIF(A2:A19,"Penguern",G2:G18) -> 0
J6: D | K6: =SUMIF(A2:A19,"Rohel",G2:G18) -> 0
J7: E | K7: =SUMIF(A2:A19,"Pichon Hug",G2:G18) -> 0
J8: F | K8: =SUMIF(A2:A19,"Pichon Charles",G2:G18) -> 0
J9: G | K9: =SUMIF(A2:A19,"Pichon Louis",G2:G18) -> 0
E24: =IF(Tableau1[du]<F2,1) -> #VALUE!

Sheet Feuil1
A1: 1
I2: Chauffage
A3: 1
B5: =DATE(A3+2018,A1,1) -> 43466 | C5: =B5+1 -> 43467 | D5: =C5+1 -> 43468 | E5: =D5+1 -> 43469 | F5: =E5+1 -> 43470 | G5: =F5+1 -> 43471 | H5: =G5+1 -> 43472 | I5: =H5+1 -> 43473 | J5: =I5+1 -> 43474 | ... AF5: =AE5+1 -> 43496
A6: Parents | B6: =IF(OR(AND('test cal'!$E$2<=B5,'test cal'!$F$2>=B5,'test cal'!$H$2="Oui",'test cal'!$A$2=$A$6),AND('test cal'!$E$3<=B5,'test cal'!$F$3>=B5,'test cal'!$H$3="Oui",'test cal'!$A$3=$A$6)),"oui"," ") -> oui | C6: =IF(OR(AND('test cal'!$E$2<=C5,'test cal'!$F$2>=C5,'test cal'!$H$2="Oui",'test cal'!$A$2=$A$6),AND('test cal'!$E$3<=C5,'test cal'!$F$3>=C5,'test cal'!$H$3="Oui",'test cal'!$A$3=$A$6)),"oui"," ") -> oui | D6: =IF(OR(AND('test cal'!$E$2<=D5,'test cal'!$F$2>=D5,'test cal'!$H$2="Oui",'test cal'!$A$2=$A$6),AND('test cal'!$E$3<=D5,'test cal'!$F$3>=D5,'test cal'!$H$3="Oui",'test cal'!$A$3=$A$6)),"oui"," ") -> oui | E6: =IF(OR(AND('test cal'!$E$2<=E5,'test cal'!$F$2>=E5,'test cal'!$H$2="Oui",'test cal'!$A$2=$A$6),AND('test cal'!$E$3<=E5,'test cal'!$F$3>=E5,'test cal'!$H$3="Oui",'test cal'!$A$3=$A$6)),"oui"," ") | F6: =IF(OR(AND('test cal'!$E$2<=F5,'test cal'!$F$2>=F5,'test cal'!$H$2="Oui",'test cal'!$A$2=$A$6),AND('test cal'!$E$3<=F5,'test cal'!$F$3>=F5,'test cal'!$H$3="Oui",'test cal'!$A$3=$A$6)),"oui"," ") -> oui | G6: =IF(OR(AND('test cal'!$E$2<=G5,'test cal'!$F$2>=G5,'test cal'!$H$2="Oui",'test cal'!$A$2=$A$6),AND('test cal'!$E$3<=G5,'test cal'!$F$3>=G5,'test cal'!$H$3="Oui",'test cal'!$A$3=$A$6)),"oui"," ") -> oui | H6: =IF(OR(AND('test cal'!$E$2<=H5,'test cal'!$F$2>=H5,'test cal'!$H$2="Oui",'test cal'!$A$2=$A$6),AND('test cal'!$E$3<=H5,'test cal'!$F$3>=H5,'test cal'!$H$3="Oui",'test cal'!$A$3=$A$6)),"oui"," ") -> oui | I6: =IF(OR(AND('test cal'!$E$2<=I5,'test cal'!$F$2>=I5,'test cal'!$H$2="Oui",'test cal'!$A$2=$A$6),AND('test cal'!$E$3<=I5,'test cal'!$F$3>=I5,'test cal'!$H$3="Oui",'test cal'!$A$3=$A$6)),"oui"," ") -> oui | ... AF6: =IF(OR(AND('test cal'!$E$2<=AF5,'test cal'!$F$2>=AF5,'test cal'!$H$2="Oui",'test cal'!$A$2=$A$6),AND('test cal'!$E$3<=AF5,'test cal'!$F$3>=AF5,'test cal'!$H$3="Oui",'test cal'!$A$3=$A$6)),"oui"," ")
A7: A | B7: =IF(OR(AND('test cal'!$E$2<=B5,'test cal'!$F$2>=B5,'test cal'!$H$2="Oui",'test cal'!$A$2=$A$7),AND('test cal'!$E$3<=B5,'test cal'!$F$3>=B5,'test cal'!$H$3="Oui",'test cal'!$A$3=$A$7)),"oui"," ") | C7: =IF(OR(AND('test cal'!$E$2<=C5,'test cal'!$F$2>=C5,'test cal'!$H$2="Oui",'test cal'!$A$2=$A$7),AND('test cal'!$E$3<=C5,'test cal'!$F$3>=C5,'test cal'!$H$3="Oui",'test cal'!$A$3=$A$7)),"oui"," ") | D7: =IF(OR(AND('test cal'!$E$2<=D5,'test cal'!$F$2>=D5,'test cal'!$H$2="Oui",'test cal'!$A$2=$A$7),AND('test cal'!$E$3<=D5,'test cal'!$F$3>=D5,'test cal'!$H$3="Oui",'test cal'!$A$3=$A$7)),"oui"," ") | E7: =IF(OR(AND('test cal'!$E$2<=E5,'test cal'!$F$2>=E5,'test cal'!$H$2="Oui",'test cal'!$A$2=$A$7),AND('test cal'!$E$3<=E5,'test cal'!$F$3>=E5,'test cal'!$H$3="Oui",'test cal'!$A$3=$A$7)),"oui"," ") | F7: =IF(OR(AND('test cal'!$E$2<=F5,'test cal'!$F$2>=F5,'test cal'!$H$2="Oui",'test cal'!$A$2=$A$7),AND('test cal'!$E$3<=F5,'test cal'!$F$3>=F5,'test cal'!$H$3="Oui",'test cal'!$A$3=$A$7)),"oui"," ") | G7: =IF(OR(AND('test cal'!$E$2<=G5,'test cal'!$F$2>=G5,'test cal'!$H$2="Oui",'test cal'!$A$2=$A$7),AND('test cal'!$E$3<=G5,'test cal'!$F$3>=G5,'test cal'!$H$3="Oui",'test cal'!$A$3=$A$7)),"oui"," ") | H7: =IF(OR(AND('test cal'!$E$2<=H5,'test cal'!$F$2>=H5,'test cal'!$H$2="Oui",'test cal'!$A$2=$A$7),AND('test cal'!$E$3<=H5,'test cal'!$F$3>=H5,'test cal'!$H$3="Oui",'test cal'!$A$3=$A$7)),"oui"," ") | I7: =IF(OR(AND('test cal'!$E$2<=I5,'test cal'!$F$2>=I5,'test cal'!$H$2="Oui",'test cal'!$A$2=$A$7),AND('test cal'!$E$3<=I5,'test cal'!$F$3>=I5,'test cal'!$H$3="Oui",'test cal'!$A$3=$A$7)),"oui"," ") | ... AF7: =IF(OR(AND('test cal'!$E$2<=AF5,'test cal'!$F$2>=AF5,'test cal'!$H$2="Oui",'test cal'!$A$2=$A$7),AND('test cal'!$E$3<=AF5,'test cal'!$F$3>=AF5,'test cal'!$H$3="Oui",'test cal'!$A$3=$A$7)),"oui"," ")
A8: B | B8: =IF(OR(AND('test cal'!$E$2<=B5,'test cal'!$F$2>=B5,'test cal'!$H$2="Oui",'test cal'!$A$2=$A$8),AND('test cal'!$E$3<=B5,'test cal'!$F$3>=B5,'test cal'!$H$3="Oui",'test cal'!$A$3=$A$8)),"oui"," ") | C8: =IF(OR(AND('test cal'!$E$2<=C5,'test cal'!$F$2>=C5,'test cal'!$H$2="Oui",'test cal'!$A$2=$A$8),AND('test cal'!$E$3<=C5,'test cal'!$F$3>=C5,'test cal'!$H$3="Oui",'test cal'!$A$3=$A$8)),"oui"," ") | D8: =IF(OR(AND('test cal'!$E$2<=D5,'test cal'!$F$2>=D5,'test cal'!$H$2="Oui",'test cal'!$A$2=$A$8),AND('test cal'!$E$3<=D5,'test cal'!$F$3>=D5,'test cal'!$H$3="Oui",'test cal'!$A$3=$A$8)),"oui"," ") | E8: =IF(OR(AND('test cal'!$E$2<=E5,'test cal'!$F$2>=E5,'test cal'!$H$2="Oui",'test cal'!$A$2=$A$8),AND('test cal'!$E$3<=E5,'test cal'!$F$3>=E5,'test cal'!$H$3="Oui",'test cal'!$A$3=$A$8)),"oui"," ") | F8: =IF(OR(AND('test cal'!$E$2<=F5,'test cal'!$F$2>=F5,'test cal'!$H$2="Oui",'test cal'!$A$2=$A$8),AND('test cal'!$E$3<=F5,'test cal'!$F$3>=F5,'test cal'!$H$3="Oui",'test cal'!$A$3=$A$8)),"oui"," ") | G8: =IF(OR(AND('test cal'!$E$2<=G5,'test cal'!$F$2>=G5,'test cal'!$H$2="Oui",'test cal'!$A$2=$A$8),AND('test cal'!$E$3<=G5,'test cal'!$F$3>=G5,'test cal'!$H$3="Oui",'test cal'!$A$3=$A$8)),"oui"," ") | H8: =IF(OR(AND('test cal'!$E$2<=H5,'test cal'!$F$2>=H5,'test cal'!$H$2="Oui",'test cal'!$A$2=$A$8),AND('test cal'!$E$3<=H5,'test cal'!$F$3>=H5,'test cal'!$H$3="Oui",'test cal'!$A$3=$A$8)),"oui"," ") | I8: =IF(OR(AND('test cal'!$E$2<=I5,'test cal'!$F$2>=I5,'test cal'!$H$2="Oui",'test cal'!$A$2=$A$8),AND('test cal'!$E$3<=I5,'test cal'!$F$3>=I5,'test cal'!$H$3="Oui",'test cal'!$A$3=$A$8)),"oui"," ") | ... AF8: =IF(OR(AND('test cal'!$E$2<=AF5,'test cal'!$F$2>=AF5,'test cal'!$H$2="Oui",'test cal'!$A$2=$A$8),AND('test cal'!$E$3<=AF5,'test cal'!$F$3>=AF5,'test cal'!$H$3="Oui",'test cal'!$A$3=$A$8)),"oui"," ")
A9: C | B9: =IF(OR(AND('test cal'!$E$2<=B5,'test cal'!$F$2>=B5,'test cal'!$H$2="Oui",'test cal'!$A$2=$A$9),AND('test cal'!$E$3<=B5,'test cal'!$F$3>=B5,'test cal'!$H$3="Oui",'test cal'!$A$3=$A$9)),"oui"," ") | C9: =IF(OR(AND('test cal'!$E$2<=C5,'test cal'!$F$2>=C5,'test cal'!$H$2="Oui",'test cal'!$A$2=$A$9),AND('test cal'!$E$3<=C5,'test cal'!$F$3>=C5,'test cal'!$H$3="Oui",'test cal'!$A$3=$A$9)),"oui"," ") | D9: =IF(OR(AND('test cal'!$E$2<=D5,'test cal'!$F$2>=D5,'test cal'!$H$2="Oui",'test cal'!$A$2=$A$9),AND('test cal'!$E$3<=D5,'test cal'!$F$3>=D5,'test cal'!$H$3="Oui",'test cal'!$A$3=$A$9)),"oui"," ") | E9: =IF(OR(AND('test cal'!$E$2<=E5,'test cal'!$F$2>=E5,'test cal'!$H$2="Oui",'test cal'!$A$2=$A$9),AND('test cal'!$E$3<=E5,'test cal'!$F$3>=E5,'test cal'!$H$3="Oui",'test cal'!$A$3=$A$9)),"oui"," ") | F9: =IF(OR(AND('test cal'!$E$2<=F5,'test cal'!$F$2>=F5,'test cal'!$H$2="Oui",'test cal'!$A$2=$A$9),AND('test cal'!$E$3<=F5,'test cal'!$F$3>=F5,'test cal'!$H$3="Oui",'test cal'!$A$3=$A$9)),"oui"," ") | G9: =IF(OR(AND('test cal'!$E$2<=G5,'test cal'!$F$2>=G5,'test cal'!$H$2="Oui",'test cal'!$A$2=$A$9),AND('test cal'!$E$3<=G5,'test cal'!$F$3>=G5,'test cal'!$H$3="Oui",'test cal'!$A$3=$A$9)),"oui"," ") | H9: =IF(OR(AND('test cal'!$E$2<=H5,'test cal'!$F$2>=H5,'test cal'!$H$2="Oui",'test cal'!$A$2=$A$9),AND('test cal'!$E$3<=H5,'test cal'!$F$3>=H5,'test cal'!$H$3="Oui",'test cal'!$A$3=$A$9)),"oui"," ") | I9: =IF(OR(AND('test cal'!$E$2<=I5,'test cal'!$F$2>=I5,'test cal'!$H$2="Oui",'test cal'!$A$2=$A$9),AND('test cal'!$E$3<=I5,'test cal'!$F$3>=I5,'test cal'!$H$3="Oui",'test cal'!$A$3=$A$9)),"oui"," ") | ... AF9: =IF(OR(AND('test cal'!$E$2<=AF5,'test cal'!$F$2>=AF5,'test cal'!$H$2="Oui",'test cal'!$A$2=$A$9),AND('test cal'!$E$3<=AF5,'test cal'!$F$3>=AF5,'test cal'!$H$3="Oui",'test cal'!$A$3=$A$9)),"oui"," ")
A10: D | B10: =IF(OR(AND('test cal'!$E$2<=B5,'test cal'!$F$2>=B5,'test cal'!$H$2="Oui",'test cal'!$A$2=$A$10),AND('test cal'!$E$3<=B5,'test cal'!$F$3>=B5,'test cal'!$H$3="Oui",'test cal'!$A$3=$A$10)),"oui"," ") | C10: =IF(OR(AND('test cal'!$E$2<=C5,'test cal'!$F$2>=C5,'test cal'!$H$2="Oui",'test cal'!$A$2=$A$10),AND('test cal'!$E$3<=C5,'test cal'!$F$3>=C5,'test cal'!$H$3="Oui",'test cal'!$A$3=$A$10)),"oui"," ") | D10: =IF(OR(AND('test cal'!$E$2<=D5,'test cal'!$F$2>=D5,'test cal'!$H$2="Oui",'test cal'!$A$2=$A$10),AND('test cal'!$E$3<=D5,'test cal'!$F$3>=D5,'test cal'!$H$3="Oui",'test cal'!$A$3=$A$10)),"oui"," ") | E10: =IF(OR(AND('test cal'!$E$2<=E5,'test cal'!$F$2>=E5,'test cal'!$H$2="Oui",'test cal'!$A$2=$A$10),AND('test cal'!$E$3<=E5,'test cal'!$F$3>=E5,'test cal'!$H$3="Oui",'test cal'!$A$3=$A$10)),"oui"," ") | F10: =IF(OR(AND('test cal'!$E$2<=F5,'test cal'!$F$2>=F5,'test cal'!$H$2="Oui",'test cal'!$A$2=$A$10),AND('test cal'!$E$3<=F5,'test cal'!$F$3>=F5,'test cal'!$H$3="Oui",'test cal'!$A$3=$A$10)),"oui"," ") | G10: =IF(OR(AND('test cal'!$E$2<=G5,'test cal'!$F$2>=G5,'test cal'!$H$2="Oui",'test cal'!$A$2=$A$10),AND('test cal'!$E$3<=G5,'test cal'!$F$3>=G5,'test cal'!$H$3="Oui",'test cal'!$A$3=$A$10)),"oui"," ") | H10: =IF(OR(AND('test cal'!$E$2<=H5,'test cal'!$F$2>=H5,'test cal'!$H$2="Oui",'test cal'!$A$2=$A$10),AND('test cal'!$E$3<=H5,'test cal'!$F$3>=H5,'test cal'!$H$3="Oui",'test cal'!$A$3=$A$10)),"oui"," ") | I10: =IF(OR(AND('test cal'!$E$2<=I5,'test cal'!$F$2>=I5,'test cal'!$H$2="Oui",'test cal'!$A$2=$A$10),AND('test cal'!$E$3<=I5,'test cal'!$F$3>=I5,'test cal'!$H$3="Oui",'test cal'!$A$3=$A$10)),"oui"," ") | ... AF10: =IF(OR(AND('test cal'!$E$2<=AF5,'test cal'!$F$2>=AF5,'test cal'!$H$2="Oui",'test cal'!$A$2=$A$10),AND('test cal'!$E$3<=AF5,'test cal'!$F$3>=AF5,'test cal'!$H$3="Oui",'test cal'!$A$3=$A$10)),"oui"," ")
A11: E | B11: =IF(OR(AND('test cal'!$E$2<=B5,'test cal'!$F$2>=B5,'test cal'!$H$2="Oui",'test cal'!$A$2=$A$11),AND('test cal'!$E$3<=B5,'test cal'!$F$3>=B5,'test cal'!$H$3="Oui",'test cal'!$A$3=$A$11)),"oui"," ") | C11: =IF(OR(AND('test cal'!$E$2<=C5,'test cal'!$F$2>=C5,'test cal'!$H$2="Oui",'test cal'!$A$2=$A$11),AND('test cal'!$E$3<=C5,'test cal'!$F$3>=C5,'test cal'!$H$3="Oui",'test cal'!$A$3=$A$11)),"oui"," ") | D11: =IF(OR(AND('test cal'!$E$2<=D5,'test cal'!$F$2>=D5,'test cal'!$H$2="Oui",'test cal'!$A$2=$A$11),AND('test cal'!$E$3<=D5,'test cal'!$F$3>=D5,'test cal'!$H$3="Oui",'test cal'!$A$3=$A$11)),"oui"," ") | E11: =IF(OR(AND('test cal'!$E$2<=E5,'test cal'!$F$2>=E5,'test cal'!$H$2="Oui",'test cal'!$A$2=$A$11),AND('test cal'!$E$3<=E5,'test cal'!$F$3>=E5,'test cal'!$H$3="Oui",'test cal'!$A$3=$A$11)),"oui"," ") | F11: =IF(OR(AND('test cal'!$E$2<=F5,'test cal'!$F$2>=F5,'test cal'!$H$2="Oui",'test cal'!$A$2=$A$11),AND('test cal'!$E$3<=F5,'test cal'!$F$3>=F5,'test cal'!$H$3="Oui",'test cal'!$A$3=$A$11)),"oui"," ") | G11: =IF(OR(AND('test cal'!$E$2<=G5,'test cal'!$F$2>=G5,'test cal'!$H$2="Oui",'test cal'!$A$2=$A$11),AND('test cal'!$E$3<=G5,'test cal'!$F$3>=G5,'test cal'!$H$3="Oui",'test cal'!$A$3=$A$11)),"oui"," ") | H11: =IF(OR(AND('test cal'!$E$2<=H5,'test cal'!$F$2>=H5,'test cal'!$H$2="Oui",'test cal'!$A$2=$A$11),AND('test cal'!$E$3<=H5,'test cal'!$F$3>=H5,'test cal'!$H$3="Oui",'test cal'!$A$3=$A$11)),"oui"," ") | I11: =IF(OR(AND('test cal'!$E$2<=I5,'test cal'!$F$2>=I5,'test cal'!$H$2="Oui",'test cal'!$A$2=$A$11),AND('test cal'!$E$3<=I5,'test cal'!$F$3>=I5,'test cal'!$H$3="Oui",'test cal'!$A$3=$A$11)),"oui"," ") | ... AF11: =IF(OR(AND('test cal'!$E$2<=AF5,'test cal'!$F$2>=AF5,'test cal'!$H$2="Oui",'test cal'!$A$2=$A$11),AND('test cal'!$E$3<=AF5,'test cal'!$F$3>=AF5,'test cal'!$H$3="Oui",'test cal'!$A$3=$A$11)),"oui"," ")
A12: F | B12: =IF(OR(AND('test cal'!$E$2<=B5,'test cal'!$F$2>=B5,'test cal'!$H$2="Oui",'test cal'!$A$2=$A$12),AND('test cal'!$E$3<=B5,'test cal'!$F$3>=B5,'test cal'!$H$3="Oui",'test cal'!$A$3=$A$12)),"oui"," ") | C12: =IF(OR(AND('test cal'!$E$2<=C5,'test cal'!$F$2>=C5,'test cal'!$H$2="Oui",'test cal'!$A$2=$A$12),AND('test cal'!$E$3<=C5,'test cal'!$F$3>=C5,'test cal'!$H$3="Oui",'test cal'!$A$3=$A$12)),"oui"," ") | D12: =IF(OR(AND('test cal'!$E$2<=D5,'test cal'!$F$2>=D5,'test cal'!$H$2="Oui",'test cal'!$A$2=$A$12),AND('test cal'!$E$3<=D5,'test cal'!$F$3>=D5,'test cal'!$H$3="Oui",'test cal'!$A$3=$A$12)),"oui"," ") | E12: =IF(OR(AND('test cal'!$E$2<=E5,'test cal'!$F$2>=E5,'test cal'!$H$2="Oui",'test cal'!$A$2=$A$12),AND('test cal'!$E$3<=E5,'test cal'!$F$3>=E5,'test cal'!$H$3="Oui",'test cal'!$A$3=$A$12)),"oui"," ") | F12: =IF(OR(AND('test cal'!$E$2<=F5,'test cal'!$F$2>=F5,'test cal'!$H$2="Oui",'test cal'!$A$2=$A$12),AND('test cal'!$E$3<=F5,'test cal'!$F$3>=F5,'test cal'!$H$3="Oui",'test cal'!$A$3=$A$12)),"oui"," ") | G12: =IF(OR(AND('test cal'!$E$2<=G5,'test cal'!$F$2>=G5,'test cal'!$H$2="Oui",'test cal'!$A$2=$A$12),AND('test cal'!$E$3<=G5,'test cal'!$F$3>=G5,'test cal'!$H$3="Oui",'test cal'!$A$3=$A$12)),"oui"," ") | H12: =IF(OR(AND('test cal'!$E$2<=H5,'test cal'!$F$2>=H5,'test cal'!$H$2="Oui",'test cal'!$A$2=$A$12),AND('test cal'!$E$3<=H5,'test cal'!$F$3>=H5,'test cal'!$H$3="Oui",'test cal'!$A$3=$A$12)),"oui"," ") | I12: =IF(OR(AND('test cal'!$E$2<=I5,'test cal'!$F$2>=I5,'test cal'!$H$2="Oui",'test cal'!$A$2=$A$12),AND('test cal'!$E$3<=I5,'test cal'!$F$3>=I5,'test cal'!$H$3="Oui",'test cal'!$A$3=$A$12)),"oui"," ") | ... AF12: =IF(OR(AND('test cal'!$E$2<=AF5,'test cal'!$F$2>=AF5,'test cal'!$H$2="Oui",'test cal'!$A$2=$A$12),AND('test cal'!$E$3<=AF5,'test cal'!$F$3>=AF5,'test cal'!$H$3="Oui",'test cal'!$A$3=$A$12)),"oui"," ")
A13: G | B13: =IF(OR(AND('test cal'!$E$2<=B5,'test cal'!$F$2>=B5,'test cal'!$H$2="Oui",'test cal'!$A$2=$A$13),AND('test cal'!$E$3<=B5,'test cal'!$F$3>=B5,'test cal'!$H$3="Oui",'test cal'!$A$3=$A$13)),"oui"," ") | C13: =IF(OR(AND('test cal'!$E$2<=C5,'test cal'!$F$2>=C5,'test cal'!$H$2="Oui",'test cal'!$A$2=$A$13),AND('test cal'!$E$3<=C5,'test cal'!$F$3>=C5,'test cal'!$H$3="Oui",'test cal'!$A$3=$A$13)),"oui"," ") | D13: =IF(OR(AND('test cal'!$E$2<=D5,'test cal'!$F$2>=D5,'test cal'!$H$2="Oui",'test cal'!$A$2=$A$13),AND('test cal'!$E$3<=D5,'test cal'!$F$3>=D5,'test cal'!$H$3="Oui",'test cal'!$A$3=$A$13)),"oui"," ") | E13: =IF(OR(AND('test cal'!$E$2<=E5,'test cal'!$F$2>=E5,'test cal'!$H$2="Oui",'test cal'!$A$2=$A$13),AND('test cal'!$E$3<=E5,'test cal'!$F$3>=E5,'test cal'!$H$3="Oui",'test cal'!$A$3=$A$13)),"oui"," ") | F13: =IF(OR(AND('test cal'!$E$2<=F5,'test cal'!$F$2>=F5,'test cal'!$H$2="Oui",'test cal'!$A$2=$A$13),AND('test cal'!$E$3<=F5,'test cal'!$F$3>=F5,'test cal'!$H$3="Oui",'test cal'!$A$3=$A$13)),"oui"," ") | G13: =IF(OR(AND('test cal'!$E$2<=G5,'test cal'!$F$2>=G5,'test cal'!$H$2="Oui",'test cal'!$A$2=$A$13),AND('test cal'!$E$3<=G5,'test cal'!$F$3>=G5,'test cal'!$H$3="Oui",'test cal'!$A$3=$A$13)),"oui"," ") | H13: =IF(OR(AND('test cal'!$E$2<=H5,'test cal'!$F$2>=H5,'test cal'!$H$2="Oui",'test cal'!$A$2=$A$13),AND('test cal'!$E$3<=H5,'test cal'!$F$3>=H5,'test cal'!$H$3="Oui",'test cal'!$A$3=$A$13)),"oui"," ") | I13: =IF(OR(AND('test cal'!$E$2<=I5,'test cal'!$F$2>=I5,'test cal'!$H$2="Oui",'test cal'!$A$2=$A$13),AND('test cal'!$E$3<=I5,'test cal'!$F$3>=I5,'test cal'!$H$3="Oui",'test cal'!$A$3=$A$13)),"oui"," ") | ... AF13: =IF(OR(AND('test cal'!$E$2<=AF5,'test cal'!$F$2>=AF5,'test cal'!$H$2="Oui",'test cal'!$A$2=$A$13),AND('test cal'!$E$3<=AF5,'test cal'!$F$3>=AF5,'test cal'!$H$3="Oui",'test cal'!$A$3=$A$13)),"oui"," ")
A14: Total | B14: =IF(OR(B6="oui",B7="oui",B8="oui",B9="oui",B10="oui",B11="oui",B12="oui",B13="oui"),"X") -> X | C14: =IF(OR(C6="oui",C7="oui",C8="oui",C9="oui",C10="oui",C11="oui",C12="oui",C13="oui"),"X") -> X | D14: =IF(OR(D6="oui",D7="oui",D8="oui",D9="oui",D10="oui",D11="oui",D12="oui",D13="oui"),"X") -> X | E14: =IF(OR(E6="oui",E7="oui",E8="oui",E9="oui",E10="oui",E11="oui",E12="oui",E13="oui"),"X","") | F14: =IF(OR(F6="oui",F7="oui",F8="oui",F9="oui",F10="oui",F11="oui",F12="oui",F13="oui"),"X","") -> X | G14: =IF(OR(G6="oui",G7="oui",G8="oui",G9="oui",G10="oui",G11="oui",G12="oui",G13="oui"),"X","") -> X | H14: =IF(OR(H6="oui",H7="oui",H8="oui",H9="oui",H10="oui",H11="oui",H12="oui",H13="oui"),"X","") -> X | I14: =IF(OR(I6="oui",I7="oui",I8="oui",I9="oui",I10="oui",I11="oui",I12="oui",I13="oui"),"X","") -> X | J14: =IF(OR(J6="oui",J7="oui",J8="oui",J9="oui",J10="oui",J11="oui",J12="oui",J13="oui"),"X","") -> X | K14: =IF(OR(K6="oui",K7="oui",K8="oui",K9="oui",K10="oui",K11="oui",K12="oui",K13="oui"),"X","") -> X | L14: =IF(OR(L6="oui",L7="oui",L8="oui",L9="oui",L10="oui",L11="oui",L12="oui",L13="oui"),"X","") | ... AF14: =IF(OR(AF6="oui",AF7="oui",AF8="oui",AF9="oui",AF10="oui",AF11="oui",AF12="oui",AF13="oui"),"X","")

Sheet calculs
J1: Mois | K1: Années
J2: Janvier | K2: 2019
J3: Février | K3: 2020
J4: Mars | K4: 2021
J5: Avril | K5: 2022
J6: Mai | K6: 2023
J7: Juin | K7: 2024
J8: Juillet | K8: 2025
J9: Août | K9: 2026
J10: Septembre | K10: 2027
J11: Octobre | K11: 2028
J12: Novembre | K12: 2029
J13: Décembre | K13: 2030
A19: Famille | B19: Parents | C19: A | D19: B | E19: C | F19: D | G19: E | H19: F | I19: G
A22: chauffage | B22: Oui | C22: Non
